Workbook

Sheet Rekapitulace stavby
A1: Export Komplet | BA1: 2.0 | BB1: ZAMOK | BT1: False | BU1: False | BV1: {445771d4-08d1-4331-80fb-264f0f664428}
BS2: 0,01 | BT2: 21
BS3: 0,01 | BT3: 15
D4: REKAPITULACE STAVBY | AS4: v --- níže se nacházejí doplnkové a pomocné údaje k sestavám --- v | BE4: Návod na vyplnění | BS4: 0,001
D5: Kód: | K5: NemCL-CHA | BE5: Měnit lze pouze buňky se žlutým podbarvením!_x000D_ _x000D_ 1) na prvním listu Rekapitulace stavby vyplňte v sestavě_x000D_ _x000D_ a) Souhrnný list_x000D_ - údaje o Uchazeči_x000D_ (přenesou se do ostatních sestav i v jiných listech)_x000D_ _x000D_ b) Rekapitulace objektů_x000D_ - potřebné Ostatní náklady_x000D_ _x000D_ 2) na vybraných listech vyplňte v sestavě_x000D_ _x000D_ a) Krycí list_x000D_ - údaje o Uchazeči, pokud se liší od údajů o Uchazeči na Souhrnném listu_x000D_ (údaje se přenesou do ostatních sestav v daném listu)_x000D_ _x000D_ b) Rekapitulace rozpočtu_x000D_ - potřebné Ostatní náklady_x000D_ _x000D_ c) Celkové náklady za stavbu_x000D_ - ceny u položek_x000D_ - množství, pokud má žluté podbarvení_x000D_ - a v případě potřeby poznámku (ta je ve skrytém sloupci) | BS5: 0,01
D6: Stavba: | K6: Modernizace lůžkové stanice chirurgie A | BS6: 0,01
D7: KSO: | K7: 801 11 22 | AK7: CC-CZ: | AN7: 12647 | BS7: 0,01
D8: Místo: | K8: Nemocnice Česká Lípa | AK8: Datum: | AN8: 43670 | BS8: 0,01
D9: CZ-CPV: | K9: 45000000-7 | AK9: CZ-CPA: | AN9: 41.00.28 | BS9: 0,01
D10: Zadavatel: | AK10: IČ: | BS10: 0,01
E11: Nemocnice s poliklinikou Česká Lípa, a.s. | AK11: DIČ: | BS11: 0,01
BS12: 0,01
D13: Uchazeč: | AK13: IČ: | AN13: Vyplň údaj | BS13: 0,01
E14: Vyplň údaj | AK14: DIČ: | AN14: Vyplň údaj | BS14: 0,01
BS15: False
D16: Projektant: | AK16: IČ: | BS16: False
E17: STORING spol. s r.o. Žitavská 727/16, Liberec 3 | AK17: DIČ: | BS17: True
BS18: 0,01
D19: Zpracovatel: | AK19: IČ: | BS19: 0,01
E20: Miroslav Morávek | AK20: DIČ: | BS20: True
D22: Poznámka:
D26: Cena bez DPH | AK26: =ROUND(AG94,2) -> 0
L28: Sazba daně | W28: Základ daně | AK28: Výše daně
D29: DPH | F29: základní | L29: 0.21 | W29: =ROUND(AZ94, 2) -> 0 | AK29: =ROUND(AV94, 2) -> 0
F30: snížená | L30: 0.15 | W30: =ROUND(BA94, 2) -> 0 | AK30: =ROUND(AW94, 2) -> 0
F31: zákl. přenesená | L31: 0.21 | W31: =ROUND(BB94, 2) -> 0 | AK31: 0
F32: sníž. přenesená | L32: 0.15 | W32: =ROUND(BC94, 2) -> 0 | AK32: 0
F33: nulová | L33: 0 | W33: =ROUND(BD94, 2) -> 0 | AK33: 0
D35: Cena s DPH | T35: v | X35: CZK | AK35: =SUM(AK26:AK33) -> 0
D49: Projektant | AH49: Zpracovatel
D60: Datum a podpis: | V60: Razítko | AH60: Datum a podpis: | AM60: Razítko
D64: Objednavatel | AH64: Uchazeč
D75: Datum a podpis: | V75: Razítko | AH75: Datum a podpis: | AM75: Razítko
C82: REKAPITULACE OBJEKTŮ STAVBY A SOUPISŮ PRACÍ
C84: Kód: | L84: =K5 -> NemCL-CHA
C85: Stavba: | L85: =K6 -> Modernizace lůžkové stanice chirurgie A
C87: Místo: | L87: =IF(K8="","",K8) -> Nemocnice Česká Lípa | AI87: Datum: | AM87: =IF(AN8= "","",AN8) -> 43670
C89: Zadavatel: | L89: =IF(E11= "","",E11) -> Nemocnice s poliklinikou Česká Lípa, a.s. | AI89: Projektant: | AM89: =IF(E17="","",E17) -> STORING spol. s r.o. Žitavská 727/16, Liberec 3 | AS89: Informatívní údaje z listů zakázek
C90: Uchazeč: | L90: =IF(E14= "Vyplň údaj","",E14) | AI90: Zpracovatel: | AM90: =IF(E20="","",E20) -> Miroslav Morávek
C92: Kód | I92: Popis | AG92: Cena bez DPH [CZK] | AN92: Cena s DPH [CZK] | AQ92: Typ | AS92: z toho Ostat._x000D_ náklady [CZK] | AT92: DPH [CZK] | AU92: Normohodiny [h] | AV92: DPH základní [CZK] | AW92: DPH snížená [CZK] | AX92: DPH základní přenesená_x000D_ [CZK] | AY92: DPH snížená přenesená_x000D_ [CZK] | AZ92: Základna_x000D_ DPH základní | BA92: Základna_x000D_ DPH snížená | BB92: Základna_x000D_ DPH zákl. přenesená | BC92: Základna_x000D_ DPH sníž. přenesená | BD92: Základna_x000D_ DPH nulová
C94: Náklady z rozpočtů | AG94: =ROUND(AG95,2) -> 0 | AN94: =SUM(AG94,AT94) -> 0 | AS94: =ROUND(AS95,2) -> 0 | AT94: =ROUND(SUM(AV94:AW94),2) -> 0 | AU94: =ROUND(AU95,5) -> 0 | AV94: =ROUND(AZ94*L29,2) -> 0 | AW94: =ROUND(BA94*L30,2) -> 0 | AX94: =ROUND(BB94*L29,2) -> 0 | AY94: =ROUND(BC94*L30,2) -> 0 | AZ94: =ROUND(AZ95,2) -> 0 | BA94: =ROUND(BA95,2) -> 0 | BB94: =ROUND(BB95,2) -> 0 | BC94: =ROUND(BC95,2) -> 0 | BD94: =ROUND(BD95,2) -> 0 | BS94: D | BT94: 0 | BU94: ###NOIMPORT### | BV94: IMPORT | BW94: {445771d4-08d1-4331-80fb-264f0f664428} | BX94: {00000000-0000-0000-0000-000000000000} | CL94: 801 11 22
A95: / | D95: D1.01 | J95: Modernizace lůžkové stanice Chirurgie A | AG95: ='D1.01 - Modernizace lůžko...'!J30 -> 0 | AN95: =SUM(AG95,AT95) -> 0 | AQ95: STA | AS95: 0 | AT95: =ROUND(SUM(AV95:AW95),2) -> 0 | AU95: ='D1.01 - Modernizace lůžko...'!P140 -> 0 | AV95: ='D1.01 - Modernizace lůžko...'!J33 -> 0 | AW95: ='D1.01 - Modernizace lůžko...'!J34 -> 0 | AX95: ='D1.01 - Modernizace lůžko...'!J35 -> 0 | AY95: ='D1.01 - Modernizace lůžko...'!J36 -> 0 | AZ95: ='D1.01 - Modernizace lůžko...'!F33 -> 0 | BA95: ='D1.01 - Modernizace lůžko...'!F34 -> 0 | BB95: ='D1.01 - Modernizace lůžko...'!F35 -> 0 | BC95: ='D1.01 - Modernizace lůžko...'!F36 -> 0 | BD95: ='D1.01 - Modernizace lůžko...'!F37 -> 0 | BT95: 1 | BV95: IMPORT | BW95: {187ec1dd-dc33-4e81-9b28-2d9c482c9c99} | BX95: {445771d4-08d1-4331-80fb-264f0f664428} | CM95: 2

Sheet D1.01 - Modernizace lůžko...
AT2: {187ec1dd-dc33-4e81-9b28-2d9c482c9c99}
AT3: 2
D4: KRYCÍ LIST SOUPISU PRACÍ | M4: v --- níže se nacházejí doplnkové a pomocné údaje k sestavám --- v | AT4: False
D6: Stavba:
E7: ='Rekapitulace stavby'!K6 -> Modernizace lůžkové stanice chirurgie A
D8: Objekt:
E9: D1.01 - Modernizace lůžkové stanice Chirurgie A
D11: KSO: | I11: CC-CZ:
D12: Místo: | F12: Nemocnice Česká Lípa | I12: Datum: | J12: ='Rekapitulace stavby'!AN8 -> 43670
D14: Zadavatel: | I14: IČ:
E15: Nemocnice s poliklinikou Česká Lípa, a.s. | I15: DIČ:
D17: Uchazeč: | I17: IČ: | J17: ='Rekapitulace stavby'!AN13 -> Vyplň údaj
E18: ='Rekapitulace stavby'!E14 -> Vyplň údaj | I18: DIČ: | J18: ='Rekapitulace stavby'!AN14 -> Vyplň údaj
D20: Projektant: | I20: IČ:
E21: STORING spol. s r.o. Žitavská 727/16, Liberec 3 | I21: DIČ:
D23: Zpracovatel: | I23: IČ:
E24: Miroslav Morávek | I24: DIČ:
D26: Poznámka:
D30: Cena bez DPH | J30: =ROUND(J140, 2) -> 0
F32: Základ daně | I32: Sazba daně | J32: Výše daně
D33: DPH | E33: základní | F33: =ROUND((SUM(BE140:BE1613)), 2) -> 0 | I33: 0.21 | J33: =ROUND(((SUM(BE140:BE1613))*I33), 2) -> 0
E34: snížená | F34: =ROUND((SUM(BF140:BF1613)), 2) -> 0 | I34: 0.15 | J34: =ROUND(((SUM(BF140:BF1613))*I34), 2) -> 0
E35: zákl. přenesená | F35: =ROUND((SUM(BG140:BG1613)), 2) -> 0 | I35: 0.21 | J35: =0 -> 0
E36: sníž. přenesená | F36: =ROUND((SUM(BH140:BH1613)), 2) -> 0 | I36: 0.15 | J36: =0 -> 0
E37: nulová | F37: =ROUND((SUM(BI140:BI1613)), 2) -> 0 | I37: 0 | J37: =0 -> 0
D39: Cena s DPH | G39: v | H39: CZK | J39: =SUM(J30:J37) -> 0
D50: Projektant | G50: Zpracovatel
D61: Datum a podpis: | F61: Razítko | G61: Datum a podpis: | J61: Razítko
D65: Objednavatel | G65: Uchazeč
D76: Datum a podpis: | F76: Razítko | G76: Datum a podpis: | J76: Razítko
C82: REKAPITULACE ČLENĚNÍ SOUPISU PRACÍ
C84: Stavba:
E85: =E7 -> Modernizace lůžkové stanice chirurgie A
C86: Objekt:
E87: =E9 -> D1.01 - Modernizace lůžkové stanice Chirurgie A
C89: Místo: | F89: =F12 -> Nemocnice Česká Lípa | I89: Datum: | J89: =IF(J12="","",J12) -> 43670
C91: Zadavatel: | F91: =E15 -> Nemocnice s poliklinikou Česká Lípa, a.s. | I91: Projektant: | J91: =E21 -> STORING spol. s r.o. Žitavská 727/16, Liberec 3
C92: Uchazeč: | F92: =IF(E18="","",E18) -> Vyplň údaj | I92: Zpracovatel: | J92: =E24 -> Miroslav Morávek
C94: Kód dílu - Popis | J94: Cena celkem [CZK]
C96: Náklady ze soupisu prací | J96: =J140 -> 0 | AU96: -1
D97: HSV - HSV | J97: =J141 -> 0
D98: 00 - Legenda - neoceňovat, pouze pro výměry | J98: =J142 -> 0
D99: 3 - Svislé a kompletní konstrukce | J99: =J266 -> 0
D100: 6 - Úpravy povrchů, podlahy a osazování výplní | J100: =J308 -> 0
D101: 9 - Ostatní konstrukce a práce, bourání | J101: =J487 -> 0
D102: 997 - Přesun sutě | J102: =J603 -> 0
D103: 998 - Přesun hmot | J103: =J605 -> 0
D104: PSV - Práce a dodávky PSV | J104: =J607 -> 0
D105: 725 - Zdravotechnika - zařizovací předměty | J105: =J608 -> 0
D106: 735 - Ústřední vytápění - otopná tělesa | J106: =J762 -> 0
D107: 741 - Elektroinstalace - silnoproud | J107: =J764 -> 0
D108: 742 - Elektroinstalace - slaboproud | J108: =J822 -> 0
D109: 751 - Vzduchotechnika | J109: =J865 -> 0
D110: 763 - Konstrukce suché výstavby | J110: =J870 -> 0
D111: 766 - Konstrukce truhlářské - včetně přesunu | J111: =J1112 -> 0
D112: 766-2 - Konstrukce truhlářské opravy- včetně přesunu | J112: =J1142 -> 0
D113: 767 - Konstrukce zámečnické - včetně přesunu | J113: =J1163 -> 0
D114: 771 - Podlahy z dlaždic | J114: =J1217 -> 0
D115: 776 - Podlahy povlakové | J115: =J1341 -> 0
D116: 781 - Dokončovací práce - obklady | J116: =J1422 -> 0
D117: 783 - Dokončovací práce - nátěry | J117: =J1459 -> 0
D118: 784 - Dokončovací práce - malby a tapety | J118: =J1500 -> 0
D119: 787 - Dokončovací práce - zasklívání | J119: =J1603 -> 0
D120: VRN - Vedlejší rozpočtové náklady | J120: =J1608 -> 0
C127: SOUPIS PRACÍ
C129: Stavba:
E130: =E7 -> Modernizace lůžkové stanice chirurgie A
C131: Objekt:
E132: =E9 -> D1.01 - Modernizace lůžkové stanice Chirurgie A
C134: Místo: | F134: =F12 -> Nemocnice Česká Lípa | I134: Datum: | J134: =IF(J12="","",J12) -> 43670
C136: Zadavatel: | F136: =E15 -> Nemocnice s poliklinikou Česká Lípa, a.s. | I136: Projektant: | J136: =E21 -> STORING spol. s r.o. Žitavská 727/16, Liberec 3
C137: Uchazeč: | F137: =IF(E18="","",E18) -> Vyplň údaj | I137: Zpracovatel: | J137: =E24 -> Miroslav Morávek
C139: PČ | D139: Typ | E139: Kód | F139: Popis | G139: MJ | H139: Množství | I139: J.cena [CZK] | J139: Cena celkem [CZK] | K139: Cenová soustava | N139: DPH | O139: J. Nh [h] | P139: Nh celkem [h] | Q139: J. hmotnost [t] | R139: Hmotnost celkem [t] | S139: J. suť [t] | T139: Suť Celkem [t]
C140: Náklady soupisu celkem | J140: =BK140 -> 0 | P140: =P141+P607+P1608 -> 0 | R140: =R141+R607+R1608 -> 85.202935 | T140: =T141+T607+T1608 -> 143.55659 | AT140: D | AU140: -1 | BK140: =BK141+BK607+BK1608 -> 0
D141: D | E141: HSV | F141: HSV | J141: =BK141 -> 0 | P141: =P142+P266+P308+P487+P603+P605 -> 0 | R141: =R142+R266+R308+R487+R603+R605 -> 44.395446 | T141: =T142+T266+T308+T487+T603+T605 -> 123.12531 | AR141: 1 | AT141: D | AU141: 0 | AY141: ROZPOCET | BK141: =BK142+BK266+BK308+BK487+BK603+BK605 -> 0
D142: D | E142: 00 | F142: Legenda - neoceňovat, pouze pro výměry | J142: =BK142 -> 0 | P142: =SUM(P143:P265) -> 0 | R142: =SUM(R143:R265) -> 0 | T142: =SUM(T143:T265) -> 0 | AR142: 1 | AT142: D | AU142: 1 | AY142: ROZPOCET | BK142: =SUM(BK143:BK265) -> 0
C143: 1 | D143: K | E143: 001 | F143: Tabulka místností - nový stav | H143: 717.92 | J143: =ROUND(I143*H143,2) -> 0 | N143: základní | P143: =O143*H143 -> 0 | Q143: 0 | R143: =Q143*H143 -> 0 | S143: 0 | T143: =S143*H143 -> 0 | AR143: 4 | AT143: K | AU143: 2 | AY143: ROZPOCET | BE143: =IF(N143="základní",J143,0) -> 0 | BF143: =IF(N143="snížená",J143,0) -> 0 | BG143: =IF(N143="zákl. přenesená",J143,0) -> 0 | BH143: =IF(N143="sníž. přenesená",J143,0) -> 0 | BI143: =IF(N143="nulová",J143,0) -> 0 | BJ143: 1 | BK143: =ROUND(I143*H143,2) -> 0 | BL143: 4 | BM143: 2040726788
D144: VV | F144: " Tabulka místností určených pro modernizaci - nový stav " | AT144: VV | AU144: 2 | AV144: 1 | AW144: True | AX144: 0 | AY144: ROZPOCET
D145: VV | F145: " č.v. 101 " | AT145: VV | AU145: 2 | AV145: 1 | AW145: True | AX145: 0 | AY145: ROZPOCET
D146: VV | F146: " I-601 chodba PVC malba lamely" 123,06 | H146: 123.06 | AT146: VV | AU146: 2 | AV146: 2 | AW146: True | AX146: 0 | AY146: ROZPOCET
D147: VV | F147: " I-601b předsíň PVC malba lamely" 18,03 | H147: 18.03 | AT147: VV | AU147: 2 | AV147: 2 | AW147: True | AX147: 0 | AY147: ROZPOCET
D148: VV | F148: " I-602 kancelář PVC malba malba " 19,23 | H148: 19.23 | AT148: VV | AU148: 2 | AV148: 2 | AW148: True | AX148: 0 | AY148: ROZPOCET
D149: VV | F149: " I-603 sestry PVC malba malba " 14,96 | H149: 14.96 | AT149: VV | AU149: 2 | AV149: 2 | AW149: True | AX149: 0 | AY149: ROZPOCET
D150: VV | F150: " I-604 koupelna KD KO SDK " 4,08 | H150: 4.08 | AT150: VV | AU150: 2 | AV150: 2 | AW150: True | AX150: 0 | AY150: ROZPOCET
D151: VV | F151: " I-605 koupelna KD KO SDK " 4,08 | H151: 4.08 | AT151: VV | AU151: 2 | AV151: 2 | AW151: True | AX151: 0 | AY151: ROZPOCET
D152: VV | F152: " I-606 izolace 1L PVC malba malba" 15,54 | H152: 15.54 | AT152: VV | AU152: 2 | AV152: 2 | AW152: True | AX152: 0 | AY152: ROZPOCET
D153: VV | F153: " I-607 izolace 1L PVC malba malba" 16,47 | H153: 16.47 | AT153: VV | AU153: 2 | AV153: 2 | AW153: True | AX153: 0 | AY153: ROZPOCET
D154: VV | F154: " I-608 předsíň PVC malba SDK " 8,60 | H154: 8.6 | AT154: VV | AU154: 2 | AV154: 2 | AW154: True | AX154: 0 | AY154: ROZPOCET
D155: VV | F155: " I-608a koupelna KD KO SDK " 4,05 | H155: 4.05 | AT155: VV | AU155: 2 | AV155: 2 | AW155: True | AX155: 0 | AY155: ROZPOCET
D156: VV | F156: " I-608b WC KD KO SDK " 4,05 | H156: 4.05 | AT156: VV | AU156: 2 | AV156: 2 | AW156: True | AX156: 0 | AY156: ROZPOCET
D157: VV | F157: " I-609 předsíň PVC malba SDK " 8,60 | H157: 8.6 | AT157: VV | AU157: 2 | AV157: 2 | AW157: True | AX157: 0 | AY157: ROZPOCET
... D197: VV | F197: Součet | H197: 717.92 | AT197: VV | AU197: 2 | AV197: 4 | AW197: True | AX197: 1 | AY197: ROZPOCET
C198: 2 | D198: K | E198: 002 | F198: Tabulka místností - stávající stav | H198: 743.32 | J198: =ROUND(I198*H198,2) -> 0 | N198: základní | P198: =O198*H198 -> 0 | Q198: 0 | R198: =Q198*H198 -> 0 | S198: 0 | T198: =S198*H198 -> 0 | AR198: 4 | AT198: K | AU198: 2 | AY198: ROZPOCET | BE198: =IF(N198="základní",J198,0) -> 0 | BF198: =IF(N198="snížená",J198,0) -> 0 | BG198: =IF(N198="zákl. přenesená",J198,0) -> 0 | BH198: =IF(N198="sníž. přenesená",J198,0) -> 0 | BI198: =IF(N198="nulová",J198,0) -> 0 | BJ198: 1 | BK198: =ROUND(I198*H198,2) -> 0 | BL198: 4 | BM198: 72872363
D199: VV | F199: " Tabulka místností 6.NP - Stávající stav " | AT199: VV | AU199: 2 | AV199: 1 | AW199: True | AX199: 0 | AY199: ROZPOCET
D200: VV | F200: " č.v. 102 " | AT200: VV | AU200: 2 | AV200: 1 | AW200: True | AX200: 0 | AY200: ROZPOCET
D201: VV | F201: " I-601 chodba PVC malba lamely" 143,64 | H201: 143.64 | AT201: VV | AU201: 2 | AV201: 2 | AW201: True | AX201: 0 | AY201: ROZPOCET
D202: VV | F202: " I-602 sekretariát PVC malba malba " 19,23 | H202: 19.23 | AT202: VV | AU202: 2 | AV202: 2 | AW202: True | AX202: 0 | AY202: ROZPOCET
D203: VV | F203: " I-603 sestry PVC malba malba " 15,06 | H203: 15.06 | AT203: VV | AU203: 2 | AV203: 2 | AW203: True | AX203: 0 | AY203: ROZPOCET
D204: VV | F204: " I-604 předsíň PVC malba lamely" 2,93 | H204: 2.93 | AT204: VV | AU204: 2 | AV204: 2 | AW204: True | AX204: 0 | AY204: ROZPOCET
D205: VV | F205: " I-604a sprcha KD KO lamely" 1,26 | H205: 1.26 | AT205: VV | AU205: 2 | AV205: 2 | AW205: True | AX205: 0 | AY205: ROZPOCET
...
