Workbook

Sheet GÚ Okna
A1: Generální úklid - okna
A3: č.m. | B3: Název | C3: kde | D3: okna/m2 | E3: Poznámky | F3: cena/m2 | G3: cena/úkon
A4: 1 | B4: Hlavní budova č.p.137
A5: 1 | B5: OP Pasy - kancelář | C5: př | D5: 12 | E5: včetně skl. přepážky | G5: =D5*F5 -> 0
B6: OP Pasy - chodba | C6: př | D6: 0 | G6: =D6*F6 -> 0
B7: Hlavní vchod, matrika chodba | C7: př | D7: 41 | E7: včetně dveří | G7: =D7*F7 -> 0
B8: Podatelna | C8: př | D8: 29.8 | E8: včetně skl. přepážky | G8: 0
B9: Schody do 1.patra | C9: př | D9: 0 | G9: =D9*F9 -> 0
B10: WC | C10: př | D10: 0 | G10: =D10*F10 -> 0
B11: Vytah | C11: př | D11: 0 | G11: =D11*F11 -> 0
A12: 7 | B12: Evidence obyvatel | C12: př | D12: 3.5 | G12: =D12*F12 -> 0
A13: 8 | B13: Matrika | C13: př | D13: 7 | G13: =D13*F13 -> 0
B14: Hala před obřadní síní | C14: př | D14: 0 | G14: =D14*F14 -> 0
B15: WC muži | C15: př | D15: 2 | G15: =D15*F15 -> 0
B16: WC ženy | C16: př | D16: 2 | G16: =D16*F16 -> 0
B17: Obradní síň | C17: př | D17: 25.5 | G17: =D17*F17 -> 0
B18: Zasedací místnost | C18: př | D18: 25.5 | G18: =D18*F18 -> 0
B19: Chodba 1.patro | C19: 1.p. | D19: 22 | G19: =D19*F19 -> 0
B20: WC | C20: 1.p. | D20: 0 | G20: =D20*F20 -> 0
A21: 11 | B21: Pokladna | C21: 1.p. | D21: 3.5 | G21: =D21*F21 -> 0
A22: 12 | B22: Odbor finanční | C22: 1.p. | D22: 3.5 | G22: =D22*F22 -> 0
A23: 13 | B23: Kancelář | C23: 1.p. | D23: 3.5 | G23: =D23*F23 -> 0
A24: 14 | B24: Odbor občanských záležitostí | C24: 1.p. | D24: 3.5 | G24: =D24*F24 -> 0
A25: 15 | B25: Kuchyně | C25: 1.p. | D25: 0 | G25: =D25*F25 -> 0
A26: 16 | B26: Malá zased.místnost | C26: 1.p. | D26: 10.8 | G26: =D26*F26 -> 0
A27: 17 | B27: Kancelář | C27: 1.p. | D27: 7.92 | G27: =D27*F27 -> 0
A28: 18 | B28: Tajemník | C28: 1.p. | D28: 10.9 | G28: =D28*F28 -> 0
A29: 19 | B29: Zástupce starosty | C29: 1.p. | D29: 10.9 | G29: =D29*F29 -> 0
A30: 20 | B30: Sekretariát | C30: 1.p. | D30: 5.5 | G30: =D30*F30 -> 0
A31: 21 | B31: Starosta | C31: 1.p. | D31: 10.44 | G31: =D31*F31 -> 0
A32: 22 | B32: Kancelář | C32: 1.p. | D32: 5.36 | G32: =D32*F32 -> 0
... A36: 26 | B36: Právní oddělení | C36: 1.p. | D36: 5.36 | G36: =D36*F36 -> 0
B37: Chodba 2.patro | C37: 2.p | D37: 0 | G37: =D37*F37 -> 0
B38: Schodiště z 1 do 2.p. | C38: 2.p | D38: 6 | G38: =D38*F38 -> 0
A39: 28 | B39: Odbor finanční - mzdy | C39: 2.p | D39: 4 | G39: =D39*F39 -> 0
A40: 29 | B40: Odbor finanční - účtárna | C40: 2.p | D40: 6 | G40: =D40*F40 -> 0
A41: 30 | B41: Odbor finanční | C41: 2.p | D41: 7.7 | G41: =D41*F41 -> 0
A42: 31 | B42: Odbor finanční - vedoucí | C42: 2.p | D42: 3.08 | G42: =D42*F42 -> 0
A43: 32 | B43: Auditor | C43: 2.p. | D43: 4 | G43: =D43*F43 -> 0
B44: Úřední desky města před č.p.137 | D44: 18 | E44: Masarykovo nám.-skl.výplň | G44: =D44*F44 -> 0
...

Sheet GÚ Záclony, závěsy, žal.
A1: Generální úklid - záclony, závěsy, žaluzie
A3: č.m. | B3: Název | C3: kde | D3: zácl., závěsy/m2 | E3: žaluzie m2 | F3: Poznámka | G3: cena/m2 | H3: cena/úkon
A4: 1 | B4: Hlavní budova č.p.137
A5: 1 | B5: OP Pasy - kancelář | C5: př | D5: 0 | E5: 8.3 | H5: =(D5+E5)*G5 -> 0
B6: OP Pasy - chodba | C6: př | D6: 0 | E6: 0 | H6: =(D6+E6)*G6 -> 0
B7: Hlavní vchod, matrika chodba | C7: př | D7: 0 | E7: 0 | H7: =(D7+E7)*G7 -> 0
B8: Podatelna | C8: př | D8: 0 | E8: 7 | H8: 0
B9: Schody do 1.patra | C9: př | D9: 0 | E9: 0 | F9: Setření prachu obraz | H9: =(D9+E9)*G9 -> 0
B10: WC | C10: př | D10: 0 | E10: 0 | H10: =(D10+E10)*G10 -> 0
B11: Vytah | C11: př | D11: 0 | E11: 0 | H11: =(D11+E11)*G11 -> 0
A12: 7 | B12: Evidence obyvatel | C12: př | D12: 0 | E12: 2.2 | H12: =(D12+E12)*G12 -> 0
A13: 8 | B13: Matrika (vlastní záclona) | C13: př | D13: 0 | E13: 4.6 | H13: =(D13+E13)*G13 -> 0
B14: Podatelna | C14: př | D14: 0 | E14: 6.2 | H14: =(D14+E14)*G14 -> 0
B15: WC muži | C15: př | D15: 0 | E15: 0 | H15: =(D15+E15)*G15 -> 0
B16: WC ženy | C16: př | D16: 0 | E16: 0 | H16: =(D16+E16)*G16 -> 0
B17: Obřadní síň | C17: př | D17: 33 | E17: 0 | H17: =(D17+E17)*G17 -> 0
B18: Zasedací místnost | C18: př | D18: 0 | E18: 16.8 | H18: =(D18+E18)*G18 -> 0
B19: Chodba 1.patro | C19: 1.p. | D19: 0 | E19: 0 | H19: =(D19+E19)*G19 -> 0
B20: WC | C20: 1.p. | D20: 0 | E20: 0 | H20: =(D20+E20)*G20 -> 0
A21: 11 | B21: Pokladna | C21: 1.p. | D21: 4 | E21: 2.4 | H21: =(D21+E21)*G21 -> 0
A22: 12 | B22: Odbor finanční | C22: 1.p. | D22: 0 | E22: 2.4 | H22: =(D22+E22)*G22 -> 0
A23: 13 | B23: Kancelář | C23: 1.p. | D23: 0 | E23: 2.4 | H23: =(D23+E23)*G23 -> 0
A24: 14 | B24: Odbor občanských záležitostí | C24: 1.p. | D24: 0 | E24: 2.4 | H24: =(D24+E24)*G24 -> 0
A25: 15 | B25: Kuchyně | C25: 1.p. | D25: 0 | E25: 0 | H25: =(D25+E25)*G25 -> 0
A26: 16 | B26: Malá zased.místnost | C26: 1.p. | D26: 0 | E26: 7.2 | H26: =(D26+E26)*G26 -> 0
A27: 17 | B27: Kancelář | C27: 1.p. | D27: 0 | E27: 3 | H27: =(D27+E27)*G27 -> 0
A28: 18 | B28: Tajemník | C28: 1.p. | D28: 0 | E28: 7.2 | H28: =(D28+E28)*G28 -> 0
A29: 19 | B29: Zástupce starosty | C29: 1.p. | D29: 0 | E29: 7.2 | H29: =(D29+E29)*G29 -> 0
A30: 20 | B30: Sekretariát | C30: 1.p. | D30: 0 | E30: 3.6 | H30: =(D30+E30)*G30 -> 0
A31: 21 | B31: Starosta | C31: 1.p. | D31: 0 | E31: 11.8 | H31: =(D31+E31)*G31 -> 0
A32: 22 | B32: Kancelář | C32: 1.p. | D32: 0 | E32: 0 | H32: =(D32+E32)*G32 -> 0
... A36: 26 | B36: Právní oddělení | C36: 1.p. | D36: 0 | E36: 2.5 | H36: =(D36+E36)*G36 -> 0
B37: Chodba 2.patro | C37: 2.p | D37: 0 | E37: 0 | H37: =(D37+E37)*G37 -> 0
B38: Schodiště z 1 do 2.p. | C38: 2.p | D38: 0 | E38: 0 | H38: =(D38+E38)*G38 -> 0
A39: 28 | B39: Odbor finanční - mzdy | C39: 2.p | D39: 0 | E39: 2.8 | H39: =(D39+E39)*G39 -> 0
A40: 29 | B40: Odbor finanční - účtárna | C40: 2.p | D40: 0 | E40: 4 | H40: =(D40+E40)*G40 -> 0
A41: 30 | B41: Odbor finanční | C41: 2.p | D41: 0 | E41: 6.66 | H41: =(D41+E41)*G41 -> 0
A42: 31 | B42: Odbor finanční - vedoucí | C42: 2.p | D42: 0 | E42: 2.7 | H42: =(D42+E42)*G42 -> 0
A43: 32 | B43: Auditor | C43: 2.p. | E43: 4 | H43: =(D43+E43)*G43 -> 0
B44: Celkem | D44: =SUM(D5:D43) -> 37 | E44: =SUM(E5:E43) -> 119.86 | G44: x | H44: =SUM(H5:H43) -> 0
...

Sheet GÚ Koberce
A1: Generální úklid - koberce
A3: č.m. | B3: Název | C3: kde | D3: koberce/m2 | E3: dlažba/m2 | F3: cena/m2 | G3: cena/úkon
A4: 1 | B4: Hlavní budova č.p.137
A5: 1 | B5: OP Pasy - kancelář | C5: př | D5: 24 | G5: =D5*F5 -> 0
A6: 1 | B6: OP Pasy - chodba | C6: př | D6: 7.5 | G6: =D6*F6 -> 0
B7: Hlavní vchod, matrika chodba | C7: př | D7: 0 | G7: =D7*F7 -> 0
B8: Podatelna | C8: př. | G8: 0
B9: Schody do 1.patra | C9: př | D9: 0 | G9: =D9*F9 -> 0
B10: WC | C10: př | D10: 0 | G10: =D10*F10 -> 0
B11: Vytah | C11: př | D11: 0 | G11: =D11*F11 -> 0
A12: 7 | B12: Evidence obyvatel | C12: př | D12: 11.6 | G12: =D12*F12 -> 0
A13: 8 | B13: Matrika | C13: př | D13: 24 | G13: =D13*F13 -> 0
B14: Hala před obřadní síní | C14: př | D14: 0 | G14: =D14*F14 -> 0
B15: WC muži | C15: př | D15: 0 | G15: =D15*F15 -> 0
B16: WC ženy | C16: př | D16: 0 | G16: =D16*F16 -> 0
B17: Obradní síň | C17: př | D17: 78.85 | G17: =D17*F17 -> 0
B18: Zasedací místnost | C18: př | D18: 107 | G18: =D18*F18 -> 0
B19: Chodba 1.patro | C19: 1.p. | D19: 0 | G19: =D19*F19 -> 0
B20: WC | C20: 1.p. | D20: 0 | G20: =D20*F20 -> 0
A21: 11 | B21: Pokladna | C21: 1.p. | D21: 12.9 | G21: =D21*F21 -> 0
A22: 12 | B22: Odbor finanční | C22: 1.p. | D22: 13.5 | G22: =D22*F22 -> 0
A23: 13 | B23: Kancelář | C23: 1.p. | D23: 10.3 | G23: =D23*F23 -> 0
A24: 14 | B24: Odbor občanských záležitostí | C24: 1.p. | D24: 23 | G24: =D24*F24 -> 0
A25: 15 | B25: Kuchyně | C25: 1.p. | D25: 0 | G25: =D25*F25 -> 0
A26: 15 | B26: Kuchyně | C26: 1.p. | D26: 0 | G26: =D26*F26 -> 0
A27: 16 | B27: Malá zased.místnost | C27: 1.p. | D27: 27.54 | G27: =D27*F27 -> 0
A28: 17 | B28: Kancelář | C28: 1.p. | D28: 13.8 | G28: =D28*F28 -> 0
A29: 18 | B29: Tajemník | C29: 1.p. | D29: 28 | G29: =D29*F29 -> 0
A30: 19 | B30: Zástupce starosty | C30: 1.p. | D30: 31.25 | G30: =D30*F30 -> 0
A31: 20 | B31: Sekretariát | C31: 1.p. | D31: 15.6 | G31: =D31*F31 -> 0
A32: 21 | B32: Starosta | C32: 1.p. | D32: 28.9 | G32: =D32*F32 -> 0
... A37: 26 | B37: Právní oddělení | C37: 1.p. | D37: 17.7 | G37: =D37*F37 -> 0
B38: Chodba 2.patro | C38: 2.p | D38: 0 | G38: =D38*F38 -> 0
B39: Schodiště z 1 do 2.p. | C39: 2.p | D39: 0 | G39: =D39*F39 -> 0
A40: 28 | B40: Odbor finanční - mzdy | C40: 2.p | D40: 22.79 | G40: =D40*F40 -> 0
A41: 29 | B41: Odbor finanční - účtárna | C41: 2.p | D41: 26.11 | G41: =D41*F41 -> 0
A42: 30 | B42: Odbor finanční | C42: 2.p | D42: 33.6 | G42: =D42*F42 -> 0
A43: 31 | B43: Odbor finanční - vedoucí | C43: 2.p | D43: 14.8 | G43: =D43*F43 -> 0
A44: 32 | B44: Auditor | C44: 2.p. | D44: 6 | G44: =D44*F44 -> 0
B45: Celkem | D45: =SUM(D5:D44) -> 643.72 | F45: x | G45: =SUM(G5:G44) -> 0
...

Sheet GÚ Čalounění
A1: Generální úklid - čalounění
A3: č.m. | B3: Název | C3: kde | D3: čalounění/m2 | E3: Poznámky | F3: cena/m2 | G3: cena/úkon
A4: 1 | B4: Hlavní budova č.p.137
A5: 1 | B5: OP Pasy - kancelář | C5: př | D5: 0.9 | G5: =D5*F5 -> 0
B6: OP Pasy - chodba | C6: př | D6: 0.2 | G6: =D6*F6 -> 0
B7: Hlavní vchod, matrika chodba | C7: př | D7: 0.9 | G7: =D7*F7 -> 0
B8: Podatelna | C8: př. | D8: 0 | G8: 0
B9: Schody do 1.patra | C9: př | D9: 0 | G9: =D9*F9 -> 0
B10: WC | C10: př | D10: 0 | G10: =D10*F10 -> 0
B11: Vytah | C11: př | D11: 0 | G11: =D11*F11 -> 0
A12: 7 | B12: Evidence obyvatel | C12: př | D12: 0.44 | G12: =D12*F12 -> 0
A13: 8 | B13: Matrika | C13: př | D13: 1.25 | G13: =D13*F13 -> 0
B14: Hala před obřadní síní | C14: př | D14: 1.25 | G14: =D14*F14 -> 0
B15: WC muži | C15: př | D15: 0 | G15: =D15*F15 -> 0
B16: WC ženy | C16: př | D16: 0 | G16: =D16*F16 -> 0
B17: Obradní síň | C17: př | D17: 4 | G17: =D17*F17 -> 0
B18: Zasedací místnost | C18: př | D18: 12.4 | G18: =D18*F18 -> 0
B19: Chodba 1.patro | C19: 1.p. | D19: 5 | G19: =D19*F19 -> 0
B20: WC | C20: 1.p. | D20: 0 | G20: =D20*F20 -> 0
A21: 11 | B21: Pokladna | C21: 1.p. | D21: 1.09 | G21: =D21*F21 -> 0
A22: 12 | B22: Odbor finanční | C22: 1.p. | D22: 0.7 | G22: =D22*F22 -> 0
A23: 13 | B23: Kancelář | C23: 1.p. | D23: 0.44 | G23: =D23*F23 -> 0
A24: 14 | B24: Odbor občanských záležitostí | C24: 1.p. | D24: 2.72 | G24: =D24*F24 -> 0
A25: 15 | B25: Kuchyně | C25: 1.p. | D25: 0 | G25: =D25*F25 -> 0
A26: 16 | B26: Malá zased.místnost | C26: 1.p. | D26: 7.4 | G26: =D26*F26 -> 0
A27: 17 | B27: Kancelář | C27: 1.p. | D27: 1.24 | G27: =D27*F27 -> 0
A28: 18 | B28: Tajemník | C28: 1.p. | D28: 0.25 | G28: =D28*F28 -> 0
A29: 19 | B29: Zástupce starosty | C29: 1.p. | D29: 1.85 | G29: =D29*F29 -> 0
A30: 20 | B30: Sekretariát | C30: 1.p. | D30: 0.99 | G30: =D30*F30 -> 0
A31: 21 | B31: Starosta | C31: 1.p. | D31: 0.25 | G31: =D31*F31 -> 0
A32: 22 | B32: Kancelář | C32: 1.p. | D32: 1.48 | G32: =D32*F32 -> 0
... A36: 26 | B36: Právní oddělení | C36: 1.p. | D36: 0.64 | G36: =D36*F36 -> 0
B37: Chodba 2.patro | C37: 2.p | D37: 0 | G37: =D37*F37 -> 0
B38: Schodiště z 1 do 2.p. | C38: 2.p | D38: 0 | G38: =D38*F38 -> 0
A39: 28 | B39: Odbor finanční - mzdy | C39: 2.p | D39: 1.76 | G39: =D39*F39 -> 0
A40: 29 | B40: Odbor finanční - účtárna | C40: 2.p | D40: 1.54 | G40: =D40*F40 -> 0
A41: 30 | B41: Odbor finanční | C41: 2.p | D41: 1.55 | G41: =D41*F41 -> 0
A42: 31 | B42: Odbor finanční - vedoucí | C42: 2.p | D42: 1.51 | G42: =D42*F42 -> 0
A43: 32 | B43: Auditor | C43: 2.p. | D43: 1.24 | G43: =D43*F43 -> 0
B44: Celkem | D44: =SUM(D5:D43) -> 55.51 | F44: x | G44: =SUM(G5:G43) -> 0
...

Sheet GÚ Světla
A1: Generální úklid - světla
A3: č.m. | B3: Název | C3: kde | D3: světla/ks | E3: Poznámky | F3: cena/ks | G3: cena/úkon
A4: 1 | B4: Hlavní budova čp. 137
A5: 1 | B5: Stropní zářivka | D5: 78 | G5: =D5*F5 -> 0
A6: 2 | B6: Závěsná zářivka | D6: 10 | G6: =D6*F6 -> 0
A7: 3 | B7: Stropní světlo | D7: 9 | G7: =D7*F7 -> 0
A8: 4 | B8: Nástěnné světlo | D8: 21 | G8: =D8*F8 -> 0
B9: Celkem | D9: =SUM(D5:D8) -> 118 | F9: x | G9: =SUM(G5:G8) -> 0
A10: 2 | B10: Objekt 6.května 1071
A11: 1 | B11: Stropní zářivka | D11: 31 | G11: =D11*F11 -> 0
A12: 2 | B12: Závěsná zářivka | D12: 6 | G12: =D12*F12 -> 0
A13: 3 | B13: Stropní světlo | D13: 10 | G13: =D13*F13 -> 0
A14: 4 | B14: Nástěnné světlo | D14: 6 | G14: =D14*F14 -> 0
A15: 5 | B15: Nouzové světlo | D15: 2 | G15: =D15*F15 -> 0
B16: Celkem | D16: =SUM(D11:D15) -> 55 | F16: x | G16: =SUM(G11:G15) -> 0
A17: 3 | B17: Odbor dopravně správní č.p.138
B18: Stropní zářivka | D18: 13 | G18: =D18*F18 -> 0
B19: Závěsná zářivka | D19: 6 | G19: =D19*F19 -> 0
B20: Stropní světlo | D20: 3 | G20: =D20*F20 -> 0
B21: Nástěnné světlo | D21: 6 | G21: =D21*F21 -> 0
B22: Celkem | D22: =SUM(D18:D21) -> 28 | F22: x | G22: =SUM(G18:G21) -> 0
A23: 4 | B23: Předzámčí č.p.2
B24: Stropní zářivka | D24: 43 | G24: =D24*F24 -> 0
B25: Závěsná zářivka | D25: 40 | G25: =D25*F25 -> 0
B26: Stropní světlo | D26: 15 | G26: =D26*F26 -> 0
B27: Nástěnné světlo | D27: 43 | G27: =D27*F27 -> 0
B28: Nouzové světlo | D28: 4 | G28: 0
B29: Celkem | D29: =SUM(D24:D28) -> 145 | F29: x | G29: =SUM(G24:G28) -> 0
B30: CELKOVÁ PLOCHA | D30: =SUM(D9+D16+D22+D29) -> 346 | E30: CENA CELKEM | G30: =SUM(G9+G16+G22+G29+I14) -> 0

Sheet CELKEM
A1: Generální úklid - CELKEM
A3: Položka | B3: cena/položka
A4: GÚ okna včetně rámů | B4: ='GÚ Okna'!G167 -> 0
A5: GÚ záclony, žaluzie , závěsy | B5: ='GÚ Záclony, závěsy, žal.'!H176 -> 0
A6: GÚ koberce | B6: ='GÚ Koberce'!G178 -> 0
A7: GÚ čalounění | B7: ='GÚ Čalounění'!G176 -> 0
A8: GÚ svítidel | B8: ='GÚ Světla'!G30 -> 0
A9: Celkem 1 kompletní GÚ | B9: =SUM(B4:B8) -> 0
