Workbook

Sheet GÚ Okna
A1: Generální úklid - okna
A3: č.m. | B3: Název | C3: kde | D3: okna/m2 | E3: Poznámky | F3: cena/m2 | G3: cena/úkon
A4: 1 | B4: Hlavní budova č.p.137
A5: 1 | B5: OP Pasy - kancelář | C5: př | D5: 12 | E5: včetně skl. přepážky | G5: =D5*F5 -> 0
B6: OP Pasy - chodba | C6: př | D6: 0 | G6: =D6*F6 -> 0
B7: Hlavní vchod, matrika chodba | C7: př | D7: 41 | E7: včetně dveří | G7: =D7*F7 -> 0
B8: Podatelna | C8: př | D8: 29.8 | E8: včetně skl. přepážky | G8: 0
B9: Schody do 1.patra | C9: př | D9: 0 | G9: =D9*F9 -> 0
B10: WC | C10: př | D10: 0 | G10: =D10*F10 -> 0
B11: Vytah | C11: př | D11: 0 | G11: =D11*F11 -> 0
A12: 7 | B12: Evidence obyvatel | C12: př | D12: 3.5 | G12: =D12*F12 -> 0
A13: 8 | B13: Matrika | C13: př | D13: 7 | G13: =D13*F13 -> 0
B14: Hala před obřadní síní | C14: př | D14: 0 | G14: =D14*F14 -> 0
B15: WC muži | C15: př | D15: 2 | G15: =D15*F15 -> 0
B16: WC ženy | C16: př | D16: 2 | G16: =D16*F16 -> 0
B17: Obradní síň | C17: př | D17: 25.5 | G17: =D17*F17 -> 0
B18: Zasedací místnost | C18: př | D18: 25.5 | G18: =D18*F18 -> 0
B19: Chodba 1.patro | C19: 1.p. | D19: 22 | G19: =D19*F19 -> 0
B20: WC | C20: 1.p. | D20: 0 | G20: =D20*F20 -> 0
A21: 11 | B21: Pokladna | C21: 1.p. | D21: 3.5 | G21: =D21*F21 -> 0
A22: 12 | B22: Odbor finanční | C22: 1.p. | D22: 3.5 | G22: =D22*F22 -> 0
A23: 13 | B23: Kancelář | C23: 1.p. | D23: 3.5 | G23: =D23*F23 -> 0
A24: 14 | B24: Odbor občanských záležitostí | C24: 1.p. | D24: 3.5 | G24: =D24*F24 -> 0
A25: 15 | B25: Kuchyně | C25: 1.p. | D25: 0 | G25: =D25*F25 -> 0
A26: 16 | B26: Malá zased.místnost | C26: 1.p. | D26: 10.8 | G26: =D26*F26 -> 0
A27: 17 | B27: Kancelář | C27: 1.p. | D27: 7.92 | G27: =D27*F27 -> 0
A28: 18 | B28: Tajemník | C28: 1.p. | D28: 10.9 | G28: =D28*F28 -> 0
A29: 19 | B29: Zástupce starosty | C29: 1.p. | D29: 10.9 | G29: =D29*F29 -> 0
A30: 20 | B30: Sekretariát | C30: 1.p. | D30: 5.5 | G30: =D30*F30 -> 0
A31: 21 | B31: Starosta | C31: 1.p. | D31: 10.44 | G31: =D31*F31 -> 0
A32: 22 | B32: Kancelář | C32: 1.p. | D32: 5.36 | G32: =D32*F32 -> 0
... A36: 26 | B36: Právní oddělení | C36: 1.p. | D36: 5.36 | G36: =D36*F36 -> 0
B37: Chodba 2.patro | C37: 2.p | D37: 0 | G37: =D37*F37 -> 0
B38: Schodiště z 1 do 2.p. | C38: 2.p | D38: 6 | G38: =D38*F38 -> 0
A39: 28 | B39: Odbor finanční - mzdy | C39: 2.p | D39: 4 | G39: =D39*F39 -> 0
A40: 29 | B40: Odbor finanční - účtárna | C40: 2.p | D40: 6 | G40: =D40*F40 -> 0
A41: 30 | B41: Odbor finanční | C41: 2.p | D41: 7.7 | G41: =D41*F41 -> 0
A42: 31 | B42: Odbor finanční - vedoucí | C42: 2.p | D42: 3.08 | G42: =D42*F42 -> 0
A43: 32 | B43: Auditor | C43: 2.p. | D43: 4 | G43: =D43*F43 -> 0
B44: Úřední desky města před č.p.137 | D44: 18 | E44: Masarykovo nám.-skl.výplň | G44: =D44*F44 -> 0
B45: Celkem | D45: =SUM(D5:D44) -> 316.34 | F45: x | G45: =SUM(G5:G44) -> 0
A46: 2 | B46: Odbor dopravně správní č.p.138
A47: 1 | B47: Venkovní prostory | C47: př | D47: 0 | G47: =D47*F47 -> 0
A48: 2 | B48: Vstup | C48: př | D48: 3.6 | G48: =D48*F48 -> 0
A49: 3 | B49: Vedoucí ODS | C49: př | D49: 8.6 | G49: =D49*F49 -> 0
A50: 4 | B50: Registr vozidel | C50: př | D50: 4.2 | G50: =D50*F50 -> 0
A51: 5 | B51: Čekárna | C51: př | D51: 3.8 | G51: =D51*F51 -> 0
A52: 6 | B52: Kuchyně | C52: př | D52: 0 | G52: =D52*F52 -> 0
A53: 7 | B53: WC | C53: př | D53: 0 | G53: =D53*F53 -> 0
A54: 9 | B54: Archív | C54: př | D54: 0 | G54: =D54*F54 -> 0
A55: 1 | B55: Schodiště do 1.p. | C55: 1.p | D55: 0.7 | G55: =D55*F55 -> 0
A56: 2 | B56: Chodbička | C56: 1.p | D56: 0 | G56: =D56*F56 -> 0
A57: 8 | B57: Kancelář | C57: 1.p | D57: 8.5 | G57: =D57*F57 -> 0
A58: 9 | B58: Kancelář | C58: 1.p | D58: 8.5 | G58: =D58*F58 -> 0
... A62: 10 | B62: Kancelář | C62: 1.p. | D62: 6.8 | G62: =D62*F62 -> 0
B63: Celkem | D63: =SUM(D47:D62) -> 49.7 | F63: x | G63: =SUM(G47:G62) -> 0
A64: 3 | B64: Objekt 6.května 1071
B65: vstup | C65: př | D65: 1 | G65: =F65*D65 -> 0
B66: schodiště | C66: př | D66: 14.4 | G66: =F66*D66 -> 0
B67: čekárna | C67: 1.p | D67: 10.48 | G67: =F67*D67 -> 0
B68: chodba - soc. odbor | C68: 1.p | D68: 0 | G68: =F68*D68 -> 0
B69: chodba - ŽÚ | C69: 1.p | D69: 0 | G69: =F69*D69 -> 0
B70: předsíň WC | C70: 1.p | D70: 0 | G70: =F70*D70 -> 0
B71: WC ženy | C71: 1.p | D71: 4.46 | G71: =F71*D71 -> 0
B72: WC ženy | C72: 1.p | D72: 0 | G72: =F72*D72 -> 0
B73: WC inv. | C73: 1.p | D73: 4.46 | G73: =F73*D73 -> 0
B74: kuchyň | C74: 1.p | D74: 4.46 | G74: =F74*D74 -> 0
B75: archiv | C75: 1.p | D75: 4.46 | G75: =F75*D75 -> 0
A76: 7 | B76: Kancelář | C76: 1.p | D76: 8.24 | G76: =F76*D76 -> 0
A77: 6 | B77: Kancelář | C77: 1.p | D77: 12.36 | G77: =F77*D77 -> 0
A78: 5 | B78: Zasedací místnost | C78: 1.p | D78: 14.94 | G78: =F78*D78 -> 0
A79: 4 | B79: Kancelář | C79: 1.p | D79: 9.8 | G79: =F79*D79 -> 0
A80: 3 | B80: Kancelář | C80: 1.p | D80: 9.8 | G80: =F80*D80 -> 0
A81: 2 | B81: Kancelář | C81: 1.p | D81: 8 | G81: =F81*D81 -> 0
A82: 1 | B82: Kancelář | C82: 1.p | D82: 8 | G82: =F82*D82 -> 0
A83: 8 | B83: Kancelář | C83: 1.p | D83: 10.56 | G83: =F83*D83 -> 0
A84: 9 | B84: Kancelář | C84: 1.p | D84: 10.56 | G84: =F84*D84 -> 0
A85: 10 | B85: Volná kancelář | C85: 1.p | D85: 10 | G85: =F85*D85 -> 0
A86: 11 | B86: Vedoucí odboru | C86: 1.p | D86: 15 | G86: =F86*D86 -> 0
B87: lodžie | C87: 1.p | D87: 0 | G87: =F87*D87 -> 0
A88: 13 | B88: Kancelář | C88: 1.p | D88: 8.28 | G88: =F88*D88 -> 0
B89: archiv | C89: 1.p | D89: 4.46 | G89: =F89*D89 -> 0
B90: kuchyň | C90: 1.p | D90: 4.46 | G90: =F90*D90 -> 0
B91: předsíň WC | C91: 1.p | D91: 0 | G91: =F91*D91 -> 0
B92: WC muži | C92: 1.p | D92: 4.46 | G92: =F92*D92 -> 0
B93: WC muži | C93: 1.p | D93: 0 | G93: =F93*D93 -> 0
B94: WC inv. | C94: 1.p | D94: 4.46 | G94: =F94*D94 -> 0
B95: Celkem | D95: =SUM(D65:D94) -> 187.1 | F95: x | G95: =SUM(G65:G94) -> 0
A96: 4 | B96: Předzámčí č.p.2
B97: Levá část předzámčí
A98: Ž8 | B98: Spodní chodba | C98: příz. | D98: 20.16 | G98: =D98*F98 -> 0
A99: Ž9 | B99: Soc.zař. | C99: příz. | D99: 6.92 | G99: =D99*F99 -> 0
A100: 10 | B100: Kancelář | C100: příz. | D100: 6.92 | G100: =D100*F100 -> 0
A101: 11 | B101: Kancelář | C101: příz. | D101: 13.84 | G101: =D101*F101 -> 0
A102: 12 | B102: Kancelář | C102: příz. | D102: 6.92 | G102: =D102*F102 -> 0
A103: Ž1 | B103: Horní chodba | C103: 1.p. | D103: 11.36 | G103: =D103*F103 -> 0
A104: Ž2 | B104: Chodba v mezipatře vč.hor.schod. | C104: mezip. | D104: 6 | G104: =D104*F104 -> 0
A105: Ž4 | B105: Kuchyňka | C105: mezip. | D105: 3 | G105: =D105*F105 -> 0
A106: Ž6 | B106: WC ženy | C106: mezip. | D106: 2.36 | G106: =D106*F106 -> 0
A107: 13 | B107: Zasedací místnost | C107: mezip. | D107: 13.84 | G107: =D107*F107 -> 0
...

Sheet GÚ Záclony, závěsy, žal.
A1: Generální úklid - záclony, závěsy, žaluzie
A3: č.m. | B3: Název | C3: kde | D3: zácl., závěsy/m2 | E3: žaluzie m2 | F3: Poznámka | G3: cena/m2 | H3: cena/úkon
A4: 1 | B4: Hlavní budova č.p.137
A5: 1 | B5: OP Pasy - kancelář | C5: př | D5: 0 | E5: 8.3 | H5: =(D5+E5)*G5 -> 0
B6: OP Pasy - chodba | C6: př | D6: 0 | E6: 0 | H6: =(D6+E6)*G6 -> 0
B7: Hlavní vchod, matrika chodba | C7: př | D7: 0 | E7: 0 | H7: =(D7+E7)*G7 -> 0
B8: Podatelna | C8: př | D8: 0 | E8: 7 | H8: 0
B9: Schody do 1.patra | C9: př | D9: 0 | E9: 0 | F9: Setření prachu obraz | H9: =(D9+E9)*G9 -> 0
B10: WC | C10: př | D10: 0 | E10: 0 | H10: =(D10+E10)*G10 -> 0
B11: Vytah | C11: př | D11: 0 | E11: 0 | H11: =(D11+E11)*G11 -> 0
A12: 7 | B12: Evidence obyvatel | C12: př | D12: 0 | E12: 2.2 | H12: =(D12+E12)*G12 -> 0
A13: 8 | B13: Matrika (vlastní záclona) | C13: př | D13: 0 | E13: 4.6 | H13: =(D13+E13)*G13 -> 0
B14: Podatelna | C14: př | D14: 0 | E14: 6.2 | H14: =(D14+E14)*G14 -> 0
B15: WC muži | C15: př | D15: 0 | E15: 0 | H15: =(D15+E15)*G15 -> 0
B16: WC ženy | C16: př | D16: 0 | E16: 0 | H16: =(D16+E16)*G16 -> 0
B17: Obřadní síň | C17: př | D17: 33 | E17: 0 | H17: =(D17+E17)*G17 -> 0
B18: Zasedací místnost | C18: př | D18: 0 | E18: 16.8 | H18: =(D18+E18)*G18 -> 0
B19: Chodba 1.patro | C19: 1.p. | D19: 0 | E19: 0 | H19: =(D19+E19)*G19 -> 0
B20: WC | C20: 1.p. | D20: 0 | E20: 0 | H20: =(D20+E20)*G20 -> 0
A21: 11 | B21: Pokladna | C21: 1.p. | D21: 4 | E21: 2.4 | H21: =(D21+E21)*G21 -> 0
A22: 12 | B22: Odbor finanční | C22: 1.p. | D22: 0 | E22: 2.4 | H22: =(D22+E22)*G22 -> 0
A23: 13 | B23: Kancelář | C23: 1.p. | D23: 0 | E23: 2.4 | H23: =(D23+E23)*G23 -> 0
A24: 14 | B24: Odbor občanských záležitostí | C24: 1.p. | D24: 0 | E24: 2.4 | H24: =(D24+E24)*G24 -> 0
A25: 15 | B25: Kuchyně | C25: 1.p. | D25: 0 | E25: 0 | H25: =(D25+E25)*G25 -> 0
A26: 16 | B26: Malá zased.místnost | C26: 1.p. | D26: 0 | E26: 7.2 | H26: =(D26+E26)*G26 -> 0
A27: 17 | B27: Kancelář | C27: 1.p. | D27: 0 | E27: 3 | H27: =(D27+E27)*G27 -> 0
A28: 18 | B28: Tajemník | C28: 1.p. | D28: 0 | E28: 7.2 | H28: =(D28+E28)*G28 -> 0
A29: 19 | B29: Zástupce starosty | C29: 1.p. | D29: 0 | E29: 7.2 | H29: =(D29+E29)*G29 -> 0
A30: 20 | B30: Sekretariát | C30: 1.p. | D30: 0 | E30: 3.6 | H30: =(D30+E30)*G30 -> 0
A31: 21 | B31: Starosta | C31: 1.p. | D31: 0 | E31: 11.8 | H31: =(D31+E31)*G31 -> 0
A32: 22 | B32: Kancelář | C32: 1.p. | D32: 0 | E32: 0 | H32: =(D32+E32)*G32 -> 0
... A36: 26 | B36: Právní oddělení | C36: 1.p. | D36: 0 | E36: 2.5 | H36: =(D36+E36)*G36 -> 0
B37: Chodba 2.patro | C37: 2.p | D37: 0 | E37: 0 | H37: =(D37+E37)*G37 -> 0
B38: Schodiště z 1 do 2.p. | C38: 2.p | D38: 0 | E38: 0 | H38: =(D38+E38)*G38 -> 0
A39: 28 | B39: Odbor finanční - mzdy | C39: 2.p | D39: 0 | E39: 2.8 | H39: =(D39+E39)*G39 -> 0
A40: 29 | B40: Odbor finanční - účtárna | C40: 2.p | D40: 0 | E40: 4 | H40: =(D40+E40)*G40 -> 0
A41: 30 | B41: Odbor finanční | C41: 2.p | D41: 0 | E41: 6.66 | H41: =(D41+E41)*G41 -> 0
A42: 31 | B42: Odbor finanční - vedoucí | C42: 2.p | D42: 0 | E42: 2.7 | H42: =(D42+E42)*G42 -> 0
A43: 32 | B43: Auditor | C43: 2.p. | E43: 4 | H43: =(D43+E43)*G43 -> 0
B44: Celkem | D44: =SUM(D5:D43) -> 37 | E44: =SUM(E5:E43) -> 119.86 | G44: x | H44: =SUM(H5:H43) -> 0
A45: 2 | B45: Odbor dopravně správní č.p.138
A46: 1 | B46: Venkovní prostory | C46: př | D46: 0 | E46: 0 | H46: =(D46+E46)*G46 -> 0
A47: 2 | B47: Vstup | C47: př | D47: 0 | E47: 0 | H47: =(D47+E47)*G47 -> 0
A48: 3 | B48: Silnič.hospodářství | C48: př | D48: 0 | E48: 4.6 | H48: =(D48+E48)*G48 -> 0
A49: 4 | B49: Registr vozidel | C49: př | D49: 0 | E49: 2.6 | H49: =(D49+E49)*G49 -> 0
A50: 5 | B50: Čekárna | C50: př | D50: 0 | E50: 2.6 | H50: =(D50+E50)*G50 -> 0
A51: 6 | B51: Kuchyně | C51: př | D51: 0 | E51: 0 | H51: =(D51+E51)*G51 -> 0
A52: 7 | B52: WC | C52: př | D52: 0 | E52: 0 | H52: =(D52+E52)*G52 -> 0
A53: 9 | B53: Archív | C53: př | D53: 0 | E53: 0 | H53: =(D53+E53)*G53 -> 0
A54: 1 | B54: Schodiště do 1.p. | C54: 1.p | D54: 0 | E54: 0 | H54: =(D54+E54)*G54 -> 0
A55: 2 | B55: Chodbička | C55: 1.p | D55: 0 | E55: 0 | H55: =(D55+E55)*G55 -> 0
A56: 8 | B56: Kancelář | C56: 1.p | D56: 0 | E56: 5 | H56: =(D56+E56)*G56 -> 0
A57: 9 | B57: Kancelář | C57: 1.p | D57: 0 | E57: 5 | H57: =(D57+E57)*G57 -> 0
... A61: 10 | B61: Kancelář | C61: 1.p. | D61: 0 | E61: 4.4 | H61: =(D61+E61)*G61 -> 0
B62: Celkem | D62: =SUM(D46:D61) -> 0 | E62: =SUM(E46:E61) -> 26.6 | G62: x | H62: =SUM(H46:H61) -> 0
A63: 3 | B63: Objekt 6.května 1071
B64: vstup | C64: př | D64: 0 | E64: 0 | H64: =(D64+E64)*G64 -> 0
B65: schodiště | C65: př | D65: 0 | E65: 2.96 | H65: =(D65+E65)*G65 -> 0
B66: čekárna | C66: 1.p | D66: 0 | E66: 6.8 | H66: =(D66+E66)*G66 -> 0
B67: chodba - soc. odbor | C67: 1.p | D67: 0 | E67: 0 | H67: =(D67+E67)*G67 -> 0
B68: chodba - ŽÚ | C68: 1.p | D68: 0 | E68: 0 | H68: =(D68+E68)*G68 -> 0
B69: předsíň WC | C69: 1.p | D69: 0 | E69: 0 | H69: =(D69+E69)*G69 -> 0
B70: WC ženy | C70: 1.p | D70: 0 | E70: 0 | H70: =(D70+E70)*G70 -> 0
B71: WC ženy | C71: 1.p | D71: 0 | E71: 2.96 | H71: =(D71+E71)*G71 -> 0
B72: WC inv. | C72: 1.p | D72: 0 | E72: 2.96 | H72: =(D72+E72)*G72 -> 0
B73: kuchyň | C73: 1.p | D73: 0 | E73: 2.96 | H73: =(D73+E73)*G73 -> 0
B74: archiv | C74: 1.p | D74: 0 | E74: 2.96 | H74: =(D74+E74)*G74 -> 0
A75: 7 | B75: Kancelář | C75: 1.p | D75: 0 | E75: 2.19 | H75: =(D75+E75)*G75 -> 0
A76: 6 | B76: Kancelář | C76: 1.p | D76: 0 | E76: 3.27 | H76: =(D76+E76)*G76 -> 0
A77: 5 | B77: Zasedací místnost | C77: 1.p | D77: 0 | E77: 4.28 | H77: =(D77+E77)*G77 -> 0
A78: 4 | B78: Kancelář | C78: 1.p | D78: 0 | E78: 2.8 | H78: =(D78+E78)*G78 -> 0
A79: 3 | B79: Kancelář | C79: 1.p | D79: 0 | E79: 2.8 | H79: =(D79+E79)*G79 -> 0
A80: 8 | B80: Kancelář | C80: 1.p | D80: 0 | E80: 3.57 | H80: =(D80+E80)*G80 -> 0
A81: 9 | B81: Kancelář | C81: 1.p | D81: 0 | E81: 3.57 | H81: =(D81+E81)*G81 -> 0
A82: 10 | B82: Volná kancelář | C82: 1.p | D82: 0 | E82: 2.84 | H82: =(D82+E82)*G82 -> 0
A83: 11 | B83: Kancelář | C83: 1.p | D83: 0 | E83: 4.26 | H83: =(D83+E83)*G83 -> 0
B84: lodžie | C84: 1.p | D84: 0 | E84: 0 | H84: =(D84+E84)*G84 -> 0
B85: ústředna | C85: 1.p | D85: 0 | E85: 0 | H85: =(D85+E85)*G85 -> 0
A86: 13 | B86: Kancelář | C86: 1.p | D86: 0 | E86: 2.19 | H86: =(D86+E86)*G86 -> 0
B87: archiv | C87: 1.p | D87: 0 | E87: 2.96 | H87: =(D87+E87)*G87 -> 0
B88: kuchyň | C88: 1.p | D88: 0 | E88: 2.96 | H88: =(D88+E88)*G88 -> 0
B89: předsíň WC m | C89: 1.p | D89: 0 | E89: 0 | H89: =(D89+E89)*G89 -> 0
B90: WC muži | C90: 1.p | D90: 0 | E90: 0 | H90: =(D90+E90)*G90 -> 0
B91: WC muži | C91: 1.p | D91: 0 | E91: 2.96 | H91: =(D91+E91)*G91 -> 0
B92: WC inv. | C92: 1.p | D92: 0 | E92: 2.96 | H92: =(D92+E92)*G92 -> 0
B93: Celkem | D93: =SUM(D64:D92) -> 0 | E93: =SUM(E64:E92) -> 65.21 | G93: x | H93: =SUM(H64:H92) -> 0
A94: 4 | B94: Předzámčí č.p.2
B95: Levá část předzámčí
A96: Ž7 | B96: Spodní spojovací schodiště | C96: příz. | D96: 0 | E96: 0 | H96: =(D96+E96)*G96 -> 0
A97: Ž8 | B97: Spodní chodba | C97: příz. | D97: 0 | E97: 0 | H97: =(D97+E97)*G97 -> 0
A98: Ž9 | B98: Soc.zař. | C98: příz. | D98: 0 | E98: 0 | H98: =(D98+E98)*G98 -> 0
A99: Ž10 | B99: Archiv OŽP | C99: příz. | D99: 0 | E99: 0 | H99: =(D99+E99)*G99 -> 0
A100: Ž11 | B100: Předsíňka | C100: příz. | D100: 0 | E100: 0 | H100: =(D100+E100)*G100 -> 0
A101: 10 | B101: Kancelář | C101: příz. | D101: 0 | E101: 1.7 | H101: =(D101+E101)*G101 -> 0
A102: 11 | B102: Kancelář | C102: příz. | D102: 0 | E102: 3.4 | H102: =(D102+E102)*G102 -> 0
A103: 12 | B103: Kancelář | C103: příz. | D103: 0 | E103: 1.7 | H103: =(D103+E103)*G103 -> 0
A104: Ž1 | B104: Horní chodba | C104: 1.p. | D104: 0 | E104: 0 | H104: =(D104+E104)*G104 -> 0
A105: Ž2 | B105: Chodba v mezipatře vč.hor.schod. | C105: mezip. | D105: 0 | E105: 0 | H105: =(D105+E105)*G105 -> 0
A106: Ž3 | B106: Chodba k zasedačce | C106: mezip. | D106: 0 | E106: 0 | H106: =(D106+E106)*G106 -> 0
A107: Ž4 | B107: Kuchyňka | C107: mezip. | D107: 0 | E107: 0 | H107: =(D107+E107)*G107 -> 0
...

Sheet GÚ Koberce
A1: Generální úklid - koberce
A3: č.m. | B3: Název | C3: kde | D3: koberce/m2 | E3: dlažba/m2 | F3: cena/m2 | G3: cena/úkon
A4: 1 | B4: Hlavní budova č.p.137
A5: 1 | B5: OP Pasy - kancelář | C5: př | D5: 24 | G5: =D5*F5 -> 0
A6: 1 | B6: OP Pasy - chodba | C6: př | D6: 7.5 | G6: =D6*F6 -> 0
B7: Hlavní vchod, matrika chodba | C7: př | D7: 0 | G7: =D7*F7 -> 0
B8: Podatelna | C8: př. | G8: 0
B9: Schody do 1.patra | C9: př | D9: 0 | G9: =D9*F9 -> 0
B10: WC | C10: př | D10: 0 | G10: =D10*F10 -> 0
B11: Vytah | C11: př | D11: 0 | G11: =D11*F11 -> 0
A12: 7 | B12: Evidence obyvatel | C12: př | D12: 11.6 | G12: =D12*F12 -> 0
A13: 8 | B13: Matrika | C13: př | D13: 24 | G13: =D13*F13 -> 0
B14: Hala před obřadní síní | C14: př | D14: 0 | G14: =D14*F14 -> 0
B15: WC muži | C15: př | D15: 0 | G15: =D15*F15 -> 0
B16: WC ženy | C16: př | D16: 0 | G16: =D16*F16 -> 0
B17: Obradní síň | C17: př | D17: 78.85 | G17: =D17*F17 -> 0
B18: Zasedací místnost | C18: př | D18: 107 | G18: =D18*F18 -> 0
B19: Chodba 1.patro | C19: 1.p. | D19: 0 | G19: =D19*F19 -> 0
B20: WC | C20: 1.p. | D20: 0 | G20: =D20*F20 -> 0
A21: 11 | B21: Pokladna | C21: 1.p. | D21: 12.9 | G21: =D21*F21 -> 0
A22: 12 | B22: Odbor finanční | C22: 1.p. | D22: 13.5 | G22: =D22*F22 -> 0
A23: 13 | B23: Kancelář | C23: 1.p. | D23: 10.3 | G23: =D23*F23 -> 0
A24: 14 | B24: Odbor občanských záležitostí | C24: 1.p. | D24: 23 | G24: =D24*F24 -> 0
A25: 15 | B25: Kuchyně | C25: 1.p. | D25: 0 | G25: =D25*F25 -> 0
A26: 15 | B26: Kuchyně | C26: 1.p. | D26: 0 | G26: =D26*F26 -> 0
A27: 16 | B27: Malá zased.místnost | C27: 1.p. | D27: 27.54 | G27: =D27*F27 -> 0
A28: 17 | B28: Kancelář | C28: 1.p. | D28: 13.8 | G28: =D28*F28 -> 0
A29: 18 | B29: Tajemník | C29: 1.p. | D29: 28 | G29: =D29*F29 -> 0
A30: 19 | B30: Zástupce starosty | C30: 1.p. | D30: 31.25 | G30: =D30*F30 -> 0
A31: 20 | B31: Sekretariát | C31: 1.p. | D31: 15.6 | G31: =D31*F31 -> 0
A32: 21 | B32: Starosta | C32: 1.p. | D32: 28.9 | G32: =D32*F32 -> 0
... A37: 26 | B37: Právní oddělení | C37: 1.p. | D37: 17.7 | G37: =D37*F37 -> 0
B38: Chodba 2.patro | C38: 2.p | D38: 0 | G38: =D38*F38 -> 0
B39: Schodiště z 1 do 2.p. | C39: 2.p | D39: 0 | G39: =D39*F39 -> 0
A40: 28 | B40: Odbor finanční - mzdy | C40: 2.p | D40: 22.79 | G40: =D40*F40 -> 0
A41: 29 | B41: Odbor finanční - účtárna | C41: 2.p | D41: 26.11 | G41: =D41*F41 -> 0
A42: 30 | B42: Odbor finanční | C42: 2.p | D42: 33.6 | G42: =D42*F42 -> 0
A43: 31 | B43: Odbor finanční - vedoucí | C43: 2.p | D43: 14.8 | G43: =D43*F43 -> 0
A44: 32 | B44: Auditor | C44: 2.p. | D44: 6 | G44: =D44*F44 -> 0
B45: Celkem | D45: =SUM(D5:D44) -> 643.72 | F45: x | G45: =SUM(G5:G44) -> 0
A46: 2 | B46: Odbor dopravně správní č.p.138
A47: 1 | B47: Venkovní prostory | C47: př | D47: 0 | G47: =D47*F47 -> 0
A48: 2 | B48: Vstup | C48: př | D48: 0 | G48: =D48*F48 -> 0
A49: 3 | B49: Silnič.hospodářství | C49: př | D49: 24.4 | G49: =D49*F49 -> 0
A50: 4 | B50: Registr | C50: př | D50: 15.1 | G50: =D50*F50 -> 0
A51: 5 | B51: Čekárna | C51: př | D51: 0 | G51: =D51*F51 -> 0
A52: 6 | B52: Kuchyně | C52: př | D52: 0 | G52: =D52*F52 -> 0
A53: 7 | B53: WC | C53: př | D53: 0 | G53: =D53*F53 -> 0
A54: 9 | B54: Archív | C54: př | D54: 19 | G54: =D54*F54 -> 0
A55: 1 | B55: Schodiště do 1.p. | C55: 1.p | D55: 0 | G55: =D55*F55 -> 0
A56: 2 | B56: Chodbička | C56: 1.p | D56: 0 | G56: =D56*F56 -> 0
A57: 8 | B57: Kancelář | C57: 1.p | D57: 19.5 | G57: =D57*F57 -> 0
A58: 9 | B58: Kancelář | C58: 1.p | D58: 20.25 | G58: =D58*F58 -> 0
... A62: 10 | B62: Kancelář | C62: 1.p. | D62: 0 | G62: =D62*F62 -> 0
B63: Celkem | D63: =SUM(D47:D62) -> 98.25 | F63: x | G63: =SUM(G47:G62) -> 0
A64: 3 | B64: Objekt 6.května 1071
B65: vstup | C65: př | D65: 0 | G65: =D65*F65 -> 0
B66: schodiště | C66: př | D66: 0 | G66: =D66*F66 -> 0
B67: čekárna | C67: 1.p | D67: 0 | G67: =D67*F67 -> 0
B68: chodba - soc. odbor | C68: 1.p | D68: 0 | G68: =D68*F68 -> 0
B69: chodba - ŽÚ | C69: 1.p | D69: 0 | G69: =D69*F69 -> 0
B70: předsíň WC | C70: 1.p | D70: 0 | G70: =D70*F70 -> 0
B71: WC ženy | C71: 1.p | D71: 0 | G71: =D71*F71 -> 0
B72: WC ženy | C72: 1.p | D72: 0 | G72: =D72*F72 -> 0
B73: WC inv. | C73: 1.p | D73: 0 | G73: =D73*F73 -> 0
B74: kuchyň | C74: 1.p | D74: 0 | G74: =D74*F74 -> 0
B75: archiv | C75: 1.p | D75: 7.8 | G75: =D75*F75 -> 0
A76: 7 | B76: Kancelář | C76: 1.p | D76: 15.12 | G76: =D76*F76 -> 0
A77: 6 | B77: Kancelář | C77: 1.p | D77: 16.22 | G77: =D77*F77 -> 0
A78: 5 | B78: Zasedací místnost | C78: 1.p | D78: 21.56 | G78: =D78*F78 -> 0
A79: 4 | B79: Kancelář | C79: 1.p | D79: 15.27 | G79: =D79*F79 -> 0
A80: 3 | B80: Kancelář | C80: 1.p | D80: 15.27 | G80: =D80*F80 -> 0
A81: 2 | B81: Kancelář | C81: 1.p. | D81: 21.26 | G81: =D81*F81 -> 0
A82: 1 | B82: Kancelář | C82: 1.p. | D82: 16.3 | G82: 0
A83: 8 | B83: Kancelář | C83: 1.p | D83: 17.2 | G83: =D83*F83 -> 0
A84: 9 | B84: Kancelář | C84: 1.p | D84: 19.7 | G84: =D84*F84 -> 0
A85: 10 | B85: Kancelář | C85: 1.p | D85: 14.3 | G85: =D85*F85 -> 0
A86: 11 | B86: Kancelář | C86: 1.p | D86: 22.8 | G86: =D86*F86 -> 0
B87: lodžie | C87: 1.p | D87: 0 | G87: =D87*F87 -> 0
B88: ústředna | C88: 1.p | D88: 0 | G88: =D88*F88 -> 0
A89: 13 | B89: Kancelář | C89: 1.p | D89: 10.8 | G89: =D89*F89 -> 0
B90: archiv | C90: 1.p | D90: 7.5 | G90: =D90*F90 -> 0
B91: kuchyň | C91: 1.p | D91: 0 | G91: =D91*F91 -> 0
B92: předsíň WC m | C92: 1.p | D92: 0 | G92: =D92*F92 -> 0
B93: WC muži | C93: 1.p | D93: 0 | G93: =D93*F93 -> 0
B94: WC muži | C94: 1.p | D94: 0 | G94: =D94*F94 -> 0
B95: WC inv. | C95: 1.p | D95: 0 | G95: =D95*F95 -> 0
B96: Celkem | D96: =SUM(D65:D95) -> 221.1 | F96: x | G96: =SUM(G65:G95) -> 0
A97: 4 | B97: Předzámčí č.p.2
B98: Levá část předzámčí
A99: Ž7 | B99: Spodní spojovací schodiště | C99: příz. | D99: 0 | G99: =D99*F99 -> 0
A100: Ž8 | B100: Spodní chodba | C100: příz. | D100: 0 | G100: =D100*F100 -> 0
A101: Ž9 | B101: Soc.zař. | C101: příz. | D101: 0 | G101: =D101*F101 -> 0
A102: Ž10 | B102: Archiv OŽP | C102: příz. | D102: 0 | G102: =D102*F102 -> 0
A103: Ž11 | B103: Předsíňka | C103: příz. | D103: 0 | G103: =D103*F103 -> 0
A104: 10 | B104: Kancelář | C104: příz. | D104: 10.68 | G104: =D104*F104 -> 0
A105: 11 | B105: Kancelář | C105: příz. | D105: 12.99 | G105: =D105*F105 -> 0
A106: 12 | B106: Kancelář | C106: příz. | D106: 15.98 | G106: =D106*F106 -> 0
A107: Ž1 | B107: Horní chodba | C107: 1.p. | D107: 17.65 | G107: =D107*F107 -> 0
A108: Ž2 | B108: Chodba v mezipatře vč.hor.schod. | C108: mezip. | D108: 0 | G108: =D108*F108 -> 0
...

Sheet GÚ Čalounění
A1: Generální úklid - čalounění
A3: č.m. | B3: Název | C3: kde | D3: čalounění/m2 | E3: Poznámky | F3: cena/m2 | G3: cena/úkon
A4: 1 | B4: Hlavní budova č.p.137
A5: 1 | B5: OP Pasy - kancelář | C5: př | D5: 0.9 | G5: =D5*F5 -> 0
B6: OP Pasy - chodba | C6: př | D6: 0.2 | G6: =D6*F6 -> 0
B7: Hlavní vchod, matrika chodba | C7: př | D7: 0.9 | G7: =D7*F7 -> 0
B8: Podatelna | C8: př. | D8: 0 | G8: 0
B9: Schody do 1.patra | C9: př | D9: 0 | G9: =D9*F9 -> 0
B10: WC | C10: př | D10: 0 | G10: =D10*F10 -> 0
B11: Vytah | C11: př | D11: 0 | G11: =D11*F11 -> 0
A12: 7 | B12: Evidence obyvatel | C12: př | D12: 0.44 | G12: =D12*F12 -> 0
A13: 8 | B13: Matrika | C13: př | D13: 1.25 | G13: =D13*F13 -> 0
B14: Hala před obřadní síní | C14: př | D14: 1.25 | G14: =D14*F14 -> 0
B15: WC muži | C15: př | D15: 0 | G15: =D15*F15 -> 0
B16: WC ženy | C16: př | D16: 0 | G16: =D16*F16 -> 0
B17: Obradní síň | C17: př | D17: 4 | G17: =D17*F17 -> 0
B18: Zasedací místnost | C18: př | D18: 12.4 | G18: =D18*F18 -> 0
B19: Chodba 1.patro | C19: 1.p. | D19: 5 | G19: =D19*F19 -> 0
B20: WC | C20: 1.p. | D20: 0 | G20: =D20*F20 -> 0
A21: 11 | B21: Pokladna | C21: 1.p. | D21: 1.09 | G21: =D21*F21 -> 0
A22: 12 | B22: Odbor finanční | C22: 1.p. | D22: 0.7 | G22: =D22*F22 -> 0
A23: 13 | B23: Kancelář | C23: 1.p. | D23: 0.44 | G23: =D23*F23 -> 0
A24: 14 | B24: Odbor občanských záležitostí | C24: 1.p. | D24: 2.72 | G24: =D24*F24 -> 0
A25: 15 | B25: Kuchyně | C25: 1.p. | D25: 0 | G25: =D25*F25 -> 0
A26: 16 | B26: Malá zased.místnost | C26: 1.p. | D26: 7.4 | G26: =D26*F26 -> 0
A27: 17 | B27: Kancelář | C27: 1.p. | D27: 1.24 | G27: =D27*F27 -> 0
A28: 18 | B28: Tajemník | C28: 1.p. | D28: 0.25 | G28: =D28*F28 -> 0
A29: 19 | B29: Zástupce starosty | C29: 1.p. | D29: 1.85 | G29: =D29*F29 -> 0
A30: 20 | B30: Sekretariát | C30: 1.p. | D30: 0.99 | G30: =D30*F30 -> 0
A31: 21 | B31: Starosta | C31: 1.p. | D31: 0.25 | G31: =D31*F31 -> 0
A32: 22 | B32: Kancelář | C32: 1.p. | D32: 1.48 | G32: =D32*F32 -> 0
... A36: 26 | B36: Právní oddělení | C36: 1.p. | D36: 0.64 | G36: =D36*F36 -> 0
B37: Chodba 2.patro | C37: 2.p | D37: 0 | G37: =D37*F37 -> 0
B38: Schodiště z 1 do 2.p. | C38: 2.p | D38: 0 | G38: =D38*F38 -> 0
A39: 28 | B39: Odbor finanční - mzdy | C39: 2.p | D39: 1.76 | G39: =D39*F39 -> 0
A40: 29 | B40: Odbor finanční - účtárna | C40: 2.p | D40: 1.54 | G40: =D40*F40 -> 0
A41: 30 | B41: Odbor finanční | C41: 2.p | D41: 1.55 | G41: =D41*F41 -> 0
A42: 31 | B42: Odbor finanční - vedoucí | C42: 2.p | D42: 1.51 | G42: =D42*F42 -> 0
A43: 32 | B43: Auditor | C43: 2.p. | D43: 1.24 | G43: =D43*F43 -> 0
B44: Celkem | D44: =SUM(D5:D43) -> 55.51 | F44: x | G44: =SUM(G5:G43) -> 0
A45: 2 | B45: Odbor dopravně správní č.p.138
A46: 1 | B46: Venkovní prostory | C46: př | D46: 0 | G46: =D46*F46 -> 0
A47: 2 | B47: Vstup | C47: př | D47: 0 | G47: =D47*F47 -> 0
A48: 3 | B48: Vedoucí ODS | C48: př | D48: 0.87 | G48: =D48*F48 -> 0
A49: 4 | B49: Registr | C49: př | D49: 0.4 | G49: =D49*F49 -> 0
A50: 5 | B50: Čekárna | C50: př | D50: 1.2 | G50: =D50*F50 -> 0
A51: 6 | B51: Kuchyně | C51: př | D51: 0 | G51: =D51*F51 -> 0
A52: 7 | B52: WC | C52: př | D52: 0 | G52: =D52*F52 -> 0
A53: 9 | B53: Archív | C53: př | D53: 0 | G53: =D53*F53 -> 0
A54: 1 | B54: Schodiště do 1.p. | C54: 1.p | D54: 0 | G54: =D54*F54 -> 0
A55: 2 | B55: Chodbička | C55: 1.p | D55: 0 | G55: =D55*F55 -> 0
A56: 8 | B56: Kancelář | C56: 1.p | D56: 0.89 | G56: =D56*F56 -> 0
A57: 9 | B57: Kancelář | C57: 1.p | D57: 1.33 | G57: =D57*F57 -> 0
... A61: 10 | B61: Kancelář | C61: 1.p. | D61: 0.25 | G61: =D61*F61 -> 0
B62: Celkem | D62: =SUM(D46:D61) -> 7.94 | F62: x | G62: =SUM(G46:G61) -> 0
A63: 3 | B63: Objekt 6.května 1071
B64: vstup | C64: př | D64: 0 | G64: =D64*F64 -> 0
B65: schodiště | C65: př | D65: 0 | G65: =D65*F65 -> 0
B66: čekárna | C66: 1.p | D66: 1.11 | G66: =D66*F66 -> 0
B67: chodba - soc. odbor | C67: 1.p | D67: 0 | G67: =D67*F67 -> 0
B68: chodba - ŽÚ | C68: 1.p | D68: 0 | G68: =D68*F68 -> 0
B69: předsíň WC | C69: 1.p | D69: 0 | G69: =D69*F69 -> 0
B70: WC ženy | C70: 1.p | D70: 0 | G70: =D70*F70 -> 0
B71: WC ženy | C71: 1.p | D71: 0 | G71: =D71*F71 -> 0
B72: WC inv. | C72: 1.p | D72: 0.37 | G72: =D72*F72 -> 0
B73: kuchyň | C73: 1.p | D73: 0 | G73: =D73*F73 -> 0
B74: archiv | C74: 1.p | D74: 0 | G74: =D74*F74 -> 0
A75: 7 | B75: Kancelář | C75: 1.p | D75: 0.85 | G75: =D75*F75 -> 0
A76: 6 | B76: Kancelář | C76: 1.p | D76: 1.65 | G76: =D76*F76 -> 0
A77: 5 | B77: Zasedací místnost | C77: 1.p | D77: 1.3 | G77: =D77*F77 -> 0
A78: 4 | B78: Kancelář | C78: 1.p | D78: 0.65 | G78: =D78*F78 -> 0
A79: 3 | B79: Kancelář | C79: 1.p | D79: 0.9 | G79: =D79*F79 -> 0
A80: 2 | B80: Kancelář | C80: 1.p | D80: 0.5 | G80: 0
A81: 1 | B81: Kancelář | C81: 1.p | D81: 0.25 | G81: 0
A82: 8 | B82: Kancelář | C82: 1.p | D82: 0.25 | G82: =D82*F82 -> 0
A83: 9 | B83: Kancelář | C83: 1.p | D83: 0.85 | G83: =D83*F83 -> 0
A84: 10 | B84: Volná kancelář | C84: 1.p | D84: 0.65 | G84: =D84*F84 -> 0
A85: 11 | B85: Kancelář | C85: 1.p | D85: 1.25 | G85: =D85*F85 -> 0
B86: lodžie | C86: 1.p | D86: 0 | G86: =D86*F86 -> 0
A87: 13 | B87: Kancelář | C87: 1.p | D87: 0.65 | G87: =D87*F87 -> 0
B88: archiv | C88: 1.p | D88: 0 | G88: =D88*F88 -> 0
B89: kuchyň | C89: 1.p | D89: 0.4 | G89: =D89*F89 -> 0
B90: předsíň WC m | C90: 1.p | D90: 0 | G90: =D90*F90 -> 0
B91: WC muži | C91: 1.p | D91: 0 | G91: =D91*F91 -> 0
B92: WC muži | C92: 1.p | D92: 0 | G92: =D92*F92 -> 0
B93: WC inv. | C93: 1.p | D93: 0 | G93: =D93*F93 -> 0
B94: Celkem | D94: =SUM(D64:D93) -> 11.63 | F94: x | G94: =SUM(G64:G93) -> 0
A95: 4 | B95: Předzámčí č.p.2
B96: Levá část předzámčí
A97: Ž7 | B97: Spodní spojovací schodiště | C97: příz. | D97: 0 | G97: =D97*F97 -> 0
A98: Ž8 | B98: Spodní chodba | C98: příz. | D98: 0 | G98: =D98*F98 -> 0
A99: Ž9 | B99: Soc.zař. | C99: příz. | D99: 0 | G99: =D99*F99 -> 0
A100: Ž10 | B100: Archiv OŽP | C100: příz. | D100: 0 | G100: =D100*F100 -> 0
A101: Ž11 | B101: Předsíňka | C101: příz. | D101: 0 | G101: =D101*F101 -> 0
A102: 10 | B102: Kancelář | C102: příz. | D102: 0.77 | G102: =D102*F102 -> 0
A103: 11 | B103: Kancelář | C103: příz. | D103: 1.28 | G103: =D103*F103 -> 0
A104: 12 | B104: Kancelář | C104: příz. | D104: 0.69 | G104: =D104*F104 -> 0
A105: Ž1 | B105: Horní chodba | C105: 1.p. | D105: 0 | G105: =D105*F105 -> 0
A106: Ž2 | B106: Chodba v mezipatře vč.hor.schod. | C106: mezip. | D106: 1.04 | G106: =D106*F106 -> 0
A107: Ž3 | B107: Chodba k zasedačce | C107: mezip. | D107: 0.74 | G107: =D107*F107 -> 0
...

Sheet GÚ Světla
A1: Generální úklid - světla
A3: č.m. | B3: Název | C3: kde | D3: světla/ks | E3: Poznámky | F3: cena/ks | G3: cena/úkon
A4: 1 | B4: Hlavní budova čp. 137
A5: 1 | B5: Stropní zářivka | D5: 78 | G5: =D5*F5 -> 0
A6: 2 | B6: Závěsná zářivka | D6: 10 | G6: =D6*F6 -> 0
A7: 3 | B7: Stropní světlo | D7: 9 | G7: =D7*F7 -> 0
A8: 4 | B8: Nástěnné světlo | D8: 21 | G8: =D8*F8 -> 0
B9: Celkem | D9: =SUM(D5:D8) -> 118 | F9: x | G9: =SUM(G5:G8) -> 0
A10: 2 | B10: Objekt 6.května 1071
A11: 1 | B11: Stropní zářivka | D11: 31 | G11: =D11*F11 -> 0
A12: 2 | B12: Závěsná zářivka | D12: 6 | G12: =D12*F12 -> 0
A13: 3 | B13: Stropní světlo | D13: 10 | G13: =D13*F13 -> 0
A14: 4 | B14: Nástěnné světlo | D14: 6 | G14: =D14*F14 -> 0
A15: 5 | B15: Nouzové světlo | D15: 2 | G15: =D15*F15 -> 0
B16: Celkem | D16: =SUM(D11:D15) -> 55 | F16: x | G16: =SUM(G11:G15) -> 0
A17: 3 | B17: Odbor dopravně správní č.p.138
B18: Stropní zářivka | D18: 13 | G18: =D18*F18 -> 0
B19: Závěsná zářivka | D19: 6 | G19: =D19*F19 -> 0
B20: Stropní světlo | D20: 3 | G20: =D20*F20 -> 0
B21: Nástěnné světlo | D21: 6 | G21: =D21*F21 -> 0
B22: Celkem | D22: =SUM(D18:D21) -> 28 | F22: x | G22: =SUM(G18:G21) -> 0
A23: 4 | B23: Předzámčí č.p.2
B24: Stropní zářivka | D24: 43 | G24: =D24*F24 -> 0
B25: Závěsná zářivka | D25: 40 | G25: =D25*F25 -> 0
B26: Stropní světlo | D26: 15 | G26: =D26*F26 -> 0
B27: Nástěnné světlo | D27: 43 | G27: =D27*F27 -> 0
B28: Nouzové světlo | D28: 4 | G28: 0
B29: Celkem | D29: =SUM(D24:D28) -> 145 | F29: x | G29: =SUM(G24:G28) -> 0
B30: CELKOVÁ PLOCHA | D30: =SUM(D9+D16+D22+D29) -> 346 | E30: CENA CELKEM | G30: =SUM(G9+G16+G22+G29+I14) -> 0

Sheet CELKEM
A1: Generální úklid - CELKEM
A3: Položka | B3: cena/položka
A4: GÚ okna včetně rámů | B4: ='GÚ Okna'!G167 -> 0
A5: GÚ záclony, žaluzie , závěsy | B5: ='GÚ Záclony, závěsy, žal.'!H176 -> 0
A6: GÚ koberce | B6: ='GÚ Koberce'!G178 -> 0
A7: GÚ čalounění | B7: ='GÚ Čalounění'!G176 -> 0
A8: GÚ svítidel | B8: ='GÚ Světla'!G30 -> 0
A9: Celkem 1 kompletní GÚ | B9: =SUM(B4:B8) -> 0
