Workbook

Sheet Príloha č.1
A1: Názov predmetu zákazky:
A2: Nakládka, odvoz a zneškodnenie/zhodnotenie odpadu
A4: IDENTIFIKAČNÉ ÚDAJE UCHÁDZAČA
A6: Obchodné meno/názov uchádzača:
A7: Sídlo alebo miesto podnikania :
A8: IČO:
A9: DIČ:
A10: IČ DPH:
A11: Právna forma :
A12: URL :
A13: Zápis uchádzača v Obchodnom registri (označenie Obchodného registra alebo inej evidencie, do ktorej je uchádzač zapísaný podľa právneho poriadku štátu, ktorým sa spravuje, a číslo zápisu alebo údaj o zápise do tohto registra alebo evidencie):
A14: Zoznam osôb oprávnených konať v mene uchádzača :
... A16: Zápis uchádzača v Registri partnerov verejného sektora (uchádzač uvedie číslo vložky zápisu do RPVS):
A17: Uchádzač je MSP : MSP je skratka mikro, malých a stredných podnikov (Mikropodniky: podniky, ktoré zamestnávajú menej ako 10 osôb a ktorých ročný obrat a/alebo celková ročná súvaha neprekračuje 2 milióny EUR Malé podniky: podniky, ktoré zamestnávajú menej ako 50 osôb a ktorých ročný obrat a/alebo celková ročná súvaha neprekračuje 10 miliónov EUR Stredné podniky: podniky, ktoré nie sú mikropodnikmi ani malými podnikmi a ktoré zamestnávajú menej ako 250 osôb a ktorých ročný obrat neprekračuje 50 miliónov EUR a/alebo celková ročná súvaha neprekračuje 43 miliónov EUR) | C17: * uchádzač uvedie do ktorej kategorie patrí
A19: Kontaktná osoba uchádzača - počas procesu VO
A20: Meno a priezvisko:
A21: Telefónne číslo:
A22: E-mail:
A24: Údaje o osobe podľa § 49 ods. 5 ZVO
A25: Meno a priezvisko:
A26: Obchodné meno/názov:
A27: Adresa pobytu/Sídlo alebo miesto podnikania:
A28: IČO:
A29: (vyplní uchádzač , ak je to relevantné)
A31: V .........................................., dňa .................
B33: meno, priezvisko, funkcia oprávnenej osoby
B34: podpis a pečiatka uchádzača
D102: =IF('Príloha č.1'!C8="","",'Príloha č.1'!C8:D8)

Sheet Príloha č.2
A1: Názov predmetu zákazky:
A2: ='Príloha č.1'!A2:D2 -> Nakládka, odvoz a zneškodnenie/zhodnotenie odpadu
A4: ČESTNÉ VYHLÁSENIE UCHÁDZAČA VO VEREJNOM OBSTARÁVANÍ
A6: Obchodný názov uchádzača: | C6: =IF('Príloha č.1'!$C$6="","",'Príloha č.1'!$C$6)
A7: Sídlo alebo miesto podnikania: | C7: =IF('Príloha č.1'!$C$7="","",'Príloha č.1'!$C$7)
A8: IČO: | C8: =IF('Príloha č.1'!$C$8="","",'Príloha č.1'!$C$8)
A9: DIČ: | C9: =IF('Príloha č.1'!$C$9="","",'Príloha č.1'!$C$9)
A10: IČ DPH:
A12: Ako štatutárny orgán vyššie uvedeného uchádzača týmto čestne vyhlasujem, že ako uchádzač vo verejnom obstarávaní na uvedený predmet zákazky:
A13: ▪ | B13: bezvýhradne súhlasím a plne akceptujem ustanovenia návrhu zmluvy a bezvýhradne súhlasím s podmienkami uvedenými v Oznámení o vyhlásení verejného obstarávania, v týchto súťažných podkladoch a v ostatných dokumentoch poskytnutých verejným obstarávateľom,
A14: ▪ | B14: všetky predložené doklady, dokumenty, vyhlásenia a údaje uvedené v ponuke a predložené s ponukou sú pravdivé a úplné,
A15: ▪ | B15: všetky doklady, dokumenty a vyhlásenia predložené v ponuke, ktoré neboli pôvodne vyhotovené v elektronickej podobe sú zhodné s originálnym vyhotovením, ktoré máme ako uchádzač k dispozícii v listinnej podobe
A16: ▪ | B16: nie sme členom skupiny dodávateľov, ktorá predkladá ponuku v súlade s ustanovením § 49 ods. 6 zákona o verejnom obstarávaní
A17: ▪ | B17: som zapísaný v Registri partnerov verejného sektora . Povinnosť zápisu do registra partnerov verejného sektora upravuje osobitný predpis – zákon č. 315/2016 Z. z. o registri partnerov verejného sektora a o zmene a doplnení niektorých zákonov
A18: ▪ | B18: dávam písomný súhlas k tomu, aby kópia našej ponuky bola zverejnená v Profile verejného obstarávateľa v súlade s § 64 ods. 1 písm. b) zákona o verejnom obstarávaní;
A19: ▪ | B19: naša spoločnosť nie je čo i len v potenciálnom konflikte záujmov vo vzťahu k verejnému obstarávateľovi, jeho zamestnancom alebo vo vzťahu k osobám, ktoré sa podieľali na príprave a realizácii verejného obstarávania; nevyvíjali a nebudeme vyvíjať voči žiadnej osobe na strane verejného obstarávateľa ktorá je alebo by mohla byť zainteresovaná v zmysle ustanovení § 23 ods. 3 zákona č. 343/2015 Z. z. o verejnom obstarávaní a o zmene a doplnení niektorých zákonov v znení neskorších predpisov („zainteresovaná osoba“) akékoľvek aktivity, ktoré vy mohli viesť k zvýhodneniu nášho postavenia vo verejnom obstarávaní; neposkytli a neposkytneme akejkoľvek, čo i len potenciálne zainteresovanej osobe priamo alebo nepriamo akúkoľvek finančnú alebo vecnú výhodu ako motiváciu alebo odmenu súvisiacu s týmto verejným obstarávaním a budeme bezodkladne informovať verejného obstarávateľa o akejkoľvek situácii, ktorá je považovaná za konflikt záujmov alebo ktorá by mohla viesť ku konfliktu záujmov kedykoľvek v priebehu procesu verejného obstarávania.
B21: V ................................. , dňa ...............................
B22: =IF('Príloha č.1'!B31:B31="","",'Príloha č.1'!B31:B31)
B24: meno, priezvisko, funkcia oprávnenej osoby
C25: podpis a pečiatka uchádzača

Sheet Príloha č.3
A1: Názov predmetu zákazky:
A2: ='Príloha č.1'!A2:D2 -> Nakládka, odvoz a zneškodnenie/zhodnotenie odpadu
A4: ČESTNÉ VYHLÁSENIE UCHÁDZAČA O NEULOŽENÍ ZÁKAZU ÚČASTI VO VEREJNOM OBSTARÁVANÍ
A6: Obchodný názov uchádzača: | C6: =IF('Príloha č.1'!$C$6="","",'Príloha č.1'!$C$6)
A7: Sídlo uchádzača: | C7: =IF('Príloha č.1'!$C$7="","",'Príloha č.1'!$C$7)
A8: IČO: | C8: =IF('Príloha č.1'!$C$8="","",'Príloha č.1'!$C$8)
A9: DIČ: | C9: =IF('Príloha č.1'!$C$9="","",'Príloha č.1'!$C$9)
A10: IČ DPH:
A12: Týmto vyhlasujem, že:
A13: - | B13: nemám uložený zákaz účasti vo verejnom obstarávaní potvrdený konečným rozhodnutím v Slovenskej republike a v štáte sídla, miesta podnikania alebo obvyklého pobytu.
A15: Zároveň prehlasujem, že som si vedomý následkov nepravdivého čestného vyhlásenia.
A17: V ................................................, dňa ........................
B20: meno, priezvisko, funkcia oprávnenej osoby
C21: podpis a pečiatka uchádzača

Sheet Príloha č. 4
A1: Názov predmetu zákazky:
A2: Nakládka, odvoz a zneškodnenie/zhodnotenie odpadu
A4: ČESTNÉ VYHLÁSENIE UCHÁDZAČA K UPLATŇOVANIU MEDZINÁRODNÝCH SANKCIÍ
A6: Obchodný názov uchádzača: | C6: =IF('Príloha č.1'!$C$6="","",'Príloha č.1'!$C$6)
A7: Sídlo uchádzača: | C7: =IF('Príloha č.1'!$C$7="","",'Príloha č.1'!$C$7)
A8: IČO: | C8: =IF('Príloha č.1'!$C$8="","",'Príloha č.1'!$C$8)
A9: DIČ: | C9: =IF('Príloha č.1'!$C$9="","",'Príloha č.1'!$C$9)
A10: IČ DPH:
A12: Týmto čestne vyhlasujem(e), že:
B13: v spoločnosti, ktorú zastupujem a ktorá podáva ponuku do predmetného verejného obstarávania a ktorá bude zároveň vykonávať plnenie zákazky, nefiguruje ruská účasť, ktorá prekračuje limity stanovené v článku 5k nariadenia Rady (EÚ) č. 833/2014 z 31. júla 2014 o reštriktívnych opatreniach s ohľadom na konanie Ruska, ktorým destabilizuje situáciu na Ukrajine v znení nariadenia Rady (EÚ) č. 2022/578 z 8. apríla 2022.
A14: Predovšetkým vyhlasujem(e), že:
B15: (a) dodávateľ, ktorého zastupujem (a žiadna zo spoločností, ktoré sú členmi nášho konzorcia), nie je ruským štátnym príslušníkom ani fyzickou alebo právnickou osobou, subjektom alebo orgánom so sídlom v Rusku;
B16: (b) dodávateľ, ktorého zastupujem (a žiadna zo spoločností, ktoré sú členmi nášho konzorcia), nie je právnickou osobou, subjektom alebo orgánom, ktorých vlastnícke práva priamo alebo nepriamo vlastní z viac ako 50 % subjekt uvedený v písmene a) tohto odseku;
B17: (c) ani ja, ani spoločnosť, ktorú zastupujeme, nie sme fyzická alebo právnická osoba, subjekt alebo orgán, ktorý koná v mene alebo na príkaz subjektu uvedeného v písmene a) alebo b) uvedených vyššie;
B18: (d) subdodávatelia, dodávatelia alebo subjekty, na ktorých kapacity sa dodávateľ, ktorého zastupujem spolieha, subjektami uvedenými v písmenách a) až c), nemajú účasť vyššiu ako 10 % hodnoty zákazky.
B19: Zároveň čestne vyhlasujem, že táto ponuka/žiadosť o účasť a realizácia plnenia podľa zmluvy, ktorá bude výsledkom daného verejného obstarávania zo strany hospodárskeho subjektu, ktorý zastupujem, nie je v rozpore so zákonom č. 289/2016 Z. z. o vykonávaní medzinárodných sankcií v znení neskorších predpisov, a teda najmä neporušuje akúkoľvek medzinárodnú sankciu upravenú v akomkoľvek predpise o medzinárodnej sankcii podľa § 2 písm. b) zákona č. 289/2016 Z. z. o vykonávaní medzinárodných sankcií v znení neskorších predpisov.
A20: Súčasne prehlasujem, že som si vedomý následkov nepravdivého čestného vyhlásenia.
A22: V ...................................... , dňa ........................
B25: meno, priezvisko, funkcia oprávnenej osoby
C26: podpis a pečiatka

Sheet Príloha č. 5 pre časť 1
A1: Názov predmetu zákazky: Nakládka, odvoz a zneškodnenie/zhodnotenie odpadu
A2: Časť 1: Nebezpečný odpad a nebezpečný odpad zo zdravotnej starostlivosti
A4: NÁVRH NA PLNENIE KRITÉRIA - KALKULÁCIA CENY
A6: Katalógové číslo odpadu | C6: Názov položky - odpadu | E6: Merná jednotka (MJ) | F6: Počet MJ (predpoklad. množstvo odpadu na obdobie 24 mesiacov) | G6: Frekvencia vývozu odpadu/ 12 mesiacov | H6: Cena za 1 MJ, t.j. 1 kg odpadu v EUR | L6: Cena celkom na obdobie 24 mesiacov v EUR
H8: bez DPH | I8: sadzba DPH v % | J8: suma DPH | K8: s DPH | L8: bez DPH | M8: sadzba DPH v % | N8: suma DPH | O8: s DPH
A9: 18 01 03 | C9: Odpady, ktorých zber a zneškodňovanie podliehajú osobitným požiadavkám z hľadiska prevencie nákazy | E9: kg | F9: 540000 | G9: 3x týždenne | H9: 0 | I9: 0 | J9: =H9*I9 -> 0 | K9: =H9+J9 -> 0 | L9: =H9*F9 -> 0 | M9: 0 | N9: =L9*M9 -> 0 | O9: =L9+N9 -> 0
A10: 18 01 08 | C10: Cytotoxické a cytostatické liečivá | E10: kg | F10: 5000 | G10: 1x mesačne | H10: 0 | I10: 0 | J10: =H10*I10 -> 0 | K10: =H10+J10 -> 0 | L10: =H10*F10 -> 0 | M10: 0 | N10: =L10*M10 -> 0 | O10: =L10+N10 -> 0
A11: 18 01 06 | C11: Chemikálie pozostávajúce z nebezpečných látok alebo obsahujúce nebezpečné látky | E11: kg | F11: 26000 | G11: 1x týždenne | H11: 0 | I11: 0 | J11: =H11*I11 -> 0 | K11: =H11+J11 -> 0 | L11: =H11*F11 -> 0 | M11: 0 | N11: =L11*M11 -> 0 | O11: =L11+N11 -> 0
A12: 18 01 10 | C12: Amalgámový odpad z dentálnej starostlivosti | E12: kg | F12: 6 | G12: 1x ročne | H12: 0 | I12: 0 | J12: =H12*I12 -> 0 | K12: =H12+J12 -> 0 | L12: =H12*F12 -> 0 | M12: 0 | N12: =L12*M12 -> 0 | O12: =L12+N12 -> 0
A13: 07 06 04 | C13: Iné organické rozpúšťadlá, premývacie kvapaliny a matečné lúhy | E13: kg | F13: 1200 | G13: 1x kvartálne | H13: 0 | I13: 0 | J13: =H13*I13 -> 0 | K13: =H13+J13 -> 0 | L13: =H13*F13 -> 0 | M13: 0 | N13: =L13*M13 -> 0 | O13: =L13+N13 -> 0
A14: 08 03 17 | C14: Odpadový toner do tlačiarne obsahujúci nebezpečné látky | E14: kg | F14: 2000 | G14: 2x ročne | H14: 0 | I14: 0 | J14: =H14*I14 -> 0 | K14: =H14+J14 -> 0 | L14: =H14*F14 -> 0 | M14: 0 | N14: =L14*M14 -> 0 | O14: =L14+N14 -> 0
A15: 15 01 10 | C15: Obaly obsahujúce zvyšky nebezpečných látok alebo kontaminované nebezpečnými látkami | E15: kg | F15: 2000 | G15: 2x ročne | H15: 0 | I15: 0 | J15: =H15*I15 -> 0 | K15: =H15+J15 -> 0 | L15: =H15*F15 -> 0 | M15: 0 | N15: =L15*M15 -> 0 | O15: =L15+N15 -> 0
A16: 15 01 11 | C16: Kovové obaly obsahujúce nebezpečný tuhý pórovitý základný materiál (napríklad AZBEST) vrátane prázdnych tlakových nádob | E16: kg | F16: 2000 | G16: 2x ročne | H16: 0 | I16: 0 | J16: =H16*I16 -> 0 | K16: =H16+J16 -> 0 | L16: =H16*F16 -> 0 | M16: 0 | N16: =L16*M16 -> 0 | O16: =L16+N16 -> 0
A17: 15 02 02 | C17: Absorbenty, filtračné materiály vrátane olejových filtrov inak nešpecifikovaných, handry na čistenie, ochranné odevy kontaminované nebezpečnými látkami | E17: kg | F17: 400 | G17: 2x ročne | H17: 0 | I17: 0 | J17: =H17*I17 -> 0 | K17: =H17+J17 -> 0 | L17: =H17*F17 -> 0 | M17: 0 | N17: =L17*M17 -> 0 | O17: =L17+N17 -> 0
A18: 13 02 05 | C18: Nechlórované minerálne motorové, prevodové a mazacie oleje | E18: kg | F18: 1200 | G18: 1x ročne | H18: 0 | I18: 0 | J18: =H18*I18 -> 0 | K18: =H18+J18 -> 0 | L18: =H18*F18 -> 0 | M18: 0 | N18: =L18*M18 -> 0 | O18: =L18+N18 -> 0
A19: 20 01 21 | C19: Žiarivky a iný odpad obsahujúci ortuť | E19: kg | F19: 80 | G19: 1x ročne | H19: 0 | I19: 0 | J19: =H19*I19 -> 0 | K19: =H19+J19 -> 0 | L19: =H19*F19 -> 0 | M19: 0 | N19: =L19*M19 -> 0 | O19: =L19+N19 -> 0
A20: Celkové množstvo odpadu za 24 mesiacov | E20: kg | F20: =SUM(F9:F19) -> 579886 | G20: Cena celkom : | L20: =SUM(L9:L19) -> 0 | M20: x | N20: x | O20: =SUM(O9:O19) -> 0
A22: Obchodný názov uchádzača:
A23: Sídlo uchádzača: | G23: meno, priezvisko, funkcia oprávnenej osoby
A24: IČO: | G24: podpis a pečiatka uchádzača
A25: DIČ:
A26: IČ DPH:
E28: V ..........................................., dňa ............................

Sheet Príloha č. 5 pre časť 2
A1: Názov predmetu zákazky: Nakládka, odvoz a zneškodnenie/zhodnotenie odpadu
A2: Časť 2: Nie nebezpečný odpad, objemný a komunálny odpad
A4: NÁVRH NA PLNENIE KRITÉRIA - KALKULÁCIA CENY
B6: Číslo odpadu | C6: Názov odpadu | D6: Množstvo v (t) /24 mesiacov | E6: Jednotková cena v EUR bez DPH | F6: Cena celkom v EUR bez DPH/ 24 mesiacov | G6: Cena celkom v EUR s DPH/ 24 mesiacov
B7: 18 01 04 | C7: odpady, ktorých zber a zneškodňovanie nepodliehajú .. | D7: 1300 | E7: 0 | F7: =D7*E7 -> 0 | G7: =F7*1.23 -> 0
B8: 15 01 06 | C8: zmiešané obaly | D8: 120 | E8: 0 | F8: =D8*E8 -> 0 | G8: =F8*1.23 -> 0
B9: 15 01 01 | C9: obaly z papiera a lepenky | D9: 166 | E9: 0 | F9: =D9*E9 -> 0 | G9: =F9*1.23 -> 0
B10: 15 01 02 | C10: obaly z plastov | D10: 30 | E10: 0 | F10: =D10*E10 -> 0 | G10: =F10*1.23 -> 0
B11: 15 01 07 | C11: obaly zo skla | D11: 20 | E11: 0 | F11: =D11*E11 -> 0 | G11: =F11*1.23 -> 0
B12: 15 02 03 | C12: absorbenty, filtračné materiály, handry na čistenie .. | D12: 8 | E12: 0 | F12: =D12*E12 -> 0 | G12: =F12*1.23 -> 0
B13: 17 01 07 | C13: Zmesi betónu, tehál. obkladačiek, dlaždíc a keramiky | D13: 20 | E13: 0 | F13: =D13*E13 -> 0 | G13: =F13*1.23 -> 0
B14: 17 09 04 | C14: zmiešané odpady zo stavieb a demolácií iné ako ... | D14: 166 | E14: 0 | F14: =D14*E14 -> 0 | G14: =F14*1.23 -> 0
B15: 20 02 01 | C15: biologicky rozložiteľný odpad | D15: 60 | E15: 0 | F15: =D15*E15 -> 0 | G15: =F15*1.23 -> 0
B16: 17 05 04 | C16: zemina a kamenivo iné ako uvedené v 170503 | D16: 20 | E16: 0 | F16: =D16*E16 -> 0 | G16: =F16*1.23 -> 0
B17: 20 03 07 | C17: objemný odpad | D17: 190 | E17: 0 | F17: =D17*E17 -> 0 | G17: =F17*1.23 -> 0
B18: Cena celkom | F18: =SUM(F7:F17) -> 0 | G18: =SUM(G7:G17) -> 0
B20: Dodanie kontajnerov | C20: Cena za 1 mesiac v EUR bez DPH | D20: Počet mesiacov | E20: Množstvo v (ks) | F20: Cena celkom v EUR bez DPH/ 24 mesiacov | G20: Cena celkom v EUR s DPH /24 mesiacov
B21: kontajner lisovací 30m³ 18 01 04 | C21: 0 | D21: 24 | E21: 2 | F21: =C21*D21*2 -> 0 | G21: =F21*1.23 -> 0
B22: kontajner lisovací 30m³ 15 01 01 | C22: 0 | D22: 24 | E22: 2 | F22: =(C22*D22)*E22 -> 0 | G22: =SUM(F22*1.23) -> 0
B23: kontajner 1100L 18 01 04 | C23: 0 | D23: 24 | E23: 16 | F23: =(C23*D23)*E23 -> 0 | G23: =SUM(F23*1.23) -> 0
B24: kontajner 16m³ 20 03 07 | C24: 0 | D24: 24 | E24: 2 | F24: =(C24*D24)*E24 -> 0 | G24: =SUM(F24*1.23) -> 0
B25: kontajner 6 - 8m³ 15 01 06 | C25: 0 | D25: 24 | E25: 2 | F25: =(C25*D25)*E25 -> 0 | G25: =SUM(F25*1.23) -> 0
B26: kontajner 6 - 8m³ 17 09 04 | C26: 0 | D26: 24 | E26: 1 | F26: =(C26*D26)*E26 -> 0 | G26: =SUM(F26*1.23) -> 0
B27: kontajner 30m³ 15 01 01 | C27: 0 | D27: 24 | E27: 1 | F27: =(C27*D27)*E27 -> 0 | G27: =SUM(F27*1.23) -> 0
B28: kontajner 1100L 15 01 02 | C28: 0 | D28: 24 | E28: 12 | F28: =(C28*D28)*E28 -> 0 | G28: =SUM(F28*1.23) -> 0
B29: kontajner 1100L 15 01 07 | C29: 0 | D29: 24 | E29: 4 | F29: =(C29*D29)*E29 -> 0 | G29: =SUM(F29*1.23) -> 0
B30: Cena celkom | F30: =SUM(F21:F29) -> 0 | G30: =SUM(G21:G29) -> 0
B32: AREÁL č. 1 Tr. SNP 1 | C32: KONTAJNER /ODPAD | D32: MJ | E32: Jednotková cena v EUR bez DPH | F32: Interval /24 mesiacov | G32: dni v týždni | H32: počet kont. v (ks) | I32: interval x v týždni | J32: Cena celkom v EUR bez DPH/24 mesiacov | K32: Cena celkom v EUR s DPH/24 mesiacov
B33: JAZDNY VÝKON/lis.abrol/18 01 04 | C33: kontajner lisovací 30m³ 18 01 04 | D33: OBR | E33: 0 | F33: 122 | G33: každý 6 deň | H33: 1 | I33: 1 | J33: =(F33*E33) -> 0 | K33: =J33*1.23 -> 0
B34: JAZDNÝ VÝKON/vkk/15 01 06 | C34: kontajner 6 - 8m³ 15 01 06 | D34: OBR | E34: 0 | F34: 104 | G34: štvrtok | H34: 1 | I34: 1 | J34: =(F34*E34) -> 0 | K34: =J34*1.23 -> 0
B35: JAZDNÝ VÝKON/vkk/15 01 06 | C35: kontajner 6 - 8m³ 15 01 06 | D35: OBR | E35: 0 | F35: 104 | G35: utorok | H35: 1 | I35: 1 | J35: =SUM(F35*E35) -> 0 | K35: =J35*1.23 -> 0
B36: JAZDNÝ VÝKON/vkk/17 09 04 | C36: kontajner 6 - 8m³ 17 09 04 | D36: OBR | E36: 0 | F36: 104 | G36: objednávka | H36: 1 | I36: 1 | J36: =SUM(E36*F36) -> 0 | K36: =J36*1.23 -> 0
B37: JAZDNÝ VÝKON/lis abrol/15 01 01 | C37: kontajner lisovací 30m³ 15 01 01 | D37: OBR | E37: 0 | F37: 36 | G37: objednávka | H37: 1 | I37: 0.5 | J37: =(F37*E37) -> 0 | K37: =J37*1.23 -> 0
B38: JAZDNÝ VÝKON/ 20 03 07 | C38: kontajner 16 -30 m³ 20 03 07 | D38: OBR | E38: 0 | F38: 104 | G38: objednávka | H38: 1 | I38: 1 | J38: =(F38*E38) -> 0 | K38: =J38*1.23 -> 0
B39: ODVOZ SZ 1100L/15 01 02 | C39: kontajner 1100L 15 01 02 | D39: MAN | E39: 0 | F39: 416 | H39: 4 | I39: 1 | J39: =(F39*E39) -> 0 | K39: =J39*1.23 -> 0
B40: ODVOZ SZ 1100L/15 01 07 | C40: kontajner 1100L 15 01 07 | D40: MAN | E40: 0 | F40: 104 | H40: 1 | I40: 0.5 | J40: =(F40*E40) -> 0 | K40: =J40*1.23 -> 0
B41: Cena celkom | J41: =SUM(J33:J40) -> 0 | K41: =SUM(K33:K40) -> 0
B43: AREÁL č. 2 RASTISLAVOVA 43 | C43: KONTAJNER /ODPAD | D43: MJ | E43: Jednotková cena v EUR bez DPH | F43: Interval /24 mesiacov | G43: dni v týždni | H43: počet kontanerov (ks) | I43: interval x v týždni | J43: Cena celkom v EUR bez DPH/ 24 mesiacov | K43: Cena celkom v EUR s DPH/24 mesiacov
B44: JAZDNÝ VÝKON/lis.abrol/18 01 04 | C44: kontajner lisovací 30m³ 18 01 04 | D44: OBR | E44: 0 | F44: 50 | G44: piatok | H44: 1 | I44: 0.5 | J44: =(F44*E44) -> 0 | K44: =J44*1.23 -> 0
B45: ODVOZ O 1100L/18 01 04 | C45: kontajner 1100L 18 01 04 | D45: MAN | E45: 0 | F45: 10160 | G45: pond. až sobota | H45: 16 | I45: 6 | J45: =(F45*E45) -> 0 | K45: =J45*1.23 -> 0
...

Sheet Príloha č. 7 pre časť 1
A1: Názov predmetu zákazky: Nakládka, odvoz a zneškodnenie/zhodnotenie odpadu
A2: Časť 1: Nebezpečný odpad a nebezpečný odpad zo zdravotnej starostlivosti
A4: Zoznam poskytnutých služieb
A7: Uchádzač: .....................................................................................................................................................................................................................
A8: (uviesť obchodné meno a sídlo uchádzača alebo miesto podnikania)
A10: Zoznam poskytnutých služieb za predchádzajúce 3 roky od vyhlásenia verejného obstarávania
A12: Obchodné meno/názov zmluvného partnera (poskytovateľa), adresa jeho sídla alebo miesta podnikania, IČO | B12: Názov/stručný opis predmetu plnenia | C12: Cena za poskytnuté služby v EUR bez DPH resp. v EUR s DPH | D12: Lehota plnenia (mesiac a rok) | E12: Objednávateľ - kontaktná osoba, meno, priezvisko, telefónne číslo, e-mail
A23: V ........................................, dňa ...................................
A26: meno, priezvisko, funkcia oprávnenej osoby
B27: podpis a pečiatka

Sheet Príloha č. 7 pre časť 2
A1: Názov predmetu zákazky: Nakládka, odvoz a zneškodnenie/zhodnotenie odpadu
A2: Časť 2: Nie nebezpečný odpad, objemný a komunálny odpad
A4: Zoznam poskytnutých služieb
A7: Uchádzač: .....................................................................................................................................................................................................................
A8: (uviesť obchodné meno a sídlo uchádzača alebo miesto podnikania)
A10: Zoznam poskytnutých služieb za predchádzajúce 3 roky od vyhlásenia verejného obstarávania
A12: Obchodné meno/názov zmluvného partnera (poskytovateľa), adresa jeho sídla alebo miesta podnikania, IČO | B12: Názov/stručný opis predmetu plnenia | C12: Cena za poskytnuté služby v EUR bez DPH resp. v EUR s DPH | D12: Lehota plnenia (mesiac a rok) | E12: Objednávateľ - kontaktná osoba, meno, priezvisko, telefónne číslo, e-mail
A23: V ........................................, dňa ...................................
A26: meno, priezvisko, funkcia oprávnenej osoby
B27: podpis a pečiatka

Sheet Príloha č. 8
A1: Názov predmetu zákazky:
A2: ='Príloha č.1'!A2:D2 -> Nakládka, odvoz a zneškodnenie/zhodnotenie odpadu
A4: ČESTNÉ VYHLÁSENIE UCHÁDZAČA k splneniu podmienky účasti podľa § 32 ods. 1 písm. a) ZVO v nadväznosti na § 32 ods. 7 a 8 ZVO
A6: Obchodný názov uchádzača: | C6: =IF('Príloha č.1'!$C$6="","",'Príloha č.1'!$C$6)
A7: V zastúpení:
A8: Sídlo uchádzača: | C8: =IF('Príloha č.1'!$C$7="","",'Príloha č.1'!$C$7)
A9: IČO: | C9: =IF('Príloha č.1'!$C$8="","",'Príloha č.1'!$C$8)
A10: DIČ: | C10: =IF('Príloha č.1'!$C$9="","",'Príloha č.1'!$C$9)
A13: ▪ | B13: V zmysle § 32 ods. 1 písm. a) ZVO podmienku účasti musí spĺňať aj iná osoba ako osoba podľa § 32 ods.1 písm. a) ZVO, ak táto osoba má právo za ňu konať, práva spojené s rozhodovaním alebo kontrolou v hospodárskom subjekte, ktorý sa chce zúčastniť verejného obstarávania
A14: ▪ | B14: Za takúto osobu sa považuje osoba, ktorá má rozhodujúci vplyv na činnosť uchádzača alebo záujemcu, jeho strategické ciele alebo významné rozhodnutia prostredníctvom vlastníckeho práva, finančného podielu alebo pravidiel, ktorými sa uchádzač alebo záujemca spravuje, pričom rozhodujúcim vplyvom sa rozumie, ak iná osoba a) vlastní väčšinu akcií alebo väčšinový obchodný podiel u uchádzača alebo záujemcu, b) má väčšinu hlasovacích práv u uchádzača alebo záujemcu, c) má právo vymenúvať alebo odvolávať väčšinu členov štatutárneho orgánu alebo dozorného orgánu uchádzača alebo záujemcu alebo d) má právo vykonávať rozhodujúci vplyv na základe dohody uzavretej s uchádzačom alebo záujemcom alebo na základe spoločenskej zmluvy, zakladateľskej listiny alebo stanov, ak to umožňuje právo štátu, ktorými sa táto osoba riadi.
A15: ▪ | B15: Splnenie podmienky účasti preukazuje uchádzač alebo záujemca verejnému obstarávateľovi predložením čestného vyhlásenia alebo vyhlásenia podľa § 32 ods. 5 ZVO, ak právo štátu uchádzača alebo záujemcu so sídlom, miestom podnikania alebo obvyklým pobytom mimo územia Slovenskej republiky neupravuje inštitút čestného vyhlásenia, ako súčasť ponuky.
A16: V súvislosti s uvedeným verejným obstarávaním a na vyššie uvedené účely, predkladám toto čestné vyhlásenie a zároveň predkladám zoznam osôb podľa § 32 ods. 7 a 8 ZVO a čestne vyhlasujem, že nižšie uvedené osoby spĺňajú podmienkui účasti podľa § 32 ods.1 písm. a) ZVO
A17: Ako uchádzač v tomto verejnom obstarávaní čestne vyhlasujem, že
B18: nie je mi známa iná osoba podľa § 32 odseku 7 ZVO, ktorá zároveň musí spĺňať podmienky účasti podľa § 32 odseku 1 písm. a) ZVO
B20: sú mi známe iné osoby podľa § 32 odseku 7 ZVO, ktoré zároveň musia spĺňať podmienky účasti podľa § 32 ods. 1 písm. a) ZVO
A22: Mená osôb, ktoré podľa § 32 ods. 7 ZVO musia spĺňať podmienky účasti podľa § 32 odseku 1 písm. a) ZVO
B28: Čestne vyhlasujem, že osoby uvedené vyššie spĺňajú podmienky účasti podľa § 32 odseku 1 písm. a) ZVO.
A30: V ................................................, dňa ........................
B33: meno, priezvisko, funkcia oprávnenej osoby
C34: podpis a pečiatka

Sheet Príloha č. 9
A1: Názov predmetu zákazky:
A2: ='Príloha č.1'!A2:D2 -> Nakládka, odvoz a zneškodnenie/zhodnotenie odpadu
A4: PLNOMOCENSTVO PRE ČLENA SKUPINY DODÁVATEĽOV
A6: Splnomocniteľ, resp. splnomocnitelia:
A7: Uchádzač uvedie aktuálne a presné znenie obchodného mena, platnú adresu sídla firmy, údaj o zápise, IČO člena skupiny dodávateľov, zastúpený meno/mená a priezvisko/priezviská, trvalý pobyt štatutárneho orgánu/členov štatutárneho orgánu (ak ide o právnickú osobu), meno, priezvisko, miesto podnikania, údaj o zápise, IČO člena skupiny dodávateľov (ak ide o fyzickú osobu), doplniť podľa potreby)
A8: udeľuje/ú splnomocnenie
A9: splnomocnencovi - lídrovi skupiny dodávateľov:
A11: Obchodné meno, sídlo, údaj o zápise, IČO lídra skupiny dodávateľov, zastúpený meno/mená a priezvisko/priezviská, trvalý pobyt štatutárneho orgánu/členov štatutárneho orgánu (ak ide o právnickú osobu), meno, priezvisko, miesto podnikania, údaj o zápise, IČO lídra skupiny (vedúceho skupiny) dodávateľov (ak ide o fyzickú osobu):
A12: na konanie v mene všetkých členov skupiny dodávateľov, prijímanie pokynov vo verejnom obstarávaní na predmet zákazky „Nakladanie, odvoz a zneškodnenie/zhodnotenie odpadu“, na doručovanie dokumentov od verejného obstarávateľa, na konanie v mene skupiny dodávateľov pre prípad prijatia ponuky verejným obstarávateľom, k podpisu dokumentov a dokladov a návrhu zmluvy, predkladaných ako súčasť ponuky, ku komunikácii v procese verejného obstarávania, a to v pozícii lídra skupiny (vedúceho skupiny) dodávateľov.
A13: V ............................., dňa ........... | C13: Podpis: .......................................................................
C14: (meno, priezvisko a funkciu oprávnenej osoby uchádzača)
A17: V ............................., dňa .............. | C17: Podpis: .......................................................................
C18: (meno, priezvisko a funkciu oprávnenej osoby uchádzača)
A21: V ............................., dňa ................ | C21: podpis: ...................................................................
C22: (meno, priezvisko a funkciu oprávnenej osoby uchádzača)
A24: Plnomocenstvo prijímam:
A25: V ..............................., dňa...........................
A26: Poznámka:
A27: ▪ dátum musí byť aktuálny vo vzťahu ku dňu uplynutia lehoty na predkladanie ponúk,
A28: ▪ ak je uchádzačom skupina dodávateľov toto splnomocnenie je súčasťou ponuky.
