Workbook

Sheet Ponuka
B2: Príloha č. 1 - Ponuka v koncesii "Koncesia na služby hromadného stravovania"
B4: Obchodné meno uchádzača:
B5: Sídlo uchádzača:
B6: Štatutárny zástupca:
B7: IČO:
B8: IČ DPH:
B9: Tel. číslo:
B10: Platca/Neplatca DPH: | D10: Som platcom DPH
B12: Čestné vyhlásenia podľa ZVO
B13: Predložením tejto ponuky prehlasujem, že som sa oboznámil so znením čestného vyhlásenia uvedeným v hárku "Osobné postavenie" tohto dokumentu a potvrdzujem všetky tam uvedené skutočnosti. | J13: TRUE
B14: Predložením tejto ponuky čestne vyhlasujem, že som sa oboznámil so znením čestného vyhlásenia uvedeným v hárku "Koneční užívatelia výhod" tohto dokumentu a potvrdzujem všetky tam uvedené skutočnosti. | J14: TRUE
B15: Predložením tejto ponuky čestne vyhlasujem, že som sa oboznámil so znením čestného vyhlásenia uvedeným v hárku "Medzinárodné sankcie" tohto dokumentu a potvrdzujem všetky tam uvedené skutočnosti. | J15: TRUE
B16: Predložením tejto ponuky čestne vyhlasujem, že spĺňam všetky podmienky účasti a že nemám uložený zákaz účasti vo verejnom obstarávaní potvrdený konečným rozhodnutím v Slovenskej republike a v štáte sídla, miesta podnikania alebo obvyklého pobytu. | J16: TRUE
B17: Predložením tejto ponuky čestne vyhlasujem, že postupujem v súlade s etickým kódexom uchádzača vydaným Úradom pre verejné obstarávanie: https://www.uvo.gov.sk/zaujemca-uchadzac/eticky-kodex-zaujemcu-uchadzaca | J17: TRUE
C19: Podmienky účasti technickej alebo odbornej spôsobilosti
B20: Zoznam poskytnutých služieb - referencie
B21: Uchádzač predloží zoznam poskytnutých služieb za predchádzajúcich päť rokov od vyhlásenia verejného obstarávania, ktorým preukáže, predchádzajúcu skúsenosť podľa bodu 3.1. až 3.8, časti B KD.
B22: P.č. | C22: Názov a opis poskytovaných služieb | G22: Obdobie poskytovania služieb a konkrétne 24-mesačné obdobie použité na preukázanie podmienky účasti, ak je odlišné | H22: Počet hlavných teplých jedál poskytnutých v každom výdajnom čase určenom na preukázanie podmienky počas príslušného obdobia | I22: Názov a kontaktné údaje odberateľa (meno, email., tel. č.)
B23: 1
B24: 2
B25: 3
B26: Kľúčoví odborníci
B27: Uchádzač je povinný preukázať, že na plnenie zákazky disponuje kľúčovými odborníkmi, ktorí majú potrebné vzdelanie a odbornú prax na poskytnutie služieb, ktoré sú predmetom tejto koncesie. Za odborníkov je potrebné predloženie dokladov a splnenie podmienok podľa bodu 3.9. až 3.16, časti B KD.
B28: Vedúci stravovacej prevádzky | D28: meno a priezvisko | G28: Nutričný špecialista | I28: meno a priezvisko
B29: Je vedúci stravovacej prevádzky internou kapacitou (zamestnancom) uchádzača? | F29: áno | G29: Je nutričný špecialista internou kapacitou (zamestnancom) uchádzača? | J29: áno
B30: V prípade, ak uchádzač uvedie "nie". Súčasťou ponuky uchádzača musia byť v tomto prípade: - písomná zmluva uzavretá medzi uchádzačom a osobou, ktorej spôsobilosť využíva na preukázanie technickej spôsobilosti alebo odbornej spôsobilosti (scan); - doklady v zmysle § 32 ods. 2 ZVO preukazujúce splnenie podmienok účasti týkajúce sa osobného postavenia osoby, ktorej kapacity majú byť použité na preukázanie technickej spôsobilosti alebo odbornej spôsobilosti v prípade, ak iná osoba nie je zapísaná v Zozname hospodárskych subjektov vedenom Úradom pre verejné obstarávanie.
B32: Kritériá na vyhodnotenie ponúk
B33: K1: Odborná úroveň aplikácie Štandardu stravovania
B34: Uchádzač predloží vzorové 14-dňové jedálne lístky pre obdobia 1.–14. mája a 1.–14. októbra, vypracované pre všetky požadované druhy stravovania v hárkoch K1a a K1b. Odborná komisia posúdi odbornú úroveň aplikácie Štandardu stravovania nad rámec minimálnych požiadaviek, najmä pestrosť, výživovú vyváženosť, sezónnosť, hospodárnosť a prevádzkovú realizovateľnosť riešenia. Finančný bonus za K1 môže byť 0 %, 4 %, 12 % alebo 20 % z Ponukovej ceny. Podrobné pravidlá hodnotenia a záväznosti riešenia sú uvedené v časti C KD.
B36: K2: Nadštandardné opatrenia na zvyšovanie kvality poskytovania stravovacích služieb
B37: Uchádzač môže v samostatných formulároch predložiť najviac tri nadštandardné opatrenia. Pri každom opatrení uvedie jeho opis, prínos pre prijímateľov alebo Obstarávateľa a spôsob preukázania realizovateľnosti. Opatrenie musí presahovať minimálne požiadavky KD a musí byť konkrétne, dlhodobo realizovateľné a objektívne overiteľné. Za každé opatrenie možno priznať finančný bonus 0 %, 1 %, 3 % alebo 5 %, najviac spolu 15 % z Ponukovej ceny.
B39: K3: Cena za poskytovanie stravovacích služieb
B40: Názov položky | F40: Cena celkom bez DPH | H40: Výška DPH | I40: Cena celkom
B41: Cena za poskytovanie stravovacích služieb – časť 1 DJŽ | F41: ='K3-1 DJŽ'!H31 -> 0 | H41: ='K3-1 DJŽ'!I31 -> 0 | I41: ='K3-1 DJŽ'!J31 -> 0
B42: Cena za poskytovanie stravovacích služieb – časť 2 DPK | F42: ='K3-2 DPK'!H32 -> 0 | H42: ='K3-2 DPK'!I32 -> 0 | I42: ='K3-2 DPK'!J32 -> 0
B43: Cena za poskytovanie stravovacích služieb – časť 3 DSL | F43: ='K3-3 DSL'!H32 -> 0 | H43: ='K3-3 DSL'!I32 -> 0 | I43: ='K3-3 DSL'!J32 -> 0
B44: Cena za poskytovanie stravovacích služieb – časť 4 DTV | F44: ='K3-4 DTV'!H32 -> 0 | H44: ='K3-4 DTV'!I32 -> 0 | I44: ='K3-4 DTV'!J32 -> 0
B45: Cena za poskytovanie stravovacích služieb – časť 5 ARCHA | F45: ='K3-5 ARCHA'!H34 -> 0 | H45: ='K3-5 ARCHA'!I34 -> 0 | I45: ='K3-5 ARCHA'!J34 -> 0
B46: Cena za poskytovanie stravovacích služieb – časť 6 GERIUM | F46: ='K3-6 GERIUM'!H32 -> 0 | H46: ='K3-6 GERIUM'!I32 -> 0 | I46: ='K3-6 GERIUM'!J32 -> 0
B48: V ... | D48: Dátum: | H48: Podpis

Sheet Osobné postavenie
B2: Čestné vyhlásenie podľa § 32 ods. 7 ZVO
B4: Ako uchádzač v tomto verejnom obstarávaní "Koncesia na služby hromadného stravovania"
B6: čestne vyhlasujem,
B8: že v spoločnosti uchádazača pôsobia nasledovné osoby splňajúce podmienky stanovené v § 32 ods. 8 ZVO:
B10: 1. Meno Priezvisko, funkcia v spoločnosti
B11: 2. Meno Priezvisko, funkcia v spoločnosti
B12: 3. Meno Priezvisko, funkcia v spoločnosti
B13: 4. ... v prípade potreby doplňte ďalšie riadky
B15: Zároveň čestne vhylasujem, že všetky vyššie uvedené osoby spĺňajú podmienky účasti osobného postavenia podľa § 32 ods. 1 písm. a) ZVO.
B17: V prípade, že vyššie nie sú uvedené žiadne osoby, čestne prehlasujem, že žiadne takéto osoby v našej spoločnosti nepôsobia.

Sheet Koneční užívatelia výhod
B2: Čestné vyhlásenie o konečných užívateľoch výhod
B4: Ako uchádzač v tomto verejnom obstarávaní "Koncesia na služby hromadného stravovania"
B6: čestne vyhlasujem,
B8: že som si vedomý skutočnosti, že verejný obstarávateľ nesmie uzavrieť zmluvu s uchádzačom, ktorý má povinnosť zapisovať sa do registra partnerov verejného sektora alebo s uchádzačom, ktorého subdodávateľ, ktorý má povinnosť zapisovať sa do registra partnerov verejného sektora, a v registri partnerov verejného sektora má zapísaného konečného užívateľa výhod, ktorým je:
B10: a) prezident Slovenskej republiky,
B11: b) člen vlády,
B12: c) vedúci ústredného orgánu štátnej správy, ktorý nie je členom vlády,
B13: d) vedúci orgánu štátnej správy s celoslovenskou pôsobnosťou,
B14: e) sudca Ústavného súdu Slovenskej republiky alebo sudca,
B15: f) generálny prokurátor Slovenskej republiky, špeciálny prokurátor alebo prokurátor,
B16: g) verejný ochranca práv,
B17: h) predseda Najvyššieho kontrolného úradu Slovenskej republiky a podpredseda Najvyššieho kontrolného úradu Slovenskej republiky,
... B26: Uchádzač ďalej vyhlasuje, že si je vedomý právnych následkov uvedenia nepravdivých informácií v tomto vyhlásení alebo zamlčania takejto osoby.

Sheet Medzinárodné sankcie
B2: Čestné vyhlásenie k uplatňovaniu medzinárodných sankcií
B4: Ako uchádzač v tomto verejnom obstarávaní "Koncesia na služby hromadného stravovania"
B6: čestne vyhlasujem,
B8: že v spoločnosti uchádzača nefiguruje ruská účasť, ktorá prekračuje limity stanovené v článku 5k nariadenia Rady (EÚ) č. 833/2014 z 31. júla 2014 o reštriktívnych opatreniach s ohľadom na konanie Ruska, ktorým destabilizuje situáciu na Ukrajine v znení nariadenia Rady (EÚ) č. 2022/576 z 8. apríla 2022.
B9: Predovšetkým vyhlasujem, že:
B11: a) uchádzač ani členovia jeho orgánov nie sú ruským štátnym príslušníkom ani fyzickou alebo právnickou osobou, subjektom alebo orgánom so sídlom/usadeným v Rusku;
B13: b) uchádzač ani členovia jeho orgánov nie sú právnickou osobou, subjektom alebo orgánom, ktorých vlastnícke práva priamo alebo nepriamo vlastní z viac ako 50% subjekt uvedený v písmene a) tohto Čestného vyhlásenia;
B15: c) uchádzač ani členovia jeho orgánov nie sú fyzická alebo právnická osoba, subjekt alebo orgán, ktorý koná v mene alebo na základe pokynov subjektu uvedeného v písmene a) alebo b) tohto Čestného vyhlásenia;
B17: d) subjekty uvedené v písmenách a) až c) nemajú účasť vyššiu ako 10% hodnoty zákazky v subdodávateľovi, dodávateľovi alebo v subjekte, ktorého kapacity úspešný uchádzač využíva na účely plnenia zákazky podľa § 34 ods. 3 zákona č. 343/2015 Z. z. o verejnom obstarávaní a o zmene a doplnení niektorých zákonov v znení neskorších predpisov.
B19: Zároveň čestne vyhlasujem, že realizácia plnenia podľa zmluvy, ktorá bude výsledkom daného verejného obstarávania zo strany úspešného uchádzača nie je v rozpore so zákonom č. 289/2016 Z. z. o vykonávaní medzinárodných sankcií v znení neskorších predpisov, a teda najmä neporušuje akúkoľvek medzinárodnú sankciu upravenú v akomkoľvek predpise o medzinárodnej sankcii podľa § 2 písm. b) zákona č. 289/2016 Z. z. o vykonávaní medzinárodných sankcií v znení neskorších predpisov.

Sheet K1 – Vzorový jedálny lístok
B2: K1 – Vzorové 14-dňové jedálne lístky a odborné princípy | C2: K1 – Vzorové mesačné jedálne lístky a odborné princípy | D2: K1 – Vzorové mesačné jedálne lístky a odborné princípy | E2: K1 – Vzorové mesačné jedálne lístky a odborné princípy | F2: K1 – Vzorové mesačné jedálne lístky a odborné princípy | G2: K1 – Vzorové mesačné jedálne lístky a odborné princípy | H2: K1 – Vzorové mesačné jedálne lístky a odborné princípy | I2: K1 – Vzorové mesačné jedálne lístky a odborné princípy | J2: K1 – Vzorové mesačné jedálne lístky a odborné princípy
B4: Rozsah predloženia | C4: Rozsah predloženia | D4: Rozsah predloženia | E4: Rozsah predloženia | F4: Rozsah predloženia | G4: Rozsah predloženia | H4: Rozsah predloženia | I4: Rozsah predloženia | J4: Rozsah predloženia
B5: Uchádzač vyplní dva 14-dňové jedálne lístky – pre obdobie 1. až 14. mája a 1. až 14. októbra – v samostatných hárkoch K1a – Máj a K1b – Október. Modré bunky vypĺňa uchádzač; biele bunky sa nevypĺňajú. | C5: Uchádzač vyplní dva mesačné jedálne lístky – pre mesiac máj a pre mesiac október – v samostatných hárkoch K1a a K1b. Jedálne lístky sa spracujú pre diéty D3, D4 a D9 a pre obed zamestnanca. Pri každom jedle sa uvedie názov, gramáž porcie a alergény; pri diétnych a konzistenčných úpravách sa presne označí rozdiel oproti základnému jedlu. | D5: Uchádzač vyplní dva mesačné jedálne lístky – pre mesiac máj a pre mesiac október – v samostatných hárkoch K1a a K1b. Jedálne lístky sa spracujú pre diéty D3, D4 a D9 a pre obed zamestnanca. Pri každom jedle sa uvedie názov, gramáž porcie a alergény; pri diétnych a konzistenčných úpravách sa presne označí rozdiel oproti základnému jedlu. | E5: Uchádzač vyplní dva mesačné jedálne lístky – pre mesiac máj a pre mesiac október – v samostatných hárkoch K1a a K1b. Jedálne lístky sa spracujú pre diéty D3, D4 a D9 a pre obed zamestnanca. Pri každom jedle sa uvedie názov, gramáž porcie a alergény; pri diétnych a konzistenčných úpravách sa presne označí rozdiel oproti základnému jedlu. | F5: Uchádzač vyplní dva mesačné jedálne lístky – pre mesiac máj a pre mesiac október – v samostatných hárkoch K1a a K1b. Jedálne lístky sa spracujú pre diéty D3, D4 a D9 a pre obed zamestnanca. Pri každom jedle sa uvedie názov, gramáž porcie a alergény; pri diétnych a konzistenčných úpravách sa presne označí rozdiel oproti základnému jedlu. | G5: Uchádzač vyplní dva mesačné jedálne lístky – pre mesiac máj a pre mesiac október – v samostatných hárkoch K1a a K1b. Jedálne lístky sa spracujú pre diéty D3, D4 a D9 a pre obed zamestnanca. Pri každom jedle sa uvedie názov, gramáž porcie a alergény; pri diétnych a konzistenčných úpravách sa presne označí rozdiel oproti základnému jedlu. | H5: Uchádzač vyplní dva mesačné jedálne lístky – pre mesiac máj a pre mesiac október – v samostatných hárkoch K1a a K1b. Jedálne lístky sa spracujú pre diéty D3, D4 a D9 a pre obed zamestnanca. Pri každom jedle sa uvedie názov, gramáž porcie a alergény; pri diétnych a konzistenčných úpravách sa presne označí rozdiel oproti základnému jedlu. | I5: Uchádzač vyplní dva mesačné jedálne lístky – pre mesiac máj a pre mesiac október – v samostatných hárkoch K1a a K1b. Jedálne lístky sa spracujú pre diéty D3, D4 a D9 a pre obed zamestnanca. Pri každom jedle sa uvedie názov, gramáž porcie a alergény; pri diétnych a konzistenčných úpravách sa presne označí rozdiel oproti základnému jedlu. | J5: Uchádzač vyplní dva mesačné jedálne lístky – pre mesiac máj a pre mesiac október – v samostatných hárkoch K1a a K1b. Jedálne lístky sa spracujú pre diéty D3, D4 a D9 a pre obed zamestnanca. Pri každom jedle sa uvedie názov, gramáž porcie a alergény; pri diétnych a konzistenčných úpravách sa presne označí rozdiel oproti základnému jedlu.
B7: Hárok | C7: Obsah | D7: Účel
B8: K1a – Máj | C8: 14-dňový jedálny lístok – máj | D8: Posúdenie jarnej sezónnosti, pestrosti, diét a realizovateľnosti.
B9: K1b – Október | C9: 14-dňový jedálny lístok – október | D9: Posúdenie jesennej sezónnosti, pestrosti, diét a realizovateľnosti.
B11: Záväzné údaje v jedálnom lístku | C11: Záväzné údaje v jedálnom lístku | D11: Záväzné údaje v jedálnom lístku | E11: Záväzné údaje v jedálnom lístku | F11: Záväzné údaje v jedálnom lístku | G11: Záväzné údaje v jedálnom lístku | H11: Záväzné údaje v jedálnom lístku | I11: Záväzné údaje v jedálnom lístku | J11: Záväzné údaje v jedálnom lístku
B12: 1. | C12: názov každého jedla a jeho jednotlivých častí,
B13: 2. | C13: gramáž porcie; pri mäse, rybách, obilninách, cestovinách, ryži, strukovinách a zemiakoch sa uvedie hmotnosť suroviny pripadajúca na jednu porciu pred tepelnou úpravou; pri ostatných potravinách sa uvedie množstvo určené na konzumáciu,
B14: 3. | C14: označenie alergénov podľa právnych predpisov,
B15: 4. | C15: označenie diéty D3, D4 alebo D9 a prípadnej konzistenčnej alebo eliminačnej úpravy,
B16: 5. | C16: pri obede osobitne polievka, hlavné jedlo, príloha, šalát alebo ovocie a nápoj, ak sa poskytujú.
B18: Princípy zostavenia jedálnych lístkov | C18: Záver – princípy zostavenia jedálnych lístkov | D18: Záver – princípy zostavenia jedálnych lístkov | E18: Záver – princípy zostavenia jedálnych lístkov | F18: Záver – princípy zostavenia jedálnych lístkov | G18: Záver – princípy zostavenia jedálnych lístkov | H18: Záver – princípy zostavenia jedálnych lístkov | I18: Záver – princípy zostavenia jedálnych lístkov | J18: Záver – princípy zostavenia jedálnych lístkov
B19: Uveďte stručne, maximálne 750 znakov vrátane medzier.
B20: 1. Nutričná koncepcia: opíšte spôsob zabezpečenia primeraného príjmu energie a bielkovín a prevencie podvýživy a dehydratácie. | I20: počet znakov | J20: zostáva znakov
I21: =LEN(B21) -> 0 | J21: =750-I21 -> 750
B23: 2. Pestrosť a frekvencie: opíšte striedanie zdrojov bielkovín, príloh a obilninových výrobkov vrátane využívania celozrnných výrobkov podľa zdravotného stavu a diéty, zeleniny, ovocia a technologických postupov a spôsob kontroly opakovania jedál. | I23: počet znakov | J23: zostáva znakov
I24: =LEN(B24) -> 0 | J24: =750-I24 -> 750
B26: 3. Sezónnosť: vysvetlite rozdiely medzi májovým a októbrovým jedálnym lístkom a využitie sezónnych alebo lokálne dostupných surovín. | I26: počet znakov | J26: zostáva znakov
I27: =LEN(B27) -> 0 | J27: =750-I27 -> 750
B29: 4. Diétne stravovanie: opíšte odborný postup pri D4 a D9 a pri konzistenčných, bezlepkových, bezlaktózových alebo individuálnych úpravách bez zníženia nutričnej hodnoty. Terapeutická diéta D4 alebo D9 nesmie byť vytvorená iba mechanickým odobratím nevhodnej zložky zo stravy D3; ak je potrebné niektorú zložku vynechať alebo významne obmedziť, musí byť zabezpečená jej nutrične primeraná náhrada. | I29: počet znakov | J29: zostáva znakov
I30: =LEN(B30) -> 0 | J30: =750-I30 -> 750
B32: 5. Kvalita surovín a technológia: opíšte preferované suroviny, šetrné technologické postupy a obmedzovanie nevhodných alebo vysoko spracovaných potravín. | I32: počet znakov | J32: zostáva znakov
I33: =LEN(B33) -> 0 | J33: =750-I33 -> 750
B35: 6. Prevádzková realizovateľnosť: opíšte, ako bude navrhnutá kvalita zabezpečená pri reálnych kapacitách, personále, rozpočtových limitoch a počas celého trvania Zmluvy. | I35: počet znakov | J35: zostáva znakov
I36: =LEN(B36) -> 0 | J36: =750-I36 -> 750
B38: Uvedené princípy musia vysvetľovať riešenie zachytené v jedálnych lístkoch. Nemajú nahrádzať povinné údaje v 14-dňových formulároch ani duplikovať nadštandardné opatrenia predkladané v rámci K2. | C38: Uvedené princípy musia vysvetľovať riešenie zachytené v jedálnych lístkoch. Nemajú nahrádzať povinné údaje v mesačných formulároch ani duplikovať nadštandardné opatrenia predkladané v rámci K2. | D38: Uvedené princípy musia vysvetľovať riešenie zachytené v jedálnych lístkoch. Nemajú nahrádzať povinné údaje v mesačných formulároch ani duplikovať nadštandardné opatrenia predkladané v rámci K2. | E38: Uvedené princípy musia vysvetľovať riešenie zachytené v jedálnych lístkoch. Nemajú nahrádzať povinné údaje v mesačných formulároch ani duplikovať nadštandardné opatrenia predkladané v rámci K2. | F38: Uvedené princípy musia vysvetľovať riešenie zachytené v jedálnych lístkoch. Nemajú nahrádzať povinné údaje v mesačných formulároch ani duplikovať nadštandardné opatrenia predkladané v rámci K2. | G38: Uvedené princípy musia vysvetľovať riešenie zachytené v jedálnych lístkoch. Nemajú nahrádzať povinné údaje v mesačných formulároch ani duplikovať nadštandardné opatrenia predkladané v rámci K2. | H38: Uvedené princípy musia vysvetľovať riešenie zachytené v jedálnych lístkoch. Nemajú nahrádzať povinné údaje v mesačných formulároch ani duplikovať nadštandardné opatrenia predkladané v rámci K2. | I38: Uvedené princípy musia vysvetľovať riešenie zachytené v jedálnych lístkoch. Nemajú nahrádzať povinné údaje v mesačných formulároch ani duplikovať nadštandardné opatrenia predkladané v rámci K2. | J38: Uvedené princípy musia vysvetľovať riešenie zachytené v jedálnych lístkoch. Nemajú nahrádzať povinné údaje v mesačných formulároch ani duplikovať nadštandardné opatrenia predkladané v rámci K2.

Sheet K1a – Máj
B2: K1 – Vzorový 14-dňový jedálny lístok – máj | C2: K1 – Vzorový mesačný jedálny lístok – máj | D2: K1 – Vzorový mesačný jedálny lístok – máj | E2: K1 – Vzorový mesačný jedálny lístok – máj | F2: K1 – Vzorový mesačný jedálny lístok – máj | G2: K1 – Vzorový mesačný jedálny lístok – máj | H2: K1 – Vzorový mesačný jedálny lístok – máj | I2: K1 – Vzorový mesačný jedálny lístok – máj | J2: K1 – Vzorový mesačný jedálny lístok – máj | K2: K1 – Vzorový mesačný jedálny lístok – máj | L2: K1 – Vzorový mesačný jedálny lístok – máj
B3: Do každej modrej bunky uveďte názov jedla, gramáž porcie a alergény. Pri obede rozpíšte polievku, hlavné jedlo, prílohu, šalát alebo ovocie a nápoj. Pri D4 a D9 presne uveďte odlišnú surovinu, gramáž alebo technologickú úpravu; terapeutická diéta nesmie vzniknúť iba odobratím nevhodnej zložky bez nutrične primeranej náhrady. Riadok ZAM je určený na stravovanie zamestnancov; pri časti 5 – ARCHA uveďte večeru zamestnanca v stĺpci Večera v riadku ZAM. | C3: Do každej modrej bunky uveďte názov jedla, gramáž porcie a alergény. Pri obede rozpíšte polievku, hlavné jedlo, prílohu, šalát alebo ovocie a nápoj. Pri D4 a D9 možno vychádzať zo spoločného základu D3, vždy však presne uveďte odlišnú surovinu, gramáž alebo technologickú úpravu. Riadok ZAM je určený iba na obed zamestnanca. | D3: Do každej modrej bunky uveďte názov jedla, gramáž porcie a alergény. Pri obede rozpíšte polievku, hlavné jedlo, prílohu, šalát alebo ovocie a nápoj. Pri D4 a D9 možno vychádzať zo spoločného základu D3, vždy však presne uveďte odlišnú surovinu, gramáž alebo technologickú úpravu. Riadok ZAM je určený iba na obed zamestnanca. | E3: Do každej modrej bunky uveďte názov jedla, gramáž porcie a alergény. Pri obede rozpíšte polievku, hlavné jedlo, prílohu, šalát alebo ovocie a nápoj. Pri D4 a D9 možno vychádzať zo spoločného základu D3, vždy však presne uveďte odlišnú surovinu, gramáž alebo technologickú úpravu. Riadok ZAM je určený iba na obed zamestnanca. | F3: Do každej modrej bunky uveďte názov jedla, gramáž porcie a alergény. Pri obede rozpíšte polievku, hlavné jedlo, prílohu, šalát alebo ovocie a nápoj. Pri D4 a D9 možno vychádzať zo spoločného základu D3, vždy však presne uveďte odlišnú surovinu, gramáž alebo technologickú úpravu. Riadok ZAM je určený iba na obed zamestnanca. | G3: Do každej modrej bunky uveďte názov jedla, gramáž porcie a alergény. Pri obede rozpíšte polievku, hlavné jedlo, prílohu, šalát alebo ovocie a nápoj. Pri D4 a D9 možno vychádzať zo spoločného základu D3, vždy však presne uveďte odlišnú surovinu, gramáž alebo technologickú úpravu. Riadok ZAM je určený iba na obed zamestnanca. | H3: Do každej modrej bunky uveďte názov jedla, gramáž porcie a alergény. Pri obede rozpíšte polievku, hlavné jedlo, prílohu, šalát alebo ovocie a nápoj. Pri D4 a D9 možno vychádzať zo spoločného základu D3, vždy však presne uveďte odlišnú surovinu, gramáž alebo technologickú úpravu. Riadok ZAM je určený iba na obed zamestnanca. | I3: Do každej modrej bunky uveďte názov jedla, gramáž porcie a alergény. Pri obede rozpíšte polievku, hlavné jedlo, prílohu, šalát alebo ovocie a nápoj. Pri D4 a D9 možno vychádzať zo spoločného základu D3, vždy však presne uveďte odlišnú surovinu, gramáž alebo technologickú úpravu. Riadok ZAM je určený iba na obed zamestnanca. | J3: Do každej modrej bunky uveďte názov jedla, gramáž porcie a alergény. Pri obede rozpíšte polievku, hlavné jedlo, prílohu, šalát alebo ovocie a nápoj. Pri D4 a D9 možno vychádzať zo spoločného základu D3, vždy však presne uveďte odlišnú surovinu, gramáž alebo technologickú úpravu. Riadok ZAM je určený iba na obed zamestnanca. | K3: Do každej modrej bunky uveďte názov jedla, gramáž porcie a alergény. Pri obede rozpíšte polievku, hlavné jedlo, prílohu, šalát alebo ovocie a nápoj. Pri D4 a D9 možno vychádzať zo spoločného základu D3, vždy však presne uveďte odlišnú surovinu, gramáž alebo technologickú úpravu. Riadok ZAM je určený iba na obed zamestnanca. | L3: Do každej modrej bunky uveďte názov jedla, gramáž porcie a alergény. Pri obede rozpíšte polievku, hlavné jedlo, prílohu, šalát alebo ovocie a nápoj. Pri D4 a D9 možno vychádzať zo spoločného základu D3, vždy však presne uveďte odlišnú surovinu, gramáž alebo technologickú úpravu. Riadok ZAM je určený iba na obed zamestnanca.
B5: Sedemdňové obdobie / časť obdobia: dni 1 – 7 | C5: Sedemdňové obdobie / časť obdobia: dni 1 – 7 | D5: Sedemdňové obdobie / časť obdobia: dni 1 – 7 | E5: Sedemdňové obdobie / časť obdobia: dni 1 – 7 | F5: Sedemdňové obdobie / časť obdobia: dni 1 – 7 | G5: Sedemdňové obdobie / časť obdobia: dni 1 – 7 | H5: Sedemdňové obdobie / časť obdobia: dni 1 – 7 | I5: Sedemdňové obdobie / časť obdobia: dni 1 – 7 | J5: Sedemdňové obdobie / časť obdobia: dni 1 – 7 | K5: Sedemdňové obdobie / časť obdobia: dni 1 – 7 | L5: Sedemdňové obdobie / časť obdobia: dni 1 – 7
B6: Deň | C6: Diéta / režim | D6: Raňajky | E6: Desiata | F6: Obed prijímateľa | G6: Olovrant | H6: Večera | I6: Druhá večera – D9 / ak je požadovaná | J6: Nápoje v rámci stravy | K6: Obed zamestnanca | L6: Konzistenčná / eliminačná úprava
B7: 1. máj | C7: D3
C8: D4
C9: D9
C10: ZAM
B11: 2. máj | C11: D3
C12: D4
C13: D9
C14: ZAM
B15: 3. máj | C15: D3
C16: D4
C17: D9
C18: ZAM
B19: 4. máj | C19: D3
C20: D4
C21: D9
C22: ZAM
B23: 5. máj | C23: D3
C24: D4
C25: D9
C26: ZAM
B27: 6. máj | C27: D3
C28: D4
C29: D9
C30: ZAM
B31: 7. máj | C31: D3
C32: D4
C33: D9
C34: ZAM
B36: Sedemdňové obdobie / časť obdobia: dni 8 – 14 | C36: Sedemdňové obdobie / časť obdobia: dni 8 – 14 | D36: Sedemdňové obdobie / časť obdobia: dni 8 – 14 | E36: Sedemdňové obdobie / časť obdobia: dni 8 – 14 | F36: Sedemdňové obdobie / časť obdobia: dni 8 – 14 | G36: Sedemdňové obdobie / časť obdobia: dni 8 – 14 | H36: Sedemdňové obdobie / časť obdobia: dni 8 – 14 | I36: Sedemdňové obdobie / časť obdobia: dni 8 – 14 | J36: Sedemdňové obdobie / časť obdobia: dni 8 – 14 | K36: Sedemdňové obdobie / časť obdobia: dni 8 – 14 | L36: Sedemdňové obdobie / časť obdobia: dni 8 – 14
B37: Deň | C37: Diéta / režim | D37: Raňajky | E37: Desiata | F37: Obed prijímateľa | G37: Olovrant | H37: Večera | I37: Druhá večera – D9 / ak je požadovaná | J37: Nápoje v rámci stravy | K37: Obed zamestnanca | L37: Konzistenčná / eliminačná úprava
B38: 8. máj | C38: D3
C39: D4
C40: D9
C41: ZAM
B42: 9. máj | C42: D3
C43: D4
...

Sheet K1b – Október
B2: K1 – Vzorový 14-dňový jedálny lístok – október | C2: K1 – Vzorový mesačný jedálny lístok – október | D2: K1 – Vzorový mesačný jedálny lístok – október | E2: K1 – Vzorový mesačný jedálny lístok – október | F2: K1 – Vzorový mesačný jedálny lístok – október | G2: K1 – Vzorový mesačný jedálny lístok – október | H2: K1 – Vzorový mesačný jedálny lístok – október | I2: K1 – Vzorový mesačný jedálny lístok – október | J2: K1 – Vzorový mesačný jedálny lístok – október | K2: K1 – Vzorový mesačný jedálny lístok – október | L2: K1 – Vzorový mesačný jedálny lístok – október
B3: Do každej modrej bunky uveďte názov jedla, gramáž porcie a alergény. Pri obede rozpíšte polievku, hlavné jedlo, prílohu, šalát alebo ovocie a nápoj. Pri D4 a D9 presne uveďte odlišnú surovinu, gramáž alebo technologickú úpravu; terapeutická diéta nesmie vzniknúť iba odobratím nevhodnej zložky bez nutrične primeranej náhrady. Riadok ZAM je určený na stravovanie zamestnancov; pri časti 5 – ARCHA uveďte večeru zamestnanca v stĺpci Večera v riadku ZAM. | C3: Do každej modrej bunky uveďte názov jedla, gramáž porcie a alergény. Pri obede rozpíšte polievku, hlavné jedlo, prílohu, šalát alebo ovocie a nápoj. Pri D4 a D9 možno vychádzať zo spoločného základu D3, vždy však presne uveďte odlišnú surovinu, gramáž alebo technologickú úpravu. Riadok ZAM je určený iba na obed zamestnanca. | D3: Do každej modrej bunky uveďte názov jedla, gramáž porcie a alergény. Pri obede rozpíšte polievku, hlavné jedlo, prílohu, šalát alebo ovocie a nápoj. Pri D4 a D9 možno vychádzať zo spoločného základu D3, vždy však presne uveďte odlišnú surovinu, gramáž alebo technologickú úpravu. Riadok ZAM je určený iba na obed zamestnanca. | E3: Do každej modrej bunky uveďte názov jedla, gramáž porcie a alergény. Pri obede rozpíšte polievku, hlavné jedlo, prílohu, šalát alebo ovocie a nápoj. Pri D4 a D9 možno vychádzať zo spoločného základu D3, vždy však presne uveďte odlišnú surovinu, gramáž alebo technologickú úpravu. Riadok ZAM je určený iba na obed zamestnanca. | F3: Do každej modrej bunky uveďte názov jedla, gramáž porcie a alergény. Pri obede rozpíšte polievku, hlavné jedlo, prílohu, šalát alebo ovocie a nápoj. Pri D4 a D9 možno vychádzať zo spoločného základu D3, vždy však presne uveďte odlišnú surovinu, gramáž alebo technologickú úpravu. Riadok ZAM je určený iba na obed zamestnanca. | G3: Do každej modrej bunky uveďte názov jedla, gramáž porcie a alergény. Pri obede rozpíšte polievku, hlavné jedlo, prílohu, šalát alebo ovocie a nápoj. Pri D4 a D9 možno vychádzať zo spoločného základu D3, vždy však presne uveďte odlišnú surovinu, gramáž alebo technologickú úpravu. Riadok ZAM je určený iba na obed zamestnanca. | H3: Do každej modrej bunky uveďte názov jedla, gramáž porcie a alergény. Pri obede rozpíšte polievku, hlavné jedlo, prílohu, šalát alebo ovocie a nápoj. Pri D4 a D9 možno vychádzať zo spoločného základu D3, vždy však presne uveďte odlišnú surovinu, gramáž alebo technologickú úpravu. Riadok ZAM je určený iba na obed zamestnanca. | I3: Do každej modrej bunky uveďte názov jedla, gramáž porcie a alergény. Pri obede rozpíšte polievku, hlavné jedlo, prílohu, šalát alebo ovocie a nápoj. Pri D4 a D9 možno vychádzať zo spoločného základu D3, vždy však presne uveďte odlišnú surovinu, gramáž alebo technologickú úpravu. Riadok ZAM je určený iba na obed zamestnanca. | J3: Do každej modrej bunky uveďte názov jedla, gramáž porcie a alergény. Pri obede rozpíšte polievku, hlavné jedlo, prílohu, šalát alebo ovocie a nápoj. Pri D4 a D9 možno vychádzať zo spoločného základu D3, vždy však presne uveďte odlišnú surovinu, gramáž alebo technologickú úpravu. Riadok ZAM je určený iba na obed zamestnanca. | K3: Do každej modrej bunky uveďte názov jedla, gramáž porcie a alergény. Pri obede rozpíšte polievku, hlavné jedlo, prílohu, šalát alebo ovocie a nápoj. Pri D4 a D9 možno vychádzať zo spoločného základu D3, vždy však presne uveďte odlišnú surovinu, gramáž alebo technologickú úpravu. Riadok ZAM je určený iba na obed zamestnanca. | L3: Do každej modrej bunky uveďte názov jedla, gramáž porcie a alergény. Pri obede rozpíšte polievku, hlavné jedlo, prílohu, šalát alebo ovocie a nápoj. Pri D4 a D9 možno vychádzať zo spoločného základu D3, vždy však presne uveďte odlišnú surovinu, gramáž alebo technologickú úpravu. Riadok ZAM je určený iba na obed zamestnanca.
B5: Sedemdňové obdobie / časť obdobia: dni 1 – 7 | C5: Sedemdňové obdobie / časť obdobia: dni 1 – 7 | D5: Sedemdňové obdobie / časť obdobia: dni 1 – 7 | E5: Sedemdňové obdobie / časť obdobia: dni 1 – 7 | F5: Sedemdňové obdobie / časť obdobia: dni 1 – 7 | G5: Sedemdňové obdobie / časť obdobia: dni 1 – 7 | H5: Sedemdňové obdobie / časť obdobia: dni 1 – 7 | I5: Sedemdňové obdobie / časť obdobia: dni 1 – 7 | J5: Sedemdňové obdobie / časť obdobia: dni 1 – 7 | K5: Sedemdňové obdobie / časť obdobia: dni 1 – 7 | L5: Sedemdňové obdobie / časť obdobia: dni 1 – 7
B6: Deň | C6: Diéta / režim | D6: Raňajky | E6: Desiata | F6: Obed prijímateľa | G6: Olovrant | H6: Večera | I6: Druhá večera – D9 / ak je požadovaná | J6: Nápoje v rámci stravy | K6: Obed zamestnanca | L6: Konzistenčná / eliminačná úprava
B7: 1. október | C7: D3
C8: D4
C9: D9
C10: ZAM
B11: 2. október | C11: D3
C12: D4
C13: D9
C14: ZAM
B15: 3. október | C15: D3
C16: D4
C17: D9
C18: ZAM
B19: 4. október | C19: D3
C20: D4
C21: D9
C22: ZAM
B23: 5. október | C23: D3
C24: D4
C25: D9
C26: ZAM
B27: 6. október | C27: D3
C28: D4
C29: D9
C30: ZAM
B31: 7. október | C31: D3
C32: D4
C33: D9
C34: ZAM
B36: Sedemdňové obdobie / časť obdobia: dni 8 – 14 | C36: Sedemdňové obdobie / časť obdobia: dni 8 – 14 | D36: Sedemdňové obdobie / časť obdobia: dni 8 – 14 | E36: Sedemdňové obdobie / časť obdobia: dni 8 – 14 | F36: Sedemdňové obdobie / časť obdobia: dni 8 – 14 | G36: Sedemdňové obdobie / časť obdobia: dni 8 – 14 | H36: Sedemdňové obdobie / časť obdobia: dni 8 – 14 | I36: Sedemdňové obdobie / časť obdobia: dni 8 – 14 | J36: Sedemdňové obdobie / časť obdobia: dni 8 – 14 | K36: Sedemdňové obdobie / časť obdobia: dni 8 – 14 | L36: Sedemdňové obdobie / časť obdobia: dni 8 – 14
B37: Deň | C37: Diéta / režim | D37: Raňajky | E37: Desiata | F37: Obed prijímateľa | G37: Olovrant | H37: Večera | I37: Druhá večera – D9 / ak je požadovaná | J37: Nápoje v rámci stravy | K37: Obed zamestnanca | L37: Konzistenčná / eliminačná úprava
B38: 8. október | C38: D3
C39: D4
C40: D9
C41: ZAM
B42: 9. október | C42: D3
C43: D4
...

Sheet K2 – Nadštandardné opatrenia
B2: K2 - Nadštandardné opatrenia a zvyšovanie kvality poskytovaných stravovacích služieb
B4: Zadanie
B5: Hárok „K2 - Nadštandardné opatrenia“, slúži na vyhodnotenie K2. Uchádzač môže predložiť najviac tri samostatné opatrenia. Opatrenie musí presahovať minimálne požiadavky KD a zákonné povinnosti, byť dlhodobé, realizovateľné počas celej Zmluvy, objektívne overiteľné a nesmie sa obsahovo prekrývať s iným opatrením. Ak sa ponuka týka viacerých častí a spôsob realizácie sa líši, uveďte primeranú aplikáciu v jednotlivých častiach. Dokument je odporúčané predložiť do ponuky vo formáte .xls.
B6: Každé opatrenie sa spracúva samostatne a pozostáva z týchto častí: a) Opis nadštandardného opatrenia - Uchádzač stručne a jednoznačne opíše nadštandardné opatrenie, ktoré sa zaväzuje realizovať počas celej doby trvania koncesnej zmluvy. Opis musí byť dostatočne konkrétny, aby bolo zrejmé, čo uchádzač nad rámec minimálnych požiadaviek KD ponúka. Maximálny rozsah je 500 znakov vrátane medzier. b) Prínos opatrenia - Uchádzač stručne opíše prínos opatrenia pre verejného obstarávateľa alebo klientov zariadenia. Ak je to vzhľadom na charakter opatrenia možné, uvedie prínos pomocou konkrétnych merateľných alebo inak objektívne overiteľných údajov. Maximálny rozsah je 250 znakov vrátane medzier. c) Preukázanie realizovateľnosti - Uchádzač stručne uvedie spôsob, akým preukáže, že je schopný opatrenie počas celej doby trvania koncesnej zmluvy zabezpečovať. Môže vychádzať najmä zo svojich interných postupov, metodík, referenčných skúseností alebo iných relevantných podkladov. Maximálny rozsah: 250 znakov vrátane medzier. Text presahujúci stanovený rozsah jednotlivých polí nebude predmetom hodnotenia. Nevyplnené opatrenie sa považuje za nepredložené. Metodika hodnotenia je uvedená v časti C. Kritéria na vyhodnotenie ponúk KD.
B8: Nadštandardné opatrenie č. 1
B9: Opis nadštandardného opatrenia (max. 500 znakov vrátane medzier) | C9: počet znakov | D9: zostáva znakov
C10: =LEN(B10) -> 0 | D10: =500-C10 -> 500
B11: Prínos opatrenia (max. 250 znakov vrátane medzier) | C11: počet znakov | D11: zostáva znakov
C12: =LEN(B12) -> 0 | D12: =250-C12 -> 250
B13: Preukázanie realizovateľnosti (max. 250 znakov vrátane medzier) | C13: počet znakov | D13: zostáva znakov
C14: =LEN(B14) -> 0 | D14: =250-C14 -> 250
B16: Nadštandardné opatrenie č. 2
B17: Opis nadštandardného opatrenia (max. 500 znakov vrátane medzier) | C17: počet znakov | D17: zostáva znakov
C18: =LEN(B18) -> 0 | D18: =500-C18 -> 500
B19: Prínos opatrenia (max. 250 znakov vrátane medzier) | C19: počet znakov | D19: zostáva znakov
C20: =LEN(B20) -> 0 | D20: =250-C20 -> 250
B21: Preukázanie realizovateľnosti (max. 250 znakov vrátane medzier) | C21: počet znakov | D21: zostáva znakov
C22: =LEN(B22) -> 0 | D22: =250-C22 -> 250
B24: Nadštandardné opatrenie č. 3
B25: Opis nadštandardného opatrenia (max. 500 znakov vrátane medzier) | C25: počet znakov | D25: zostáva znakov
C26: =LEN(B26) -> 0 | D26: =500-C26 -> 500
B27: Prínos opatrenia (max. 250 znakov vrátane medzier) | C27: počet znakov | D27: zostáva znakov
C28: =LEN(B28) -> 0 | D28: =250-C28 -> 250
B29: Preukázanie realizovateľnosti (max. 250 znakov vrátane medzier) | C29: počet znakov | D29: zostáva znakov
C30: =LEN(B30) -> 0 | D30: =250-C30 -> 250

Sheet K3-1 DJŽ
B2: Kritérium K3 – Cena za poskytovanie stravovacích služieb – Časť 1 (DJŽ) | C2: Kritérium K3 – Cena za poskytovanie stravovacích služieb – Časť 1 (DJŽ) | D2: Kritérium K3 – Cena za poskytovanie stravovacích služieb – Časť 1 (DJŽ) | E2: Kritérium K3 – Cena za poskytovanie stravovacích služieb – Časť 1 (DJŽ) | F2: Kritérium K3 – Cena za poskytovanie stravovacích služieb – Časť 1 (DJŽ) | G2: Kritérium K3 – Cena za poskytovanie stravovacích služieb – Časť 1 (DJŽ) | H2: Kritérium K3 – Cena za poskytovanie stravovacích služieb – Časť 1 (DJŽ) | I2: Kritérium K3 – Cena za poskytovanie stravovacích služieb – Časť 1 (DJŽ) | J2: Kritérium K3 – Cena za poskytovanie stravovacích služieb – Časť 1 (DJŽ)
B3: Uchádzač vyplní bledomodré bunky v časti A – jednotkovú cenu bez DPH pri každom druhu plnenia. Sadzba DPH je vo formulári prednastavená podľa príslušnej sadzby DPH a uchádzač ju nevypĺňa. Jednotková cena s DPH, ceny jednotlivých jedál a Ponuková cena K3 sa vypočítajú automaticky. Jednotkové ceny zahŕňajú všetky náklady a úhrady, ktoré podľa koncesnej dokumentácie znáša Koncesionár v súvislosti s riadnym poskytovaním Stravovacích služieb, vrátane nákladov a úhrad súvisiacich s užívaním Koncesného majetku a povinnými investíciami v rozsahu podľa Zmluvy. | C3: Uchádzač vyplní modré bunky v časti A – jednotkovú cenu bez DPH a sadzbu DPH pri každom druhu plnenia. Jednotková cena s DPH, ceny jednotlivých jedál a Ponuková cena K3 sa vypočítajú automaticky. Neplatiteľ DPH uvedie sadzbu 0 %. Jednotkové ceny zahŕňajú všetky náklady spojené s riadnym poskytovaním služby podľa Zmluvy. | D3: Uchádzač vyplní modré bunky v časti A – jednotkovú cenu bez DPH a sadzbu DPH pri každom druhu plnenia. Jednotková cena s DPH, ceny jednotlivých jedál a Ponuková cena K3 sa vypočítajú automaticky. Neplatiteľ DPH uvedie sadzbu 0 %. Jednotkové ceny zahŕňajú všetky náklady spojené s riadnym poskytovaním služby podľa Zmluvy. | E3: Uchádzač vyplní modré bunky v časti A – jednotkovú cenu bez DPH a sadzbu DPH pri každom druhu plnenia. Jednotková cena s DPH, ceny jednotlivých jedál a Ponuková cena K3 sa vypočítajú automaticky. Neplatiteľ DPH uvedie sadzbu 0 %. Jednotkové ceny zahŕňajú všetky náklady spojené s riadnym poskytovaním služby podľa Zmluvy. | F3: Uchádzač vyplní modré bunky v časti A – jednotkovú cenu bez DPH a sadzbu DPH pri každom druhu plnenia. Jednotková cena s DPH, ceny jednotlivých jedál a Ponuková cena K3 sa vypočítajú automaticky. Neplatiteľ DPH uvedie sadzbu 0 %. Jednotkové ceny zahŕňajú všetky náklady spojené s riadnym poskytovaním služby podľa Zmluvy. | G3: Uchádzač vyplní modré bunky v časti A – jednotkovú cenu bez DPH a sadzbu DPH pri každom druhu plnenia. Jednotková cena s DPH, ceny jednotlivých jedál a Ponuková cena K3 sa vypočítajú automaticky. Neplatiteľ DPH uvedie sadzbu 0 %. Jednotkové ceny zahŕňajú všetky náklady spojené s riadnym poskytovaním služby podľa Zmluvy. | H3: Uchádzač vyplní modré bunky v časti A – jednotkovú cenu bez DPH a sadzbu DPH pri každom druhu plnenia. Jednotková cena s DPH, ceny jednotlivých jedál a Ponuková cena K3 sa vypočítajú automaticky. Neplatiteľ DPH uvedie sadzbu 0 %. Jednotkové ceny zahŕňajú všetky náklady spojené s riadnym poskytovaním služby podľa Zmluvy. | I3: Uchádzač vyplní modré bunky v časti A – jednotkovú cenu bez DPH a sadzbu DPH pri každom druhu plnenia. Jednotková cena s DPH, ceny jednotlivých jedál a Ponuková cena K3 sa vypočítajú automaticky. Neplatiteľ DPH uvedie sadzbu 0 %. Jednotkové ceny zahŕňajú všetky náklady spojené s riadnym poskytovaním služby podľa Zmluvy. | J3: Uchádzač vyplní modré bunky v časti A – jednotkovú cenu bez DPH a sadzbu DPH pri každom druhu plnenia. Jednotková cena s DPH, ceny jednotlivých jedál a Ponuková cena K3 sa vypočítajú automaticky. Neplatiteľ DPH uvedie sadzbu 0 %. Jednotkové ceny zahŕňajú všetky náklady spojené s riadnym poskytovaním služby podľa Zmluvy.
B4: A. Jednotkové ceny zadávané uchádzačom | C4: A. Jednotkové ceny zadávané uchádzačom | D4: A. Jednotkové ceny zadávané uchádzačom | E4: A. Jednotkové ceny zadávané uchádzačom | F4: A. Jednotkové ceny zadávané uchádzačom | G4: A. Jednotkové ceny zadávané uchádzačom | H4: A. Jednotkové ceny zadávané uchádzačom | I4: A. Jednotkové ceny zadávané uchádzačom | J4: A. Jednotkové ceny zadávané uchádzačom
B5: P. č. | C5: Druh plnenia | D5: Diéta | E5: Merná jednotka | F5: Jednotková cena bez DPH | G5: Sadzba DPH | H5: DPH na jednotku | I5: Jednotková cena s DPH | J5: Poznámka
B6: 1 | C6: Celodenná stravná jednotka | D6: D3 – racionálna | E6: stravná jednotka | F6: 0 | G6: =IF(Ponuka!$D$10="Som platcom DPH",5%,IF(Ponuka!$D$10="Nie som platcom DPH",0%,"")) -> 0.05 | H6: =IF(AND(ISNUMBER(F6),ISNUMBER(G6)),ROUND(F6*G6,4),"") -> 0 | I6: =IF(AND(ISNUMBER(F6),ISNUMBER(H6)),ROUND(F6+H6,4),"") -> 0 | J6: Základ na výpočet cien jedál D3
B7: 2 | C7: Celodenná stravná jednotka | D7: D4 – šetriaca | E7: stravná jednotka | F7: 0 | G7: =IF(Ponuka!$D$10="Som platcom DPH",5%,IF(Ponuka!$D$10="Nie som platcom DPH",0%,"")) -> 0.05 | H7: =IF(AND(ISNUMBER(F7),ISNUMBER(G7)),ROUND(F7*G7,4),"") -> 0 | I7: =IF(AND(ISNUMBER(F7),ISNUMBER(H7)),ROUND(F7+H7,4),"") -> 0 | J7: Základ na výpočet cien jedál D4
B8: 3 | C8: Celodenná stravná jednotka | D8: D9 – diabetická | E8: stravná jednotka | F8: 0 | G8: =IF(Ponuka!$D$10="Som platcom DPH",5%,IF(Ponuka!$D$10="Nie som platcom DPH",0%,"")) -> 0.05 | H8: =IF(AND(ISNUMBER(F8),ISNUMBER(G8)),ROUND(F8*G8,4),"") -> 0 | I8: =IF(AND(ISNUMBER(F8),ISNUMBER(H8)),ROUND(F8+H8,4),"") -> 0 | J8: Základ na výpočet cien jedál D9
B9: 4 | C9: Obed zamestnanca | D9: – | E9: obed | F9: 0 | G9: =IF(Ponuka!$D$10="Som platcom DPH",5%,IF(Ponuka!$D$10="Nie som platcom DPH",0%,"")) -> 0.05 | H9: =IF(AND(ISNUMBER(F9),ISNUMBER(G9)),ROUND(F9*G9,4),"") -> 0 | I9: =IF(AND(ISNUMBER(F9),ISNUMBER(H9)),ROUND(F9+H9,4),"") -> 0 | J9: Samostatná jednotková cena
B11: B. Výpočet ponukovej ceny podľa kritéria K3 | C11: B. Výpočet ponukovej ceny podľa kritéria K3 | D11: B. Výpočet ponukovej ceny podľa kritéria K3 | E11: B. Výpočet ponukovej ceny podľa kritéria K3 | F11: B. Výpočet ponukovej ceny podľa kritéria K3 | G11: B. Výpočet ponukovej ceny podľa kritéria K3 | H11: B. Výpočet ponukovej ceny podľa kritéria K3 | I11: B. Výpočet ponukovej ceny podľa kritéria K3 | J11: B. Výpočet ponukovej ceny podľa kritéria K3
B12: P. č. | C12: Diéta | D12: Druh jedla | E12: Podiel z ceny celodennej stravnej jednotky | F12: Predpokladané množstvo za 48 mesiacov | G12: Jednotková cena bez DPH | H12: Cena celkom bez DPH | I12: Výška DPH | J12: Cena celkom s DPH
B13: 1 | C13: D3 | D13: Raňajky | E13: 0.12 | F13: 195974 | G13: =IF(ISNUMBER($F$6),ROUND($F$6*E13,4),"") -> 0 | H13: =IF(AND(ISNUMBER(F13),ISNUMBER(G13)),ROUND(F13*G13,2),"") -> 0 | I13: =IF(AND(ISNUMBER(H13),ISNUMBER($G$6)),ROUND(H13*$G$6,2),"") -> 0 | J13: =IF(AND(ISNUMBER(H13),ISNUMBER(I13)),ROUND(H13+I13,2),"") -> 0
B14: 2 | C14: D3 | D14: Desiata | E14: 0.09 | F14: 160233 | G14: =IF(ISNUMBER($F$6),ROUND($F$6*E14,4),"") -> 0 | H14: =IF(AND(ISNUMBER(F14),ISNUMBER(G14)),ROUND(F14*G14,2),"") -> 0 | I14: =IF(AND(ISNUMBER(H14),ISNUMBER($G$6)),ROUND(H14*$G$6,2),"") -> 0 | J14: =IF(AND(ISNUMBER(H14),ISNUMBER(I14)),ROUND(H14+I14,2),"") -> 0
B15: 3 | C15: D3 | D15: Obed prijímateľa | E15: 0.45 | F15: 204073 | G15: =IF(ISNUMBER($F$6),ROUND($F$6*E15,4),"") -> 0 | H15: =IF(AND(ISNUMBER(F15),ISNUMBER(G15)),ROUND(F15*G15,2),"") -> 0 | I15: =IF(AND(ISNUMBER(H15),ISNUMBER($G$6)),ROUND(H15*$G$6,2),"") -> 0 | J15: =IF(AND(ISNUMBER(H15),ISNUMBER(I15)),ROUND(H15+I15,2),"") -> 0
B16: 4 | C16: D3 | D16: Olovrant | E16: 0.09 | F16: 155545 | G16: =IF(ISNUMBER($F$6),ROUND($F$6*E16,4),"") -> 0 | H16: =IF(AND(ISNUMBER(F16),ISNUMBER(G16)),ROUND(F16*G16,2),"") -> 0 | I16: =IF(AND(ISNUMBER(H16),ISNUMBER($G$6)),ROUND(H16*$G$6,2),"") -> 0 | J16: =IF(AND(ISNUMBER(H16),ISNUMBER(I16)),ROUND(H16+I16,2),"") -> 0
B17: 5 | C17: D3 | D17: Večera | E17: 0.25 | F17: 182258 | G17: =IF(ISNUMBER($F$6),ROUND($F$6*E17,4),"") -> 0 | H17: =IF(AND(ISNUMBER(F17),ISNUMBER(G17)),ROUND(F17*G17,2),"") -> 0 | I17: =IF(AND(ISNUMBER(H17),ISNUMBER($G$6)),ROUND(H17*$G$6,2),"") -> 0 | J17: =IF(AND(ISNUMBER(H17),ISNUMBER(I17)),ROUND(H17+I17,2),"") -> 0
B18: 6 | C18: D4 | D18: Raňajky | E18: 0.12 | F18: 18414 | G18: =IF(ISNUMBER($F$7),ROUND($F$7*E18,4),"") -> 0 | H18: =IF(AND(ISNUMBER(F18),ISNUMBER(G18)),ROUND(F18*G18,2),"") -> 0 | I18: =IF(AND(ISNUMBER(H18),ISNUMBER($G$7)),ROUND(H18*$G$7,2),"") -> 0 | J18: =IF(AND(ISNUMBER(H18),ISNUMBER(I18)),ROUND(H18+I18,2),"") -> 0
B19: 7 | C19: D4 | D19: Desiata | E19: 0.09 | F19: 15055 | G19: =IF(ISNUMBER($F$7),ROUND($F$7*E19,4),"") -> 0 | H19: =IF(AND(ISNUMBER(F19),ISNUMBER(G19)),ROUND(F19*G19,2),"") -> 0 | I19: =IF(AND(ISNUMBER(H19),ISNUMBER($G$7)),ROUND(H19*$G$7,2),"") -> 0 | J19: =IF(AND(ISNUMBER(H19),ISNUMBER(I19)),ROUND(H19+I19,2),"") -> 0
B20: 8 | C20: D4 | D20: Obed prijímateľa | E20: 0.45 | F20: 19175 | G20: =IF(ISNUMBER($F$7),ROUND($F$7*E20,4),"") -> 0 | H20: =IF(AND(ISNUMBER(F20),ISNUMBER(G20)),ROUND(F20*G20,2),"") -> 0 | I20: =IF(AND(ISNUMBER(H20),ISNUMBER($G$7)),ROUND(H20*$G$7,2),"") -> 0 | J20: =IF(AND(ISNUMBER(H20),ISNUMBER(I20)),ROUND(H20+I20,2),"") -> 0
B21: 9 | C21: D4 | D21: Olovrant | E21: 0.09 | F21: 14615 | G21: =IF(ISNUMBER($F$7),ROUND($F$7*E21,4),"") -> 0 | H21: =IF(AND(ISNUMBER(F21),ISNUMBER(G21)),ROUND(F21*G21,2),"") -> 0 | I21: =IF(AND(ISNUMBER(H21),ISNUMBER($G$7)),ROUND(H21*$G$7,2),"") -> 0 | J21: =IF(AND(ISNUMBER(H21),ISNUMBER(I21)),ROUND(H21+I21,2),"") -> 0
B22: 10 | C22: D4 | D22: Večera | E22: 0.25 | F22: 17125 | G22: =IF(ISNUMBER($F$7),ROUND($F$7*E22,4),"") -> 0 | H22: =IF(AND(ISNUMBER(F22),ISNUMBER(G22)),ROUND(F22*G22,2),"") -> 0 | I22: =IF(AND(ISNUMBER(H22),ISNUMBER($G$7)),ROUND(H22*$G$7,2),"") -> 0 | J22: =IF(AND(ISNUMBER(H22),ISNUMBER(I22)),ROUND(H22+I22,2),"") -> 0
B23: 11 | C23: D9 | D23: Raňajky | E23: 0.12 | F23: 77600 | G23: =IF(ISNUMBER($F$8),ROUND($F$8*E23,4),"") -> 0 | H23: =IF(AND(ISNUMBER(F23),ISNUMBER(G23)),ROUND(F23*G23,2),"") -> 0 | I23: =IF(AND(ISNUMBER(H23),ISNUMBER($G$8)),ROUND(H23*$G$8,2),"") -> 0 | J23: =IF(AND(ISNUMBER(H23),ISNUMBER(I23)),ROUND(H23+I23,2),"") -> 0
B24: 12 | C24: D9 | D24: Desiata | E24: 0.09 | F24: 63448 | G24: =IF(ISNUMBER($F$8),ROUND($F$8*E24,4),"") -> 0 | H24: =IF(AND(ISNUMBER(F24),ISNUMBER(G24)),ROUND(F24*G24,2),"") -> 0 | I24: =IF(AND(ISNUMBER(H24),ISNUMBER($G$8)),ROUND(H24*$G$8,2),"") -> 0 | J24: =IF(AND(ISNUMBER(H24),ISNUMBER(I24)),ROUND(H24+I24,2),"") -> 0
B25: 13 | C25: D9 | D25: Obed prijímateľa | E25: 0.45 | F25: 80808 | G25: =IF(ISNUMBER($F$8),ROUND($F$8*E25,4),"") -> 0 | H25: =IF(AND(ISNUMBER(F25),ISNUMBER(G25)),ROUND(F25*G25,2),"") -> 0 | I25: =IF(AND(ISNUMBER(H25),ISNUMBER($G$8)),ROUND(H25*$G$8,2),"") -> 0 | J25: =IF(AND(ISNUMBER(H25),ISNUMBER(I25)),ROUND(H25+I25,2),"") -> 0
B26: 14 | C26: D9 | D26: Olovrant | E26: 0.09 | F26: 61592 | G26: =IF(ISNUMBER($F$8),ROUND($F$8*E26,4),"") -> 0 | H26: =IF(AND(ISNUMBER(F26),ISNUMBER(G26)),ROUND(F26*G26,2),"") -> 0 | I26: =IF(AND(ISNUMBER(H26),ISNUMBER($G$8)),ROUND(H26*$G$8,2),"") -> 0 | J26: =IF(AND(ISNUMBER(H26),ISNUMBER(I26)),ROUND(H26+I26,2),"") -> 0
B27: 15 | C27: D9 | D27: Večera | E27: 0.2 | F27: 72169 | G27: =IF(ISNUMBER($F$8),ROUND($F$8*E27,4),"") -> 0 | H27: =IF(AND(ISNUMBER(F27),ISNUMBER(G27)),ROUND(F27*G27,2),"") -> 0 | I27: =IF(AND(ISNUMBER(H27),ISNUMBER($G$8)),ROUND(H27*$G$8,2),"") -> 0 | J27: =IF(AND(ISNUMBER(H27),ISNUMBER(I27)),ROUND(H27+I27,2),"") -> 0
B28: 16 | C28: D9 | D28: Druhá večera | E28: 0.05 | F28: 59060 | G28: =IF(ISNUMBER($F$8),ROUND($F$8*E28,4),"") -> 0 | H28: =IF(AND(ISNUMBER(F28),ISNUMBER(G28)),ROUND(F28*G28,2),"") -> 0 | I28: =IF(AND(ISNUMBER(H28),ISNUMBER($G$8)),ROUND(H28*$G$8,2),"") -> 0 | J28: =IF(AND(ISNUMBER(H28),ISNUMBER(I28)),ROUND(H28+I28,2),"") -> 0
B29: 17 | C29: – | D29: Obed zamestnanca | F29: 49764 | G29: =IF(ISNUMBER($F$9),$F$9,"") -> 0 | H29: =IF(AND(ISNUMBER(F29),ISNUMBER(G29)),ROUND(F29*G29,2),"") -> 0 | I29: =IF(AND(ISNUMBER(H29),ISNUMBER($G$9)),ROUND(H29*$G$9,2),"") -> 0 | J29: =IF(AND(ISNUMBER(H29),ISNUMBER(I29)),ROUND(H29+I29,2),"") -> 0
H30: Bez DPH | I30: Výška DPH | J30: S DPH
B31: Ponuková cena podľa kritéria K3 | H31: =IF(COUNT(H13:H29)<17,"",SUM(H13:H29)) -> 0 | I31: =IF(COUNT(I13:I29)<17,"",SUM(I13:I29)) -> 0 | J31: =IF(COUNT(J13:J29)<17,"",SUM(J13:J29)) -> 0
B33: Množstvá pre K3 vychádzajú z príslušného Opisu predmetu koncesie a zahŕňajú jedlá poskytované v rámci celodenných stravných jednotiek; celodenné stravné jednotky sa preto do K3 samostatne nezapočítavajú. Obstarávateľ uvedený odber ani pomer diét negarantuje. | C33: Množstvá pre K3 vychádzajú z bodov 3.6 a 3.7 Opisu. Zahŕňajú jedlá poskytované v rámci celodenných stravných jednotiek; 224 840 celodenných stravných jednotiek sa preto do K3 samostatne nezapočítava. Obstarávateľ uvedený odber ani pomer diét negarantuje. | D33: Množstvá pre K3 vychádzajú z bodov 3.6 a 3.7 Opisu. Zahŕňajú jedlá poskytované v rámci celodenných stravných jednotiek; 224 840 celodenných stravných jednotiek sa preto do K3 samostatne nezapočítava. Obstarávateľ uvedený odber ani pomer diét negarantuje. | E33: Množstvá pre K3 vychádzajú z bodov 3.6 a 3.7 Opisu. Zahŕňajú jedlá poskytované v rámci celodenných stravných jednotiek; 224 840 celodenných stravných jednotiek sa preto do K3 samostatne nezapočítava. Obstarávateľ uvedený odber ani pomer diét negarantuje. | F33: Množstvá pre K3 vychádzajú z bodov 3.6 a 3.7 Opisu. Zahŕňajú jedlá poskytované v rámci celodenných stravných jednotiek; 224 840 celodenných stravných jednotiek sa preto do K3 samostatne nezapočítava. Obstarávateľ uvedený odber ani pomer diét negarantuje. | G33: Množstvá pre K3 vychádzajú z bodov 3.6 a 3.7 Opisu. Zahŕňajú jedlá poskytované v rámci celodenných stravných jednotiek; 224 840 celodenných stravných jednotiek sa preto do K3 samostatne nezapočítava. Obstarávateľ uvedený odber ani pomer diét negarantuje. | H33: Množstvá pre K3 vychádzajú z bodov 3.6 a 3.7 Opisu. Zahŕňajú jedlá poskytované v rámci celodenných stravných jednotiek; 224 840 celodenných stravných jednotiek sa preto do K3 samostatne nezapočítava. Obstarávateľ uvedený odber ani pomer diét negarantuje. | I33: Množstvá pre K3 vychádzajú z bodov 3.6 a 3.7 Opisu. Zahŕňajú jedlá poskytované v rámci celodenných stravných jednotiek; 224 840 celodenných stravných jednotiek sa preto do K3 samostatne nezapočítava. Obstarávateľ uvedený odber ani pomer diét negarantuje. | J33: Množstvá pre K3 vychádzajú z bodov 3.6 a 3.7 Opisu. Zahŕňajú jedlá poskytované v rámci celodenných stravných jednotiek; 224 840 celodenných stravných jednotiek sa preto do K3 samostatne nezapočítava. Obstarávateľ uvedený odber ani pomer diét negarantuje.

Sheet K3-2 DPK
B2: Kritérium K3 – Cena za poskytovanie stravovacích služieb – Časť 2 (DPK) | C2: Kritérium K3 – Cena za poskytovanie stravovacích služieb – Časť 1 (DJŽ) | D2: Kritérium K3 – Cena za poskytovanie stravovacích služieb – Časť 1 (DJŽ) | E2: Kritérium K3 – Cena za poskytovanie stravovacích služieb – Časť 1 (DJŽ) | F2: Kritérium K3 – Cena za poskytovanie stravovacích služieb – Časť 1 (DJŽ) | G2: Kritérium K3 – Cena za poskytovanie stravovacích služieb – Časť 1 (DJŽ) | H2: Kritérium K3 – Cena za poskytovanie stravovacích služieb – Časť 1 (DJŽ) | I2: Kritérium K3 – Cena za poskytovanie stravovacích služieb – Časť 1 (DJŽ) | J2: Kritérium K3 – Cena za poskytovanie stravovacích služieb – Časť 1 (DJŽ)
B3: Uchádzač vyplní bledomodré bunky v časti A – jednotkovú cenu bez DPH pri každom druhu plnenia. Sadzba DPH je vo formulári prednastavená podľa príslušnej sadzby DPH a uchádzač ju nevypĺňa. Jednotková cena s DPH, ceny jednotlivých jedál a Ponuková cena K3 sa vypočítajú automaticky. Jednotkové ceny zahŕňajú všetky náklady a úhrady, ktoré podľa koncesnej dokumentácie znáša Koncesionár v súvislosti s riadnym poskytovaním Stravovacích služieb, vrátane nákladov a úhrad súvisiacich s užívaním Koncesného majetku a povinnými investíciami v rozsahu podľa Zmluvy. | C3: Uchádzač vyplní modré bunky v časti A – jednotkovú cenu bez DPH a sadzbu DPH pri každom druhu plnenia. Jednotková cena s DPH, ceny jednotlivých jedál a Ponuková cena K3 sa vypočítajú automaticky. Neplatiteľ DPH uvedie sadzbu 0 %. Jednotkové ceny zahŕňajú všetky náklady spojené s riadnym poskytovaním služby podľa Zmluvy. | D3: Uchádzač vyplní modré bunky v časti A – jednotkovú cenu bez DPH a sadzbu DPH pri každom druhu plnenia. Jednotková cena s DPH, ceny jednotlivých jedál a Ponuková cena K3 sa vypočítajú automaticky. Neplatiteľ DPH uvedie sadzbu 0 %. Jednotkové ceny zahŕňajú všetky náklady spojené s riadnym poskytovaním služby podľa Zmluvy. | E3: Uchádzač vyplní modré bunky v časti A – jednotkovú cenu bez DPH a sadzbu DPH pri každom druhu plnenia. Jednotková cena s DPH, ceny jednotlivých jedál a Ponuková cena K3 sa vypočítajú automaticky. Neplatiteľ DPH uvedie sadzbu 0 %. Jednotkové ceny zahŕňajú všetky náklady spojené s riadnym poskytovaním služby podľa Zmluvy. | F3: Uchádzač vyplní modré bunky v časti A – jednotkovú cenu bez DPH a sadzbu DPH pri každom druhu plnenia. Jednotková cena s DPH, ceny jednotlivých jedál a Ponuková cena K3 sa vypočítajú automaticky. Neplatiteľ DPH uvedie sadzbu 0 %. Jednotkové ceny zahŕňajú všetky náklady spojené s riadnym poskytovaním služby podľa Zmluvy. | G3: Uchádzač vyplní modré bunky v časti A – jednotkovú cenu bez DPH a sadzbu DPH pri každom druhu plnenia. Jednotková cena s DPH, ceny jednotlivých jedál a Ponuková cena K3 sa vypočítajú automaticky. Neplatiteľ DPH uvedie sadzbu 0 %. Jednotkové ceny zahŕňajú všetky náklady spojené s riadnym poskytovaním služby podľa Zmluvy. | H3: Uchádzač vyplní modré bunky v časti A – jednotkovú cenu bez DPH a sadzbu DPH pri každom druhu plnenia. Jednotková cena s DPH, ceny jednotlivých jedál a Ponuková cena K3 sa vypočítajú automaticky. Neplatiteľ DPH uvedie sadzbu 0 %. Jednotkové ceny zahŕňajú všetky náklady spojené s riadnym poskytovaním služby podľa Zmluvy. | I3: Uchádzač vyplní modré bunky v časti A – jednotkovú cenu bez DPH a sadzbu DPH pri každom druhu plnenia. Jednotková cena s DPH, ceny jednotlivých jedál a Ponuková cena K3 sa vypočítajú automaticky. Neplatiteľ DPH uvedie sadzbu 0 %. Jednotkové ceny zahŕňajú všetky náklady spojené s riadnym poskytovaním služby podľa Zmluvy. | J3: Uchádzač vyplní modré bunky v časti A – jednotkovú cenu bez DPH a sadzbu DPH pri každom druhu plnenia. Jednotková cena s DPH, ceny jednotlivých jedál a Ponuková cena K3 sa vypočítajú automaticky. Neplatiteľ DPH uvedie sadzbu 0 %. Jednotkové ceny zahŕňajú všetky náklady spojené s riadnym poskytovaním služby podľa Zmluvy.
B5: A. Jednotkové ceny zadávané uchádzačom | C5: A. Jednotkové ceny zadávané uchádzačom | D5: A. Jednotkové ceny zadávané uchádzačom | E5: A. Jednotkové ceny zadávané uchádzačom | F5: A. Jednotkové ceny zadávané uchádzačom | G5: A. Jednotkové ceny zadávané uchádzačom | H5: A. Jednotkové ceny zadávané uchádzačom | I5: A. Jednotkové ceny zadávané uchádzačom | J5: A. Jednotkové ceny zadávané uchádzačom
B6: P. č. | C6: Druh plnenia | D6: Diéta | E6: Merná jednotka | F6: Jednotková cena bez DPH | G6: Sadzba DPH | H6: DPH na jednotku | I6: Jednotková cena s DPH | J6: Poznámka
B7: 1 | C7: Celodenná stravná jednotka | D7: D3 – racionálna | E7: stravná jednotka | F7: 0 | G7: =IF(Ponuka!$D$10="Som platcom DPH",5%,IF(Ponuka!$D$10="Nie som platcom DPH",0%,"")) -> 0.05 | H7: =IF(AND(ISNUMBER(F7),ISNUMBER(G7)),ROUND(F7*G7,4),"") -> 0 | I7: =IF(AND(ISNUMBER(F7),ISNUMBER(H7)),ROUND(F7+H7,4),"") -> 0 | J7: Základ na výpočet cien jedál D3
B8: 2 | C8: Celodenná stravná jednotka | D8: D4 – šetriaca | E8: stravná jednotka | F8: 0 | G8: =IF(Ponuka!$D$10="Som platcom DPH",5%,IF(Ponuka!$D$10="Nie som platcom DPH",0%,"")) -> 0.05 | H8: =IF(AND(ISNUMBER(F8),ISNUMBER(G8)),ROUND(F8*G8,4),"") -> 0 | I8: =IF(AND(ISNUMBER(F8),ISNUMBER(H8)),ROUND(F8+H8,4),"") -> 0 | J8: Základ na výpočet cien jedál D4
B9: 3 | C9: Celodenná stravná jednotka | D9: D9 – diabetická | E9: stravná jednotka | F9: 0 | G9: =IF(Ponuka!$D$10="Som platcom DPH",5%,IF(Ponuka!$D$10="Nie som platcom DPH",0%,"")) -> 0.05 | H9: =IF(AND(ISNUMBER(F9),ISNUMBER(G9)),ROUND(F9*G9,4),"") -> 0 | I9: =IF(AND(ISNUMBER(F9),ISNUMBER(H9)),ROUND(F9+H9,4),"") -> 0 | J9: Základ na výpočet cien jedál D9
B10: 4 | C10: Obed zamestnanca | D10: – | E10: obed | F10: 0 | G10: =IF(Ponuka!$D$10="Som platcom DPH",5%,IF(Ponuka!$D$10="Nie som platcom DPH",0%,"")) -> 0.05 | H10: =IF(AND(ISNUMBER(F10),ISNUMBER(G10)),ROUND(F10*G10,4),"") -> 0 | I10: =IF(AND(ISNUMBER(F10),ISNUMBER(H10)),ROUND(F10+H10,4),"") -> 0 | J10: Samostatná jednotková cena
B12: B. Výpočet ponukovej ceny podľa kritéria K3 | C12: B. Výpočet ponukovej ceny podľa kritéria K3 | D12: B. Výpočet ponukovej ceny podľa kritéria K3 | E12: B. Výpočet ponukovej ceny podľa kritéria K3 | F12: B. Výpočet ponukovej ceny podľa kritéria K3 | G12: B. Výpočet ponukovej ceny podľa kritéria K3 | H12: B. Výpočet ponukovej ceny podľa kritéria K3 | I12: B. Výpočet ponukovej ceny podľa kritéria K3 | J12: B. Výpočet ponukovej ceny podľa kritéria K3
B13: P. č. | C13: Diéta | D13: Druh jedla | E13: Podiel z ceny celodennej stravnej jednotky | F13: Predpokladané množstvo za 48 mesiacov | G13: Jednotková cena bez DPH | H13: Cena celkom bez DPH | I13: Výška DPH | J13: Cena celkom s DPH
B14: 1 | C14: D3 | D14: Raňajky | E14: 0.12 | F14: 93845 | G14: =IF(ISNUMBER($F$7),ROUND($F$7*E14,4),"") -> 0 | H14: =IF(AND(ISNUMBER(F14),ISNUMBER(G14)),ROUND(F14*G14,2),"") -> 0 | I14: =IF(AND(ISNUMBER(H14),ISNUMBER($G$7)),ROUND(H14*$G$7,2),"") -> 0 | J14: =IF(AND(ISNUMBER(H14),ISNUMBER(I14)),ROUND(H14+I14,2),"") -> 0
B15: 2 | C15: D3 | D15: Desiata | E15: 0.09 | F15: 29249 | G15: =IF(ISNUMBER($F$7),ROUND($F$7*E15,4),"") -> 0 | H15: =IF(AND(ISNUMBER(F15),ISNUMBER(G15)),ROUND(F15*G15,2),"") -> 0 | I15: =IF(AND(ISNUMBER(H15),ISNUMBER($G$7)),ROUND(H15*$G$7,2),"") -> 0 | J15: =IF(AND(ISNUMBER(H15),ISNUMBER(I15)),ROUND(H15+I15,2),"") -> 0
B16: 3 | C16: D3 | D16: Obed prijímateľa | E16: 0.45 | F16: 143221 | G16: =IF(ISNUMBER($F$7),ROUND($F$7*E16,4),"") -> 0 | H16: =IF(AND(ISNUMBER(F16),ISNUMBER(G16)),ROUND(F16*G16,2),"") -> 0 | I16: =IF(AND(ISNUMBER(H16),ISNUMBER($G$7)),ROUND(H16*$G$7,2),"") -> 0 | J16: =IF(AND(ISNUMBER(H16),ISNUMBER(I16)),ROUND(H16+I16,2),"") -> 0
B17: 4 | C17: D3 | D17: Olovrant | E17: 0.09 | F17: 31241 | G17: =IF(ISNUMBER($F$7),ROUND($F$7*E17,4),"") -> 0 | H17: =IF(AND(ISNUMBER(F17),ISNUMBER(G17)),ROUND(F17*G17,2),"") -> 0 | I17: =IF(AND(ISNUMBER(H17),ISNUMBER($G$7)),ROUND(H17*$G$7,2),"") -> 0 | J17: =IF(AND(ISNUMBER(H17),ISNUMBER(I17)),ROUND(H17+I17,2),"") -> 0
B18: 5 | C18: D3 | D18: Večera | E18: 0.25 | F18: 75944 | G18: =IF(ISNUMBER($F$7),ROUND($F$7*E18,4),"") -> 0 | H18: =IF(AND(ISNUMBER(F18),ISNUMBER(G18)),ROUND(F18*G18,2),"") -> 0 | I18: =IF(AND(ISNUMBER(H18),ISNUMBER($G$7)),ROUND(H18*$G$7,2),"") -> 0 | J18: =IF(AND(ISNUMBER(H18),ISNUMBER(I18)),ROUND(H18+I18,2),"") -> 0
B19: 6 | C19: D4 | D19: Raňajky | E19: 0.12 | F19: 5027 | G19: =IF(ISNUMBER($F$8),ROUND($F$8*E19,4),"") -> 0 | H19: =IF(AND(ISNUMBER(F19),ISNUMBER(G19)),ROUND(F19*G19,2),"") -> 0 | I19: =IF(AND(ISNUMBER(H19),ISNUMBER($G$8)),ROUND(H19*$G$8,2),"") -> 0 | J19: =IF(AND(ISNUMBER(H19),ISNUMBER(I19)),ROUND(H19+I19,2),"") -> 0
B20: 7 | C20: D4 | D20: Desiata | E20: 0.09 | F20: 1567 | G20: =IF(ISNUMBER($F$8),ROUND($F$8*E20,4),"") -> 0 | H20: =IF(AND(ISNUMBER(F20),ISNUMBER(G20)),ROUND(F20*G20,2),"") -> 0 | I20: =IF(AND(ISNUMBER(H20),ISNUMBER($G$8)),ROUND(H20*$G$8,2),"") -> 0 | J20: =IF(AND(ISNUMBER(H20),ISNUMBER(I20)),ROUND(H20+I20,2),"") -> 0
B21: 8 | C21: D4 | D21: Obed prijímateľa | E21: 0.45 | F21: 7673 | G21: =IF(ISNUMBER($F$8),ROUND($F$8*E21,4),"") -> 0 | H21: =IF(AND(ISNUMBER(F21),ISNUMBER(G21)),ROUND(F21*G21,2),"") -> 0 | I21: =IF(AND(ISNUMBER(H21),ISNUMBER($G$8)),ROUND(H21*$G$8,2),"") -> 0 | J21: =IF(AND(ISNUMBER(H21),ISNUMBER(I21)),ROUND(H21+I21,2),"") -> 0
B22: 9 | C22: D4 | D22: Olovrant | E22: 0.09 | F22: 1673 | G22: =IF(ISNUMBER($F$8),ROUND($F$8*E22,4),"") -> 0 | H22: =IF(AND(ISNUMBER(F22),ISNUMBER(G22)),ROUND(F22*G22,2),"") -> 0 | I22: =IF(AND(ISNUMBER(H22),ISNUMBER($G$8)),ROUND(H22*$G$8,2),"") -> 0 | J22: =IF(AND(ISNUMBER(H22),ISNUMBER(I22)),ROUND(H22+I22,2),"") -> 0
B23: 10 | C23: D4 | D23: Večera | E23: 0.25 | F23: 4068 | G23: =IF(ISNUMBER($F$8),ROUND($F$8*E23,4),"") -> 0 | H23: =IF(AND(ISNUMBER(F23),ISNUMBER(G23)),ROUND(F23*G23,2),"") -> 0 | I23: =IF(AND(ISNUMBER(H23),ISNUMBER($G$8)),ROUND(H23*$G$8,2),"") -> 0 | J23: =IF(AND(ISNUMBER(H23),ISNUMBER(I23)),ROUND(H23+I23,2),"") -> 0
B24: 11 | C24: D9 | D24: Raňajky | E24: 0.12 | F24: 17596 | G24: =IF(ISNUMBER($F$9),ROUND($F$9*E24,4),"") -> 0 | H24: =IF(AND(ISNUMBER(F24),ISNUMBER(G24)),ROUND(F24*G24,2),"") -> 0 | I24: =IF(AND(ISNUMBER(H24),ISNUMBER($G$9)),ROUND(H24*$G$9,2),"") -> 0 | J24: =IF(AND(ISNUMBER(H24),ISNUMBER(I24)),ROUND(H24+I24,2),"") -> 0
B25: 12 | C25: D9 | D25: Desiata | E25: 0.09 | F25: 5484 | G25: =IF(ISNUMBER($F$9),ROUND($F$9*E25,4),"") -> 0 | H25: =IF(AND(ISNUMBER(F25),ISNUMBER(G25)),ROUND(F25*G25,2),"") -> 0 | I25: =IF(AND(ISNUMBER(H25),ISNUMBER($G$9)),ROUND(H25*$G$9,2),"") -> 0 | J25: =IF(AND(ISNUMBER(H25),ISNUMBER(I25)),ROUND(H25+I25,2),"") -> 0
