Workbook

Sheet Príloha č. 1
A1: Názov predmetu zákazky:
A2: ='Príloha č. 2'!A2:G2 -> Strážna služba
A4: LIST S KONTAKTNÝMI ÚDAJMI OPRÁVNENEJ OSOBY UCHÁDZAČA
A6: Obchodné meno/Názov uchádzača:
A7: Sídlo/miesto podnikania uchádzača:
A8: IČO:
A9: DIČ:
A11: Kontaktná osoba uchádzača - počas prieskumu trhu
A12: Meno a priezvisko:
A13: Pracovné zaradenie:
A14: Telefónne číslo:
A15: E-mail:
A17: Kontaktná osoba uchádzača - plnenie zmluvy
A18: Meno a priezvisko:
... A25: Dňa:
C28: Podpis a pečiatka:
C29: Meno a priezvisko oprávnenéj osoby na podpisovanie:
A32: Poznámka:
B33: - povinné údaje vyplní uchádzač

Sheet Príloha č. 2
A1: Názov predmetu zákazky:
A2: Strážna služba
A3: ŠPECIFIKÁCIA PREDMETU ZÁKAZKY
A5: Požadované minimálne technické vlastnosti, parametre a hodnoty predmetu zákazky | F5: Uchádzač uvedie informácie, či ním ponúkaný produkt spĺňa, resp. nespĺňa verejným obstarávateľom definované požiadavky na predmet zákazky (v prípade, ak ponúkaný produkt nespĺňa definované požiadavky uvedie ekvivalentnú hodnotu ním ponúkaného produktu)
F6: spĺňa / nespĺňa | G6: hodnota ponúkaného ekvivalentného produktu
A7: Predmetom zákazky je zabezpečenie strážnej služby v priestoroch verejného obstarávateľa ako poskytovateľa ústavnej a ambulantnej zdravotnej starostlivosti - v objekte budov špecializovanej nemocnice vrátane priľahlých parkovísk v súlade s § 3 písm. a) až c) zákona č. 473/2005 Z.z. v znení neskorších predpisov
A8: 1. | B8: strážna služba musí zahŕňať ochranu osôb a majetku na verejne prístupnom mieste a ochranu osôb a majetku na inom než verejne prístupnom mieste verejného obstarávateľa, vrátane poskytnutia neodkladnej pomoci pri stave dezorientácie po narkóze so sprievodným javom agresívneho správania pacienta a v prípade neprispôsobivého správania sa návštev, rodinných príslušníkov pacientov v ambulantnej ako aj lôžkovej časti,
A9: 2. | B9: uchádzač musí byť držiteľom licencie na prevádzkovanie bezpečnostnej služby v zmysle zák. č. 473/2005 Z. z. v znení neskorších predpisov alebo iného ekvivalentného predpisu,
A10: 3. | B10: výkon strážnej služby u verejného obstarávateľa musí byť zabezpečený minimálne troma odborne spôsobilými osobami, ktoré:
B11: 3.1 | C11: absolvovali skúšku odbornej spôsobilosti typu S pre osoby poverené výkonom fyzickej ochrany a pátrania v zmysle § 19 ods. 1 písm. a) zák. č. 473/2005 Z. z. v znení neskorších predpisov alebo iného ekvivalentného predpisu a sú držiteľom preukazu odbornej spôsobilosti typu S podľa § 20 ods. 1 zák. č. 473/2005 Z. z. v znení neskorších predpisov alebo iného ekvivalentného dokladu podľa iného ekvivalentného predpisu,
A12: 4. | B12: strážna služba musí byť počas výkonu služby zabezpečená jednou odborne spôsobilou osobou na výkon strážnej služby, ktorá bude v mene prevádzkovateľa zabezpečovať strážnu službu:
B13: 4.1 | C13: v pondelok až piatok, v dobe od 17.00 hod. do 07.00 hod.,
B14: 4.2 | C14: v sobotu, nedeľu, deň pracovného voľna, pokoja a v štátny sviatok v dobe od 00.00 hod. do 24.00 hod., t.j. nepretržite, pričom v čase od 07,00 hod. do 13,30 hod., od 13,30 do 17,00 zabezpečenie chodu recepcie a od 17,00 hod. do 07,00 hod. je poverená odborne spôsobilá osoba na výkon strážnej služby v mene prevádzkovateľa vykonávať obchôdzkovú činnosť v rámci celého objektu verejného obstarávateľa, a to tým spôsobom, že v nepravidelných intervaloch vykoná obchôdzku na všetkých poschodiach objektu, najmä priestorov prístupných verejnosti a taktiež priestorov nachádzajúcich sa pred objektom verejného obstarávateľa,
B15: 4.3 | C15: podľa požiadaviek verejného obstarávateľa aj nad rámec vymedzeného času uvedeného v bode 4.2,
B16: 4.4 | C16: vykonávať ochranu objektu v rovnošate s viditeľným vonkajším označením prevádzkovateľa,
B17: 4.5 | C17: zúčastňovať sa neodkladnej požiadavky službukonajúceho zdravotníckeho personálu alebo pracovníka Velína pri stave dezorientácie po narkóze so sprievodným javom agresívneho správania u pacienta a v prípade neprispôsobivého správania sa návštev, rodinných príslušníkov pacientov,
B18: 4.6 | C18: v prípade neprispôsobivého správania sa návštev, rodinných príslušníkov pacientov v priestoroch CPO a lôžkovej časti dbať na poriadok a bezpečnosť v uvedených priestoroch,
B19: 4.7 | C19: v prípade zistenia porušenia zákona o ochrane nefajčiarov v priestoroch objektu verejného obstarávateľa, zamedzí jeho ďalšiemu porušovaniu a vykonáva potrebné opatrenia,
B20: 4.8 | C20: kontrolovať vozidlá parkujúce v objekte verejného obstarávateľa a v prípade zistenia ich poškodenia, vlámania alebo krádeže kontaktovať pracovníka Velína,
B21: 4.9 | C21: v dňoch pracovného pokoja a štátnych sviatkov vykonávať kontrolnú a informačnú službu v priestoroch hlavného vstupu pre návštevy,
B22: 4.10 | C22: podľa potrieb a požiadaviek zabezpečiť urgentný nástup do služby (do 1 hodiny) mimo zmluvne dohodnutých požiadaviek,
A23: 5. | B23: prevádzkovateľ musí zaručiť kvalitu poskytovanej strážnej služby počas celej doby trvania zmluvného vzťahu,
A24: 6. | B24: verejný obstarávateľ požaduje, aby prevádzkovateľ sa zaviazal nahradiť škodu spôsobenú verejnému obstarávateľovi nesplnením si povinnosti osobami zodpovednými za výkon strážnej služby, alebo spôsobením škody úmyselne po predložení hodnoverného dokladu, alebo správy o vlastníctve alebo nájme odcudzenej, poškodenej alebo zničenej veci alebo škode spôsobenej na zdraví na zdokumentovanie udalosti a postup v súlade s platnou legislatívou a zmluvou uzatvorenou medzi uchádzačom a poisťovňou (poistná zmluva) bez prieťahov,
A25: 7. | B25: zistené nedostatky služieb musia byť druhou stranou vždy písomne reklamované najneskôr do troch dní od ich zistenia,
A26: 8. | B26: verejný obstarávateľ požaduje, aby v prípade potreby alebo požiadavky vedel prevádzkovateľ zvýšiť počet zamestnancov vo výkone strážnej služby na dohodnuté obdobie,
A27: 9. | B27: pri vykonávaní ochrany osoby prevádzkovateľ, ako aj jeho zamestnanci sú povinní dbať na česť, vážnosť a dôstojnosť osoby verejného obstarávateľa i svoju vlastnú a nepripustiť, aby v súvislosti s touto ich činnosťou vznikla osobe bezdôvodná ujma a aby prípadný zásah do jej práv a slobôd neprekročil mieru nevyhnutnú na dosiahnutie účelu sledovaného ich činnosťou. Prevádkovateľ musí obsadzovať do strážnej služby v objekte verejného obstarávateľa takých zamestnancov, ktorí sú schopní samostatného inteligentného vystupovania, posilňujúcich priaznivý imidž verejného obstarávateľa, zodpovedných, ovládajúcich predpisy a požiadavky pre výkon strážnej služby a schopných zvládnuť aj neočakávané situácie na patričnej úrovni,
A28: 10. | B28: prevádzkovateľ, ako aj jeho zamestnanci, sú povinní zachovávať mlčanlivosť o všetkých skutočnostiach, o ktorých sa dozvedia v súvislosti s poskytovaním služieb. Tejto povinnosti ich môže zbaviť iba verejný obstarávateľ. Oznamovacia povinnosť alebo povinnosť vypovedať podľa osobitných predpisov tým nie je dotknutá,
A29: 11. | B29: zamestnanci prevádzkovateľa poverení výkonom fyzickej ochrany sú povinní nosiť identifikačný preukaz, rovnošaty spoločnosti s označením príslušnosti k prevádzkovateľovi a byť vybavení vecnými bezpečnostnými prostriedkami. Pri plnení úloh sú povinní mať viditeľne umiestnený identifikačný preukaz na ľavej strane v oblasti pŕs,
A30: 12. | B30: prevádzkovateľ je povinný v súčinnosti s verejným obstarávateľom najneskôr do 15 dní od účinnosti zmluvy vypracovať Zásady pre výkon strážnej služby, ktoré budú záväzné pre výkon jeho zamestnancov, a ktoré budú modifikované podľa potreby a vývoja bezpečnostnej situácie v objekte
A31: 13. | B31: prevádzkovateľ je povinný poskytnúť všetkým osobám, ktoré budú vykonávať strážnu službu, pomôcky nevyhnutné pre výkon ich činnosti,
A32: 14. | B32: pred nástupom výkonu činnosti je prevádzkovateľ povinný zabezpečiť účasť všetkých osôb, ktoré budú vykonávať strážnu službu na školení týkajúceho sa bezpečnostných smerníc verejného obstarávateľa a zabezpečiť, aby účastníci tohto školenia svojím vlastnoručným podpisom v zozname predloženom verejným obstarávateľom potvrdili svoju účasť na školení,
A33: 15. | B33: prevádzkovateľ je pri výkone svojej činnosti povinný dodržiavať hygienické predpisy, predpisy upravujúce bezpečnosť a ochranu zdravia pri práci a protipožiarne predpisy v zmysle zákona č. 314/2001 Z. z. o ochrane pred požiarmi v znení neskorších predpisov, s prihliadnutím na smernice a osobitné pokyny verejného obstarávateľa týkajúce sa hygieny, bezpečnosti a ochrany zdravia pri práci a požiarnej prevencii v mieste plnenia,
A34: 16. | B34: prevádzkovateľ je povinný viesť na stráženom stanovisku Knihu evidencie služieb, príp. iný druh evidencie v súlade s príslušnými právnymi predpismi a smernicou o výkone strážnej služby a v prípade požiadavky ju predložiť k nahliadnutiu poverenému zástupcovi verejného obstarávateľa.
... A36: 18. | B36: prevádzkovateľ je pri výkone strážnej služby povinný v rámci prevencie predkladať písomné návrhy na opatrenia nevyhnutné k riadnemu zaisteniu poskytovaných služieb a predchádzať vzniku možných škôd pri výkone strážnej služby,
A38: Týmto potvrdzujem, že všetky uvedené informácie sú pravdivé.
A39: Obchodné meno/Názov uchádzača: | E39: =IF('Príloha č. 1'!$C$6="","",'Príloha č. 1'!$C$6)
A40: Sídlo/miesto podnikania uchádzača: | E40: =IF('Príloha č. 1'!$C$7="","",'Príloha č. 1'!$C$7)
A41: IČO: | E41: =IF('Príloha č. 1'!$C$8="","",'Príloha č. 1'!$C$8)
A42: DIČ: | E42: =IF('Príloha č. 1'!$C$9="","",'Príloha č. 1'!$C$9)
A43: Kontaktná osoba dodávateľa pre účely overenia si informácií týkajúcich sa technických parametrov ponúkaného produktu:
...

Sheet Príloha č. 3
A1: Názov predmetu zákazky:
A2: ='Príloha č. 2'!A2:G2 -> Strážna služba
A4: KALKULÁCIA CENY
A5: Por. č. | B5: Názov položky | C5: Mer. jed. (MJ) | D5: Predpokladané množstvo MJ (na obdobie 24 mes.) | E5: Názov ponúkaného produktu uchádzača | F5: Jednotková cena za MJ v EUR | J5: Celková cena za predpokladané množstvo MJ v EUR
F6: bez DPH | G6: Sadzba DPH v % | H6: DPH | I6: s DPH | J6: bez DPH | K6: s DPH
A7: 1. | B7: 2. | C7: 3. | D7: 4. | E7: 5. | F7: 6. | G7: 7. | H7: 8. | I7: 9. | J7: 10. | K7: 11.
A8: 1. | B8: Strážna služba | C8: osobo/hodina | D8: 13000 | H8: =F8*G8 -> 0 | I8: =F8+H8 -> 0 | J8: =D8*F8 -> 0 | K8: =J8+(J8*G8) -> 0
J9: =SUM(J8:J8) -> 0 | K9: =SUM(K8:K8) -> 0
A10: Obchodné meno/Názov uchádzača: | C10: =IF('Príloha č. 1'!$C$6="","",'Príloha č. 1'!$C$6)
A11: Sídlo/miesto podnikania uchádzača: | C11: =IF('Príloha č. 1'!$C$7="","",'Príloha č. 1'!$C$7)
A12: IČO: | C12: =IF('Príloha č. 1'!$C$8="","",'Príloha č. 1'!$C$8)
A13: DIČ: | C13: =IF('Príloha č. 1'!$C$9="","",'Príloha č. 1'!$C$9)
A15: V: | B15: =IF('Príloha č. 1'!B24:C24="","",'Príloha č. 1'!B24:C24)
A16: Dňa: | B16: =IF('Príloha č. 1'!B25:C25="","",'Príloha č. 1'!B25:C25) | I16: Podpis a pečiatka:
I17: Meno a priezvisko oprávnenéj osoby na podpisovanie: | J17: =IF('Príloha č. 1'!$D$29="","",'Príloha č. 1'!$D$29)
A19: Poznámka:
B20: - povinné údaje vyplní uchádzač
B22: - cena, ktorú uchádzač vloží do systému JOSEPHINE
B24: - kritérium na vyhodnotenie ponúk

Sheet Príloha č. 4
A1: Názov predmetu zákazky
A2: ='Príloha č. 2'!A2:G2 -> Strážna služba
A4: VYHLÁSENIE UCHÁDZAČA KU KONFLIKTU ZÁUJMOV
A6: Obchodné meno/Názov uchádzača: | C6: =IF('Príloha č. 1'!$C$6="","",'Príloha č. 1'!$C$6)
A7: Sídlo/miesto podnikania uchádzača: | C7: =IF('Príloha č. 1'!$C$7="","",'Príloha č. 1'!$C$7)
A8: IČO: | C8: =IF('Príloha č. 1'!$C$8="","",'Príloha č. 1'!$C$8)
A9: DIČ: | C9: =IF('Príloha č. 1'!$C$9="","",'Príloha č. 1'!$C$9)
A11: Týmto vyhlasujem, že ako uchádzač vo verejnom obstarávaní na uvedený predmet zákazky:
A12: - | B12: som nevyvíjal a nebudem vyvíjať voči žiadnej osobe na strane verejného obstarávateľa ktorá je alebo by mohla byť zainteresovaná v zmysle ustanovení § 23 ods. 3 zákona č. 343/2015 Z. z. o verejnom obstarávaní a o zmene a doplnení niektorých zákonov v znení neskorších predpisov („zainteresovaná osoba“) akékoľvek aktivity, ktoré vy mohli viesť k zvýhodneniu nášho postavenia vo verejnom obstarávaní,
A13: - | B13: som neposkytol a neposkytnem akejkoľvek, čo i len potenciálne zainteresovanej osobe priamo alebo nepriamo akúkoľvek finančnú alebo vecnú výhodu ako motiváciu alebo odmenu súvisiacu s týmto verejným obstarávaním,
A14: - | B14: budem bezodkladne informovať verejného obstarávateľa o akejkoľvek situácii, ktorá je považovaná za konflikt záujmov alebo ktorá by mohla viesť ku konfliktu záujmov kedykoľvek v priebehu procesu verejného obstarávania.
A16: V: | B16: =IF('Príloha č. 1'!B24:C24="","",'Príloha č. 1'!B24:C24)
A17: Dňa: | B17: =IF('Príloha č. 1'!B25:C25="","",'Príloha č. 1'!B25:C25)
C19: Meno a priezvisko oprávnenéj osoby na podpisovanie: | D19: =IF('Príloha č. 1'!$D$29="","",'Príloha č. 1'!$D$29)
D20: Podpis a pečiatka uchádzača
A21: Poznámka:
B22: - povinné údaje vyplní uchádzač

Sheet Príloha č. 5
A1: Názov predmetu zákazky:
A2: ='Príloha č. 2'!A2:G2 -> Strážna služba
A4: VYHLÁSENIE UCHÁDZAČA O SÚHLASE S OBSAHOM NÁVRHU ZMLUVNÝCH PODMIENOK
A6: Obchodné meno/Názov uchádzača: | C6: =IF('Príloha č. 1'!$C$6="","",'Príloha č. 1'!$C$6)
A7: Sídlo/miesto podnikania uchádzača: | C7: =IF('Príloha č. 1'!$C$7="","",'Príloha č. 1'!$C$7)
A8: IČO: | C8: =IF('Príloha č. 1'!$C$8="","",'Príloha č. 1'!$C$8)
A9: DIČ: | C9: =IF('Príloha č. 1'!$C$9="","",'Príloha č. 1'!$C$9)
A11: Uchádzač vo verejnom obstarávaní na uvedený predmet zákazky týmto vyhlasuje, že s návrhom zmluvných podmienok bez výhrad SÚHLASÍ.
A14: V: | B14: =IF('Príloha č. 1'!B24:C24="","",'Príloha č. 1'!B24:C24)
A15: Dňa: | B15: =IF('Príloha č. 1'!B25:C25="","",'Príloha č. 1'!B25:C25)
C18: Podpis a pečiatka:
C19: Meno a priezvisko oprávnenéj osoby na podpisovanie: | D19: =IF('Príloha č. 1'!$D$29="","",'Príloha č. 1'!$D$29)
A21: Poznámka:
B22: - povinné údaje vyplní uchádzač

Sheet Príloha č. 6
A1: Názov predmetu zákazky:
A2: ='Príloha č. 1'!A2:D2 -> Strážna služba
A4: VYHLÁSENIE UCHÁDZAČA O NEULOŽENOM ZÁKAZE ÚČASTI VO VEREJNOM OBSTARÁVANÍ
A6: Obchodné meno/Názov uchádzača: | C6: =IF('Príloha č. 1'!$C$6="","",'Príloha č. 1'!$C$6)
A7: Sídlo/miesto podnikania uchádzača: | C7: =IF('Príloha č. 1'!$C$7="","",'Príloha č. 1'!$C$7)
A8: IČO: | C8: =IF('Príloha č. 1'!$C$8="","",'Príloha č. 1'!$C$8)
A9: DIČ: | C9: =IF('Príloha č. 1'!$C$9="","",'Príloha č. 1'!$C$9)
A11: Uchádzač vo verejnom obstarávaní na uvedený predmet zákazky týmto vyhlasuje, že nemá uložený zákaz účasti vo verejnom obstarávaní potvrdený konečným rozhodnutím v Slovenskej republike a v štáte sídla, miesta podnikania alebo obvyklého pobytu.
A14: V: | B14: =IF('Príloha č. 1'!B24:C24="","",'Príloha č. 1'!B24:C24)
A15: Dňa: | B15: =IF('Príloha č. 1'!B25:C25="","",'Príloha č. 1'!B25:C25)
C18: Podpis a pečiatka:
C19: Meno a priezvisko oprávnenéj osoby na podpisovanie: | D19: =IF('Príloha č. 1'!$D$29="","",'Príloha č. 1'!$D$29)
A21: Poznámka:
B22: - povinné údaje vyplní uchádzač

Sheet Príloha č. 7  
A1: Názov predmetu zákazky:
A2: ='Príloha č. 1'!A2:D2 -> Strážna služba
A4: VYHLÁSENIE UCHÁDZAČA O ZÁPISE DO ZHS
A6: Obchodné meno/Názov uchádzača: | C6: =IF('Príloha č. 1'!$C$6="","",'Príloha č. 1'!$C$6)
A7: Sídlo/miesto podnikania uchádzača: | C7: =IF('Príloha č. 1'!$C$7="","",'Príloha č. 1'!$C$7)
A8: IČO: | C8: =IF('Príloha č. 1'!$C$8="","",'Príloha č. 1'!$C$8)
A9: DIČ: | C9: =IF('Príloha č. 1'!$C$9="","",'Príloha č. 1'!$C$9)
A11: Uchádzač vo verejnom obstarávaní na uvedený predmet zákazky týmto vyhlasuje, že je zapísaný v zozname hospodárskych subjektov.
A14: V: | B14: =IF('Príloha č. 1'!B24:C24="","",'Príloha č. 1'!B24:C24)
A15: Dňa: | B15: =IF('Príloha č. 1'!B25:C25="","",'Príloha č. 1'!B25:C25)
C18: Podpis a pečiatka:
C19: Meno a priezvisko oprávnenéj osoby na podpisovanie: | D19: =IF('Príloha č. 1'!$D$29="","",'Príloha č. 1'!$D$29)
A21: Poznámka:
B22: - povinné údaje vyplní uchádzač

Sheet Príloha č. 8
A1: Názov predmetu zákazky:
A2: Strážna služba
A4: ZOZNAM ODBORNE SPÔBILÝCH OSÔB
A5: dolu podpísaný štatutárny orgán spoločnosti: | D5: =IF('Príloha č. 1'!$C$6="","",'Príloha č. 1'!$C$6)
A6: predkladám zoznam odborne spôsobilých osôb, ktoré budú poverené výkonom fyzickej ochrany u verejného obstarávateľa:
A8: P.č. | B8: Meno a priezvisko, titul | C8: E-mail | D8: Telefónne číslo | E8: Informácia o tom, či je zamestnancom uchádzača (áno / nie)
A9: 1. | B9: 2. | C9: 3. | D9: 4. | E9: 5.
A17: Obchodné meno/Názov uchádzača: | C17: =IF('Príloha č. 1'!$C$6="","",'Príloha č. 1'!$C$6)
A18: Sídlo/miesto podnikania uchádzača: | C18: =IF('Príloha č. 1'!$C$7="","",'Príloha č. 1'!$C$7)
A19: IČO: | C19: =IF('Príloha č. 1'!$C$8="","",'Príloha č. 1'!$C$8)
A20: DIČ: | C20: =IF('Príloha č. 1'!$C$9="","",'Príloha č. 1'!$C$9)
A24: V: | B24: =IF('Príloha č. 1'!B24:C24="","",'Príloha č. 1'!B24:C24)
A25: Dňa: | B25: =IF('Príloha č. 1'!B25:C25="","",'Príloha č. 1'!B25:C25)
D29: Meno a priezvisko oprávnenéj osoby na podpisovanie: | E29: =IF('Príloha č. 1'!$D$29="","",'Príloha č. 1'!$D$29)
E30: Podpis a pečiatka uchádzača
A33: Poznámka:
B34: - povinné údaje vyplní uchádzač

Sheet Príloha č. 9
A3: Názov predmetu zákazky:
A4: Strážna služba
A6: ČESTNÉ VYHLÁSENIE UCHÁDZAČA
A7: podľa ust. § 114 ods. 1 zákona č. 343/2015 Z. z. o verejnom obstarávaní a o zmene a doplnení niektorých zákonov v znení neskorších predpisov
A9: Obchodné meno/Názov uchádzača: | C9: =IF('Príloha č. 1'!$C$6="","",'Príloha č. 1'!$C$6)
A10: Sídlo/miesto podnikania uchádzača: | C10: =IF('Príloha č. 1'!$C$7="","",'Príloha č. 1'!$C$7)
A11: IČO: | C11: =IF('Príloha č. 1'!$C$8="","",'Príloha č. 1'!$C$8)
A12: DIČ: | C12: =IF('Príloha č. 1'!$C$9="","",'Príloha č. 1'!$C$9)
A14: Týmto čestne vyhlasujem, že ako uchádzač vo verejnom obstarávaní na uvedený predmet zákazky ku dňu predkladania ponúk spĺňam osobitné požiadavky a doklady uvedené vo Výzve na predkladanie ponúk v plnom rozsahu a v rámci súčinnosti na uzavretie zmluvy ich predložím vo forme naskenovaných originálnych dokladov alebo ich úradne osvedčených kópií (sken):
A15: - | B15: bod VII.1 - zoznam odborne spôsobilých osôb, ktoré budú poverené výkonom fyzickej ochrany u objednávateľa, ktorý bude podpísaný štatutárnym orgánom dodávateľa alebo ním splnomocneného zástupcu;
A16: - | B16: bod VII.2 - vyhlásenie každej odborne spôsobilej osoby na výkon fyzickej ochrany, ktorá je uvedená v predloženom zozname, že bude objednávateľovi k dispozícii na plnenie zmluvy pre objednávateľa;
A17: - | B17: bod VIII.2 - preukaz odbornej spôsobilosti typu S podľa § 20 ods. 1 zák. č. 473/2005 Z. z. v znení neskorších predpisov alebo iného ekvivalentného dokladu podľa iného ekvivalentného predpisu pre každú odborne spôsobilú osobu na výkon fyzickej ochrany uvedenú v predloženom zozname;
A18: - | B18: bod VIII.3 - doklad o absolvovaní odborného výcviku osobnej obrany každou odborne spôsobilou osobou na výkon fyzickej ochrany, ktorá je uvedená v predloženom zozname;
A19: - | B19: bod VIII.4 - profesijný životopis každej odborne spôsobilej osoby na výkon fyzickej ochrany uvedenej v predloženom zozname, z ktorého bude zrejmý druh a dĺžka praxe a typ režimového pracoviska za uplynulé tri roky;
A23: V: | B23: =IF('Príloha č. 1'!B24:C24="","",'Príloha č. 1'!B24:C24)
A24: Dňa: | B24: =IF('Príloha č. 1'!B25:C25="","",'Príloha č. 1'!B25:C25)
C27: Podpis a pečiatka:
C28: Meno a priezvisko oprávnenéj osoby na podpisovanie: | D28: =IF('Príloha č. 1'!$D$29="","",'Príloha č. 1'!$D$29)
A30: Poznámka:
B31: - povinné údaje vyplní uchádzač
