Workbook

Sheet Rekapitulácia stavby
A1: Export Komplet | BA1: 2.0 | BT1: False | BU1: True | BV1: {e6155ccb-7eb7-4cb3-adaa-8ef997c73608}
AR2: >> skryté stĺpce << | BS2: 0,001 | BT2: 20
BS3: 0,001 | BT3: 20
D4: REKAPITULÁCIA STAVBY | AS4: v --- nižšie sa nachádzajú doplnkové a pomocné údaje k zostavám --- v | BS4: 0,001
D5: Kód: | K5: MILO/04/2019 | BS5: 0,001
D6: Stavba: | K6: V.V. Chodník POH pred BD 280 ( parkoviská) | BS6: 0,001
D7: JKSO: | AK7: KS: | BS7: 0,001
D8: Miesto: | K8: Žiar nad Hronom | AK8: Dátum: | AN8: 12. 4. 2019 | BS8: 0,001
BS9: 0,001
D10: Objednávateľ: | AK10: IČO: | AN10: 0031125 | BS10: 0,001
E11: Mesto Žiar nad Hronom | AK11: IČ DPH: | AN11: 2021339463 | BS11: 0,001
BS12: 0,001
D13: Zhotoviteľ: | AK13: IČO: | BS13: 0,001
AK14: IČ DPH: | BS14: 0,001
BS15: False
D16: Projektant: | AK16: IČO: | BS16: False
AK17: IČ DPH: | BS17: True
BS18: 0,01
D19: Spracovateľ: | AK19: IČO: | BS19: 0,01
AK20: IČ DPH: | BS20: True
D22: Poznámka:
D26: Cena bez DPH | AK26: =ROUND(AG94,2) -> 0
L28: Sadzba dane | W28: Základ dane | AK28: Výška dane
D29: DPH | F29: základná | L29: 0.2 | W29: =ROUND(BB94, 2) -> 0 | AK29: =ROUND(AX94, 2) -> 0
F30: znížená | L30: 0.2 | W30: =ROUND(BC94, 2) -> 0 | AK30: =ROUND(AY94, 2) -> 0
F31: zákl. prenesená | L31: 0.2 | W31: =ROUND(BD94, 2) -> 0 | AK31: 0
F32: zníž. prenesená | L32: 0.2 | W32: =ROUND(BE94, 2) -> 0 | AK32: 0
F33: nulová | L33: 0 | W33: =ROUND(BF94, 2) -> 0 | AK33: 0
D35: Cena s DPH | T35: v | X35: EUR | AK35: =SUM(AK26:AK33) -> 0
D49: Projektant | AH49: Spracovateľ
D60: Dátum a podpis: | V60: Pečiatka | AH60: Dátum a podpis: | AM60: Pečiatka
D64: Objednávateľ | AH64: Zhotoviteľ
D75: Dátum a podpis: | V75: Pečiatka | AH75: Dátum a podpis: | AM75: Pečiatka
C82: REKAPITULÁCIA OBJEKTOV STAVBY
C84: Kód: | L84: =K5 -> MILO/04/2019
C85: Stavba: | L85: =K6 -> V.V. Chodník POH pred BD 280 ( parkoviská)
C87: Miesto: | L87: =IF(K8="","",K8) -> Žiar nad Hronom | AI87: Dátum: | AM87: =IF(AN8= "","",AN8) -> 12. 4. 2019
C89: Objednávateľ: | L89: =IF(E11= "","",E11) -> Mesto Žiar nad Hronom | AI89: Projektant: | AM89: =IF(E17="","",E17) | AS89: Informatívne údaje z listov zákaziek
C90: Zhotoviteľ: | L90: =IF(E14="","",E14) | AI90: Spracovateľ: | AM90: =IF(E20="","",E20)
C92: Kód | I92: Popis | AG92: Cena bez DPH [EUR] | AN92: Cena s DPH [EUR] | AQ92: Typ | AS92: z toho Materiál [EUR] | AT92: z toho Montáž [EUR] | AU92: z toho Ostat._x000D_ náklady [EUR] | AV92: DPH [EUR] | AW92: Normohodiny [h] | AX92: DPH základná [EUR] | AY92: DPH znížená [EUR] | AZ92: DPH základná prenesená_x000D_ [EUR] | BA92: DPH znížená prenesená_x000D_ [EUR] | BB92: Základňa_x000D_ DPH základná | BC92: Základňa_x000D_ DPH znížená | BD92: Základňa_x000D_ DPH zákl. prenesená | BE92: Základňa_x000D_ DPH zníž. prenesená | BF92: Základňa_x000D_ DPH nulová
C94: Náklady z rozpočtov | AG94: =ROUND(AG95,2) -> 0 | AN94: =SUM(AG94,AV94) -> 0 | AS94: =ROUND(AS95,2) -> 0 | AT94: =ROUND(AT95,2) -> 0 | AU94: =ROUND(AU95,2) -> 0 | AV94: =ROUND(SUM(AX94:AY94),2) -> 0 | AW94: =ROUND(AW95,5) -> 62.30581 | AX94: =ROUND(BB94*L29,2) -> 0 | AY94: =ROUND(BC94*L30,2) -> 0 | AZ94: =ROUND(BD94*L29,2) -> 0 | BA94: =ROUND(BE94*L30,2) -> 0 | BB94: =ROUND(BB95,2) -> 0 | BC94: =ROUND(BC95,2) -> 0 | BD94: =ROUND(BD95,2) -> 0 | BE94: =ROUND(BE95,2) -> 0 | BF94: =ROUND(BF95,2) -> 0 | BS94: D | BT94: 0 | BV94: IMPORT | BW94: {e6155ccb-7eb7-4cb3-adaa-8ef997c73608} | BX94: {00000000-0000-0000-0000-000000000000}
A95: / | D95: MILO/04/2019 | J95: V.V. Chodník POH pred BD 280 ( parkoviská) | AG95: ='MILO-04-2019 - V.V. Chodn...'!K32 -> 0 | AN95: =SUM(AG95,AV95) -> 0 | AQ95: STA | AS95: ='MILO-04-2019 - V.V. Chodn...'!K29 -> 0 | AT95: ='MILO-04-2019 - V.V. Chodn...'!K30 -> 0 | AU95: 0 | AV95: =ROUND(SUM(AX95:AY95),2) -> 0 | AW95: ='MILO-04-2019 - V.V. Chodn...'!T121 -> 62.305808 | AX95: ='MILO-04-2019 - V.V. Chodn...'!K35 -> 0 | AY95: ='MILO-04-2019 - V.V. Chodn...'!K36 -> 0 | AZ95: ='MILO-04-2019 - V.V. Chodn...'!K37 -> 0 | BA95: ='MILO-04-2019 - V.V. Chodn...'!K38 -> 0 | BB95: ='MILO-04-2019 - V.V. Chodn...'!F35 -> 0 | BC95: ='MILO-04-2019 - V.V. Chodn...'!F36 -> 0 | BD95: ='MILO-04-2019 - V.V. Chodn...'!F37 -> 0 | BE95: ='MILO-04-2019 - V.V. Chodn...'!F38 -> 0 | BF95: ='MILO-04-2019 - V.V. Chodn...'!F39 -> 0 | BT95: 1 | BU95: ###NOINSERT### | BV95: IMPORT | BW95: {e6155ccb-7eb7-4cb3-adaa-8ef997c73608} | BX95: {00000000-0000-0000-0000-000000000000}

Sheet MILO-04-2019 - V.V. Chodn...
M2: >> skryté stĺpce << | AT2: {e6155ccb-7eb7-4cb3-adaa-8ef997c73608}
AT3: 0
D4: KRYCÍ LIST ROZPOČTU | N4: v --- nižšie sa nachádzajú doplnkové a pomocné údaje k zostavám --- v | AT4: False
D6: Stavba:
E7: II. Etapa č. 5 - Chodník Hviezdoslavova popred bytový dom č. 280 zo dvora - 408 m²
D9: JKSO: | I9: KS:
D10: Miesto: | F10: Žiar nad Hronom | I10: Dátum: | J10: 43621
D12: Objednávateľ: | I12: IČO: | J12: 0031125
E13: Mesto Žiar nad Hronom | I13: IČ DPH: | J13: 2021339463
D15: Zhotoviteľ: | I15: IČO: | J15: ='Rekapitulácia stavby'!AN13
E16: ='Rekapitulácia stavby'!E14 | I16: IČ DPH: | J16: ='Rekapitulácia stavby'!AN14
D18: Projektant: | I18: IČO: | J18: =IF('Rekapitulácia stavby'!AN16="","",'Rekapitulácia stavby'!AN16)
E19: =IF('Rekapitulácia stavby'!E17="","",'Rekapitulácia stavby'!E17) | I19: IČ DPH: | J19: =IF('Rekapitulácia stavby'!AN17="","",'Rekapitulácia stavby'!AN17)
D21: Spracovateľ: | I21: IČO: | J21: =IF('Rekapitulácia stavby'!AN19="","",'Rekapitulácia stavby'!AN19)
E22: =IF('Rekapitulácia stavby'!E20="","",'Rekapitulácia stavby'!E20) | I22: IČ DPH: | J22: =IF('Rekapitulácia stavby'!AN20="","",'Rekapitulácia stavby'!AN20)
D24: Poznámka:
D28: Náklady z rozpočtu | K28: =K94 -> 0
E29: Materiál | K29: =I94 -> 0
E30: Montáž | K30: =J94 -> 0
D31: Ostatné náklady | K31: =K102 -> 0
D32: Cena bez DPH | K32: =ROUND(K28 + K31, 2) -> 0
F34: Základ dane | I34: Sadzba dane | K34: Výška dane
D35: DPH | E35: základná | F35: =ROUND((SUM(BE102:BE103) + SUM(BE121:BE136)), 2) -> 0 | I35: 0.2 | K35: =ROUND(((SUM(BE102:BE103) + SUM(BE121:BE136))*I35), 2) -> 0
E36: znížená | F36: =ROUND((SUM(BF102:BF103) + SUM(BF121:BF136)), 2) -> 0 | I36: 0.2 | K36: =ROUND(((SUM(BF102:BF103) + SUM(BF121:BF136))*I36), 2) -> 0
E37: zákl. prenesená | F37: =ROUND((SUM(BG102:BG103) + SUM(BG121:BG136)), 2) -> 0 | I37: 0.2 | K37: =0 -> 0
E38: zníž. prenesená | F38: =ROUND((SUM(BH102:BH103) + SUM(BH121:BH136)), 2) -> 0 | I38: 0.2 | K38: =0 -> 0
E39: nulová | F39: =ROUND((SUM(BI102:BI103) + SUM(BI121:BI136)), 2) -> 0 | I39: 0 | K39: =0 -> 0
D41: Cena s DPH | G41: v | H41: EUR | K41: =SUM(K32:K39) -> 0
D50: Projektant | G50: Spracovateľ
D61: Dátum a podpis: | F61: Pečiatka | G61: Dátum a podpis: | J61: Pečiatka
D65: Objednávateľ | G65: Zhotoviteľ
D76: Dátum a podpis: | F76: Pečiatka | G76: Dátum a podpis: | J76: Pečiatka
C82: REKAPITULÁCIA ROZPOČTU
C84: Stavba:
E85: =E7 -> II. Etapa č. 5 - Chodník Hviezdoslavova popred bytový dom č. 280 zo dvora - 408 m²
C87: Miesto: | F87: =F10 -> Žiar nad Hronom | I87: Dátum: | J87: =IF(J10="","",J10) -> 43621
C89: Objednávateľ: | F89: =E13 -> Mesto Žiar nad Hronom | I89: Projektant: | J89: =E19
C90: Zhotoviteľ: | F90: =IF(E16="","",E16) | I90: Spracovateľ: | J90: =E22
C92: Kód dielu - Popis | I92: Materiál [EUR] | J92: Montáž [EUR] | K92: Cena celkom [EUR]
C94: 1) Náklady z rozpočtu | I94: =Q121 -> 0 | J94: =R121 -> 0 | K94: =K121 -> 0 | AU94: -1
D95: HSV - Práce a dodávky HSV | I95: =Q122 -> 0 | J95: =R122 -> 0 | K95: =K122 -> 0
D96: 1 - Zemné práce | I96: =Q123 -> 0 | J96: =R123 -> 0 | K96: =K123 -> 0
D97: 5 - Komunikácie | I97: =Q125 -> 0 | J97: =R125 -> 0 | K97: =K125 -> 0
D98: 9 - Ostatné konštrukcie a práce-búranie | I98: =Q129 -> 0 | J98: =R129 -> 0 | K98: =K129 -> 0
D99: 99 - Presun hmôt HSV | I99: =Q135 -> 0 | J99: =R135 -> 0 | K99: =K135 -> 0
C102: 2) Ostatné náklady | K102: 0 | O102: DPH
C104: Celkové náklady za stavbu 1) + 2) | K104: =ROUND(K94+K102,2) -> 0
C110: ROZPOČET
C112: Stavba:
E113: =E7 -> II. Etapa č. 5 - Chodník Hviezdoslavova popred bytový dom č. 280 zo dvora - 408 m²
C115: Miesto: | F115: =F10 -> Žiar nad Hronom | I115: Dátum: | J115: =IF(J10="","",J10) -> 43621
C117: Objednávateľ: | F117: =E13 -> Mesto Žiar nad Hronom | I117: Projektant: | J117: =E19
C118: Zhotoviteľ: | F118: =IF(E16="","",E16) | I118: Spracovateľ: | J118: =E22
C120: PČ | D120: Typ | E120: Kód | F120: Popis | G120: MJ | H120: Množstvo | I120: J. materiál [EUR] | J120: J. montáž [EUR] | K120: Cena celkom [EUR] | L120: Cenová sústava | O120: DPH | P120: J.cena [EUR] | Q120: Materiál celkom [EUR] | R120: Montáž celkom [EUR] | S120: J. Nh [h] | T120: Nh celkom [h] | U120: J. hmotnosť [t] | V120: Hmotnosť celkom [t] | W120: J. suť [t] | X120: Suť Celkom [t]
C121: Náklady z rozpočtu | K121: =BK121 -> 0 | Q121: =Q122 -> 0 | R121: =R122 -> 0 | T121: =T122 -> 62.305808 | V121: =V122 -> 45.16752 | X121: =X122 -> 39.984 | AT121: D | AU121: -1 | BK121: =BK122 -> 0
D122: D | E122: HSV | F122: Práce a dodávky HSV | K122: =BK122 -> 0 | Q122: =Q123+Q125+Q129+Q135 -> 0 | R122: =R123+R125+R129+R135 -> 0 | T122: =T123+T125+T129+T135 -> 62.305808 | V122: =V123+V125+V129+V135 -> 45.16752 | X122: =X123+X125+X129+X135 -> 39.984 | AR122: 1 | AT122: D | AU122: 0 | AY122: ROZPOCET | BK122: =BK123+BK125+BK129+BK135 -> 0
D123: D | E123: 1 | F123: Zemné práce | K123: =BK123 -> 0 | Q123: =Q124 -> 0 | R123: =R124 -> 0 | T123: =T124 -> 22.44 | V123: =V124 -> 0 | X123: =X124 -> 39.984 | AR123: 1 | AT123: D | AU123: 1 | AY123: ROZPOCET | BK123: =BK124 -> 0
C124: 2 | D124: K | E124: 113107241 | F124: Odstránenie krytu v ploche nad 200 m2 asfaltového, hr. vrstvy do 50 mm, -0,09800t | G124: m2 | H124: 408 | K124: =ROUND(P124*H124,3) -> 0 | L124: CS CENEKON 2019 01 | O124: znížená | P124: =I124+J124 -> 0 | Q124: =ROUND(I124*H124,3) -> 0 | R124: =ROUND(J124*H124,3) -> 0 | S124: 0.055 | T124: =S124*H124 -> 22.44 | U124: 0 | V124: =U124*H124 -> 0 | W124: 0.098 | X124: =W124*H124 -> 39.984 | AR124: 4 | AT124: K | AU124: 2 | AY124: ROZPOCET | BE124: =IF(O124="základná",K124,0) -> 0 | BF124: =IF(O124="znížená",K124,0) -> 0 | BG124: =IF(O124="zákl. prenesená",K124,0) -> 0 | BH124: =IF(O124="zníž. prenesená",K124,0) -> 0 | BI124: =IF(O124="nulová",K124,0) -> 0 | BJ124: 2 | BK124: =ROUND(P124*H124,3) -> 0 | BL124: 4 | BM124: 512503674
D125: D | E125: 5 | F125: Komunikácie | K125: =BK125 -> 0 | Q125: =SUM(Q126:Q128) -> 0 | R125: =SUM(R126:R128) -> 0 | T125: =SUM(T126:T128) -> 28.93216 | V125: =SUM(V126:V128) -> 45.16752 | X125: =SUM(X126:X128) -> 0 | AR125: 1 | AT125: D | AU125: 1 | AY125: ROZPOCET | BK125: =SUM(BK126:BK128) -> 0
C126: 9 | D126: K | E126: 565132111 | F126: Vyrovnanie povrchu doterajšieho podkladu obaľovaným kamenivom ACP hr. 50 mm | G126: m2 | H126: 20 | K126: =ROUND(P126*H126,3) -> 0 | L126: CS CENEKON 2019 01 | O126: znížená | P126: =I126+J126 -> 0 | Q126: =ROUND(I126*H126,3) -> 0 | R126: =ROUND(J126*H126,3) -> 0 | S126: 0.059 | T126: =S126*H126 -> 1.18 | U126: 0.13188 | V126: =U126*H126 -> 2.6376 | W126: 0 | X126: =W126*H126 -> 0 | AR126: 4 | AT126: K | AU126: 2 | AY126: ROZPOCET | BE126: =IF(O126="základná",K126,0) -> 0 | BF126: =IF(O126="znížená",K126,0) -> 0 | BG126: =IF(O126="zákl. prenesená",K126,0) -> 0 | BH126: =IF(O126="zníž. prenesená",K126,0) -> 0 | BI126: =IF(O126="nulová",K126,0) -> 0 | BJ126: 2 | BK126: =ROUND(P126*H126,3) -> 0 | BL126: 4 | BM126: -1720565537
C127: 7 | D127: K | E127: 573231107 | F127: Postrek asfaltový spojovací bez posypu kamenivom z cestnej emulzie v množstve 0,50 kg/m2 | G127: m2 | H127: 408 | K127: =ROUND(P127*H127,3) -> 0 | L127: CS CENEKON 2019 01 | O127: znížená | P127: =I127+J127 -> 0 | Q127: =ROUND(I127*H127,3) -> 0 | R127: =ROUND(J127*H127,3) -> 0 | S127: 0.00202 | T127: =S127*H127 -> 0.82416 | U127: 0.00051 | V127: =U127*H127 -> 0.20808 | W127: 0 | X127: =W127*H127 -> 0 | AR127: 4 | AT127: K | AU127: 2 | AY127: ROZPOCET | BE127: =IF(O127="základná",K127,0) -> 0 | BF127: =IF(O127="znížená",K127,0) -> 0 | BG127: =IF(O127="zákl. prenesená",K127,0) -> 0 | BH127: =IF(O127="zníž. prenesená",K127,0) -> 0 | BI127: =IF(O127="nulová",K127,0) -> 0 | BJ127: 2 | BK127: =ROUND(P127*H127,3) -> 0 | BL127: 4 | BM127: 272595721
C128: 6 | D128: K | E128: 577134111 | F128: Asfaltový betón vrstva obrusná AC 8 O v pruhu š. do 3 m z nemodifik. asfaltu tr. II, po zhutnení hr. 40 mm | G128: m2 | H128: 408 | K128: =ROUND(P128*H128,3) -> 0 | L128: CS CENEKON 2019 01 | O128: znížená | P128: =I128+J128 -> 0 | Q128: =ROUND(I128*H128,3) -> 0 | R128: =ROUND(J128*H128,3) -> 0 | S128: 0.066 | T128: =S128*H128 -> 26.928 | U128: 0.10373 | V128: =U128*H128 -> 42.32184 | W128: 0 | X128: =W128*H128 -> 0 | AR128: 4 | AT128: K | AU128: 2 | AY128: ROZPOCET | BE128: =IF(O128="základná",K128,0) -> 0 | BF128: =IF(O128="znížená",K128,0) -> 0 | BG128: =IF(O128="zákl. prenesená",K128,0) -> 0 | BH128: =IF(O128="zníž. prenesená",K128,0) -> 0 | BI128: =IF(O128="nulová",K128,0) -> 0 | BJ128: 2 | BK128: =ROUND(P128*H128,3) -> 0 | BL128: 4 | BM128: 1655529869
D129: D | E129: 9 | F129: Ostatné konštrukcie a práce-búranie | K129: =BK129 -> 0 | Q129: =SUM(Q130:Q134) -> 0 | R129: =SUM(R130:R134) -> 0 | T129: =SUM(T130:T134) -> 9.126928 | V129: =SUM(V130:V134) -> 0 | X129: =SUM(X130:X134) -> 0 | AR129: 1 | AT129: D | AU129: 1 | AY129: ROZPOCET | BK129: =SUM(BK130:BK134) -> 0
C130: 1 | D130: K | E130: 919735111 | F130: Rezanie existujúceho asfaltového krytu alebo podkladu hĺbky do 50 mm | G130: m | H130: 10 | K130: =ROUND(P130*H130,3) -> 0 | L130: CS CENEKON 2019 01 | O130: znížená | P130: =I130+J130 -> 0 | Q130: =ROUND(I130*H130,3) -> 0 | R130: =ROUND(J130*H130,3) -> 0 | S130: 0.145 | T130: =S130*H130 -> 1.45 | U130: 0 | V130: =U130*H130 -> 0 | W130: 0 | X130: =W130*H130 -> 0 | AR130: 4 | AT130: K | AU130: 2 | AY130: ROZPOCET | BE130: =IF(O130="základná",K130,0) -> 0 | BF130: =IF(O130="znížená",K130,0) -> 0 | BG130: =IF(O130="zákl. prenesená",K130,0) -> 0 | BH130: =IF(O130="zníž. prenesená",K130,0) -> 0 | BI130: =IF(O130="nulová",K130,0) -> 0 | BJ130: 2 | BK130: =ROUND(P130*H130,3) -> 0 | BL130: 4 | BM130: -1248912671
C131: 3 | D131: K | E131: 979082213 | F131: Vodorovná doprava sutiny so zložením a hrubým urovnaním na vzdialenosť do 1 km | G131: t | H131: 39.984 | K131: =ROUND(P131*H131,3) -> 0 | L131: CS CENEKON 2019 01 | O131: znížená | P131: =I131+J131 -> 0 | Q131: =ROUND(I131*H131,3) -> 0 | R131: =ROUND(J131*H131,3) -> 0 | S131: 0.031 | T131: =S131*H131 -> 1.239504 | U131: 0 | V131: =U131*H131 -> 0 | W131: 0 | X131: =W131*H131 -> 0 | AR131: 4 | AT131: K | AU131: 2 | AY131: ROZPOCET | BE131: =IF(O131="základná",K131,0) -> 0 | BF131: =IF(O131="znížená",K131,0) -> 0 | BG131: =IF(O131="zákl. prenesená",K131,0) -> 0 | BH131: =IF(O131="zníž. prenesená",K131,0) -> 0 | BI131: =IF(O131="nulová",K131,0) -> 0 | BJ131: 2 | BK131: =ROUND(P131*H131,3) -> 0 | BL131: 4 | BM131: -2068321091
C132: 4 | D132: K | E132: 979082219 | F132: Príplatok k cene za každý ďalší aj začatý 1 km nad 1 km pre vodorovnú dopravu sutiny | G132: t | H132: 39.984 | K132: =ROUND(P132*H132,3) -> 0 | L132: CS CENEKON 2019 01 | O132: znížená | P132: =I132+J132 -> 0 | Q132: =ROUND(I132*H132,3) -> 0 | R132: =ROUND(J132*H132,3) -> 0 | S132: 0.006 | T132: =S132*H132 -> 0.239904 | U132: 0 | V132: =U132*H132 -> 0 | W132: 0 | X132: =W132*H132 -> 0 | AR132: 4 | AT132: K | AU132: 2 | AY132: ROZPOCET | BE132: =IF(O132="základná",K132,0) -> 0 | BF132: =IF(O132="znížená",K132,0) -> 0 | BG132: =IF(O132="zákl. prenesená",K132,0) -> 0 | BH132: =IF(O132="zníž. prenesená",K132,0) -> 0 | BI132: =IF(O132="nulová",K132,0) -> 0 | BJ132: 2 | BK132: =ROUND(P132*H132,3) -> 0 | BL132: 4 | BM132: -1224631197
C133: 5 | D133: K | E133: 979087212 | F133: Nakladanie na dopravné prostriedky pre vodorovnú dopravu sutiny | G133: t | H133: 39.984 | K133: =ROUND(P133*H133,3) -> 0 | L133: CS CENEKON 2019 01 | O133: znížená | P133: =I133+J133 -> 0 | Q133: =ROUND(I133*H133,3) -> 0 | R133: =ROUND(J133*H133,3) -> 0 | S133: 0.149 | T133: =S133*H133 -> 5.957616 | U133: 0 | V133: =U133*H133 -> 0 | W133: 0 | X133: =W133*H133 -> 0 | AR133: 4 | AT133: K | AU133: 2 | AY133: ROZPOCET | BE133: =IF(O133="základná",K133,0) -> 0 | BF133: =IF(O133="znížená",K133,0) -> 0 | BG133: =IF(O133="zákl. prenesená",K133,0) -> 0 | BH133: =IF(O133="zníž. prenesená",K133,0) -> 0 | BI133: =IF(O133="nulová",K133,0) -> 0 | BJ133: 2 | BK133: =ROUND(P133*H133,3) -> 0 | BL133: 4 | BM133: -1944571436
C134: 10 | D134: K | E134: 979093111 | F134: Uloženie sutiny na platenú skládku-170101-3 stavebná suť | G134: t | H134: 39.984 | K134: =ROUND(P134*H134,3) -> 0 | L134: CS CENEKON 2019 01 | O134: znížená | P134: =I134+J134 -> 0 | Q134: =ROUND(I134*H134,3) -> 0 | R134: =ROUND(J134*H134,3) -> 0 | S134: 0.006 | T134: =S134*H134 -> 0.239904 | U134: 0 | V134: =U134*H134 -> 0 | W134: 0 | X134: =W134*H134 -> 0 | AR134: 4 | AT134: K | AU134: 2 | AY134: ROZPOCET | BE134: =IF(O134="základná",K134,0) -> 0 | BF134: =IF(O134="znížená",K134,0) -> 0 | BG134: =IF(O134="zákl. prenesená",K134,0) -> 0 | BH134: =IF(O134="zníž. prenesená",K134,0) -> 0 | BI134: =IF(O134="nulová",K134,0) -> 0 | BJ134: 2 | BK134: =ROUND(P134*H134,3) -> 0 | BL134: 4 | BM134: -1487359881
D135: D | E135: 99 | F135: Presun hmôt HSV | K135: =BK135 -> 0 | Q135: =Q136 -> 0 | R135: =R136 -> 0 | T135: =T136 -> 1.80672 | V135: =V136 -> 0 | X135: =X136 -> 0 | AR135: 1 | AT135: D | AU135: 1 | AY135: ROZPOCET | BK135: =BK136 -> 0
C136: 8 | D136: K | E136: 998225111 | F136: Presun hmôt pre pozemnú komunikáciu a letisko s krytom asfaltovým akejkoľvek dĺžky objektu | G136: t | H136: 45.168 | K136: =ROUND(P136*H136,3) -> 0 | L136: CS CENEKON 2019 01 | O136: znížená | P136: =I136+J136 -> 0 | Q136: =ROUND(I136*H136,3) -> 0 | R136: =ROUND(J136*H136,3) -> 0 | S136: 0.04 | T136: =S136*H136 -> 1.80672 | U136: 0 | V136: =U136*H136 -> 0 | W136: 0 | X136: =W136*H136 -> 0 | AR136: 4 | AT136: K | AU136: 2 | AY136: ROZPOCET | BE136: =IF(O136="základná",K136,0) -> 0 | BF136: =IF(O136="znížená",K136,0) -> 0 | BG136: =IF(O136="zákl. prenesená",K136,0) -> 0 | BH136: =IF(O136="zníž. prenesená",K136,0) -> 0 | BI136: =IF(O136="nulová",K136,0) -> 0 | BJ136: 2 | BK136: =ROUND(P136*H136,3) -> 0 | BL136: 4 | BM136: 669933758
