Workbook

Sheet Rekapitulácia stavby
A1: Export Komplet | BA1: 2.0 | BT1: False | BU1: True | BV1: {e6155ccb-7eb7-4cb3-adaa-8ef997c73608}
AR2: >> skryté stĺpce << | BS2: 0,001 | BT2: 20
BS3: 0,001 | BT3: 20
D4: REKAPITULÁCIA STAVBY | AS4: v --- nižšie sa nachádzajú doplnkové a pomocné údaje k zostavám --- v | BS4: 0,001
D5: Kód: | K5: MILO/04/2019 | BS5: 0,001
D6: Stavba: | K6: V.V. Chodník POH pred BD 280 ( parkoviská) | BS6: 0,001
D7: JKSO: | AK7: KS: | BS7: 0,001
D8: Miesto: | K8: Žiar nad Hronom | AK8: Dátum: | AN8: 12. 4. 2019 | BS8: 0,001
BS9: 0,001
D10: Objednávateľ: | AK10: IČO: | AN10: 0031125 | BS10: 0,001
E11: Mesto Žiar nad Hronom | AK11: IČ DPH: | AN11: 2021339463 | BS11: 0,001
BS12: 0,001
D13: Zhotoviteľ: | AK13: IČO: | BS13: 0,001
AK14: IČ DPH: | BS14: 0,001
BS15: False
D16: Projektant: | AK16: IČO: | BS16: False
AK17: IČ DPH: | BS17: True
BS18: 0,01
D19: Spracovateľ: | AK19: IČO: | BS19: 0,01
AK20: IČ DPH: | BS20: True
D22: Poznámka:
D26: Cena bez DPH | AK26: =ROUND(AG94,2) -> 0
L28: Sadzba dane | W28: Základ dane | AK28: Výška dane
D29: DPH | F29: základná | L29: 0.2 | W29: =ROUND(BB94, 2) -> 0 | AK29: =ROUND(AX94, 2) -> 0
F30: znížená | L30: 0.2 | W30: =ROUND(BC94, 2) -> 0 | AK30: =ROUND(AY94, 2) -> 0
F31: zákl. prenesená | L31: 0.2 | W31: =ROUND(BD94, 2) -> 0 | AK31: 0
F32: zníž. prenesená | L32: 0.2 | W32: =ROUND(BE94, 2) -> 0 | AK32: 0
F33: nulová | L33: 0 | W33: =ROUND(BF94, 2) -> 0 | AK33: 0
D35: Cena s DPH | T35: v | X35: EUR | AK35: =SUM(AK26:AK33) -> 0
D49: Projektant | AH49: Spracovateľ
D60: Dátum a podpis: | V60: Pečiatka | AH60: Dátum a podpis: | AM60: Pečiatka
D64: Objednávateľ | AH64: Zhotoviteľ
D75: Dátum a podpis: | V75: Pečiatka | AH75: Dátum a podpis: | AM75: Pečiatka
C82: REKAPITULÁCIA OBJEKTOV STAVBY
C84: Kód: | L84: =K5 -> MILO/04/2019
C85: Stavba: | L85: =K6 -> V.V. Chodník POH pred BD 280 ( parkoviská)
C87: Miesto: | L87: =IF(K8="","",K8) -> Žiar nad Hronom | AI87: Dátum: | AM87: =IF(AN8= "","",AN8) -> 12. 4. 2019
C89: Objednávateľ: | L89: =IF(E11= "","",E11) -> Mesto Žiar nad Hronom | AI89: Projektant: | AM89: =IF(E17="","",E17) | AS89: Informatívne údaje z listov zákaziek
C90: Zhotoviteľ: | L90: =IF(E14="","",E14) | AI90: Spracovateľ: | AM90: =IF(E20="","",E20)
C92: Kód | I92: Popis | AG92: Cena bez DPH [EUR] | AN92: Cena s DPH [EUR] | AQ92: Typ | AS92: z toho Materiál [EUR] | AT92: z toho Montáž [EUR] | AU92: z toho Ostat._x000D_ náklady [EUR] | AV92: DPH [EUR] | AW92: Normohodiny [h] | AX92: DPH základná [EUR] | AY92: DPH znížená [EUR] | AZ92: DPH základná prenesená_x000D_ [EUR] | BA92: DPH znížená prenesená_x000D_ [EUR] | BB92: Základňa_x000D_ DPH základná | BC92: Základňa_x000D_ DPH znížená | BD92: Základňa_x000D_ DPH zákl. prenesená | BE92: Základňa_x000D_ DPH zníž. prenesená | BF92: Základňa_x000D_ DPH nulová
...

Sheet MILO-04-2019 - V.V. Chodn...
M2: >> skryté stĺpce << | AT2: {e6155ccb-7eb7-4cb3-adaa-8ef997c73608}
AT3: 0
D4: KRYCÍ LIST ROZPOČTU | N4: v --- nižšie sa nachádzajú doplnkové a pomocné údaje k zostavám --- v | AT4: False
D6: Stavba:
E7: II. Etapa č. 5 - Chodník Hviezdoslavova popred bytový dom č. 280 zo dvora - 408 m²
D9: JKSO: | I9: KS:
D10: Miesto: | F10: Žiar nad Hronom | I10: Dátum: | J10: 43621
D12: Objednávateľ: | I12: IČO: | J12: 0031125
E13: Mesto Žiar nad Hronom | I13: IČ DPH: | J13: 2021339463
D15: Zhotoviteľ: | I15: IČO: | J15: ='Rekapitulácia stavby'!AN13
E16: ='Rekapitulácia stavby'!E14 | I16: IČ DPH: | J16: ='Rekapitulácia stavby'!AN14
D18: Projektant: | I18: IČO: | J18: =IF('Rekapitulácia stavby'!AN16="","",'Rekapitulácia stavby'!AN16)
E19: =IF('Rekapitulácia stavby'!E17="","",'Rekapitulácia stavby'!E17) | I19: IČ DPH: | J19: =IF('Rekapitulácia stavby'!AN17="","",'Rekapitulácia stavby'!AN17)
D21: Spracovateľ: | I21: IČO: | J21: =IF('Rekapitulácia stavby'!AN19="","",'Rekapitulácia stavby'!AN19)
E22: =IF('Rekapitulácia stavby'!E20="","",'Rekapitulácia stavby'!E20) | I22: IČ DPH: | J22: =IF('Rekapitulácia stavby'!AN20="","",'Rekapitulácia stavby'!AN20)
D24: Poznámka:
D28: Náklady z rozpočtu | K28: =K94 -> 0
E29: Materiál | K29: =I94 -> 0
E30: Montáž | K30: =J94 -> 0
D31: Ostatné náklady | K31: =K102 -> 0
D32: Cena bez DPH | K32: =ROUND(K28 + K31, 2) -> 0
F34: Základ dane | I34: Sadzba dane | K34: Výška dane
D35: DPH | E35: základná | F35: =ROUND((SUM(BE102:BE103) + SUM(BE121:BE136)), 2) -> 0 | I35: 0.2 | K35: =ROUND(((SUM(BE102:BE103) + SUM(BE121:BE136))*I35), 2) -> 0
E36: znížená | F36: =ROUND((SUM(BF102:BF103) + SUM(BF121:BF136)), 2) -> 0 | I36: 0.2 | K36: =ROUND(((SUM(BF102:BF103) + SUM(BF121:BF136))*I36), 2) -> 0
E37: zákl. prenesená | F37: =ROUND((SUM(BG102:BG103) + SUM(BG121:BG136)), 2) -> 0 | I37: 0.2 | K37: =0 -> 0
E38: zníž. prenesená | F38: =ROUND((SUM(BH102:BH103) + SUM(BH121:BH136)), 2) -> 0 | I38: 0.2 | K38: =0 -> 0
E39: nulová | F39: =ROUND((SUM(BI102:BI103) + SUM(BI121:BI136)), 2) -> 0 | I39: 0 | K39: =0 -> 0
D41: Cena s DPH | G41: v | H41: EUR | K41: =SUM(K32:K39) -> 0
D50: Projektant | G50: Spracovateľ
D61: Dátum a podpis: | F61: Pečiatka | G61: Dátum a podpis: | J61: Pečiatka
D65: Objednávateľ | G65: Zhotoviteľ
D76: Dátum a podpis: | F76: Pečiatka | G76: Dátum a podpis: | J76: Pečiatka
C82: REKAPITULÁCIA ROZPOČTU
C84: Stavba:
E85: =E7 -> II. Etapa č. 5 - Chodník Hviezdoslavova popred bytový dom č. 280 zo dvora - 408 m²
C87: Miesto: | F87: =F10 -> Žiar nad Hronom | I87: Dátum: | J87: =IF(J10="","",J10) -> 43621
C89: Objednávateľ: | F89: =E13 -> Mesto Žiar nad Hronom | I89: Projektant: | J89: =E19
C90: Zhotoviteľ: | F90: =IF(E16="","",E16) | I90: Spracovateľ: | J90: =E22
C92: Kód dielu - Popis | I92: Materiál [EUR] | J92: Montáž [EUR] | K92: Cena celkom [EUR]
C94: 1) Náklady z rozpočtu | I94: =Q121 -> 0 | J94: =R121 -> 0 | K94: =K121 -> 0 | AU94: -1
...
