Workbook

Sheet Formular
A1: Návrh na plnenie kritérií – koncesia BIATEC
A2: Uchádzač vyplní len žlto vyznačené bunky. Výpočty sú modelové a slúžia na vyhodnotenie ponúk.
A4: Identifikácia uchádzača
A5: Obchodné meno | B5: <vyplní uchádzač>
A6: Sídlo | B6: <vyplní uchádzač>
A7: IČO | B7: <vyplní uchádzač>
A8: Kontaktná osoba | B8: <vyplní uchádzač>
A9: E-mail / telefón | B9: <vyplní uchádzač>
A10: Dátum | B10: <vyplní uchádzač>
A12: P. č. | B12: Produkt | C12: Kov | D12: Hp | E12: NHp | F12: Množstvo za 4 roky | G12: FPp EUR/ks bez DPH | H12: VPp % | I12: Modelový Spot EUR/oz | J12: Modelová jednotková cena v EUR bez DPH | K12: Modelová hodnota položky v EUR bez DPH
A13: 1 | B13: Zlatá eurominca „BIATEC“, 1 oz | C13: zlato | D13: 1 | E13: 3 | F13: 22000 | I13: 3765.88 | J13: =E13+G13+(I13*D13*(1+H13/100)) -> 3768.88 | K13: =F13*J13 -> 82915360
A14: 2 | B14: Zlatá eurominca „BIATEC“, 1/2 oz | C14: zlato | D14: 0.5 | E14: 1.5 | F14: 17600 | I14: 1882.94 | J14: =E14+G14+(I14*D14*(1+H14/100)) -> 942.97 | K14: =F14*J14 -> 16596272
A15: 3 | B15: Zlatá eurominca „BIATEC“, 1/4 oz | C15: zlato | D15: 0.25 | E15: 0.75 | F15: 35200 | I15: 941.47 | J15: =E15+G15+(I15*D15*(1+H15/100)) -> 236.1175 | K15: =F15*J15 -> 8311336
A16: 4 | B16: Zlatá eurominca „BIATEC“, 1/10 oz | C16: zlato | D16: 0.1 | E16: 0.3 | F16: 44000 | I16: 376.59 | J16: =E16+G16+(I16*D16*(1+H16/100)) -> 37.959 | K16: =F16*J16 -> 1670196
A17: 5 | B17: Strieborná eurominca „BIATEC“, 1 oz | C17: striebro | D17: 1 | E17: 0.15 | F17: 176000 | I17: 55.88 | J17: =E17+G17+(I17*D17*(1+H17/100)) -> 56.03 | K17: =F17*J17 -> 9861280
A20: Osobitné vyhotovenia – Neutrálny modelový kôš šiestich prirážok
A21: Predpokladané množstvo Osobitných vyhotovení spolu je 16 000 ks. Keďže počas 4 rokov možno použiť najviac 4 zo 6 návrhov, hodnotí sa priemerná prirážka všetkých 6 návrhov: modelové množstvo prirážky na každý návrh = 16 000 / 6.
A23: P. č. | B23: Návrh osobitného vyhotovenia | C23: Počet dostupných návrhov | D23: Najviac použitých návrhov | E23: Množstvo osobitných vyhotovení spolu | F23: Modelové množstvo prirážky | G23: Max. prirážka EUR/ks bez DPH | H23: Modelová hodnota prirážky | I23: Základná cena striebornej 1 oz | J23: Poznámka
A24: 1 | B24: proof | C24: =Vstupy!$B$6 -> 6 | D24: =Vstupy!$B$7 -> 4 | E24: =Vstupy!$B$8 -> 16000 | F24: =Vstupy!$B$11 -> 2666.6667 | H24: =F24*G24 -> 0 | I24: =$J$17 -> 56.03 | J24: Záväzná maximálna prirážka pre prípad použitia daného návrhu.
A25: 2 | B25: reverzný proof | C25: =Vstupy!$B$6 -> 6 | D25: =Vstupy!$B$7 -> 4 | E25: =Vstupy!$B$8 -> 16000 | F25: =Vstupy!$B$11 -> 2666.6667 | H25: =F25*G25 -> 0 | I25: =$J$17 -> 56.03 | J25: Záväzná maximálna prirážka pre prípad použitia daného návrhu.
A26: 3 | B26: s vysokým reliéfom | C26: =Vstupy!$B$6 -> 6 | D26: =Vstupy!$B$7 -> 4 | E26: =Vstupy!$B$8 -> 16000 | F26: =Vstupy!$B$11 -> 2666.6667 | H26: =F26*G26 -> 0 | I26: =$J$17 -> 56.03 | J26: Záväzná maximálna prirážka pre prípad použitia daného návrhu.
A27: 4 | B27: pozlátenie | C27: =Vstupy!$B$6 -> 6 | D27: =Vstupy!$B$7 -> 4 | E27: =Vstupy!$B$8 -> 16000 | F27: =Vstupy!$B$11 -> 2666.6667 | H27: =F27*G27 -> 0 | I27: =$J$17 -> 56.03 | J27: Záväzná maximálna prirážka pre prípad použitia daného návrhu.
A28: 5 | B28: pokovanie čiernym ródiom | C28: =Vstupy!$B$6 -> 6 | D28: =Vstupy!$B$7 -> 4 | E28: =Vstupy!$B$8 -> 16000 | F28: =Vstupy!$B$11 -> 2666.6667 | H28: =F28*G28 -> 0 | I28: =$J$17 -> 56.03 | J28: Záväzná maximálna prirážka pre prípad použitia daného návrhu.
A29: 6 | B29: NBS blue | C29: =Vstupy!$B$6 -> 6 | D29: =Vstupy!$B$7 -> 4 | E29: =Vstupy!$B$8 -> 16000 | F29: =Vstupy!$B$11 -> 2666.6667 | H29: =F29*G29 -> 0 | I29: =$J$17 -> 56.03 | J29: Záväzná maximálna prirážka pre prípad použitia daného návrhu.
A32: Súhrn návrhu | B32: Vzorec / zdroj | C32: Hodnota bez DPH
A33: Modelová hodnota základných produktov | B33: SUM(K13:K17) | C33: =SUM(K13:K17) -> 119354444
A34: Základná strieborná zložka Osobitných vyhotovení | B34: Vstupy!B8 × J17 | C34: =Vstupy!$B$8*$J$17 -> 896480
A35: Modelová hodnota prirážok za Osobitné vyhotovenia | B35: SUM(H24:H29) | C35: =SUM(H24:H29) -> 0
A36: Modelová hodnota Osobitných vyhotovení spolu | B36: C34 + C35 | C36: =C34+C35 -> 896480
A37: MODELOVÁ CELKOVÁ HODNOTA KONCESIE | B37: C33 + C36 | C37: =C33+C36 -> 120250924
A38: Kontrola: prirážka | B38: (20 000 / 6) × súčet 6 prirážok | C38: =(Vstupy!$B$8/Vstupy!$B$6)*SUM(G24:G29) -> 0
A41: Vyhlásenie uchádzača
A42: Uchádzač potvrdzuje, že ním uvedené hodnoty predstavujú záväzné ponúknuté hodnoty pre účely zmluvy a hodnotenia ponuky. Uchádzač berie na vedomie, že uvedené hodnoty budú použité na doplnenie Prílohy č. 2 koncesnej zmluvy.
A43: Meno a funkcia oprávnenej osoby konať za uchádzača | B43: <vyplní uchádzač>
A44: Miesto a dátum | B44: <vyplní uchádzač>

Sheet Vstupy
A1: Vstupy verejného obstarávateľa pre modelové hodnotenie
A3: Parameter | B3: Hodnota | C3: Jednotka | D3: Poznámka
A4: Modelová referenčná spotová cena zlata | B4: 3765.88 | C4: EUR / trojská unca | D4: Používa sa iba na porovnanie ponúk.
A5: Modelová referenčná spotová cena striebra | B5: 55.88 | C5: EUR / trojská unca | D5: Používa sa iba na porovnanie ponúk.
A6: Počet dostupných Návrhov osobitného vyhotovenia | B6: 6 | C6: ks | D6: Podľa Prílohy č. 5 návrhu zmluvy.
A7: Najvyšší počet návrhov použitých za 4 roky | B7: 4 | C7: ks | D7: Základná doba vrátane opcie.
A8: Predpokladané množstvo Osobitných vyhotovení spolu | B8: 16000 | C8: ks | D8: Spolu za 4 roky vrátane opcie.
A9: Modelové množstvo na jeden použitý návrh | B9: =B8/B7 -> 4000 | C9: ks | D9: celkové množstvo Osobitných vyhotovení / počet použitých návrhov
A10: Neutrálna váha jedného zo 6 návrhov | B10: =B7/B6 -> 0.66666667 | C10: koeficient | D10: počet použitých návrhov / počet dostupných návrhov
A11: Modelové množstvo prirážky na jeden zo 6 návrhov | B11: =B8/B6 -> 2666.6667 | C11: ks | D11: celkové množstvo Osobitných vyhotovení / počet dostupných návrhov
A14: Produkt / skupina | B14: Kov | C14: Zmluvná hmotnostná hodnota Hp | D14: Nominálna hodnota NHp | E14: Predpokladané množstvo za 4 roky | F14: Poznámka
A15: Zlatá eurominca „BIATEC“, 1 oz | B15: zlato | C15: 1 | D15: 3 | E15: 27000 | F15: Základný produkt
A16: Zlatá eurominca „BIATEC“, 1/2 oz | B16: zlato | C16: 0.5 | D16: 1.75 | E16: 22000 | F16: Základný produkt
A17: Zlatá eurominca „BIATEC“, 1/4 oz | B17: zlato | C17: 0.25 | D17: 0.95 | E17: 44000 | F17: Základný produkt
A18: Zlatá eurominca „BIATEC“, 1/10 oz | B18: zlato | C18: 0.1 | D18: 0.75 | E18: 55000 | F18: Základný produkt
A19: Strieborná eurominca „BIATEC“, 1 oz | B19: striebro | C19: 1 | D19: 0.15 | E19: 220000 | F19: Základný produkt
A20: Osobitné vyhotovenia spolu | B20: striebro | C20: 1 | D20: 0.15 | E20: 20000 | F20: Všetky osobitné vyhotovenia spolu
