Workbook

Sheet REKAPITULÁCIA
A1: REKAPITULÁCIA ROZPOČTU - Obnova non IT technológie DC
A3: Investor: | C3: DataCentrum, Cintorínska 5, 811 08 Bratislava
A4: Miesto stavby: | C4: Cintorínska 5, 811 08 Bratislava
A5: Dátum: | C5: 09/2026
A6: Vypracoval: | C6: Ing. arch. M. Djuračka, ATD, autorizovaný architekt - SKA 1856AA
A8: SO | C8: Profesia | D8: Cena bez DPH | E8: DPH | F8: Cena s DPH
A9: D1.1 | C9: Architektonické a stavebné riešenie | D9: =D10+D11 -> 0 | E9: 0.23 | F9: =D9*E9+D9 -> 0
A10: D.1.1.1 | C10: Stavebné úpravy | D10: ='D.1.1.1-ASR-S'!G263 -> 0 | E10: 0.23 | F10: =D10*E10+D10 -> 0
A11: D.1.1.3 | C11: Zakrytovanie studenej uličky | D11: ='D.1.1.3-ASR-U'!G69 -> 0 | E11: 0.23 | F11: =D11*E11+D11 -> 0
A12: D1.2 | C12: Chladenie a vzduchotechnika | D12: =D13+D14+D15 -> 0 | E12: 0.23 | F12: =D12*E12+D12 -> 0
A13: D1.2.1 | C13: Chladenie | D13: ='D1.2.1-CHL'!G119 -> 0 | E13: 0.23 | F13: =D13*E13+D13 -> 0
A14: D1.2.2 | C14: Vzduchotechnika | D14: ='D1.2.2-VZT'!G87 -> 0 | E14: 0.23 | F14: =D14*E14+D14 -> 0
A15: D1.2.3 | C15: Zdravotechnika | D15: ='D1.2.3-ZTI'!G63 -> 0 | E15: 0.23 | F15: =D15*E15+D15 -> 0
A16: D1.3 | C16: Silnoprúdové elektrické rozvody | D16: ='D.1.3-SER'!G216 -> 0 | E16: 0.23 | F16: =D16*E16+D16 -> 0
A17: D1.4 | C17: Požiarne systémy | D17: =D18+D19 -> 0 | E17: 0.23 | F17: =D17*E17+D17 -> 0
A18: D1.4.1 | C18: SHZ plynové - EPS a riadenie SHZ | D18: ='D.1.4.1-SHZ -R'!G147 -> 0 | E18: 0.23 | F18: =D18*E18+D18 -> 0
A19: D1.4.2 | C19: SHZ plynové - Technológia SHZ | D19: ='D.1.4.2-SHZ-T'!G169 -> 0 | E19: 0.23 | F19: =D19*E19+D19 -> 0
A20: Celkom | D20: =D9+D12+D16+D17 -> 0 | F20: =F9+F12+F16+F17 -> 0
A22: Vysv.: 1 človekodeň = 8 hodín
A24: V súvislosti s označením niektorých materiálov, technológií, výrobkov a technologických zariadení v projektovej dokumentácii, vo výkaze výmer alebo v inej dokumentácii poskytnutej verejným obstarávateľom, ktoré sa odvolávajú na konkrétneho výrobcu, výrobný postup, obchodné označenie, patent, typ, oblasť alebo miesto pôvodu alebo výroby verejný obstarávateľ umožňuje predloženie ponuky s použitím ekvivalentných materiálov, technológií, výrobkov a technologických zariadení v zmysle § 42 zákona č. 343/2015 Z. z. o verejnom obstarávaní a o zmene a doplnení niektorých zákonov v znení neskorších predpisov s tým, že takéto použitie bude označené v ponuke slovom „ekvivalent“. Pokiaľ uchádzač ponúka ekvivalentný materiál, technológiu, výrobok alebo technologické zariadenie, okrem označenia slovom „ekvivalent“ uvedie aj obchodný názov, resp. označenie a popis ponúkaného ekvivalentného materiálu, technológie, výrobku alebo technologického zariadenia tak, aby verejný obstarávateľ mohol posúdiť ekvivalentnosť ponúknutého materiálu, technológie, výrobku alebo technologického zariadenia. Za ekvivalentný materiál, technológiu, výrobok alebo technologické zariadenie sa považuje materiál, technológia, výrobok alebo technologické zariadenia, ktoré v plnej miere spĺňa úžitkové, prevádzkové a funkčné, prípadne estetické charakteristiky, ktoré sú nevyhnutné na zabezpečenie účelu, na ktoré sú predmetné materiály, technológie, výrobky alebo technologické zariadenia určené. Ak ide o materiál, technológiu, výrobok alebo technologické zariadenie konkrétnej značky, uchádzač môže predložiť aj ekvivalent inej značky s rovnakou alebo vyššou kvalitatívnou, resp. úžitkovou úrovňou.
A25: V prípade, že uchádzač nevyužije možnosť použitia ekvivalentu a neuvedie vo svojej ponuke obchodný názov, resp. označenie a popis ekvivalentného materiálu, technológie, výrobku alebo technologického zariadenia, ktorý bol vo výkaze výmer alebo v inej dokumentácii poskytnutej verejným obstarávateľom označený obchodným názvom, bude mať verejný obstarávateľ za to, že uchádzač uvažoval s tým materiálom, technológiou, výrobkom alebo technologickým zariadením, ktorého obchodný názov uviedol verejný obstarávateľ vo výkaze výmer alebo v inej dokumentácii poskytnutej verejným obstarávateľom.
A26: Pri použití ekvivalentného riešenia niektorých druhov materiálov, technológií, výrobkov a technologických zariadení musia tieto mať vlastnosti (parametre) rovnocenné vlastnostiam (kvalitatívnym, technickým a estetickým parametrom) výrobkov, technológií, materiálov, technologických zariadení atď., ktoré uviedol verejný obstarávateľ vo výkaze výmer alebo v inej dokumentácii poskytnutej verejným obstarávateľom. Konečné posúdenie ekvivalentnosti je výlučne v kompetencii verejného obstarávateľa.

Sheet D.1.1.1-ASR-S
A1: VÝKAZ VÝMER
A2: Profesia: | C2: D1.1.1 - Stavebné úpravy
A3: Investor: | C3: DataCentrum, Cintorínska 5, 811 08 Bratislava
A4: Miesto stavby: | C4: Cintorínska 5, 811 08 Bratislava
A5: Dátum: | C5: 09/2026
A6: Vypracoval: | C6: Bc. Filip Sitár
A8: P.č. | B8: Popis položky | C8: Referenčný typ | D8: Merná jednotka | E8: Množstvo | F8: Jednotoková cena bez DPH | G8: Cena bez DPH
A9: A | B9: VÝMENA SHZ
A10: A1 | B10: Práce a dodávky HSV | C10: D - HSV
A11: A1.1 | B11: Úpravy povrchov, podlahy, osadenie | C11: D - 6
A12: A1.1.1 | B12: Oprava vnútorných stien a podláh po demontáži | C12: K - 612421331.1 | D12: kpl | E12: 1 | G12: =ROUND(E12*F12,2) -> 0
A13: A1.1.2 | B13: Domurovanie nevyuzitých otvorov tvarovkami a expanznou maltou | C13: K - 612421331.2 | D13: kpl | E13: 1 | G13: =ROUND(E13*F13,2) -> 0
A14: A1.1.3 | B14: Dobetónovanie nevyužitých otvorov v strope - plechodoska, zálievka hr. 100 mm | C14: K - 612421331.3 | D14: kpl | E14: 1 | G14: =ROUND(E14*F14,2) -> 0
A15: A1.2 | B15: Ostatné konštrukcie a práce-búranie | C15: D - 9
A16: A1.2.1 | B16: Lešenie ľahké pracovné pomocné s výškou lešeňovej podlahy nad 1,20 do 1,90 m | C16: K - 941955002 | D16: m2 | E16: 486.588 | G16: =ROUND(E16*F16,2) -> 0
A17: A1.2.2 | B17: Vyčistenie budov pri výške podlaží do 4m | C17: K - 952901111 | D17: m2 | E17: 486.588 | G17: =ROUND(E17*F17,2) -> 0
A18: A1.2.3 | B18: Vyčistenie objektov akejkoľvek výšky | C18: K - 952901311.S | D18: kpl | E18: 1 | G18: =ROUND(E18*F18,2) -> 0
A19: A1.2.4 | B19: Prestupy konštrukciami bez vyspravenia a utesnenia pre SHZ | C19: K - 962031132.1 | D19: kpl | E19: 1 | G19: =ROUND(E19*F19,2) -> 0
A20: A1.2.5 | B20: Vytvorenie opatrení na zamedzenie prašnosti do zóny mimo rekonštrukciu | C20: K - 962031132.3 | D20: kpl | E20: 1 | G20: =ROUND(E20*F20,2) -> 0
A21: A1.2.6 | B21: Búranie muriva alebo prímurovky z tehál pálených, vápenopieskových, cementových na maltu, -1,90500t | C21: K - 962032231.S | D21: m3 | E21: 0.766 | G21: =ROUND(E21*F21,2) -> 0
A22: A1.2.7 | B22: Vybúranie drevotrieskového obkladu oceľového stĺpa, -0,00400t | C22: K - 968062991.S | D22: kpl | E22: 1 | G22: =ROUND(E22*F22,2) -> 0
A23: A1.2.8 | B23: Vyvesenie kovového dverného krídla bezpečnostných požiarných dverí bez poškodenia na opätovnú montáž, plochy nad 2 m2 | C23: K - 968071126.S | D23: ks | E23: 1 | G23: =ROUND(E23*F23,2) -> 0
A24: A1.2.9 | B24: Vybúranie kovových dverových zárubní bez poškodenia na opätovné použitie, plochy nad 2 m2, -0,06300t | C24: K - 968072456.S | D24: m2 | E24: 2.17 | G24: =ROUND(E24*F24,2) -> 0
A25: A1.2.10 | B25: Zvislá doprava sutiny a vybúraných hmôt za prvé podlažie nad alebo pod základným podlažím | C25: K - 979011111.S | D25: t | E25: 2.314 | G25: =ROUND(E25*F25,2) -> 0
A26: A1.2.11 | B26: Zvislá doprava sutiny a vybúraných hmôt za každé ďalšie podlažie | C26: K - 979011121.S | D26: t | E26: 6.941 | G26: =ROUND(E26*F26,2) -> 0
A27: A1.2.12 | B27: Odvoz sutiny a vybúraných hmôt na skládku do 1 km | C27: K - 979081111.S | D27: t | E27: 2.314 | G27: =ROUND(E27*F27,2) -> 0
... A31: A1.2.16 | B31: Poplatok za skladovanie - iné odpady zo stavieb a demolácií (17 09), ostatné | C31: K - 979089612.S | D31: t | E31: 2.314 | G31: =ROUND(E31*F31,2) -> 0
A32: A1.3 | B32: Presun hmôt HSV | C32: D - 99
A33: A1.3.1 | B33: Presun hmôt pre opravy a údržbu objektov vrátane vonkajších plášťov výšky do 25 m | C33: K - 999281111 | D33: t | E33: 1.991 | G33: =ROUND(E33*F33,2) -> 0
A34: A2 | B34: Práce a dodávky PSV | C34: D - PSV
A35: A2.1 | B35: Konštrukcie - drevostavby | C35: D - 763
A36: A2.1.1 | B36: Priečka SDK RC3 EI90, hr. 125 mm, jednoduchá kca CW 75, UW 75, dosky 2x GKB hr. 12,5 mm s TI 75 mm | C36: K - 763112113 | D36: m2 | E36: 9.671 | G36: =ROUND(E36*F36,2) -> 0
A37: A2.1.2 | B37: Obklad stĺpu s doskami SDK | C37: K - 763112113.4 | D37: kpl | E37: 1 | G37: =ROUND(E37*F37,2) -> 0
A38: A2.1.3 | B38: SDK výplň nevyužitých otvorov kvalitatívne rovnakých, alebo vyšších parametrov ako dopĺňaná SDK konštrukcia | C38: K - 763112113.5 | D38: kpl | E38: 1 | G38: =ROUND(E38*F38,2) -> 0
A39: A2.1.4 | B39: Demontáž sadrokartónovej predsadenej alebo šachtovej steny, s jednoduchou oceľovou konštrukciou, jednoduché opláštenie, -0,01662t | C39: K - 763129521.S | D39: m2 | E39: 10.477 | G39: =ROUND(E39*F39,2) -> 0
A40: A2.1.5 | B40: Presun hmôt pre sádrokartónové konštrukcie v stavbách (objektoch) výšky od 24 do 52 m | C40: K - 998763406.S | D40: % | E40: 18.607 | G40: =ROUND(E40*F40,2) -> 0
A41: A2.2 | B41: Konštrukcie stolárske | C41: K - 766
A42: A2.2.1 | B42: Demontáž a montáž dverných krídiel kompletiz. protipožiarnych jednokrídlových, šírky nad 800 mm | C42: D - 766661422.1 | D42: ks | E42: 1 | G42: =ROUND(E42*F42,2) -> 0
A43: A2.2.2 | B43: Presun hmot pre konštrukcie stolárske v objektoch výšky nad 24 do 36 m | C43: K - 998766204.S | D43: % | E43: 8.25 | G43: =ROUND(E43*F43,2) -> 0
A44: A2.3 | B44: Konštrukcie doplnkové kovové | C44: K - 767
A45: A2.3.1 | B45: Demontáž podlahových konštrukcií zdvojených podláh dosiek, vrátane rampy -0,02000t | C45: K - 767590830 | D45: m2 | E45: 26.561 | G45: =ROUND(E45*F45,2) -> 0
A46: A2.3.2 | B46: Demontáž podlahových konštrukcií zdvojených podláh nosného roštu -0,01000t | C46: K - 767590840 | D46: m2 | E46: 26.561 | G46: =ROUND(E46*F46,2) -> 0
A47: A2.3.3 | B47: M+D podlah. konštrukcií zdvojených podláh - 600/600 výšky 300 a 750 mm. , Nosnosť triedy 5A , Kalciumsulfátové dosky, podľa PD | C47: K - 767591110 | D47: m2 | E47: 28.774 | G47: =ROUND(E47*F47,2) -> 0
A48: A2.3.4 | B48: Odstránení nefunkčného zvislého VZT potrubia rozmeru cca 350x260mm vrátane rozvodov nad úrovňou existujúceho podhľadu vrátane koncových prvkov – výustiek, -0,00400t | C48: D - 767867801.S | D48: súb. | E48: 1 | G48: =ROUND(E48*F48,2) -> 0
A49: A2.3.5 | B49: Presun hmôt pre kovové stavebné doplnkové konštrukcie v objektoch výšky nad 24 do 36 m | C49: K - 998767204.S | D49: % | E49: 69.302 | G49: =ROUND(E49*F49,2) -> 0
A50: A2.4 | B50: Podlahy syntetické | C50: K - 777
A51: A2.4.1 | B51: Nátery podláh betónových dvojnásobne protiprašným náterom - pod navrhované zdvojené podlahy | C51: D - 777610000 | D51: m2 | E51: 4.339 | G51: =ROUND(E51*F51,2) -> 0
A52: A2.4.2 | B52: Presun hmôt pre podlahy syntetické v objektoch výšky nad 24 do 36 m | C52: K - 998777204.S | D52: % | E52: 0.542 | G52: =ROUND(E52*F52,2) -> 0
A53: A2.5 | B53: Nátery | C53: K - 783
A54: A2.5.1 | B54: Nátery povrchov stien a stropov dvojnásobné, oteruvzdorný náter dvojnásobný, vrátane penetračného náteru, farba biela | C54: K - 783814120 | D54: m2 | E54: 159.901 | G54: =ROUND(E54*F54,2) -> 0
A55: A2.5.2 | B55: Nátery existujúcej skrinky ekvipotenciálneho pripojenia, trojnásobný, farba biela | C55: D - 783814120.1 | D55: kpl | E55: 1 | G55: =ROUND(E55*F55,2) -> 0
A56: A2.5.3 | B56: Nátery kovových konštrukcií protipožiarne - stĺp | C56: K - 783980002.S | D56: kpl | E56: 1 | G56: =ROUND(E56*F56,2) -> 0
A57: A2.6 | B57: Maľby | C57: D - 784
A58: A2.6.1 | B58: Zakrývanie podláh a zariadení papierom v miestnostiach alebo na schodisku | C58: K - 784418012 | D58: kpl | E58: 1 | G58: =ROUND(E58*F58,2) -> 0
A59: A2.7 | B59: Zasklievanie | C59: D - 787
A60: A2.7.1 | B60: Polep okna nepriehľadnou fóliou matnou bielou | C60: D - 787174001.S | D60: kpl | E60: 1 | G60: =ROUND(E60*F60,2) -> 0
A61: A3 | B61: Práce a dodávky M | C61: K - M
A62: A3.1 | B62: Elektromontáže | C62: K - 21-M
A63: A3.1.1 | B63: Demontáž nevyužívaných koncových prvkov a nefunkčnej kabeláže -0,00288 t | C63: K - 210960632.S | D63: kpl | E63: 1 | G63: =ROUND(E63*F63,2) -> 0
A64: A3.2 | B64: Montáže oznamovacích, riadiacich a zabezpečovacích zariadení | C64: K - 22-M
A65: A3.2.1 | B65: Požiarne upchávky 90 min. | C65: D - 210021511.S | D65: kpl | E65: 1 | G65: =ROUND(E65*F65,2) -> 0
A66: A3.2.1 | B66: Demontáž pôvodného SHZ-R - vykonané počas stavebných prác | C66: D - DP | D66: kpl | E66: 1 | G66: =ROUND(E66*F66,2) -> 0
A67: A3.2.1 | B67: Materiál kotvenia pre novú technológiu SHZ-R | C67: M - MAT | D67: kpl | E67: 1 | G67: =ROUND(E67*F67,2) -> 0
A68: A3.2.1 | B68: Montáž kotvenia pre novú technológiu SHZ-R | C68: D - MP | D68: kpl | E68: 1 | G68: =ROUND(E68*F68,2) -> 0
A69: A3.3 | B69: Montáže potrubia | C69: D - 23-M
A70: A3.3.1 | B70: Požiarne upchávky pre SHZ 90 min. | C70: K - 230300001.S | D70: kpl | E70: 1 | G70: =ROUND(E70*F70,2) -> 0
A71: A3.3.2 | B71: Demontáž pôvodného SHZ-T - vykonané počas stavebných prác | C71: D - DP | D71: kpl | E71: 1 | G71: =ROUND(E71*F71,2) -> 0
A72: A3.3.3 | B72: Materiál kotvenia pre novú technológiu SHZ-T | C72: M - MAT | D72: kpl | E72: 1 | G72: =ROUND(E72*F72,2) -> 0
A73: A3.3.4 | B73: Montáž kotvenia pre novú technológiu SHZ-T | C73: D - MP | D73: kpl | E73: 1 | G73: =ROUND(E73*F73,2) -> 0
A74: A3.3.5 | B74: Roznášacia konštruckia pod SHZ-T podľa statického posudku | C74: M - MAT | D74: kpl | E74: 1 | G74: =ROUND(E74*F74,2) -> 0
A75: A3.3.6 | B75: Montáž roznášacej konštrukcie pod SHZ-T | C75: D - MP | D75: kpl | E75: 1 | G75: =ROUND(E75*F75,2) -> 0
A76: B | B76: ÚPRAVA STROPU A UTESENIE PRIESTOROV
A77: B1 | B77: Práce a dodávky HSV | C77: D - HSV
A78: B1.1 | B78: Úpravy povrchov, podlahy, osadenie | C78: D - 6
A79: B1.1.1 | B79: Oprava vnútorných hladkých sadrových omietok stien, opravená plocha nad 5 do 10 % | C79: K - 612441241.S | D79: m2 | E79: 408.108 | G79: =ROUND(E79*F79,2) -> 0
A80: B1.2 | B80: Ostatné konštrukcie a práce-búranie | C80: D - 9
A81: B1.2.1 | B81: Lešenie ľahké pracovné pomocné s výškou lešeňovej podlahy nad 1,20 do 1,90 m | C81: K - 941955002.S | D81: m2 | E81: 474.48 | G81: =ROUND(E81*F81,2) -> 0
A82: B1.2.2 | B82: Vyčistenie budov pri výške podlaží do 4 m | C82: K - 952901111.S | D82: m2 | E82: 474.48 | G82: =ROUND(E82*F82,2) -> 0
A83: B1.2.3 | B83: Protiprašné opatrenia | C83: K - 952901111.S1 | D83: kpl | E83: 1 | G83: =ROUND(E83*F83,2) -> 0
A84: B1.2.4 | B84: Demontáž a opätovná montáž technológie na nosníkoch | C84: K - 952901111.S2 | D84: kpl | E84: 1 | G84: =ROUND(E84*F84,2) -> 0
A85: B1.2.5 | B85: Zvislá doprava sutiny a vybúraných hmôt za prvé podlažie nad alebo pod základným podlažím | C85: K - 979011111.S | D85: t | E85: 22.357 | G85: =ROUND(E85*F85,2) -> 0
A86: B1.2.6 | B86: Zvislá doprava sutiny a vybúraných hmôt za každé ďalšie podlažie | C86: K - 979011121.S | D86: t | E86: 22.357 | G86: =ROUND(E86*F86,2) -> 0
A87: B1.2.7 | B87: Odvoz sutiny a vybúraných hmôt na skládku do 1 km | C87: K - 979081111.S | D87: t | E87: 22.357 | G87: =ROUND(E87*F87,2) -> 0
A88: B1.2.8 | B88: Odvoz sutiny a vybúraných hmôt na skládku za každý ďalší 1 km | C88: K - 979081121.S | D88: t | E88: 335.358 | G88: =ROUND(E88*F88,2) -> 0
A89: B1.2.9 | B89: Vnútrostavenisková doprava sutiny a vybúraných hmôt do 10 m | C89: K - 979082111.S | D89: t | E89: 22.357 | G89: =ROUND(E89*F89,2) -> 0
A90: B1.2.10 | B90: Vnútrostavenisková doprava sutiny a vybúraných hmôt za každých ďalších 5 m | C90: K - 979082121.S | D90: t | E90: 67.7 | G90: =ROUND(E90*F90,2) -> 0
A91: B1.2.11 | B91: Poplatok za skládku - stavebné materiály na báze sadry (17 08), ostatné | C91: K - 979089512.S | D91: t | E91: 22.357 | G91: =ROUND(E91*F91,2) -> 0
A92: B1.3 | B92: Presun hmôt HSV | C92: D - 99
A93: B1.3.1 | B93: Presun hmôt pre opravy a údržbu objektov vrátane vonkajších plášťov výšky do 25 m | C93: K - 999281111.S | D93: t | E93: 2.681 | G93: =ROUND(E93*F93,2) -> 0
A94: B2 | B94: Práce a dodávky PSV | C94: D - PSV
A95: B2.1 | B95: Izolácie tepelné | C95: D - 713
A96: B2.1.1 | B96: Montáž tesnenia prestupu káblových, potrubných trás a tesnenie škár protipožiarnym povlakom do El120 | C96: K - 713510201.S1 | D96: ks | E96: 50 | G96: =ROUND(E96*F96,2) -> 0
A97: B2.2 | B97: Konštrukcie - drevostavby | C97: D - 763
A98: B2.2.1 | B98: SDK základný penetračný náter (Sika Primer - 3 N) | C98: K - 763119210.S1 | D98: m2 | E98: 408.108 | G98: =ROUND(E98*F98,2) -> 0
A99: B2.2.2 | B99: Vodonepriepustné lepidlo SikaBond T2 | C99: M - 247410003100 | D99: kg | E99: 408.108 | G99: =ROUND(E99*F99,2) -> 0
A100: B2.2.3 | B100: Demontáž sadrokartónového podhľadu s jednovrstvou nosnou konštrukciou z oceľových profilov, dvojité opláštenie, -0,03460t | C100: K - 763139532.S | D100: m2 | E100: 474.48 | G100: =ROUND(E100*F100,2) -> 0
A101: B2.2.4 | B101: SDK obklady trámov prierezu nad 280 cm2, doska štandardná A 12,5 mm | C101: K - 763167711.S | D101: m | E101: 338.88 | G101: =ROUND(E101*F101,2) -> 0
A102: B2.2.5 | B102: Montáž SDK obkladu trámov | C102: K - 763167750.S | D102: m2 | E102: 408.108 | G102: =ROUND(E102*F102,2) -> 0
A103: B2.2.6 | B103: Doska sadrokartónová štandardná A, hr. 12,5 mm | C103: M - 590110002000.S | D103: m2 | E103: 448.919 | G103: =ROUND(E103*F103,2) -> 0
A104: B2.2.7 | B104: Presun hmôt pre sadrokartónové konštrukcie v stavbách (objektoch) výšky od 7 do 24 m | C104: K - 998763403.S | D104: % | E104: 494.467 | G104: =ROUND(E104*F104,2) -> 0
...

Sheet D.1.1.3-ASR-U
A1: VÝKAZ VÝMER
A2: Profesia: | C2: D1.1.3 - Zakrytovanie studenej uličky
A3: Investor: | C3: DataCentrum, Cintorínska 5, 811 08 Bratislava
A4: Miesto stavby: | C4: Cintorínska 5, 811 08 Bratislava
A5: Dátum: | C5: 09/2026
A6: Vypracoval: | C6: Bc. Filip Sitár
A8: P.č. | B8: Popis položky | C8: Referenčný typ | D8: Merná jednotka | E8: Množstvo | F8: Jednotoková cena bez DPH | G8: Cena bez DPH
A9: A | B9: VYBUDOVANIE ZAKRYTOVANIA STUDENEJ ULIČKY NA IT SÁLE
A10: A1 | B10: Práce a dodávky M | C10: D - M
A11: A1.1 | B11: Montáže vzduchotechnických zariadení | C11: D - 24-M
A12: A1.1.1 | B12: Predná stena 27300 x 2400mm - klietka, teplé a studené uličky, čierne hliníkové profily, perforovaná výplň - podľa výkresovej dokumentácie | C12: D - ATYP1 | D12: ks | E12: 1 | G12: =ROUND(E12*F12,2) -> 0
A13: A1.1.2 | B13: Elektrické jednokrídle otočné dvere do teplej uličky 2200x600mm (kovovú výplň s perforáciou), predpríprava pre prístupový systém - podľa výkresovej dokumentácie | C13: D - ATYP2 | D13: ks | E13: 8 | G13: =ROUND(E13*F13,2) -> 0
A14: A1.1.3 | B14: Elektrické dvojkrídle závesné dvere do studenej uličky 2300x1200mm (výplň lepené vrstvené sklo 4+4 mm), predpríprava pre prístupový systém - podľa výkresovej dokumentácie | C14: D - ATYP3 | D14: ks | E14: 4 | G14: =ROUND(E14*F14,2) -> 0
A15: A1.1.4 | B15: Elektrické jednokrídle závesné dvere do studenej uličky 2300x1500mm(výplň lepené vrstvené sklo 4+4 mm), predpríprava pre prístupový systém - podľa výkresovej dokumentácie | C15: D - ATYP4 | D15: ks | E15: 1 | G15: =ROUND(E15*F15,2) -> 0
A16: A1.1.5 | B16: Elektrické jednokrídle závesné dvere do studenej uličky 2300x1100mm(výplň lepené vrstvené sklo 4+4 mm), predpríprava pre prístupový systém - podľa výkresovej dokumentácie | C16: D - ATYP5 | D16: ks | E16: 1 | G16: =ROUND(E16*F16,2) -> 0
A17: A1.1.6 | B17: Studená ulička 6650x1200mm - strešené okná číry polykarbonát, 1x plech, záslepka na konci uličky pre príležitostný prechod, výplne nad rackmi, medzi rackmi - podľa výkresovej dokumentácie | C17: D - ATYP6 | D17: ks | E17: 4 | G17: =ROUND(E17*F17,2) -> 0
A18: A1.1.7 | B18: Studená ulička 6650x1500mm - strešené okná číry polykarbonát, 1x plech, záslepka na konci uličky pre príležitostný prechod, výplne nad rackmi, medzi rackmi - podľa výkresovej dokumentácie | C18: D - ATYP7 | D18: ks | E18: 1 | G18: =ROUND(E18*F18,2) -> 0
A19: A1.1.8 | B19: Studená ulička 6650x1100mm - strešené okná číry polykarbonát, 1x plech, záslepka na konci uličky pre príležitostný prechod, výplne nad rackmi, medzi rackmi - podľa výkresovej dokumentácie | C19: D - ATYP8 | D19: ks | E19: 1 | G19: =ROUND(E19*F19,2) -> 0
A20: A1.1.9 | B20: Vykládka stien, uličky | C20: K - MP | D20: kpl | E20: 1 | G20: =ROUND(E20*F20,2) -> 0
A21: A1.1.10 | B21: Demontáž existujúceho oplotenia a dverí podľa projektovej dokumentácie | C21: K - DP | D21: kpl | E21: 1 | G21: =ROUND(E21*F21,2) -> 0
A22: A1.1.11 | B22: Montáž studenej uličky komplet | C22: K - B1-2 | D22: kpl | E22: 6 | G22: =ROUND(E22*F22,2) -> 0
A23: A1.1.12 | B23: Montáž prednej steny/klietky s dverami do studených a teplých uličiek | C23: K - MP | D23: kpl | E23: 1 | G23: =ROUND(E23*F23,2) -> 0
... A25: A1.1.14 | B25: Dopravné náklady a réžijné náklady | C25: K - MP | D25: kpl | E25: 1 | G25: =ROUND(E25*F25,2) -> 0
A26: A2.1 | B26: Montáže oznamovacích, riadiacich a zabezpečovacích zariadení | C26: K - 22-M
A27: A2.1.1 | B27: Demontáž existujúceho SKV (6x čítačaka + kabeláž) | C27: D - DP | D27: kpl | E27: 1 | G27: =ROUND(E27*F27,2) -> 0
A28: A2.1.2 | B28: Čítačaka s klávesnicou kompatibilná s existujúcim SKV | C28: M - KRBox_5K s klávesnicou Proxy | D28: ks | E28: 11 | G28: =ROUND(E28*F28,2) -> 0
A29: A2.1.3 | B29: Kábel pre napojenie čítačiek | C29: M - FTP | D29: m | E29: 240 | G29: =ROUND(E29*F29,2) -> 0
A30: A2.1.4 | B30: Demontáž existujúcich čidiel monitoring non IT | C30: D - DP | D30: kpl | E30: 1 | G30: =ROUND(E30*F30,2) -> 0
A31: A2.1.5 | B31: Montáž (opätovná) existujúcich čidiel monitoring non IT | C31: D - MP | D31: kpl | E31: 1 | G31: =ROUND(E31*F31,2) -> 0
A32: A2.1.6 | B32: Ostatný montážny a technologický materiál | C32: K - MAT | D32: kpl | E32: 1 | G32: =ROUND(E32*F32,2) -> 0
A33: A2.1.7 | B33: Príprava a montážne práce | C33: K - MP | D33: kpl | E33: 1 | G33: =ROUND(E33*F33,2) -> 0
A34: A2.1.8 | B34: Inštalácia a oživenie | C34: K - MP | D34: kpl | E34: 1 | G34: =ROUND(E34*F34,2) -> 0
A35: A2.1.9 | B35: Úprava FW pre riadiacu jednotku | C35: K - MP | D35: ks | E35: 11 | G35: =ROUND(E35*F35,2) -> 0
A36: A2.1.10 | B36: Dopravné a réžijné náklady | C36: K - MP | D36: kpl | E36: 1 | G36: =ROUND(E36*F36,2) -> 0
A37: B | B37: VYPLNENIE PRÁZDNEHO PRIESTORU STUDENEJ ULIČKY
A38: B1 | B38: Práce a dodávky M | C38: D - M
A39: B1.1 | B39: Montáže oznamovacích, riadiacich a zabezpečovacích zariadení | C39: D - M-22
A40: B1.1.1 | B40: Datacenter rack 47U 800x1200mm, 1500 kg, farba čierna, predné dvere jednokrídle perforované, zadné dvere delené perforované, 2x bočnica, separačný rám, držiaky PDU 0U, farba čierna | C40: M - RACK1 | D40: ks | E40: 9 | G40: =ROUND(E40*F40,2) -> 0
A41: B1.1.2 | B41: Datacenter rack 47U 600x1200mm, 1500 kg, farba čierna, predné dvere jednokrídle perforované, zadné dvere delené perforované, 2x bočnica, separačný rám, držiaky PDU 0U, farba čierna | C41: M - RACK2 | D41: ks | E41: 12 | G41: =ROUND(E41*F41,2) -> 0
A42: B1.1.3 | B42: Presun existujúcich rozvádzačov | C42: K - MP | D42: kpl | E42: 1 | G42: =ROUND(E42*F42,2) -> 0
A43: B1.1.4 | B43: Osadenie rozvádzača na miesto | C43: K - MP | D43: kpl | E43: 21 | G43: =ROUND(E43*F43,2) -> 0
A44: B1.1.5 | B44: Vykládka rackov | C44: K - MP | D44: kpl | E44: 1 | G44: =ROUND(E44*F44,2) -> 0
A45: B1.1.6 | B45: Materiál pre utesenenie existujúcich dátových rozvádzačov (rackov) | C45: D - MAT | D45: kpl | E45: 1 | G45: =ROUND(E45*F45,2) -> 0
A46: B1.1.7 | B46: Ostatný montážny a technologický materiál | C46: D - MAT | D46: kpl | E46: 1 | G46: =ROUND(E46*F46,2) -> 0
A47: B1.1.8 | B47: Dopravné a réžijné náklady | C47: K - MP | D47: kpl | E47: 1 | G47: =ROUND(E47*F47,2) -> 0
A48: C | B48: VYBUDOVANIE ODDELENIA STUDENEJ A TEPLEJ ULIČKY PRE UPS
A49: C1 | B49: Práce a dodávky M | C49: D - M
A50: C1.1 | B50: Montáže vzduchotechnických zariadení | C50: D - 24-M
A51: C1.1.1 | B51: Stena pre oddelenie studenej a teplej uličky pre UPS1 - podľa výkresovej dokumentácie | C51: D - ATYP9 | D51: ks | E51: 1 | G51: =ROUND(E51*F51,2) -> 0
A52: C1.1.2 | B52: Stena pre oddelenie studenej a teplej uličky pre UPS2 - podľa výkresovej dokumentácie | C52: D - ATYP10 | D52: ks | E52: 1 | G52: =ROUND(E52*F52,2) -> 0
A53: C1.1.3 | B53: Vykládka stien, uličky | C53: K - B3-1 | D53: kpl | E53: 1 | G53: =ROUND(E53*F53,2) -> 0
A54: C1.1.4 | B54: Montáž studenej uličky komplet | C54: K - B3-2 | D54: kpl | E54: 2 | G54: =ROUND(E54*F54,2) -> 0
A55: C1.1.5 | B55: Ostatný montážny a technologický materiál | C55: K - B3-3 | D55: kpl | E55: 1 | G55: =ROUND(E55*F55,2) -> 0
A56: C1.1.6 | B56: Dopravné náklady/réžia | C56: K - B3-4 | D56: kpl | E56: 1 | G56: =ROUND(E56*F56,2) -> 0
A57: D | B57: VEDĽAJŠIE ROZPOČTOVÉ NÁKLADY | C57: D
A58: D1 | B58: Prevádzkové vplyvy (stavebné práce budú prebiehať za plnej prevádzky DC) | C58: R | D58: % | E58: 3 | G58: =ROUND(E58*F58/100,2) -> 0
A59: D2 | B59: Sťažené podmienky (stavebné práce budú prebiehať za plnej prevádzky DC) | C59: R | D59: % | E59: 3 | G59: =ROUND(E59*F59/100,2) -> 0
A60: D3 | B60: Zariadenie staveniska | C60: R | D60: % | E60: 4 | G60: =ROUND(E60*F60/100,2) -> 0
A61: D4 | B61: Mimostavenisková doprava | C61: R | D61: % | E61: 2 | G61: =ROUND(E61*F61/100,2) -> 0
A62: D5 | B62: Kompletačná činnosť | C62: R | D62: % | E62: 3 | G62: =ROUND(E62*F62/100,2) -> 0
A63: D6 | B63: Príplatok za práce v nočných hodinách a cez víkendy (servisné okná) | C63: R | D63: kpl | E63: 1 | G63: =ROUND(E63*F63,2) -> 0
A64: E | B64: OSTATNÉ | C64: D
A65: E1 | B65: Implementačná dokumentácia pre SKV | C65: R | D65: kpl | E65: 1 | G65: =ROUND(E65*F65,2) -> 0
A66: E2 | B66: Dokumentácia skutočného vyhotovenia a sprievodná technická dokumentácia | C66: R | D66: kpl | E66: 1 | G66: =ROUND(E66*F66,2) -> 0
A67: E3 | B67: Geodetické zameranie technológie studených uličiek na stavbe pred realizáciou a po realizácii | C67: R | D67: kpl | E67: 2 | G67: =ROUND(E67*F67,2) -> 0
A68: E4 | B68: Zaškolenie obsluhy VZT zariadenia a SKV | C68: R | D68: kpl | E68: 1 | G68: =ROUND(E68*F68,2) -> 0
B69: SPOLU | G69: =SUM(G9:G68) -> 0

Sheet D1.2.1-CHL
A1: VÝKAZ VÝMER
A2: Profesia: | C2: D1.2.1 - Chladenie
A3: Investor: | C3: DataCentrum, Cintorínska 5, 811 08 Bratislava
A4: Miesto stavby: | C4: Cintorínska 5, 811 08 Bratislava
A5: Dátum: | C5: 09/2026
A6: Vypracoval: | C6: Bc. Filip Sitár
A8: P.č. | B8: Popis položky | C8: Referenčný typ | D8: Merná jednotka | E8: Množstvo | F8: Jednotoková cena bez DPH | G8: Cena bez DPH
A9: A | B9: VÝMENA CHLADENIA
A10: A1 | B10: ZARIADENIA
A11: A1.1 | B11: IT sála
A12: A1.1.1 | B12: Vnútorná klimatizačná jednotka VERTIV - PDX PI075, so zvlhčovaním, parametre prodľa technickej špecifikácie a selekčného listu | C12: PI075/D/A/L/3/G/U/7/0/3/A/1/D/S/1/1/P/I/E/E/X/DAM303/ETHSWIPX | D12: ks | E12: 2 | G12: =ROUND(E12*F12,2) -> 0
A13: A1.1.2 | B13: Vnútorná klimatizačná jednotka VERTIV - PDX PI075, bez zvlhčovania, parametre prodľa technickej špecifikácie a selekčného listu | C13: PI075/D/A/L/3/G/0/7/0/3/A/1/D/S/1/1/P/I/E/E/X/DAM303/ETHSWIPX | D13: ks | E13: 4 | G13: =ROUND(E13*F13,2) -> 0
A14: A1.1.3 | B14: Ultrazvukový zvlhčovač | C14: 456351 | D14: ks | E14: 2 | G14: =ROUND(E14*F14,2) -> 0
A15: A1.1.4 | B15: Vonkajšia klimatizačná jednotka VERTIV - HCR99, parametre prodľa technickej špecifikácie a selekčného listu | C15: HCR99/M/0/0/G/S | D15: ks | E15: 6 | G15: =ROUND(E15*F15,2) -> 0
A16: A1.1.5 | B16: Priestorové čidlo teploty a vlhkosti | C16: 48291301 | D16: ks | E16: 18 | G16: =ROUND(E16*F16,2) -> 0
A17: A1.1.6 | B17: Spätný ventil do potrubia chladiva | C17: 10008646 | D17: ks | E17: 6 | G17: =ROUND(E17*F17,2) -> 0
A18: A1.2 | B18: UPS
A19: A1.2.1 | B19: Vnútorná klimatizačná jednotka VERTIV - PDX PI015, bez zvlhčovania, parametre prodľa technickej správy a referenčného selekčnho listu | C19: PI015/D/A/L/3/G/0/7/0/3/A/1/D/S/1/1/P/I/E/E/X/DAM508/ETHSWIPX | D19: ks | E19: 4 | G19: =ROUND(E19*F19,2) -> 0
A20: A1.2.2 | B20: Vonkajšia klimatizačná jednotka VERTIV - HCR33, parametre prodľa technickej správy a referenčného selekčnho listu | C20: HCR33/M/0/0/G/S | D20: ks | E20: 4 | G20: =ROUND(E20*F20,2) -> 0
A21: A1.2.3 | B21: Priestorové čidlo teploty a vlhkosti | C21: 48291301 | D21: ks | E21: 4 | G21: =ROUND(E21*F21,2) -> 0
A22: A1.2.4 | B22: Spätný ventil do potrubia chladiva | C22: 10008646 | D22: ks | E22: 4 | G22: =ROUND(E22*F22,2) -> 0
A23: A2 | B23: MATERIÁL
A24: A2.1 | B24: IT sála
A25: A2.1.1 | B25: Chladivo R410A 10kg/fľaša | C25: 2005802 | D25: fľaša | E25: 25 | G25: =ROUND(E25*F25,2) -> 0
A26: A2.1.2 | B26: Olej do kompresoru 160SZ 2.5L Maneurop | C26: 120Z0571 | D26: fľaša | E26: 3 | G26: =ROUND(E26*F26,2) -> 0
A27: A2.1.3 | B27: Cu trubka neizolovaná tvrdá D12*1 mm (5m) | C27: 2022925 | D27: ks | E27: 20 | G27: =ROUND(E27*F27,2) -> 0
A28: A2.1.4 | B28: Cu trubka neizolovaná tvrdá D16*1 mm (5 m) | C28: 2022927 | D28: ks | E28: 20 | G28: =ROUND(E28*F28,2) -> 0
A29: A2.1.5 | B29: Cu trubka neizolovaná tvrdá D22*1 mm (5m) | C29: 2022933 | D29: ks | E29: 100 | G29: =ROUND(E29*F29,2) -> 0
A30: A2.1.6 | B30: Cu trubka neizolovaná tvrdá D28*1,5 mm (5 m) | C30: 2022937 | D30: ks | E30: 115 | G30: =ROUND(E30*F30,2) -> 0
A31: A2.1.7 | B31: Medený oblúk 90° D12 | C31: MPM5002 0120001 | D31: ks | E31: 30 | G31: =ROUND(E31*F31,2) -> 0
A32: A2.1.8 | B32: Medený oblúk 90° D16 | C32: MPM5002 0160001 | D32: ks | E32: 90 | G32: =ROUND(E32*F32,2) -> 0
A33: A2.1.9 | B33: Medený oblúk 90° D22 | C33: MPM5002 0220001 | D33: ks | E33: 140 | G33: =ROUND(E33*F33,2) -> 0
A34: A2.1.10 | B34: Medený oblúk 90° D28 | C34: MPM5002 0280001 | D34: ks | E34: 220 | G34: =ROUND(E34*F34,2) -> 0
A35: A2.1.11 | B35: Medený oblúk 180° D16 | C35: 5060016000000 | D35: ks | E35: 48 | G35: =ROUND(E35*F35,2) -> 0
A36: A2.1.12 | B36: Medený oblúk 180° D28 | C36: 5060028000000 | D36: ks | E36: 70 | G36: =ROUND(E36*F36,2) -> 0
A37: A2.1.13 | B37: Medený T-kus D28/28 | C37: MPM5T 028282801 | D37: ks | E37: 8 | G37: =ROUND(E37*F37,2) -> 0
A38: A2.1.14 | B38: Medený uzáver D28 | C38: MPM5301 0280001 | D38: ks | E38: 2 | G38: =ROUND(E38*F38,2) -> 0
A39: A2.1.15 | B39: Spojka lisovacia D12 | C39: MPM5270 0120001 | D39: ks | E39: 30 | G39: =ROUND(E39*F39,2) -> 0
A40: A2.1.16 | B40: Spojka lisovacia D16 | C40: MPM5270 0160001 | D40: ks | E40: 50 | G40: =ROUND(E40*F40,2) -> 0
A41: A2.1.17 | B41: Spojka lisovacia D22 | C41: MPM5270 0220001 | D41: ks | E41: 120 | G41: =ROUND(E41*F41,2) -> 0
A42: A2.1.18 | B42: Spojka lisovacia D28 | C42: MPM5270 0280001 | D42: ks | E42: 170 | G42: =ROUND(E42*F42,2) -> 0
A43: A2.1.19 | B43: Guľový ventil so servisným ventilom D12 | C43: 2013516 | D43: ks | E43: 4 | G43: =ROUND(E43*F43,2) -> 0
A44: A2.1.20 | B44: Guľový ventil so servisným ventilom D16 | C44: 2013896 | D44: ks | E44: 4 | G44: =ROUND(E44*F44,2) -> 0
A45: A2.1.21 | B45: Guľový ventil so servisným ventilom D22 | C45: 2013897 | D45: ks | E45: 6 | G45: =ROUND(E45*F45,2) -> 0
A46: A2.1.22 | B46: Guľový ventil so servisným ventilom D28 | C46: 2013770 | D46: ks | E46: 6 | G46: =ROUND(E46*F46,2) -> 0
A47: A2.1.23 | B47: Potrubné izolačné púzdro PE 13*22 mm | C47: 2022876 | D47: m | E47: 108 | G47: =ROUND(E47*F47,2) -> 0
A48: A2.1.24 | B48: Potrubné izolačné púzdro PE 13*28 mm | C48: 2022877 | D48: m | E48: 108 | G48: =ROUND(E48*F48,2) -> 0
A49: A2.1.25 | B49: Gumová vložka do objímky 13*12 mm | C49: 2013384 | D49: ks | E49: 16 | G49: =ROUND(E49*F49,2) -> 0
A50: A2.1.26 | B50: Gumová vložka do objímky 13*16 mm | C50: 2023249 | D50: ks | E50: 16 | G50: =ROUND(E50*F50,2) -> 0
A51: A2.1.27 | B51: Gumová vložka do objímky 13*22 mm | C51: 2010941 | D51: ks | E51: 16 | G51: =ROUND(E51*F51,2) -> 0
A52: A2.1.28 | B52: Gumová vložka do objímky 13*28 mm | C52: 2010960 | D52: ks | E52: 16 | G52: =ROUND(E52*F52,2) -> 0
A53: A2.1.29 | B53: Komunikačný kábel medzi vnútornou jednotkou a čidlom teploty a vlhkosti | C53: CAT5E | D53: m | E53: 480 | G53: =ROUND(E53*F53,2) -> 0
A54: A2.1.30 | B54: Komunikačný kábel medzi vnútornými klimatizačnými jednotkami | C54: CAT5E | D54: m | E54: 240 | G54: =ROUND(E54*F54,2) -> 0
A55: A2.1.31 | B55: Komunikčný kábel mezdzi vnútronou a vonakjšou jednotkou | C55: J-H(St)H 1x2x0,8 | D55: m | E55: 720 | G55: =ROUND(E55*F55,2) -> 0
A56: A2.1.32 | B56: Kábel pre napájanie vonkajšej jednotky | C56: N2XH-J 3x2,5 mm2 RE | D56: m | E56: 720 | G56: =ROUND(E56*F56,2) -> 0
A57: A2.1.33 | B57: Žľab 70x60 mm | C57: 1607082 | D57: m | E57: 18 | G57: =ROUND(E57*F57,2) -> 0
A58: A2.1.34 | B58: Žlab 100x60 mm | C58: 1610082 | D58: m | E58: 60 | G58: =ROUND(E58*F58,2) -> 0
A59: A2.1.35 | B59: Žľab 150x60 mm | C59: 1615082 | D59: m | E59: 30 | G59: =ROUND(E59*F59,2) -> 0
A60: A2.1.36 | B60: Žlab 250x60 mm | C60: 1625082 | D60: m | E60: 42 | G60: =ROUND(E60*F60,2) -> 0
A61: A2.1.37 | B61: Kryt káblového žľabu 70 mm | C61: 1507062 | D61: m | E61: 18 | G61: =ROUND(E61*F61,2) -> 0
A62: A2.1.38 | B62: Kryt káblového žľabu 100 mm | C62: 1510062 | D62: m | E62: 60 | G62: =ROUND(E62*F62,2) -> 0
A63: A2.1.39 | B63: Kryt káblového žľabu 150 mm | C63: 1515062 | D63: m | E63: 30 | G63: =ROUND(E63*F63,2) -> 0
A64: A2.1.40 | B64: Kryt káblového žľabu 250 mm | C64: 1525062 | D64: m | E64: 42 | G64: =ROUND(E64*F64,2) -> 0
A65: A2.2 | B65: UPS
A66: A2.2.1 | B66: Chladivo R410A 10kg/fľaša | C66: 2005802 | D66: fľaša | E66: 6 | G66: =ROUND(E66*F66,2) -> 0
A67: A2.2.2 | B67: Olej do kompresoru 160SZ 2.5L Maneurop | C67: 120Z0571 | D67: fľaša | E67: 1 | G67: =ROUND(E67*F67,2) -> 0
A68: A2.2.3 | B68: Cu trubka neizolovaná tvrdá D12*1 mm (5m) | C68: 2022925 | D68: ks | E68: 50 | G68: =ROUND(E68*F68,2) -> 0
A69: A2.2.4 | B69: Cu trubka neizolovaná tvrdá D16*1 mm (5 m) | C69: 2022927 | D69: ks | E69: 65 | G69: =ROUND(E69*F69,2) -> 0
A70: A2.2.5 | B70: Medený oblúk 90° D12 | C70: MPM5002 0120001 | D70: ks | E70: 60 | G70: =ROUND(E70*F70,2) -> 0
A71: A2.2.6 | B71: Medený oblúk 90° D16 | C71: MPM5002 0160001 | D71: ks | E71: 60 | G71: =ROUND(E71*F71,2) -> 0
A72: A2.2.7 | B72: Medený oblúk 180° D16 | C72: 5060016000000 | D72: ks | E72: 8 | G72: =ROUND(E72*F72,2) -> 0
A73: A2.2.8 | B73: Spojka lisovacia D12 | C73: MPM5270 0120001 | D73: ks | E73: 50 | G73: =ROUND(E73*F73,2) -> 0
A74: A2.2.9 | B74: Spojka lisovacia D16 | C74: MPM5270 0160001 | D74: ks | E74: 80 | G74: =ROUND(E74*F74,2) -> 0
A75: A2.2.10 | B75: Spojka lisovacia D28 | C75: MPM5270 0280001 | D75: ks | E75: 2 | G75: =ROUND(E75*F75,2) -> 0
A76: A2.2.11 | B76: Medený T-kus D16/16 | C76: MPM5T 016161601 | D76: ks | E76: 2 | G76: =ROUND(E76*F76,2) -> 0
A77: A2.2.12 | B77: Redukcia D28/16 | C77: MPM5243 0281601 | D77: ks | E77: 2 | G77: =ROUND(E77*F77,2) -> 0
A78: A2.2.13 | B78: Potrubné izolačné púzdro PE 13*12 mm | C78: 2022873 | D78: m | E78: 72 | G78: =ROUND(E78*F78,2) -> 0
A79: A2.2.14 | B79: Potrubné izolačné púzdro PE 13*18 mm | C79: 2022875 | D79: m | E79: 72 | G79: =ROUND(E79*F79,2) -> 0
A80: A2.2.15 | B80: Komunikačný kábel medzi vnútornou jednotkou a čidlom teploty a vlhkosti | C80: CAT5E | D80: m | E80: 36 | G80: =ROUND(E80*F80,2) -> 0
A81: A2.2.16 | B81: Komunikačný kábel medzi vnútornými klimatizačnými jednotkami | C81: CAT5E | D81: m | E81: 60 | G81: =ROUND(E81*F81,2) -> 0
A82: A2.2.17 | B82: Komunikčný kábel mezdzi vnútronou a vonakjšou jednotkou | C82: J-H(St)H 1x2x0,8 | D82: m | E82: 480 | G82: =ROUND(E82*F82,2) -> 0
A83: A2.2.18 | B83: Kábel pre napájanie vonkajšej jednotky | C83: N2XH-J 3x2,5 mm2 RE | D83: m | E83: 480 | G83: =ROUND(E83*F83,2) -> 0
A84: A2.2.19 | B84: Žlab 100x60 mm | C84: 1610082 | D84: m | E84: 24 | G84: =ROUND(E84*F84,2) -> 0
A85: A2.2.20 | B85: Kryt káblového žľabu 100 mm | C85: 1510062 | D85: m | E85: 24 | G85: =ROUND(E85*F85,2) -> 0
A86: B | B86: PRÁCE
A87: B1 | B87: Prípracné práce a montáž vodorovných trás pod stropom v DC
A88: B1.1 | B88: Vedúci montážno-technický pracovník pre klimatizačné zariadenia | D88: človekodeň | E88: 7 | G88: =ROUND(E88*F88,2) -> 0
A89: B1.3 | B89: Montážno-technický pracovník pre klimatizačné zariadenia | D89: človekodeň | E89: 50 | G89: =ROUND(E89*F89,2) -> 0
A90: B1.4 | B90: Pomocný pracovník pre klimatizačné zariadenia | D90: človekodeň | E90: 20 | G90: =ROUND(E90*F90,2) -> 0
A91: B2 | B91: Montážne a inštalačné práce, oživenie, uvedenie do prevádzkky, revízie, otestovanie a dokončovacie práce
A92: B2.1 | B92: Vedúci montážno-technický pracovník pre klimatizačné zariadenia | D92: človekodeň | E92: 18 | G92: =ROUND(E92*F92,2) -> 0
A93: B2.2 | B93: Výrobcom certifikovaný technik pre dodávané klimatizačné zariadenia | D93: človekodeň | E93: 40 | G93: =ROUND(E93*F93,2) -> 0
A94: B2.3 | B94: Montážno-technický pracovník pre klimatizačné zariadenia | D94: človekodeň | E94: 120 | G94: =ROUND(E94*F94,2) -> 0
A95: B2.4 | B95: Pomocný pracovník pre klimatizačné zariadenia | D95: človekodeň | E95: 30 | G95: =ROUND(E95*F95,2) -> 0
A96: B2.5 | B96: Revízny technik - VTZ tlakové a plynové | D96: človekodeň | E96: 20 | G96: =ROUND(E96*F96,2) -> 0
A97: B3 | B97: Implementácia do monitorovacieho systému non IT (SCADA)
A98: B3.1 | B98: Implementácia do monitorovacieho systému non IT (SCADA) | D98: človekodeň | E98: 12 | G98: =ROUND(E98*F98,2) -> 0
A99: C | B99: VEDĽAJŠIE ROZPOČTOVÉ NÁKLADY | C99: D
A100: C1 | B100: Prevádzkové vplyvy (stavebné práce budú prebiehať za plnej prevádzky DC) | C100: R | D100: % | E100: 3 | G100: =ROUND(E100*F100/100,2) -> 0
A101: C2 | B101: Sťažené podmienky (stavebné práce budú prebiehať za plnej prevádzky DC) | C101: R | D101: % | E101: 3 | G101: =ROUND(E101*F101/100,2) -> 0
...

Sheet D1.2.2-VZT
A1: VÝKAZ VÝMER
A2: Profesia: | C2: D1.2.2 Doplnenie vzduchotechniky
A3: Investor: | C3: DataCentrum, Cintorínska 5, 811 08 Bratislava
A4: Miesto stavby: | C4: Cintorínska 5, 811 08 Bratislava
A5: Dátum: | C5: 09/2026
A6: Vypracoval: | C6: Bc. Filip Sitár
A8: P.č. | B8: Popis položky | C8: Referenčný typ | D8: Merná jednotka | E8: Množstvo | F8: Jednotoková cena bez DPH | G8: Cena bez DPH
A9: A | B9: DOPLNENIE VZDUCHOTECHNIKY
A10: A1 | B10: ZARIADENIA
A11: A1.1 | B11: Systemair KBR 315D2 Radiálny ventilátor | C11: KBR 315D2 #87914 | D11: ks | E11: 2 | G11: =ROUND(E11*F11,2) -> 0
A12: A1.2 | B12: Systemair K200 EC SILEO Kruhový ventilátor | C12: K 200 EC sileo #2581 | D12: ks | E12: 3 | G12: =ROUND(E12*F12,2) -> 0
A13: A1.3 | B13: Regulačná klapka na servo tesná 100 s gumovým tesnením | C13: RKSTG 100 | D13: ks | E13: 5 | G13: =ROUND(E13*F13,2) -> 0
A14: A1.4 | B14: Regulačná klapka na servo tesná 150 s gumovým tesnením | C14: RKSTG 150 | D14: ks | E14: 4 | G14: =ROUND(E14*F14,2) -> 0
A15: A1.5 | B15: Regulačná klapka na servo tesná 200 s gumovým tesnením | C15: RKSTG 200 | D15: ks | E15: 1 | G15: =ROUND(E15*F15,2) -> 0
A16: A1.6 | B16: Servopohon bez spätnej pružiny - 2 Nm - 230V | C16: SERVO 2-230 | D16: ks | E16: 10 | G16: =ROUND(E16*F16,2) -> 0
A17: A1.7 | B17: BTT25-M 100 Požiarna klapka BFL230T pre kruhové potrubie | C17: BR332108010 | D17: ks | E17: 7 | G17: =ROUND(E17*F17,2) -> 0
A18: A1.8 | B18: BTT25-M 200 Požiarna klapka BFL230T pre kruhové potrubie | C18: BR332108030 | D18: ks | E18: 5 | G18: =ROUND(E18*F18,2) -> 0
A19: A1.9 | B19: BTT25-M 315 BFL230T požiarna klapka pre kruhové potrubie | C19: BR332108045 | D19: ks | E19: 4 | G19: =ROUND(E19*F19,2) -> 0
A20: A1.10 | B20: MaR rozvádzač - podľa výkresovej dokumentácie, vrátane naprogramovaného riadiaceho systému | C20: R-MaR-VZT | D20: ks | E20: 1 | G20: =ROUND(E20*F20,2) -> 0
A21: A1.11 | B21: Základový rám s antivibračním tlmičom 750 x 350 x 150 mm | D21: ks | E21: 2 | G21: =ROUND(E21*F21,2) -> 0
A22: A2 | B22: MATERIÁL
A23: A2.1 | B23: Špirálovo vinutá rúra / 1m - 100 | C23: SRM 100 | D23: ks | E23: 12 | G23: =ROUND(E23*F23,2) -> 0
A24: A2.2 | B24: Špirálovo vinutá rúra / 3m - 100 | C24: SR 100 | D24: ks | E24: 34 | G24: =ROUND(E24*F24,2) -> 0
A25: A2.3 | B25: Špirálovo vinutá rúra / 1m - 150 | C25: SRM 150 | D25: ks | E25: 5 | G25: =ROUND(E25*F25,2) -> 0
A26: A2.4 | B26: Špirálovo vinutá rúra / 3m - 150 | C26: SR 150 | D26: ks | E26: 8 | G26: =ROUND(E26*F26,2) -> 0
A27: A2.5 | B27: Špirálovo vinutá rúra / 1m - 160 | C27: SRM 160 | D27: ks | E27: 5 | G27: =ROUND(E27*F27,2) -> 0
A28: A2.6 | B28: Špirálovo vinutá rúra / 3m - 160 | C28: SR 160 | D28: ks | E28: 8 | G28: =ROUND(E28*F28,2) -> 0
A29: A2.7 | B29: Špirálovo vinutá rúra / 1m - 200 | C29: SRM 200 | D29: ks | E29: 5 | G29: =ROUND(E29*F29,2) -> 0
A30: A2.8 | B30: Špirálovo vinutá rúra / 1m - 315 | C30: SRM 315 | D30: ks | E30: 12 | G30: =ROUND(E30*F30,2) -> 0
A31: A2.9 | B31: Špirálovo vinutá rúra / 3m - 315 | C31: SR 315 | D31: ks | E31: 31 | G31: =ROUND(E31*F31,2) -> 0
A32: A2.10 | B32: Ohybná hadica / 3m - 100 | C32: FLEXO 100 | D32: ks | E32: 1 | G32: =ROUND(E32*F32,2) -> 0
A33: A2.11 | B33: Ohybná hadica / 3m - 315 | C33: FLEXO 315 | D33: ks | E33: 7 | G33: =ROUND(E33*F33,2) -> 0
A34: A2.12 | B34: Izolácia Al+samol. 12 mm K-Flex 1,5*15 m (22,5m2) | C34: IZO-K12 | D34: ks | E34: 7 | G34: =ROUND(E34*F34,2) -> 0
... A42: A2.20 | B42: T-kus s gumovým tesnením 160/150 | C42: TG 160/150 | D42: ks | E42: 4 | G42: =ROUND(E42*F42,2) -> 0
A43: A2.21 | B43: T-kus s gumovým tesnením 315/160/160 - atypický výrobok | D43: ks | E43: 1 | G43: =ROUND(E43*F43,2) -> 0
A44: A2.22 | B44: T-kus s gumovým tesnením 315/100 | C44: TG 315/100 | D44: ks | E44: 2 | G44: =ROUND(E44*F44,2) -> 0
A45: A2.23 | B45: Koleno 90° - 100 s gumovým tesnením | C45: BO90G 100 | D45: ks | E45: 10 | G45: =ROUND(E45*F45,2) -> 0
A46: A2.24 | B46: Koleno 90° - 315 s gumovým tesnením | C46: BO90G 315 | D46: ks | E46: 8 | G46: =ROUND(E46*F46,2) -> 0
A47: A2.25 | B47: Záslepka so sitom - 100 s gumovým tesnením | C47: DSG 100 | D47: ks | E47: 7 | G47: =ROUND(E47*F47,2) -> 0
A48: A2.26 | B48: Záslepka so sitom - 200 s gumovým tesnením | C48: DSG 200 | D48: ks | E48: 9 | G48: =ROUND(E48*F48,2) -> 0
A49: A2.27 | B49: Záslepka so sitom - 315 s gumovým tesnením | C49: DSG 315 | D49: ks | E49: 1 | G49: =ROUND(E49*F49,2) -> 0
A50: A2.28 | B50: Tanierový ventil odvodný kovovoý izolovaný - 100 | C50: TKOI 100 | D50: ks | E50: 7 | G50: =ROUND(E50*F50,2) -> 0
A51: A2.29 | B51: Tanierový ventil odvodný kovovoý izolovaný - 150 | C51: TKOI 150 | D51: ks | E51: 4 | G51: =ROUND(E51*F51,2) -> 0
A52: A2.30 | B52: Strieška - 315 | C52: DH 315 | D52: ks | E52: 2 | G52: =ROUND(E52*F52,2) -> 0
A53: A2.31 | B53: Filtračná krabica - 315 - 360x360/150 | C53: FKK 315 | D53: ks | E53: 1 | G53: =ROUND(E53*F53,2) -> 0
A54: A2.32 | B54: Filtračná doska G4 - 380x360 (FKK 315) | C54: FKK D 315 | D54: ks | E54: 1 | G54: =ROUND(E54*F54,2) -> 0
A55: A2.33 | B55: Filtračná doska F7 - 380x360 | D55: ks | E55: 1 | G55: =ROUND(E55*F55,2) -> 0
A56: A2.34 | B56: Spojka na odvod kondenzátu pre ventilátory KBR | C56: ALS-KBR #2727 | D56: ks | E56: 1 | G56: =ROUND(E56*F56,2) -> 0
A57: A2.35 | B57: WSD ochranné striešky motora | C57: WSD KBR-2 #2729 | D57: ks | E57: 1 | G57: =ROUND(E57*F57,2) -> 0
A58: A2.36 | B58: Betónová dlažba MBG 30x30x6 | C58: 5506594 | D58: ks | E58: 33 | G58: =ROUND(E58*F58,2) -> 0
A59: A2.37 | B59: Kábel - napájanie ventilátorov ns streche | C59: 1-CHKE-V-J 5x2,5 mm2 E90 | D59: m | E59: 120 | G59: =ROUND(E59*F59,2) -> 0
A60: A2.38 | B60: Kábel - napájanie a monitoring klapiek | C60: 1-CHKE-V-J 5x1,5 mm2 E90 | D60: m | E60: 480 | G60: =ROUND(E60*F60,2) -> 0
A61: A2.39 | B61: Kábel - napájanie ventilátorov v DC | C61: 1-CHKE-V-J 3x1,5 mm2 E90 | D61: m | E61: 120 | G61: =ROUND(E61*F61,2) -> 0
A62: B | B62: PRÁCE
A63: B1 | B63: Prípracné práce a montáž zvislích trás v stupačke
A64: B1.1 | B64: Vedúci montážno-technický pracovník pre VZT | D64: človekodeň | E64: 4 | G64: =ROUND(E64*F64,2) -> 0
A65: B1.2 | B65: Montážno-technický pracovník pre VZT | D65: človekodeň | E65: 20 | G65: =ROUND(E65*F65,2) -> 0
A66: B1.3 | B66: Pomocný pracovník pre VZT | D66: človekodeň | E66: 5 | G66: =ROUND(E66*F66,2) -> 0
A67: B2 | B67: Montážne a inštalačné práce, oživenie, uvedenie do prevádzkky, revízie, otestovanie a dokončovacie práce
A68: B2.1 | B68: Vedúci montážno-technický pracovník pre VZT | D68: človekodeň | E68: 4 | G68: =ROUND(E68*F68,2) -> 0
A69: B2.2 | B69: Technik pre VZT zariadenia (ventilátory a klapky) | D69: človekodeň | E69: 2 | G69: =ROUND(E69*F69,2) -> 0
A70: B2.3 | B70: Montážno-technický pracovník pre VZT | D70: človekodeň | E70: 30 | G70: =ROUND(E70*F70,2) -> 0
A71: B2.4 | B71: Pomocný pracovník pre VZT | D71: človekodeň | E71: 5 | G71: =ROUND(E71*F71,2) -> 0
A72: B3 | B72: Implementácia do monitorovacieho systému non IT (SCADA)
A73: B3.1 | B73: Implementácia do monitorovacieho systému non IT (SCADA) | D73: človekodeň | E73: 6 | G73: =ROUND(E73*F73,2) -> 0
A74: C | B74: VEDĽAJŠIE ROZPOČTOVÉ NÁKLADY | C74: D
A75: C1 | B75: Prevádzkové vplyvy (stavebné práce budú prebiehať za plnej prevádzky DC) | C75: R | D75: % | E75: 3 | G75: =ROUND(E75*F75/100,2) -> 0
A76: C2 | B76: Sťažené podmienky (stavebné práce budú prebiehať za plnej prevádzky DC) | C76: R | D76: % | E76: 3 | G76: =ROUND(E76*F76/100,2) -> 0
A77: C3 | B77: Zariadenie staveniska | C77: R | D77: % | E77: 4 | G77: =ROUND(E77*F77/100,2) -> 0
A78: C4 | B78: Mimostavenisková doprava | C78: R | D78: % | E78: 2 | G78: =ROUND(E78*F78/100,2) -> 0
A79: C5 | B79: Kompletačná činnosť | C79: R | D79: % | E79: 3 | G79: =ROUND(E79*F79/100,2) -> 0
A80: C6 | B80: Príplatok za práce v nočných hodinách a cez víkendy (servisné okná) | C80: R | D80: kpl | E80: 1 | G80: =ROUND(E80*F80,2) -> 0
A81: D | B81: OSTATNÉ | C81: D
A82: D1 | B82: Dokumentácia skutočného vyhotovenia a sprievodná technická dokumentácia | C82: R | D82: kpl | E82: 1 | G82: =ROUND(E82*F82,2) -> 0
A83: D2 | B83: Implementačná dokumentácia pre monitoring non IT (SCADA) | C83: R | D83: kpl | E83: 1 | G83: =ROUND(E83*F83,2) -> 0
A84: D3 | B84: Implementačná dokumentácia a naprogramovanie rozvádzačov R-MaR-VZT | C84: R | D84: kpl | E84: 1 | G84: =ROUND(E84*F84,2) -> 0
A85: D4 | B85: Zaškolenie obsluhy VZT zariadenia | C85: R | D85: kpl | E85: 1 | G85: =ROUND(E85*F85,2) -> 0
A86: D5 | B86: Geodetické zameranie technológie VZT na stavbe pred realizáciou a po realizácii | C86: R | D86: kpl | E86: 2 | G86: =ROUND(E86*F86,2) -> 0
B87: SPOLU | G87: =SUM(G10:G86) -> 0

Sheet D1.2.3-ZTI
A1: VÝKAZ VÝMER
A2: Profesia: | C2: D1.2.3 Zdravotechnika
A3: Investor: | C3: DataCentrum, Cintorínska 5, 811 08 Bratislava
A4: Miesto stavby: | C4: Cintorínska 5, 811 08 Bratislava
A5: Dátum: | C5: 09/2026
A6: Vypracoval: | C6: Bc. Filip Sitár
A8: P.č. | B8: Popis položky | C8: Referenčný typ | D8: Merná jednotka | E8: Množstvo | F8: Jednotoková cena bez DPH | G8: Cena bez DPH
A9: A | B9: ZDRAVOTECHNICKA
A10: A1 | B10: ZARIADENIA
A11: 1 | B11: Úpravovovňa vody, demineralizácia vody s jednotkou reverznej osmózy pre zvlhčovače, parametre prodľa technickej správy | D11: kpl | E11: 1 | G11: =ROUND(E11*F11,2) -> 0
A12: 2 | B12: Elektromagnetický ventil bez napätia uzavretý, priamo ovládaný 3/4" | C12: SVC704N020 | D12: ks | E12: 1 | G12: =ROUND(E12*F12,2) -> 0
A13: A2 | B13: MATERIÁL
A14: A2.1 | B14: IT sála
A15: 3 | B15: HT rúra 50x2000 PP | C15: 33TR050/2000 | D15: ks | E15: 16 | G15: =ROUND(E15*F15,2) -> 0
A16: 4 | B16: HT rúra 50x1000 PP | C16: 33TR050/1000 | D16: ks | E16: 11 | G16: =ROUND(E16*F16,2) -> 0
A17: 5 | B17: HT rúra 50x500 PP | C17: 33TR050/500 | D17: ks | E17: 5 | G17: =ROUND(E17*F17,2) -> 0
A18: 6 | B18: PVC hadica 12 mm | C18: 4450007 | D18: m | E18: 12 | G18: =ROUND(E18*F18,2) -> 0
A19: 7 | B19: HT odbočka 50/32/87° PP | C19: 503287 | D19: ks | E19: 2 | G19: =ROUND(E19*F19,2) -> 0
A20: 8 | B20: HT odbočka 50/50/87° PP | C20: 505087 | D20: ks | E20: 5 | G20: =ROUND(E20*F20,2) -> 0
A21: 9 | B21: HT koleno 50/87° PP | C21: 101298 | D21: ks | E21: 8 | G21: =ROUND(E21*F21,2) -> 0
A22: 10 | B22: HT redukcia pre pripojenie hadice 50/8-25/87° PP | C22: 168.456.0 | D22: ks | E22: 2 | G22: =ROUND(E22*F22,2) -> 0
A23: 11 | B23: HT redukcia 50/32/87° PP | C23: 2707 | D23: ks | E23: 2 | G23: =ROUND(E23*F23,2) -> 0
A24: 12 | B24: Sifón pre odkvapkávajúci kondenzát DN50 | C24: AKS8 | D24: ks | E24: 8 | G24: =ROUND(E24*F24,2) -> 0
A25: 13 | B25: HT čistiaca tvarovka DN 50 PP | C25: 2750 | D25: ks | E25: 7 | G25: =ROUND(E25*F25,2) -> 0
A26: 14 | B26: Viacvrstvová plastohliníková rúra PEX/AL/PEX 26×3,0 mm | C26: BLAN_MULPTB2630100 | D26: m | E26: 120 | G26: =ROUND(E26*F26,2) -> 0
... A32: 20 | B32: Redukcia 3/4" - hadica vnútorný závit | C32: 4733001 | D32: ks | E32: 2 | G32: =ROUND(E32*F32,2) -> 0
A33: A2.2 | B33: UPS
A34: 24 | B34: HT rúra 50x2000 PP | C34: 33TR050/2000 | D34: ks | E34: 6 | G34: =ROUND(E34*F34,2) -> 0
A35: 25 | B35: HT rúra 50x1000 PP | C35: 33TR050/1000 | D35: ks | E35: 6 | G35: =ROUND(E35*F35,2) -> 0
A36: 26 | B36: HT rúra 50x500 PP | C36: 33TR050/500 | D36: ks | E36: 3 | G36: =ROUND(E36*F36,2) -> 0
A37: 27 | B37: HT odbočka 50/50/87° PP | C37: 505087 | D37: ks | E37: 4 | G37: =ROUND(E37*F37,2) -> 0
A38: 28 | B38: HT koleno 50/87° PP | C38: 101298 | D38: ks | E38: 6 | G38: =ROUND(E38*F38,2) -> 0
A39: 29 | B39: Sifón pre odkvapkávajúci kondenzát DN50 | C39: AKS8 | D39: ks | E39: 4 | G39: =ROUND(E39*F39,2) -> 0
A40: B | B40: PRÁCE
A41: B1 | B41: Montážne a inštalačné práce, oživenie a uvedenie do prevádzky
A42: B1.1 | B42: Vedúci montážno-technický pracovník pre ZTI | D42: človekodeň | E42: 2 | G42: =ROUND(E42*F42,2) -> 0
A43: B1.5 | B43: Technik pre ZTI - úpravovňa vody | D43: človekodeň | E43: 3 | G43: =ROUND(E43*F43,2) -> 0
A44: B1.8 | B44: Montážno-technický pracovník pre ZTI | D44: človekodeň | E44: 12 | G44: =ROUND(E44*F44,2) -> 0
A45: B1.10 | B45: Pomocný pracovník pre ZTI | D45: človekodeň | E45: 3 | G45: =ROUND(E45*F45,2) -> 0
A46: B2 | B46: Pripojenie zvlhčovačov a nových klimatizácií
A47: B2.1 | B47: Vedúci montážno-technický pracovník pre ZTI | D47: človekodeň | E47: 1 | G47: =ROUND(E47*F47,2) -> 0
A48: B2.2 | B48: Montážno-technický pracovník pre ZTI | D48: človekodeň | E48: 3 | G48: =ROUND(E48*F48,2) -> 0
A49: B2.3 | B49: Pomocný pracovník pre ZTI | D49: človekodeň | E49: 3 | G49: =ROUND(E49*F49,2) -> 0
A50: B3 | B50: Implementácia do monitorovacieho systému non IT (SCADA)
A51: B3.1 | B51: Implementácia do monitorovacieho systému non IT (SCADA) | D51: človekodeň | E51: 2 | G51: =ROUND(E51*F51,2) -> 0
A52: C | B52: VEDĽAJŠIE ROZPOČTOVÉ NÁKLADY | C52: D
A53: C1 | B53: Prevádzkové vplyvy (stavebné práce budú prebiehať za plnej prevádzky DC) | C53: R | D53: % | E53: 3 | G53: =ROUND(E53*F53/100,2) -> 0
A54: C2 | B54: Sťažené podmienky (stavebné práce budú prebiehať za plnej prevádzky DC) | C54: R | D54: % | E54: 3 | G54: =ROUND(E54*F54/100,2) -> 0
A55: C3 | B55: Zariadenie staveniska | C55: R | D55: % | E55: 4 | G55: =ROUND(E55*F55/100,2) -> 0
A56: C4 | B56: Mimostavenisková doprava | C56: R | D56: % | E56: 2 | G56: =ROUND(E56*F56/100,2) -> 0
A57: C5 | B57: Kompletačná činnosť | C57: R | D57: % | E57: 3 | G57: =ROUND(E57*F57/100,2) -> 0
A58: C6 | B58: Príplatok za práce v nočných hodinách a cez víkendy (servisné okná) | C58: R | D58: kpl | E58: 1 | G58: =ROUND(E58*F58,2) -> 0
A59: D | B59: OSTATNÉ | C59: D
A60: D1 | B60: Dokumentácia skutočného vyhotovenia a sprievodná technická dokumentácia | C60: R | D60: kpl | E60: 1 | G60: =ROUND(E60*F60,2) -> 0
A61: D2 | B61: Geodetické zameranie technológie ZTI na stavbe pred realizáciou a po realizácii | C61: R | D61: kpl | E61: 2 | G61: =ROUND(E61*F61,2) -> 0
A62: D3 | B62: Zaškolenie obsluhy ZTI zariadení | C62: R | D62: kpl | E62: 1 | G62: =ROUND(E62*F62,2) -> 0
B63: SPOLU | G63: =SUM(G11:G62) -> 0

Sheet D.1.3-SER
A1: VÝKAZ VÝMER
A2: Profesia: | C2: D1.3 - Silnoprúdové elektrické rozvody
A3: Investor: | C3: DataCentrum, Cintorínska 5, 811 08 Bratislava
A4: Miesto stavby: | C4: Cintorínska 5, 811 08 Bratislava
A5: Dátum: | C5: 09/2026
A6: Vypracoval: | C6: Bc. Filip Sitár
A8: P.č. | B8: Popis položky | C8: Referenčný typ | D8: Merná jednotka | E8: Množstvo | F8: Jednotoková cena bez DPH | G8: Cena bez DPH
A9: A | B9: Rekonštrukcia miestností UPS1 a UPS2
A10: A1 | B10: ZARIADENIA - nainštalované (nedodova sa)
A11: A.1.1 | B11: Existujúca UPS1 a batérie | C11: - | D11: sada | E11: 1 | F11: 0 | G11: =ROUND(E11*F11,2) -> 0
A12: A.1.2 | B12: Existujúca UPS2 a batérie | C12: - | D12: sada | E12: 1 | F12: 0 | G12: =ROUND(E12*F12,2) -> 0
A13: A2 | B13: MATERIÁL
A14: A2.1 | B14: Uzemňovacia svorka na pripojenie uzemňovacieho vodiča k medeným alebo pozinkovaným potrubiam alebo rúrkam s priemerom 5 až 48 mm | C14: EBS1 - 2007002 | D14: ks | E14: 50 | G14: =ROUND(E14*F14,2) -> 0
A15: A2.2 | B15: Kovový žľab 300 x 60 mm pre kabeláž vrátane príslušenstva | D15: ks | E15: 13 | G15: =ROUND(E15*F15,2) -> 0
A16: A2.3 | B16: Kovové veko š=300mm | D16: ks | E16: 4 | G16: =ROUND(E16*F16,2) -> 0
A17: A2.4 | B17: Spojovací materiál žľabového systému | D17: kpl | E17: 1 | G17: =ROUND(E17*F17,2) -> 0
A18: A2.5 | B18: Svorka ekvipotenciálna | C18: OBO 5015073 1809 | D18: ks | E18: 4 | G18: =ROUND(E18*F18,2) -> 0
A19: A2.6 | B19: Vodič pre doplnkové pospojovanie zdvojenej podlahy | C19: H07V-K 6, žlto-zelený | D19: m | E19: 600 | G19: =ROUND(E19*F19,2) -> 0
A20: A2.7 | B20: Vodič pre pripojenie skriniek ekvipotenciálnych svorkovníc | C20: N2XH-J 1x25 RM, žlto-zelený | D20: m | E20: 12 | G20: =ROUND(E20*F20,2) -> 0
A21: A2.8 | B21: Pripojovací materiál (oká, skrutky, dutinky a podobne) | D21: kpl | E21: 1 | G21: =ROUND(E21*F21,2) -> 0
A22: A2.9 | B22: Kotviaci materiál | D22: kpl | E22: 1 | G22: =ROUND(E22*F22,2) -> 0
A23: A2.10 | B23: Ostatný montážny a technologický materiál | D23: kpl | E23: 1 | G23: =ROUND(E23*F23,2) -> 0
A24: B | B24: Výmena chladenia
A25: B1 | B25: ZARIADENIA
A26: B1.1 | B26: Rozvádzač prepäťovej ochrany - podľa výkresovej dokumentácie | C26: RFV-KLJ_SALA | D26: ks | E26: 12 | G26: =ROUND(E26*F26,2) -> 0
A27: B1.2 | B27: Rozvádzač prepäťovej ochrany - podľa výkresovej dokumentácie | C27: RFV-KLJ_UPS | D27: ks | E27: 8 | G27: =ROUND(E27*F27,2) -> 0
A28: B2 | B28: MATERIÁL
A29: B2.1 | B29: Kabel pre napájanie vnútorných klimatizačných jednotiek pre IT sály | C29: 1-CYKY-J 5x25 | D29: m | E29: 96 | G29: =ROUND(E29*F29,2) -> 0
A30: B2.2 | B30: Kabel pre napájanie vnútorných klimatizačných jednotiek | C30: CYKY-J 5x6 | D30: m | E30: 240 | G30: =ROUND(E30*F30,2) -> 0
A31: B2.3 | B31: Kabel pre napájanie úpravovne vody z rozvádzača RUPS3 | C31: N2XH-J 3x2,5 RE | D31: m | E31: 42 | G31: =ROUND(E31*F31,2) -> 0
A32: B2.4 | B32: Kabel pre doplnkové pospájanie vnútorných klimatizačných jednotiek pre IT sály | C32: H07V-K 16, žlto-zelený | D32: m | E32: 96 | G32: =ROUND(E32*F32,2) -> 0
A33: B2.5 | B33: Kábel pre doplnkové pospojovanie - vnútorných klimatizačných jednotiek UPS + vonkajších klimatizačných jednotiek + žľabov a kovových konštrukcií v DC a na streche + potrubí pre klimatizácie v DC a na streche | C33: H07V-K 6, žlto-zelený | D33: m | E33: 600 | G33: =ROUND(E33*F33,2) -> 0
A34: B2.6 | B34: Kábel pre doplnkové pospojovanie - žľabov, potrubí a kovových konštrukcií v stupačke | C34: N2XH-J 1x6 RM, žlto-zelený | D34: m | E34: 120 | G34: =ROUND(E34*F34,2) -> 0
A35: B2.7 | B35: Kábel pre pripojenie skriniek s prepäťovými ochranami a ekvipotenciálnych svorkovníc v stupačke | C35: N2XH-J 1x25 RM, žlto-zelený | D35: m | E35: 120 | G35: =ROUND(E35*F35,2) -> 0
A36: B2.8 | B36: Svorka ekvipotenciálna | C36: OBO 5015073 1809 | D36: ks | E36: 4 | G36: =ROUND(E36*F36,2) -> 0
A37: B2.9 | B37: Materiál na úpravu rozvádzača RCHx - podľa výkresovej dokumentácie | D37: kpl | E37: 6 | G37: =ROUND(E37*F37,2) -> 0
A38: B2.10 | B38: Pripojovací materiál (oká, skrutky, dutinky a podobne) | D38: kpl | E38: 1 | G38: =ROUND(E38*F38,2) -> 0
A39: B2.11 | B39: Kotviaci materiál | D39: kpl | E39: 1 | G39: =ROUND(E39*F39,2) -> 0
A40: B2.12 | B40: Ostatný montážny a technologický materiál | D40: kpl | E40: 1 | G40: =ROUND(E40*F40,2) -> 0
A41: C | B41: Doplnenie VZT
A42: C1 | B42: ZARIADENIA
A43: C1.1 | B43: Rozvádzač prepäťovej ochrany - podľa výkresovej dokumentácie | C43: RFV-VZT | D43: ks | E43: 2 | G43: =ROUND(E43*F43,2) -> 0
A44: C2 | B44: MATERIÁL
A45: C2.1 | B45: Kabel pre napájanie rozvádzača MaR-VZT | C45: N2XH-J 5x4 RE | D45: m | E45: 24 | G45: =ROUND(E45*F45,2) -> 0
A46: C2.2 | B46: Kábel pre doplnkové pospojovanie rozvádzača MaR VZT | C46: N2XH-J 1x16 RM, žlto-zelený | D46: m | E46: 24 | G46: =ROUND(E46*F46,2) -> 0
A47: C2.3 | B47: Kabel pre doplnkové pospájanie VZT (zariadenia, kovové konštrukcie a potrubia) v DC a na streche | C47: H07V-K 6, žlto-zelený | D47: m | E47: 240 | G47: =ROUND(E47*F47,2) -> 0
A48: C2.4 | B48: Kabel pre doplnkové pospájanie VZT (zariadenia, kovové konštrukcie a potrubia) v stupačke | C48: N2XH-J 1x6 RM, žlto-zelený | D48: m | E48: 60 | G48: =ROUND(E48*F48,2) -> 0
A49: C2.5 | B49: Kábel pre pripojenie skriniek s prepäťovými ochranami v stupačke | C49: N2XH-J 1x25 RM, žlto-zelený | D49: m | E49: 120 | G49: =ROUND(E49*F49,2) -> 0
A50: C2.6 | B50: Pripojovací materiál (oká, skrutky, dutinky a podobne) | D50: kpl | E50: 1 | G50: =ROUND(E50*F50,2) -> 0
A51: C2.7 | B51: Kotviaci materiál | D51: kpl | E51: 1 | G51: =ROUND(E51*F51,2) -> 0
A52: C2.8 | B52: Ostatný montážny a technologický materiál | D52: kpl | E52: 1 | G52: =ROUND(E52*F52,2) -> 0
A53: D | B53: Úprava rozvádzača RUPS3
A54: D1 | B54: MATERIÁL
A55: D1.1 | B55: Istič pre napájanie rozvádzača MaR-VZT z rozvodov zálohovaných UPS | C55: C20A/3 - 15kA | D55: ks | E55: 1 | G55: =ROUND(E55*F55,2) -> 0
A56: D1.2 | B56: Istič pre napájanie rozvádzača RSV1 a RSV2 z rozvodov zálohovaných UPS | C56: B32/3 - 15kA | D56: ks | E56: 2 | G56: =ROUND(E56*F56,2) -> 0
A57: D1.3 | B57: Istič pre napájanie zálohovaných rozvodov UPS - rezerva | C57: B16/1 - 15kA | D57: ks | E57: 9 | G57: =ROUND(E57*F57,2) -> 0
A58: D1.4 | B58: Istič pre napájanie zálohovaných rozvodov UPS - rezerva | C58: B10/1 - 15kA | D58: ks | E58: 6 | G58: =ROUND(E58*F58,2) -> 0
A59: D1.5 | B59: Istič pre napájanie zálohovaných rozvodov MG - rezerva | C59: B16/1 - 15kA | D59: ks | E59: 3 | G59: =ROUND(E59*F59,2) -> 0
A60: D1.6 | B60: Istič pre napájanie zálohovaných rozvodov UPS - rezerva | C60: C20A/3 - 15kA | D60: ks | E60: 4 | G60: =ROUND(E60*F60,2) -> 0
A61: D1.7 | B61: Istič pre napájanie zálohovaných rozvodov MG - rezerva | C61: C20A/3 - 15kA | D61: ks | E61: 2 | G61: =ROUND(E61*F61,2) -> 0
A62: D1.8 | B62: Bezdrôtový elektrome elektromer 1 f, Modbus, ZigBee | C62: A9MEM1560 | D62: ks | E62: 18 | G62: =ROUND(E62*F62,2) -> 0
A63: D1.9 | B63: Bezdrôtový elektrome elektromer 3 f, Modbus, ZigBee7 | C63: A9MEM1570 | D63: ks | E63: 9 | G63: =ROUND(E63*F63,2) -> 0
A64: D1.10 | B64: Prepäťová ochrana pre rozvádzač RRUPS3 - podľa výkresovej dokumentácie | C64: DEHN GUARD ACI TNS 3F – 952440 | D64: ks | E64: 2 | G64: =ROUND(E64*F64,2) -> 0
A65: D1.11 | B65: Kábel pre napojenie rozvádzača RUPS3 z HRNN | C65: N2XH-J 5x70 RE | D65: ks | E65: 12 | G65: =ROUND(E65*F65,2) -> 0
A66: D1.12 | B66: Ostatný materiál potrebný pre úpravu rozvádzača RUPS3 vrátane dopleného poľa šírky 800 mm - podľa výkresovej dokumentácie | D66: kpl | E66: 1 | G66: =ROUND(E66*F66,2) -> 0
A67: D1.13 | B67: Pripojovací materiál (oká, skrutky, dutinky a podobne) | D67: kpl | E67: 1 | G67: =ROUND(E67*F67,2) -> 0
A68: D1.14 | B68: Kotviaci materiál | D68: kpl | E68: 1 | G68: =ROUND(E68*F68,2) -> 0
A69: D1.15 | B69: Ostatný montážny a technologický materiál | D69: kpl | E69: 1 | G69: =ROUND(E69*F69,2) -> 0
A70: E | B70: Doplenie prepäťových ochrán a uzmenenie rozvádzača HRNN + ostatných dotknutých zariadení a konštrukcií
A71: E1 | B71: MATERIÁL
A72: E1.1 | B72: Prepäťová ochrana pre rozvádzač HRNN - podľa výkresovej dokumentácie | C72: DEHN VENTIL ACI M Stupen 1+2+3 TNC 264 (KM) 961305 | D72: ks | E72: 1 | G72: =ROUND(E72*F72,2) -> 0
A73: E1.2 | B73: Prepäťová ochrana pre rozvádzač RTN1, RTN2, RUPS3, MG Budova a MG DC - podľa výkresovej dokumentácie | C73: DEHN GUARD ACI TNS 3F – 952440 | D73: ks | E73: 6 | G73: =ROUND(E73*F73,2) -> 0
A74: E1.3 | B74: Materiál pre úpravu rozvádzača HRNN - podľa výkresovej dokumentácie | D74: kpl | E74: 1 | G74: =ROUND(E74*F74,2) -> 0
A75: E1.4 | B75: Materiál pre úpravu rozvádzačov RTN1a RTN2 - podľa výkresovej dokumentácie | D75: kpl | E75: 2 | G75: =ROUND(E75*F75,2) -> 0
A76: E1.5 | B76: Vodič pre uzemenie rozádzača HRNN | C76: FeZn30/4 | D76: m | E76: 60 | G76: =ROUND(E76*F76,2) -> 0
A77: E1.6 | B77: Materiál pre úpravu rozvádzača, MG-DC - podľa výkresovej dokumentácie | D77: kpl | E77: 1 | G77: =ROUND(E77*F77,2) -> 0
A78: E1.7 | B78: Materiál pre úpravu rozvádzača, MG Budova - podľa výkresovej dokumentácie | D78: kpl | E78: 1 | G78: =ROUND(E78*F78,2) -> 0
A79: E1.8 | B79: Spojovací materiál uzemnenia | D79: kpl | E79: 1 | G79: =ROUND(E79*F79,2) -> 0
A80: E1.9 | B80: Pripojovací materiál (oká, skrutky, dutinky a podobne) | D80: kpl | E80: 1 | G80: =ROUND(E80*F80,2) -> 0
A81: E1.10 | B81: Kotviaci materiál | D81: kpl | E81: 1 | G81: =ROUND(E81*F81,2) -> 0
A82: E1.11 | B82: Ostatný montážny a technologický materiál | D82: kpl | E82: 1 | G82: =ROUND(E82*F82,2) -> 0
A83: G | B83: Doplnenie zásuviek a osvetlenia na strechu
A84: G1 | B84: ZARIADENIA
A85: G1.2 | B85: Rozvádzač prepäťovej ochrany - podľa výkresovej dokumentácie | C85: RFV-SV | D85: ks | E85: 1 | G85: =ROUND(E85*F85,2) -> 0
A86: G2 | B86: MATERIÁL
A87: G2.1 | B87: Zásuvka IP66/IK08, zásuvka 230V s krytom, komplet, povrchová montáž, sivá | C87: LEGRAND - 090486 | D87: ks | E87: 2 | G87: =ROUND(E87*F87,2) -> 0
A88: G2.2 | B88: Vypínač IP55/IK08, sériový spínač č.5, komplet, povrchová montáž, 230V, sivá | C88: LEGRAND - 069714L | D88: ks | E88: 2 | G88: =ROUND(E88*F88,2) -> 0
A89: G2.3 | B89: Svietidlo stlpikove, 80cm, IP44, 1xE27/20W, 230 V, 2000 lm, 4000 K | C89: PHILIPS - P4867 | D89: ks | E89: 9 | G89: =ROUND(E89*F89,2) -> 0
A90: G2.4 | B90: Vonkajšie svietidlo nastenné, LED kovový reflektor, 20 W, 230 V, 2000 lm, 4000 K, IP65, čierny kryt, neutrálna biela | C90: PHILIPS - P4867 | D90: ks | E90: 4 | G90: =ROUND(E90*F90,2) -> 0
A91: G2.5 | B91: Lišta hranatá 20x10mm (dlž. 2m), FD UV stabilná čierna | C91: KOPOS - LHD 20X10 FD | D91: m | E91: 48 | G91: =ROUND(E91*F91,2) -> 0
A92: G2.6 | B92: UV stabilná ohybná rúrka, 20mm, 320N, s drôtom, čierna | C92: KOPOS - 2320/LPE-1_F1.DU | D92: m | E92: 60 | G92: =ROUND(E92*F92,2) -> 0
A93: G2.7 | B93: Príchytka rúrky 20 mm - UV stabilná | C93: KOPOS - CL20 | D93: ks | E93: 60 | G93: =ROUND(E93*F93,2) -> 0
A94: G2.8 | B94: Kábel pre zásuvkové okruhy | C94: N2XH-J 3x2,5 RE | D94: m | E94: 42 | G94: =ROUND(E94*F94,2) -> 0
A95: G2.9 | B95: Kábel pre svetelné okruhy - svietidlá | C95: N2XH-J 3x1,5 RE | D95: m | E95: 24 | G95: =ROUND(E95*F95,2) -> 0
A96: G2.10 | B96: Kábel pre svetelné okruhy - výpínače | C96: N2XH-O 3x1,5 RE | D96: m | E96: 24 | G96: =ROUND(E96*F96,2) -> 0
A97: G2.11 | B97: Kábel pre pospojovanie svietidiela na streche | C97: H07V-K 6, žlto-zelený | D97: m | E97: 60 | G97: =ROUND(E97*F97,2) -> 0
A98: G2.12 | B98: Vodič pre pripojenie skriniky s prepäťovými ochranami | C98: N2XH-J 1x25 RM, žlto-zelený | D98: m | E98: 24 | G98: =ROUND(E98*F98,2) -> 0
A99: G2.13 | B99: Pripojovací materiál (oká, skrutky, dutinky a podobne) | D99: kpl | E99: 1 | G99: =ROUND(E99*F99,2) -> 0
A100: G2.14 | B100: Kotviaci materiál | D100: kpl | E100: 1 | G100: =ROUND(E100*F100,2) -> 0
A101: G2.15 | B101: Ostatný montážny a technologický materiál | D101: kpl | E101: 1 | G101: =ROUND(E101*F101,2) -> 0
...

Sheet D.1.4.1-SHZ -R
A1: VÝKAZ VÝMER
A2: Profesia: | C2: D1.4.1 - SHZ plynové - EPS a riadenie SHZ
A3: Investor: | C3: DataCentrum, Cintorínska 5, 811 08 Bratislava
A4: Miesto stavby: | C4: Cintorínska 5, 811 08 Bratislava
A5: Dátum: | C5: 09/2026
A6: Vypracoval: | C6: Bc. Filip Sitár
A8: P.č. | B8: Popis položky | C8: Referenčný typ | D8: Merná jednotka | E8: Množstvo | F8: Jednotoková cena bez DPH | G8: Cena bez DPH
A9: A | B9: Výmena SHZ - časť EPS a riadenie SHZ
A10: A1 | B10: ZARIADENIA - skladom u obstarávateľa (nedodáva sa)
A11: A1.1 | B11: Modulárna multizónová požiarna / hasiaca ústredňa Integral EvoxX M, modul procesora B8-MCU, OP pre 4 hasiace zóny, operačný panel MAP B8-CII, zdroj napájania 24V / 7,1A B8-PSU, tlačiareň, indikácia hasiacich zón, Schrack Seconet | C11: B8-SCU-CP4L | D11: ks | E11: 1 | F11: 0 | G11: =ROUND(E11*F11,2) -> 0
A12: A1.2 | B12: Externý signalizačný LED panel pre max. 8 hasebných zón | C12: B3-MMI-IPEL | D12: ks | E12: 1 | F12: 0 | G12: =ROUND(E12*F12,2) -> 0
A13: A1.3 | B13: Integračný driver Winmag | C13: WMSCH | D13: ks | E13: 1 | F13: 0 | G13: =ROUND(E13*F13,2) -> 0
A14: A1.4 | B14: Popisný štítok na operačný panel MAP, SK verzia | C14: MAPTXT-RA SK01 | D14: ks | E14: 1 | F14: 0 | G14: =ROUND(E14*F14,2) -> 0
A15: A1.5 | B15: Riadiaca karta externých rozhraní pre Intergral EvoxX M | C15: B8-BAF | D15: ks | E15: 1 | F15: 0 | G15: =ROUND(E15*F15,2) -> 0
A16: A1.6 | B16: Karta kruhovej linky X-LINE | C16: B8-DXI2 | D16: ks | E16: 1 | F16: 0 | G16: =ROUND(E16*F16,2) -> 0
A17: A1.7 | B17: Karta vstupov, 8x strážený vstup | C17: B8-IM8 | D17: ks | E17: 3 | F17: 0 | G17: =ROUND(E17*F17,2) -> 0
A18: A1.8 | B18: Karta výstupov, 8x strážený výstup | C18: B8-OM8 | D18: ks | E18: 3 | F18: 0 | G18: =ROUND(E18*F18,2) -> 0
A19: A1.9 | B19: Akumulátor bezúdržbový 12V/44Ah | C19: AKKU 44 | D19: ks | E19: 2 | F19: 0 | G19: =ROUND(E19*F19,2) -> 0
A20: A1.10 | B20: Sada pre označenie ústredne EPS / externého panelu | D20: ks | E20: 3 | F20: 0 | G20: =ROUND(E20*F20,2) -> 0
A21: A1.11 | B21: Operačný externý panel MAP MMI-BUS | C21: B8-MMI-CIP | D21: ks | E21: 2 | F21: 0 | G21: =ROUND(E21*F21,2) -> 0
A22: A1.12 | B22: Popisný štítok na operačný panel MAP, SK verzia | C22: MAPTXT SK01 | D22: ks | E22: 2 | F22: 0 | G22: =ROUND(E22*F22,2) -> 0
A23: A1.13 | B23: Manuálny tlačidlový hlásič, žltý RAL 1003, EN 12094-3, X-LINE | C23: MCP535X-5 | D23: ks | E23: 7 | F23: 0 | G23: =ROUND(E23*F23,2) -> 0
A24: A1.14 | B24: Ochranný kryt tlačidla, sklopný, priehľadný plast, IP54 | C24: 781693 | D24: ks | E24: 7 | F24: 0 | G24: =ROUND(E24*F24,2) -> 0
A25: A1.15 | B25: Dištančný držiak ochranného krytu pre povrchú montáž | C25: 781698 | D25: ks | E25: 7 | F25: 0 | G25: =ROUND(E25*F25,2) -> 0
A26: A1.16 | B26: Popisný štítok spúšťacieho tlačidla SHZ | D26: ks | E26: 7 | F26: 0 | G26: =ROUND(E26*F26,2) -> 0
A27: A1.17 | B27: Manuálny tlačidlový hlásič, modrý RAL 5005, EN 12094-3, X-LINE | C27: MCP535X-7 | D27: ks | E27: 7 | F27: 0 | G27: =ROUND(E27*F27,2) -> 0
A28: A1.18 | B28: Popisný štítok zastavovacieho tlačidla SHZ | D28: ks | E28: 7 | F28: 0 | G28: =ROUND(E28*F28,2) -> 0
A29: A1.19 | B29: Štítok do tlačidlových hlásičov s piktogramom ruky | C29: MCP535 AK | D29: ks | E29: 14 | F29: 0 | G29: =ROUND(E29*F29,2) -> 0
A30: A1.20 | B30: Požiarna siréna + maják, 32 tónov / DIN, 97dB/1m, EN54-3, VdS, červená / červená šošovka, sonos | C30: SBW ESFA1000RRS | D30: ks | E30: 11 | F30: 0 | G30: =ROUND(E30*F30,2) -> 0
A31: A1.21 | B31: Požiarna siréna + maják, 32 tónov / DIN, 97dB/1m, EN54-3, VdS, biela / biela šošovka, sonos | C31: SBW ESCA4000WWS | D31: ks | E31: 11 | F31: 0 | G31: =ROUND(E31*F31,2) -> 0
A32: A1.22 | B32: Požiarny maják, EN54-23, VdS, biely / biela šošovka, Sonos | C32: BW ESBA4000WWS | D32: ks | E32: 6 | F32: 0 | G32: =ROUND(E32*F32,2) -> 0
A33: A1.23 | B33: Požiarny maják, EN54-23, VdS, červený / červená šošovka, Sonos | C33: BW ESDA1000RRS | D33: ks | E33: 6 | F33: 0 | G33: =ROUND(E33*F33,2) -> 0
A34: A1.24 | B34: Popisný štítok pre sirénky a majáky do výšky 3m | D34: ks | E34: 34 | F34: 0 | G34: =ROUND(E34*F34,2) -> 0
A35: A1.25 | B35: Výstražné svetelné návestie "HASENIE PLYNOM - NEVSTUPOVAŤ", ABS plast, 24V DC | C35: SV-CEONUS | D35: ks | E35: 7 | F35: 0 | G35: =ROUND(E35*F35,2) -> 0
A36: A1.26 | B36: Výstupný modul na kruhovú linku X-LINE, 4xRELE OUT NC/NO, 2A/230V | C36: BX-REL4 | D36: ks | E36: 10 | F36: 0 | G36: =ROUND(E36*F36,2) -> 0
A37: A1.27 | B37: Vstupný / výstupný modul na kruhovú linku X-LINE, 1xOUT / 3xIN | C37: BX-OI3 | D37: ks | E37: 7 | F37: 0 | G37: =ROUND(E37*F37,2) -> 0
A38: A1.28 | B38: Vstupný modul na kruhovú linku X-LINE, 4xIN | C38: BX-I4 | D38: ks | E38: 3 | F38: 0 | G38: =ROUND(E38*F38,2) -> 0
A39: A1.29 | B39: Skrinka pre linkové moduly (94x94x57mm), IP66 | C39: GEH MOD IP66 | D39: ks | E39: 20 | F39: 0 | G39: =ROUND(E39*F39,2) -> 0
A40: A1.30 | B40: Záslepka PG 16 | C40: MM SN M20 | D40: ks | E40: 120 | F40: 0 | G40: =ROUND(E40*F40,2) -> 0
A41: A1.31 | B41: Mikromodul kruhového vedenia esserbus | D41: ks | E41: 1 | F41: 0 | G41: =ROUND(E41*F41,2) -> 0
A42: A1.32 | B42: I/O modul - Esser BUS Koppler, 4xIN/2xOUT, strážené výstupy | C42: 804382.D0 | D42: ks | E42: 10 | F42: 0 | G42: =ROUND(E42*F42,2) -> 0
A43: A1.33 | B43: I/O modul - Esser BUS Koppler, 12xOUT | C43: 808613.10 | D43: ks | E43: 3 | F43: 0 | G43: =ROUND(E43*F43,2) -> 0
A44: A1.34 | B44: Krabica pre vstupno-výstupné moduly + príslušenstvo | C44: 808610.10 | D44: ks | E44: 13 | F44: 0 | G44: =ROUND(E44*F44,2) -> 0
A45: A1.35 | B45: Samočinný opticko-dymový hlásič, EN 54-7, montáž do zdvojeného stropu | C45: 788600 | D45: ks | E45: 8 | F45: 0 | G45: =ROUND(E45*F45,2) -> 0
A46: A1.36 | B46: Samočinný opticko-dymový hlásič, EN 54-7, montáž do kazetového stropu | C46: 802371 | D46: ks | E46: 2 | F46: 0 | G46: =ROUND(E46*F46,2) -> 0
A47: A1.37 | B47: Samočinný opticko-dymový hlásič, EN 54-7, montáž do zdvojenej podlahy | C47: 802371 | D47: ks | E47: 6 | F47: 0 | G47: =ROUND(E47*F47,2) -> 0
A48: A1.38 | B48: Pätica pre samočinné hlasiče požiaru štandard | C48: 802371 | D48: ks | E48: 16 | F48: 0 | G48: =ROUND(E48*F48,2) -> 0
A49: A1.39 | B49: Popisný štítok pre samočinné hlásiče požiaru do 3m | C49: 805590 | D49: ks | E49: 16 | F49: 0 | G49: =ROUND(E49*F49,2) -> 0
A50: A1.40 | B50: Popisný štítok pre samočinné hlásiče požiaru v medzistrope / zdvojenej podlahe | D50: ks | E50: 14 | F50: 0 | G50: =ROUND(E50*F50,2) -> 0
A51: A1.41 | B51: Výkonové relé 6A/230V AC 4P | D51: ks | E51: 5 | F51: 0 | G51: =ROUND(E51*F51,2) -> 0
A52: A1.42 | B52: Pätica na lištu pre relé PT 4-pólová, 6A, skrutková, Schrack | C52: PT570730 | D52: ks | E52: 5 | F52: 0 | G52: =ROUND(E52*F52,2) -> 0
A53: A1.43 | B53: Reléová skrinka SCAME ABS | C53: YPT78704-4P/6A | D53: ks | E53: 5 | F53: 0 | G53: =ROUND(E53*F53,2) -> 0
A54: A1.44 | B54: Požiarna ústredňa FlexES FX10, 5 slučiek, napájací modul, EN-54, VdS | C54: 688.004.R | D54: ks | E54: 1 | F54: 0 | G54: =ROUND(E54*F54,2) -> 0
A55: A1.45 | B55: Redundantný riadiaci modul | D55: ks | E55: 1 | F55: 0 | G55: =ROUND(E55*F55,2) -> 0
A56: A1.46 | B56: Ovládací dotykový TFT panel, displej VGA, programovateľné funkčné tlačidlá,LED displej | C56: FX808393 | D56: ks | E56: 1 | F56: 0 | G56: =ROUND(E56*F56,2) -> 0
A57: A1.47 | B57: Fólia pre čelný ovládací panel - SK verzia | C57: FX808328.RE | D57: ks | E57: 1 | F57: 0 | G57: =ROUND(E57*F57,2) -> 0
A58: A1.48 | B58: Modul pre zosieťovanie ústrední EPS v sieti eNET, prenosová rýchlosť 62,5 kBd | C58: FX808324 | D58: ks | E58: 1 | F58: 0 | G58: =ROUND(E58*F58,2) -> 0
A59: A1.49 | B59: Prídavná karta 1 so štyrmi pozíciami pre mikromoduly | C59: FX808416 | D59: ks | E59: 1 | F59: 0 | G59: =ROUND(E59*F59,2) -> 0
A60: A1.50 | B60: Modul kruhovej zbernice esserbus/esserbus-Plus | C60: FX808340 | D60: ks | E60: 3 | F60: 0 | G60: =ROUND(E60*F60,2) -> 0
A61: A1.51 | B61: Redundantný napájcí zdroj 24V/6A | C61: FX808322 | D61: ks | E61: 1 | F61: 0 | G61: =ROUND(E61*F61,2) -> 0
A62: A1.52 | B62: Neutrálny čelný panel | C62: FX808331 | D62: ks | E62: 1 | F62: 0 | G62: =ROUND(E62*F62,2) -> 0
A63: A1.53 | B63: Akumulátor bezúdržbový 12V/24Ah | C63: FX808363 | D63: ks | E63: 2 | F63: 0 | G63: =ROUND(E63*F63,2) -> 0
A64: A1.54 | B64: Samočinný opticko-dymový hlásič, EN 54-7, montáž na strop | C64: FX808313 | D64: ks | E64: 22 | F64: 0 | G64: =ROUND(E64*F64,2) -> 0
A65: A1.55 | B65: Samočinný opticko-dymový hlásič, EN 54-7, montáž do zdvojenej podlahy | C65: 018006 | D65: ks | E65: 21 | F65: 0 | G65: =ROUND(E65*F65,2) -> 0
A66: A1.56 | B66: Pätica pre samočinné hlasiče požiaru štandard | D66: ks | E66: 43 | F66: 0 | G66: =ROUND(E66*F66,2) -> 0
A67: A1.57 | B67: Popisný štítok pre samočinné hlásiče požiaru do 3m | C67: 802371 | D67: ks | E67: 22 | F67: 0 | G67: =ROUND(E67*F67,2) -> 0
A68: A1.58 | B68: Popisný štítok pre samočinné hlásiče požiaru v zdvojenej podlahe | C68: 802371 | D68: ks | E68: 21 | F68: 0 | G68: =ROUND(E68*F68,2) -> 0
A69: A1.59 | B69: Nasávací dymový detektor ASD 535-2/4 | C69: 805590 | D69: ks | E69: 9 | F69: 0 | G69: =ROUND(E69*F69,2) -> 0
A70: A1.60 | B70: Dymový senzor SSD 535-3 | C70: 11-2000018-01-02 | D70: ks | E70: 18 | F70: 0 | G70: =ROUND(E70*F70,2) -> 0
A71: A1.61 | B71: Skrinka filtra pre trubky 25mm s filtračnou vložkou, FBS 25 PC | C71: 11-2000010-01-02 | D71: ks | E71: 18 | F71: 0 | G71: =ROUND(E71*F71,2) -> 0
A72: A1.62 | B72: Filtračná vložka (sada 5ks) | C72: 50-0500143-01-02 | D72: ks | E72: 4 | F72: 0 | G72: =ROUND(E72*F72,2) -> 0
A73: A1.63 | B73: Serial Interface Modul SIM 35 | C73: 50-0500410-02-02 | D73: ks | E73: 9 | F73: 0 | G73: =ROUND(E73*F73,2) -> 0
A74: A1.64 | B74: Network Control Unit NCU 900 - sietová jednotka | C74: 11-2200000-01-04 | D74: ks | E74: 1 | F74: 0 | G74: =ROUND(E74*F74,2) -> 0
A75: A1.65 | B75: Remote Control Unit RCU 700 - ovládacie tablo pre vizualizáciu stavov ASD | C75: 11-5000003-01-03 | D75: ks | E75: 1 | F75: 0 | G75: =ROUND(E75*F75,2) -> 0
A76: A1.66 | B76: RCU 700 Mounting Frame 19-1 RMF 19-1 | C76: 11-5000004-01-03 | D76: ks | E76: 1 | F76: 0 | G76: =ROUND(E76*F76,2) -> 0
A77: A1.67 | B77: Platforma pre montáž sady ASD vrátane príslušenstva, na strop alebo stenu | C77: 11-5000006-01-01 | D77: ks | E77: 1 | F77: 0 | G77: =ROUND(E77*F77,2) -> 0
A78: A1.68 | B78: I/O modul - Koppler, 4xIN/2xOUT, strážené výstupy | C78: ASDPlatform | D78: ks | E78: 18 | F78: 0 | G78: =ROUND(E78*F78,2) -> 0
A79: A1.69 | B79: Relé I/F modul pre ASD 535 | C79: 808613.10 | D79: ks | E79: 9 | F79: 0 | G79: =ROUND(E79*F79,2) -> 0
... A82: A1.72 | B82: Akumulátor bezúdržbový 12V/7h, VdS | C82: STX2402-E | D82: ks | E82: 8 | F82: 0 | G82: =ROUND(E82*F82,2) -> 0
A83: A2 | B83: MATERIÁL
A84: A2.1 | B84: Skladom u obstárávateľa (nedodáva sa)
A85: A2.1.1 | B85: Úprava potrubia nasávacích dymových detektorov FT - Trubka PVC 25mm | C85: 3220143 | D85: m | E85: 270 | F85: 0 | G85: =ROUND(E85*F85,2) -> 0
A86: A2.1.2 | B86: Oblúk 90 ° PVC 25mm | C86: 3220214 | D86: ks | E86: 32 | F86: 0 | G86: =ROUND(E86*F86,2) -> 0
A87: A2.1.3 | B87: T spojka PVC 25 mm | C87: 3220141 | D87: ks | E87: 8 | F87: 0 | G87: =ROUND(E87*F87,2) -> 0
A88: A2.1.4 | B88: Súmerná spojka PVC 25 mm | C88: 3220144 | D88: ks | E88: 32 | F88: 0 | G88: =ROUND(E88*F88,2) -> 0
A89: A2.1.5 | B89: Zakončenie PVC 25 mm | C89: 3220140 | D89: ks | E89: 8 | F89: 0 | G89: =ROUND(E89*F89,2) -> 0
A90: A2.1.6 | B90: Príchytka klip pre trubky 25mm | D90: ks | E90: 40 | F90: 0 | G90: =ROUND(E90*F90,2) -> 0
A91: A2.1.7 | B91: Príchytka trubky o konštrukciu zdvojenej podlahy | D91: ks | E91: 32 | F91: 0 | G91: =ROUND(E91*F91,2) -> 0
A92: A2.1.8 | B92: Čistič trubiek, balenie 1l | C92: 50-0500437-01-01 | D92: ks | E92: 1 | F92: 0 | G92: =ROUND(E92*F92,2) -> 0
A93: A2.1.9 | B93: Kábel napájací 230V s funkčnosťou pri požiari, FE180/E30 (3x1,5/1kW) | C93: 1-CHKE-J 3x1,5 | D93: m | E93: 5 | F93: 0 | G93: =ROUND(E93*F93,2) -> 0
A94: A2.1.10 | B94: Kábel signálny s funkčnosťou pri požiari, FE180/E30, B2ca, s1, d1, a1 | C94: JE-H(ST)H-V 1x2x0,8 PS30 | D94: m | E94: 540 | F94: 0 | G94: =ROUND(E94*F94,2) -> 0
A95: A2.1.11 | B95: Kábel signálny s funkčnosťou pri požiari, FE180/E30, B2ca, s1, d1, a2 | C95: JE-H(ST)H-V 2x2x0,8 PS30 | D95: m | E95: 280 | F95: 0 | G95: =ROUND(E95*F95,2) -> 0
A96: A2.1.12 | B96: CYA 6 zž izolovaný vodič | D96: m | E96: 10 | F96: 0 | G96: =ROUND(E96*F96,2) -> 0
A97: A2.1.13 | B97: Plastový štítok na označenie káblu | D97: ks | E97: 40 | F97: 0 | G97: =ROUND(E97*F97,2) -> 0
A98: A2.1.14 | B98: Kovová káblová príchytka Hilti pre káblové zväzky (montáž stena / strop) | C98: X-EKB-FE-MX | D98: ks | E98: 50 | F98: 0 | G98: =ROUND(E98*F98,2) -> 0
A99: A2.1.15 | B99: Kovová káblová príchytka OBO grip pre káblové zväzky (montáž stena / strop) | C99: OBO 2207028 | D99: ks | E99: 80 | F99: 0 | G99: =ROUND(E99*F99,2) -> 0
A100: A2.1.16 | B100: Káblové príchytky PS30min. s príslušenstvom, jednoduchá / dvojnásobná | C100: X-FB / X-DFB | D100: ks | E100: 40 | F100: 0 | G100: =ROUND(E100*F100,2) -> 0
A101: A2.1.17 | B101: Elektroinštalačný kovový žľab 100x60mm + veko + úchyty, PS30, kovové kotvenie | C101: KZI60x100 | D101: m | E101: 18 | F101: 0 | G101: =ROUND(E101*F101,2) -> 0
A102: A2.1.18 | B102: Elektroinštalačná PVC rúrka, pevná d20 | C102: HFIR | D102: m | E102: 60 | F102: 0 | G102: =ROUND(E102*F102,2) -> 0
A103: A2.1.19 | B103: Elektroinštalačná PVC rúrka, ohybná d20 | C103: HFX | D103: m | E103: 25 | F103: 0 | G103: =ROUND(E103*F103,2) -> 0
...

Sheet D.1.4.2-SHZ-T
A1: VÝKAZ VÝMER
A2: Profesia: | C2: D1.4.2 - SHZ plynové - Technológia SHZ
A3: Investor: | C3: DataCentrum, Cintorínska 5, 811 08 Bratislava
A4: Miesto stavby: | C4: Cintorínska 5, 811 08 Bratislava
A5: Dátum: | C5: 09/2026
A6: Vypracoval: | C6: Bc. Filip Sitár
A8: P.č. | B8: Popis položky | C8: Referenčný typ | D8: Merná jednotka | E8: Množstvo | F8: Jednotoková cena bez DPH | G8: Cena bez DPH
A9: A | B9: Výmena SHZ - časť technológia SHZ
A10: A1 | B10: ZARIADENIA - skladom u obstarávateľa (nedodáva sa)
A11: A1.1 | B11: Batéria SHZ s príslušenstvom (SET1.1) pre hasivo FK-5-1-12, VdS, CE
A12: A1.1.1 | B12: Zásobník pre hasivo - m.č. 1.16 pre množstvo hasiva 155,7 kg - podľa prílohy č.2 technickej správy - Tab. č.1.2: ZDROJ HASIACEJ LÁTKY (fľaša + objímka), VdS, CE | D12: ks | E12: 3 | F12: 0 | G12: =ROUND(E12*F12,2) -> 0
A13: A1.1.2 | B13: Vypúšťací ventil s bezpečnostnou tlakovou poistkou, VdS | D13: ks | E13: 3 | F13: 0 | G13: =ROUND(E13*F13,2) -> 0
A14: A1.1.3 | B14: Vypúšťacia spojka 2", model FH-50HC | D14: ks | E14: 3 | F14: 0 | G14: =ROUND(E14*F14,2) -> 0
A15: A1.1.4 | B15: Sada pre ukotvenie a stabilizáciu fliaš o stenu pre batériu 3x150l | D15: sada | E15: 1 | F15: 0 | G15: =ROUND(E15*F15,2) -> 0
A16: A1.1.5 | B16: Manometer na zásobník, VdS | D16: ks | E16: 3 | F16: 0 | G16: =ROUND(E16*F16,2) -> 0
A17: A1.1.6 | B17: Manifold 3" pre 3x150 nádobu s prírubou a konektorom na montáž tlakového spínača | D17: ks | E17: 1 | F17: 0 | G17: =ROUND(E17*F17,2) -> 0
A18: A1.2 | B18: Modulárna sada zásobníka SHZ s príslušenstvom (SET1.2) pre hasivo FK-5-1-12, VdS, CE
A19: A1.2.1 | B19: Zásobník pre hasivo - m.č. 1.23 pre množstvo hasiva 76,8 kg - podľa prílohy č.2 technickej správy - Tab. č.1.2: ZDROJ HASIACEJ LÁTKY (fľaša + objímka), VdS, CE | D19: ks | E19: 1 | F19: 0 | G19: =ROUND(E19*F19,2) -> 0
A20: A1.2.2 | B20: Vypúšťací ventil s bezpečnostnou tlakovou poistkou, VdS | D20: ks | E20: 1 | F20: 0 | G20: =ROUND(E20*F20,2) -> 0
A21: A1.2.3 | B21: Vypúšťacia spojka 2", model FH-50HC | D21: ks | E21: 1 | F21: 0 | G21: =ROUND(E21*F21,2) -> 0
A22: A1.2.4 | B22: Sada pre ukotvenie a stabilizáciu tlakovej nádoby o stenu | D22: sada | E22: 1 | F22: 0 | G22: =ROUND(E22*F22,2) -> 0
A23: A1.2.5 | B23: Manometer na zásobník, VdS | D23: ks | E23: 1 | F23: 0 | G23: =ROUND(E23*F23,2) -> 0
A24: A1.3 | B24: Modulárna sada zásobníka SHZ s príslušenstvom (SET1.3) pre hasivo FK-5-1-12, VdS, CE
A25: A1.3.1 | B25: Zásobník pre hasivo - m.č. 1.24 pre množstvo hasiva 123,3, kg - podľa prílohy č.2 technickej správy - Tab. č.1.2: ZDROJ HASIACEJ LÁTKY (fľaša + objímka), VdS, CE | D25: ks | E25: 1 | F25: 0 | G25: =ROUND(E25*F25,2) -> 0
A26: A1.3.2 | B26: Vypúšťací ventil s bezpečnostnou tlakovou poistkou, VdS | D26: ks | E26: 1 | F26: 0 | G26: =ROUND(E26*F26,2) -> 0
A27: A1.3.3 | B27: Vypúšťacia spojka 2", model FH-50HC | D27: ks | E27: 1 | F27: 0 | G27: =ROUND(E27*F27,2) -> 0
A28: A1.3.4 | B28: Sada pre ukotvenie a stabilizáciu tlakovej nádoby o stenu | D28: sada | E28: 1 | F28: 0 | G28: =ROUND(E28*F28,2) -> 0
A29: A1.3.5 | B29: Manometer na zásobník, VdS | D29: ks | E29: 1 | F29: 0 | G29: =ROUND(E29*F29,2) -> 0
A30: A1.4 | B30: Batéria SHZ s príslušenstvom (SET1.4) pre hasivo FK-5-1-12, VdS, CE
A31: A1.4.1 | B31: Zásobník pre hasivo - m.č. 1.16 pre množstvo hasiva 155,6 kg - podľa prílohy č.2 technickej správy - Tab. č.1.2: ZDROJ HASIACEJ LÁTKY (fľaša + objímka), VdS, CE | D31: ks | E31: 3 | F31: 0 | G31: =ROUND(E31*F31,2) -> 0
A32: A1.4.2 | B32: Vypúšťací ventil s bezpečnostnou tlakovou poistkou, VdS | D32: ks | E32: 3 | F32: 0 | G32: =ROUND(E32*F32,2) -> 0
A33: A1.4.3 | B33: Vypúšťacia spojka 2", model FH-50HC | D33: ks | E33: 3 | F33: 0 | G33: =ROUND(E33*F33,2) -> 0
A34: A1.4.4 | B34: Sada pre ukotvenie a stabilizáciu fliaš o stenu pre batériu 3x150l | D34: sada | E34: 1 | F34: 0 | G34: =ROUND(E34*F34,2) -> 0
A35: A1.4.5 | B35: Manometer na zásobník, VdS | D35: ks | E35: 3 | F35: 0 | G35: =ROUND(E35*F35,2) -> 0
A36: A1.4.6 | B36: Manifold 3" pre 3x150 nádobu s prírubou a konektorom na montáž tlakového spínača | D36: ks | E36: 1 | F36: 0 | G36: =ROUND(E36*F36,2) -> 0
A37: A1.5 | B37: Modulárna sada zásobníka SHZ s príslušenstvom (SET1.5) pre hasivo FK-5-1-12, VdS, CE
A38: A1.5.1 | B38: Zásobník pre hasivo - m.č. 1.18 pre množstvo hasiva 99,8 kg - podľa prílohy č.2 technickej správy - Tab. č.1.2: ZDROJ HASIACEJ LÁTKY (fľaša + objímka), VdS, CE | D38: ks | E38: 1 | F38: 0 | G38: =ROUND(E38*F38,2) -> 0
A39: A1.5.2 | B39: Vypúšťací ventil s bezpečnostnou tlakovou poistkou, VdS | D39: ks | E39: 1 | F39: 0 | G39: =ROUND(E39*F39,2) -> 0
A40: A1.5.3 | B40: Vypúšťacia spojka 2", model FH-50HC | D40: ks | E40: 1 | F40: 0 | G40: =ROUND(E40*F40,2) -> 0
A41: A1.5.4 | B41: Sada pre ukotvenie a stabilizáciu tlakovej nádoby o stenu | D41: sada | E41: 1 | F41: 0 | G41: =ROUND(E41*F41,2) -> 0
A42: A1.5.5 | B42: Manometer na zásobník, VdS | D42: ks | E42: 1 | F42: 0 | G42: =ROUND(E42*F42,2) -> 0
A43: A1.6 | B43: Modulárna sada zásobníka SHZ s príslušenstvom (SET2) pre hasivo FK-5-1-12, VdS, CE
A44: A1.6.1 | B44: Zásobník pre hasivo - m.č. 1.24a pre množstvo hasiva 23,4 kg - podľa prílohy č.2 technickej správy - Tab. č.1.2: ZDROJ HASIACEJ LÁTKY (fľaša + objímka), VdS, CE | D44: ks | E44: 1 | F44: 0 | G44: =ROUND(E44*F44,2) -> 0
A45: A1.6.2 | B45: Vypúšťací ventil s bezpečnostnou tlakovou poistkou, VdS | D45: ks | E45: 1 | F45: 0 | G45: =ROUND(E45*F45,2) -> 0
A46: A1.6.3 | B46: Vypúšťacia pružná spojka 3/4", model FH-20HC | D46: ks | E46: 1 | F46: 0 | G46: =ROUND(E46*F46,2) -> 0
A47: A1.6.4 | B47: Sada pre ukotvenie a stabilizáciu tlakovej nádoby o stenu | D47: sada | E47: 1 | F47: 0 | G47: =ROUND(E47*F47,2) -> 0
A48: A1.6.5 | B48: Manometer na zásobník, VdS | D48: ks | E48: 1 | F48: 0 | G48: =ROUND(E48*F48,2) -> 0
A49: A1.7 | B49: Modulárna sada zásobníka SHZ s príslušenstvom (SET3) pre hasivo FK-5-1-12, VdS, CE, sada obsahuje:
A50: A1.7.1 | B50: Zásobník pre hasivo - m.č. 1.20 pre množstvo hasiva 88,3 kg - podľa prílohy č.2 technickej správy - Tab. č.1.2: ZDROJ HASIACEJ LÁTKY (fľaša + objímka), VdS, CE | D50: ks | E50: 1 | F50: 0 | G50: =ROUND(E50*F50,2) -> 0
A51: A1.7.2 | B51: Vypúšťací ventil s bezpečnostnou tlakovou poistkou, VdS | D51: ks | E51: 1 | F51: 0 | G51: =ROUND(E51*F51,2) -> 0
A52: A1.7.3 | B52: Vypúšťacia spojka 1 1/2", model FH-40HC | D52: ks | E52: 1 | F52: 0 | G52: =ROUND(E52*F52,2) -> 0
A53: A1.7.4 | B53: Sada pre ukotvenie a stabilizáciu tlakovej nádoby o stenu | D53: sada | E53: 1 | F53: 0 | G53: =ROUND(E53*F53,2) -> 0
A54: A1.7.5 | B54: Manometer na zásobník, VdS | D54: ks | E54: 1 | F54: 0 | G54: =ROUND(E54*F54,2) -> 0
A55: A1.8 | B55: Modulárna sada zásobníka SHZ s príslušenstvom (SET4) pre hasivo FK-5-1-12, VdS, CE
A56: A1.8.1 | B56: Zásobník pre hasivo - m.č. 1.24b pre množstvo hasiva 23,1 kg - podľa prílohy č.2 technickej správy - Tab. č.1.2: ZDROJ HASIACEJ LÁTKY (fľaša + objímka), VdS, CE | D56: ks | E56: 1 | F56: 0 | G56: =ROUND(E56*F56,2) -> 0
A57: A1.8.2 | B57: Vypúšťací ventil s bezpečnostnou tlakovou poistkou, VdS | D57: ks | E57: 1 | F57: 0 | G57: =ROUND(E57*F57,2) -> 0
A58: A1.8.3 | B58: Vypúšťacia pružná spojka 3/4", model FH-20HC | D58: ks | E58: 1 | F58: 0 | G58: =ROUND(E58*F58,2) -> 0
A59: A1.8.4 | B59: Sada pre ukotvenie a stabilizáciu tlakovej nádoby o stenu | D59: sada | E59: 1 | F59: 0 | G59: =ROUND(E59*F59,2) -> 0
A60: A1.8.5 | B60: Manometer na zásobník, VdS | D60: ks | E60: 1 | F60: 0 | G60: =ROUND(E60*F60,2) -> 0
A61: A1.9 | B61: Modulárna sada zásobníka SHZ s príslušenstvom (SET5) pre hasivo FK-5-1-12, VdS, CE
A62: A1.9.1 | B62: Zásobník pre hasivo - m.č. 1.13 pre množstvo hasiva 98,3 kg - podľa prílohy č.2 technickej správy - Tab. č.1.2: ZDROJ HASIACEJ LÁTKY (fľaša + objímka), VdS, CE | D62: ks | E62: 1 | F62: 0 | G62: =ROUND(E62*F62,2) -> 0
A63: A1.9.2 | B63: Vypúšťací ventil s bezpečnostnou tlakovou poistkou, VdS | D63: ks | E63: 1 | F63: 0 | G63: =ROUND(E63*F63,2) -> 0
A64: A1.9.3 | B64: Vypúšťacia spojka 2", model FH-50HC | D64: ks | E64: 1 | F64: 0 | G64: =ROUND(E64*F64,2) -> 0
A65: A1.9.4 | B65: Sada pre ukotvenie a stabilizáciu tlakovej nádoby o stenu | D65: sada | E65: 1 | F65: 0 | G65: =ROUND(E65*F65,2) -> 0
A66: A1.9.5 | B66: Manometer na zásobník, VdS | D66: ks | E66: 1 | F66: 0 | G66: =ROUND(E66*F66,2) -> 0
A67: A2 | B67: MATERIÁL
A68: A2.1 | B68: Skladom u obstárávateľa (nedodáva sa)
A69: A2.1.1 | B69: Hasiaca látka NOVEC 1230 3M (FK-5-1-12) | D69: kg | E69: 1470 | F69: 0 | G69: =ROUND(E69*F69,2) -> 0
A70: A2.1.2 | B70: Pilotný zásobník pre N2 2,0L / 200 Bar, VdS, CE (pilot obsahuje vypúšťací ventil RGS-MAM-11-4 / 12-4, manometer a bezpečnostnú tlakovú poistku) | D70: ks | E70: 1 | F70: 0 | G70: =ROUND(E70*F70,2) -> 0
A71: A2.1.3 | B71: Sada pre ukotvenie flaše PILOT o stenu | D71: sada | E71: 2 | F71: 0 | G71: =ROUND(E71*F71,2) -> 0
A72: A2.1.4 | B72: Pripojovací adaptér pre pilotný zásobník | D72: ks | E72: 2 | F72: 0 | G72: =ROUND(E72*F72,2) -> 0
A73: A2.1.5 | B73: Pripojovací adaptér pre aktivačný rozvod Cu | D73: ks | E73: 12 | F73: 0 | G73: =ROUND(E73*F73,2) -> 0
A74: A2.1.6 | B74: Tlaková spojka - Cu rúrka 6x4mm pre aktivačný rozvod + bicone adaptéry | D74: m | E74: 60 | F74: 0 | G74: =ROUND(E74*F74,2) -> 0
A75: A2.1.7 | B75: Elektrický aktivátor 24V DC | D75: ks | E75: 5 | F75: 0 | G75: =ROUND(E75*F75,2) -> 0
A76: A2.1.8 | B76: Manuálny aktivátor | D76: ks | E76: 5 | F76: 0 | G76: =ROUND(E76*F76,2) -> 0
A77: A2.1.9 | B77: Snímač zapojenia aktivátora na ventile | D77: ks | E77: 5 | F77: 0 | G77: =ROUND(E77*F77,2) -> 0
A78: A2.1.10 | B78: Pneumatický aktivátor | D78: ks | E78: 9 | F78: 0 | G78: =ROUND(E78*F78,2) -> 0
A79: A2.1.11 | B79: Pneumatický adaptér priechodzí - T konektor | D79: ks | E79: 8 | F79: 0 | G79: =ROUND(E79*F79,2) -> 0
A80: A2.1.12 | B80: Pneumatický adaptér ukončovací - L konektor | D80: ks | E80: 2 | F80: 0 | G80: =ROUND(E80*F80,2) -> 0
... A126: A2.1.58 | B126: Cu pás 0,3x15mm / 10m | D126: ks | E126: 1 | F126: 0 | G126: =ROUND(E126*F126,2) -> 0
A127: A2.2 | B127: Nie je skladom u obstárávateľa (dodáva sa)
A128: A2.2.1 | B128: Vypúšťacia hubica radiálna 360° / 3/8" | D128: ks | E128: 1 | G128: =ROUND(E128*F128,2) -> 0
A129: A2.2.2 | B129: Kalibračná podložka pod hubicu 3/8" (Di xx,xx mm) | D129: ks | E129: 1 | G129: =ROUND(E129*F129,2) -> 0
A130: A2.2.3 | B130: Vypúšťacia hubica radiálna 360° / 1/2" | D130: ks | E130: 6 | G130: =ROUND(E130*F130,2) -> 0
A131: A2.2.4 | B131: Kalibračná podložka pod hubicu 1/2" (Di xx,xx mm) | D131: ks | E131: 6 | G131: =ROUND(E131*F131,2) -> 0
A132: A2.2.5 | B132: Vypúšťacia hubica radiálna 360° / 3/4" | D132: ks | E132: 2 | G132: =ROUND(E132*F132,2) -> 0
A133: A2.2.6 | B133: Kalibračná podložka pod hubicu 3/4" (Di xx,xx mm) | D133: ks | E133: 2 | G133: =ROUND(E133*F133,2) -> 0
A134: A2.2.7 | B134: Vypúšťacia hubica radiálna 360° / 1 1/4" | D134: ks | E134: 7 | G134: =ROUND(E134*F134,2) -> 0
A135: A2.2.8 | B135: Kalibračná podložka pod hubicu 1 1/4" (Di xx,xx mm) | D135: ks | E135: 7 | G135: =ROUND(E135*F135,2) -> 0
A136: A2.2.9 | B136: Štítok pre označenie hubíc | D136: ks | E136: 16 | G136: =ROUND(E136*F136,2) -> 0
A137: A2.2.10 | B137: Potrubie pre rozvod SHZ DN 1/2" / Di 15,80, min. 30 bar, black pipe, spojky + šróbenia | D137: m | E137: 37 | G137: =ROUND(E137*F137,2) -> 0
A138: A2.2.11 | B138: Potrubie pre rozvod SHZ DN 1" / Di 26,60, min. 30 bar, black pipe, spojky + šróbenia | D138: m | E138: 60 | G138: =ROUND(E138*F138,2) -> 0
A139: A2.2.12 | B139: Potrubie pre rozvod SHZ DN 1 1/4" / Di 35,00, min. 30 bar, black pipe, spojky + šróbenia | D139: m | E139: 24 | G139: =ROUND(E139*F139,2) -> 0
... A142: A2.2.15 | B142: Ostatný montážny a technologický materiál | D142: kpl | E142: 1 | G142: =ROUND(E142*F142,2) -> 0
A143: B | B143: PRÁCE
A144: B1 | B144: Montážne a inštalačné práce
A145: B1.1 | B145: Vedúci montážno-technický pracovník pre SHZ zariadenia | D145: človekodeň | E145: 15 | G145: =ROUND(E145*F145,2) -> 0
A146: B1.2 | B146: Výrobcom certifikovaný technik pre dodávané SHZ zariadenia | D146: človekodeň | E146: 5 | G146: =ROUND(E146*F146,2) -> 0
A147: B1.3 | B147: Montážno-technický pracovník pre SHZ zariadenia | D147: človekodeň | E147: 180 | G147: =ROUND(E147*F147,2) -> 0
A148: B1.4 | B148: Pomocný pracovník pre montáž SHZ | D148: človekodeň | E148: 18 | G148: =ROUND(E148*F148,2) -> 0
...
