Workbook

Sheet REKAPITULÁCIA
A1: REKAPITULÁCIA ROZPOČTU - Obnova non IT technológie DC
A3: Investor: | C3: DataCentrum, Cintorínska 5, 811 08 Bratislava
A4: Miesto stavby: | C4: Cintorínska 5, 811 08 Bratislava
A5: Dátum: | C5: 09/2026
A6: Vypracoval: | C6: Ing. arch. M. Djuračka, ATD, autorizovaný architekt - SKA 1856AA
A8: SO | C8: Profesia | D8: Cena bez DPH | E8: DPH | F8: Cena s DPH
A9: D1.1 | C9: Architektonické a stavebné riešenie | D9: =D10+D11 -> 0 | E9: 0.23 | F9: =D9*E9+D9 -> 0
A10: D.1.1.1 | C10: Stavebné úpravy | D10: ='D.1.1.1-ASR-S'!G263 -> 0 | E10: 0.23 | F10: =D10*E10+D10 -> 0
A11: D.1.1.3 | C11: Zakrytovanie studenej uličky | D11: ='D.1.1.3-ASR-U'!G69 -> 0 | E11: 0.23 | F11: =D11*E11+D11 -> 0
A12: D1.2 | C12: Chladenie a vzduchotechnika | D12: =D13+D14+D15 -> 0 | E12: 0.23 | F12: =D12*E12+D12 -> 0
A13: D1.2.1 | C13: Chladenie | D13: ='D1.2.1-CHL'!G119 -> 0 | E13: 0.23 | F13: =D13*E13+D13 -> 0
A14: D1.2.2 | C14: Vzduchotechnika | D14: ='D1.2.2-VZT'!G87 -> 0 | E14: 0.23 | F14: =D14*E14+D14 -> 0
A15: D1.2.3 | C15: Zdravotechnika | D15: ='D1.2.3-ZTI'!G63 -> 0 | E15: 0.23 | F15: =D15*E15+D15 -> 0
A16: D1.3 | C16: Silnoprúdové elektrické rozvody | D16: ='D.1.3-SER'!G216 -> 0 | E16: 0.23 | F16: =D16*E16+D16 -> 0
A17: D1.4 | C17: Požiarne systémy | D17: =D18+D19 -> 0 | E17: 0.23 | F17: =D17*E17+D17 -> 0
A18: D1.4.1 | C18: SHZ plynové - EPS a riadenie SHZ | D18: ='D.1.4.1-SHZ -R'!G147 -> 0 | E18: 0.23 | F18: =D18*E18+D18 -> 0
A19: D1.4.2 | C19: SHZ plynové - Technológia SHZ | D19: ='D.1.4.2-SHZ-T'!G169 -> 0 | E19: 0.23 | F19: =D19*E19+D19 -> 0
A20: Celkom | D20: =D9+D12+D16+D17 -> 0 | F20: =F9+F12+F16+F17 -> 0
A22: Vysv.: 1 človekodeň = 8 hodín
A24: V súvislosti s označením niektorých materiálov, technológií, výrobkov a technologických zariadení v projektovej dokumentácii, vo výkaze výmer alebo v inej dokumentácii poskytnutej verejným obstarávateľom, ktoré sa odvolávajú na konkrétneho výrobcu, výrobný postup, obchodné označenie, patent, typ, oblasť alebo miesto pôvodu alebo výroby verejný obstarávateľ umožňuje predloženie ponuky s použitím ekvivalentných materiálov, technológií, výrobkov a technologických zariadení v zmysle § 42 zákona č. 343/2015 Z. z. o verejnom obstarávaní a o zmene a doplnení niektorých zákonov v znení neskorších predpisov s tým, že takéto použitie bude označené v ponuke slovom „ekvivalent“. Pokiaľ uchádzač ponúka ekvivalentný materiál, technológiu, výrobok alebo technologické zariadenie, okrem označenia slovom „ekvivalent“ uvedie aj obchodný názov, resp. označenie a popis ponúkaného ekvivalentného materiálu, technológie, výrobku alebo technologického zariadenia tak, aby verejný obstarávateľ mohol posúdiť ekvivalentnosť ponúknutého materiálu, technológie, výrobku alebo technologického zariadenia. Za ekvivalentný materiál, technológiu, výrobok alebo technologické zariadenie sa považuje materiál, technológia, výrobok alebo technologické zariadenia, ktoré v plnej miere spĺňa úžitkové, prevádzkové a funkčné, prípadne estetické charakteristiky, ktoré sú nevyhnutné na zabezpečenie účelu, na ktoré sú predmetné materiály, technológie, výrobky alebo technologické zariadenia určené. Ak ide o materiál, technológiu, výrobok alebo technologické zariadenie konkrétnej značky, uchádzač môže predložiť aj ekvivalent inej značky s rovnakou alebo vyššou kvalitatívnou, resp. úžitkovou úrovňou.
A25: V prípade, že uchádzač nevyužije možnosť použitia ekvivalentu a neuvedie vo svojej ponuke obchodný názov, resp. označenie a popis ekvivalentného materiálu, technológie, výrobku alebo technologického zariadenia, ktorý bol vo výkaze výmer alebo v inej dokumentácii poskytnutej verejným obstarávateľom označený obchodným názvom, bude mať verejný obstarávateľ za to, že uchádzač uvažoval s tým materiálom, technológiou, výrobkom alebo technologickým zariadením, ktorého obchodný názov uviedol verejný obstarávateľ vo výkaze výmer alebo v inej dokumentácii poskytnutej verejným obstarávateľom.
A26: Pri použití ekvivalentného riešenia niektorých druhov materiálov, technológií, výrobkov a technologických zariadení musia tieto mať vlastnosti (parametre) rovnocenné vlastnostiam (kvalitatívnym, technickým a estetickým parametrom) výrobkov, technológií, materiálov, technologických zariadení atď., ktoré uviedol verejný obstarávateľ vo výkaze výmer alebo v inej dokumentácii poskytnutej verejným obstarávateľom. Konečné posúdenie ekvivalentnosti je výlučne v kompetencii verejného obstarávateľa.

Sheet D.1.1.1-ASR-S
A1: VÝKAZ VÝMER
A2: Profesia: | C2: D1.1.1 - Stavebné úpravy
A3: Investor: | C3: DataCentrum, Cintorínska 5, 811 08 Bratislava
A4: Miesto stavby: | C4: Cintorínska 5, 811 08 Bratislava
A5: Dátum: | C5: 09/2026
A6: Vypracoval: | C6: Bc. Filip Sitár
A8: P.č. | B8: Popis položky | C8: Referenčný typ | D8: Merná jednotka | E8: Množstvo | F8: Jednotoková cena bez DPH | G8: Cena bez DPH
A9: A | B9: VÝMENA SHZ
A10: A1 | B10: Práce a dodávky HSV | C10: D - HSV
A11: A1.1 | B11: Úpravy povrchov, podlahy, osadenie | C11: D - 6
A12: A1.1.1 | B12: Oprava vnútorných stien a podláh po demontáži | C12: K - 612421331.1 | D12: kpl | E12: 1 | G12: =ROUND(E12*F12,2) -> 0
A13: A1.1.2 | B13: Domurovanie nevyuzitých otvorov tvarovkami a expanznou maltou | C13: K - 612421331.2 | D13: kpl | E13: 1 | G13: =ROUND(E13*F13,2) -> 0
A14: A1.1.3 | B14: Dobetónovanie nevyužitých otvorov v strope - plechodoska, zálievka hr. 100 mm | C14: K - 612421331.3 | D14: kpl | E14: 1 | G14: =ROUND(E14*F14,2) -> 0
A15: A1.2 | B15: Ostatné konštrukcie a práce-búranie | C15: D - 9
A16: A1.2.1 | B16: Lešenie ľahké pracovné pomocné s výškou lešeňovej podlahy nad 1,20 do 1,90 m | C16: K - 941955002 | D16: m2 | E16: 486.588 | G16: =ROUND(E16*F16,2) -> 0
A17: A1.2.2 | B17: Vyčistenie budov pri výške podlaží do 4m | C17: K - 952901111 | D17: m2 | E17: 486.588 | G17: =ROUND(E17*F17,2) -> 0
A18: A1.2.3 | B18: Vyčistenie objektov akejkoľvek výšky | C18: K - 952901311.S | D18: kpl | E18: 1 | G18: =ROUND(E18*F18,2) -> 0
A19: A1.2.4 | B19: Prestupy konštrukciami bez vyspravenia a utesnenia pre SHZ | C19: K - 962031132.1 | D19: kpl | E19: 1 | G19: =ROUND(E19*F19,2) -> 0
A20: A1.2.5 | B20: Vytvorenie opatrení na zamedzenie prašnosti do zóny mimo rekonštrukciu | C20: K - 962031132.3 | D20: kpl | E20: 1 | G20: =ROUND(E20*F20,2) -> 0
A21: A1.2.6 | B21: Búranie muriva alebo prímurovky z tehál pálených, vápenopieskových, cementových na maltu, -1,90500t | C21: K - 962032231.S | D21: m3 | E21: 0.766 | G21: =ROUND(E21*F21,2) -> 0
A22: A1.2.7 | B22: Vybúranie drevotrieskového obkladu oceľového stĺpa, -0,00400t | C22: K - 968062991.S | D22: kpl | E22: 1 | G22: =ROUND(E22*F22,2) -> 0
A23: A1.2.8 | B23: Vyvesenie kovového dverného krídla bezpečnostných požiarných dverí bez poškodenia na opätovnú montáž, plochy nad 2 m2 | C23: K - 968071126.S | D23: ks | E23: 1 | G23: =ROUND(E23*F23,2) -> 0
A24: A1.2.9 | B24: Vybúranie kovových dverových zárubní bez poškodenia na opätovné použitie, plochy nad 2 m2, -0,06300t | C24: K - 968072456.S | D24: m2 | E24: 2.17 | G24: =ROUND(E24*F24,2) -> 0
A25: A1.2.10 | B25: Zvislá doprava sutiny a vybúraných hmôt za prvé podlažie nad alebo pod základným podlažím | C25: K - 979011111.S | D25: t | E25: 2.314 | G25: =ROUND(E25*F25,2) -> 0
A26: A1.2.11 | B26: Zvislá doprava sutiny a vybúraných hmôt za každé ďalšie podlažie | C26: K - 979011121.S | D26: t | E26: 6.941 | G26: =ROUND(E26*F26,2) -> 0
A27: A1.2.12 | B27: Odvoz sutiny a vybúraných hmôt na skládku do 1 km | C27: K - 979081111.S | D27: t | E27: 2.314 | G27: =ROUND(E27*F27,2) -> 0
... A31: A1.2.16 | B31: Poplatok za skladovanie - iné odpady zo stavieb a demolácií (17 09), ostatné | C31: K - 979089612.S | D31: t | E31: 2.314 | G31: =ROUND(E31*F31,2) -> 0
A32: A1.3 | B32: Presun hmôt HSV | C32: D - 99
A33: A1.3.1 | B33: Presun hmôt pre opravy a údržbu objektov vrátane vonkajších plášťov výšky do 25 m | C33: K - 999281111 | D33: t | E33: 1.991 | G33: =ROUND(E33*F33,2) -> 0
A34: A2 | B34: Práce a dodávky PSV | C34: D - PSV
A35: A2.1 | B35: Konštrukcie - drevostavby | C35: D - 763
A36: A2.1.1 | B36: Priečka SDK RC3 EI90, hr. 125 mm, jednoduchá kca CW 75, UW 75, dosky 2x GKB hr. 12,5 mm s TI 75 mm | C36: K - 763112113 | D36: m2 | E36: 9.671 | G36: =ROUND(E36*F36,2) -> 0
A37: A2.1.2 | B37: Obklad stĺpu s doskami SDK | C37: K - 763112113.4 | D37: kpl | E37: 1 | G37: =ROUND(E37*F37,2) -> 0
A38: A2.1.3 | B38: SDK výplň nevyužitých otvorov kvalitatívne rovnakých, alebo vyšších parametrov ako dopĺňaná SDK konštrukcia | C38: K - 763112113.5 | D38: kpl | E38: 1 | G38: =ROUND(E38*F38,2) -> 0
A39: A2.1.4 | B39: Demontáž sadrokartónovej predsadenej alebo šachtovej steny, s jednoduchou oceľovou konštrukciou, jednoduché opláštenie, -0,01662t | C39: K - 763129521.S | D39: m2 | E39: 10.477 | G39: =ROUND(E39*F39,2) -> 0
A40: A2.1.5 | B40: Presun hmôt pre sádrokartónové konštrukcie v stavbách (objektoch) výšky od 24 do 52 m | C40: K - 998763406.S | D40: % | E40: 18.607 | G40: =ROUND(E40*F40,2) -> 0
A41: A2.2 | B41: Konštrukcie stolárske | C41: K - 766
A42: A2.2.1 | B42: Demontáž a montáž dverných krídiel kompletiz. protipožiarnych jednokrídlových, šírky nad 800 mm | C42: D - 766661422.1 | D42: ks | E42: 1 | G42: =ROUND(E42*F42,2) -> 0
A43: A2.2.2 | B43: Presun hmot pre konštrukcie stolárske v objektoch výšky nad 24 do 36 m | C43: K - 998766204.S | D43: % | E43: 8.25 | G43: =ROUND(E43*F43,2) -> 0
A44: A2.3 | B44: Konštrukcie doplnkové kovové | C44: K - 767
...

Sheet D.1.1.3-ASR-U
A1: VÝKAZ VÝMER
A2: Profesia: | C2: D1.1.3 - Zakrytovanie studenej uličky
A3: Investor: | C3: DataCentrum, Cintorínska 5, 811 08 Bratislava
A4: Miesto stavby: | C4: Cintorínska 5, 811 08 Bratislava
A5: Dátum: | C5: 09/2026
A6: Vypracoval: | C6: Bc. Filip Sitár
A8: P.č. | B8: Popis položky | C8: Referenčný typ | D8: Merná jednotka | E8: Množstvo | F8: Jednotoková cena bez DPH | G8: Cena bez DPH
A9: A | B9: VYBUDOVANIE ZAKRYTOVANIA STUDENEJ ULIČKY NA IT SÁLE
A10: A1 | B10: Práce a dodávky M | C10: D - M
A11: A1.1 | B11: Montáže vzduchotechnických zariadení | C11: D - 24-M
A12: A1.1.1 | B12: Predná stena 27300 x 2400mm - klietka, teplé a studené uličky, čierne hliníkové profily, perforovaná výplň - podľa výkresovej dokumentácie | C12: D - ATYP1 | D12: ks | E12: 1 | G12: =ROUND(E12*F12,2) -> 0
A13: A1.1.2 | B13: Elektrické jednokrídle otočné dvere do teplej uličky 2200x600mm (kovovú výplň s perforáciou), predpríprava pre prístupový systém - podľa výkresovej dokumentácie | C13: D - ATYP2 | D13: ks | E13: 8 | G13: =ROUND(E13*F13,2) -> 0
A14: A1.1.3 | B14: Elektrické dvojkrídle závesné dvere do studenej uličky 2300x1200mm (výplň lepené vrstvené sklo 4+4 mm), predpríprava pre prístupový systém - podľa výkresovej dokumentácie | C14: D - ATYP3 | D14: ks | E14: 4 | G14: =ROUND(E14*F14,2) -> 0
A15: A1.1.4 | B15: Elektrické jednokrídle závesné dvere do studenej uličky 2300x1500mm(výplň lepené vrstvené sklo 4+4 mm), predpríprava pre prístupový systém - podľa výkresovej dokumentácie | C15: D - ATYP4 | D15: ks | E15: 1 | G15: =ROUND(E15*F15,2) -> 0
A16: A1.1.5 | B16: Elektrické jednokrídle závesné dvere do studenej uličky 2300x1100mm(výplň lepené vrstvené sklo 4+4 mm), predpríprava pre prístupový systém - podľa výkresovej dokumentácie | C16: D - ATYP5 | D16: ks | E16: 1 | G16: =ROUND(E16*F16,2) -> 0
A17: A1.1.6 | B17: Studená ulička 6650x1200mm - strešené okná číry polykarbonát, 1x plech, záslepka na konci uličky pre príležitostný prechod, výplne nad rackmi, medzi rackmi - podľa výkresovej dokumentácie | C17: D - ATYP6 | D17: ks | E17: 4 | G17: =ROUND(E17*F17,2) -> 0
A18: A1.1.7 | B18: Studená ulička 6650x1500mm - strešené okná číry polykarbonát, 1x plech, záslepka na konci uličky pre príležitostný prechod, výplne nad rackmi, medzi rackmi - podľa výkresovej dokumentácie | C18: D - ATYP7 | D18: ks | E18: 1 | G18: =ROUND(E18*F18,2) -> 0
A19: A1.1.8 | B19: Studená ulička 6650x1100mm - strešené okná číry polykarbonát, 1x plech, záslepka na konci uličky pre príležitostný prechod, výplne nad rackmi, medzi rackmi - podľa výkresovej dokumentácie | C19: D - ATYP8 | D19: ks | E19: 1 | G19: =ROUND(E19*F19,2) -> 0
A20: A1.1.9 | B20: Vykládka stien, uličky | C20: K - MP | D20: kpl | E20: 1 | G20: =ROUND(E20*F20,2) -> 0
A21: A1.1.10 | B21: Demontáž existujúceho oplotenia a dverí podľa projektovej dokumentácie | C21: K - DP | D21: kpl | E21: 1 | G21: =ROUND(E21*F21,2) -> 0
A22: A1.1.11 | B22: Montáž studenej uličky komplet | C22: K - B1-2 | D22: kpl | E22: 6 | G22: =ROUND(E22*F22,2) -> 0
A23: A1.1.12 | B23: Montáž prednej steny/klietky s dverami do studených a teplých uličiek | C23: K - MP | D23: kpl | E23: 1 | G23: =ROUND(E23*F23,2) -> 0
... A25: A1.1.14 | B25: Dopravné náklady a réžijné náklady | C25: K - MP | D25: kpl | E25: 1 | G25: =ROUND(E25*F25,2) -> 0
A26: A2.1 | B26: Montáže oznamovacích, riadiacich a zabezpečovacích zariadení | C26: K - 22-M
A27: A2.1.1 | B27: Demontáž existujúceho SKV (6x čítačaka + kabeláž) | C27: D - DP | D27: kpl | E27: 1 | G27: =ROUND(E27*F27,2) -> 0
A28: A2.1.2 | B28: Čítačaka s klávesnicou kompatibilná s existujúcim SKV | C28: M - KRBox_5K s klávesnicou Proxy | D28: ks | E28: 11 | G28: =ROUND(E28*F28,2) -> 0
A29: A2.1.3 | B29: Kábel pre napojenie čítačiek | C29: M - FTP | D29: m | E29: 240 | G29: =ROUND(E29*F29,2) -> 0
A30: A2.1.4 | B30: Demontáž existujúcich čidiel monitoring non IT | C30: D - DP | D30: kpl | E30: 1 | G30: =ROUND(E30*F30,2) -> 0
A31: A2.1.5 | B31: Montáž (opätovná) existujúcich čidiel monitoring non IT | C31: D - MP | D31: kpl | E31: 1 | G31: =ROUND(E31*F31,2) -> 0
A32: A2.1.6 | B32: Ostatný montážny a technologický materiál | C32: K - MAT | D32: kpl | E32: 1 | G32: =ROUND(E32*F32,2) -> 0
A33: A2.1.7 | B33: Príprava a montážne práce | C33: K - MP | D33: kpl | E33: 1 | G33: =ROUND(E33*F33,2) -> 0
A34: A2.1.8 | B34: Inštalácia a oživenie | C34: K - MP | D34: kpl | E34: 1 | G34: =ROUND(E34*F34,2) -> 0
A35: A2.1.9 | B35: Úprava FW pre riadiacu jednotku | C35: K - MP | D35: ks | E35: 11 | G35: =ROUND(E35*F35,2) -> 0
A36: A2.1.10 | B36: Dopravné a réžijné náklady | C36: K - MP | D36: kpl | E36: 1 | G36: =ROUND(E36*F36,2) -> 0
A37: B | B37: VYPLNENIE PRÁZDNEHO PRIESTORU STUDENEJ ULIČKY
A38: B1 | B38: Práce a dodávky M | C38: D - M
A39: B1.1 | B39: Montáže oznamovacích, riadiacich a zabezpečovacích zariadení | C39: D - M-22
A40: B1.1.1 | B40: Datacenter rack 47U 800x1200mm, 1500 kg, farba čierna, predné dvere jednokrídle perforované, zadné dvere delené perforované, 2x bočnica, separačný rám, držiaky PDU 0U, farba čierna | C40: M - RACK1 | D40: ks | E40: 9 | G40: =ROUND(E40*F40,2) -> 0
A41: B1.1.2 | B41: Datacenter rack 47U 600x1200mm, 1500 kg, farba čierna, predné dvere jednokrídle perforované, zadné dvere delené perforované, 2x bočnica, separačný rám, držiaky PDU 0U, farba čierna | C41: M - RACK2 | D41: ks | E41: 12 | G41: =ROUND(E41*F41,2) -> 0
A42: B1.1.3 | B42: Presun existujúcich rozvádzačov | C42: K - MP | D42: kpl | E42: 1 | G42: =ROUND(E42*F42,2) -> 0
...

Sheet D1.2.1-CHL
A1: VÝKAZ VÝMER
A2: Profesia: | C2: D1.2.1 - Chladenie
A3: Investor: | C3: DataCentrum, Cintorínska 5, 811 08 Bratislava
A4: Miesto stavby: | C4: Cintorínska 5, 811 08 Bratislava
A5: Dátum: | C5: 09/2026
A6: Vypracoval: | C6: Bc. Filip Sitár
A8: P.č. | B8: Popis položky | C8: Referenčný typ | D8: Merná jednotka | E8: Množstvo | F8: Jednotoková cena bez DPH | G8: Cena bez DPH
A9: A | B9: VÝMENA CHLADENIA
A10: A1 | B10: ZARIADENIA
A11: A1.1 | B11: IT sála
A12: A1.1.1 | B12: Vnútorná klimatizačná jednotka VERTIV - PDX PI075, so zvlhčovaním, parametre prodľa technickej špecifikácie a selekčného listu | C12: PI075/D/A/L/3/G/U/7/0/3/A/1/D/S/1/1/P/I/E/E/X/DAM303/ETHSWIPX | D12: ks | E12: 2 | G12: =ROUND(E12*F12,2) -> 0
A13: A1.1.2 | B13: Vnútorná klimatizačná jednotka VERTIV - PDX PI075, bez zvlhčovania, parametre prodľa technickej špecifikácie a selekčného listu | C13: PI075/D/A/L/3/G/0/7/0/3/A/1/D/S/1/1/P/I/E/E/X/DAM303/ETHSWIPX | D13: ks | E13: 4 | G13: =ROUND(E13*F13,2) -> 0
A14: A1.1.3 | B14: Ultrazvukový zvlhčovač | C14: 456351 | D14: ks | E14: 2 | G14: =ROUND(E14*F14,2) -> 0
A15: A1.1.4 | B15: Vonkajšia klimatizačná jednotka VERTIV - HCR99, parametre prodľa technickej špecifikácie a selekčného listu | C15: HCR99/M/0/0/G/S | D15: ks | E15: 6 | G15: =ROUND(E15*F15,2) -> 0
A16: A1.1.5 | B16: Priestorové čidlo teploty a vlhkosti | C16: 48291301 | D16: ks | E16: 18 | G16: =ROUND(E16*F16,2) -> 0
A17: A1.1.6 | B17: Spätný ventil do potrubia chladiva | C17: 10008646 | D17: ks | E17: 6 | G17: =ROUND(E17*F17,2) -> 0
A18: A1.2 | B18: UPS
A19: A1.2.1 | B19: Vnútorná klimatizačná jednotka VERTIV - PDX PI015, bez zvlhčovania, parametre prodľa technickej správy a referenčného selekčnho listu | C19: PI015/D/A/L/3/G/0/7/0/3/A/1/D/S/1/1/P/I/E/E/X/DAM508/ETHSWIPX | D19: ks | E19: 4 | G19: =ROUND(E19*F19,2) -> 0
A20: A1.2.2 | B20: Vonkajšia klimatizačná jednotka VERTIV - HCR33, parametre prodľa technickej správy a referenčného selekčnho listu | C20: HCR33/M/0/0/G/S | D20: ks | E20: 4 | G20: =ROUND(E20*F20,2) -> 0
A21: A1.2.3 | B21: Priestorové čidlo teploty a vlhkosti | C21: 48291301 | D21: ks | E21: 4 | G21: =ROUND(E21*F21,2) -> 0
A22: A1.2.4 | B22: Spätný ventil do potrubia chladiva | C22: 10008646 | D22: ks | E22: 4 | G22: =ROUND(E22*F22,2) -> 0
A23: A2 | B23: MATERIÁL
A24: A2.1 | B24: IT sála
A25: A2.1.1 | B25: Chladivo R410A 10kg/fľaša | C25: 2005802 | D25: fľaša | E25: 25 | G25: =ROUND(E25*F25,2) -> 0
A26: A2.1.2 | B26: Olej do kompresoru 160SZ 2.5L Maneurop | C26: 120Z0571 | D26: fľaša | E26: 3 | G26: =ROUND(E26*F26,2) -> 0
A27: A2.1.3 | B27: Cu trubka neizolovaná tvrdá D12*1 mm (5m) | C27: 2022925 | D27: ks | E27: 20 | G27: =ROUND(E27*F27,2) -> 0
A28: A2.1.4 | B28: Cu trubka neizolovaná tvrdá D16*1 mm (5 m) | C28: 2022927 | D28: ks | E28: 20 | G28: =ROUND(E28*F28,2) -> 0
A29: A2.1.5 | B29: Cu trubka neizolovaná tvrdá D22*1 mm (5m) | C29: 2022933 | D29: ks | E29: 100 | G29: =ROUND(E29*F29,2) -> 0
A30: A2.1.6 | B30: Cu trubka neizolovaná tvrdá D28*1,5 mm (5 m) | C30: 2022937 | D30: ks | E30: 115 | G30: =ROUND(E30*F30,2) -> 0
A31: A2.1.7 | B31: Medený oblúk 90° D12 | C31: MPM5002 0120001 | D31: ks | E31: 30 | G31: =ROUND(E31*F31,2) -> 0
A32: A2.1.8 | B32: Medený oblúk 90° D16 | C32: MPM5002 0160001 | D32: ks | E32: 90 | G32: =ROUND(E32*F32,2) -> 0
A33: A2.1.9 | B33: Medený oblúk 90° D22 | C33: MPM5002 0220001 | D33: ks | E33: 140 | G33: =ROUND(E33*F33,2) -> 0
A34: A2.1.10 | B34: Medený oblúk 90° D28 | C34: MPM5002 0280001 | D34: ks | E34: 220 | G34: =ROUND(E34*F34,2) -> 0
A35: A2.1.11 | B35: Medený oblúk 180° D16 | C35: 5060016000000 | D35: ks | E35: 48 | G35: =ROUND(E35*F35,2) -> 0
A36: A2.1.12 | B36: Medený oblúk 180° D28 | C36: 5060028000000 | D36: ks | E36: 70 | G36: =ROUND(E36*F36,2) -> 0
A37: A2.1.13 | B37: Medený T-kus D28/28 | C37: MPM5T 028282801 | D37: ks | E37: 8 | G37: =ROUND(E37*F37,2) -> 0
A38: A2.1.14 | B38: Medený uzáver D28 | C38: MPM5301 0280001 | D38: ks | E38: 2 | G38: =ROUND(E38*F38,2) -> 0
A39: A2.1.15 | B39: Spojka lisovacia D12 | C39: MPM5270 0120001 | D39: ks | E39: 30 | G39: =ROUND(E39*F39,2) -> 0
A40: A2.1.16 | B40: Spojka lisovacia D16 | C40: MPM5270 0160001 | D40: ks | E40: 50 | G40: =ROUND(E40*F40,2) -> 0
A41: A2.1.17 | B41: Spojka lisovacia D22 | C41: MPM5270 0220001 | D41: ks | E41: 120 | G41: =ROUND(E41*F41,2) -> 0
...

Sheet D1.2.2-VZT
A1: VÝKAZ VÝMER
A2: Profesia: | C2: D1.2.2 Doplnenie vzduchotechniky
A3: Investor: | C3: DataCentrum, Cintorínska 5, 811 08 Bratislava
A4: Miesto stavby: | C4: Cintorínska 5, 811 08 Bratislava
A5: Dátum: | C5: 09/2026
A6: Vypracoval: | C6: Bc. Filip Sitár
A8: P.č. | B8: Popis položky | C8: Referenčný typ | D8: Merná jednotka | E8: Množstvo | F8: Jednotoková cena bez DPH | G8: Cena bez DPH
A9: A | B9: DOPLNENIE VZDUCHOTECHNIKY
A10: A1 | B10: ZARIADENIA
A11: A1.1 | B11: Systemair KBR 315D2 Radiálny ventilátor | C11: KBR 315D2 #87914 | D11: ks | E11: 2 | G11: =ROUND(E11*F11,2) -> 0
A12: A1.2 | B12: Systemair K200 EC SILEO Kruhový ventilátor | C12: K 200 EC sileo #2581 | D12: ks | E12: 3 | G12: =ROUND(E12*F12,2) -> 0
A13: A1.3 | B13: Regulačná klapka na servo tesná 100 s gumovým tesnením | C13: RKSTG 100 | D13: ks | E13: 5 | G13: =ROUND(E13*F13,2) -> 0
A14: A1.4 | B14: Regulačná klapka na servo tesná 150 s gumovým tesnením | C14: RKSTG 150 | D14: ks | E14: 4 | G14: =ROUND(E14*F14,2) -> 0
A15: A1.5 | B15: Regulačná klapka na servo tesná 200 s gumovým tesnením | C15: RKSTG 200 | D15: ks | E15: 1 | G15: =ROUND(E15*F15,2) -> 0
A16: A1.6 | B16: Servopohon bez spätnej pružiny - 2 Nm - 230V | C16: SERVO 2-230 | D16: ks | E16: 10 | G16: =ROUND(E16*F16,2) -> 0
A17: A1.7 | B17: BTT25-M 100 Požiarna klapka BFL230T pre kruhové potrubie | C17: BR332108010 | D17: ks | E17: 7 | G17: =ROUND(E17*F17,2) -> 0
A18: A1.8 | B18: BTT25-M 200 Požiarna klapka BFL230T pre kruhové potrubie | C18: BR332108030 | D18: ks | E18: 5 | G18: =ROUND(E18*F18,2) -> 0
A19: A1.9 | B19: BTT25-M 315 BFL230T požiarna klapka pre kruhové potrubie | C19: BR332108045 | D19: ks | E19: 4 | G19: =ROUND(E19*F19,2) -> 0
A20: A1.10 | B20: MaR rozvádzač - podľa výkresovej dokumentácie, vrátane naprogramovaného riadiaceho systému | C20: R-MaR-VZT | D20: ks | E20: 1 | G20: =ROUND(E20*F20,2) -> 0
A21: A1.11 | B21: Základový rám s antivibračním tlmičom 750 x 350 x 150 mm | D21: ks | E21: 2 | G21: =ROUND(E21*F21,2) -> 0
A22: A2 | B22: MATERIÁL
A23: A2.1 | B23: Špirálovo vinutá rúra / 1m - 100 | C23: SRM 100 | D23: ks | E23: 12 | G23: =ROUND(E23*F23,2) -> 0
A24: A2.2 | B24: Špirálovo vinutá rúra / 3m - 100 | C24: SR 100 | D24: ks | E24: 34 | G24: =ROUND(E24*F24,2) -> 0
A25: A2.3 | B25: Špirálovo vinutá rúra / 1m - 150 | C25: SRM 150 | D25: ks | E25: 5 | G25: =ROUND(E25*F25,2) -> 0
A26: A2.4 | B26: Špirálovo vinutá rúra / 3m - 150 | C26: SR 150 | D26: ks | E26: 8 | G26: =ROUND(E26*F26,2) -> 0
A27: A2.5 | B27: Špirálovo vinutá rúra / 1m - 160 | C27: SRM 160 | D27: ks | E27: 5 | G27: =ROUND(E27*F27,2) -> 0
A28: A2.6 | B28: Špirálovo vinutá rúra / 3m - 160 | C28: SR 160 | D28: ks | E28: 8 | G28: =ROUND(E28*F28,2) -> 0
A29: A2.7 | B29: Špirálovo vinutá rúra / 1m - 200 | C29: SRM 200 | D29: ks | E29: 5 | G29: =ROUND(E29*F29,2) -> 0
A30: A2.8 | B30: Špirálovo vinutá rúra / 1m - 315 | C30: SRM 315 | D30: ks | E30: 12 | G30: =ROUND(E30*F30,2) -> 0
A31: A2.9 | B31: Špirálovo vinutá rúra / 3m - 315 | C31: SR 315 | D31: ks | E31: 31 | G31: =ROUND(E31*F31,2) -> 0
A32: A2.10 | B32: Ohybná hadica / 3m - 100 | C32: FLEXO 100 | D32: ks | E32: 1 | G32: =ROUND(E32*F32,2) -> 0
A33: A2.11 | B33: Ohybná hadica / 3m - 315 | C33: FLEXO 315 | D33: ks | E33: 7 | G33: =ROUND(E33*F33,2) -> 0
A34: A2.12 | B34: Izolácia Al+samol. 12 mm K-Flex 1,5*15 m (22,5m2) | C34: IZO-K12 | D34: ks | E34: 7 | G34: =ROUND(E34*F34,2) -> 0
... A42: A2.20 | B42: T-kus s gumovým tesnením 160/150 | C42: TG 160/150 | D42: ks | E42: 4 | G42: =ROUND(E42*F42,2) -> 0
A43: A2.21 | B43: T-kus s gumovým tesnením 315/160/160 - atypický výrobok | D43: ks | E43: 1 | G43: =ROUND(E43*F43,2) -> 0
A44: A2.22 | B44: T-kus s gumovým tesnením 315/100 | C44: TG 315/100 | D44: ks | E44: 2 | G44: =ROUND(E44*F44,2) -> 0
A45: A2.23 | B45: Koleno 90° - 100 s gumovým tesnením | C45: BO90G 100 | D45: ks | E45: 10 | G45: =ROUND(E45*F45,2) -> 0
A46: A2.24 | B46: Koleno 90° - 315 s gumovým tesnením | C46: BO90G 315 | D46: ks | E46: 8 | G46: =ROUND(E46*F46,2) -> 0
A47: A2.25 | B47: Záslepka so sitom - 100 s gumovým tesnením | C47: DSG 100 | D47: ks | E47: 7 | G47: =ROUND(E47*F47,2) -> 0
A48: A2.26 | B48: Záslepka so sitom - 200 s gumovým tesnením | C48: DSG 200 | D48: ks | E48: 9 | G48: =ROUND(E48*F48,2) -> 0
...

Sheet D1.2.3-ZTI
A1: VÝKAZ VÝMER
A2: Profesia: | C2: D1.2.3 Zdravotechnika
A3: Investor: | C3: DataCentrum, Cintorínska 5, 811 08 Bratislava
A4: Miesto stavby: | C4: Cintorínska 5, 811 08 Bratislava
A5: Dátum: | C5: 09/2026
A6: Vypracoval: | C6: Bc. Filip Sitár
A8: P.č. | B8: Popis položky | C8: Referenčný typ | D8: Merná jednotka | E8: Množstvo | F8: Jednotoková cena bez DPH | G8: Cena bez DPH
A9: A | B9: ZDRAVOTECHNICKA
A10: A1 | B10: ZARIADENIA
A11: 1 | B11: Úpravovovňa vody, demineralizácia vody s jednotkou reverznej osmózy pre zvlhčovače, parametre prodľa technickej správy | D11: kpl | E11: 1 | G11: =ROUND(E11*F11,2) -> 0
A12: 2 | B12: Elektromagnetický ventil bez napätia uzavretý, priamo ovládaný 3/4" | C12: SVC704N020 | D12: ks | E12: 1 | G12: =ROUND(E12*F12,2) -> 0
A13: A2 | B13: MATERIÁL
A14: A2.1 | B14: IT sála
A15: 3 | B15: HT rúra 50x2000 PP | C15: 33TR050/2000 | D15: ks | E15: 16 | G15: =ROUND(E15*F15,2) -> 0
A16: 4 | B16: HT rúra 50x1000 PP | C16: 33TR050/1000 | D16: ks | E16: 11 | G16: =ROUND(E16*F16,2) -> 0
A17: 5 | B17: HT rúra 50x500 PP | C17: 33TR050/500 | D17: ks | E17: 5 | G17: =ROUND(E17*F17,2) -> 0
A18: 6 | B18: PVC hadica 12 mm | C18: 4450007 | D18: m | E18: 12 | G18: =ROUND(E18*F18,2) -> 0
A19: 7 | B19: HT odbočka 50/32/87° PP | C19: 503287 | D19: ks | E19: 2 | G19: =ROUND(E19*F19,2) -> 0
A20: 8 | B20: HT odbočka 50/50/87° PP | C20: 505087 | D20: ks | E20: 5 | G20: =ROUND(E20*F20,2) -> 0
A21: 9 | B21: HT koleno 50/87° PP | C21: 101298 | D21: ks | E21: 8 | G21: =ROUND(E21*F21,2) -> 0
A22: 10 | B22: HT redukcia pre pripojenie hadice 50/8-25/87° PP | C22: 168.456.0 | D22: ks | E22: 2 | G22: =ROUND(E22*F22,2) -> 0
A23: 11 | B23: HT redukcia 50/32/87° PP | C23: 2707 | D23: ks | E23: 2 | G23: =ROUND(E23*F23,2) -> 0
A24: 12 | B24: Sifón pre odkvapkávajúci kondenzát DN50 | C24: AKS8 | D24: ks | E24: 8 | G24: =ROUND(E24*F24,2) -> 0
A25: 13 | B25: HT čistiaca tvarovka DN 50 PP | C25: 2750 | D25: ks | E25: 7 | G25: =ROUND(E25*F25,2) -> 0
A26: 14 | B26: Viacvrstvová plastohliníková rúra PEX/AL/PEX 26×3,0 mm | C26: BLAN_MULPTB2630100 | D26: m | E26: 120 | G26: =ROUND(E26*F26,2) -> 0
... A32: 20 | B32: Redukcia 3/4" - hadica vnútorný závit | C32: 4733001 | D32: ks | E32: 2 | G32: =ROUND(E32*F32,2) -> 0
A33: A2.2 | B33: UPS
A34: 24 | B34: HT rúra 50x2000 PP | C34: 33TR050/2000 | D34: ks | E34: 6 | G34: =ROUND(E34*F34,2) -> 0
A35: 25 | B35: HT rúra 50x1000 PP | C35: 33TR050/1000 | D35: ks | E35: 6 | G35: =ROUND(E35*F35,2) -> 0
A36: 26 | B36: HT rúra 50x500 PP | C36: 33TR050/500 | D36: ks | E36: 3 | G36: =ROUND(E36*F36,2) -> 0
A37: 27 | B37: HT odbočka 50/50/87° PP | C37: 505087 | D37: ks | E37: 4 | G37: =ROUND(E37*F37,2) -> 0
A38: 28 | B38: HT koleno 50/87° PP | C38: 101298 | D38: ks | E38: 6 | G38: =ROUND(E38*F38,2) -> 0
A39: 29 | B39: Sifón pre odkvapkávajúci kondenzát DN50 | C39: AKS8 | D39: ks | E39: 4 | G39: =ROUND(E39*F39,2) -> 0
A40: B | B40: PRÁCE
A41: B1 | B41: Montážne a inštalačné práce, oživenie a uvedenie do prevádzky
A42: B1.1 | B42: Vedúci montážno-technický pracovník pre ZTI | D42: človekodeň | E42: 2 | G42: =ROUND(E42*F42,2) -> 0
A43: B1.5 | B43: Technik pre ZTI - úpravovňa vody | D43: človekodeň | E43: 3 | G43: =ROUND(E43*F43,2) -> 0
A44: B1.8 | B44: Montážno-technický pracovník pre ZTI | D44: človekodeň | E44: 12 | G44: =ROUND(E44*F44,2) -> 0
A45: B1.10 | B45: Pomocný pracovník pre ZTI | D45: človekodeň | E45: 3 | G45: =ROUND(E45*F45,2) -> 0
A46: B2 | B46: Pripojenie zvlhčovačov a nových klimatizácií
...

Sheet D.1.3-SER
A1: VÝKAZ VÝMER
A2: Profesia: | C2: D1.3 - Silnoprúdové elektrické rozvody
A3: Investor: | C3: DataCentrum, Cintorínska 5, 811 08 Bratislava
A4: Miesto stavby: | C4: Cintorínska 5, 811 08 Bratislava
A5: Dátum: | C5: 09/2026
A6: Vypracoval: | C6: Bc. Filip Sitár
A8: P.č. | B8: Popis položky | C8: Referenčný typ | D8: Merná jednotka | E8: Množstvo | F8: Jednotoková cena bez DPH | G8: Cena bez DPH
A9: A | B9: Rekonštrukcia miestností UPS1 a UPS2
A10: A1 | B10: ZARIADENIA - nainštalované (nedodova sa)
A11: A.1.1 | B11: Existujúca UPS1 a batérie | C11: - | D11: sada | E11: 1 | F11: 0 | G11: =ROUND(E11*F11,2) -> 0
A12: A.1.2 | B12: Existujúca UPS2 a batérie | C12: - | D12: sada | E12: 1 | F12: 0 | G12: =ROUND(E12*F12,2) -> 0
A13: A2 | B13: MATERIÁL
A14: A2.1 | B14: Uzemňovacia svorka na pripojenie uzemňovacieho vodiča k medeným alebo pozinkovaným potrubiam alebo rúrkam s priemerom 5 až 48 mm | C14: EBS1 - 2007002 | D14: ks | E14: 50 | G14: =ROUND(E14*F14,2) -> 0
A15: A2.2 | B15: Kovový žľab 300 x 60 mm pre kabeláž vrátane príslušenstva | D15: ks | E15: 13 | G15: =ROUND(E15*F15,2) -> 0
A16: A2.3 | B16: Kovové veko š=300mm | D16: ks | E16: 4 | G16: =ROUND(E16*F16,2) -> 0
A17: A2.4 | B17: Spojovací materiál žľabového systému | D17: kpl | E17: 1 | G17: =ROUND(E17*F17,2) -> 0
A18: A2.5 | B18: Svorka ekvipotenciálna | C18: OBO 5015073 1809 | D18: ks | E18: 4 | G18: =ROUND(E18*F18,2) -> 0
A19: A2.6 | B19: Vodič pre doplnkové pospojovanie zdvojenej podlahy | C19: H07V-K 6, žlto-zelený | D19: m | E19: 600 | G19: =ROUND(E19*F19,2) -> 0
A20: A2.7 | B20: Vodič pre pripojenie skriniek ekvipotenciálnych svorkovníc | C20: N2XH-J 1x25 RM, žlto-zelený | D20: m | E20: 12 | G20: =ROUND(E20*F20,2) -> 0
A21: A2.8 | B21: Pripojovací materiál (oká, skrutky, dutinky a podobne) | D21: kpl | E21: 1 | G21: =ROUND(E21*F21,2) -> 0
A22: A2.9 | B22: Kotviaci materiál | D22: kpl | E22: 1 | G22: =ROUND(E22*F22,2) -> 0
A23: A2.10 | B23: Ostatný montážny a technologický materiál | D23: kpl | E23: 1 | G23: =ROUND(E23*F23,2) -> 0
A24: B | B24: Výmena chladenia
A25: B1 | B25: ZARIADENIA
A26: B1.1 | B26: Rozvádzač prepäťovej ochrany - podľa výkresovej dokumentácie | C26: RFV-KLJ_SALA | D26: ks | E26: 12 | G26: =ROUND(E26*F26,2) -> 0
A27: B1.2 | B27: Rozvádzač prepäťovej ochrany - podľa výkresovej dokumentácie | C27: RFV-KLJ_UPS | D27: ks | E27: 8 | G27: =ROUND(E27*F27,2) -> 0
A28: B2 | B28: MATERIÁL
A29: B2.1 | B29: Kabel pre napájanie vnútorných klimatizačných jednotiek pre IT sály | C29: 1-CYKY-J 5x25 | D29: m | E29: 96 | G29: =ROUND(E29*F29,2) -> 0
A30: B2.2 | B30: Kabel pre napájanie vnútorných klimatizačných jednotiek | C30: CYKY-J 5x6 | D30: m | E30: 240 | G30: =ROUND(E30*F30,2) -> 0
A31: B2.3 | B31: Kabel pre napájanie úpravovne vody z rozvádzača RUPS3 | C31: N2XH-J 3x2,5 RE | D31: m | E31: 42 | G31: =ROUND(E31*F31,2) -> 0
A32: B2.4 | B32: Kabel pre doplnkové pospájanie vnútorných klimatizačných jednotiek pre IT sály | C32: H07V-K 16, žlto-zelený | D32: m | E32: 96 | G32: =ROUND(E32*F32,2) -> 0
A33: B2.5 | B33: Kábel pre doplnkové pospojovanie - vnútorných klimatizačných jednotiek UPS + vonkajších klimatizačných jednotiek + žľabov a kovových konštrukcií v DC a na streche + potrubí pre klimatizácie v DC a na streche | C33: H07V-K 6, žlto-zelený | D33: m | E33: 600 | G33: =ROUND(E33*F33,2) -> 0
A34: B2.6 | B34: Kábel pre doplnkové pospojovanie - žľabov, potrubí a kovových konštrukcií v stupačke | C34: N2XH-J 1x6 RM, žlto-zelený | D34: m | E34: 120 | G34: =ROUND(E34*F34,2) -> 0
A35: B2.7 | B35: Kábel pre pripojenie skriniek s prepäťovými ochranami a ekvipotenciálnych svorkovníc v stupačke | C35: N2XH-J 1x25 RM, žlto-zelený | D35: m | E35: 120 | G35: =ROUND(E35*F35,2) -> 0
A36: B2.8 | B36: Svorka ekvipotenciálna | C36: OBO 5015073 1809 | D36: ks | E36: 4 | G36: =ROUND(E36*F36,2) -> 0
A37: B2.9 | B37: Materiál na úpravu rozvádzača RCHx - podľa výkresovej dokumentácie | D37: kpl | E37: 6 | G37: =ROUND(E37*F37,2) -> 0
A38: B2.10 | B38: Pripojovací materiál (oká, skrutky, dutinky a podobne) | D38: kpl | E38: 1 | G38: =ROUND(E38*F38,2) -> 0
A39: B2.11 | B39: Kotviaci materiál | D39: kpl | E39: 1 | G39: =ROUND(E39*F39,2) -> 0
A40: B2.12 | B40: Ostatný montážny a technologický materiál | D40: kpl | E40: 1 | G40: =ROUND(E40*F40,2) -> 0
A41: C | B41: Doplnenie VZT
...

Sheet D.1.4.1-SHZ -R
A1: VÝKAZ VÝMER
A2: Profesia: | C2: D1.4.1 - SHZ plynové - EPS a riadenie SHZ
A3: Investor: | C3: DataCentrum, Cintorínska 5, 811 08 Bratislava
A4: Miesto stavby: | C4: Cintorínska 5, 811 08 Bratislava
A5: Dátum: | C5: 09/2026
A6: Vypracoval: | C6: Bc. Filip Sitár
A8: P.č. | B8: Popis položky | C8: Referenčný typ | D8: Merná jednotka | E8: Množstvo | F8: Jednotoková cena bez DPH | G8: Cena bez DPH
A9: A | B9: Výmena SHZ - časť EPS a riadenie SHZ
A10: A1 | B10: ZARIADENIA - skladom u obstarávateľa (nedodáva sa)
A11: A1.1 | B11: Modulárna multizónová požiarna / hasiaca ústredňa Integral EvoxX M, modul procesora B8-MCU, OP pre 4 hasiace zóny, operačný panel MAP B8-CII, zdroj napájania 24V / 7,1A B8-PSU, tlačiareň, indikácia hasiacich zón, Schrack Seconet | C11: B8-SCU-CP4L | D11: ks | E11: 1 | F11: 0 | G11: =ROUND(E11*F11,2) -> 0
A12: A1.2 | B12: Externý signalizačný LED panel pre max. 8 hasebných zón | C12: B3-MMI-IPEL | D12: ks | E12: 1 | F12: 0 | G12: =ROUND(E12*F12,2) -> 0
A13: A1.3 | B13: Integračný driver Winmag | C13: WMSCH | D13: ks | E13: 1 | F13: 0 | G13: =ROUND(E13*F13,2) -> 0
A14: A1.4 | B14: Popisný štítok na operačný panel MAP, SK verzia | C14: MAPTXT-RA SK01 | D14: ks | E14: 1 | F14: 0 | G14: =ROUND(E14*F14,2) -> 0
A15: A1.5 | B15: Riadiaca karta externých rozhraní pre Intergral EvoxX M | C15: B8-BAF | D15: ks | E15: 1 | F15: 0 | G15: =ROUND(E15*F15,2) -> 0
A16: A1.6 | B16: Karta kruhovej linky X-LINE | C16: B8-DXI2 | D16: ks | E16: 1 | F16: 0 | G16: =ROUND(E16*F16,2) -> 0
A17: A1.7 | B17: Karta vstupov, 8x strážený vstup | C17: B8-IM8 | D17: ks | E17: 3 | F17: 0 | G17: =ROUND(E17*F17,2) -> 0
A18: A1.8 | B18: Karta výstupov, 8x strážený výstup | C18: B8-OM8 | D18: ks | E18: 3 | F18: 0 | G18: =ROUND(E18*F18,2) -> 0
A19: A1.9 | B19: Akumulátor bezúdržbový 12V/44Ah | C19: AKKU 44 | D19: ks | E19: 2 | F19: 0 | G19: =ROUND(E19*F19,2) -> 0
A20: A1.10 | B20: Sada pre označenie ústredne EPS / externého panelu | D20: ks | E20: 3 | F20: 0 | G20: =ROUND(E20*F20,2) -> 0
A21: A1.11 | B21: Operačný externý panel MAP MMI-BUS | C21: B8-MMI-CIP | D21: ks | E21: 2 | F21: 0 | G21: =ROUND(E21*F21,2) -> 0
A22: A1.12 | B22: Popisný štítok na operačný panel MAP, SK verzia | C22: MAPTXT SK01 | D22: ks | E22: 2 | F22: 0 | G22: =ROUND(E22*F22,2) -> 0
A23: A1.13 | B23: Manuálny tlačidlový hlásič, žltý RAL 1003, EN 12094-3, X-LINE | C23: MCP535X-5 | D23: ks | E23: 7 | F23: 0 | G23: =ROUND(E23*F23,2) -> 0
A24: A1.14 | B24: Ochranný kryt tlačidla, sklopný, priehľadný plast, IP54 | C24: 781693 | D24: ks | E24: 7 | F24: 0 | G24: =ROUND(E24*F24,2) -> 0
A25: A1.15 | B25: Dištančný držiak ochranného krytu pre povrchú montáž | C25: 781698 | D25: ks | E25: 7 | F25: 0 | G25: =ROUND(E25*F25,2) -> 0
A26: A1.16 | B26: Popisný štítok spúšťacieho tlačidla SHZ | D26: ks | E26: 7 | F26: 0 | G26: =ROUND(E26*F26,2) -> 0
A27: A1.17 | B27: Manuálny tlačidlový hlásič, modrý RAL 5005, EN 12094-3, X-LINE | C27: MCP535X-7 | D27: ks | E27: 7 | F27: 0 | G27: =ROUND(E27*F27,2) -> 0
A28: A1.18 | B28: Popisný štítok zastavovacieho tlačidla SHZ | D28: ks | E28: 7 | F28: 0 | G28: =ROUND(E28*F28,2) -> 0
A29: A1.19 | B29: Štítok do tlačidlových hlásičov s piktogramom ruky | C29: MCP535 AK | D29: ks | E29: 14 | F29: 0 | G29: =ROUND(E29*F29,2) -> 0
A30: A1.20 | B30: Požiarna siréna + maják, 32 tónov / DIN, 97dB/1m, EN54-3, VdS, červená / červená šošovka, sonos | C30: SBW ESFA1000RRS | D30: ks | E30: 11 | F30: 0 | G30: =ROUND(E30*F30,2) -> 0
A31: A1.21 | B31: Požiarna siréna + maják, 32 tónov / DIN, 97dB/1m, EN54-3, VdS, biela / biela šošovka, sonos | C31: SBW ESCA4000WWS | D31: ks | E31: 11 | F31: 0 | G31: =ROUND(E31*F31,2) -> 0
A32: A1.22 | B32: Požiarny maják, EN54-23, VdS, biely / biela šošovka, Sonos | C32: BW ESBA4000WWS | D32: ks | E32: 6 | F32: 0 | G32: =ROUND(E32*F32,2) -> 0
A33: A1.23 | B33: Požiarny maják, EN54-23, VdS, červený / červená šošovka, Sonos | C33: BW ESDA1000RRS | D33: ks | E33: 6 | F33: 0 | G33: =ROUND(E33*F33,2) -> 0
A34: A1.24 | B34: Popisný štítok pre sirénky a majáky do výšky 3m | D34: ks | E34: 34 | F34: 0 | G34: =ROUND(E34*F34,2) -> 0
A35: A1.25 | B35: Výstražné svetelné návestie "HASENIE PLYNOM - NEVSTUPOVAŤ", ABS plast, 24V DC | C35: SV-CEONUS | D35: ks | E35: 7 | F35: 0 | G35: =ROUND(E35*F35,2) -> 0
A36: A1.26 | B36: Výstupný modul na kruhovú linku X-LINE, 4xRELE OUT NC/NO, 2A/230V | C36: BX-REL4 | D36: ks | E36: 10 | F36: 0 | G36: =ROUND(E36*F36,2) -> 0
A37: A1.27 | B37: Vstupný / výstupný modul na kruhovú linku X-LINE, 1xOUT / 3xIN | C37: BX-OI3 | D37: ks | E37: 7 | F37: 0 | G37: =ROUND(E37*F37,2) -> 0
A38: A1.28 | B38: Vstupný modul na kruhovú linku X-LINE, 4xIN | C38: BX-I4 | D38: ks | E38: 3 | F38: 0 | G38: =ROUND(E38*F38,2) -> 0
A39: A1.29 | B39: Skrinka pre linkové moduly (94x94x57mm), IP66 | C39: GEH MOD IP66 | D39: ks | E39: 20 | F39: 0 | G39: =ROUND(E39*F39,2) -> 0
A40: A1.30 | B40: Záslepka PG 16 | C40: MM SN M20 | D40: ks | E40: 120 | F40: 0 | G40: =ROUND(E40*F40,2) -> 0
A41: A1.31 | B41: Mikromodul kruhového vedenia esserbus | D41: ks | E41: 1 | F41: 0 | G41: =ROUND(E41*F41,2) -> 0
...

Sheet D.1.4.2-SHZ-T
A1: VÝKAZ VÝMER
A2: Profesia: | C2: D1.4.2 - SHZ plynové - Technológia SHZ
A3: Investor: | C3: DataCentrum, Cintorínska 5, 811 08 Bratislava
A4: Miesto stavby: | C4: Cintorínska 5, 811 08 Bratislava
A5: Dátum: | C5: 09/2026
A6: Vypracoval: | C6: Bc. Filip Sitár
A8: P.č. | B8: Popis položky | C8: Referenčný typ | D8: Merná jednotka | E8: Množstvo | F8: Jednotoková cena bez DPH | G8: Cena bez DPH
A9: A | B9: Výmena SHZ - časť technológia SHZ
A10: A1 | B10: ZARIADENIA - skladom u obstarávateľa (nedodáva sa)
A11: A1.1 | B11: Batéria SHZ s príslušenstvom (SET1.1) pre hasivo FK-5-1-12, VdS, CE
A12: A1.1.1 | B12: Zásobník pre hasivo - m.č. 1.16 pre množstvo hasiva 155,7 kg - podľa prílohy č.2 technickej správy - Tab. č.1.2: ZDROJ HASIACEJ LÁTKY (fľaša + objímka), VdS, CE | D12: ks | E12: 3 | F12: 0 | G12: =ROUND(E12*F12,2) -> 0
A13: A1.1.2 | B13: Vypúšťací ventil s bezpečnostnou tlakovou poistkou, VdS | D13: ks | E13: 3 | F13: 0 | G13: =ROUND(E13*F13,2) -> 0
A14: A1.1.3 | B14: Vypúšťacia spojka 2", model FH-50HC | D14: ks | E14: 3 | F14: 0 | G14: =ROUND(E14*F14,2) -> 0
A15: A1.1.4 | B15: Sada pre ukotvenie a stabilizáciu fliaš o stenu pre batériu 3x150l | D15: sada | E15: 1 | F15: 0 | G15: =ROUND(E15*F15,2) -> 0
A16: A1.1.5 | B16: Manometer na zásobník, VdS | D16: ks | E16: 3 | F16: 0 | G16: =ROUND(E16*F16,2) -> 0
A17: A1.1.6 | B17: Manifold 3" pre 3x150 nádobu s prírubou a konektorom na montáž tlakového spínača | D17: ks | E17: 1 | F17: 0 | G17: =ROUND(E17*F17,2) -> 0
A18: A1.2 | B18: Modulárna sada zásobníka SHZ s príslušenstvom (SET1.2) pre hasivo FK-5-1-12, VdS, CE
A19: A1.2.1 | B19: Zásobník pre hasivo - m.č. 1.23 pre množstvo hasiva 76,8 kg - podľa prílohy č.2 technickej správy - Tab. č.1.2: ZDROJ HASIACEJ LÁTKY (fľaša + objímka), VdS, CE | D19: ks | E19: 1 | F19: 0 | G19: =ROUND(E19*F19,2) -> 0
A20: A1.2.2 | B20: Vypúšťací ventil s bezpečnostnou tlakovou poistkou, VdS | D20: ks | E20: 1 | F20: 0 | G20: =ROUND(E20*F20,2) -> 0
A21: A1.2.3 | B21: Vypúšťacia spojka 2", model FH-50HC | D21: ks | E21: 1 | F21: 0 | G21: =ROUND(E21*F21,2) -> 0
A22: A1.2.4 | B22: Sada pre ukotvenie a stabilizáciu tlakovej nádoby o stenu | D22: sada | E22: 1 | F22: 0 | G22: =ROUND(E22*F22,2) -> 0
A23: A1.2.5 | B23: Manometer na zásobník, VdS | D23: ks | E23: 1 | F23: 0 | G23: =ROUND(E23*F23,2) -> 0
A24: A1.3 | B24: Modulárna sada zásobníka SHZ s príslušenstvom (SET1.3) pre hasivo FK-5-1-12, VdS, CE
A25: A1.3.1 | B25: Zásobník pre hasivo - m.č. 1.24 pre množstvo hasiva 123,3, kg - podľa prílohy č.2 technickej správy - Tab. č.1.2: ZDROJ HASIACEJ LÁTKY (fľaša + objímka), VdS, CE | D25: ks | E25: 1 | F25: 0 | G25: =ROUND(E25*F25,2) -> 0
A26: A1.3.2 | B26: Vypúšťací ventil s bezpečnostnou tlakovou poistkou, VdS | D26: ks | E26: 1 | F26: 0 | G26: =ROUND(E26*F26,2) -> 0
A27: A1.3.3 | B27: Vypúšťacia spojka 2", model FH-50HC | D27: ks | E27: 1 | F27: 0 | G27: =ROUND(E27*F27,2) -> 0
A28: A1.3.4 | B28: Sada pre ukotvenie a stabilizáciu tlakovej nádoby o stenu | D28: sada | E28: 1 | F28: 0 | G28: =ROUND(E28*F28,2) -> 0
A29: A1.3.5 | B29: Manometer na zásobník, VdS | D29: ks | E29: 1 | F29: 0 | G29: =ROUND(E29*F29,2) -> 0
A30: A1.4 | B30: Batéria SHZ s príslušenstvom (SET1.4) pre hasivo FK-5-1-12, VdS, CE
A31: A1.4.1 | B31: Zásobník pre hasivo - m.č. 1.16 pre množstvo hasiva 155,6 kg - podľa prílohy č.2 technickej správy - Tab. č.1.2: ZDROJ HASIACEJ LÁTKY (fľaša + objímka), VdS, CE | D31: ks | E31: 3 | F31: 0 | G31: =ROUND(E31*F31,2) -> 0
A32: A1.4.2 | B32: Vypúšťací ventil s bezpečnostnou tlakovou poistkou, VdS | D32: ks | E32: 3 | F32: 0 | G32: =ROUND(E32*F32,2) -> 0
A33: A1.4.3 | B33: Vypúšťacia spojka 2", model FH-50HC | D33: ks | E33: 3 | F33: 0 | G33: =ROUND(E33*F33,2) -> 0
A34: A1.4.4 | B34: Sada pre ukotvenie a stabilizáciu fliaš o stenu pre batériu 3x150l | D34: sada | E34: 1 | F34: 0 | G34: =ROUND(E34*F34,2) -> 0
A35: A1.4.5 | B35: Manometer na zásobník, VdS | D35: ks | E35: 3 | F35: 0 | G35: =ROUND(E35*F35,2) -> 0
A36: A1.4.6 | B36: Manifold 3" pre 3x150 nádobu s prírubou a konektorom na montáž tlakového spínača | D36: ks | E36: 1 | F36: 0 | G36: =ROUND(E36*F36,2) -> 0
A37: A1.5 | B37: Modulárna sada zásobníka SHZ s príslušenstvom (SET1.5) pre hasivo FK-5-1-12, VdS, CE
A38: A1.5.1 | B38: Zásobník pre hasivo - m.č. 1.18 pre množstvo hasiva 99,8 kg - podľa prílohy č.2 technickej správy - Tab. č.1.2: ZDROJ HASIACEJ LÁTKY (fľaša + objímka), VdS, CE | D38: ks | E38: 1 | F38: 0 | G38: =ROUND(E38*F38,2) -> 0
A39: A1.5.2 | B39: Vypúšťací ventil s bezpečnostnou tlakovou poistkou, VdS | D39: ks | E39: 1 | F39: 0 | G39: =ROUND(E39*F39,2) -> 0
A40: A1.5.3 | B40: Vypúšťacia spojka 2", model FH-50HC | D40: ks | E40: 1 | F40: 0 | G40: =ROUND(E40*F40,2) -> 0
A41: A1.5.4 | B41: Sada pre ukotvenie a stabilizáciu tlakovej nádoby o stenu | D41: sada | E41: 1 | F41: 0 | G41: =ROUND(E41*F41,2) -> 0
...
