Workbook

Sheet Sumár
B1: Príloha č. 1 SP_Technická špecifikácia a cenová kalkulácia/Návrh na plnenie kritériá
C3: Technická špecifikácia a cenová kalkulácia/Návrh na plnenie kritéria
B5: Predmet/názov zákazky: | C5: SOŠ drevárska ZV Interiérové prvky Výzva č.75
B6: Názov projektu: | C6: SOŠ drevárska vo Zvolene – inovatívne vzdelávacie centrum excelentnosti
B7: Identifikačné údaje uchádzača (obchodné meno, adresa, IČO): | C7: Vyplní uchádzač
B8: Kontaktná osoba, telefónne číslo, e-mail | C8: Vyplní uchádzač
B10: Celková cena za celý predmet zákazky v EUR bez DPH: | C10: ='Drevársky Innolab'!C541+'Hi-tech učebne'!C370+'Prezentačná miestnosť'!C136 -> 0
B11: DPH (v EUR): | C11: =C10*0.23 -> 0
B12: Celková cena za celý predmet zákazky v EUR s DPH (Návrh uchádzača na plnenie kritérií/Cenová ponuka): | C12: =C10+C11 -> 0
B14: Cena stanovená za predmet zákazky obsahuje všetky náklady súvisiace s predmetom obstarávania v súlade s opisom predmetu zákazky (technickou špecifikáciou). Verejnému obstarávateľovi nevzniknú žiadne iné dodatočné náklady.
B16: Uchádzač vyhlasuje a predložením svojej ponuky potvrdzuje, že ním ponúkaný tovar spĺňa požiadavky na predmet zákazky uvedené v prílohe č. 2 SP - Technická špecifikácia a cenová kalkulácia/Návrh na plnenie kritéria.
B18: V prípade, ak uchádzač je zdaniteľnou osobou pre DPH, uvedie v časti „Celková cena za predmet zákazky v EUR s DPH“ sumu z časti „Celková cena za predmet zákazky v EUR bez DPH“ navýšenú o aktuálne platnú sadzbu DPH.
B19: V prípade, ak uchádzač nie je zdaniteľnou osobou pre DPH, uvedie v časti „Celková cena za predmet zákazky v EUR s DPH“ rovnakú sumu ako uviedol v časti „Celková cena za predmet zákazky v EUR bez DPH“.
B20: V prípade, ak je uchádzač zahraničnou osobou, uvedie v časti „Celková cena za predmet zákazky v EUR s DPH“ sumu z časti „Celková cena za predmet zákazky v EUR bez DPH“ (bez DPH platnej v krajine sídla uchádzača) navýšenú o aktuálne platnú sadzbu DPH v SR (DPH odvádza v prípade úspešnosti jeho ponuky verejný obstarávateľ).
B21: Vyžltené polia vypĺňa uchádzač
B23: V: | D23: Meno a priezvisko, funkcia oprávnenej osoby a podpis štatutárneho zástupcu alebo osoby oprávnennej konať za uchádzača
B24: Dátum:
B28: Poznámka: - dátum musí byť aktuálny vo vzťahu ku dňu uplynutia lehoty na predkladanie ponúk; - návrh uchádzača na plnenie kritérií/cenová ponuka musí byť v zmysle SP vložený/á do systému JOSEPHINE vo formáte .pdf a .xlx/.xlxs“; - uchádzač zaokrúhli svoje návrhy v zmysle matematických pravidiel na 2 desatinné miesta. - všetky uvedené technické parametre, materiálové vlastnosti a konštrukčné riešenia predstavujú minimálne požiadavky verejného obstarávateľa. Uchádzač môže ponúknuť plnenie s vyššími, rozšírenými alebo nadštandardnými úžitkovými, materiálovými či konštrukčnými parametrami, za predpokladu zachovania požadovanej funkčnosti a účelu využitia.

Sheet Drevársky Innolab
B1: Príloha č. 1 SP_Technická špecifikácia a cenová kalkulácia/Návrh na plnenie kritériá
C3: Technická špecifikácia a cenová kalkulácia/Návrh na plnenie kritéria
B5: Predmet/názov zákazky: | C5: SOŠ drevárska ZV Interiérové prvky Výzva č.75
B6: Názov projektu: | C6: SOŠ drevárska vo Zvolene – inovatívne vzdelávacie centrum excelentnosti
B7: Identifikačné údaje uchádzača (obchodné meno, adresa, IČO): | C7: =Sumár!C7 -> Vyplní uchádzač
B8: Kontaktná osoba, telefónne číslo, e-mail | C8: =Sumár!C8 -> Vyplní uchádzač
B9: Uchádzač vyhlasuje, že JE/NIE JE platiteľom DPH. (Uchádzač vyznačí/vyberie relevantnú možnosť)
B10: Uchádzač vyplní bunky označené žltou farbou .
B11: Upozornenie: Verejný obstarávateľ požaduje v rámci každého predmetu zákazky aj - dovoz, montáž, inštaláciu (tam, kde je to relevantné), zaškolenie (tam, kde je to relevantné). Sumu na uvedené služby zohľadní uchádzač vo svojej celkovej ponukovej cene, nakoľko tieto služby nie sú samostatnou položkou technickej špecifikácie a cenovej kalkulácie. Uchádzač je povinný uviesť názov a typové označenie výrobku.
B13: HA1 - DREVÁRSKY INNOLAB
B14: 1.1 Nábytok pre kreatívne učebné zony | G14: Doplní uchádzač
B15: Položka 1: Študentský stôl - jednomiestny | G15: Označenie (výrobná značka,typ,model) ponúkaného tovaru: doplní uchádzač
A16: P.č. | B16: Požadované technické parametre a vybavenie | C16: Merná jednotka parametra | D16: Požiadavka | G16: Uchádzačom ponúknuté parametre (uchádzač uvedie ku každej položke/parametru hodnotu/funkcionalitu ponúkaného produktu, t.j. opis vlastností produktu tak, aby bolo možné posúdiť splnenie požiadaviek na daný produkt)
D17: minimálne | E17: maximálne | F17: Doplňujúce informácie *
A19: 1. | B19: Rozmery pracovnej dosky - šírka | C19: mm | D19: 500 | E19: 600
A20: 2. | B20: Rozmery pracovnej dosky - dĺžka | C20: mm | D20: 700 | E20: 800
A21: 3. | B21: Rozsah nastavenia výšky stola | C21: mm | D21: 685 | E21: 1180
A22: 4 | B22: Zdvih | C22: mm | D22: 495 | E22: 590
A23: 5 | B23: Konštrukcia - oceľová, elektricky nastaviteľná | F23: požaduje sa
A24: 6 | B24: Materiál pracovnej dosky: Laminát | F24: požaduje sa
A25: 7 | B25: Hrúbka pracovnej dosky | C25: mm | D25: 18 | E25: 25
A26: 8 | B26: Možnosť výberu farebného prevedenia - doska | F26: biela / šedá / čierna / dub / breza
A27: 9 | B27: Typ výsuvu: elektrický motor | C27: ks | E27: 1 | F27: požaduje sa
A28: 10 | B28: Hmotnosť | C28: kg | D28: 25 | E28: 27
A29: 11 | B29: Nosnosť | C29: kg | D29: 65 | E29: 70
A30: 12 | B30: Ovládanie vertikálneho pohybu - zdvih: tlačidlá posunu HORE/DOLE | F30: požaduje sa
A31: 13 | B31: Podnož z ocele - stabilné riešenie s centrálnou podnožou | F31: požaduje sa
A32: 14 | B32: Povrchová úprava ocelovej konštrukcie práškovou farbou | F32: požaduje sa
A33: 15 | B33: Možnosť výberu farebného prevedenia - oceľovej konštrukcie | F33: biela / strieborná / čierna
A34: 16 | B34: Pracovisko musí obsahovať aj USB porty a nabíjacie konektory a vstavaný káblový manažment: Zásuvkový box TYP VI - výklopný, 2x zásuvka, VGA, HDMI, USB DATA, 2x RJ45 port | F34: požaduje sa
B35: ilustračný obrázok
B36: #VALUE!
B38: Požadovaný počet kusov: | C38: 12
B39: Cena za 1 kus v EUR bez DPH:
B40: Celková cena v EUR bez DPH: | C40: =C38*C39 -> 0
B41: DPH: | C41: =C40*0.23 -> 0
B42: Celková cena v EUR s DPH: | C42: =C40+C41 -> 0
G45: Doplní uchádzač
B46: Položka 2: Štududenstská stolička - ergonomická | G46: Označenie (výrobná značka, typ, model) ponúkaného tovaru: doplní uchádzač
A47: P.č. | B47: Požadované technické parametre a vybavenie | C47: Merná jednotka parametra | D47: Požiadavka | G47: Uchádzačom ponúknuté parametre (uchádzač uvedie ku každej položke/parametru hodnotu/funkcionalitu ponúkaného produktu, t.j. opis vlastností produktu tak, aby bolo možné posúdiť splnenie požiadaviek na daný produkt)
D48: minimálne | E48: maximálne | F48: Doplňujúce informácie *
A50: 1 | B50: Výška sedáku | C50: mm | D50: 530 | E50: 720
A51: 2 | B51: Hĺbka sedáku | C51: mm | D51: 385 | E51: 390
A52: 3 | B52: Šírka sedáku | C52: mm | D52: 385 | E52: 390
A53: 4 | B53: Otočná funkcia sedáka stoličky, výškovo nastaviteľná s mechanizmom nastavovania výšky manuálne plynovým piestom. | F53: požaduje sa
A54: 5 | B54: Sedák a operadlo z odolného materiálu HPL | F54: požaduje sa
A55: 6 | B55: Možnosť výberu farebného prevedenia - sedáka | F55: biela / šedá / breza
A56: 7 | B56: Konštrukcia z kovu, riešenie s centrálnou nosnou časťou - stĺpová konštrukcia s kruhovou opierkou nôh | F56: požaduje sa
A57: 8 | B57: Kolieska | F57: požaduje sa
B58: ilustračný obrázok
B59: #VALUE!
B61: Požadovaný počet kusov: | C61: 40
B62: Cena za 1 kus v EUR bez DPH:
B63: Celková cena v EUR bez DPH: | C63: =C61*C62 -> 0
B64: DPH: | C64: =C63*0.23 -> 0
B65: Celková cena v EUR s DPH: | C65: =C63+C64 -> 0
G67: Doplní uchádzač
B68: Položka 3: Učiteľská katedra s nastaviteľným stolom | G68: Označenie (výrobná značka, typ, model) ponúkaného tovaru: doplní uchádzač
A69: P.č. | B69: Požadované technické parametre a vybavenie | C69: Merná jednotka parametra | D69: Požiadavka | G69: Uchádzačom ponúknuté parametre (uchádzač uvedie ku každej položke/parametru hodnotu/funkcionalitu ponúkaného produktu, t.j. opis vlastností produktu tak, aby bolo možné posúdiť splnenie požiadaviek na daný produkt)
D70: minimálne | E70: maximálne | F70: Doplňujúce informácie *
A72: 1. | B72: Rozmery pracovnej dosky - šírka | C72: mm | D72: 700 | E72: 800
A73: 2. | B73: Rozmery pracovnej dosky - dĺžka | C73: mm | D73: 1300 | E73: 1600
A74: 3. | B74: Rozsah nastavenia výšky stola | C74: mm | D74: 620 | E74: 1270
A75: 4 | B75: Zdvih | C75: mm | D75: 620 | E75: 650
A76: 5 | B76: Konštrukcia - oceľová, elektricky nastaviteľná | F76: požaduje sa
A77: 6 | B77: Materiál pracovnej dosky: Laminát | F77: požaduje sa
A78: 7 | B78: Hrúbka pracovnej dosky s vykrojením | C78: mm | E78: 25 | F78: požaduje sa
A79: 8 | B79: Možnosť výberu farebného prevedenia - doska | F79: biela / šedá / čierna / dub / breza
A80: 9 | B80: Typ výsuvu: elektrický motor | C80: ks | E80: 2 | F80: požaduje sa
A81: 10 | B81: Hmotnosť | C81: kg | D81: 48 | E81: 51
A82: 11 | B82: Nosnosť | C82: kg | D82: 120 | E82: 125
A83: 12 | B83: Hlučnosť | C83: dB | D83: 40 | E83: 50
A84: 13 | B84: Ovládanie vertikálneho pohybu - zdvih: tlačidlá posunu HORE/DOLE | F84: požaduje sa
A85: 14 | B85: Napájacie napätie | C85: V | E85: 230 | F85: Sieťové napájanie
A86: 15 | B86: Podnož - stabilné riešenie | F86: požaduje sa
A87: 16 | B87: Povrchová úprava ocelovej konštrukcie práškovou farbou | F87: požaduje sa
A88: 17 | B88: Možnosť výberu farebného prevedenia - oceľovej konštrukcie | F88: biela / strieborná / čierna
A89: 18 | B89: Požiadavka na bezpečnostné prvky minimálne ochrana proti preťaženiu, detekcia prekážok a núdzové zastavenie | F89: požaduje sa
A90: 19 | B90: Pracovisko musí obsahovať aj USB porty a nabíjacie konektory a vstavaný káblový manažment: Zásuvkový box TYP VI - výklopný, 2x zásuvka, VGA, HDMI, USB DATA, 2x RJ45 port | F90: požaduje sa
B91: ilustračný obrázok
B92: #VALUE!
B94: Požadovaný počet kusov: | C94: 4
B95: Cena za 1 kus v EUR bez DPH:
B96: Celková cena v EUR bez DPH: | C96: =C94*C95 -> 0
B97: DPH: | C97: =C96*0.23 -> 0
B98: Celková cena v EUR s DPH: | C98: =C96+C97 -> 0
G100: Doplní uchádzač
B101: Položka 4: Zásuvkový kontajner | G101: Označenie (výrobná značka, typ, model) ponúkaného tovaru: doplní uchádzač
A102: P.č. | B102: Požadované technické parametre a vybavenie | C102: Merná jednotka parametra | D102: Požiadavka | G102: Uchádzačom ponúknuté parametre (uchádzač uvedie ku každej položke/parametru hodnotu/funkcionalitu ponúkaného produktu, t.j. opis vlastností produktu tak, aby bolo možné posúdiť splnenie požiadaviek na daný produkt)
D103: minimálne | E103: maximálne | F103: Doplňujúce informácie *
A105: 1. | B105: Šírka | C105: mm | D105: 395 | E105: 400
A106: 2 | B106: Hĺbka | C106: mm | D106: 595 | E106: 600
A107: 3 | B107: Výška | C107: mm | D107: 545 | E107: 550
A108: 4 | B108: Kolieskový podvozok | F108: požaduje sa
A109: 5 | B109: Hrúbka korpusu kontajneru | C109: mm | D109: 18 | E109: 25
A110: 6 | B110: Materiál: laminovaná drevotrieska | F110: požaduje sa
A111: 7 | B111: Počet zásuviek | C111: ks | E111: 3
A112: 9 | B112: Zásuvka s organizérom na písacie potreby s variabilnými prepážkami | F112: požaduje sa
A113: 10 | B113: Plynulý výsuv/doraz zásuviek | F113: požaduje sa
A114: 11 | B114: Uzamykanie | F114: požaduje sa
...

Sheet Hi-tech učebne
B1: Príloha č. 1 SP_Technická špecifikácia a cenová kalkulácia/Návrh na plnenie kritériá
C3: Technická špecifikácia a cenová kalkulácia/Návrh na plnenie kritéria
B5: Predmet/názov zákazky: | C5: SOŠ drevárska ZV Interiérové prvky Výzva č.75
B6: Názov projektu: | C6: SOŠ drevárska vo Zvolene – inovatívne vzdelávacie centrum excelentnosti
B7: Identifikačné údaje uchádzača (obchodné meno, adresa, IČO): | C7: =Sumár!C7 -> Vyplní uchádzač
B8: Kontaktná osoba, telefónne číslo, e-mail | C8: =Sumár!C8 -> Vyplní uchádzač
B9: Uchádzač vyhlasuje, že JE/NIE JE platiteľom DPH. (Uchádzač vyznačí/vyberie relevantnú možnosť)
B10: Uchádzač vyplní bunky označené žltou farbou .
B11: Upozornenie: Verejný obstarávateľ požaduje v rámci každého predmetu zákazky aj - dovoz, montáž, inštaláciu (tam, kde je to relevantné), zaškolenie (tam, kde je to relevantné). Sumu na uvedené služby zohľadní uchádzač vo svojej celkovej ponukovej cene, nakoľko tieto služby nie sú samostatnou položkou technickej špecifikácie a cenovej kalkulácie. Uchádzač je povinný uviesť názov a typové označenie výrobku.
B13: HA2 - HI-TECH UČEBNE
B14: 2.1 Učiteľská pracovná stanica | G14: Doplní uchádzač
B15: Položka 21: Učiteľský stôl | G15: Označenie (výrobná značka,typ,model) ponúkaného tovaru: doplní uchádzač
A16: P.č. | B16: Požadované technické parametre a vybavenie | C16: Merná jednotka parametra | D16: Požiadavka | G16: Uchádzačom ponúknuté parametre (uchádzač uvedie ku každej položke/parametru hodnotu/funkcionalitu ponúkaného produktu, t.j. opis vlastností produktu tak, aby bolo možné posúdiť splnenie požiadaviek na daný produkt)
D17: minimálne | E17: maximálne | F17: Doplňujúce informácie *
A19: 1. | B19: Rozmery pracovnej dosky - šírka | C19: mm | D19: 700 | E19: 800
A20: 2. | B20: Rozmery pracovnej dosky - dĺžka | C20: mm | D20: 1300 | E20: 1600
A21: 3. | B21: Rozsah nastavenia výšky stola | C21: mm | D21: 620 | E21: 1270
A22: 4 | B22: Zdvih | C22: mm | D22: 620 | E22: 650
A23: 5 | B23: Konštrukcia - oceľová, elektricky nastaviteľná | F23: požaduje sa
A24: 6 | B24: Materiál pracovnej dosky: Laminát | F24: požaduje sa
A25: 7 | B25: Hrúbka pracovnej dosky s vykrojením | C25: mm | E25: 25 | F25: požaduje sa
A26: 8 | B26: Možnosť výberu farebného prevedenia - doska | F26: biela / šedá / čierna / dub / breza
A27: 9 | B27: Typ výsuvu: elektrický motor | C27: ks | E27: 2 | F27: požaduje sa
A28: 10 | B28: Hmotnosť | C28: kg | D28: 48 | E28: 51
A29: 11 | B29: Nosnosť | C29: kg | D29: 120 | E29: 125
A30: 12 | B30: Hlučnosť | C30: dB | D30: 40 | E30: 50
A31: 13 | B31: Ovládanie vertikálneho pohybu - zdvih: tlačidlá posunu HORE/DOLE | F31: požaduje sa
A32: 14 | B32: Napájacie napätie | C32: V | E32: 230 | F32: Sieťové napájanie
A33: 15 | B33: Podnož - stabilné riešenie | F33: požaduje sa
A34: 16 | B34: Povrchová úprava ocelovej konštrukcie práškovou farbou | F34: požaduje sa
A35: 17 | B35: Možnosť výberu farebného prevedenia - oceľovej konštrukcie | F35: biela / strieborná / čierna
A36: 18 | B36: Požiadavka na bezpečnostné prvky minimálne ochrana proti preťaženiu, detekcia prekážok a núdzové zastavenie | F36: požaduje sa
A37: 19 | B37: Pracovisko musí obsahovať aj USB porty a nabíjacie konektory a vstavaný káblový manažment: Zásuvkový box TYP VI - výklopný, 2x zásuvka, VGA, HDMI, USB DATA, 2x RJ45 port | F37: požaduje sa
B38: ilustračný obrázok
B39: #VALUE!
B41: Požadovaný počet kusov: | C41: 4
B42: Cena za 1 kus v EUR bez DPH:
B43: Celková cena v EUR bez DPH: | C43: =C41*C42 -> 0
B44: DPH: | C44: =C43*0.23 -> 0
B45: Celková cena v EUR s DPH: | C45: =C43+C44 -> 0
G48: Doplní uchádzač
B49: Položka 22: Kontajner so zásuvkami | G49: Označenie (výrobná značka, typ, model) ponúkaného tovaru: doplní uchádzač
A50: P.č. | B50: Požadované technické parametre a vybavenie | C50: Merná jednotka parametra | D50: Požiadavka | G50: Uchádzačom ponúknuté parametre (uchádzač uvedie ku každej položke/parametru hodnotu/funkcionalitu ponúkaného produktu, t.j. opis vlastností produktu tak, aby bolo možné posúdiť splnenie požiadaviek na daný produkt)
D51: minimálne | E51: maximálne | F51: Doplňujúce informácie *
A53: 1. | B53: Šírka | C53: mm | D53: 395 | E53: 400
A54: 2 | B54: Hĺbka | C54: mm | D54: 595 | E54: 600
A55: 3 | B55: Výška | C55: mm | D55: 545 | E55: 550
A56: 4 | B56: Kolieskový podvozok | F56: požaduje sa
A57: 5 | B57: Hrúbka korpusu kontajneru | C57: mm | D57: 18 | E57: 25
A58: 6 | B58: Materiál: laminovaná drevotrieska | F58: požaduje sa
A59: 7 | B59: Počet zásuviek | C59: ks | E59: 3
A60: 9 | B60: Zásuvka s organizérom na písacie potreby s variabilnými prepážkami | F60: požaduje sa
A61: 10 | B61: Plynulý výsuv/doraz zásuviek | F61: požaduje sa
A62: 11 | B62: Uzamykanie | F62: požaduje sa
A63: 12 | B63: Možnosť výberu farebného prevedenia | F63: biela / breza / šedá
B64: ilustračný obrázok
B65: #VALUE!
B67: Požadovaný počet kusov: | C67: 4
B68: Cena za 1 kus v EUR bez DPH:
B69: Celková cena v EUR bez DPH: | C69: =C67*C68 -> 0
B70: DPH: | C70: =C69*0.23 -> 0
B71: Celková cena v EUR s DPH: | C71: =C69+C70 -> 0
G73: Doplní uchádzač
B74: Položka 23: Kancelárske kreslo | G74: Označenie (výrobná značka, typ, model) ponúkaného tovaru: doplní uchádzač
A75: P.č. | B75: Požadované technické parametre a vybavenie | C75: Merná jednotka parametra | D75: Požiadavka | G75: Uchádzačom ponúknuté parametre (uchádzač uvedie ku každej položke/parametru hodnotu/funkcionalitu ponúkaného produktu, t.j. opis vlastností produktu tak, aby bolo možné posúdiť splnenie požiadaviek na daný produkt)
D76: minimálne | E76: maximálne | F76: Doplňujúce informácie *
A78: 1 | B78: Výška sedadla | C78: mm | D78: 470 | E78: 595
A79: 2 | B79: Hĺbka sedadla | C79: mm | D79: 480 | E79: 485
A80: 3 | B80: Šíka sedadla | C80: mm | D80: 445 | E80: 450
A81: 4 | B81: Výška operadla | C81: mm | D81: 660 | E81: 665
A82: 5 | B82: Šíka | C82: mm | D82: 675 | E82: 680
A83: 6 | B83: Nosnosť | C83: kg | D83: 115 | E83: 120
A84: 7 | B84: Čalúnené sedadlo a operadlo, ergonomicky tvarované | F84: požaduje sa
A85: 8 | B85: Materiál: tkanina - 100% polyester | F85: požaduje sa
A86: 9 | B86: Oteruvzdornosť | C86: Md | D86: 80000 | E86: 90000
A87: 10 | B87: Opierky rúk nastaviteľné minimálne v troch smeroch (výškovo, pozdĺžne a do strán). | F87: požaduje sa
A88: 11 | B88: Opierka hlavy nastaviteľná minimálne v dvoch smeroch (výškovo a uhlovo/predozadný posun) | F88: požaduje sa
A89: 12 | B89: Synchrónny mechanizmus, umožňujúci súčasný pohyb sedadla a operadla, s možnosťou aretácie minimálne v 3 polohách | F89: požaduje sa
A90: 13 | B90: Päťramenná konštrukcia s kolieskami vhodnými na tvrdé podlahy. | F90: požaduje sa
A91: 14 | B91: Možnosť výberu farebného prevedenia | F91: antracit / sivé / šedé
B92: ilustračný obrázok
B93: #VALUE!
B95: Požadovaný počet kusov: | C95: 4
B96: Cena za 1 kus v EUR bez DPH:
B97: Celková cena v EUR bez DPH: | C97: =C95*C96 -> 0
B98: DPH: | C98: =C97*0.23 -> 0
B99: Celková cena v EUR s DPH: | C99: =C97+C98 -> 0
B101: 2.2 Študentská pracovná stanica | G101: Doplní uchádzač
B102: Položka 24: Študentský stôl - výškovo nastaviteľný | G102: Označenie (výrobná značka, typ, model) ponúkaného tovaru: doplní uchádzač
A103: P.č. | B103: Požadované technické parametre a vybavenie | C103: Merná jednotka parametra | D103: Požiadavka | G103: Uchádzačom ponúknuté parametre (uchádzač uvedie ku každej položke/parametru hodnotu/funkcionalitu ponúkaného produktu, t.j. opis vlastností produktu tak, aby bolo možné posúdiť splnenie požiadaviek na daný produkt)
D104: minimálne | E104: maximálne | F104: Doplňujúce informácie *
A106: 1 | B106: Rozmery pracovnej dosky - šírka | C106: mm | D106: 590 | E106: 600
A107: 2 | B107: Rozmery pracovnej dosky - dĺžka | C107: mm | D107: 690 | E107: 700
A108: 3 | B108: Výška stola | C108: mm | D108: 690 | E108: 1090
A109: 4 | B109: Hrúbka pracovnej dosky | C109: mm | D109: 20
A110: 5 | B110: Pracovná doska z laminovanej drevotriesky alebo HPL | F110: požaduje sa
A111: 6 | B111: Možnosť výberu farebného prevedenia - doska | F111: biela / šedá / breza
A112: 7 | B112: Výškovo nastaviteľný s manuálnym mechanizmom | F112: požaduje sa
A113: 8 | B113: Podnož z ocele, stabilná a bezpečná konštrukcia. | F113: požaduje sa
A114: 9 | B114: Povrchová úprava konštrukcie práškovou farbou | F114: požaduje sa
...

Sheet Prezentačná miestnosť
B1: Príloha č. 1 SP_Technická špecifikácia a cenová kalkulácia/Návrh na plnenie kritériá
C3: Technická špecifikácia a cenová kalkulácia/Návrh na plnenie kritéria
B5: Predmet/názov zákazky: | C5: SOŠ drevárska ZV Interiérové prvky Výzva č.75
B6: Názov projektu: | C6: SOŠ drevárska vo Zvolene – inovatívne vzdelávacie centrum excelentnosti
B7: Identifikačné údaje uchádzača (obchodné meno, adresa, IČO): | C7: =Sumár!C7 -> Vyplní uchádzač
B8: Kontaktná osoba, telefónne číslo, e-mail | C8: =Sumár!C8 -> Vyplní uchádzač
B9: Uchádzač vyhlasuje, že JE/NIE JE platiteľom DPH. (Uchádzač vyznačí/vyberie relevantnú možnosť)
B10: Uchádzač vyplní bunky označené žltou farbou. POZNÁMKA k vypracovaniu opisu: Opis predmetu zákazky musí byť vypracovaný v súlade so zákonom o verejnom obstarávaní, nesmie sa odkazovať na konkrétne produkty a výrobcov, parametre by mali byť špecifikované ako minimálne požiadavky na predmet zákazky, t.j. minimálne hodnoty/maximálne hodnoty/rozpätie hodnôt. Každá požiadavka musí byť relevantne odôvodniteľná. Je potrebné uvádzať také parametre, ktoré zabezpečia účel, na ktorý má byť daný tovar používaný. Parametre, ktoré sú nepodstatné nie je potrebné uvádzať.
B11: Uchádzač doplní údaje – potvrdí slovom "áno"/"nie resp. požadovaný parameter
B12: Upozornenie: Verejný obstarávateľ požaduje v rámci každého predmetu zákazky aj - dovoz, montáž, inštaláciu (tam, kde je to relevantné), zaškolenie (tam, kde je to relevantné). Sumu na uvedené služby zohľadní uchádzač vo svojej celkovej ponukovej cene, nakoľko tieto služby nie sú samostatnou položkou technickej špecifikácie a cenovej kalkulácie. Uchádzač je povinný uviesť názov a typové označenie výrobku.
B14: HA4 - PREZENTAČNÁ MIESTNOSŤ
B15: 4.1 Interérové vybavenie miestnosti | G15: Doplní uchádzač
B16: Položka 35: Konferenčná stolička | G16: Označenie (výrobná značka,typ,model) ponúkaného tovaru: doplní uchádzač
A17: P.č. | B17: Požadované technické parametre a vybavenie | C17: Merná jednotka parametra | D17: Požiadavka | G17: Uchádzačom ponúknuté parametre (uchádzač uvedie ku každej položke/parametru hodnotu/funkcionalitu ponúkaného produktu, t.j. opis vlastností produktu tak, aby bolo možné posúdiť splnenie požiadaviek na daný produkt)
D18: minimálne | E18: maximálne | F18: Doplňujúce informácie *
A20: 1 | B20: Stolička s integrovanou písacou doskou | F20: požaduje sa
A21: 2 | B21: Celková výška | C21: mm | D21: 780 | E21: 850
A22: 3 | B22: Celková šírka | C22: mm | D22: 580 | E22: 630
A23: 4 | B23: Výška sedenia | C23: mm | D23: 450 | E23: 460
A24: 5 | B24: Šírka sedáka | C24: mm | D24: 460 | E24: 470
A25: 6 | B25: Hĺbka sedáka | C25: mm | D25: 440 | E25: 460
A26: 7 | B26: Výška sedenia | C26: mm | D26: 450 | E26: 460
A27: 8 | B27: Nosnosť | C27: kg | D27: 110 | E27: 120
A28: 9 | B28: Stohovateľnosť | C28: ks | D28: 4 | E28: 5
A29: 10 | B29: Ukončenie nôh plastovými klzákmi | F29: požaduje sa
A30: 11 | B30: Kovová konštrukcia (napr. oceľová) | F30: požaduje sa
A31: 12 | B31: Povrchová úprava odolná voči opotrebeniu: práškové lakovanie / chrómovanie | F31: požaduje sa
A32: 13 | B32: Čalúnený sedák | F32: požaduje sa
A33: 14 | B33: Nosná škrupinová konštrukcia plast / preglejka | F33: požaduje sa
A34: 15 | B34: Podnož stabilná štvornohá konštrukcia | F34: požaduje sa
A35: 16 | B35: Pevné opierky rúk, kompatibilné so sklopnou - výklopnou písacou doskou. | F35: požaduje sa
A36: 17 | B36: Odolný materiál výklopnej dosky: laminovaná doska / drevo / kompozit, umiestnenie na pravej strane | F36: požaduje sa
A37: 18 | B37: Možnosť spájania do radov / usporiadania do zostáv (ak to konštrukcia umožňuje) | F37: požaduje sa
A38: 19 | B38: Možnosť výberu farebného prevedenia sedáka a škrupiny | F38: šedá / čierna / tmavo zelená / tmavo žltá / svetlo modrá / béžová
B39: ilustračný obrázok
B40: #VALUE!
B42: Požadovaný počet kusov: | C42: 48
B43: Cena za 1 kus v EUR bez DPH:
B44: Celková cena v EUR bez DPH: | C44: =C42*C43 -> 0
B45: DPH: | C45: =C44*0.23 -> 0
B46: Celková cena v EUR s DPH: | C46: =C44+C45 -> 0
G49: Doplní uchádzač
B50: Položka 36: Učiteľská katedra | G50: Označenie (výrobná značka, typ, model) ponúkaného tovaru: doplní uchádzač
A51: P.č. | B51: Požadované technické parametre a vybavenie | C51: Merná jednotka parametra | D51: Požiadavka | G51: Uchádzačom ponúknuté parametre (uchádzač uvedie ku každej položke/parametru hodnotu/funkcionalitu ponúkaného produktu, t.j. opis vlastností produktu tak, aby bolo možné posúdiť splnenie požiadaviek na daný produkt)
D52: minimálne | E52: maximálne | F52: Doplňujúce informácie *
A54: 1. | B54: Rozmery pracovnej dosky - šírka | C54: mm | D54: 700 | E54: 800
A55: 2. | B55: Rozmery pracovnej dosky - dĺžka | C55: mm | D55: 1300 | E55: 1600
A56: 3. | B56: Rozsah nastavenia výšky stola | C56: mm | D56: 620 | E56: 1270
A57: 4 | B57: Zdvih | C57: mm | D57: 620 | E57: 650
A58: 5 | B58: Konštrukcia - oceľová, elektricky nastaviteľná | F58: požaduje sa
A59: 6 | B59: Materiál pracovnej dosky: Laminát | F59: požaduje sa
A60: 7 | B60: Hrúbka pracovnej dosky s vykrojením | C60: mm | E60: 25 | F60: požaduje sa
A61: 8 | B61: Možnosť výberu farebného prevedenia - doska | F61: biela / šedá / čierna / dub / breza
A62: 9 | B62: Typ výsuvu: elektrický motor | C62: ks | E62: 2 | F62: požaduje sa
A63: 10 | B63: Hmotnosť | C63: kg | D63: 48 | E63: 51
A64: 11 | B64: Nosnosť | C64: kg | D64: 120 | E64: 125
A65: 12 | B65: Hlučnosť | C65: dB | D65: 40 | E65: 50
A66: 13 | B66: Ovládanie vertikálneho pohybu - zdvih: tlačidlá posunu HORE/DOLE | F66: požaduje sa
A67: 14 | B67: Napájacie napätie | C67: V | E67: 230 | F67: Sieťové napájanie
A68: 15 | B68: Podnož - stabilné riešenie | F68: požaduje sa
A69: 16 | B69: Povrchová úprava ocelovej konštrukcie práškovou farbou | F69: požaduje sa
A70: 17 | B70: Možnosť výberu farebného prevedenia - oceľovej konštrukcie | F70: biela / strieborná / čierna
A71: 18 | B71: Požiadavka na bezpečnostné prvky minimálne ochrana proti preťaženiu, detekcia prekážok a núdzové zastavenie | F71: požaduje sa
A72: 19 | B72: Pracovisko musí obsahovať aj USB porty a nabíjacie konektory a vstavaný káblový manažment: Zásuvkový box TYP VI - výklopný, 2x zásuvka, VGA, HDMI, USB DATA, 2x RJ45 port | F72: požaduje sa
B73: ilustračný obrázok
B74: #VALUE!
B77: Požadovaný počet kusov: | C77: 1
B78: Cena za 1 kus v EUR bez DPH:
B79: Celková cena v EUR bez DPH: | C79: =C77*C78 -> 0
B80: DPH: | C80: =C79*0.23 -> 0
B81: Celková cena v EUR s DPH: | C81: =C79+C80 -> 0
G83: Doplní uchádzač
B84: Položka 37: Kontajner so 4 zásuvkami | G84: Označenie (výrobná značka, typ, model) ponúkaného tovaru: doplní uchádzač
A85: P.č. | B85: Požadované technické parametre a vybavenie | C85: Merná jednotka parametra | D85: Požiadavka | G85: Uchádzačom ponúknuté parametre (uchádzač uvedie ku každej položke/parametru hodnotu/funkcionalitu ponúkaného produktu, t.j. opis vlastností produktu tak, aby bolo možné posúdiť splnenie požiadaviek na daný produkt)
D86: minimálne | E86: maximálne | F86: Doplňujúce informácie *
A88: 1. | B88: Šírka | C88: mm | D88: 395 | E88: 400
A89: 2 | B89: Hĺbka | C89: mm | D89: 595 | E89: 600
A90: 3 | B90: Výška | C90: mm | D90: 550 | E90: 640
A91: 4 | B91: Kolieskový podvozok | F91: požaduje sa
A92: 5 | B92: Hrúbka korpusu kontajneru | C92: mm | D92: 18 | E92: 25
A93: 6 | B93: Materiál: laminovaná drevotrieska | F93: požaduje sa
A94: 7 | B94: Počet zásuviek | C94: ks | E94: 4
A95: 9 | B95: Zásuvka s organizérom na písacie potreby s variabilnými prepážkami | F95: požaduje sa
A96: 10 | B96: Plynulý výsuv/doraz zásuviek | F96: požaduje sa
A97: 11 | B97: Uzamykanie | F97: požaduje sa
A98: 12 | B98: Možnosť výberu farebného prevedenia | F98: biela / breza / šedá
B99: ilustračný obrázok
B100: #VALUE!
B102: Požadovaný počet kusov: | C102: 1
B103: Cena za 1 kus v EUR bez DPH:
B104: Celková cena v EUR bez DPH: | C104: =C102*C103 -> 0
B105: DPH: | C105: =C104*0.23 -> 0
B106: Celková cena v EUR s DPH: | C106: =C104+C105 -> 0
G108: Doplní uchádzač
B109: Položka 38: Kancelárske kreslo | G109: Označenie (výrobná značka, typ, model) ponúkaného tovaru: doplní uchádzač
A110: P.č. | B110: Požadované technické parametre a vybavenie | C110: Merná jednotka parametra | D110: Požiadavka | G110: Uchádzačom ponúknuté parametre (uchádzač uvedie ku každej položke/parametru hodnotu/funkcionalitu ponúkaného produktu, t.j. opis vlastností produktu tak, aby bolo možné posúdiť splnenie požiadaviek na daný produkt)
D111: minimálne | E111: maximálne | F111: Doplňujúce informácie *
A113: 1 | B113: Výška sedadla | C113: mm | D113: 470 | E113: 595
A114: 2 | B114: Hĺbka sedadla | C114: mm | D114: 480 | E114: 485
A115: 3 | B115: Šíka sedadla | C115: mm | D115: 445 | E115: 450
...
