Workbook

Sheet Sumár
B1: Príloha č. 1 SP_Technická špecifikácia a cenová kalkulácia/Návrh na plnenie kritériá
C3: Technická špecifikácia a cenová kalkulácia/Návrh na plnenie kritéria
B5: Predmet/názov zákazky: | C5: SOŠ drevárska ZV Interiérové prvky Výzva č.75
B6: Názov projektu: | C6: SOŠ drevárska vo Zvolene – inovatívne vzdelávacie centrum excelentnosti
B7: Identifikačné údaje uchádzača (obchodné meno, adresa, IČO): | C7: Vyplní uchádzač
B8: Kontaktná osoba, telefónne číslo, e-mail | C8: Vyplní uchádzač
B10: Celková cena za celý predmet zákazky v EUR bez DPH: | C10: ='Drevársky Innolab'!C541+'Hi-tech učebne'!C370+'Prezentačná miestnosť'!C136 -> 0
B11: DPH (v EUR): | C11: =C10*0.23 -> 0
B12: Celková cena za celý predmet zákazky v EUR s DPH (Návrh uchádzača na plnenie kritérií/Cenová ponuka): | C12: =C10+C11 -> 0
B14: Cena stanovená za predmet zákazky obsahuje všetky náklady súvisiace s predmetom obstarávania v súlade s opisom predmetu zákazky (technickou špecifikáciou). Verejnému obstarávateľovi nevzniknú žiadne iné dodatočné náklady.
B16: Uchádzač vyhlasuje a predložením svojej ponuky potvrdzuje, že ním ponúkaný tovar spĺňa požiadavky na predmet zákazky uvedené v prílohe č. 2 SP - Technická špecifikácia a cenová kalkulácia/Návrh na plnenie kritéria.
B18: V prípade, ak uchádzač je zdaniteľnou osobou pre DPH, uvedie v časti „Celková cena za predmet zákazky v EUR s DPH“ sumu z časti „Celková cena za predmet zákazky v EUR bez DPH“ navýšenú o aktuálne platnú sadzbu DPH.
B19: V prípade, ak uchádzač nie je zdaniteľnou osobou pre DPH, uvedie v časti „Celková cena za predmet zákazky v EUR s DPH“ rovnakú sumu ako uviedol v časti „Celková cena za predmet zákazky v EUR bez DPH“.
B20: V prípade, ak je uchádzač zahraničnou osobou, uvedie v časti „Celková cena za predmet zákazky v EUR s DPH“ sumu z časti „Celková cena za predmet zákazky v EUR bez DPH“ (bez DPH platnej v krajine sídla uchádzača) navýšenú o aktuálne platnú sadzbu DPH v SR (DPH odvádza v prípade úspešnosti jeho ponuky verejný obstarávateľ).
B21: Vyžltené polia vypĺňa uchádzač
B23: V: | D23: Meno a priezvisko, funkcia oprávnenej osoby a podpis štatutárneho zástupcu alebo osoby oprávnennej konať za uchádzača
B24: Dátum:
B28: Poznámka: - dátum musí byť aktuálny vo vzťahu ku dňu uplynutia lehoty na predkladanie ponúk; - návrh uchádzača na plnenie kritérií/cenová ponuka musí byť v zmysle SP vložený/á do systému JOSEPHINE vo formáte .pdf a .xlx/.xlxs“; - uchádzač zaokrúhli svoje návrhy v zmysle matematických pravidiel na 2 desatinné miesta. - všetky uvedené technické parametre, materiálové vlastnosti a konštrukčné riešenia predstavujú minimálne požiadavky verejného obstarávateľa. Uchádzač môže ponúknuť plnenie s vyššími, rozšírenými alebo nadštandardnými úžitkovými, materiálovými či konštrukčnými parametrami, za predpokladu zachovania požadovanej funkčnosti a účelu využitia.

Sheet Drevársky Innolab
B1: Príloha č. 1 SP_Technická špecifikácia a cenová kalkulácia/Návrh na plnenie kritériá
C3: Technická špecifikácia a cenová kalkulácia/Návrh na plnenie kritéria
B5: Predmet/názov zákazky: | C5: SOŠ drevárska ZV Interiérové prvky Výzva č.75
B6: Názov projektu: | C6: SOŠ drevárska vo Zvolene – inovatívne vzdelávacie centrum excelentnosti
B7: Identifikačné údaje uchádzača (obchodné meno, adresa, IČO): | C7: =Sumár!C7 -> Vyplní uchádzač
B8: Kontaktná osoba, telefónne číslo, e-mail | C8: =Sumár!C8 -> Vyplní uchádzač
B9: Uchádzač vyhlasuje, že JE/NIE JE platiteľom DPH. (Uchádzač vyznačí/vyberie relevantnú možnosť)
B10: Uchádzač vyplní bunky označené žltou farbou .
B11: Upozornenie: Verejný obstarávateľ požaduje v rámci každého predmetu zákazky aj - dovoz, montáž, inštaláciu (tam, kde je to relevantné), zaškolenie (tam, kde je to relevantné). Sumu na uvedené služby zohľadní uchádzač vo svojej celkovej ponukovej cene, nakoľko tieto služby nie sú samostatnou položkou technickej špecifikácie a cenovej kalkulácie. Uchádzač je povinný uviesť názov a typové označenie výrobku.
B13: HA1 - DREVÁRSKY INNOLAB
B14: 1.1 Nábytok pre kreatívne učebné zony | G14: Doplní uchádzač
B15: Položka 1: Študentský stôl - jednomiestny | G15: Označenie (výrobná značka,typ,model) ponúkaného tovaru: doplní uchádzač
A16: P.č. | B16: Požadované technické parametre a vybavenie | C16: Merná jednotka parametra | D16: Požiadavka | G16: Uchádzačom ponúknuté parametre (uchádzač uvedie ku každej položke/parametru hodnotu/funkcionalitu ponúkaného produktu, t.j. opis vlastností produktu tak, aby bolo možné posúdiť splnenie požiadaviek na daný produkt)
D17: minimálne | E17: maximálne | F17: Doplňujúce informácie *
A19: 1. | B19: Rozmery pracovnej dosky - šírka | C19: mm | D19: 500 | E19: 600
A20: 2. | B20: Rozmery pracovnej dosky - dĺžka | C20: mm | D20: 700 | E20: 800
A21: 3. | B21: Rozsah nastavenia výšky stola | C21: mm | D21: 685 | E21: 1180
A22: 4 | B22: Zdvih | C22: mm | D22: 495 | E22: 590
A23: 5 | B23: Konštrukcia - oceľová, elektricky nastaviteľná | F23: požaduje sa
A24: 6 | B24: Materiál pracovnej dosky: Laminát | F24: požaduje sa
A25: 7 | B25: Hrúbka pracovnej dosky | C25: mm | D25: 18 | E25: 25
A26: 8 | B26: Možnosť výberu farebného prevedenia - doska | F26: biela / šedá / čierna / dub / breza
A27: 9 | B27: Typ výsuvu: elektrický motor | C27: ks | E27: 1 | F27: požaduje sa
A28: 10 | B28: Hmotnosť | C28: kg | D28: 25 | E28: 27
A29: 11 | B29: Nosnosť | C29: kg | D29: 65 | E29: 70
A30: 12 | B30: Ovládanie vertikálneho pohybu - zdvih: tlačidlá posunu HORE/DOLE | F30: požaduje sa
A31: 13 | B31: Podnož z ocele - stabilné riešenie s centrálnou podnožou | F31: požaduje sa
A32: 14 | B32: Povrchová úprava ocelovej konštrukcie práškovou farbou | F32: požaduje sa
A33: 15 | B33: Možnosť výberu farebného prevedenia - oceľovej konštrukcie | F33: biela / strieborná / čierna
A34: 16 | B34: Pracovisko musí obsahovať aj USB porty a nabíjacie konektory a vstavaný káblový manažment: Zásuvkový box TYP VI - výklopný, 2x zásuvka, VGA, HDMI, USB DATA, 2x RJ45 port | F34: požaduje sa
B35: ilustračný obrázok
B36: #VALUE!
B38: Požadovaný počet kusov: | C38: 12
B39: Cena za 1 kus v EUR bez DPH:
B40: Celková cena v EUR bez DPH: | C40: =C38*C39 -> 0
B41: DPH: | C41: =C40*0.23 -> 0
B42: Celková cena v EUR s DPH: | C42: =C40+C41 -> 0
G45: Doplní uchádzač
B46: Položka 2: Štududenstská stolička - ergonomická | G46: Označenie (výrobná značka, typ, model) ponúkaného tovaru: doplní uchádzač
A47: P.č. | B47: Požadované technické parametre a vybavenie | C47: Merná jednotka parametra | D47: Požiadavka | G47: Uchádzačom ponúknuté parametre (uchádzač uvedie ku každej položke/parametru hodnotu/funkcionalitu ponúkaného produktu, t.j. opis vlastností produktu tak, aby bolo možné posúdiť splnenie požiadaviek na daný produkt)
...

Sheet Hi-tech učebne
B1: Príloha č. 1 SP_Technická špecifikácia a cenová kalkulácia/Návrh na plnenie kritériá
C3: Technická špecifikácia a cenová kalkulácia/Návrh na plnenie kritéria
B5: Predmet/názov zákazky: | C5: SOŠ drevárska ZV Interiérové prvky Výzva č.75
B6: Názov projektu: | C6: SOŠ drevárska vo Zvolene – inovatívne vzdelávacie centrum excelentnosti
B7: Identifikačné údaje uchádzača (obchodné meno, adresa, IČO): | C7: =Sumár!C7 -> Vyplní uchádzač
B8: Kontaktná osoba, telefónne číslo, e-mail | C8: =Sumár!C8 -> Vyplní uchádzač
B9: Uchádzač vyhlasuje, že JE/NIE JE platiteľom DPH. (Uchádzač vyznačí/vyberie relevantnú možnosť)
B10: Uchádzač vyplní bunky označené žltou farbou .
B11: Upozornenie: Verejný obstarávateľ požaduje v rámci každého predmetu zákazky aj - dovoz, montáž, inštaláciu (tam, kde je to relevantné), zaškolenie (tam, kde je to relevantné). Sumu na uvedené služby zohľadní uchádzač vo svojej celkovej ponukovej cene, nakoľko tieto služby nie sú samostatnou položkou technickej špecifikácie a cenovej kalkulácie. Uchádzač je povinný uviesť názov a typové označenie výrobku.
B13: HA2 - HI-TECH UČEBNE
B14: 2.1 Učiteľská pracovná stanica | G14: Doplní uchádzač
B15: Položka 21: Učiteľský stôl | G15: Označenie (výrobná značka,typ,model) ponúkaného tovaru: doplní uchádzač
A16: P.č. | B16: Požadované technické parametre a vybavenie | C16: Merná jednotka parametra | D16: Požiadavka | G16: Uchádzačom ponúknuté parametre (uchádzač uvedie ku každej položke/parametru hodnotu/funkcionalitu ponúkaného produktu, t.j. opis vlastností produktu tak, aby bolo možné posúdiť splnenie požiadaviek na daný produkt)
D17: minimálne | E17: maximálne | F17: Doplňujúce informácie *
A19: 1. | B19: Rozmery pracovnej dosky - šírka | C19: mm | D19: 700 | E19: 800
A20: 2. | B20: Rozmery pracovnej dosky - dĺžka | C20: mm | D20: 1300 | E20: 1600
A21: 3. | B21: Rozsah nastavenia výšky stola | C21: mm | D21: 620 | E21: 1270
A22: 4 | B22: Zdvih | C22: mm | D22: 620 | E22: 650
A23: 5 | B23: Konštrukcia - oceľová, elektricky nastaviteľná | F23: požaduje sa
A24: 6 | B24: Materiál pracovnej dosky: Laminát | F24: požaduje sa
A25: 7 | B25: Hrúbka pracovnej dosky s vykrojením | C25: mm | E25: 25 | F25: požaduje sa
A26: 8 | B26: Možnosť výberu farebného prevedenia - doska | F26: biela / šedá / čierna / dub / breza
A27: 9 | B27: Typ výsuvu: elektrický motor | C27: ks | E27: 2 | F27: požaduje sa
A28: 10 | B28: Hmotnosť | C28: kg | D28: 48 | E28: 51
A29: 11 | B29: Nosnosť | C29: kg | D29: 120 | E29: 125
A30: 12 | B30: Hlučnosť | C30: dB | D30: 40 | E30: 50
A31: 13 | B31: Ovládanie vertikálneho pohybu - zdvih: tlačidlá posunu HORE/DOLE | F31: požaduje sa
A32: 14 | B32: Napájacie napätie | C32: V | E32: 230 | F32: Sieťové napájanie
A33: 15 | B33: Podnož - stabilné riešenie | F33: požaduje sa
A34: 16 | B34: Povrchová úprava ocelovej konštrukcie práškovou farbou | F34: požaduje sa
A35: 17 | B35: Možnosť výberu farebného prevedenia - oceľovej konštrukcie | F35: biela / strieborná / čierna
A36: 18 | B36: Požiadavka na bezpečnostné prvky minimálne ochrana proti preťaženiu, detekcia prekážok a núdzové zastavenie | F36: požaduje sa
A37: 19 | B37: Pracovisko musí obsahovať aj USB porty a nabíjacie konektory a vstavaný káblový manažment: Zásuvkový box TYP VI - výklopný, 2x zásuvka, VGA, HDMI, USB DATA, 2x RJ45 port | F37: požaduje sa
B38: ilustračný obrázok
B39: #VALUE!
B41: Požadovaný počet kusov: | C41: 4
B42: Cena za 1 kus v EUR bez DPH:
B43: Celková cena v EUR bez DPH: | C43: =C41*C42 -> 0
B44: DPH: | C44: =C43*0.23 -> 0
B45: Celková cena v EUR s DPH: | C45: =C43+C44 -> 0
...

Sheet Prezentačná miestnosť
B1: Príloha č. 1 SP_Technická špecifikácia a cenová kalkulácia/Návrh na plnenie kritériá
C3: Technická špecifikácia a cenová kalkulácia/Návrh na plnenie kritéria
B5: Predmet/názov zákazky: | C5: SOŠ drevárska ZV Interiérové prvky Výzva č.75
B6: Názov projektu: | C6: SOŠ drevárska vo Zvolene – inovatívne vzdelávacie centrum excelentnosti
B7: Identifikačné údaje uchádzača (obchodné meno, adresa, IČO): | C7: =Sumár!C7 -> Vyplní uchádzač
B8: Kontaktná osoba, telefónne číslo, e-mail | C8: =Sumár!C8 -> Vyplní uchádzač
B9: Uchádzač vyhlasuje, že JE/NIE JE platiteľom DPH. (Uchádzač vyznačí/vyberie relevantnú možnosť)
B10: Uchádzač vyplní bunky označené žltou farbou. POZNÁMKA k vypracovaniu opisu: Opis predmetu zákazky musí byť vypracovaný v súlade so zákonom o verejnom obstarávaní, nesmie sa odkazovať na konkrétne produkty a výrobcov, parametre by mali byť špecifikované ako minimálne požiadavky na predmet zákazky, t.j. minimálne hodnoty/maximálne hodnoty/rozpätie hodnôt. Každá požiadavka musí byť relevantne odôvodniteľná. Je potrebné uvádzať také parametre, ktoré zabezpečia účel, na ktorý má byť daný tovar používaný. Parametre, ktoré sú nepodstatné nie je potrebné uvádzať.
B11: Uchádzač doplní údaje – potvrdí slovom "áno"/"nie resp. požadovaný parameter
B12: Upozornenie: Verejný obstarávateľ požaduje v rámci každého predmetu zákazky aj - dovoz, montáž, inštaláciu (tam, kde je to relevantné), zaškolenie (tam, kde je to relevantné). Sumu na uvedené služby zohľadní uchádzač vo svojej celkovej ponukovej cene, nakoľko tieto služby nie sú samostatnou položkou technickej špecifikácie a cenovej kalkulácie. Uchádzač je povinný uviesť názov a typové označenie výrobku.
B14: HA4 - PREZENTAČNÁ MIESTNOSŤ
B15: 4.1 Interérové vybavenie miestnosti | G15: Doplní uchádzač
B16: Položka 35: Konferenčná stolička | G16: Označenie (výrobná značka,typ,model) ponúkaného tovaru: doplní uchádzač
A17: P.č. | B17: Požadované technické parametre a vybavenie | C17: Merná jednotka parametra | D17: Požiadavka | G17: Uchádzačom ponúknuté parametre (uchádzač uvedie ku každej položke/parametru hodnotu/funkcionalitu ponúkaného produktu, t.j. opis vlastností produktu tak, aby bolo možné posúdiť splnenie požiadaviek na daný produkt)
D18: minimálne | E18: maximálne | F18: Doplňujúce informácie *
A20: 1 | B20: Stolička s integrovanou písacou doskou | F20: požaduje sa
A21: 2 | B21: Celková výška | C21: mm | D21: 780 | E21: 850
A22: 3 | B22: Celková šírka | C22: mm | D22: 580 | E22: 630
A23: 4 | B23: Výška sedenia | C23: mm | D23: 450 | E23: 460
A24: 5 | B24: Šírka sedáka | C24: mm | D24: 460 | E24: 470
A25: 6 | B25: Hĺbka sedáka | C25: mm | D25: 440 | E25: 460
A26: 7 | B26: Výška sedenia | C26: mm | D26: 450 | E26: 460
A27: 8 | B27: Nosnosť | C27: kg | D27: 110 | E27: 120
A28: 9 | B28: Stohovateľnosť | C28: ks | D28: 4 | E28: 5
A29: 10 | B29: Ukončenie nôh plastovými klzákmi | F29: požaduje sa
A30: 11 | B30: Kovová konštrukcia (napr. oceľová) | F30: požaduje sa
A31: 12 | B31: Povrchová úprava odolná voči opotrebeniu: práškové lakovanie / chrómovanie | F31: požaduje sa
A32: 13 | B32: Čalúnený sedák | F32: požaduje sa
A33: 14 | B33: Nosná škrupinová konštrukcia plast / preglejka | F33: požaduje sa
A34: 15 | B34: Podnož stabilná štvornohá konštrukcia | F34: požaduje sa
A35: 16 | B35: Pevné opierky rúk, kompatibilné so sklopnou - výklopnou písacou doskou. | F35: požaduje sa
A36: 17 | B36: Odolný materiál výklopnej dosky: laminovaná doska / drevo / kompozit, umiestnenie na pravej strane | F36: požaduje sa
A37: 18 | B37: Možnosť spájania do radov / usporiadania do zostáv (ak to konštrukcia umožňuje) | F37: požaduje sa
A38: 19 | B38: Možnosť výberu farebného prevedenia sedáka a škrupiny | F38: šedá / čierna / tmavo zelená / tmavo žltá / svetlo modrá / béžová
B39: ilustračný obrázok
B40: #VALUE!
B42: Požadovaný počet kusov: | C42: 48
B43: Cena za 1 kus v EUR bez DPH:
B44: Celková cena v EUR bez DPH: | C44: =C42*C43 -> 0
B45: DPH: | C45: =C44*0.23 -> 0
...
