Workbook

Sheet Príloha č.1
A1: Názov predmetu zákazky:
A2: Kancelársky kopírovací papier
A4: IDENTIFIKAČNÉ ÚDAJE UCHÁDZAČA
A6: Obchodné meno/názov uchádzača:
A7: Sídlo alebo miesto podnikania :
A8: IČO:
A9: DIČ:
A10: IČ DPH:
A11: Právna forma :
A12: URL :
A13: Zápis uchádzača v Obchodnom registri (označenie Obchodného registra alebo inej evidencie, do ktorej je uchádzač zapísaný podľa právneho poriadku štátu, ktorým sa spravuje, a číslo zápisu alebo údaj o zápise do tohto registra alebo evidencie):
A14: Zoznam osôb oprávnených konať v mene uchádzača :
... A16: Zápis uchádzača v Registri partnerov verejného sektora (uchádzač uvedie číslo vložky zápisu do RPVS):
A17: Uchádzač je MSP : MSP je skratka mikro, malých a stredných podnikov (Mikropodniky: podniky, ktoré zamestnávajú menej ako 10 osôb a ktorých ročný obrat a/alebo celková ročná súvaha neprekračuje 2 milióny EUR Malé podniky: podniky, ktoré zamestnávajú menej ako 50 osôb a ktorých ročný obrat a/alebo celková ročná súvaha neprekračuje 10 miliónov EUR Stredné podniky: podniky, ktoré nie sú mikropodnikmi ani malými podnikmi a ktoré zamestnávajú menej ako 250 osôb a ktorých ročný obrat neprekračuje 50 miliónov EUR a/alebo celková ročná súvaha neprekračuje 43 miliónov EUR) | C17: * uchádzač uvedie do ktorej kategorie patrí
A19: Kontaktná osoba uchádzača - počas procesu VO
A20: Meno a priezvisko:
A21: Telefónne číslo:
A22: E-mail:
A24: Údaje o osobe podľa § 49 ods. 5 ZVO
A25: Meno a priezvisko:
A26: Obchodné meno/názov:
A27: Adresa pobytu/Sídlo alebo miesto podnikania:
A28: IČO:
A29: (vyplní uchádzač , ak je to relevantné)
A31: V .........................................., dňa .................
B33: meno, priezvisko, funkcia oprávnenej osoby
B34: podpis a pečiatka uchádzača
D102: =IF('Príloha č.1'!C8="","",'Príloha č.1'!C8:D8)

Sheet Príloha č.2
A1: Názov predmetu zákazky:
A2: ='Príloha č.1'!A2:D2 -> Kancelársky kopírovací papier
A4: ČESTNÉ VYHLÁSENIE UCHÁDZAČA VO VEREJNOM OBSTARÁVANÍ
A6: Obchodný názov uchádzača: | C6: =IF('Príloha č.1'!$C$6="","",'Príloha č.1'!$C$6)
A7: Sídlo alebo miesto podnikania: | C7: =IF('Príloha č.1'!$C$7="","",'Príloha č.1'!$C$7)
A8: IČO: | C8: =IF('Príloha č.1'!$C$8="","",'Príloha č.1'!$C$8)
A9: DIČ: | C9: =IF('Príloha č.1'!$C$9="","",'Príloha č.1'!$C$9)
A10: IČ DPH:
A12: Ako štatutárny orgán vyššie uvedeného uchádzača týmto čestne vyhlasujem, že ako uchádzač vo verejnom obstarávaní na uvedený predmet zákazky:
A13: ▪ | B13: bezvýhradne súhlasím a plne akceptujem ustanovenia návrhu zmluvy a bezvýhradne súhlasím s podmienkami uvedenými v Oznámení o vyhlásení verejného obstarávania, v týchto súťažných podkladoch a v ostatných dokumentoch poskytnutých verejným obstarávateľom,
A14: ▪ | B14: všetky predložené doklady, dokumenty, vyhlásenia a údaje uvedené v ponuke a predložené s ponukou sú pravdivé a úplné,
A15: ▪ | B15: všetky doklady, dokumenty a vyhlásenia predložené v ponuke, ktoré neboli pôvodne vyhotovené v elektronickej podobe sú zhodné s originálnym vyhotovením, ktoré máme ako uchádzač k dispozícii v listinnej podobe
A16: ▪ | B16: beriem na vedomie, že verejný obstarávateľ zverejní dokumenty a informácie v rozsahu ustanovenom v ZVO a ostatnými všeobecne záväznými právnymi predpismi
B18: V ................................. , dňa ...............................
B19: =IF('Príloha č.1'!B31:B31="","",'Príloha č.1'!B31:B31)
B21: meno, priezvisko, funkcia oprávnenej osoby
C22: podpis a pečiatka uchádzača

Sheet Príloha č.3
A1: Názov predmetu zákazky:
A2: ='Príloha č.1'!A2:D2 -> Kancelársky kopírovací papier
A4: ČESTNÉ VYHLÁSENIE UCHÁDZAČA O NEULOŽENÍ ZÁKAZU ÚČASTI VO VEREJNOM OBSTARÁVANÍ
A6: Obchodný názov uchádzača: | C6: =IF('Príloha č.1'!$C$6="","",'Príloha č.1'!$C$6)
A7: Sídlo uchádzača: | C7: =IF('Príloha č.1'!$C$7="","",'Príloha č.1'!$C$7)
A8: IČO: | C8: =IF('Príloha č.1'!$C$8="","",'Príloha č.1'!$C$8)
A9: DIČ: | C9: =IF('Príloha č.1'!$C$9="","",'Príloha č.1'!$C$9)
A10: IČ DPH:
A12: Týmto vyhlasujem, že:
A13: - | B13: nemám uložený zákaz účasti vo verejnom obstarávaní potvrdený konečným rozhodnutím v Slovenskej republike a v štáte sídla, miesta podnikania alebo obvyklého pobytu.
A15: Zároveň prehlasujem, že som si vedomý následkov nepravdivého čestného vyhlásenia.
A17: V ................................................, dňa ........................
B20: meno, priezvisko, funkcia oprávnenej osoby
C21: podpis a pečiatka uchádzača

Sheet Príloha č. 4
A1: Názov predmetu zákazky:
A2: Kancelársky kopírovací papier
A4: ČESTNÉ VYHLÁSENIE UCHÁDZAČA K UPLATŇOVANIU MEDZINÁRODNÝCH SANKCIÍ
A6: Obchodný názov uchádzača: | C6: =IF('Príloha č.1'!$C$6="","",'Príloha č.1'!$C$6)
A7: Sídlo uchádzača: | C7: =IF('Príloha č.1'!$C$7="","",'Príloha č.1'!$C$7)
A8: IČO: | C8: =IF('Príloha č.1'!$C$8="","",'Príloha č.1'!$C$8)
A9: DIČ: | C9: =IF('Príloha č.1'!$C$9="","",'Príloha č.1'!$C$9)
A10: IČ DPH:
A12: Týmto čestne vyhlasujem(e), že:
B13: v spoločnosti, ktorú zastupujem a ktorá podáva ponuku do predmetného verejného obstarávania a ktorá bude zároveň vykonávať plnenie zákazky, nefiguruje ruská účasť, ktorá prekračuje limity stanovené v článku 5k nariadenia Rady (EÚ) č. 833/2014 z 31. júla 2014 o reštriktívnych opatreniach s ohľadom na konanie Ruska, ktorým destabilizuje situáciu na Ukrajine v znení nariadenia Rady (EÚ) č. 2022/578 z 8. apríla 2022.
A14: Predovšetkým vyhlasujem(e), že:
B15: (a) dodávateľ, ktorého zastupujem (a žiadna zo spoločností, ktoré sú členmi nášho konzorcia), nie je ruským štátnym príslušníkom ani fyzickou alebo právnickou osobou, subjektom alebo orgánom so sídlom v Rusku;
B16: (b) dodávateľ, ktorého zastupujem (a žiadna zo spoločností, ktoré sú členmi nášho konzorcia), nie je právnickou osobou, subjektom alebo orgánom, ktorých vlastnícke práva priamo alebo nepriamo vlastní z viac ako 50 % subjekt uvedený v písmene a) tohto odseku;
B17: (c) ani ja, ani spoločnosť, ktorú zastupujeme, nie sme fyzická alebo právnická osoba, subjekt alebo orgán, ktorý koná v mene alebo na príkaz subjektu uvedeného v písmene a) alebo b) uvedených vyššie;
B18: (d) subdodávatelia, dodávatelia alebo subjekty, na ktorých kapacity sa dodávateľ, ktorého zastupujem spolieha, subjektami uvedenými v písmenách a) až c), nemajú účasť vyššiu ako 10 % hodnoty zákazky.
B19: Zároveň čestne vyhlasujem, že táto ponuka/žiadosť o účasť a realizácia plnenia podľa zmluvy, ktorá bude výsledkom daného verejného obstarávania zo strany hospodárskeho subjektu, ktorý zastupujem, nie je v rozpore so zákonom č. 289/2016 Z. z. o vykonávaní medzinárodných sankcií v znení neskorších predpisov, a teda najmä neporušuje akúkoľvek medzinárodnú sankciu upravenú v akomkoľvek predpise o medzinárodnej sankcii podľa § 2 písm. b) zákona č. 289/2016 Z. z. o vykonávaní medzinárodných sankcií v znení neskorších predpisov.
A20: Súčasne prehlasujem, že som si vedomý následkov nepravdivého čestného vyhlásenia.
A22: V ...................................... , dňa ........................
B25: meno, priezvisko, funkcia oprávnenej osoby
C26: podpis a pečiatka

Sheet Príloha č. 7
A1: Názov predmetu zákazky:
A2: ='Príloha č.1'!A2:D2 -> Kancelársky kopírovací papier
A4: ČESTNÉ VYHLÁSENIE UCHÁDZAČA k splneniu podmienky účasti podľa § 32 ods. 1 písm. a) ZVO v nadväznosti na § 32 ods. 7 a 8 ZVO
A6: Obchodný názov uchádzača: | C6: =IF('Príloha č.1'!$C$6="","",'Príloha č.1'!$C$6)
A7: V zastúpení:
A8: Sídlo uchádzača: | C8: =IF('Príloha č.1'!$C$7="","",'Príloha č.1'!$C$7)
A9: IČO: | C9: =IF('Príloha č.1'!$C$8="","",'Príloha č.1'!$C$8)
A10: DIČ: | C10: =IF('Príloha č.1'!$C$9="","",'Príloha č.1'!$C$9)
A12: ▪ | B12: V zmysle § 32 ods. 1 písm. a) ZVO podmienku účasti musí spĺňať aj iná osoba ako osoba podľa § 32 ods.1 písm. a) ZVO, ak táto osoba má právo za ňu konať, práva spojené s rozhodovaním alebo kontrolou v hospodárskom subjekte, ktorý sa chce zúčastniť verejného obstarávania
A13: ▪ | B13: Za takúto osobu sa považuje osoba, ktorá má rozhodujúci vplyv na činnosť uchádzača alebo záujemcu, jeho strategické ciele alebo významné rozhodnutia prostredníctvom vlastníckeho práva, finančného podielu alebo pravidiel, ktorými sa uchádzač alebo záujemca spravuje, pričom rozhodujúcim vplyvom sa rozumie, ak iná osoba a) vlastní väčšinu akcií alebo väčšinový obchodný podiel u uchádzača alebo záujemcu, b) má väčšinu hlasovacích práv u uchádzača alebo záujemcu, c) má právo vymenúvať alebo odvolávať väčšinu členov štatutárneho orgánu alebo dozorného orgánu uchádzača alebo záujemcu alebo d) má právo vykonávať rozhodujúci vplyv na základe dohody uzavretej s uchádzačom alebo záujemcom alebo na základe spoločenskej zmluvy, zakladateľskej listiny alebo stanov, ak to umožňuje právo štátu, ktorými sa táto osoba riadi.
A14: ▪ | B14: Splnenie podmienky účasti preukazuje uchádzač alebo záujemca verejnému obstarávateľovi predložením čestného vyhlásenia alebo vyhlásenia podľa § 32 ods. 5 ZVO, ak právo štátu uchádzača alebo záujemcu so sídlom, miestom podnikania alebo obvyklým pobytom mimo územia Slovenskej republiky neupravuje inštitút čestného vyhlásenia, ako súčasť ponuky.
A15: V súvislosti s uvedeným verejným obstarávaním a na vyššie uvedené účely, predkladám toto čestné vyhlásenie a zároveň predkladám zoznam osôb podľa § 32 ods.1 písm. a) ZVO a čestne vyhlasujem, že:
B17: nie je mi známa iná osoba podľa § 32 ods. 7 ZVO, ktorá zároveň musí spĺňať podmienky účasti podľa § 32 odseku 1 písm. a) ZVO.
B19: sú mi známe iné osoby podľa § 32 ods. 7 ZVO, ktoré zároveň musia spĺňať podmienky účasti podľa § 32 odseku 1 písm. a) ZVO
B21: Mená osôb, ktoré podľa § 32 odseku 7 ZVO musia spĺňať podmienky účasti podľa § 32 ods. 1 písm. a) ZVO
A26: Čestne vyhlasujem, že vyššie uvedené osoby spĺňajú podmienky účasti podľa § 32 ods. 1 písm. a) ZVO
A29: V ................................................, dňa ........................
B32: meno, priezvisko, funkcia oprávnenej osoby
C33: podpis a pečiatka

Sheet Príloha č. 8
A1: Názov predmetu zákazky:
A2: ='Príloha č.1'!A2:D2 -> Kancelársky kopírovací papier
A4: PLNOMOCENSTVO PRE ČLENA SKUPINY DODÁVATEĽOV
A6: Splnomocniteľ, resp. splnomocnitelia:
A7: Uchádzač uvedie aktuálne a presné znenie obchodného mena, platnú adresu sídla firmy, údaj o zápise, IČO člena skupiny dodávateľov, zastúpený meno/mená a priezvisko/priezviská, trvalý pobyt štatutárneho orgánu/členov štatutárneho orgánu (ak ide o právnickú osobu), meno, priezvisko, miesto podnikania, údaj o zápise, IČO člena skupiny dodávateľov (ak ide o fyzickú osobu), doplniť podľa potreby)
A8: udeľuje/ú splnomocnenie
A9: splnomocnencovi - lídrovi skupiny dodávateľov:
A11: Obchodné meno, sídlo, údaj o zápise, IČO lídra skupiny dodávateľov, zastúpený meno/mená a priezvisko/priezviská, trvalý pobyt štatutárneho orgánu/členov štatutárneho orgánu (ak ide o právnickú osobu), meno, priezvisko, miesto podnikania, údaj o zápise, IČO lídra skupiny (vedúceho skupiny) dodávateľov (ak ide o fyzickú osobu):
A12: na konanie v mene všetkých členov skupiny dodávateľov, prijímanie pokynov vo verejnom obstarávaní na predmet zákazky „Kancelársky kopírovací papier“, na doručovanie dokumentov od verejného obstarávateľa, na konanie v mene skupiny dodávateľov pre prípad prijatia ponuky verejným obstarávateľom, k podpisu dokumentov a dokladov a návrhu zmluvy, predkladaných ako súčasť ponuky, ku komunikácii v procese verejného obstarávania, a to v pozícii lídra skupiny (vedúceho skupiny) dodávateľov.
A14: V ............................., dňa ........... | C14: Podpis: .......................................................................
C15: (meno, priezvisko a funkciu oprávnenej osoby uchádzača)
A18: V ............................., dňa .............. | C18: Podpis: .......................................................................
C19: (meno, priezvisko a funkciu oprávnenej osoby uchádzača)
A22: V ............................., dňa ................ | C22: podpis: ...................................................................
C23: (meno, priezvisko a funkciu oprávnenej osoby uchádzača)
A25: Plnomocenstvo prijímam:
A26: V ..............................., dňa...........................
A27: Poznámka:
A28: ▪ dátum musí byť aktuálny vo vzťahu ku dňu uplynutia lehoty na predkladanie ponúk,
A29: ▪ ak je uchádzačom skupina dodávateľov toto splnomocnenie je súčasťou ponuky.

Sheet Príloha č. 9
A1: Názov predmetu zákazky:
A2: ='Príloha č.1'!A2:D2 -> Kancelársky kopírovací papier
A4: VYHLÁSENIE UCHÁDZAČA KU KONFLIKTU ZÁUJMOV
A6: Obchodný názov uchádzača: | C6: =IF('Príloha č.1'!$C$6="","",'Príloha č.1'!$C$6)
A7: Sídlo alebo miesto podnikania: | C7: =IF('Príloha č.1'!$C$7="","",'Príloha č.1'!$C$7)
A8: IČO: | C8: =IF('Príloha č.1'!$C$8="","",'Príloha č.1'!$C$8)
A9: DIČ: | C9: =IF('Príloha č.1'!$C$9="","",'Príloha č.1'!$C$9)
A10: IČ DPH:
A12: Týmto vyhlasujem, že ako uchádzač vo verejnom obstarávaní na vyššie uvedený predmet zákazky:
A13: ▪ | B13: som nevyvíjal a nebudem vyvíjať voči žiadnej osobe na strane verejného obstarávateľa ktorá je alebo by mohla byť zainteresovaná v zmysle ustanovení § 23 ods. 3 zákona č. 343/2015 Z. z. o verejnom obstarávaní a o zmene a doplnení niektorých zákonov v znení neskorších predpisov („zainteresovaná osoba“) akékoľvek aktivity, ktoré vy mohli viesť k zvýhodneniu nášho postavenia vo verejnom obstarávaní,
A14: ▪ | B14: som neposkytol a neposkytnem akejkoľvek, čo i len potenciálne zainteresovanej osobe priamo alebo nepriamo akúkoľvek finančnú alebo vecnú výhodu ako motiváciu alebo odmenu súvisiacu s týmto verejným obstarávaním,
A15: ▪ | B15: budem bezodkladne informovať verejného obstarávateľa o akejkoľvek situácii, ktorá je považovaná za konflikt záujmov alebo ktorá by mohla viesť ku konfliktu záujmov kedykoľvek v priebehu procesu verejného obstarávania.
A16: ▪ | B16: som sa oboznámil s etickým kódexom záujemcu/uchádzača vo verejnom obstarávaní, ktorý je zverejnený na adrese https://www.uvo.gov.sk/extdoc/13427 a v nadväznosti na uvedené vyhlasujem, so zreteľom na povinnosť uplatňovania princípov rovnakého zaobchádzania, nediskriminácie, transparentnosti, hospodárnosti a efektívnosti, zabezpečovania čestnej hospodárskej súťaže, vykonávania práv a povinností v súlade s dobrými mravmi a so zásadami poctivého obchodného styku, že budem tieto pravidlá aplikovať v rámci daného postupu verejného obstarávania.
B18: V ................................. , dňa ...............................
B19: =IF('Príloha č.1'!B31:B31="","",'Príloha č.1'!B31:B31)
B21: meno, priezvisko, funkcia oprávnenej osoby
C22: podpis a pečiatka uchádzača
