Workbook

Sheet Rekapitulácia stavby
A1: Export Komplet | BA1: 2.0 | BT1: False | BU1: False | BV1: {afbadde8-eebc-408b-970b-bdbe244e94bf}
AR2: >> skryté stĺpce << | BS2: 0,01 | BT2: 23
BS3: 0,01 | BT3: 23
D4: REKAPITULÁCIA STAVBY | AS4: v --- nižšie sa nachádzajú doplnkové a pomocné údaje k zostavám --- v | BS4: 0,001
D5: Kód: | K5: 000-107-NVO | BS5: 0,01
D6: Stavba: | K6: Stavebné úpravy maštale pre voľné ustajnenie HD p.č. 95, N. Ladičkovce | BS6: 0,01
D7: JKSO: | AK7: ČS: | BS7: 0,01
D8: Miesto: | AK8: Dátum: | AN8: 8. 10. 2026 | BS8: 0,01
BS9: 0,01
D10: Objednávateľ: | AK10: IČO: | BS10: 0,01
E11: Rotax Energo s.r.o., Humenné | AK11: IČ DPH: | BS11: 0,01
BS12: 0,01
D13: Zhotoviteľ: | AK13: IČO: | BS13: 0,01
AK14: IČ DPH: | BS14: 0,01
BS15: False
D16: Projektant: | AK16: IČO: | AN16: 47686685 | BS16: False
E17: Ing. Lukáš Pida - Projektovanie stavieb | AK17: IČ DPH: | BS17: True
BS18: 0,01
D19: Spracovateľ: | AK19: IČO: | BS19: 0,01
E20: Ing. Karol Závodský | AK20: IČ DPH: | BS20: True
D22: Poznámka:
D26: Náklady z rozpočtov | AK26: =ROUND(AG94,2) -> 185620.6
D27: Ostatné náklady zo súhrnného listu | AK27: =ROUND(AG97, 2) -> 0
D29: Cena bez DPH | AK29: =ROUND(AK26 + AK27, 2) -> 185620.6
L31: Sadzba dane | W31: Základ dane | AK31: Výška dane
D32: DPH | F32: základná | L32: 0.23 | W32: =ROUND(AZ94 + SUM(CD97), 2) -> 0 | AK32: =ROUND(AV94 + SUM(BY97), 2) -> 0
F33: znížená | L33: 0.23 | W33: =ROUND(BA94 + SUM(CE97), 2) -> 185620.6 | AK33: =ROUND(AW94 + SUM(BZ97), 2) -> 42692.74
F34: zákl. prenesená | L34: 0.23 | W34: =ROUND(BB94 + SUM(CF97), 2) -> 0 | AK34: 0
F35: zníž. prenesená | L35: 0.23 | W35: =ROUND(BC94 + SUM(CG97), 2) -> 0 | AK35: 0
F36: nulová | L36: 0 | W36: =ROUND(BD94 + SUM(CH97), 2) -> 0 | AK36: 0
D38: Cena s DPH | T38: v | X38: EUR | AK38: =SUM(AK29:AK36) -> 228313.34
D49: Projektant | AH49: Spracovateľ
D60: Dátum a podpis: | V60: Pečiatka | AH60: Dátum a podpis: | AM60: Pečiatka
D64: Objednávateľ | AH64: Zhotoviteľ
D75: Dátum a podpis: | V75: Pečiatka | AH75: Dátum a podpis: | AM75: Pečiatka
C82: REKAPITULÁCIA OBJEKTOV STAVBY
C84: Kód: | L84: =K5 -> 000-107-NVO
C85: Stavba: | L85: =K6 -> Stavebné úpravy maštale pre voľné ustajnenie HD p.č. 95, N. Ladičkovce
C87: Miesto: | L87: =IF(K8="","",K8) | AI87: Dátum: | AM87: =IF(AN8= "","",AN8) -> 8. 10. 2026
C89: Objednávateľ: | L89: =IF(E11= "","",E11) -> Rotax Energo s.r.o., Humenné | AI89: Projektant: | AM89: =IF(E17="","",E17) -> Ing. Lukáš Pida - Projektovanie stavieb | AS89: Informatívne údaje z listov zákaziek
C90: Zhotoviteľ: | L90: =IF(E14="","",E14) | AI90: Spracovateľ: | AM90: =IF(E20="","",E20) -> Ing. Karol Závodský
C92: Kód | I92: Popis | AG92: Cena bez DPH [EUR] | AN92: Cena s DPH [EUR] | AQ92: Typ | AS92: z toho Ostat._x000D_ náklady [EUR] | AT92: DPH [EUR] | AU92: Normohodiny [h] | AV92: DPH základná [EUR] | AW92: DPH znížená [EUR] | AX92: DPH základná prenesená_x000D_ [EUR] | AY92: DPH znížená prenesená_x000D_ [EUR] | AZ92: Základňa_x000D_ DPH základná | BA92: Základňa_x000D_ DPH znížená | BB92: Základňa_x000D_ DPH zákl. prenesená | BC92: Základňa_x000D_ DPH zníž. prenesená | BD92: Základňa_x000D_ DPH nulová
C94: 1) Náklady z rozpočtov | AG94: =ROUND(AG95,2) -> 185620.6 | AN94: =SUM(AG94,AT94) -> 228313.34 | AS94: =ROUND(AS95,2) -> 0 | AT94: =ROUND(SUM(AV94:AW94),2) -> 42692.74 | AU94: =ROUND(AU95,5) -> 2.576 | AV94: =ROUND(AZ94*L32,2) -> 0 | AW94: =ROUND(BA94*L33,2) -> 42692.74 | AX94: =ROUND(BB94*L32,2) -> 0 | AY94: =ROUND(BC94*L33,2) -> 0 | AZ94: =ROUND(AZ95,2) -> 0 | BA94: =ROUND(BA95,2) -> 185620.6 | BB94: =ROUND(BB95,2) -> 0 | BC94: =ROUND(BC95,2) -> 0 | BD94: =ROUND(BD95,2) -> 0 | BS94: D | BT94: 0 | BU94: ###NOIMPORT### | BV94: IMPORT | BW94: {afbadde8-eebc-408b-970b-bdbe244e94bf} | BX94: {00000000-0000-0000-0000-000000000000}
A95: / | D95: 01o | J95: Stavebné úpravy maštale pre voľné ustajnenie HD | AG95: ='01o - Stavebné úpravy maš...'!J32 -> 185620.6 | AN95: =SUM(AG95,AT95) -> 228313.34 | AQ95: STA | AS95: 0 | AT95: =ROUND(SUM(AV95:AW95),2) -> 42692.74 | AU95: ='01o - Stavebné úpravy maš...'!P136 -> 2.576 | AV95: ='01o - Stavebné úpravy maš...'!J35 -> 0 | AW95: ='01o - Stavebné úpravy maš...'!J36 -> 42692.74 | AX95: ='01o - Stavebné úpravy maš...'!J37 -> 0 | AY95: ='01o - Stavebné úpravy maš...'!J38 -> 0 | AZ95: ='01o - Stavebné úpravy maš...'!F35 -> 0 | BA95: ='01o - Stavebné úpravy maš...'!F36 -> 185620.6 | BB95: ='01o - Stavebné úpravy maš...'!F37 -> 0 | BC95: ='01o - Stavebné úpravy maš...'!F38 -> 0 | BD95: ='01o - Stavebné úpravy maš...'!F39 -> 0 | BT95: 1 | BV95: IMPORT | BW95: {876eb09e-912a-4caf-847c-91a4c23782a3} | BX95: {afbadde8-eebc-408b-970b-bdbe244e94bf} | CM95: 0
C97: 2) Ostatné náklady zo súhrnného listu | AG97: 0 | AN97: 0 | AS97: Percent. zadanie_x000D_ [% nákladov rozpočtu] | AT97: Zaradenie nákladov | AU97: DPH | AV97: DPH [EUR]
C99: Celkové náklady za stavbu 1) + 2) | AG99: =ROUND(AG94 + AG97, 2) -> 185620.6 | AN99: =ROUND(AN94 + AN97, 2) -> 228313.34

Sheet 01o - Stavebné úpravy maš...
L2: >> skryté stĺpce << | AT2: {876eb09e-912a-4caf-847c-91a4c23782a3}
AT3: 0
D4: KRYCÍ LIST ROZPOČTU | M4: v --- nižšie sa nachádzajú doplnkové a pomocné údaje k zostavám --- v | AT4: False
D6: Stavba:
E7: ='Rekapitulácia stavby'!K6 -> Stavebné úpravy maštale pre voľné ustajnenie HD p.č. 95, N. Ladičkovce
D8: Objekt:
E9: 01o - Stavebné úpravy maštale pre voľné ustajnenie HD
D11: JKSO: | I11: ČS:
D12: Miesto: | I12: Dátum: | J12: ='Rekapitulácia stavby'!AN8 -> 8. 10. 2026
D14: Objednávateľ: | I14: IČO: | J14: =IF('Rekapitulácia stavby'!AN10="","",'Rekapitulácia stavby'!AN10)
E15: =IF('Rekapitulácia stavby'!E11="","",'Rekapitulácia stavby'!E11) -> Rotax Energo s.r.o., Humenné | I15: IČ DPH: | J15: =IF('Rekapitulácia stavby'!AN11="","",'Rekapitulácia stavby'!AN11)
D17: Zhotoviteľ: | I17: IČO: | J17: ='Rekapitulácia stavby'!AN13
E18: ='Rekapitulácia stavby'!E14 | I18: IČ DPH: | J18: ='Rekapitulácia stavby'!AN14
D20: Projektant: | I20: IČO: | J20: 47686685
E21: Ing. Lukáš Pida - Projektovanie stavieb | I21: IČ DPH:
D23: Spracovateľ: | I23: IČO:
E24: Ing. Karol Závodský | I24: IČ DPH:
D26: Poznámka:
D30: Náklady z rozpočtu | J30: =J96 -> 185620.6
D31: Ostatné náklady | J31: =J115 -> 0
D32: Cena bez DPH | J32: =ROUND(J30 + J31, 2) -> 185620.6
F34: Základ dane | I34: Sadzba dane | J34: Výška dane
D35: DPH | E35: základná | F35: =ROUND((SUM(BE115:BE116) + SUM(BE136:BE361)), 2) -> 0 | I35: 0.23 | J35: =ROUND(((SUM(BE115:BE116) + SUM(BE136:BE361))*I35), 2) -> 0
E36: znížená | F36: =ROUND((SUM(BF115:BF116) + SUM(BF136:BF361)), 2) -> 185620.6 | I36: 0.23 | J36: =ROUND(((SUM(BF115:BF116) + SUM(BF136:BF361))*I36), 2) -> 42692.74
E37: zákl. prenesená | F37: =ROUND((SUM(BG115:BG116) + SUM(BG136:BG361)), 2) -> 0 | I37: 0.23 | J37: =0 -> 0
E38: zníž. prenesená | F38: =ROUND((SUM(BH115:BH116) + SUM(BH136:BH361)), 2) -> 0 | I38: 0.23 | J38: =0 -> 0
E39: nulová | F39: =ROUND((SUM(BI115:BI116) + SUM(BI136:BI361)), 2) -> 0 | I39: 0 | J39: =0 -> 0
D41: Cena s DPH | G41: v | H41: EUR | J41: =SUM(J32:J39) -> 228313.34
D50: Projektant | G50: Spracovateľ
D61: Dátum a podpis: | F61: Pečiatka | G61: Dátum a podpis: | J61: Pečiatka
D65: Objednávateľ | G65: Zhotoviteľ
D76: Dátum a podpis: | F76: Pečiatka | G76: Dátum a podpis: | J76: Pečiatka
C82: REKAPITULÁCIA ROZPOČTU
C84: Stavba:
E85: =E7 -> Stavebné úpravy maštale pre voľné ustajnenie HD p.č. 95, N. Ladičkovce
C86: Objekt:
E87: =E9 -> 01o - Stavebné úpravy maštale pre voľné ustajnenie HD
C89: Miesto: | F89: =F12 | I89: Dátum: | J89: =IF(J12="","",J12) -> 8. 10. 2026
C91: Objednávateľ: | F91: =E15 -> Rotax Energo s.r.o., Humenné | I91: Projektant: | J91: =E21 -> Ing. Lukáš Pida - Projektovanie stavieb
C92: Zhotoviteľ: | F92: =IF(E18="","",E18) | I92: Spracovateľ: | J92: =E24 -> Ing. Karol Závodský
C94: Kód dielu - Popis | J94: Cena celkom [EUR]
C96: 1) Náklady z rozpočtu | J96: =J136 -> 185620.6 | AU96: -1
D97: HSV - Práce a dodávky HSV | J97: =J137 -> 69909.73
D98: 1 - Zemné práce | J98: =J138 -> 3308.15
D99: 2 - Zakladanie | J99: =J157 -> 13677.15
D100: 3 - Zvislé a kompletné konštrukcie | J100: =J177 -> 16050.76
D101: 6 - Úpravy povrchov, podlahy, osadenie | J101: =J198 -> 32898.01
D102: 9 - Ostatné konštrukcie a práce | J102: =J222 -> 1477.98
D103: 99 - Presun hmôt HSV | J103: =J226 -> 2497.68
D104: PSV - Práce a dodávky PSV | J104: =J228 -> 110518.67
D105: 762 - Konštrukcie tesárske | J105: =J229 -> 10618.48
D106: 764 - Konštrukcie klampiarske | J106: =J238 -> 6040.8
D107: 767 - Konštrukcie doplnkové kovové | J107: =J247 -> 91570.47
D108: 783 - Nátery | J108: =J302 -> 2288.92
D109: M - Práce a dodávky M | J109: =J307 -> 5192.2
D110: 21-M - Elektromontáže | J110: =J308 -> 1509.29
D111: OST - Kanalizácia | J111: =J334 -> 1770.49
D112: 8 - Rúrové vedenie | J112: =J350 -> 1912.42
C115: 2) Ostatné náklady | J115: 0 | N115: DPH
C117: Celkové náklady za stavbu 1) + 2) | J117: =ROUND(J96+J115,2) -> 185620.6
C123: ROZPOČET
C125: Stavba:
E126: =E7 -> Stavebné úpravy maštale pre voľné ustajnenie HD p.č. 95, N. Ladičkovce
C127: Objekt:
E128: =E9 -> 01o - Stavebné úpravy maštale pre voľné ustajnenie HD
C130: Miesto: | F130: =F12 | I130: Dátum: | J130: =IF(J12="","",J12) -> 8. 10. 2026
C132: Objednávateľ: | F132: =E15 -> Rotax Energo s.r.o., Humenné | I132: Projektant: | J132: =E21 -> Ing. Lukáš Pida - Projektovanie stavieb
C133: Zhotoviteľ: | F133: =IF(E18="","",E18) | I133: Spracovateľ: | J133: =E24 -> Ing. Karol Závodský
C135: PČ | D135: Typ | E135: Kód | F135: Popis | G135: MJ | H135: Množstvo | I135: J.cena [EUR] | J135: Cena celkom [EUR] | K135: Cenová sústava | N135: DPH | O135: J. Nh [h] | P135: Nh celkom [h] | Q135: J. hmotnosť [t] | R135: Hmotnosť celkom [t] | S135: J. suť [t] | T135: Suť Celkom [t]
C136: Náklady z rozpočtu | J136: =BK136 -> 185620.6 | P136: =P137+P228+P307 -> 2.576 | R136: =R137+R228+R307 -> 1252.9997 | T136: =T137+T228+T307 -> 26.01 | AT136: D | AU136: -1 | BK136: =BK137+BK228+BK307 -> 185620.6
D137: D | E137: HSV | F137: Práce a dodávky HSV | J137: =BK137 -> 69909.73 | P137: =P138+P157+P177+P198+P222+P226 -> 0 | R137: =R138+R157+R177+R198+R222+R226 -> 1189.3735 | T137: =T138+T157+T177+T198+T222+T226 -> 0 | AR137: 1 | AT137: D | AU137: 0 | AY137: ROZPOCET | BK137: =BK138+BK157+BK177+BK198+BK222+BK226 -> 69909.73
D138: D | E138: 1 | F138: Zemné práce | J138: =BK138 -> 3308.15 | P138: =SUM(P139:P156) -> 0 | R138: =SUM(R139:R156) -> 0 | T138: =SUM(T139:T156) -> 0 | AR138: 1 | AT138: D | AU138: 1 | AY138: ROZPOCET | BK138: =SUM(BK139:BK156) -> 3308.15
C139: 1 | D139: K | E139: 111101101.S | F139: Odstránenie travín a tŕstia s príp. premiestnením a uložením na hromady do 50 m, pri celkovej ploche do 1000m2 | G139: m2 | H139: 820 | I139: 0.2 | J139: =ROUND(I139*H139,2) -> 164 | N139: znížená | O139: 0 | P139: =O139*H139 -> 0 | Q139: 0 | R139: =Q139*H139 -> 0 | S139: 0 | T139: =S139*H139 -> 0 | AR139: 4 | AT139: K | AU139: 2 | AY139: ROZPOCET | BE139: =IF(N139="základná",J139,0) -> 0 | BF139: =IF(N139="znížená",J139,0) -> 164 | BG139: =IF(N139="zákl. prenesená",J139,0) -> 0 | BH139: =IF(N139="zníž. prenesená",J139,0) -> 0 | BI139: =IF(N139="nulová",J139,0) -> 0 | BJ139: 2 | BK139: =ROUND(I139*H139,2) -> 164 | BL139: 4 | BM139: 2
D140: VV | F140: 80*(7+1)+12*(5+10) | H140: 820 | AT140: VV | AU140: 2 | AV140: 2 | AW140: True | AX140: 0 | AY140: ROZPOCET
D141: VV | F141: Súčet | H141: 820 | AT141: VV | AU141: 2 | AV141: 4 | AW141: True | AX141: 1 | AY141: ROZPOCET
C142: 2 | D142: K | E142: 121101112.S | F142: Odstránenie ornice s premiestn. na hromady, so zložením na vzdialenosť do 100 m a do 1000 m3 | G142: m3 | H142: 328 | I142: 1.13 | J142: =ROUND(I142*H142,2) -> 370.64 | N142: znížená | O142: 0 | P142: =O142*H142 -> 0 | Q142: 0 | R142: =Q142*H142 -> 0 | S142: 0 | T142: =S142*H142 -> 0 | AR142: 4 | AT142: K | AU142: 2 | AY142: ROZPOCET | BE142: =IF(N142="základná",J142,0) -> 0 | BF142: =IF(N142="znížená",J142,0) -> 370.64 | BG142: =IF(N142="zákl. prenesená",J142,0) -> 0 | BH142: =IF(N142="zníž. prenesená",J142,0) -> 0 | BI142: =IF(N142="nulová",J142,0) -> 0 | BJ142: 2 | BK142: =ROUND(I142*H142,2) -> 370.64 | BL142: 4 | BM142: 4
D143: VV | F143: 820*0,4 | H143: 328 | AT143: VV | AU143: 2 | AV143: 2 | AW143: True | AX143: 0 | AY143: ROZPOCET
D144: VV | F144: Súčet | H144: 328 | AT144: VV | AU144: 2 | AV144: 4 | AW144: True | AX144: 1 | AY144: ROZPOCET
C145: 3 | D145: K | E145: 132201102.S | F145: Výkop ryhy do šírky 600 mm v horn.3 nad 100 m3 | G145: m3 | H145: 79.079 | I145: 18.6 | J145: =ROUND(I145*H145,2) -> 1470.87 | N145: znížená | O145: 0 | P145: =O145*H145 -> 0 | Q145: 0 | R145: =Q145*H145 -> 0 | S145: 0 | T145: =S145*H145 -> 0 | AR145: 4 | AT145: K | AU145: 2 | AY145: ROZPOCET | BE145: =IF(N145="základná",J145,0) -> 0 | BF145: =IF(N145="znížená",J145,0) -> 1470.87 | BG145: =IF(N145="zákl. prenesená",J145,0) -> 0 | BH145: =IF(N145="zníž. prenesená",J145,0) -> 0 | BI145: =IF(N145="nulová",J145,0) -> 0 | BJ145: 2 | BK145: =ROUND(I145*H145,2) -> 1470.87 | BL145: 4 | BM145: 6
D146: VV | F146: 65,6*2*0,5*1,1 | H146: 72.16 | AT146: VV | AU146: 2 | AV146: 2 | AW146: True | AX146: 0 | AY146: ROZPOCET
D147: VV | F147: (10,08+2,5)*0,5*1,1 | H147: 6.919 | AT147: VV | AU147: 2 | AV147: 2 | AW147: True | AX147: 0 | AY147: ROZPOCET
D148: VV | F148: Súčet | H148: 79.079 | AT148: VV | AU148: 2 | AV148: 4 | AW148: True | AX148: 1 | AY148: ROZPOCET
C149: 4 | D149: K | E149: 132201109.S | F149: Príplatok k cene za lepivosť pri hĺbení rýh šírky do 600 mm zapažených i nezapažených s urovnaním dna v hornine 3 | G149: m3 | H149: 23.724 | I149: 8.6 | J149: =ROUND(I149*H149,2) -> 204.03 | N149: znížená | O149: 0 | P149: =O149*H149 -> 0 | Q149: 0 | R149: =Q149*H149 -> 0 | S149: 0 | T149: =S149*H149 -> 0 | AR149: 4 | AT149: K | AU149: 2 | AY149: ROZPOCET | BE149: =IF(N149="základná",J149,0) -> 0 | BF149: =IF(N149="znížená",J149,0) -> 204.03 | BG149: =IF(N149="zákl. prenesená",J149,0) -> 0 | BH149: =IF(N149="zníž. prenesená",J149,0) -> 0 | BI149: =IF(N149="nulová",J149,0) -> 0 | BJ149: 2 | BK149: =ROUND(I149*H149,2) -> 204.03 | BL149: 4 | BM149: 8
D150: VV | F150: 79,079*0,3 | H150: 23.724 | AT150: VV | AU150: 2 | AV150: 2 | AW150: True | AX150: 0 | AY150: ROZPOCET
D151: VV | F151: Súčet | H151: 23.724 | AT151: VV | AU151: 2 | AV151: 4 | AW151: True | AX151: 1 | AY151: ROZPOCET
C152: 5 | D152: K | E152: 162201102.S | F152: Vodorovné premiestnenie výkopku z horniny 1-4 nad 20-50m | G152: m3 | H152: 407.079 | I152: 1.5 | J152: =ROUND(I152*H152,2) -> 610.62 | N152: znížená | O152: 0 | P152: =O152*H152 -> 0 | Q152: 0 | R152: =Q152*H152 -> 0 | S152: 0 | T152: =S152*H152 -> 0 | AR152: 4 | AT152: K | AU152: 2 | AY152: ROZPOCET | BE152: =IF(N152="základná",J152,0) -> 0 | BF152: =IF(N152="znížená",J152,0) -> 610.62 | BG152: =IF(N152="zákl. prenesená",J152,0) -> 0 | BH152: =IF(N152="zníž. prenesená",J152,0) -> 0 | BI152: =IF(N152="nulová",J152,0) -> 0 | BJ152: 2 | BK152: =ROUND(I152*H152,2) -> 610.62 | BL152: 4 | BM152: 10
D153: VV | F153: 328+79,079 | H153: 407.079 | AT153: VV | AU153: 2 | AV153: 2 | AW153: True | AX153: 0 | AY153: ROZPOCET
D154: VV | F154: Súčet | H154: 407.079 | AT154: VV | AU154: 2 | AV154: 4 | AW154: True | AX154: 1 | AY154: ROZPOCET
C155: 6 | D155: K | E155: 171201202.S | F155: Uloženie sypaniny na skládky nad 100 do 1000 m3 | G155: m3 | H155: 407.079 | I155: 0.79 | J155: =ROUND(I155*H155,2) -> 321.59 | N155: znížená | O155: 0 | P155: =O155*H155 -> 0 | Q155: 0 | R155: =Q155*H155 -> 0 | S155: 0 | T155: =S155*H155 -> 0 | AR155: 4 | AT155: K | AU155: 2 | AY155: ROZPOCET | BE155: =IF(N155="základná",J155,0) -> 0 | BF155: =IF(N155="znížená",J155,0) -> 321.59 | BG155: =IF(N155="zákl. prenesená",J155,0) -> 0 | BH155: =IF(N155="zníž. prenesená",J155,0) -> 0 | BI155: =IF(N155="nulová",J155,0) -> 0 | BJ155: 2 | BK155: =ROUND(I155*H155,2) -> 321.59 | BL155: 4 | BM155: 12
C156: 7 | D156: K | E156: 181201101.S | F156: Úprava pláne v násypoch v hornine 1-4 bez zhutnenia | G156: m2 | H156: 520 | I156: 0.32 | J156: =ROUND(I156*H156,2) -> 166.4 | N156: znížená | O156: 0 | P156: =O156*H156 -> 0 | Q156: 0 | R156: =Q156*H156 -> 0 | S156: 0 | T156: =S156*H156 -> 0 | AR156: 4 | AT156: K | AU156: 2 | AY156: ROZPOCET | BE156: =IF(N156="základná",J156,0) -> 0 | BF156: =IF(N156="znížená",J156,0) -> 166.4 | BG156: =IF(N156="zákl. prenesená",J156,0) -> 0 | BH156: =IF(N156="zníž. prenesená",J156,0) -> 0 | BI156: =IF(N156="nulová",J156,0) -> 0 | BJ156: 2 | BK156: =ROUND(I156*H156,2) -> 166.4 | BL156: 4 | BM156: 14
D157: D | E157: 2 | F157: Zakladanie | J157: =BK157 -> 13677.15 | P157: =SUM(P158:P176) -> 0 | R157: =SUM(R158:R176) -> 485.69894 | T157: =SUM(T158:T176) -> 0 | AR157: 1 | AT157: D | AU157: 1 | AY157: ROZPOCET | BK157: =SUM(BK158:BK176) -> 13677.15
C158: 8 | D158: K | E158: 271573001.S | F158: Násyp pod základové konštrukcie so zhutnením zo štrkopiesku fr.0-32 mm | G158: m3 | H158: 170.914 | I158: 28.45 | J158: =ROUND(I158*H158,2) -> 4862.5 | N158: znížená | O158: 0 | P158: =O158*H158 -> 0 | Q158: 2.07 | R158: =Q158*H158 -> 353.79198 | S158: 0 | T158: =S158*H158 -> 0 | AR158: 4 | AT158: K | AU158: 2 | AY158: ROZPOCET | BE158: =IF(N158="základná",J158,0) -> 0 | BF158: =IF(N158="znížená",J158,0) -> 4862.5 | BG158: =IF(N158="zákl. prenesená",J158,0) -> 0 | BH158: =IF(N158="zníž. prenesená",J158,0) -> 0 | BI158: =IF(N158="nulová",J158,0) -> 0 | BJ158: 2 | BK158: =ROUND(I158*H158,2) -> 4862.5 | BL158: 4 | BM158: 16
D159: VV | F159: 65,6*2*0,5*0,1 | H159: 6.56 | AT159: VV | AU159: 2 | AV159: 2 | AW159: True | AX159: 0 | AY159: ROZPOCET
D160: VV | F160: (10,08+2,5)*0,5*0,15 | H160: 0.944 | AT160: VV | AU160: 2 | AV160: 2 | AW160: True | AX160: 0 | AY160: ROZPOCET
D161: VV | F161: 65,6*7*0,20 | H161: 91.84 | AT161: VV | AU161: 2 | AV161: 2 | AW161: True | AX161: 0 | AY161: ROZPOCET
D162: VV | F162: 65,6*1*0,20 | H162: 13.12 | AT162: VV | AU162: 2 | AV162: 2 | AW162: True | AX162: 0 | AY162: ROZPOCET
D163: VV | F163: (5+10,08)*19,38*0,20 | H163: 58.45 | AT163: VV | AU163: 2 | AV163: 2 | AW163: True | AX163: 0 | AY163: ROZPOCET
D164: VV | F164: Súčet | H164: 170.914 | AT164: VV | AU164: 2 | AV164: 4 | AW164: True | AX164: 1 | AY164: ROZPOCET
C165: 9 | D165: K | E165: 274321312.S | F165: Betón základových pásov, železový (bez výstuže), tr. C 20/25 | G165: m3 | H165: 57.282 | I165: 105.2 | J165: =ROUND(I165*H165,2) -> 6026.07 | N165: znížená | O165: 0 | P165: =O165*H165 -> 0 | Q165: 2.2589982 | R165: =Q165*H165 -> 129.39993 | S165: 0 | T165: =S165*H165 -> 0 | AR165: 4 | AT165: K | AU165: 2 | AY165: ROZPOCET | BE165: =IF(N165="základná",J165,0) -> 0 | BF165: =IF(N165="znížená",J165,0) -> 6026.07 | BG165: =IF(N165="zákl. prenesená",J165,0) -> 0 | BH165: =IF(N165="zníž. prenesená",J165,0) -> 0 | BI165: =IF(N165="nulová",J165,0) -> 0 | BJ165: 2 | BK165: =ROUND(I165*H165,2) -> 6026.07 | BL165: 4 | BM165: 18
D166: VV | F166: 65,6*2*0,5*0,85 | H166: 55.76 | AT166: VV | AU166: 2 | AV166: 2 | AW166: True | AX166: 0 | AY166: ROZPOCET
...
