Workbook

Sheet Rekapitulácia stavby
A1: Export Komplet | BA1: 2.0 | BT1: False | BU1: False | BV1: {b85e82ce-54c2-494e-b3e0-d4e520a234b8}
AR2: >> skryté stĺpce << | BS2: 0,01 | BT2: 23
BS3: 0,01 | BT3: 23
D4: REKAPITULÁCIA STAVBY | AS4: v --- nižšie sa nachádzajú doplnkové a pomocné údaje k zostavám --- v | BS4: 0,001
D5: Kód: | K5: 000-102-NVO | BS5: 0,01
D6: Stavba: | K6: Stavebné úpravy silážnej jamy č.1, Nižné Ladičkovce | BS6: 0,01
D7: JKSO: | AK7: ČS: | BS7: 0,01
D8: Miesto: | AK8: Dátum: | AN8: 6. 10. 2026 | BS8: 0,01
BS9: 0,01
D10: Objednávateľ: | AK10: IČO: | BS10: 0,01
E11: Rotax Energo s.r.o. | AK11: IČ DPH: | BS11: 0,01
BS12: 0,01
D13: Zhotoviteľ: | AK13: IČO: | BS13: 0,01
AK14: IČ DPH: | BS14: 0,01
BS15: False
D16: Projektant: | AK16: IČO: | AN16: 47686685 | BS16: False
E17: Ing. Lukáš Pida - Projektovanie stavieb | AK17: IČ DPH: | BS17: True
BS18: 0,01
D19: Spracovateľ: | AK19: IČO: | BS19: 0,01
E20: Ing. Karol Závodský | AK20: IČ DPH: | BS20: True
D22: Poznámka:
D26: Náklady z rozpočtov | AK26: =ROUND(AG94,2) -> 0
D27: Ostatné náklady zo súhrnného listu | AK27: =ROUND(AG97, 2) -> 0
D29: Cena bez DPH | AK29: =ROUND(AK26 + AK27, 2) -> 0
L31: Sadzba dane | W31: Základ dane | AK31: Výška dane
D32: DPH | F32: základná | L32: 0.23 | W32: =ROUND(AZ94 + SUM(CD97), 2) -> 0 | AK32: =ROUND(AV94 + SUM(BY97), 2) -> 0
F33: znížená | L33: 0.23 | W33: =ROUND(BA94 + SUM(CE97), 2) -> 0 | AK33: =ROUND(AW94 + SUM(BZ97), 2) -> 0
F34: zákl. prenesená | L34: 0.23 | W34: =ROUND(BB94 + SUM(CF97), 2) -> 0 | AK34: 0
F35: zníž. prenesená | L35: 0.23 | W35: =ROUND(BC94 + SUM(CG97), 2) -> 0 | AK35: 0
F36: nulová | L36: 0 | W36: =ROUND(BD94 + SUM(CH97), 2) -> 0 | AK36: 0
D38: Cena s DPH | T38: v | X38: EUR | AK38: =SUM(AK29:AK36) -> 0
D49: Projektant | AH49: Spracovateľ
D60: Dátum a podpis: | V60: Pečiatka | AH60: Dátum a podpis: | AM60: Pečiatka
D64: Objednávateľ | AH64: Zhotoviteľ
D75: Dátum a podpis: | V75: Pečiatka | AH75: Dátum a podpis: | AM75: Pečiatka
C82: REKAPITULÁCIA OBJEKTOV STAVBY
C84: Kód: | L84: =K5 -> 000-102-NVO
C85: Stavba: | L85: =K6 -> Stavebné úpravy silážnej jamy č.1, Nižné Ladičkovce
C87: Miesto: | L87: =IF(K8="","",K8) | AI87: Dátum: | AM87: =IF(AN8= "","",AN8) -> 6. 10. 2026
C89: Objednávateľ: | L89: =IF(E11= "","",E11) -> Rotax Energo s.r.o. | AI89: Projektant: | AM89: =IF(E17="","",E17) -> Ing. Lukáš Pida - Projektovanie stavieb | AS89: Informatívne údaje z listov zákaziek
C90: Zhotoviteľ: | L90: =IF(E14="","",E14) | AI90: Spracovateľ: | AM90: =IF(E20="","",E20) -> Ing. Karol Závodský
C92: Kód | I92: Popis | AG92: Cena bez DPH [EUR] | AN92: Cena s DPH [EUR] | AQ92: Typ | AS92: z toho Ostat._x000D_ náklady [EUR] | AT92: DPH [EUR] | AU92: Normohodiny [h] | AV92: DPH základná [EUR] | AW92: DPH znížená [EUR] | AX92: DPH základná prenesená_x000D_ [EUR] | AY92: DPH znížená prenesená_x000D_ [EUR] | AZ92: Základňa_x000D_ DPH základná | BA92: Základňa_x000D_ DPH znížená | BB92: Základňa_x000D_ DPH zákl. prenesená | BC92: Základňa_x000D_ DPH zníž. prenesená | BD92: Základňa_x000D_ DPH nulová
C94: 1) Náklady z rozpočtov | AG94: =ROUND(AG95,2) -> 0 | AN94: =SUM(AG94,AT94) -> 0 | AS94: =ROUND(AS95,2) -> 0 | AT94: =ROUND(SUM(AV94:AW94),2) -> 0 | AU94: =ROUND(AU95,5) -> 0 | AV94: =ROUND(AZ94*L32,2) -> 0 | AW94: =ROUND(BA94*L33,2) -> 0 | AX94: =ROUND(BB94*L32,2) -> 0 | AY94: =ROUND(BC94*L33,2) -> 0 | AZ94: =ROUND(AZ95,2) -> 0 | BA94: =ROUND(BA95,2) -> 0 | BB94: =ROUND(BB95,2) -> 0 | BC94: =ROUND(BC95,2) -> 0 | BD94: =ROUND(BD95,2) -> 0 | BS94: D | BT94: 0 | BU94: ###NOIMPORT### | BV94: IMPORT | BW94: {b85e82ce-54c2-494e-b3e0-d4e520a234b8} | BX94: {00000000-0000-0000-0000-000000000000}
A95: / | D95: 01o | J95: Stavebné úpravy silážnej jamy č.1, Nižné Ladičkovce | AG95: ='01o - Stavebné úpravy sil...'!J32 -> 0 | AN95: =SUM(AG95,AT95) -> 0 | AQ95: STA | AS95: 0 | AT95: =ROUND(SUM(AV95:AW95),2) -> 0 | AU95: ='01o - Stavebné úpravy sil...'!P125 -> 0 | AV95: ='01o - Stavebné úpravy sil...'!J35 -> 0 | AW95: ='01o - Stavebné úpravy sil...'!J36 -> 0 | AX95: ='01o - Stavebné úpravy sil...'!J37 -> 0 | AY95: ='01o - Stavebné úpravy sil...'!J38 -> 0 | AZ95: ='01o - Stavebné úpravy sil...'!F35 -> 0 | BA95: ='01o - Stavebné úpravy sil...'!F36 -> 0 | BB95: ='01o - Stavebné úpravy sil...'!F37 -> 0 | BC95: ='01o - Stavebné úpravy sil...'!F38 -> 0 | BD95: ='01o - Stavebné úpravy sil...'!F39 -> 0 | BT95: 1 | BV95: IMPORT | BW95: {015dd97c-d2e1-4ea1-ae8a-ca5529d84825} | BX95: {b85e82ce-54c2-494e-b3e0-d4e520a234b8} | CM95: 0
C97: 2) Ostatné náklady zo súhrnného listu | AG97: 0 | AN97: 0 | AS97: Percent. zadanie_x000D_ [% nákladov rozpočtu] | AT97: Zaradenie nákladov | AU97: DPH | AV97: DPH [EUR]
C99: Celkové náklady za stavbu 1) + 2) | AG99: =ROUND(AG94 + AG97, 2) -> 0 | AN99: =ROUND(AN94 + AN97, 2) -> 0

Sheet 01o - Stavebné úpravy sil...
L2: >> skryté stĺpce << | AT2: {015dd97c-d2e1-4ea1-ae8a-ca5529d84825}
AT3: 0
D4: KRYCÍ LIST ROZPOČTU | M4: v --- nižšie sa nachádzajú doplnkové a pomocné údaje k zostavám --- v | AT4: False
D6: Stavba:
E7: ='Rekapitulácia stavby'!K6 -> Stavebné úpravy silážnej jamy č.1, Nižné Ladičkovce
D8: Objekt:
E9: 01o - Stavebné úpravy silážnej jamy č.1, Nižné Ladičkovce
D11: JKSO: | I11: ČS:
D12: Miesto: | I12: Dátum: | J12: ='Rekapitulácia stavby'!AN8 -> 6. 10. 2026
D14: Objednávateľ: | I14: IČO: | J14: =IF('Rekapitulácia stavby'!AN10="","",'Rekapitulácia stavby'!AN10)
E15: =IF('Rekapitulácia stavby'!E11="","",'Rekapitulácia stavby'!E11) -> Rotax Energo s.r.o. | I15: IČ DPH: | J15: =IF('Rekapitulácia stavby'!AN11="","",'Rekapitulácia stavby'!AN11)
D17: Zhotoviteľ: | I17: IČO: | J17: ='Rekapitulácia stavby'!AN13
E18: ='Rekapitulácia stavby'!E14 | I18: IČ DPH: | J18: ='Rekapitulácia stavby'!AN14
D20: Projektant: | I20: IČO: | J20: 47686685
E21: Ing. Lukáš Pida - Projektovanie stavieb | I21: IČ DPH:
D23: Spracovateľ: | I23: IČO:
E24: Ing. Karol Závodský | I24: IČ DPH:
D26: Poznámka:
D30: Náklady z rozpočtu | J30: =J96 -> 0
D31: Ostatné náklady | J31: =J104 -> 0
D32: Cena bez DPH | J32: =ROUND(J30 + J31, 2) -> 0
F34: Základ dane | I34: Sadzba dane | J34: Výška dane
D35: DPH | E35: základná | F35: =ROUND((SUM(BE104:BE105) + SUM(BE125:BE164)), 2) -> 0 | I35: 0.23 | J35: =ROUND(((SUM(BE104:BE105) + SUM(BE125:BE164))*I35), 2) -> 0
E36: znížená | F36: =ROUND((SUM(BF104:BF105) + SUM(BF125:BF164)), 2) -> 0 | I36: 0.23 | J36: =ROUND(((SUM(BF104:BF105) + SUM(BF125:BF164))*I36), 2) -> 0
E37: zákl. prenesená | F37: =ROUND((SUM(BG104:BG105) + SUM(BG125:BG164)), 2) -> 0 | I37: 0.23 | J37: =0 -> 0
E38: zníž. prenesená | F38: =ROUND((SUM(BH104:BH105) + SUM(BH125:BH164)), 2) -> 0 | I38: 0.23 | J38: =0 -> 0
E39: nulová | F39: =ROUND((SUM(BI104:BI105) + SUM(BI125:BI164)), 2) -> 0 | I39: 0 | J39: =0 -> 0
D41: Cena s DPH | G41: v | H41: EUR | J41: =SUM(J32:J39) -> 0
D50: Projektant | G50: Spracovateľ
D61: Dátum a podpis: | F61: Pečiatka | G61: Dátum a podpis: | J61: Pečiatka
D65: Objednávateľ | G65: Zhotoviteľ
D76: Dátum a podpis: | F76: Pečiatka | G76: Dátum a podpis: | J76: Pečiatka
C82: REKAPITULÁCIA ROZPOČTU
C84: Stavba:
E85: =E7 -> Stavebné úpravy silážnej jamy č.1, Nižné Ladičkovce
C86: Objekt:
E87: =E9 -> 01o - Stavebné úpravy silážnej jamy č.1, Nižné Ladičkovce
C89: Miesto: | F89: =F12 | I89: Dátum: | J89: =IF(J12="","",J12) -> 6. 10. 2026
C91: Objednávateľ: | F91: =E15 -> Rotax Energo s.r.o. | I91: Projektant: | J91: =E21 -> Ing. Lukáš Pida - Projektovanie stavieb
C92: Zhotoviteľ: | F92: =IF(E18="","",E18) | I92: Spracovateľ: | J92: =E24 -> Ing. Karol Závodský
C94: Kód dielu - Popis | J94: Cena celkom [EUR]
C96: 1) Náklady z rozpočtu | J96: =J125 -> 0 | AU96: -1
D97: HSV - Práce a dodávky HSV | J97: =J126 -> 0
D98: 1 - Zemné práce | J98: =J127 -> 0
D99: 5 - Komunikácie | J99: =J139 -> 0
D100: 6 - Úpravy povrchov, podlahy, osadenie | J100: =J141 -> 0
D101: 9 - Ostatné konštrukcie a práce-búranie | J101: =J163 -> 0
C104: 2) Ostatné náklady | J104: 0 | N104: DPH
C106: Celkové náklady za stavbu 1) + 2) | J106: =ROUND(J96+J104,2) -> 0
C112: ROZPOČET
C114: Stavba:
E115: =E7 -> Stavebné úpravy silážnej jamy č.1, Nižné Ladičkovce
C116: Objekt:
E117: =E9 -> 01o - Stavebné úpravy silážnej jamy č.1, Nižné Ladičkovce
C119: Miesto: | F119: =F12 | I119: Dátum: | J119: =IF(J12="","",J12) -> 6. 10. 2026
C121: Objednávateľ: | F121: =E15 -> Rotax Energo s.r.o. | I121: Projektant: | J121: =E21 -> Ing. Lukáš Pida - Projektovanie stavieb
C122: Zhotoviteľ: | F122: =IF(E18="","",E18) | I122: Spracovateľ: | J122: =E24 -> Ing. Karol Závodský
C124: PČ | D124: Typ | E124: Kód | F124: Popis | G124: MJ | H124: Množstvo | I124: J.cena [EUR] | J124: Cena celkom [EUR] | K124: Cenová sústava | N124: DPH | O124: J. Nh [h] | P124: Nh celkom [h] | Q124: J. hmotnosť [t] | R124: Hmotnosť celkom [t] | S124: J. suť [t] | T124: Suť Celkom [t]
C125: Náklady z rozpočtu | J125: =BK125 -> 0 | P125: =P126 -> 0 | R125: =R126 -> 414.41986 | T125: =T126 -> 386.5506 | AT125: D | AU125: -1 | BK125: =BK126 -> 0
D126: D | E126: HSV | F126: Práce a dodávky HSV | J126: =BK126 -> 0 | P126: =P127+P139+P141+P163 -> 0 | R126: =R127+R139+R141+R163 -> 414.41986 | T126: =T127+T139+T141+T163 -> 386.5506 | AR126: 1 | AT126: D | AU126: 0 | AY126: ROZPOCET | BK126: =BK127+BK139+BK141+BK163 -> 0
D127: D | E127: 1 | F127: Zemné práce | J127: =BK127 -> 0 | P127: =SUM(P128:P138) -> 0 | R127: =SUM(R128:R138) -> 0 | T127: =SUM(T128:T138) -> 386.5506 | AR127: 1 | AT127: D | AU127: 1 | AY127: ROZPOCET | BK127: =SUM(BK128:BK138) -> 0
C128: 1 | D128: K | E128: 113157322.S | F128: Odstránenie podkladu alebo krytu z kameniva hrubého drveného v ploche nad 200 m2 strojne, hr. vrstvy nad 100 do 200 mm, -0,23500t | G128: m2 | H128: 75.48 | J128: =ROUND(I128*H128,2) -> 0 | N128: znížená | O128: 0 | P128: =O128*H128 -> 0 | Q128: 0 | R128: =Q128*H128 -> 0 | S128: 0.235 | T128: =S128*H128 -> 17.7378 | AR128: 4 | AT128: K | AU128: 2 | AY128: ROZPOCET | BE128: =IF(N128="základná",J128,0) -> 0 | BF128: =IF(N128="znížená",J128,0) -> 0 | BG128: =IF(N128="zákl. prenesená",J128,0) -> 0 | BH128: =IF(N128="zníž. prenesená",J128,0) -> 0 | BI128: =IF(N128="nulová",J128,0) -> 0 | BJ128: 2 | BK128: =ROUND(I128*H128,2) -> 0 | BL128: 4 | BM128: 2
D129: VV | F129: (22,85+17,2+22,85)*1,2 "plocha nad panel. | H129: 75.48 | AT129: VV | AU129: 2 | AV129: 2 | AW129: True | AX129: 0 | AY129: ROZPOCET
D130: VV | F130: Súčet | H130: 75.48 | AT130: VV | AU130: 2 | AV130: 4 | AW130: True | AX130: 1 | AY130: ROZPOCET
C131: 2 | D131: K | E131: 113157325.S | F131: Odstránenie podkladu alebo krytu z kameniva hrubého drveného v ploche nad 200 m2 strojne, hr. vrstvy nad 400 do 500 mm, -0,72000t | G131: m2 | H131: 512.24 | J131: =ROUND(I131*H131,2) -> 0 | N131: znížená | O131: 0 | P131: =O131*H131 -> 0 | Q131: 0 | R131: =Q131*H131 -> 0 | S131: 0.72 | T131: =S131*H131 -> 368.8128 | AR131: 4 | AT131: K | AU131: 2 | AY131: ROZPOCET | BE131: =IF(N131="základná",J131,0) -> 0 | BF131: =IF(N131="znížená",J131,0) -> 0 | BG131: =IF(N131="zákl. prenesená",J131,0) -> 0 | BH131: =IF(N131="zníž. prenesená",J131,0) -> 0 | BI131: =IF(N131="nulová",J131,0) -> 0 | BJ131: 2 | BK131: =ROUND(I131*H131,2) -> 0 | BL131: 4 | BM131: 4
D132: VV | F132: 11*17,7 | H132: 194.7 | AT132: VV | AU132: 2 | AV132: 2 | AW132: True | AX132: 0 | AY132: ROZPOCET
D133: VV | F133: 22,85*17,2 " silážna jama | H133: 393.02 | AT133: VV | AU133: 2 | AV133: 2 | AW133: True | AX133: 0 | AY133: ROZPOCET
D134: VV | F134: -(22,85+17,2+22,85)*1,2 | H134: -75.48 | AT134: VV | AU134: 2 | AV134: 2 | AW134: True | AX134: 0 | AY134: ROZPOCET
D135: VV | F135: Súčet | H135: 512.24 | AT135: VV | AU135: 2 | AV135: 4 | AW135: True | AX135: 1 | AY135: ROZPOCET
C136: 3 | D136: K | E136: 175101201.S | F136: Obsyp objektov sypaninou z vhodných hornín 1 až 4 bez prehodenia sypaniny | G136: m3 | H136: 84.915 | J136: =ROUND(I136*H136,2) -> 0 | N136: znížená | O136: 0 | P136: =O136*H136 -> 0 | Q136: 0 | R136: =Q136*H136 -> 0 | S136: 0 | T136: =S136*H136 -> 0 | AR136: 4 | AT136: K | AU136: 2 | AY136: ROZPOCET | BE136: =IF(N136="základná",J136,0) -> 0 | BF136: =IF(N136="znížená",J136,0) -> 0 | BG136: =IF(N136="zákl. prenesená",J136,0) -> 0 | BH136: =IF(N136="zníž. prenesená",J136,0) -> 0 | BI136: =IF(N136="nulová",J136,0) -> 0 | BJ136: 2 | BK136: =ROUND(I136*H136,2) -> 0 | BL136: 4 | BM136: 6
D137: VV | F137: (22,85+17,2+22,85)*1,5*1,8/2 | H137: 84.915 | AT137: VV | AU137: 2 | AV137: 2 | AW137: True | AX137: 0 | AY137: ROZPOCET
D138: VV | F138: Súčet | H138: 84.915 | AT138: VV | AU138: 2 | AV138: 4 | AW138: True | AX138: 1 | AY138: ROZPOCET
D139: D | E139: 5 | F139: Komunikácie | J139: =BK139 -> 0 | P139: =P140 -> 0 | R139: =R140 -> 331.52173 | T139: =T140 -> 0 | AR139: 1 | AT139: D | AU139: 1 | AY139: ROZPOCET | BK139: =BK140 -> 0
C140: 4 | D140: K | E140: 564772113.S | F140: Podklad alebo kryt z kameniva hrubého drveného veľ. 32-63 mm (vibr.štrk) po zhut.hr. 270 mm | G140: m2 | H140: 512.24 | J140: =ROUND(I140*H140,2) -> 0 | N140: znížená | O140: 0 | P140: =O140*H140 -> 0 | Q140: 0.6472 | R140: =Q140*H140 -> 331.52173 | S140: 0 | T140: =S140*H140 -> 0 | AR140: 4 | AT140: K | AU140: 2 | AY140: ROZPOCET | BE140: =IF(N140="základná",J140,0) -> 0 | BF140: =IF(N140="znížená",J140,0) -> 0 | BG140: =IF(N140="zákl. prenesená",J140,0) -> 0 | BH140: =IF(N140="zníž. prenesená",J140,0) -> 0 | BI140: =IF(N140="nulová",J140,0) -> 0 | BJ140: 2 | BK140: =ROUND(I140*H140,2) -> 0 | BL140: 4 | BM140: 8
D141: D | E141: 6 | F141: Úpravy povrchov, podlahy, osadenie | J141: =BK141 -> 0 | P141: =SUM(P142:P162) -> 0 | R141: =SUM(R142:R162) -> 69.458068 | T141: =SUM(T142:T162) -> 0 | AR141: 1 | AT141: D | AU141: 1 | AY141: ROZPOCET | BK141: =SUM(BK142:BK162) -> 0
C142: 5 | D142: K | E142: 622451071.S | F142: Vyspravenie povrchu neomietaných betónových stien vonkajších maltou cementovou 30% | G142: m2 | H142: 83.028 | J142: =ROUND(I142*H142,2) -> 0 | N142: znížená | O142: 0 | P142: =O142*H142 -> 0 | Q142: 0.0064 | R142: =Q142*H142 -> 0.5313792 | S142: 0 | T142: =S142*H142 -> 0 | AR142: 4 | AT142: K | AU142: 2 | AY142: ROZPOCET | BE142: =IF(N142="základná",J142,0) -> 0 | BF142: =IF(N142="znížená",J142,0) -> 0 | BG142: =IF(N142="zákl. prenesená",J142,0) -> 0 | BH142: =IF(N142="zníž. prenesená",J142,0) -> 0 | BI142: =IF(N142="nulová",J142,0) -> 0 | BJ142: 2 | BK142: =ROUND(I142*H142,2) -> 0 | BL142: 4 | BM142: 10
D143: VV | F143: (22,85+17,2+22,85)*2*2,2*0,3 | H143: 83.028 | AT143: VV | AU143: 2 | AV143: 2 | AW143: True | AX143: 0 | AY143: ROZPOCET
D144: VV | F144: Súčet | H144: 83.028 | AT144: VV | AU144: 2 | AV144: 4 | AW144: True | AX144: 1 | AY144: ROZPOCET
C145: 6 | D145: K | E145: 627991016.S | F145: Tesnenie škár obvodových panelov vysokopevnostou maltou | G145: m | H145: 110 | J145: =ROUND(I145*H145,2) -> 0 | N145: znížená | O145: 0 | P145: =O145*H145 -> 0 | Q145: 0.000944 | R145: =Q145*H145 -> 0.10384 | S145: 0 | T145: =S145*H145 -> 0 | AR145: 4 | AT145: K | AU145: 2 | AY145: ROZPOCET | BE145: =IF(N145="základná",J145,0) -> 0 | BF145: =IF(N145="znížená",J145,0) -> 0 | BG145: =IF(N145="zákl. prenesená",J145,0) -> 0 | BH145: =IF(N145="zníž. prenesená",J145,0) -> 0 | BI145: =IF(N145="nulová",J145,0) -> 0 | BJ145: 2 | BK145: =ROUND(I145*H145,2) -> 0 | BL145: 4 | BM145: 12
D146: VV | F146: 2,2*25*2 | H146: 110 | AT146: VV | AU146: 2 | AV146: 2 | AW146: True | AX146: 0 | AY146: ROZPOCET
D147: VV | F147: Súčet | H147: 110 | AT147: VV | AU147: 2 | AV147: 4 | AW147: True | AX147: 1 | AY147: ROZPOCET
C148: 7 | D148: K | E148: 627991025.S | F148: Tesnenie škár obvodového plášťa penetrácia škár obojstranná | G148: m | H148: 110 | J148: =ROUND(I148*H148,2) -> 0 | N148: znížená | O148: 0 | P148: =O148*H148 -> 0 | Q148: 5.6e-05 | R148: =Q148*H148 -> 0.00616 | S148: 0 | T148: =S148*H148 -> 0 | AR148: 4 | AT148: K | AU148: 2 | AY148: ROZPOCET | BE148: =IF(N148="základná",J148,0) -> 0 | BF148: =IF(N148="znížená",J148,0) -> 0 | BG148: =IF(N148="zákl. prenesená",J148,0) -> 0 | BH148: =IF(N148="zníž. prenesená",J148,0) -> 0 | BI148: =IF(N148="nulová",J148,0) -> 0 | BJ148: 2 | BK148: =ROUND(I148*H148,2) -> 0 | BL148: 4 | BM148: 14
C149: 8 | D149: K | E149: 631315661.S | F149: Mazanina z betónu prostého (m3) tr. C 20/25 hr.nad 100 do 270 mm | G149: m3 | H149: 29.205 | J149: =ROUND(I149*H149,2) -> 0 | N149: znížená | O149: 0 | P149: =O149*H149 -> 0 | Q149: 2.28485 | R149: =Q149*H149 -> 66.729044 | S149: 0 | T149: =S149*H149 -> 0 | AR149: 4 | AT149: K | AU149: 2 | AY149: ROZPOCET | BE149: =IF(N149="základná",J149,0) -> 0 | BF149: =IF(N149="znížená",J149,0) -> 0 | BG149: =IF(N149="zákl. prenesená",J149,0) -> 0 | BH149: =IF(N149="zníž. prenesená",J149,0) -> 0 | BI149: =IF(N149="nulová",J149,0) -> 0 | BJ149: 2 | BK149: =ROUND(I149*H149,2) -> 0 | BL149: 4 | BM149: 16
D150: VV | F150: 11*17,7*0,15 | H150: 29.205 | AT150: VV | AU150: 2 | AV150: 2 | AW150: True | AX150: 0 | AY150: ROZPOCET
D151: VV | F151: Súčet | H151: 29.205 | AT151: VV | AU151: 2 | AV151: 4 | AW151: True | AX151: 1 | AY151: ROZPOCET
C152: 9 | D152: K | E152: 631362422.S | F152: Výstuž mazanín z betónov (z kameniva) a z ľahkých betónov zo sietí KARI, priemer drôtu 6/6 mm, veľkosť oka 150x150 mm | G152: m2 | H152: 587.72 | J152: =ROUND(I152*H152,2) -> 0 | N152: znížená | O152: 0 | P152: =O152*H152 -> 0 | Q152: 0.00352 | R152: =Q152*H152 -> 2.0687744 | S152: 0 | T152: =S152*H152 -> 0 | AR152: 4 | AT152: K | AU152: 2 | AY152: ROZPOCET | BE152: =IF(N152="základná",J152,0) -> 0 | BF152: =IF(N152="znížená",J152,0) -> 0 | BG152: =IF(N152="zákl. prenesená",J152,0) -> 0 | BH152: =IF(N152="zníž. prenesená",J152,0) -> 0 | BI152: =IF(N152="nulová",J152,0) -> 0 | BJ152: 2 | BK152: =ROUND(I152*H152,2) -> 0 | BL152: 4 | BM152: 18
D153: VV | F153: 512,24+75,48 | H153: 587.72 | AT153: VV | AU153: 2 | AV153: 2 | AW153: True | AX153: 0 | AY153: ROZPOCET
D154: VV | F154: Súčet | H154: 587.72 | AT154: VV | AU154: 2 | AV154: 4 | AW154: True | AX154: 1 | AY154: ROZPOCET
C155: 10 | D155: K | E155: 632001051.S | F155: Zhotovenie jednonásobného penetračného náteru pre potery a stierky | G155: m2 | H155: 75.48 | J155: =ROUND(I155*H155,2) -> 0 | N155: znížená | O155: 0 | P155: =O155*H155 -> 0 | Q155: 0 | R155: =Q155*H155 -> 0 | S155: 0 | T155: =S155*H155 -> 0 | AR155: 4 | AT155: K | AU155: 2 | AY155: ROZPOCET | BE155: =IF(N155="základná",J155,0) -> 0 | BF155: =IF(N155="znížená",J155,0) -> 0 | BG155: =IF(N155="zákl. prenesená",J155,0) -> 0 | BH155: =IF(N155="zníž. prenesená",J155,0) -> 0 | BI155: =IF(N155="nulová",J155,0) -> 0 | BJ155: 2 | BK155: =ROUND(I155*H155,2) -> 0 | BL155: 4 | BM155: 20
C156: 11 | D156: M | E156: 585520008700.S | F156: Penetračný náter na nasiakavé podklady pod potery, samonivelizačné hmoty a stavebné lepidlá | G156: kg | H156: 18.87 | J156: =ROUND(I156*H156,2) -> 0 | N156: znížená | O156: 0 | P156: =O156*H156 -> 0 | Q156: 0.001 | R156: =Q156*H156 -> 0.01887 | S156: 0 | T156: =S156*H156 -> 0 | AR156: 8 | AT156: M | AU156: 2 | AY156: ROZPOCET | BE156: =IF(N156="základná",J156,0) -> 0 | BF156: =IF(N156="znížená",J156,0) -> 0 | BG156: =IF(N156="zákl. prenesená",J156,0) -> 0 | BH156: =IF(N156="zníž. prenesená",J156,0) -> 0 | BI156: =IF(N156="nulová",J156,0) -> 0 | BJ156: 2 | BK156: =ROUND(I156*H156,2) -> 0 | BL156: 4 | BM156: 22
D157: VV | F157: 75,48*0,25 "Prepočítané koeficientom množstva | H157: 18.87 | AT157: VV | AU157: 2 | AV157: 2 | AW157: True | AX157: 0 | AY157: ROZPOCET
D158: VV | F158: Súčet | H158: 18.87 | AT158: VV | AU158: 2 | AV158: 4 | AW158: True | AX158: 1 | AY158: ROZPOCET
C159: 12 | D159: K | E159: 632401935.S | F159: Príplatok za sklon poteru nad 10 do 45 st., hr.50 mm | G159: m2 | H159: 393.02 | J159: =ROUND(I159*H159,2) -> 0 | N159: znížená | O159: 0 | P159: =O159*H159 -> 0 | Q159: 0 | R159: =Q159*H159 -> 0 | S159: 0 | T159: =S159*H159 -> 0 | AR159: 4 | AT159: K | AU159: 2 | AY159: ROZPOCET | BE159: =IF(N159="základná",J159,0) -> 0 | BF159: =IF(N159="znížená",J159,0) -> 0 | BG159: =IF(N159="zákl. prenesená",J159,0) -> 0 | BH159: =IF(N159="zníž. prenesená",J159,0) -> 0 | BI159: =IF(N159="nulová",J159,0) -> 0 | BJ159: 2 | BK159: =ROUND(I159*H159,2) -> 0 | BL159: 4 | BM159: 24
C160: 13 | D160: K | E160: 631315811.S | F160: Cementový poter z betonárky, hr. 150 mm | G160: m2 | H160: 393.02 | J160: =ROUND(I160*H160,2) -> 0 | N160: znížená | O160: 0 | P160: =O160*H160 -> 0 | Q160: 0 | R160: =Q160*H160 -> 0 | S160: 0 | T160: =S160*H160 -> 0 | AR160: 4 | AT160: K | AU160: 2 | AY160: ROZPOCET | BE160: =IF(N160="základná",J160,0) -> 0 | BF160: =IF(N160="znížená",J160,0) -> 0 | BG160: =IF(N160="zákl. prenesená",J160,0) -> 0 | BH160: =IF(N160="zníž. prenesená",J160,0) -> 0 | BI160: =IF(N160="nulová",J160,0) -> 0 | BJ160: 2 | BK160: =ROUND(I160*H160,2) -> 0 | BL160: 4 | BM160: 26
D161: VV | F161: 22,85*17,2 | H161: 393.02 | AT161: VV | AU161: 2 | AV161: 2 | AW161: True | AX161: 0 | AY161: ROZPOCET
D162: VV | F162: Súčet | H162: 393.02 | AT162: VV | AU162: 2 | AV162: 4 | AW162: True | AX162: 1 | AY162: ROZPOCET
D163: D | E163: 9 | F163: Ostatné konštrukcie a práce-búranie | J163: =BK163 -> 0 | P163: =P164 -> 0 | R163: =R164 -> 13.44006 | T163: =T164 -> 0 | AR163: 1 | AT163: D | AU163: 1 | AY163: ROZPOCET | BK163: =BK164 -> 0
C164: 14 | D164: K | E164: 957381114.S | F164: Žľaby pre silážnu jamu železobetón. vytvarované š. do 250 mm | G164: m | H164: 18.5 | J164: =ROUND(I164*H164,2) -> 0 | N164: znížená | O164: 0 | P164: =O164*H164 -> 0 | Q164: 0.72648973 | R164: =Q164*H164 -> 13.44006 | S164: 0 | T164: =S164*H164 -> 0 | AR164: 4 | AT164: K | AU164: 2 | AY164: ROZPOCET | BE164: =IF(N164="základná",J164,0) -> 0 | BF164: =IF(N164="znížená",J164,0) -> 0 | BG164: =IF(N164="zákl. prenesená",J164,0) -> 0 | BH164: =IF(N164="zníž. prenesená",J164,0) -> 0 | BI164: =IF(N164="nulová",J164,0) -> 0 | BJ164: 2 | BK164: =ROUND(I164*H164,2) -> 0 | BL164: 4 | BM164: 28
