Workbook

Sheet Rekapitulácia stavby
A1: Export Komplet | BA1: 2.0 | BT1: False | BU1: False | BV1: {b85e82ce-54c2-494e-b3e0-d4e520a234b8}
AR2: >> skryté stĺpce << | BS2: 0,01 | BT2: 23
BS3: 0,01 | BT3: 23
D4: REKAPITULÁCIA STAVBY | AS4: v --- nižšie sa nachádzajú doplnkové a pomocné údaje k zostavám --- v | BS4: 0,001
D5: Kód: | K5: 000-102-NVO | BS5: 0,01
D6: Stavba: | K6: Stavebné úpravy silážnej jamy č.1, Nižné Ladičkovce | BS6: 0,01
D7: JKSO: | AK7: ČS: | BS7: 0,01
D8: Miesto: | AK8: Dátum: | AN8: 6. 10. 2026 | BS8: 0,01
BS9: 0,01
D10: Objednávateľ: | AK10: IČO: | BS10: 0,01
E11: Rotax Energo s.r.o. | AK11: IČ DPH: | BS11: 0,01
BS12: 0,01
D13: Zhotoviteľ: | AK13: IČO: | BS13: 0,01
AK14: IČ DPH: | BS14: 0,01
BS15: False
D16: Projektant: | AK16: IČO: | AN16: 47686685 | BS16: False
E17: Ing. Lukáš Pida - Projektovanie stavieb | AK17: IČ DPH: | BS17: True
BS18: 0,01
D19: Spracovateľ: | AK19: IČO: | BS19: 0,01
E20: Ing. Karol Závodský | AK20: IČ DPH: | BS20: True
D22: Poznámka:
D26: Náklady z rozpočtov | AK26: =ROUND(AG94,2) -> 0
D27: Ostatné náklady zo súhrnného listu | AK27: =ROUND(AG97, 2) -> 0
D29: Cena bez DPH | AK29: =ROUND(AK26 + AK27, 2) -> 0
L31: Sadzba dane | W31: Základ dane | AK31: Výška dane
D32: DPH | F32: základná | L32: 0.23 | W32: =ROUND(AZ94 + SUM(CD97), 2) -> 0 | AK32: =ROUND(AV94 + SUM(BY97), 2) -> 0
F33: znížená | L33: 0.23 | W33: =ROUND(BA94 + SUM(CE97), 2) -> 0 | AK33: =ROUND(AW94 + SUM(BZ97), 2) -> 0
F34: zákl. prenesená | L34: 0.23 | W34: =ROUND(BB94 + SUM(CF97), 2) -> 0 | AK34: 0
F35: zníž. prenesená | L35: 0.23 | W35: =ROUND(BC94 + SUM(CG97), 2) -> 0 | AK35: 0
F36: nulová | L36: 0 | W36: =ROUND(BD94 + SUM(CH97), 2) -> 0 | AK36: 0
D38: Cena s DPH | T38: v | X38: EUR | AK38: =SUM(AK29:AK36) -> 0
D49: Projektant | AH49: Spracovateľ
D60: Dátum a podpis: | V60: Pečiatka | AH60: Dátum a podpis: | AM60: Pečiatka
D64: Objednávateľ | AH64: Zhotoviteľ
D75: Dátum a podpis: | V75: Pečiatka | AH75: Dátum a podpis: | AM75: Pečiatka
C82: REKAPITULÁCIA OBJEKTOV STAVBY
C84: Kód: | L84: =K5 -> 000-102-NVO
C85: Stavba: | L85: =K6 -> Stavebné úpravy silážnej jamy č.1, Nižné Ladičkovce
C87: Miesto: | L87: =IF(K8="","",K8) | AI87: Dátum: | AM87: =IF(AN8= "","",AN8) -> 6. 10. 2026
C89: Objednávateľ: | L89: =IF(E11= "","",E11) -> Rotax Energo s.r.o. | AI89: Projektant: | AM89: =IF(E17="","",E17) -> Ing. Lukáš Pida - Projektovanie stavieb | AS89: Informatívne údaje z listov zákaziek
...

Sheet 01o - Stavebné úpravy sil...
L2: >> skryté stĺpce << | AT2: {015dd97c-d2e1-4ea1-ae8a-ca5529d84825}
AT3: 0
D4: KRYCÍ LIST ROZPOČTU | M4: v --- nižšie sa nachádzajú doplnkové a pomocné údaje k zostavám --- v | AT4: False
D6: Stavba:
E7: ='Rekapitulácia stavby'!K6 -> Stavebné úpravy silážnej jamy č.1, Nižné Ladičkovce
D8: Objekt:
E9: 01o - Stavebné úpravy silážnej jamy č.1, Nižné Ladičkovce
D11: JKSO: | I11: ČS:
D12: Miesto: | I12: Dátum: | J12: ='Rekapitulácia stavby'!AN8 -> 6. 10. 2026
D14: Objednávateľ: | I14: IČO: | J14: =IF('Rekapitulácia stavby'!AN10="","",'Rekapitulácia stavby'!AN10)
E15: =IF('Rekapitulácia stavby'!E11="","",'Rekapitulácia stavby'!E11) -> Rotax Energo s.r.o. | I15: IČ DPH: | J15: =IF('Rekapitulácia stavby'!AN11="","",'Rekapitulácia stavby'!AN11)
D17: Zhotoviteľ: | I17: IČO: | J17: ='Rekapitulácia stavby'!AN13
E18: ='Rekapitulácia stavby'!E14 | I18: IČ DPH: | J18: ='Rekapitulácia stavby'!AN14
D20: Projektant: | I20: IČO: | J20: 47686685
E21: Ing. Lukáš Pida - Projektovanie stavieb | I21: IČ DPH:
D23: Spracovateľ: | I23: IČO:
E24: Ing. Karol Závodský | I24: IČ DPH:
D26: Poznámka:
D30: Náklady z rozpočtu | J30: =J96 -> 0
D31: Ostatné náklady | J31: =J104 -> 0
D32: Cena bez DPH | J32: =ROUND(J30 + J31, 2) -> 0
F34: Základ dane | I34: Sadzba dane | J34: Výška dane
D35: DPH | E35: základná | F35: =ROUND((SUM(BE104:BE105) + SUM(BE125:BE164)), 2) -> 0 | I35: 0.23 | J35: =ROUND(((SUM(BE104:BE105) + SUM(BE125:BE164))*I35), 2) -> 0
E36: znížená | F36: =ROUND((SUM(BF104:BF105) + SUM(BF125:BF164)), 2) -> 0 | I36: 0.23 | J36: =ROUND(((SUM(BF104:BF105) + SUM(BF125:BF164))*I36), 2) -> 0
E37: zákl. prenesená | F37: =ROUND((SUM(BG104:BG105) + SUM(BG125:BG164)), 2) -> 0 | I37: 0.23 | J37: =0 -> 0
E38: zníž. prenesená | F38: =ROUND((SUM(BH104:BH105) + SUM(BH125:BH164)), 2) -> 0 | I38: 0.23 | J38: =0 -> 0
E39: nulová | F39: =ROUND((SUM(BI104:BI105) + SUM(BI125:BI164)), 2) -> 0 | I39: 0 | J39: =0 -> 0
D41: Cena s DPH | G41: v | H41: EUR | J41: =SUM(J32:J39) -> 0
D50: Projektant | G50: Spracovateľ
D61: Dátum a podpis: | F61: Pečiatka | G61: Dátum a podpis: | J61: Pečiatka
D65: Objednávateľ | G65: Zhotoviteľ
D76: Dátum a podpis: | F76: Pečiatka | G76: Dátum a podpis: | J76: Pečiatka
C82: REKAPITULÁCIA ROZPOČTU
C84: Stavba:
E85: =E7 -> Stavebné úpravy silážnej jamy č.1, Nižné Ladičkovce
C86: Objekt:
E87: =E9 -> 01o - Stavebné úpravy silážnej jamy č.1, Nižné Ladičkovce
C89: Miesto: | F89: =F12 | I89: Dátum: | J89: =IF(J12="","",J12) -> 6. 10. 2026
C91: Objednávateľ: | F91: =E15 -> Rotax Energo s.r.o. | I91: Projektant: | J91: =E21 -> Ing. Lukáš Pida - Projektovanie stavieb
C92: Zhotoviteľ: | F92: =IF(E18="","",E18) | I92: Spracovateľ: | J92: =E24 -> Ing. Karol Závodský
...
