Workbook

Sheet Rekapitulácia stavby
A1: Export Komplet | BA1: 2.0 | BT1: False | BU1: False | BV1: {17a23e4d-f39a-40dc-9642-2d0eb6d7ab47}
AR2: >> skryté stĺpce << | BS2: 0,01 | BT2: 23
BS3: 0,01 | BT3: 23
D4: REKAPITULÁCIA STAVBY | AS4: v --- nižšie sa nachádzajú doplnkové a pomocné údaje k zostavám --- v | BS4: 0,001
D5: Kód: | K5: 000-106-NVO | BS5: 0,01
D6: Stavba: | K6: Stavebné úpravy maštale pre voľné ustajnenie HD p.č. 606/10, Pichné | BS6: 0,01
D7: JKSO: | AK7: ČS: | BS7: 0,01
D8: Miesto: | AK8: Dátum: | AN8: 4. 9. 2026 | BS8: 0,01
BS9: 0,01
D10: Objednávateľ: | AK10: IČO: | AN10: 36469076 | BS10: 0,01
E11: JRD Pichne s.r.o., Námestie Slobody 2, Humenné | AK11: IČ DPH: | AN11: 2020022719 | BS11: 0,01
BS12: 0,01
D13: Zhotoviteľ: | AK13: IČO: | BS13: 0,01
AK14: IČ DPH: | BS14: 0,01
BS15: False
D16: Projektant: | AK16: IČO: | AN16: 47686685 | BS16: False
E17: Ing. Lukáš Pida - Projektovanie stavieb | AK17: IČ DPH: | BS17: True
BS18: 0,01
D19: Spracovateľ: | AK19: IČO: | BS19: 0,01
E20: Ing. Karol Závodský | AK20: IČ DPH: | BS20: True
D22: Poznámka:
D26: Náklady z rozpočtov | AK26: =ROUND(AG94,2) -> 210156.41
D27: Ostatné náklady zo súhrnného listu | AK27: =ROUND(AG98, 2) -> 0
D29: Cena bez DPH | AK29: =ROUND(AK26 + AK27, 2) -> 210156.41
L31: Sadzba dane | W31: Základ dane | AK31: Výška dane
D32: DPH | F32: základná | L32: 0.23 | W32: =ROUND(AZ94 + SUM(CD98), 2) -> 0 | AK32: =ROUND(AV94 + SUM(BY98), 2) -> 0
F33: znížená | L33: 0.23 | W33: =ROUND(BA94 + SUM(CE98), 2) -> 210156.41 | AK33: =ROUND(AW94 + SUM(BZ98), 2) -> 48335.97
F34: zákl. prenesená | L34: 0.23 | W34: =ROUND(BB94 + SUM(CF98), 2) -> 0 | AK34: 0
F35: zníž. prenesená | L35: 0.23 | W35: =ROUND(BC94 + SUM(CG98), 2) -> 0 | AK35: 0
F36: nulová | L36: 0 | W36: =ROUND(BD94 + SUM(CH98), 2) -> 0 | AK36: 0
D38: Cena s DPH | T38: v | X38: EUR | AK38: =SUM(AK29:AK36) -> 258492.38
D49: Projektant | AH49: Spracovateľ
D60: Dátum a podpis: | V60: Pečiatka | AH60: Dátum a podpis: | AM60: Pečiatka
D64: Objednávateľ | AH64: Zhotoviteľ
D75: Dátum a podpis: | V75: Pečiatka | AH75: Dátum a podpis: | AM75: Pečiatka
C82: REKAPITULÁCIA OBJEKTOV STAVBY
C84: Kód: | L84: =K5 -> 000-106-NVO
C85: Stavba: | L85: =K6 -> Stavebné úpravy maštale pre voľné ustajnenie HD p.č. 606/10, Pichné
C87: Miesto: | L87: =IF(K8="","",K8) | AI87: Dátum: | AM87: =IF(AN8= "","",AN8) -> 4. 9. 2026
C89: Objednávateľ: | L89: =IF(E11= "","",E11) -> JRD Pichne s.r.o., Námestie Slobody 2, Humenné | AI89: Projektant: | AM89: =IF(E17="","",E17) -> Ing. Lukáš Pida - Projektovanie stavieb | AS89: Informatívne údaje z listov zákaziek
C90: Zhotoviteľ: | L90: =IF(E14="","",E14) | AI90: Spracovateľ: | AM90: =IF(E20="","",E20) -> Ing. Karol Závodský
C92: Kód | I92: Popis | AG92: Cena bez DPH [EUR] | AN92: Cena s DPH [EUR] | AQ92: Typ | AS92: z toho Ostat._x000D_ náklady [EUR] | AT92: DPH [EUR] | AU92: Normohodiny [h] | AV92: DPH základná [EUR] | AW92: DPH znížená [EUR] | AX92: DPH základná prenesená_x000D_ [EUR] | AY92: DPH znížená prenesená_x000D_ [EUR] | AZ92: Základňa_x000D_ DPH základná | BA92: Základňa_x000D_ DPH znížená | BB92: Základňa_x000D_ DPH zákl. prenesená | BC92: Základňa_x000D_ DPH zníž. prenesená | BD92: Základňa_x000D_ DPH nulová
C94: 1) Náklady z rozpočtov | AG94: =ROUND(SUM(AG95:AG96),2) -> 210156.41 | AN94: =SUM(AG94,AT94) -> 258492.38 | AS94: =ROUND(SUM(AS95:AS96),2) -> 0 | AT94: =ROUND(SUM(AV94:AW94),2) -> 48335.97 | AU94: =ROUND(SUM(AU95:AU96),5) -> 707.92319 | AV94: =ROUND(AZ94*L32,2) -> 0 | AW94: =ROUND(BA94*L33,2) -> 48335.97 | AX94: =ROUND(BB94*L32,2) -> 0 | AY94: =ROUND(BC94*L33,2) -> 0 | AZ94: =ROUND(SUM(AZ95:AZ96),2) -> 0 | BA94: =ROUND(SUM(BA95:BA96),2) -> 210156.41 | BB94: =ROUND(SUM(BB95:BB96),2) -> 0 | BC94: =ROUND(SUM(BC95:BC96),2) -> 0 | BD94: =ROUND(SUM(BD95:BD96),2) -> 0 | BS94: D | BT94: 0 | BU94: ###NOIMPORT### | BV94: IMPORT | BW94: {17a23e4d-f39a-40dc-9642-2d0eb6d7ab47} | BX94: {00000000-0000-0000-0000-000000000000}
A95: / | D95: 01o | J95: Stavebné úpravy mašt... | AG95: ='01o - Stavebné úpravy maš...'!J32 -> 6904.18 | AN95: =SUM(AG95,AT95) -> 8492.14 | AQ95: STA | AS95: 0 | AT95: =ROUND(SUM(AV95:AW95),2) -> 1587.96 | AU95: ='01o - Stavebné úpravy maš...'!P125 -> 20.60478 | AV95: ='01o - Stavebné úpravy maš...'!J35 -> 0 | AW95: ='01o - Stavebné úpravy maš...'!J36 -> 1587.96 | AX95: ='01o - Stavebné úpravy maš...'!J37 -> 0 | AY95: ='01o - Stavebné úpravy maš...'!J38 -> 0 | AZ95: ='01o - Stavebné úpravy maš...'!F35 -> 0 | BA95: ='01o - Stavebné úpravy maš...'!F36 -> 6904.18 | BB95: ='01o - Stavebné úpravy maš...'!F37 -> 0 | BC95: ='01o - Stavebné úpravy maš...'!F38 -> 0 | BD95: ='01o - Stavebné úpravy maš...'!F39 -> 0 | BT95: 1 | BV95: IMPORT | BW95: {2f86f8dd-e454-47cf-8fca-2c578974322c} | BX95: {17a23e4d-f39a-40dc-9642-2d0eb6d7ab47} | CM95: 0
A96: / | D96: 02o | J96: Stavebné úpravy mašt... | AG96: ='02o - Stavebné úpravy maš...'!J32 -> 203252.23 | AN96: =SUM(AG96,AT96) -> 250000.24 | AQ96: STA | AS96: 0 | AT96: =ROUND(SUM(AV96:AW96),2) -> 46748.01 | AU96: ='02o - Stavebné úpravy maš...'!P131 -> 687.31841 | AV96: ='02o - Stavebné úpravy maš...'!J35 -> 0 | AW96: ='02o - Stavebné úpravy maš...'!J36 -> 46748.01 | AX96: ='02o - Stavebné úpravy maš...'!J37 -> 0 | AY96: ='02o - Stavebné úpravy maš...'!J38 -> 0 | AZ96: ='02o - Stavebné úpravy maš...'!F35 -> 0 | BA96: ='02o - Stavebné úpravy maš...'!F36 -> 203252.23 | BB96: ='02o - Stavebné úpravy maš...'!F37 -> 0 | BC96: ='02o - Stavebné úpravy maš...'!F38 -> 0 | BD96: ='02o - Stavebné úpravy maš...'!F39 -> 0 | BT96: 1 | BV96: IMPORT | BW96: {e4ff8504-46ce-4741-bad8-85f849e945ca} | BX96: {17a23e4d-f39a-40dc-9642-2d0eb6d7ab47} | CM96: 0
C98: 2) Ostatné náklady zo súhrnného listu | AG98: 0 | AN98: 0 | AS98: Percent. zadanie_x000D_ [% nákladov rozpočtu] | AT98: Zaradenie nákladov | AU98: DPH | AV98: DPH [EUR]
C100: Celkové náklady za stavbu 1) + 2) | AG100: =ROUND(AG94 + AG98, 2) -> 210156.41 | AN100: =ROUND(AN94 + AN98, 2) -> 258492.38

Sheet 01o - Stavebné úpravy maš...
L2: >> skryté stĺpce << | AT2: {2f86f8dd-e454-47cf-8fca-2c578974322c}
AT3: 0
D4: KRYCÍ LIST ROZPOČTU | M4: v --- nižšie sa nachádzajú doplnkové a pomocné údaje k zostavám --- v | AT4: False
D6: Stavba:
E7: ='Rekapitulácia stavby'!K6 -> Stavebné úpravy maštale pre voľné ustajnenie HD p.č. 606/10, Pichné
D8: Objekt:
E9: 01o - Stavebné úpravy mašt...
D11: JKSO: | I11: ČS:
D12: Miesto: | I12: Dátum: | J12: ='Rekapitulácia stavby'!AN8 -> 4. 9. 2026
D14: Objednávateľ: | I14: IČO: | J14: 36469076
E15: JRD Pichne s.r.o., Námestie Slobody 2, Humenné | I15: IČ DPH: | J15: 2020022719
D17: Zhotoviteľ: | I17: IČO: | J17: ='Rekapitulácia stavby'!AN13
E18: ='Rekapitulácia stavby'!E14 | I18: IČ DPH: | J18: ='Rekapitulácia stavby'!AN14
D20: Projektant: | I20: IČO: | J20: 47686685
E21: Ing. Lukáš Pida - Projektovanie stavieb | I21: IČ DPH:
D23: Spracovateľ: | I23: IČO:
E24: Ing. Karol Závodský | I24: IČ DPH:
D26: Poznámka:
D30: Náklady z rozpočtu | J30: =J96 -> 6904.18
D31: Ostatné náklady | J31: =J104 -> 0
D32: Cena bez DPH | J32: =ROUND(J30 + J31, 2) -> 6904.18
F34: Základ dane | I34: Sadzba dane | J34: Výška dane
D35: DPH | E35: základná | F35: =ROUND((SUM(BE104:BE105) + SUM(BE125:BE158)), 2) -> 0 | I35: 0.23 | J35: =ROUND(((SUM(BE104:BE105) + SUM(BE125:BE158))*I35), 2) -> 0
E36: znížená | F36: =ROUND((SUM(BF104:BF105) + SUM(BF125:BF158)), 2) -> 6904.18 | I36: 0.23 | J36: =ROUND(((SUM(BF104:BF105) + SUM(BF125:BF158))*I36), 2) -> 1587.96
E37: zákl. prenesená | F37: =ROUND((SUM(BG104:BG105) + SUM(BG125:BG158)), 2) -> 0 | I37: 0.23 | J37: =0 -> 0
E38: zníž. prenesená | F38: =ROUND((SUM(BH104:BH105) + SUM(BH125:BH158)), 2) -> 0 | I38: 0.23 | J38: =0 -> 0
E39: nulová | F39: =ROUND((SUM(BI104:BI105) + SUM(BI125:BI158)), 2) -> 0 | I39: 0 | J39: =0 -> 0
D41: Cena s DPH | G41: v | H41: EUR | J41: =SUM(J32:J39) -> 8492.14
D50: Projektant | G50: Spracovateľ
D61: Dátum a podpis: | F61: Pečiatka | G61: Dátum a podpis: | J61: Pečiatka
D65: Objednávateľ | G65: Zhotoviteľ
D76: Dátum a podpis: | F76: Pečiatka | G76: Dátum a podpis: | J76: Pečiatka
C82: REKAPITULÁCIA ROZPOČTU
C84: Stavba:
E85: =E7 -> Stavebné úpravy maštale pre voľné ustajnenie HD p.č. 606/10, Pichné
C86: Objekt:
E87: =E9 -> 01o - Stavebné úpravy mašt...
C89: Miesto: | F89: =F12 | I89: Dátum: | J89: =IF(J12="","",J12) -> 4. 9. 2026
C91: Objednávateľ: | F91: =E15 -> JRD Pichne s.r.o., Námestie Slobody 2, Humenné | I91: Projektant: | J91: =E21 -> Ing. Lukáš Pida - Projektovanie stavieb
C92: Zhotoviteľ: | F92: =IF(E18="","",E18) | I92: Spracovateľ: | J92: =E24 -> Ing. Karol Závodský
C94: Kód dielu - Popis | J94: Cena celkom [EUR]
C96: 1) Náklady z rozpočtu | J96: =J125 -> 6904.18 | AU96: -1
D97: HSV - Práce a dodávky HSV | J97: =J126 -> 3192.55
D98: 9 - Ostatné konštrukcie a práce-búranie | J98: =J127 -> 3192.55
D99: PSV - Práce a dodávky PSV | J99: =J137 -> 3711.63
D100: 764 - Konštrukcie klampiarske | J100: =J138 -> 217.15
D101: 767 - Konštrukcie doplnkové kovové | J101: =J146 -> 3494.48
C104: 2) Ostatné náklady | J104: 0 | N104: DPH
C106: Celkové náklady za stavbu 1) + 2) | J106: =ROUND(J96+J104,2) -> 6904.18
C112: ROZPOČET
C114: Stavba:
E115: =E7 -> Stavebné úpravy maštale pre voľné ustajnenie HD p.č. 606/10, Pichné
C116: Objekt:
E117: =E9 -> 01o - Stavebné úpravy mašt...
C119: Miesto: | F119: =F12 | I119: Dátum: | J119: =IF(J12="","",J12) -> 4. 9. 2026
C121: Objednávateľ: | F121: =E15 -> JRD Pichne s.r.o., Námestie Slobody 2, Humenné | I121: Projektant: | J121: =E21 -> Ing. Lukáš Pida - Projektovanie stavieb
C122: Zhotoviteľ: | F122: =IF(E18="","",E18) | I122: Spracovateľ: | J122: =E24 -> Ing. Karol Závodský
C124: PČ | D124: Typ | E124: Kód | F124: Popis | G124: MJ | H124: Množstvo | I124: J.cena [EUR] | J124: Cena celkom [EUR] | K124: Cenová sústava | N124: DPH | O124: J. Nh [h] | P124: Nh celkom [h] | Q124: J. hmotnosť [t] | R124: Hmotnosť celkom [t] | S124: J. suť [t] | T124: Suť Celkom [t]
C125: Náklady z rozpočtu | J125: =BK125 -> 6904.18 | P125: =P126+P137 -> 20.60478 | R125: =R126+R137 -> 0 | T125: =T126+T137 -> 0.60858 | AT125: D | AU125: -1 | BK125: =BK126+BK137 -> 6904.18
D126: D | E126: HSV | F126: Práce a dodávky HSV | J126: =BK126 -> 3192.55 | P126: =P127 -> 0 | R126: =R127 -> 0 | T126: =T127 -> 0 | AR126: 1 | AT126: D | AU126: 0 | AY126: ROZPOCET | BK126: =BK127 -> 3192.55
D127: D | E127: 9 | F127: Ostatné konštrukcie a práce-búranie | J127: =BK127 -> 3192.55 | P127: =SUM(P128:P136) -> 0 | R127: =SUM(R128:R136) -> 0 | T127: =SUM(T128:T136) -> 0 | AR127: 1 | AT127: D | AU127: 1 | AY127: ROZPOCET | BK127: =SUM(BK128:BK136) -> 3192.55
C128: 1 | D128: K | E128: 962032231.S2 | F128: Búranie muriva alebo vybúranie otvorov plochy nad 4 m2 nadzákladového z tehál pálených, vápenopieskových, cementových na maltu, -1,90500t | G128: m3 | H128: 46.054 | I128: 28.25 | J128: =ROUND(I128*H128,2) -> 1301.03 | N128: znížená | O128: 0 | P128: =O128*H128 -> 0 | Q128: 0 | R128: =Q128*H128 -> 0 | S128: 0 | T128: =S128*H128 -> 0 | AR128: 4 | AT128: K | AU128: 2 | AY128: ROZPOCET | BE128: =IF(N128="základná",J128,0) -> 0 | BF128: =IF(N128="znížená",J128,0) -> 1301.03 | BG128: =IF(N128="zákl. prenesená",J128,0) -> 0 | BH128: =IF(N128="zníž. prenesená",J128,0) -> 0 | BI128: =IF(N128="nulová",J128,0) -> 0 | BJ128: 2 | BK128: =ROUND(I128*H128,2) -> 1301.03 | BL128: 4 | BM128: 2
D129: VV | F129: (64,4*1,7+64,4*0,4+12,3*2*1,7-3,7*1,7*2)*0,28 | H129: 46.054 | AT129: VV | AU129: 2 | AV129: 2 | AW129: True | AX129: 0 | AY129: ROZPOCET
D130: VV | F130: Súčet | H130: 46.054 | AT130: VV | AU130: 2 | AV130: 4 | AW130: True | AX130: 1 | AY130: ROZPOCET
C131: 2 | D131: K | E131: 979082111.S | F131: Vnútrostavenisková doprava sutiny a vybúraných hmôt do 10 m | G131: t | H131: 87.733 | I131: 11.3 | J131: =ROUND(I131*H131,2) -> 991.38 | N131: znížená | O131: 0 | P131: =O131*H131 -> 0 | Q131: 0 | R131: =Q131*H131 -> 0 | S131: 0 | T131: =S131*H131 -> 0 | AR131: 4 | AT131: K | AU131: 2 | AY131: ROZPOCET | BE131: =IF(N131="základná",J131,0) -> 0 | BF131: =IF(N131="znížená",J131,0) -> 991.38 | BG131: =IF(N131="zákl. prenesená",J131,0) -> 0 | BH131: =IF(N131="zníž. prenesená",J131,0) -> 0 | BI131: =IF(N131="nulová",J131,0) -> 0 | BJ131: 2 | BK131: =ROUND(I131*H131,2) -> 991.38 | BL131: 4 | BM131: 4
D132: VV | F132: 46,054*1,905 " 1m3=1,905t" | H132: 87.733 | AT132: VV | AU132: 2 | AV132: 2 | AW132: True | AX132: 0 | AY132: ROZPOCET
D133: VV | F133: Súčet | H133: 87.733 | AT133: VV | AU133: 2 | AV133: 4 | AW133: True | AX133: 1 | AY133: ROZPOCET
C134: 3 | D134: K | E134: 979082121.S | F134: Vnútrostavenisková doprava sutiny a vybúraných hmôt za každých ďalších 5 m-30m | G134: t | H134: 526.398 | I134: 1.71 | J134: =ROUND(I134*H134,2) -> 900.14 | N134: znížená | O134: 0 | P134: =O134*H134 -> 0 | Q134: 0 | R134: =Q134*H134 -> 0 | S134: 0 | T134: =S134*H134 -> 0 | AR134: 4 | AT134: K | AU134: 2 | AY134: ROZPOCET | BE134: =IF(N134="základná",J134,0) -> 0 | BF134: =IF(N134="znížená",J134,0) -> 900.14 | BG134: =IF(N134="zákl. prenesená",J134,0) -> 0 | BH134: =IF(N134="zníž. prenesená",J134,0) -> 0 | BI134: =IF(N134="nulová",J134,0) -> 0 | BJ134: 2 | BK134: =ROUND(I134*H134,2) -> 900.14 | BL134: 4 | BM134: 6
D135: VV | F135: 87,733*6 "30 m ďalších | H135: 526.398 | AT135: VV | AU135: 2 | AV135: 2 | AW135: True | AX135: 0 | AY135: ROZPOCET
D136: VV | F136: Súčet | H136: 526.398 | AT136: VV | AU136: 2 | AV136: 4 | AW136: True | AX136: 1 | AY136: ROZPOCET
D137: D | E137: PSV | F137: Práce a dodávky PSV | J137: =BK137 -> 3711.63 | P137: =P138+P146 -> 20.60478 | R137: =R138+R146 -> 0 | T137: =T138+T146 -> 0.60858 | AR137: 2 | AT137: D | AU137: 0 | AY137: ROZPOCET | BK137: =BK138+BK146 -> 3711.63
D138: D | E138: 764 | F138: Konštrukcie klampiarske | J138: =BK138 -> 217.15 | P138: =SUM(P139:P145) -> 0 | R138: =SUM(R139:R145) -> 0 | T138: =SUM(T139:T145) -> 0 | AR138: 2 | AT138: D | AU138: 1 | AY138: ROZPOCET | BK138: =SUM(BK139:BK145) -> 217.15
C139: 4 | D139: K | E139: 764351810.S | F139: Demontáž žľabov pododkvap. štvorhranných rovných, oblúkových, do 30° rš 250 a 330 mm, -0,00347t | G139: m | H139: 128.8 | I139: 1.44 | J139: =ROUND(I139*H139,2) -> 185.47 | N139: znížená | O139: 0 | P139: =O139*H139 -> 0 | Q139: 0 | R139: =Q139*H139 -> 0 | S139: 0 | T139: =S139*H139 -> 0 | AR139: 16 | AT139: K | AU139: 2 | AY139: ROZPOCET | BE139: =IF(N139="základná",J139,0) -> 0 | BF139: =IF(N139="znížená",J139,0) -> 185.47 | BG139: =IF(N139="zákl. prenesená",J139,0) -> 0 | BH139: =IF(N139="zníž. prenesená",J139,0) -> 0 | BI139: =IF(N139="nulová",J139,0) -> 0 | BJ139: 2 | BK139: =ROUND(I139*H139,2) -> 185.47 | BL139: 16 | BM139: 8
D140: VV | F140: 64,4*2 | H140: 128.8 | AT140: VV | AU140: 2 | AV140: 2 | AW140: True | AX140: 0 | AY140: ROZPOCET
D141: VV | F141: Súčet | H141: 128.8 | AT141: VV | AU141: 2 | AV141: 4 | AW141: True | AX141: 1 | AY141: ROZPOCET
C142: 5 | D142: K | E142: 764359810.S | F142: Demontáž kotlíka kónického, so sklonom žľabu do 30st., -0,00110t | G142: ks | H142: 4 | I142: 1.93 | J142: =ROUND(I142*H142,2) -> 7.72 | N142: znížená | O142: 0 | P142: =O142*H142 -> 0 | Q142: 0 | R142: =Q142*H142 -> 0 | S142: 0 | T142: =S142*H142 -> 0 | AR142: 16 | AT142: K | AU142: 2 | AY142: ROZPOCET | BE142: =IF(N142="základná",J142,0) -> 0 | BF142: =IF(N142="znížená",J142,0) -> 7.72 | BG142: =IF(N142="zákl. prenesená",J142,0) -> 0 | BH142: =IF(N142="zníž. prenesená",J142,0) -> 0 | BI142: =IF(N142="nulová",J142,0) -> 0 | BJ142: 2 | BK142: =ROUND(I142*H142,2) -> 7.72 | BL142: 16 | BM142: 10
C143: 6 | D143: K | E143: 764451802.S | F143: Demontáž odpadových rúr štvorcových so stranou 100 mm, -0,00338t | G143: m | H143: 19.8 | I143: 1.21 | J143: =ROUND(I143*H143,2) -> 23.96 | N143: znížená | O143: 0 | P143: =O143*H143 -> 0 | Q143: 0 | R143: =Q143*H143 -> 0 | S143: 0 | T143: =S143*H143 -> 0 | AR143: 16 | AT143: K | AU143: 2 | AY143: ROZPOCET | BE143: =IF(N143="základná",J143,0) -> 0 | BF143: =IF(N143="znížená",J143,0) -> 23.96 | BG143: =IF(N143="zákl. prenesená",J143,0) -> 0 | BH143: =IF(N143="zníž. prenesená",J143,0) -> 0 | BI143: =IF(N143="nulová",J143,0) -> 0 | BJ143: 2 | BK143: =ROUND(I143*H143,2) -> 23.96 | BL143: 16 | BM143: 12
D144: VV | F144: 4*4,95 | H144: 19.8 | AT144: VV | AU144: 2 | AV144: 2 | AW144: True | AX144: 0 | AY144: ROZPOCET
D145: VV | F145: Súčet | H145: 19.8 | AT145: VV | AU145: 2 | AV145: 4 | AW145: True | AX145: 1 | AY145: ROZPOCET
D146: D | E146: 767 | F146: Konštrukcie doplnkové kovové | J146: =BK146 -> 3494.48 | P146: =SUM(P147:P158) -> 20.60478 | R146: =SUM(R147:R158) -> 0 | T146: =SUM(T147:T158) -> 0.60858 | AR146: 2 | AT146: D | AU146: 1 | AY146: ROZPOCET | BK146: =SUM(BK147:BK158) -> 3494.48
C147: 7 | D147: K | E147: 767134802.S | F147: Demontáž oplechovania stien plechmi skrutkovanými, -0,00900 t | G147: m2 | H147: 389.641 | I147: 2.3 | J147: =ROUND(I147*H147,2) -> 896.17 | N147: znížená | O147: 0 | P147: =O147*H147 -> 0 | Q147: 0 | R147: =Q147*H147 -> 0 | S147: 0 | T147: =S147*H147 -> 0 | AR147: 16 | AT147: K | AU147: 2 | AY147: ROZPOCET | BE147: =IF(N147="základná",J147,0) -> 0 | BF147: =IF(N147="znížená",J147,0) -> 896.17 | BG147: =IF(N147="zákl. prenesená",J147,0) -> 0 | BH147: =IF(N147="zníž. prenesená",J147,0) -> 0 | BI147: =IF(N147="nulová",J147,0) -> 0 | BJ147: 2 | BK147: =ROUND(I147*H147,2) -> 896.17 | BL147: 16 | BM147: 14
D148: VV | F148: (64,4*2,97+64,4*1,57+12,3*2*3,25+12,3*2,25/2*2-3,7*1,4*2) | H148: 389.641 | AT148: VV | AU148: 2 | AV148: 2 | AW148: True | AX148: 0 | AY148: ROZPOCET
D149: VV | F149: Súčet | H149: 389.641 | AT149: VV | AU149: 2 | AV149: 4 | AW149: True | AX149: 1 | AY149: ROZPOCET
C150: 8 | D150: K | E150: 767392802.S | F150: Demontáž krytín striech z plechov skrutkovaných, -0,00700t-10% | G150: m2 | H150: 86.94 | I150: 5.12 | J150: =ROUND(I150*H150,2) -> 445.13 | N150: znížená | O150: 0.237 | P150: =O150*H150 -> 20.60478 | Q150: 0 | R150: =Q150*H150 -> 0 | S150: 0.007 | T150: =S150*H150 -> 0.60858 | AR150: 16 | AT150: K | AU150: 2 | AY150: ROZPOCET | BE150: =IF(N150="základná",J150,0) -> 0 | BF150: =IF(N150="znížená",J150,0) -> 445.13 | BG150: =IF(N150="zákl. prenesená",J150,0) -> 0 | BH150: =IF(N150="zníž. prenesená",J150,0) -> 0 | BI150: =IF(N150="nulová",J150,0) -> 0 | BJ150: 2 | BK150: =ROUND(I150*H150,2) -> 445.13 | BL150: 16 | BM150: 737329837
D151: VV | F151: 64,4*13,5*0,1 "10% | H151: 86.94 | AT151: VV | AU151: 2 | AV151: 2 | AW151: True | AX151: 1 | AY151: ROZPOCET
C152: 9 | D152: K | E152: 767920860.S | F152: Demontáž vrát a vrátok s plochou jednotlivo nad 10 do 20 m2, -0,40000t | G152: ks | H152: 2 | I152: 91.17 | J152: =ROUND(I152*H152,2) -> 182.34 | N152: znížená | O152: 0 | P152: =O152*H152 -> 0 | Q152: 0 | R152: =Q152*H152 -> 0 | S152: 0 | T152: =S152*H152 -> 0 | AR152: 16 | AT152: K | AU152: 2 | AY152: ROZPOCET | BE152: =IF(N152="základná",J152,0) -> 0 | BF152: =IF(N152="znížená",J152,0) -> 182.34 | BG152: =IF(N152="zákl. prenesená",J152,0) -> 0 | BH152: =IF(N152="zníž. prenesená",J152,0) -> 0 | BI152: =IF(N152="nulová",J152,0) -> 0 | BJ152: 2 | BK152: =ROUND(I152*H152,2) -> 182.34 | BL152: 16 | BM152: 16
C153: 10 | D153: K | E153: 767996801.S | F153: Demontáž ostatných doplnkov stavieb s hmotnosťou jednotlivých dielov konštrukcií do 50 kg, -0,00100t - zábradlie | G153: kg | H153: 644 | I153: 1.1 | J153: =ROUND(I153*H153,2) -> 708.4 | N153: znížená | O153: 0 | P153: =O153*H153 -> 0 | Q153: 0 | R153: =Q153*H153 -> 0 | S153: 0 | T153: =S153*H153 -> 0 | AR153: 16 | AT153: K | AU153: 2 | AY153: ROZPOCET | BE153: =IF(N153="základná",J153,0) -> 0 | BF153: =IF(N153="znížená",J153,0) -> 708.4 | BG153: =IF(N153="zákl. prenesená",J153,0) -> 0 | BH153: =IF(N153="zníž. prenesená",J153,0) -> 0 | BI153: =IF(N153="nulová",J153,0) -> 0 | BJ153: 2 | BK153: =ROUND(I153*H153,2) -> 708.4 | BL153: 16 | BM153: 18
D154: VV | F154: 64,4*10 | H154: 644 | AT154: VV | AU154: 2 | AV154: 2 | AW154: True | AX154: 0 | AY154: ROZPOCET
D155: VV | F155: Súčet | H155: 644 | AT155: VV | AU155: 2 | AV155: 4 | AW155: True | AX155: 1 | AY155: ROZPOCET
C156: 11 | D156: K | E156: 767996802.S | F156: Demontáž ostatných doplnkov stavieb s hmotnosťou jednotlivých dielov konštr. nad 50 do 100 kg, -0,002700t -pomocná konštr. opliáštenia | G156: kg | H156: 1052.031 | I156: 1.2 | J156: =ROUND(I156*H156,2) -> 1262.44 | N156: znížená | O156: 0 | P156: =O156*H156 -> 0 | Q156: 0 | R156: =Q156*H156 -> 0 | S156: 0 | T156: =S156*H156 -> 0 | AR156: 16 | AT156: K | AU156: 2 | AY156: ROZPOCET | BE156: =IF(N156="základná",J156,0) -> 0 | BF156: =IF(N156="znížená",J156,0) -> 1262.44 | BG156: =IF(N156="zákl. prenesená",J156,0) -> 0 | BH156: =IF(N156="zníž. prenesená",J156,0) -> 0 | BI156: =IF(N156="nulová",J156,0) -> 0 | BJ156: 2 | BK156: =ROUND(I156*H156,2) -> 1262.44 | BL156: 16 | BM156: 20
D157: VV | F157: (64,4*2,97+64,4*1,57+12,3*2*3,25+12,3*2,25/2*2-3,7*1,4*2)*2,7 | H157: 1052.031 | AT157: VV | AU157: 2 | AV157: 2 | AW157: True | AX157: 0 | AY157: ROZPOCET
D158: VV | F158: Súčet | H158: 1052.031 | AT158: VV | AU158: 2 | AV158: 4 | AW158: True | AX158: 1 | AY158: ROZPOCET

Sheet 02o - Stavebné úpravy maš...
L2: >> skryté stĺpce << | AT2: {e4ff8504-46ce-4741-bad8-85f849e945ca}
AT3: 0
D4: KRYCÍ LIST ROZPOČTU | M4: v --- nižšie sa nachádzajú doplnkové a pomocné údaje k zostavám --- v | AT4: False
D6: Stavba:
E7: ='Rekapitulácia stavby'!K6 -> Stavebné úpravy maštale pre voľné ustajnenie HD p.č. 606/10, Pichné
D8: Objekt:
E9: 02o - Stavebné úpravy mašt...
D11: JKSO: | I11: ČS:
D12: Miesto: | I12: Dátum: | J12: ='Rekapitulácia stavby'!AN8 -> 4. 9. 2026
D14: Objednávateľ: | I14: IČO: | J14: 36469076
E15: JRD Pichne s.r.o., Námestie Slobody 2, Humenné | I15: IČ DPH: | J15: 2020022719
D17: Zhotoviteľ: | I17: IČO: | J17: ='Rekapitulácia stavby'!AN13
E18: ='Rekapitulácia stavby'!E14 | I18: IČ DPH: | J18: ='Rekapitulácia stavby'!AN14
D20: Projektant: | I20: IČO: | J20: 47686685
E21: Ing. Lukáš Pida - Projektovanie stavieb | I21: IČ DPH:
D23: Spracovateľ: | I23: IČO:
E24: Ing. Karol Závodský | I24: IČ DPH:
D26: Poznámka:
D30: Náklady z rozpočtu | J30: =J96 -> 203252.23
D31: Ostatné náklady | J31: =J110 -> 0
D32: Cena bez DPH | J32: =ROUND(J30 + J31, 2) -> 203252.23
F34: Základ dane | I34: Sadzba dane | J34: Výška dane
D35: DPH | E35: základná | F35: =ROUND((SUM(BE110:BE111) + SUM(BE131:BE305)), 2) -> 0 | I35: 0.23 | J35: =ROUND(((SUM(BE110:BE111) + SUM(BE131:BE305))*I35), 2) -> 0
E36: znížená | F36: =ROUND((SUM(BF110:BF111) + SUM(BF131:BF305)), 2) -> 203252.23 | I36: 0.23 | J36: =ROUND(((SUM(BF110:BF111) + SUM(BF131:BF305))*I36), 2) -> 46748.01
E37: zákl. prenesená | F37: =ROUND((SUM(BG110:BG111) + SUM(BG131:BG305)), 2) -> 0 | I37: 0.23 | J37: =0 -> 0
E38: zníž. prenesená | F38: =ROUND((SUM(BH110:BH111) + SUM(BH131:BH305)), 2) -> 0 | I38: 0.23 | J38: =0 -> 0
E39: nulová | F39: =ROUND((SUM(BI110:BI111) + SUM(BI131:BI305)), 2) -> 0 | I39: 0 | J39: =0 -> 0
D41: Cena s DPH | G41: v | H41: EUR | J41: =SUM(J32:J39) -> 250000.24
D50: Projektant | G50: Spracovateľ
D61: Dátum a podpis: | F61: Pečiatka | G61: Dátum a podpis: | J61: Pečiatka
D65: Objednávateľ | G65: Zhotoviteľ
D76: Dátum a podpis: | F76: Pečiatka | G76: Dátum a podpis: | J76: Pečiatka
C82: REKAPITULÁCIA ROZPOČTU
C84: Stavba:
E85: =E7 -> Stavebné úpravy maštale pre voľné ustajnenie HD p.č. 606/10, Pichné
C86: Objekt:
E87: =E9 -> 02o - Stavebné úpravy mašt...
C89: Miesto: | F89: =F12 | I89: Dátum: | J89: =IF(J12="","",J12) -> 4. 9. 2026
C91: Objednávateľ: | F91: =E15 -> JRD Pichne s.r.o., Námestie Slobody 2, Humenné | I91: Projektant: | J91: =E21 -> Ing. Lukáš Pida - Projektovanie stavieb
C92: Zhotoviteľ: | F92: =IF(E18="","",E18) | I92: Spracovateľ: | J92: =E24 -> Ing. Karol Závodský
C94: Kód dielu - Popis | J94: Cena celkom [EUR]
C96: 1) Náklady z rozpočtu | J96: =J131 -> 203252.23 | AU96: -1
D97: HSV - Práce a dodávky HSV | J97: =J132 -> 110120.82
D98: 1 - Zemné práce | J98: =J133 -> 5243.92
D99: 2 - Zakladanie | J99: =J154 -> 24876.31
D100: 3 - Zvislé a kompletné konštrukcie | J100: =J174 -> 26943.73
D101: 6 - Úpravy povrchov, podlahy, osadenie | J101: =J197 -> 45450.24
D102: 9 - Ostatné konštrukcie a práce | J102: =J227 -> 2850.58
D103: 99 - Presun hmôt HSV | J103: =J231 -> 4756.04
D104: PSV - Práce a dodávky PSV | J104: =J233 -> 93131.41
D105: 762 - Konštrukcie tesárske | J105: =J234 -> 5700.33
D106: 764 - Konštrukcie klampiarske | J106: =J243 -> 7036.55
D107: 767 - Konštrukcie doplnkové kovové | J107: =J252 -> 80394.53
C110: 2) Ostatné náklady | J110: 0 | N110: DPH
C112: Celkové náklady za stavbu 1) + 2) | J112: =ROUND(J96+J110,2) -> 203252.23
C118: ROZPOČET
C120: Stavba:
E121: =E7 -> Stavebné úpravy maštale pre voľné ustajnenie HD p.č. 606/10, Pichné
C122: Objekt:
E123: =E9 -> 02o - Stavebné úpravy mašt...
C125: Miesto: | F125: =F12 | I125: Dátum: | J125: =IF(J12="","",J12) -> 4. 9. 2026
C127: Objednávateľ: | F127: =E15 -> JRD Pichne s.r.o., Námestie Slobody 2, Humenné | I127: Projektant: | J127: =E21 -> Ing. Lukáš Pida - Projektovanie stavieb
C128: Zhotoviteľ: | F128: =IF(E18="","",E18) | I128: Spracovateľ: | J128: =E24 -> Ing. Karol Závodský
C130: PČ | D130: Typ | E130: Kód | F130: Popis | G130: MJ | H130: Množstvo | I130: J.cena [EUR] | J130: Cena celkom [EUR] | K130: Cenová sústava | N130: DPH | O130: J. Nh [h] | P130: Nh celkom [h] | Q130: J. hmotnosť [t] | R130: Hmotnosť celkom [t] | S130: J. suť [t] | T130: Suť Celkom [t]
C131: Náklady z rozpočtu | J131: =BK131 -> 203252.23 | P131: =P132+P233 -> 687.31841 | R131: =R132+R233 -> 1380.3758 | T131: =T132+T233 -> 0 | AT131: D | AU131: -1 | BK131: =BK132+BK233 -> 203252.23
D132: D | E132: HSV | F132: Práce a dodávky HSV | J132: =BK132 -> 110120.82 | P132: =P133+P154+P174+P197+P227+P231 -> 687.31841 | R132: =R133+R154+R174+R197+R227+R231 -> 1358.8692 | T132: =T133+T154+T174+T197+T227+T231 -> 0 | AR132: 1 | AT132: D | AU132: 0 | AY132: ROZPOCET | BK132: =BK133+BK154+BK174+BK197+BK227+BK231 -> 110120.82
D133: D | E133: 1 | F133: Zemné práce | J133: =BK133 -> 5243.92 | P133: =SUM(P134:P153) -> 0 | R133: =SUM(R134:R153) -> 0 | T133: =SUM(T134:T153) -> 0 | AR133: 1 | AT133: D | AU133: 1 | AY133: ROZPOCET | BK133: =SUM(BK134:BK153) -> 5243.92
C134: 1 | D134: K | E134: 111101101.S | F134: Odstránenie travín a tŕstia s príp. premiestnením a uložením na hromady do 50 m, pri celkovej ploche do 1000m2 | G134: m2 | H134: 966 | I134: 0.2 | J134: =ROUND(I134*H134,2) -> 193.2 | N134: znížená | O134: 0 | P134: =O134*H134 -> 0 | Q134: 0 | R134: =Q134*H134 -> 0 | S134: 0 | T134: =S134*H134 -> 0 | AR134: 4 | AT134: K | AU134: 2 | AY134: ROZPOCET | BE134: =IF(N134="základná",J134,0) -> 0 | BF134: =IF(N134="znížená",J134,0) -> 193.2 | BG134: =IF(N134="zákl. prenesená",J134,0) -> 0 | BH134: =IF(N134="zníž. prenesená",J134,0) -> 0 | BI134: =IF(N134="nulová",J134,0) -> 0 | BJ134: 2 | BK134: =ROUND(I134*H134,2) -> 193.2 | BL134: 4 | BM134: 2
D135: VV | F135: 70*(7+2)+21*8*2 | H135: 966 | AT135: VV | AU135: 2 | AV135: 2 | AW135: True | AX135: 0 | AY135: ROZPOCET
D136: VV | F136: Súčet | H136: 966 | AT136: VV | AU136: 2 | AV136: 4 | AW136: True | AX136: 1 | AY136: ROZPOCET
C137: 2 | D137: K | E137: 121101112.S | F137: Odstránenie ornice s premiestn. na hromady, so zložením na vzdialenosť do 100 m a do 1000 m3 | G137: m3 | H137: 386.4 | I137: 1.13 | J137: =ROUND(I137*H137,2) -> 436.63 | N137: znížená | O137: 0 | P137: =O137*H137 -> 0 | Q137: 0 | R137: =Q137*H137 -> 0 | S137: 0 | T137: =S137*H137 -> 0 | AR137: 4 | AT137: K | AU137: 2 | AY137: ROZPOCET | BE137: =IF(N137="základná",J137,0) -> 0 | BF137: =IF(N137="znížená",J137,0) -> 436.63 | BG137: =IF(N137="zákl. prenesená",J137,0) -> 0 | BH137: =IF(N137="zníž. prenesená",J137,0) -> 0 | BI137: =IF(N137="nulová",J137,0) -> 0 | BJ137: 2 | BK137: =ROUND(I137*H137,2) -> 436.63 | BL137: 4 | BM137: 4
D138: VV | F138: 966*0,4 | H138: 386.4 | AT138: VV | AU138: 2 | AV138: 2 | AW138: True | AX138: 0 | AY138: ROZPOCET
D139: VV | F139: Súčet | H139: 386.4 | AT139: VV | AU139: 2 | AV139: 4 | AW139: True | AX139: 1 | AY139: ROZPOCET
C140: 3 | D140: K | E140: 132201102.S | F140: Výkop ryhy do šírky 600 mm v horn.3 nad 100 m3 | G140: m3 | H140: 83.499 | I140: 23.63 | J140: =ROUND(I140*H140,2) -> 1973.08 | N140: znížená | O140: 0 | P140: =O140*H140 -> 0 | Q140: 0 | R140: =Q140*H140 -> 0 | S140: 0 | T140: =S140*H140 -> 0 | AR140: 4 | AT140: K | AU140: 2 | AY140: ROZPOCET | BE140: =IF(N140="základná",J140,0) -> 0 | BF140: =IF(N140="znížená",J140,0) -> 1973.08 | BG140: =IF(N140="zákl. prenesená",J140,0) -> 0 | BH140: =IF(N140="zníž. prenesená",J140,0) -> 0 | BI140: =IF(N140="nulová",J140,0) -> 0 | BJ140: 2 | BK140: =ROUND(I140*H140,2) -> 1973.08 | BL140: 4 | BM140: 6
D141: VV | F141: 64,24*2*0,5*1,12 | H141: 71.949 | AT141: VV | AU141: 2 | AV141: 2 | AW141: True | AX141: 0 | AY141: ROZPOCET
D142: VV | F142: (8+2,5)*2*0,5*1,1 | H142: 11.55 | AT142: VV | AU142: 2 | AV142: 2 | AW142: True | AX142: 0 | AY142: ROZPOCET
D143: VV | F143: Súčet | H143: 83.499 | AT143: VV | AU143: 2 | AV143: 4 | AW143: True | AX143: 1 | AY143: ROZPOCET
C144: 4 | D144: K | E144: 132201109.S | F144: Príplatok k cene za lepivosť pri hĺbení rýh šírky do 600 mm zapažených i nezapažených s urovnaním dna v hornine 3 | G144: m3 | H144: 83.499 | I144: 13.26 | J144: =ROUND(I144*H144,2) -> 1107.2 | N144: znížená | O144: 0 | P144: =O144*H144 -> 0 | Q144: 0 | R144: =Q144*H144 -> 0 | S144: 0 | T144: =S144*H144 -> 0 | AR144: 4 | AT144: K | AU144: 2 | AY144: ROZPOCET | BE144: =IF(N144="základná",J144,0) -> 0 | BF144: =IF(N144="znížená",J144,0) -> 1107.2 | BG144: =IF(N144="zákl. prenesená",J144,0) -> 0 | BH144: =IF(N144="zníž. prenesená",J144,0) -> 0 | BI144: =IF(N144="nulová",J144,0) -> 0 | BJ144: 2 | BK144: =ROUND(I144*H144,2) -> 1107.2 | BL144: 4 | BM144: 8
D145: VV | F145: 83,499 | H145: 83.499 | AT145: VV | AU145: 2 | AV145: 2 | AW145: True | AX145: 0 | AY145: ROZPOCET
D146: VV | F146: Súčet | H146: 83.499 | AT146: VV | AU146: 2 | AV146: 4 | AW146: True | AX146: 1 | AY146: ROZPOCET
C147: 5 | D147: K | E147: 162201102.S | F147: Vodorovné premiestnenie výkopku z horniny 1-4 nad 20-50m | G147: m3 | H147: 469.899 | I147: 2.12 | J147: =ROUND(I147*H147,2) -> 996.19 | N147: znížená | O147: 0 | P147: =O147*H147 -> 0 | Q147: 0 | R147: =Q147*H147 -> 0 | S147: 0 | T147: =S147*H147 -> 0 | AR147: 4 | AT147: K | AU147: 2 | AY147: ROZPOCET | BE147: =IF(N147="základná",J147,0) -> 0 | BF147: =IF(N147="znížená",J147,0) -> 996.19 | BG147: =IF(N147="zákl. prenesená",J147,0) -> 0 | BH147: =IF(N147="zníž. prenesená",J147,0) -> 0 | BI147: =IF(N147="nulová",J147,0) -> 0 | BJ147: 2 | BK147: =ROUND(I147*H147,2) -> 996.19 | BL147: 4 | BM147: 10
D148: VV | F148: 386,4+83,499 | H148: 469.899 | AT148: VV | AU148: 2 | AV148: 2 | AW148: True | AX148: 0 | AY148: ROZPOCET
D149: VV | F149: Súčet | H149: 469.899 | AT149: VV | AU149: 2 | AV149: 4 | AW149: True | AX149: 1 | AY149: ROZPOCET
C150: 6 | D150: K | E150: 171201202.S | F150: Uloženie sypaniny na skládky nad 100 do 1000 m3 | G150: m3 | H150: 469.899 | I150: 0.79 | J150: =ROUND(I150*H150,2) -> 371.22 | N150: znížená | O150: 0 | P150: =O150*H150 -> 0 | Q150: 0 | R150: =Q150*H150 -> 0 | S150: 0 | T150: =S150*H150 -> 0 | AR150: 4 | AT150: K | AU150: 2 | AY150: ROZPOCET | BE150: =IF(N150="základná",J150,0) -> 0 | BF150: =IF(N150="znížená",J150,0) -> 371.22 | BG150: =IF(N150="zákl. prenesená",J150,0) -> 0 | BH150: =IF(N150="zníž. prenesená",J150,0) -> 0 | BI150: =IF(N150="nulová",J150,0) -> 0 | BJ150: 2 | BK150: =ROUND(I150*H150,2) -> 371.22 | BL150: 4 | BM150: 12
D151: VV | F151: 469,899 | H151: 469.899 | AT151: VV | AU151: 2 | AV151: 2 | AW151: True | AX151: 0 | AY151: ROZPOCET
D152: VV | F152: Súčet | H152: 469.899 | AT152: VV | AU152: 2 | AV152: 4 | AW152: True | AX152: 1 | AY152: ROZPOCET
C153: 7 | D153: K | E153: 181201101.S | F153: Úprava pláne v násypoch v hornine 1-4 bez zhutnenia | G153: m2 | H153: 520 | I153: 0.32 | J153: =ROUND(I153*H153,2) -> 166.4 | N153: znížená | O153: 0 | P153: =O153*H153 -> 0 | Q153: 0 | R153: =Q153*H153 -> 0 | S153: 0 | T153: =S153*H153 -> 0 | AR153: 4 | AT153: K | AU153: 2 | AY153: ROZPOCET | BE153: =IF(N153="základná",J153,0) -> 0 | BF153: =IF(N153="znížená",J153,0) -> 166.4 | BG153: =IF(N153="zákl. prenesená",J153,0) -> 0 | BH153: =IF(N153="zníž. prenesená",J153,0) -> 0 | BI153: =IF(N153="nulová",J153,0) -> 0 | BJ153: 2 | BK153: =ROUND(I153*H153,2) -> 166.4 | BL153: 4 | BM153: 14
D154: D | E154: 2 | F154: Zakladanie | J154: =BK154 -> 24876.31 | P154: =SUM(P155:P173) -> 199.48444 | R154: =SUM(R155:R173) -> 535.7903 | T154: =SUM(T155:T173) -> 0 | AR154: 1 | AT154: D | AU154: 1 | AY154: ROZPOCET | BK154: =SUM(BK155:BK173) -> 24876.31
C155: 8 | D155: K | E155: 271573001.S | F155: Násyp pod základové konštrukcie so zhutnením zo štrkopiesku fr.0-32 mm | G155: m3 | H155: 176.223 | I155: 54.07 | J155: =ROUND(I155*H155,2) -> 9528.38 | N155: znížená | O155: 1.132 | P155: =O155*H155 -> 199.48444 | Q155: 2.07 | R155: =Q155*H155 -> 364.78161 | S155: 0 | T155: =S155*H155 -> 0 | AR155: 4 | AT155: K | AU155: 2 | AY155: ROZPOCET | BE155: =IF(N155="základná",J155,0) -> 0 | BF155: =IF(N155="znížená",J155,0) -> 9528.38 | BG155: =IF(N155="zákl. prenesená",J155,0) -> 0 | BH155: =IF(N155="zníž. prenesená",J155,0) -> 0 | BI155: =IF(N155="nulová",J155,0) -> 0 | BJ155: 2 | BK155: =ROUND(I155*H155,2) -> 9528.38 | BL155: 4 | BM155: 16
D156: VV | F156: 64,24*2*0,5*0,1 | H156: 6.424 | AT156: VV | AU156: 2 | AV156: 2 | AW156: True | AX156: 0 | AY156: ROZPOCET
D157: VV | F157: (8+2,5)*2*0,5*0,15 | H157: 1.575 | AT157: VV | AU157: 2 | AV157: 2 | AW157: True | AX157: 0 | AY157: ROZPOCET
D158: VV | F158: 64,24*7*0,20 | H158: 89.936 | AT158: VV | AU158: 2 | AV158: 2 | AW158: True | AX158: 0 | AY158: ROZPOCET
D159: VV | F159: 64,24*1*0,20 | H159: 12.848 | AT159: VV | AU159: 2 | AV159: 2 | AW159: True | AX159: 0 | AY159: ROZPOCET
D160: VV | F160: 20,45*8*2*0,20 | H160: 65.44 | AT160: VV | AU160: 2 | AV160: 2 | AW160: True | AX160: 0 | AY160: ROZPOCET
D161: VV | F161: Súčet | H161: 176.223 | AT161: VV | AU161: 2 | AV161: 4 | AW161: True | AX161: 1 | AY161: ROZPOCET
C162: 9 | D162: K | E162: 274321312.S | F162: Betón základových pásov, železový (bez výstuže), tr. C 20/25 | G162: m3 | H162: 74.215 | I162: 115.5 | J162: =ROUND(I162*H162,2) -> 8571.83 | N162: znížená | O162: 0 | P162: =O162*H162 -> 0 | Q162: 2.259 | R162: =Q162*H162 -> 167.65168 | S162: 0 | T162: =S162*H162 -> 0 | AR162: 4 | AT162: K | AU162: 2 | AY162: ROZPOCET | BE162: =IF(N162="základná",J162,0) -> 0 | BF162: =IF(N162="znížená",J162,0) -> 8571.83 | BG162: =IF(N162="zákl. prenesená",J162,0) -> 0 | BH162: =IF(N162="zníž. prenesená",J162,0) -> 0 | BI162: =IF(N162="nulová",J162,0) -> 0 | BJ162: 2 | BK162: =ROUND(I162*H162,2) -> 8571.83 | BL162: 4 | BM162: 18
D163: VV | F163: 64,24*2*0,5*1 | H163: 64.24 | AT163: VV | AU163: 2 | AV163: 2 | AW163: True | AX163: 0 | AY163: ROZPOCET
D164: VV | F164: (8+2,5)*2*0,5*0,95 | H164: 9.975 | AT164: VV | AU164: 2 | AV164: 2 | AW164: True | AX164: 0 | AY164: ROZPOCET
D165: VV | F165: Súčet | H165: 74.215 | AT165: VV | AU165: 2 | AV165: 4 | AW165: True | AX165: 1 | AY165: ROZPOCET
C166: 10 | D166: K | E166: 274351215.S | F166: Debnenie stien základových pásov, zhotovenie-dielce | G166: m2 | H166: 119.584 | I166: 17.92 | J166: =ROUND(I166*H166,2) -> 2142.95 | N166: znížená | O166: 0 | P166: =O166*H166 -> 0 | Q166: 0.00593517 | R166: =Q166*H166 -> 0.70975137 | S166: 0 | T166: =S166*H166 -> 0 | AR166: 4 | AT166: K | AU166: 2 | AY166: ROZPOCET | BE166: =IF(N166="základná",J166,0) -> 0 | BF166: =IF(N166="znížená",J166,0) -> 2142.95 | BG166: =IF(N166="zákl. prenesená",J166,0) -> 0 | BH166: =IF(N166="zníž. prenesená",J166,0) -> 0 | BI166: =IF(N166="nulová",J166,0) -> 0 | BJ166: 2 | BK166: =ROUND(I166*H166,2) -> 2142.95 | BL166: 4 | BM166: 20
...
