Workbook

Sheet Rekapitulace stavby
A1: Export Komplet | AZ1: VZ | BA1: 2.0 | BB1: ZAMOK | BT1: False | BU1: False | BV1: {fde23765-d48f-405b-ae8c-02655bdc4733}
BS2: 0,01 | BT2: 21
BS3: 0,01 | BT3: 15
D4: REKAPITULACE STAVBY | AS4: v --- níže se nacházejí doplnkové a pomocné údaje k sestavám --- v | BE4: Návod na vyplnění | BS4: 0,001
D5: Kód: | K5: K28M6821 | BE5: Měnit lze pouze buňky se žlutým podbarvením!_x000D_ _x000D_ 1) v Rekapitulaci stavby vyplňte údaje o Účastníkovi (přenesou se do ostatních sestav i v jiných listech)_x000D_ _x000D_ 2) na vybraných listech vyplňte v sestavě Soupis prací ceny u položek | BS5: 0,01
D6: Stavba: | K6: PD Pelhřimov - SSZ PPCH Pražská | BS6: 0,01
D7: KSO: | AK7: CC-CZ: | AN7: 2112 | BS7: 0,01
D8: Místo: | K8: Pelhřimov | AK8: Datum: | AN8: 19. 10. 2026 | BS8: 0,01
D9: CZ-CPV: | K9: 45316212-4 | AK9: CZ-CPA: | AN9: 42.22.22 | BS9: 0,01
D10: Zadavatel: | AK10: IČ: | AN10: 00248801 | BS10: 0,01
E11: Město Pelhřimov | AK11: DIČ: | AN11: CZ00248801 | BS11: 0,01
BS12: 0,01
D13: Účastník: | AK13: IČ: | AN13: Vyplň údaj | BS13: 0,01
E14: Vyplň údaj | AK14: DIČ: | AN14: Vyplň údaj | BS14: 0,01
BS15: False
D16: Projektant: | AK16: IČ: | AN16: 48029483 | BS16: False
E17: AŽD Praha, s.r.o. | AK17: DIČ: | AN17: CZ48029483 | BS17: True
BS18: 0,01
D19: Zpracovatel: | AK19: IČ: | AN19: 48029483 | BS19: 0,01
E20: AŽD Praha, s.r.o. | AK20: DIČ: | AN20: CZ48029483 | BS20: False
D22: Poznámka:
E23: Soupis prací je sestaven s využitím Cenové soustavy ÚRS. Položky, které pochází z této cenové soustavy, jsou ve sloupci 'Cenová soustava' označeny popisem 'CS ÚRS' a úrovní příslušného kalendářního pololetí. Veškeré další informace vymezující popis a podmínky použití těchto položek z Cenové soustavy, které nejsou uvedeny přímo v soupisu prací, jsou neomezeně dálkově k dispozici na webu podminky.urs.cz.
D26: Cena bez DPH | AK26: =ROUND(AG54,2) -> 0
L28: Sazba daně | W28: Základ daně | AK28: Výše daně
D29: DPH | F29: základní | L29: 0.21 | W29: =ROUND(AZ54, 2) -> 0 | AK29: =ROUND(AV54, 2) -> 0
F30: snížená | L30: 0.15 | W30: =ROUND(BA54, 2) -> 0 | AK30: =ROUND(AW54, 2) -> 0
F31: zákl. přenesená | L31: 0.21 | W31: =ROUND(BB54, 2) -> 0 | AK31: 0
F32: sníž. přenesená | L32: 0.15 | W32: =ROUND(BC54, 2) -> 0 | AK32: 0
F33: nulová | L33: 0 | W33: =ROUND(BD54, 2) -> 0 | AK33: 0
D35: Cena s DPH | T35: v | X35: CZK | AK35: =SUM(AK26:AK33) -> 0
C42: REKAPITULACE OBJEKTŮ STAVBY A SOUPISŮ PRACÍ
C44: Kód: | L44: =K5 -> K28M6821
C45: Stavba: | L45: =K6 -> PD Pelhřimov - SSZ PPCH Pražská
C47: Místo: | L47: =IF(K8="","",K8) -> Pelhřimov | AI47: Datum: | AM47: =IF(AN8= "","",AN8) -> 19. 10. 2026
C49: Zadavatel: | L49: =IF(E11= "","",E11) -> Město Pelhřimov | AI49: Projektant: | AM49: =IF(E17="","",E17) -> AŽD Praha, s.r.o. | AS49: Informatívní údaje z listů zakázek
C50: Účastník: | L50: =IF(E14= "Vyplň údaj","",E14) | AI50: Zpracovatel: | AM50: =IF(E20="","",E20) -> AŽD Praha, s.r.o.
C52: Kód | I52: Popis | AG52: Cena bez DPH [CZK] | AN52: Cena s DPH [CZK] | AQ52: Typ | AS52: z toho Ostat._x000D_ náklady [CZK] | AT52: DPH [CZK] | AU52: Normohodiny [h] | AV52: DPH základní [CZK] | AW52: DPH snížená [CZK] | AX52: DPH základní přenesená_x000D_ [CZK] | AY52: DPH snížená přenesená_x000D_ [CZK] | AZ52: Základna_x000D_ DPH základní | BA52: Základna_x000D_ DPH snížená | BB52: Základna_x000D_ DPH zákl. přenesená | BC52: Základna_x000D_ DPH sníž. přenesená | BD52: Základna_x000D_ DPH nulová
C54: Náklady stavby celkem | AG54: =ROUND(SUM(AG55:AG56),2) -> 0 | AN54: =SUM(AG54,AT54) -> 0 | AS54: =ROUND(SUM(AS55:AS56),2) -> 0 | AT54: =ROUND(SUM(AV54:AW54),2) -> 0 | AU54: =ROUND(SUM(AU55:AU56),5) -> 0 | AV54: =ROUND(AZ54*L29,2) -> 0 | AW54: =ROUND(BA54*L30,2) -> 0 | AX54: =ROUND(BB54*L29,2) -> 0 | AY54: =ROUND(BC54*L30,2) -> 0 | AZ54: =ROUND(SUM(AZ55:AZ56),2) -> 0 | BA54: =ROUND(SUM(BA55:BA56),2) -> 0 | BB54: =ROUND(SUM(BB55:BB56),2) -> 0 | BC54: =ROUND(SUM(BC55:BC56),2) -> 0 | BD54: =ROUND(SUM(BD55:BD56),2) -> 0 | BS54: D | BT54: 0 | BU54: ###NOIMPORT### | BV54: IMPORT | BW54: {fde23765-d48f-405b-ae8c-02655bdc4733} | BX54: {00000000-0000-0000-0000-000000000000}
A55: / | D55: PS 401 | J55: SSZ PPCH Pražská | AG55: ='PS 401 - SSZ PPCH Pražská'!J30 -> 0 | AN55: =SUM(AG55,AT55) -> 0 | AQ55: STA | AS55: 0 | AT55: =ROUND(SUM(AV55:AW55),2) -> 0 | AU55: ='PS 401 - SSZ PPCH Pražská'!P85 -> 0 | AV55: ='PS 401 - SSZ PPCH Pražská'!J33 -> 0 | AW55: ='PS 401 - SSZ PPCH Pražská'!J34 -> 0 | AX55: ='PS 401 - SSZ PPCH Pražská'!J35 -> 0 | AY55: ='PS 401 - SSZ PPCH Pražská'!J36 -> 0 | AZ55: ='PS 401 - SSZ PPCH Pražská'!F33 -> 0 | BA55: ='PS 401 - SSZ PPCH Pražská'!F34 -> 0 | BB55: ='PS 401 - SSZ PPCH Pražská'!F35 -> 0 | BC55: ='PS 401 - SSZ PPCH Pražská'!F36 -> 0 | BD55: ='PS 401 - SSZ PPCH Pražská'!F37 -> 0 | BT55: 1 | BV55: IMPORT | BW55: {dfed1048-ffcb-4826-9684-c2e1857b8eb4} | BX55: {fde23765-d48f-405b-ae8c-02655bdc4733} | CM55: 2
A56: / | D56: VRN | J56: Vedlejší rozpočtové náklady | AG56: ='VRN - Vedlejší rozpočtové...'!J30 -> 0 | AN56: =SUM(AG56,AT56) -> 0 | AQ56: STA | AS56: 0 | AT56: =ROUND(SUM(AV56:AW56),2) -> 0 | AU56: ='VRN - Vedlejší rozpočtové...'!P84 -> 0 | AV56: ='VRN - Vedlejší rozpočtové...'!J33 -> 0 | AW56: ='VRN - Vedlejší rozpočtové...'!J34 -> 0 | AX56: ='VRN - Vedlejší rozpočtové...'!J35 -> 0 | AY56: ='VRN - Vedlejší rozpočtové...'!J36 -> 0 | AZ56: ='VRN - Vedlejší rozpočtové...'!F33 -> 0 | BA56: ='VRN - Vedlejší rozpočtové...'!F34 -> 0 | BB56: ='VRN - Vedlejší rozpočtové...'!F35 -> 0 | BC56: ='VRN - Vedlejší rozpočtové...'!F36 -> 0 | BD56: ='VRN - Vedlejší rozpočtové...'!F37 -> 0 | BT56: 1 | BV56: IMPORT | BW56: {8e3eb814-9851-4dae-9a1c-d6a099fca2c2} | BX56: {fde23765-d48f-405b-ae8c-02655bdc4733} | CM56: 2

Sheet PS 401 - SSZ PPCH Pražská
AT2: {dfed1048-ffcb-4826-9684-c2e1857b8eb4}
AT3: 2
D4: KRYCÍ LIST SOUPISU PRACÍ | M4: v --- níže se nacházejí doplnkové a pomocné údaje k sestavám --- v | AT4: False
D6: Stavba:
E7: ='Rekapitulace stavby'!K6 -> PD Pelhřimov - SSZ PPCH Pražská
D8: Objekt:
E9: PS 401 - SSZ PPCH Pražská
D11: KSO: | I11: CC-CZ:
D12: Místo: | F12: Pelhřimov | I12: Datum: | J12: ='Rekapitulace stavby'!AN8 -> 19. 10. 2026
D14: Zadavatel: | I14: IČ: | J14: 00248801
E15: Město Pelhřimov | I15: DIČ: | J15: CZ00248801
D17: Účastník: | I17: IČ: | J17: ='Rekapitulace stavby'!AN13 -> Vyplň údaj
E18: ='Rekapitulace stavby'!E14 -> Vyplň údaj | I18: DIČ: | J18: ='Rekapitulace stavby'!AN14 -> Vyplň údaj
D20: Projektant: | I20: IČ: | J20: 48029483
E21: AŽD Praha, s.r.o. | I21: DIČ: | J21: CZ48029483
D23: Zpracovatel: | I23: IČ: | J23: 48029483
E24: AŽD Praha, s.r.o. | I24: DIČ: | J24: CZ48029483
D26: Poznámka:
D30: Cena bez DPH | J30: =ROUND(J85, 2) -> 0
F32: Základ daně | I32: Sazba daně | J32: Výše daně
D33: DPH | E33: základní | F33: =ROUND((SUM(BE85:BE1631)), 2) -> 0 | I33: 0.21 | J33: =ROUND(((SUM(BE85:BE1631))*I33), 2) -> 0
E34: snížená | F34: =ROUND((SUM(BF85:BF1631)), 2) -> 0 | I34: 0.15 | J34: =ROUND(((SUM(BF85:BF1631))*I34), 2) -> 0
E35: zákl. přenesená | F35: =ROUND((SUM(BG85:BG1631)), 2) -> 0 | I35: 0.21 | J35: =0 -> 0
E36: sníž. přenesená | F36: =ROUND((SUM(BH85:BH1631)), 2) -> 0 | I36: 0.15 | J36: =0 -> 0
E37: nulová | F37: =ROUND((SUM(BI85:BI1631)), 2) -> 0 | I37: 0 | J37: =0 -> 0
D39: Cena s DPH | G39: v | H39: CZK | J39: =SUM(J30:J37) -> 0
C45: REKAPITULACE ČLENĚNÍ SOUPISU PRACÍ
C47: Stavba:
E48: =E7 -> PD Pelhřimov - SSZ PPCH Pražská
C49: Objekt:
E50: =E9 -> PS 401 - SSZ PPCH Pražská
C52: Místo: | F52: =F12 -> Pelhřimov | I52: Datum: | J52: =IF(J12="","",J12) -> 19. 10. 2026
C54: Zadavatel: | F54: =E15 -> Město Pelhřimov | I54: Projektant: | J54: =E21 -> AŽD Praha, s.r.o.
C55: Účastník: | F55: =IF(E18="","",E18) -> Vyplň údaj | I55: Zpracovatel: | J55: =E24 -> AŽD Praha, s.r.o.
C57: Kód dílu - Popis | J57: Cena celkem [CZK]
C59: Náklady stavby celkem | J59: =J85 -> 0 | AU59: -1
D60: HSV - Práce a dodávky HSV | J60: =J86 -> 0
D61: 9 - Ostatní konstrukce a práce, bourání | J61: =J87 -> 0
D62: M - Práce a dodávky M | J62: =J216 -> 0
D63: 46-M - Zemní práce při extr.mont.pracích | J63: =J217 -> 0
D64: 21-M - Elektromontáže | J64: =J951 -> 0
D65: 22-M - Montáže technologických zařízení pro dopravní stavby | J65: =J1170 -> 0
C72: SOUPIS PRACÍ
C74: Stavba:
E75: =E7 -> PD Pelhřimov - SSZ PPCH Pražská
C76: Objekt:
E77: =E9 -> PS 401 - SSZ PPCH Pražská
C79: Místo: | F79: =F12 -> Pelhřimov | I79: Datum: | J79: =IF(J12="","",J12) -> 19. 10. 2026
C81: Zadavatel: | F81: =E15 -> Město Pelhřimov | I81: Projektant: | J81: =E21 -> AŽD Praha, s.r.o.
C82: Účastník: | F82: =IF(E18="","",E18) -> Vyplň údaj | I82: Zpracovatel: | J82: =E24 -> AŽD Praha, s.r.o.
C84: PČ | D84: Typ | E84: Kód | F84: Popis | G84: MJ | H84: Množství | I84: J.cena [CZK] | J84: Cena celkem [CZK] | K84: Cenová soustava | N84: DPH | O84: J. Nh [h] | P84: Nh celkem [h] | Q84: J. hmotnost [t] | R84: Hmotnost celkem [t] | S84: J. suť [t] | T84: Suť Celkem [t]
C85: Náklady soupisu celkem | J85: =BK85 -> 0 | P85: =P86+P216 -> 0 | R85: =R86+R216 -> 85.258299 | T85: =T86+T216 -> 81.907805 | AT85: D | AU85: -1 | BK85: =BK86+BK216 -> 0
D86: D | E86: HSV | F86: Práce a dodávky HSV | J86: =BK86 -> 0 | P86: =P87 -> 0 | R86: =R87 -> 0.131948 | T86: =T87 -> 1.656 | AR86: 1 | AT86: D | AU86: 0 | AY86: ROZPOCET | BK86: =BK87 -> 0
D87: D | E87: 9 | F87: Ostatní konstrukce a práce, bourání | J87: =BK87 -> 0 | P87: =SUM(P88:P215) -> 0 | R87: =SUM(R88:R215) -> 0.131948 | T87: =SUM(T88:T215) -> 1.656 | AR87: 1 | AT87: D | AU87: 1 | AY87: ROZPOCET | BK87: =SUM(BK88:BK215) -> 0
C88: 1 | D88: K | E88: 228960156 | F88: Demontáž upevňovací soupravy dopravních značek ze stožáru | G88: kus | H88: 4 | J88: =ROUND(I88*H88,2) -> 0 | K88: CS ÚRS 2026 02 | N88: základní | P88: =O88*H88 -> 0 | Q88: 0 | R88: =Q88*H88 -> 0 | S88: 0 | T88: =S88*H88 -> 0 | AR88: 4 | AT88: K | AU88: 2 | AY88: ROZPOCET | BE88: =IF(N88="základní",J88,0) -> 0 | BF88: =IF(N88="snížená",J88,0) -> 0 | BG88: =IF(N88="zákl. přenesená",J88,0) -> 0 | BH88: =IF(N88="sníž. přenesená",J88,0) -> 0 | BI88: =IF(N88="nulová",J88,0) -> 0 | BJ88: 1 | BK88: =ROUND(I88*H88,2) -> 0 | BL88: 4 | BM88: 618257684
D89: Online PSC | F89: https://podminky.urs.cz/item/CS_URS_2026_02/228960156 | AT89: Online PSC | AU89: 2
D90: VV | F90: PS 401 - v.č. 07 | AT90: VV | AU90: 2 | AV90: 1 | AW90: True | AX90: 0 | AY90: ROZPOCET
D91: VV | F91: - stožár č. 1 - demontáž stávající značky IP6 | AT91: VV | AU91: 2 | AV91: 1 | AW91: True | AX91: 0 | AY91: ROZPOCET
D92: VV | F92: 1 | H92: 1 | AT92: VV | AU92: 2 | AV92: 2 | AW92: True | AX92: 0 | AY92: ROZPOCET
D93: VV | F93: - stožár č. 2 - demontáž stávající značky IP6 | AT93: VV | AU93: 2 | AV93: 1 | AW93: True | AX93: 0 | AY93: ROZPOCET
D94: VV | F94: 1 | H94: 1 | AT94: VV | AU94: 2 | AV94: 2 | AW94: True | AX94: 0 | AY94: ROZPOCET
D95: VV | F95: - stožár č. 3 - demontáž stávající značky A11 | AT95: VV | AU95: 2 | AV95: 1 | AW95: True | AX95: 0 | AY95: ROZPOCET
D96: VV | F96: 1 | H96: 1 | AT96: VV | AU96: 2 | AV96: 2 | AW96: True | AX96: 0 | AY96: ROZPOCET
D97: VV | F97: - stožár č. 4 - demontáž stávající značky A11 | AT97: VV | AU97: 2 | AV97: 1 | AW97: True | AX97: 0 | AY97: ROZPOCET
D98: VV | F98: 1 | H98: 1 | AT98: VV | AU98: 2 | AV98: 2 | AW98: True | AX98: 0 | AY98: ROZPOCET
D99: VV | F99: Součet | H99: 4 | AT99: VV | AU99: 2 | AV99: 4 | AW99: True | AX99: 1 | AY99: ROZPOCET
C100: 2 | D100: K | E100: 966006211 | F100: Odstranění (demontáž) svislých dopravních značek s odklizením materiálu na skládku na vzdálenost do 20 m nebo s naložením na dopravní prostředek ze sloupů, sloupků nebo konzol | G100: kus | H100: 4 | J100: =ROUND(I100*H100,2) -> 0 | K100: CS ÚRS 2026 02 | N100: základní | P100: =O100*H100 -> 0 | Q100: 0 | R100: =Q100*H100 -> 0 | S100: 0.004 | T100: =S100*H100 -> 0.016 | AR100: 4 | AT100: K | AU100: 2 | AY100: ROZPOCET | BE100: =IF(N100="základní",J100,0) -> 0 | BF100: =IF(N100="snížená",J100,0) -> 0 | BG100: =IF(N100="zákl. přenesená",J100,0) -> 0 | BH100: =IF(N100="sníž. přenesená",J100,0) -> 0 | BI100: =IF(N100="nulová",J100,0) -> 0 | BJ100: 1 | BK100: =ROUND(I100*H100,2) -> 0 | BL100: 4 | BM100: 861366229
D101: Online PSC | F101: https://podminky.urs.cz/item/CS_URS_2026_02/966006211 | AT101: Online PSC | AU101: 2
D102: VV | F102: PS 401 - v.č. 07 | AT102: VV | AU102: 2 | AV102: 1 | AW102: True | AX102: 0 | AY102: ROZPOCET
D103: VV | F103: - stožár č. 1 - demontáž stávající značky IP6 | AT103: VV | AU103: 2 | AV103: 1 | AW103: True | AX103: 0 | AY103: ROZPOCET
D104: VV | F104: 1 | H104: 1 | AT104: VV | AU104: 2 | AV104: 2 | AW104: True | AX104: 0 | AY104: ROZPOCET
D105: VV | F105: - stožár č. 2 - demontáž stávající značky IP6 | AT105: VV | AU105: 2 | AV105: 1 | AW105: True | AX105: 0 | AY105: ROZPOCET
D106: VV | F106: 1 | H106: 1 | AT106: VV | AU106: 2 | AV106: 2 | AW106: True | AX106: 0 | AY106: ROZPOCET
D107: VV | F107: - stožár č. 3 - demontáž stávající značky A11 | AT107: VV | AU107: 2 | AV107: 1 | AW107: True | AX107: 0 | AY107: ROZPOCET
D108: VV | F108: 1 | H108: 1 | AT108: VV | AU108: 2 | AV108: 2 | AW108: True | AX108: 0 | AY108: ROZPOCET
D109: VV | F109: - stožár č. 4 - demontáž stávající značky A11 | AT109: VV | AU109: 2 | AV109: 1 | AW109: True | AX109: 0 | AY109: ROZPOCET
D110: VV | F110: 1 | H110: 1 | AT110: VV | AU110: 2 | AV110: 2 | AW110: True | AX110: 0 | AY110: ROZPOCET
D111: VV | F111: Součet | H111: 4 | AT111: VV | AU111: 2 | AV111: 4 | AW111: True | AX111: 1 | AY111: ROZPOCET
C112: 3 | D112: K | E112: 914111112 | F112: Montáž svislé dopravní značky základní velikosti do 1 m2 páskováním na sloupy | G112: kus | H112: 4 | J112: =ROUND(I112*H112,2) -> 0 | K112: CS ÚRS 2026 02 | N112: základní | P112: =O112*H112 -> 0 | Q112: 1e-05 | R112: =Q112*H112 -> 4e-05 | S112: 0 | T112: =S112*H112 -> 0 | AR112: 4 | AT112: K | AU112: 2 | AY112: ROZPOCET | BE112: =IF(N112="základní",J112,0) -> 0 | BF112: =IF(N112="snížená",J112,0) -> 0 | BG112: =IF(N112="zákl. přenesená",J112,0) -> 0 | BH112: =IF(N112="sníž. přenesená",J112,0) -> 0 | BI112: =IF(N112="nulová",J112,0) -> 0 | BJ112: 1 | BK112: =ROUND(I112*H112,2) -> 0 | BL112: 4 | BM112: 283932563
D113: Online PSC | F113: https://podminky.urs.cz/item/CS_URS_2026_02/914111112 | AT113: Online PSC | AU113: 2
D114: VV | F114: PS 401 - v.č. 07 | AT114: VV | AU114: 2 | AV114: 1 | AW114: True | AX114: 0 | AY114: ROZPOCET
D115: VV | F115: - stožár č. 1 - montáž stávající značky IP6 | AT115: VV | AU115: 2 | AV115: 1 | AW115: True | AX115: 0 | AY115: ROZPOCET
D116: VV | F116: 1 | H116: 1 | AT116: VV | AU116: 2 | AV116: 2 | AW116: True | AX116: 0 | AY116: ROZPOCET
D117: VV | F117: - stožár č. 2 - montáž stávající značky IP6 | AT117: VV | AU117: 2 | AV117: 1 | AW117: True | AX117: 0 | AY117: ROZPOCET
D118: VV | F118: 1 | H118: 1 | AT118: VV | AU118: 2 | AV118: 2 | AW118: True | AX118: 0 | AY118: ROZPOCET
D119: VV | F119: - stožár č. 3 - montáž stávající značky A11 | AT119: VV | AU119: 2 | AV119: 1 | AW119: True | AX119: 0 | AY119: ROZPOCET
D120: VV | F120: 1 | H120: 1 | AT120: VV | AU120: 2 | AV120: 2 | AW120: True | AX120: 0 | AY120: ROZPOCET
D121: VV | F121: - stožár č. 4 - montáž stávající značky A11 | AT121: VV | AU121: 2 | AV121: 1 | AW121: True | AX121: 0 | AY121: ROZPOCET
D122: VV | F122: 1 | H122: 1 | AT122: VV | AU122: 2 | AV122: 2 | AW122: True | AX122: 0 | AY122: ROZPOCET
D123: VV | F123: Součet | H123: 4 | AT123: VV | AU123: 2 | AV123: 4 | AW123: True | AX123: 1 | AY123: ROZPOCET
C124: 4 | D124: M | E124: 40445260 | F124: páska upínací 12,7x0,75mm | G124: m | H124: 14.4 | J124: =ROUND(I124*H124,2) -> 0 | K124: CS ÚRS 2026 02 | N124: základní | P124: =O124*H124 -> 0 | Q124: 8e-05 | R124: =Q124*H124 -> 0.001152 | S124: 0 | T124: =S124*H124 -> 0 | AR124: 256 | AT124: M | AU124: 2 | AY124: ROZPOCET | BE124: =IF(N124="základní",J124,0) -> 0 | BF124: =IF(N124="snížená",J124,0) -> 0 | BG124: =IF(N124="zákl. přenesená",J124,0) -> 0 | BH124: =IF(N124="sníž. přenesená",J124,0) -> 0 | BI124: =IF(N124="nulová",J124,0) -> 0 | BJ124: 1 | BK124: =ROUND(I124*H124,2) -> 0 | BL124: 64 | BM124: 671194463
D125: VV | F125: PS 401 - v.č. 05 | AT125: VV | AU125: 2 | AV125: 1 | AW125: True | AX125: 0 | AY125: ROZPOCET
D126: VV | F126: - stožár č. 1 - montáž stávající značky IP6 | AT126: VV | AU126: 2 | AV126: 1 | AW126: True | AX126: 0 | AY126: ROZPOCET
D127: VV | F127: (2*0,6)*1 | H127: 1.2 | AT127: VV | AU127: 2 | AV127: 2 | AW127: True | AX127: 0 | AY127: ROZPOCET
D128: VV | F128: - stožár č. 2 - montáž stávající značky IP6 | AT128: VV | AU128: 2 | AV128: 1 | AW128: True | AX128: 0 | AY128: ROZPOCET
D129: VV | F129: (2*0,6)*1 | H129: 1.2 | AT129: VV | AU129: 2 | AV129: 2 | AW129: True | AX129: 0 | AY129: ROZPOCET
D130: VV | F130: - stožár č. 3 - montáž stávající značky A11 | AT130: VV | AU130: 2 | AV130: 1 | AW130: True | AX130: 0 | AY130: ROZPOCET
D131: VV | F131: (2*0,6)*1 | H131: 1.2 | AT131: VV | AU131: 2 | AV131: 2 | AW131: True | AX131: 0 | AY131: ROZPOCET
D132: VV | F132: - stožár č. 4 - montáž stávající značky A11 | AT132: VV | AU132: 2 | AV132: 1 | AW132: True | AX132: 0 | AY132: ROZPOCET
D133: VV | F133: (2*0,6)*1 | H133: 1.2 | AT133: VV | AU133: 2 | AV133: 2 | AW133: True | AX133: 0 | AY133: ROZPOCET
...

Sheet VRN - Vedlejší rozpočtové...
AT2: {8e3eb814-9851-4dae-9a1c-d6a099fca2c2}
AT3: 2
D4: KRYCÍ LIST SOUPISU PRACÍ | M4: v --- níže se nacházejí doplnkové a pomocné údaje k sestavám --- v | AT4: False
D6: Stavba:
E7: ='Rekapitulace stavby'!K6 -> PD Pelhřimov - SSZ PPCH Pražská
D8: Objekt:
E9: VRN - Vedlejší rozpočtové náklady
D11: KSO: | I11: CC-CZ:
D12: Místo: | F12: Pelhřimov | I12: Datum: | J12: ='Rekapitulace stavby'!AN8 -> 19. 10. 2026
D14: Zadavatel: | I14: IČ: | J14: 00248801
E15: Město Pelhřimov | I15: DIČ: | J15: CZ00248801
D17: Účastník: | I17: IČ: | J17: ='Rekapitulace stavby'!AN13 -> Vyplň údaj
E18: ='Rekapitulace stavby'!E14 -> Vyplň údaj | I18: DIČ: | J18: ='Rekapitulace stavby'!AN14 -> Vyplň údaj
D20: Projektant: | I20: IČ: | J20: 48029483
E21: AŽD Praha, s.r.o. | I21: DIČ: | J21: CZ48029483
D23: Zpracovatel: | I23: IČ: | J23: 48029483
E24: AŽD Praha, s.r.o. | I24: DIČ: | J24: CZ48029483
D26: Poznámka:
D30: Cena bez DPH | J30: =ROUND(J84, 2) -> 0
F32: Základ daně | I32: Sazba daně | J32: Výše daně
D33: DPH | E33: základní | F33: =ROUND((SUM(BE84:BE148)), 2) -> 0 | I33: 0.21 | J33: =ROUND(((SUM(BE84:BE148))*I33), 2) -> 0
E34: snížená | F34: =ROUND((SUM(BF84:BF148)), 2) -> 0 | I34: 0.15 | J34: =ROUND(((SUM(BF84:BF148))*I34), 2) -> 0
E35: zákl. přenesená | F35: =ROUND((SUM(BG84:BG148)), 2) -> 0 | I35: 0.21 | J35: =0 -> 0
E36: sníž. přenesená | F36: =ROUND((SUM(BH84:BH148)), 2) -> 0 | I36: 0.15 | J36: =0 -> 0
E37: nulová | F37: =ROUND((SUM(BI84:BI148)), 2) -> 0 | I37: 0 | J37: =0 -> 0
D39: Cena s DPH | G39: v | H39: CZK | J39: =SUM(J30:J37) -> 0
C45: REKAPITULACE ČLENĚNÍ SOUPISU PRACÍ
C47: Stavba:
E48: =E7 -> PD Pelhřimov - SSZ PPCH Pražská
C49: Objekt:
E50: =E9 -> VRN - Vedlejší rozpočtové náklady
C52: Místo: | F52: =F12 -> Pelhřimov | I52: Datum: | J52: =IF(J12="","",J12) -> 19. 10. 2026
C54: Zadavatel: | F54: =E15 -> Město Pelhřimov | I54: Projektant: | J54: =E21 -> AŽD Praha, s.r.o.
C55: Účastník: | F55: =IF(E18="","",E18) -> Vyplň údaj | I55: Zpracovatel: | J55: =E24 -> AŽD Praha, s.r.o.
C57: Kód dílu - Popis | J57: Cena celkem [CZK]
C59: Náklady stavby celkem | J59: =J84 -> 0 | AU59: -1
D60: VRN - Vedlejší rozpočtové náklady | J60: =J85 -> 0
D61: VRN1 - Průzkumné, zeměměřičské a projektové práce | J61: =J86 -> 0
D62: VRN3 - Zařízení staveniště | J62: =J111 -> 0
D63: VRN4 - Inženýrská činnost | J63: =J129 -> 0
D64: VRN6 - Územní vlivy | J64: =J140 -> 0
C71: SOUPIS PRACÍ
C73: Stavba:
E74: =E7 -> PD Pelhřimov - SSZ PPCH Pražská
C75: Objekt:
E76: =E9 -> VRN - Vedlejší rozpočtové náklady
C78: Místo: | F78: =F12 -> Pelhřimov | I78: Datum: | J78: =IF(J12="","",J12) -> 19. 10. 2026
C80: Zadavatel: | F80: =E15 -> Město Pelhřimov | I80: Projektant: | J80: =E21 -> AŽD Praha, s.r.o.
C81: Účastník: | F81: =IF(E18="","",E18) -> Vyplň údaj | I81: Zpracovatel: | J81: =E24 -> AŽD Praha, s.r.o.
C83: PČ | D83: Typ | E83: Kód | F83: Popis | G83: MJ | H83: Množství | I83: J.cena [CZK] | J83: Cena celkem [CZK] | K83: Cenová soustava | N83: DPH | O83: J. Nh [h] | P83: Nh celkem [h] | Q83: J. hmotnost [t] | R83: Hmotnost celkem [t] | S83: J. suť [t] | T83: Suť Celkem [t]
C84: Náklady soupisu celkem | J84: =BK84 -> 0 | P84: =P85 -> 0 | R84: =R85 -> 0 | T84: =T85 -> 0 | AT84: D | AU84: -1 | BK84: =BK85 -> 0
D85: D | E85: VRN | F85: Vedlejší rozpočtové náklady | J85: =BK85 -> 0 | P85: =P86+P111+P129+P140 -> 0 | R85: =R86+R111+R129+R140 -> 0 | T85: =T86+T111+T129+T140 -> 0 | AR85: 5 | AT85: D | AU85: 0 | AY85: ROZPOCET | BK85: =BK86+BK111+BK129+BK140 -> 0
D86: D | E86: VRN1 | F86: Průzkumné, zeměměřičské a projektové práce | J86: =BK86 -> 0 | P86: =SUM(P87:P110) -> 0 | R86: =SUM(R87:R110) -> 0 | T86: =SUM(T87:T110) -> 0 | AR86: 5 | AT86: D | AU86: 1 | AY86: ROZPOCET | BK86: =SUM(BK87:BK110) -> 0
C87: 1 | D87: K | E87: 012234000 | F87: Vytyčení obvodu stavby | G87: kpl | H87: 1 | J87: =ROUND(I87*H87,2) -> 0 | K87: CS ÚRS 2026 02 | N87: základní | P87: =O87*H87 -> 0 | Q87: 0 | R87: =Q87*H87 -> 0 | S87: 0 | T87: =S87*H87 -> 0 | AR87: 1024 | AT87: K | AU87: 2 | AY87: ROZPOCET | BE87: =IF(N87="základní",J87,0) -> 0 | BF87: =IF(N87="snížená",J87,0) -> 0 | BG87: =IF(N87="zákl. přenesená",J87,0) -> 0 | BH87: =IF(N87="sníž. přenesená",J87,0) -> 0 | BI87: =IF(N87="nulová",J87,0) -> 0 | BJ87: 1 | BK87: =ROUND(I87*H87,2) -> 0 | BL87: 1024 | BM87: 1042639306
D88: Online PSC | F88: https://podminky.urs.cz/item/CS_URS_2026_02/012234000 | AT88: Online PSC | AU88: 2
D89: VV | F89: 1 | H89: 1 | AT89: VV | AU89: 2 | AV89: 2 | AW89: True | AX89: 0 | AY89: ROZPOCET
D90: VV | F90: Součet | H90: 1 | AT90: VV | AU90: 2 | AV90: 4 | AW90: True | AX90: 1 | AY90: ROZPOCET
C91: 2 | D91: K | E91: 012303000 | F91: Zeměměřičské práce při provádění stavby | G91: kus | H91: 1 | J91: =ROUND(I91*H91,2) -> 0 | K91: CS ÚRS 2026 02 | N91: základní | P91: =O91*H91 -> 0 | Q91: 0 | R91: =Q91*H91 -> 0 | S91: 0 | T91: =S91*H91 -> 0 | AR91: 1024 | AT91: K | AU91: 2 | AY91: ROZPOCET | BE91: =IF(N91="základní",J91,0) -> 0 | BF91: =IF(N91="snížená",J91,0) -> 0 | BG91: =IF(N91="zákl. přenesená",J91,0) -> 0 | BH91: =IF(N91="sníž. přenesená",J91,0) -> 0 | BI91: =IF(N91="nulová",J91,0) -> 0 | BJ91: 1 | BK91: =ROUND(I91*H91,2) -> 0 | BL91: 1024 | BM91: -504039498
D92: Online PSC | F92: https://podminky.urs.cz/item/CS_URS_2026_02/012303000 | AT92: Online PSC | AU92: 2
D93: VV | F93: PS 401 - v.č. B | AT93: VV | AU93: 2 | AV93: 1 | AW93: True | AX93: 0 | AY93: ROZPOCET
D94: VV | F94: - přímo zadané: | AT94: VV | AU94: 2 | AV94: 1 | AW94: True | AX94: 0 | AY94: ROZPOCET
D95: VV | F95: 1 | H95: 1 | AT95: VV | AU95: 2 | AV95: 2 | AW95: True | AX95: 1 | AY95: ROZPOCET
C96: 3 | D96: K | E96: 012403000 | F96: Zeměměřičské práce po výstavbě | G96: … | H96: 1 | J96: =ROUND(I96*H96,2) -> 0 | K96: CS ÚRS 2026 02 | N96: základní | P96: =O96*H96 -> 0 | Q96: 0 | R96: =Q96*H96 -> 0 | S96: 0 | T96: =S96*H96 -> 0 | AR96: 1024 | AT96: K | AU96: 2 | AY96: ROZPOCET | BE96: =IF(N96="základní",J96,0) -> 0 | BF96: =IF(N96="snížená",J96,0) -> 0 | BG96: =IF(N96="zákl. přenesená",J96,0) -> 0 | BH96: =IF(N96="sníž. přenesená",J96,0) -> 0 | BI96: =IF(N96="nulová",J96,0) -> 0 | BJ96: 1 | BK96: =ROUND(I96*H96,2) -> 0 | BL96: 1024 | BM96: -1418809993
D97: Online PSC | F97: https://podminky.urs.cz/item/CS_URS_2026_02/012403000 | AT97: Online PSC | AU97: 2
D98: VV | F98: PS 401 - v.č. B | AT98: VV | AU98: 2 | AV98: 1 | AW98: True | AX98: 0 | AY98: ROZPOCET
D99: VV | F99: - přímo zadané: | AT99: VV | AU99: 2 | AV99: 1 | AW99: True | AX99: 0 | AY99: ROZPOCET
D100: VV | F100: 1 | H100: 1 | AT100: VV | AU100: 2 | AV100: 2 | AW100: True | AX100: 1 | AY100: ROZPOCET
C101: 4 | D101: K | E101: 013203000 | F101: Dokumentace stavby bez rozlišení - vypracování dílenské dokumentace SSZ | G101: kus | H101: 1 | J101: =ROUND(I101*H101,2) -> 0 | K101: CS ÚRS 2026 02 | N101: základní | P101: =O101*H101 -> 0 | Q101: 0 | R101: =Q101*H101 -> 0 | S101: 0 | T101: =S101*H101 -> 0 | AR101: 1024 | AT101: K | AU101: 2 | AY101: ROZPOCET | BE101: =IF(N101="základní",J101,0) -> 0 | BF101: =IF(N101="snížená",J101,0) -> 0 | BG101: =IF(N101="zákl. přenesená",J101,0) -> 0 | BH101: =IF(N101="sníž. přenesená",J101,0) -> 0 | BI101: =IF(N101="nulová",J101,0) -> 0 | BJ101: 1 | BK101: =ROUND(I101*H101,2) -> 0 | BL101: 1024 | BM101: 150274453
D102: Online PSC | F102: https://podminky.urs.cz/item/CS_URS_2026_02/013203000 | AT102: Online PSC | AU102: 2
D103: VV | F103: PS 401 - v.č. B | AT103: VV | AU103: 2 | AV103: 1 | AW103: True | AX103: 0 | AY103: ROZPOCET
D104: VV | F104: - přímo zadané: | AT104: VV | AU104: 2 | AV104: 1 | AW104: True | AX104: 0 | AY104: ROZPOCET
D105: VV | F105: 1 | H105: 1 | AT105: VV | AU105: 2 | AV105: 2 | AW105: True | AX105: 1 | AY105: ROZPOCET
C106: 5 | D106: K | E106: 013254000 | F106: Dokumentace skutečného provedení stavby | G106: kus | H106: 1 | J106: =ROUND(I106*H106,2) -> 0 | K106: CS ÚRS 2026 02 | N106: základní | P106: =O106*H106 -> 0 | Q106: 0 | R106: =Q106*H106 -> 0 | S106: 0 | T106: =S106*H106 -> 0 | AR106: 1024 | AT106: K | AU106: 2 | AY106: ROZPOCET | BE106: =IF(N106="základní",J106,0) -> 0 | BF106: =IF(N106="snížená",J106,0) -> 0 | BG106: =IF(N106="zákl. přenesená",J106,0) -> 0 | BH106: =IF(N106="sníž. přenesená",J106,0) -> 0 | BI106: =IF(N106="nulová",J106,0) -> 0 | BJ106: 1 | BK106: =ROUND(I106*H106,2) -> 0 | BL106: 1024 | BM106: 1711213489
D107: Online PSC | F107: https://podminky.urs.cz/item/CS_URS_2026_02/013254000 | AT107: Online PSC | AU107: 2
D108: VV | F108: PS 401 - v.č. B | AT108: VV | AU108: 2 | AV108: 1 | AW108: True | AX108: 0 | AY108: ROZPOCET
D109: VV | F109: - přímo zadané: | AT109: VV | AU109: 2 | AV109: 1 | AW109: True | AX109: 0 | AY109: ROZPOCET
D110: VV | F110: 1 | H110: 1 | AT110: VV | AU110: 2 | AV110: 2 | AW110: True | AX110: 1 | AY110: ROZPOCET
D111: D | E111: VRN3 | F111: Zařízení staveniště | J111: =BK111 -> 0 | P111: =SUM(P112:P128) -> 0 | R111: =SUM(R112:R128) -> 0 | T111: =SUM(T112:T128) -> 0 | AR111: 5 | AT111: D | AU111: 1 | AY111: ROZPOCET | BK111: =SUM(BK112:BK128) -> 0
C112: 6 | D112: K | E112: 030001000 | F112: Zařízení staveniště | G112: kpl | H112: 1 | J112: =ROUND(I112*H112,2) -> 0 | K112: CS ÚRS 2026 02 | N112: základní | P112: =O112*H112 -> 0 | Q112: 0 | R112: =Q112*H112 -> 0 | S112: 0 | T112: =S112*H112 -> 0 | AR112: 1024 | AT112: K | AU112: 2 | AY112: ROZPOCET | BE112: =IF(N112="základní",J112,0) -> 0 | BF112: =IF(N112="snížená",J112,0) -> 0 | BG112: =IF(N112="zákl. přenesená",J112,0) -> 0 | BH112: =IF(N112="sníž. přenesená",J112,0) -> 0 | BI112: =IF(N112="nulová",J112,0) -> 0 | BJ112: 1 | BK112: =ROUND(I112*H112,2) -> 0 | BL112: 1024 | BM112: -1231579488
D113: Online PSC | F113: https://podminky.urs.cz/item/CS_URS_2026_02/030001000 | AT113: Online PSC | AU113: 2
D114: VV | F114: 1 | H114: 1 | AT114: VV | AU114: 2 | AV114: 2 | AW114: True | AX114: 0 | AY114: ROZPOCET
D115: VV | F115: Součet | H115: 1 | AT115: VV | AU115: 2 | AV115: 4 | AW115: True | AX115: 1 | AY115: ROZPOCET
C116: 7 | D116: K | E116: 032002000 | F116: Vybavení staveniště | G116: kus | H116: 1 | J116: =ROUND(I116*H116,2) -> 0 | K116: CS ÚRS 2026 02 | N116: základní | P116: =O116*H116 -> 0 | Q116: 0 | R116: =Q116*H116 -> 0 | S116: 0 | T116: =S116*H116 -> 0 | AR116: 1024 | AT116: K | AU116: 2 | AY116: ROZPOCET | BE116: =IF(N116="základní",J116,0) -> 0 | BF116: =IF(N116="snížená",J116,0) -> 0 | BG116: =IF(N116="zákl. přenesená",J116,0) -> 0 | BH116: =IF(N116="sníž. přenesená",J116,0) -> 0 | BI116: =IF(N116="nulová",J116,0) -> 0 | BJ116: 1 | BK116: =ROUND(I116*H116,2) -> 0 | BL116: 1024 | BM116: 24361266
D117: Online PSC | F117: https://podminky.urs.cz/item/CS_URS_2026_02/032002000 | AT117: Online PSC | AU117: 2
D118: VV | F118: PS 401 - v.č. B | AT118: VV | AU118: 2 | AV118: 1 | AW118: True | AX118: 0 | AY118: ROZPOCET
D119: VV | F119: - přímo zadané: | AT119: VV | AU119: 2 | AV119: 1 | AW119: True | AX119: 0 | AY119: ROZPOCET
D120: VV | F120: 1 | H120: 1 | AT120: VV | AU120: 2 | AV120: 2 | AW120: True | AX120: 1 | AY120: ROZPOCET
C121: 8 | D121: K | E121: 034303000-R | F121: Dopravně inženýrská opatření na staveništi - trasy pro pěší | G121: kpl | H121: 1 | J121: =ROUND(I121*H121,2) -> 0 | K121: CS ÚRS 2026 02 | N121: základní | P121: =O121*H121 -> 0 | Q121: 0 | R121: =Q121*H121 -> 0 | S121: 0 | T121: =S121*H121 -> 0 | AR121: 1024 | AT121: K | AU121: 2 | AY121: ROZPOCET | BE121: =IF(N121="základní",J121,0) -> 0 | BF121: =IF(N121="snížená",J121,0) -> 0 | BG121: =IF(N121="zákl. přenesená",J121,0) -> 0 | BH121: =IF(N121="sníž. přenesená",J121,0) -> 0 | BI121: =IF(N121="nulová",J121,0) -> 0 | BJ121: 1 | BK121: =ROUND(I121*H121,2) -> 0 | BL121: 1024 | BM121: -394394401
D122: Online PSC | F122: https://podminky.urs.cz/item/CS_URS_2026_02/034303000-R | AT122: Online PSC | AU122: 2
C123: 9 | D123: K | E123: 0343030000-R | F123: Dopravně inženýrská opatření na staveništi - vypnuté SSZ | G123: kpl | H123: 1 | J123: =ROUND(I123*H123,2) -> 0 | K123: CS ÚRS 2026 02 | N123: základní | P123: =O123*H123 -> 0 | Q123: 0 | R123: =Q123*H123 -> 0 | S123: 0 | T123: =S123*H123 -> 0 | AR123: 1024 | AT123: K | AU123: 2 | AY123: ROZPOCET | BE123: =IF(N123="základní",J123,0) -> 0 | BF123: =IF(N123="snížená",J123,0) -> 0 | BG123: =IF(N123="zákl. přenesená",J123,0) -> 0 | BH123: =IF(N123="sníž. přenesená",J123,0) -> 0 | BI123: =IF(N123="nulová",J123,0) -> 0 | BJ123: 1 | BK123: =ROUND(I123*H123,2) -> 0 | BL123: 1024 | BM123: 338981603
D124: Online PSC | F124: https://podminky.urs.cz/item/CS_URS_2026_02/0343030000-R | AT124: Online PSC | AU124: 2
C125: 10 | D125: K | E125: 039103000 | F125: Rozebrání, bourání a odvoz zařízení staveniště | G125: kpl | H125: 1 | J125: =ROUND(I125*H125,2) -> 0 | K125: CS ÚRS 2026 02 | N125: základní | P125: =O125*H125 -> 0 | Q125: 0 | R125: =Q125*H125 -> 0 | S125: 0 | T125: =S125*H125 -> 0 | AR125: 1024 | AT125: K | AU125: 2 | AY125: ROZPOCET | BE125: =IF(N125="základní",J125,0) -> 0 | BF125: =IF(N125="snížená",J125,0) -> 0 | BG125: =IF(N125="zákl. přenesená",J125,0) -> 0 | BH125: =IF(N125="sníž. přenesená",J125,0) -> 0 | BI125: =IF(N125="nulová",J125,0) -> 0 | BJ125: 1 | BK125: =ROUND(I125*H125,2) -> 0 | BL125: 1024 | BM125: 122072867
D126: Online PSC | F126: https://podminky.urs.cz/item/CS_URS_2026_02/039103000 | AT126: Online PSC | AU126: 2
D127: VV | F127: 1 | H127: 1 | AT127: VV | AU127: 2 | AV127: 2 | AW127: True | AX127: 0 | AY127: ROZPOCET
D128: VV | F128: Součet | H128: 1 | AT128: VV | AU128: 2 | AV128: 4 | AW128: True | AX128: 1 | AY128: ROZPOCET
D129: D | E129: VRN4 | F129: Inženýrská činnost | J129: =BK129 -> 0 | P129: =SUM(P130:P139) -> 0 | R129: =SUM(R130:R139) -> 0 | T129: =SUM(T130:T139) -> 0 | AR129: 5 | AT129: D | AU129: 1 | AY129: ROZPOCET | BK129: =SUM(BK130:BK139) -> 0
C130: 11 | D130: K | E130: 043103000 | F130: Zkoušky | G130: kpl | H130: 1 | J130: =ROUND(I130*H130,2) -> 0 | K130: CS ÚRS 2026 02 | N130: základní | P130: =O130*H130 -> 0 | Q130: 0 | R130: =Q130*H130 -> 0 | S130: 0 | T130: =S130*H130 -> 0 | AR130: 1024 | AT130: K | AU130: 2 | AY130: ROZPOCET | BE130: =IF(N130="základní",J130,0) -> 0 | BF130: =IF(N130="snížená",J130,0) -> 0 | BG130: =IF(N130="zákl. přenesená",J130,0) -> 0 | BH130: =IF(N130="sníž. přenesená",J130,0) -> 0 | BI130: =IF(N130="nulová",J130,0) -> 0 | BJ130: 1 | BK130: =ROUND(I130*H130,2) -> 0 | BL130: 1024 | BM130: -1297540607
D131: Online PSC | F131: https://podminky.urs.cz/item/CS_URS_2026_02/043103000 | AT131: Online PSC | AU131: 2
D132: VV | F132: 1 | H132: 1 | AT132: VV | AU132: 2 | AV132: 2 | AW132: True | AX132: 0 | AY132: ROZPOCET
D133: VV | F133: Součet | H133: 1 | AT133: VV | AU133: 2 | AV133: 4 | AW133: True | AX133: 1 | AY133: ROZPOCET
...

Sheet Pokyny pro vyplnění
C3: Struktura údajů, formát souboru a metodika pro zpracování
C4: Struktura
C6: Soubor je složen ze záložky Rekapitulace stavby a záložek s názvem soupisu prací pro jednotlivé objekty ve formátu XLSX. Každá ze záložek přitom obsahuje
C7: ještě samostatné sestavy vymezené orámovaním a nadpisem sestavy.
C9: Rekapitulace stavby obsahuje sestavu Rekapitulace stavby a Rekapitulace objektů stavby a soupisů prací.
D10: V sestavě Rekapitulace stavby jsou uvedeny informace identifikující předmět veřejné zakázky na stavební práce, KSO, CC-CZ, CZ-CPV, CZ-CPA a rekapitulaci
D11: celkové nabídkové ceny účastníka.
D13: Termínem "učastník" (resp. zhotovitel) se myslí "účastník zadávacího řízení" ve smyslu zákona o zadávání veřejných zakázek.
D15: V sestavě Rekapitulace objektů stavby a soupisů prací je uvedena rekapitulace stavebních objektů, inženýrských objektů, provozních souborů,
D16: vedlejších a ostatních nákladů a ostatních nákladů s rekapitulací nabídkové ceny za jednotlivé soupisy prací. Na základě údaje Typ je možné
D17: identifikovat, zda se jedná o objekt nebo soupis prací pro daný objekt:
E18: STA | F18: Stavební objekt pozemní
E19: ING | F19: Stavební objekt inženýrský
E20: PRO | F20: Provozní soubor
E21: VON | F21: Vedlejší a ostatní náklady
E22: OST | F22: Ostatní
E23: Soupis | F23: Soupis prací pro daný typ objektu
C25: Soupis prací pro jednotlivé objekty obsahuje sestavy Krycí list soupisu prací, Rekapitulace členění soupisu prací, Soupis prací. Za soupis prací může být považován
C26: i objekt stavby v případě, že neobsahuje podřízenou zakázku.
D27: Krycí list soupisu obsahuje rekapitulaci informací o předmětu veřejné zakázky ze sestavy Rekapitulace stavby, informaci o zařazení objektu do KSO,
D28: CC-CZ, CZ-CPV, CZ-CPA a rekapitulaci celkové nabídkové ceny účastníka za aktuální soupis prací.
D30: Rekapitulace členění soupisu prací obsahuje rekapitulaci soupisu prací ve všech úrovních členění soupisu tak, jak byla tato členění použita (např.
D31: stavební díly, funkční díly, případně jiné členění) s rekapitulací nabídkové ceny.
D33: Soupis prací obsahuje položky veškerých stavebních nebo montážních prací, dodávek materiálů a služeb nezbytných pro zhotovení stavebního objektu,
D34: inženýrského objektu, provozního souboru, vedlejších a ostatních nákladů.
D35: Pro položky soupisu prací se zobrazují následující informace:
E36: PČ | G36: Pořadové číslo položky v aktuálním soupisu
E37: TYP | G37: Typ položky: K - konstrukce, M - materiál, PP - plný popis, PSC - poznámka k souboru cen, P - poznámka k položce, VV - výkaz výměr, FIG - rozpad figur
E38: Kód | G38: Kód položky
E39: Popis | G39: Zkrácený popis položky
E40: MJ | G40: Měrná jednotka položky
E41: Množství | G41: Množství v měrné jednotce
E42: J.cena | G42: Jednotková cena položky. Zadaní může obsahovat namísto J.ceny sloupce J.materiál a J.montáž, jejichž součet definuje
G43: J.cenu položky.
E44: Cena celkem | G44: Celková cena položky daná jako součin množství a j.ceny
E45: Cenová soustava | G45: Příslušnost položky do cenové soustavy
D47: Ke každé položce soupisu prací se na samostatných řádcích může zobrazovat:
E48: Plný popis položky
E49: Poznámka k souboru cen a poznámka zadavatele
E50: Výkaz výměr
D51: Pokud je k řádku výkazu výměr evidovaný údaj ve sloupci Kód, jedná se o definovaný odkaz, na který se může odvolávat výkaz výměr z jiné položky.
C52: Metodika pro zpracování
C54: Jednotlivé sestavy jsou v souboru provázány. Editovatelné pole jsou zvýrazněny žlutým podbarvením, ostatní pole neslouží k editaci a nesmí být jakkoliv
C55: modifikovány.
C57: Účastník je pro podání nabídky povinen vyplnit žlutě podbarvená pole:
D58: Pole Účastník v sestavě Rekapitulace stavby - zde účastník vyplní svůj název (název subjektu)
D59: Pole IČ a DIČ v sestavě Rekapitulace stavby - zde účastník vyplní svoje IČ a DIČ
D60: Datum v sestavě Rekapitulace stavby - zde účastník vyplní datum vytvoření nabídky
D61: J.cena = jednotková cena v sestavě Soupis prací o maximálním počtu desetinných míst uvedených v poli
D62: - pokud sestavy soupisů prací obsahují pole J.cena, měla by být všechna tato pole vyplněna nenulovými
D63: Poznámka - nepovinný údaj pro položku soupisu
D65: V případě, že sestavy soupisů prací neobsahují pole J.cena, potom ve všech soupisech prací obsahují pole:
D66: - J.materiál - jednotková cena materiálu
D67: - J.montáž - jednotková cena montáže
D68: Účastník v tomto případě by měl vyplnit všechna pole J.materiál a pole J.montáž nenulovými kladnými číslicemi. V případech, kdy položka
D69: neobsahuje žádný materiál je přípustné, aby pole J.materiál bylo vyplněno nulou. V případech, kdy položka neobsahuje žádnou montáž je přípustné,
D70: aby pole J.montáž bylo vyplněno nulou. Obě pole - J.materiál, J.Montáž u jedné položky by však neměly být vyplněny nulou.
C75: Rekapitulace stavby
C76: Název | F76: Povinný | H76: Popis | I76: Typ | J76: Max. počet
C77: atributu | F77: (A/N) | J77: znaků
C79: Kód | F79: A | H79: Kód stavby | I79: String | J79: 20
C80: Stavba | F80: A | H80: Název stavby | I80: String | J80: 120
C81: Místo | F81: N | H81: Místo stavby | I81: String | J81: 50
C82: Datum | F82: A | H82: Datum vykonaného exportu | I82: Date
C83: KSO | F83: N | H83: Klasifikace stavebního objektu | I83: String | J83: 15
C84: CC-CZ | F84: N | H84: Klasifikace stavbeních děl | I84: String | J84: 15
C85: CZ-CPV | F85: N | H85: Společný slovník pro veřejné zakázky | I85: String | J85: 20
C86: CZ-CPA | F86: N | H86: Klasifikace produkce podle činností | I86: String | J86: 20
C87: Zadavatel | F87: N | H87: Zadavatel zadaní | I87: String | J87: 50
C88: IČ | F88: N | H88: IČ zadavatele zadaní | I88: String | J88: 20
C89: DIČ | F89: N | H89: DIČ zadavatele zadaní | I89: String | J89: 20
C90: Účastník | F90: N | H90: Účastník veřejné zakázky | I90: String | J90: 50
C91: Projektant | F91: N | H91: Projektant | I91: String | J91: 50
C92: Poznámka | F92: N | H92: Poznámka k zadání | I92: String | J92: 255
C93: Sazba DPH | F93: A | H93: Rekapitulace sazeb DPH u položek soupisů | I93: eGSazbaDph
C94: Základna DPH | F94: A | H94: Základna DPH určena součtem celkové ceny z položek soupisů | I94: Double
C95: Hodnota DPH | F95: A | H95: Hodnota DPH | I95: Double
C96: Cena bez DPH | F96: A | H96: Celková cena bez DPH za celou stavbu. Sčítává se ze všech listů. | I96: Double
C97: Cena s DPH | F97: A | H97: Celková cena s DPH za celou stavbu | I97: Double
C102: Rekapitulace objektů stavby a soupisů prací
C103: Název | F103: Povinný | H103: Popis | I103: Typ | J103: Max. počet
C104: atributu | F104: (A/N) | J104: znaků
C106: Kód | F106: A | H106: Přebírá se z Rekapitulace stavby | I106: String | J106: 20
C107: Stavba | F107: A | H107: Přebírá se z Rekapitulace stavby | I107: String | J107: 120
C108: Místo | F108: N | H108: Přebírá se z Rekapitulace stavby | I108: String | J108: 50
C109: Datum | F109: A | H109: Přebírá se z Rekapitulace stavby | I109: Date
C110: Zadavatel | F110: N | H110: Přebírá se z Rekapitulace stavby | I110: String | J110: 50
C111: Projektant | F111: N | H111: Přebírá se z Rekapitulace stavby | I111: String | J111: 50
C112: Účastník | F112: N | H112: Přebírá se z Rekapitulace stavby | I112: String | J112: 50
C113: Kód | F113: A | H113: Kód objektu | I113: String | J113: 20
C114: Objektu, Soupis prací | F114: A | H114: Název objektu | I114: String | J114: 120
C115: Cena bez DPH | F115: A | H115: Cena bez DPH za daný objekt | I115: Double
C116: Cena s DPH | F116: A | H116: Cena spolu s DPH za daný objekt | I116: Double
C117: Typ | F117: A | H117: Typ zakázky | I117: eGTypZakazky
C122: Krycí list soupisu
C123: Název | F123: Povinný | H123: Popis | I123: Typ | J123: Max. počet
C124: atributu | F124: (A/N) | J124: znaků
C126: Stavba | F126: A | H126: Přebírá se z Rekapitulace stavby | I126: String | J126: 120
C127: Objekt | F127: A | H127: Kód a název objektu | I127: String | J127: 20 + 120
C128: Soupis | F128: A | H128: Kód a název soupisu | I128: String | J128: 20 + 120
...
