Workbook

Sheet Rekapitulace stavby
A1: Export Komplet | AZ1: VZ | BA1: 2.0 | BB1: ZAMOK | BT1: False | BU1: False | BV1: {fde23765-d48f-405b-ae8c-02655bdc4733}
BS2: 0,01 | BT2: 21
BS3: 0,01 | BT3: 15
D4: REKAPITULACE STAVBY | AS4: v --- níže se nacházejí doplnkové a pomocné údaje k sestavám --- v | BE4: Návod na vyplnění | BS4: 0,001
D5: Kód: | K5: K28M6821 | BE5: Měnit lze pouze buňky se žlutým podbarvením!_x000D_ _x000D_ 1) v Rekapitulaci stavby vyplňte údaje o Účastníkovi (přenesou se do ostatních sestav i v jiných listech)_x000D_ _x000D_ 2) na vybraných listech vyplňte v sestavě Soupis prací ceny u položek | BS5: 0,01
D6: Stavba: | K6: PD Pelhřimov - SSZ PPCH Pražská | BS6: 0,01
D7: KSO: | AK7: CC-CZ: | AN7: 2112 | BS7: 0,01
D8: Místo: | K8: Pelhřimov | AK8: Datum: | AN8: 19. 10. 2026 | BS8: 0,01
D9: CZ-CPV: | K9: 45316212-4 | AK9: CZ-CPA: | AN9: 42.22.22 | BS9: 0,01
D10: Zadavatel: | AK10: IČ: | AN10: 00248801 | BS10: 0,01
E11: Město Pelhřimov | AK11: DIČ: | AN11: CZ00248801 | BS11: 0,01
BS12: 0,01
D13: Účastník: | AK13: IČ: | AN13: Vyplň údaj | BS13: 0,01
E14: Vyplň údaj | AK14: DIČ: | AN14: Vyplň údaj | BS14: 0,01
BS15: False
D16: Projektant: | AK16: IČ: | AN16: 48029483 | BS16: False
E17: AŽD Praha, s.r.o. | AK17: DIČ: | AN17: CZ48029483 | BS17: True
BS18: 0,01
D19: Zpracovatel: | AK19: IČ: | AN19: 48029483 | BS19: 0,01
E20: AŽD Praha, s.r.o. | AK20: DIČ: | AN20: CZ48029483 | BS20: False
D22: Poznámka:
E23: Soupis prací je sestaven s využitím Cenové soustavy ÚRS. Položky, které pochází z této cenové soustavy, jsou ve sloupci 'Cenová soustava' označeny popisem 'CS ÚRS' a úrovní příslušného kalendářního pololetí. Veškeré další informace vymezující popis a podmínky použití těchto položek z Cenové soustavy, které nejsou uvedeny přímo v soupisu prací, jsou neomezeně dálkově k dispozici na webu podminky.urs.cz.
D26: Cena bez DPH | AK26: =ROUND(AG54,2) -> 0
L28: Sazba daně | W28: Základ daně | AK28: Výše daně
D29: DPH | F29: základní | L29: 0.21 | W29: =ROUND(AZ54, 2) -> 0 | AK29: =ROUND(AV54, 2) -> 0
F30: snížená | L30: 0.15 | W30: =ROUND(BA54, 2) -> 0 | AK30: =ROUND(AW54, 2) -> 0
F31: zákl. přenesená | L31: 0.21 | W31: =ROUND(BB54, 2) -> 0 | AK31: 0
F32: sníž. přenesená | L32: 0.15 | W32: =ROUND(BC54, 2) -> 0 | AK32: 0
F33: nulová | L33: 0 | W33: =ROUND(BD54, 2) -> 0 | AK33: 0
D35: Cena s DPH | T35: v | X35: CZK | AK35: =SUM(AK26:AK33) -> 0
C42: REKAPITULACE OBJEKTŮ STAVBY A SOUPISŮ PRACÍ
C44: Kód: | L44: =K5 -> K28M6821
C45: Stavba: | L45: =K6 -> PD Pelhřimov - SSZ PPCH Pražská
C47: Místo: | L47: =IF(K8="","",K8) -> Pelhřimov | AI47: Datum: | AM47: =IF(AN8= "","",AN8) -> 19. 10. 2026
C49: Zadavatel: | L49: =IF(E11= "","",E11) -> Město Pelhřimov | AI49: Projektant: | AM49: =IF(E17="","",E17) -> AŽD Praha, s.r.o. | AS49: Informatívní údaje z listů zakázek
C50: Účastník: | L50: =IF(E14= "Vyplň údaj","",E14) | AI50: Zpracovatel: | AM50: =IF(E20="","",E20) -> AŽD Praha, s.r.o.
C52: Kód | I52: Popis | AG52: Cena bez DPH [CZK] | AN52: Cena s DPH [CZK] | AQ52: Typ | AS52: z toho Ostat._x000D_ náklady [CZK] | AT52: DPH [CZK] | AU52: Normohodiny [h] | AV52: DPH základní [CZK] | AW52: DPH snížená [CZK] | AX52: DPH základní přenesená_x000D_ [CZK] | AY52: DPH snížená přenesená_x000D_ [CZK] | AZ52: Základna_x000D_ DPH základní | BA52: Základna_x000D_ DPH snížená | BB52: Základna_x000D_ DPH zákl. přenesená | BC52: Základna_x000D_ DPH sníž. přenesená | BD52: Základna_x000D_ DPH nulová
C54: Náklady stavby celkem | AG54: =ROUND(SUM(AG55:AG56),2) -> 0 | AN54: =SUM(AG54,AT54) -> 0 | AS54: =ROUND(SUM(AS55:AS56),2) -> 0 | AT54: =ROUND(SUM(AV54:AW54),2) -> 0 | AU54: =ROUND(SUM(AU55:AU56),5) -> 0 | AV54: =ROUND(AZ54*L29,2) -> 0 | AW54: =ROUND(BA54*L30,2) -> 0 | AX54: =ROUND(BB54*L29,2) -> 0 | AY54: =ROUND(BC54*L30,2) -> 0 | AZ54: =ROUND(SUM(AZ55:AZ56),2) -> 0 | BA54: =ROUND(SUM(BA55:BA56),2) -> 0 | BB54: =ROUND(SUM(BB55:BB56),2) -> 0 | BC54: =ROUND(SUM(BC55:BC56),2) -> 0 | BD54: =ROUND(SUM(BD55:BD56),2) -> 0 | BS54: D | BT54: 0 | BU54: ###NOIMPORT### | BV54: IMPORT | BW54: {fde23765-d48f-405b-ae8c-02655bdc4733} | BX54: {00000000-0000-0000-0000-000000000000}
A55: / | D55: PS 401 | J55: SSZ PPCH Pražská | AG55: ='PS 401 - SSZ PPCH Pražská'!J30 -> 0 | AN55: =SUM(AG55,AT55) -> 0 | AQ55: STA | AS55: 0 | AT55: =ROUND(SUM(AV55:AW55),2) -> 0 | AU55: ='PS 401 - SSZ PPCH Pražská'!P85 -> 0 | AV55: ='PS 401 - SSZ PPCH Pražská'!J33 -> 0 | AW55: ='PS 401 - SSZ PPCH Pražská'!J34 -> 0 | AX55: ='PS 401 - SSZ PPCH Pražská'!J35 -> 0 | AY55: ='PS 401 - SSZ PPCH Pražská'!J36 -> 0 | AZ55: ='PS 401 - SSZ PPCH Pražská'!F33 -> 0 | BA55: ='PS 401 - SSZ PPCH Pražská'!F34 -> 0 | BB55: ='PS 401 - SSZ PPCH Pražská'!F35 -> 0 | BC55: ='PS 401 - SSZ PPCH Pražská'!F36 -> 0 | BD55: ='PS 401 - SSZ PPCH Pražská'!F37 -> 0 | BT55: 1 | BV55: IMPORT | BW55: {dfed1048-ffcb-4826-9684-c2e1857b8eb4} | BX55: {fde23765-d48f-405b-ae8c-02655bdc4733} | CM55: 2
A56: / | D56: VRN | J56: Vedlejší rozpočtové náklady | AG56: ='VRN - Vedlejší rozpočtové...'!J30 -> 0 | AN56: =SUM(AG56,AT56) -> 0 | AQ56: STA | AS56: 0 | AT56: =ROUND(SUM(AV56:AW56),2) -> 0 | AU56: ='VRN - Vedlejší rozpočtové...'!P84 -> 0 | AV56: ='VRN - Vedlejší rozpočtové...'!J33 -> 0 | AW56: ='VRN - Vedlejší rozpočtové...'!J34 -> 0 | AX56: ='VRN - Vedlejší rozpočtové...'!J35 -> 0 | AY56: ='VRN - Vedlejší rozpočtové...'!J36 -> 0 | AZ56: ='VRN - Vedlejší rozpočtové...'!F33 -> 0 | BA56: ='VRN - Vedlejší rozpočtové...'!F34 -> 0 | BB56: ='VRN - Vedlejší rozpočtové...'!F35 -> 0 | BC56: ='VRN - Vedlejší rozpočtové...'!F36 -> 0 | BD56: ='VRN - Vedlejší rozpočtové...'!F37 -> 0 | BT56: 1 | BV56: IMPORT | BW56: {8e3eb814-9851-4dae-9a1c-d6a099fca2c2} | BX56: {fde23765-d48f-405b-ae8c-02655bdc4733} | CM56: 2

Sheet PS 401 - SSZ PPCH Pražská
AT2: {dfed1048-ffcb-4826-9684-c2e1857b8eb4}
AT3: 2
D4: KRYCÍ LIST SOUPISU PRACÍ | M4: v --- níže se nacházejí doplnkové a pomocné údaje k sestavám --- v | AT4: False
D6: Stavba:
E7: ='Rekapitulace stavby'!K6 -> PD Pelhřimov - SSZ PPCH Pražská
D8: Objekt:
E9: PS 401 - SSZ PPCH Pražská
D11: KSO: | I11: CC-CZ:
D12: Místo: | F12: Pelhřimov | I12: Datum: | J12: ='Rekapitulace stavby'!AN8 -> 19. 10. 2026
D14: Zadavatel: | I14: IČ: | J14: 00248801
E15: Město Pelhřimov | I15: DIČ: | J15: CZ00248801
D17: Účastník: | I17: IČ: | J17: ='Rekapitulace stavby'!AN13 -> Vyplň údaj
E18: ='Rekapitulace stavby'!E14 -> Vyplň údaj | I18: DIČ: | J18: ='Rekapitulace stavby'!AN14 -> Vyplň údaj
D20: Projektant: | I20: IČ: | J20: 48029483
E21: AŽD Praha, s.r.o. | I21: DIČ: | J21: CZ48029483
D23: Zpracovatel: | I23: IČ: | J23: 48029483
E24: AŽD Praha, s.r.o. | I24: DIČ: | J24: CZ48029483
D26: Poznámka:
D30: Cena bez DPH | J30: =ROUND(J85, 2) -> 0
F32: Základ daně | I32: Sazba daně | J32: Výše daně
D33: DPH | E33: základní | F33: =ROUND((SUM(BE85:BE1631)), 2) -> 0 | I33: 0.21 | J33: =ROUND(((SUM(BE85:BE1631))*I33), 2) -> 0
E34: snížená | F34: =ROUND((SUM(BF85:BF1631)), 2) -> 0 | I34: 0.15 | J34: =ROUND(((SUM(BF85:BF1631))*I34), 2) -> 0
E35: zákl. přenesená | F35: =ROUND((SUM(BG85:BG1631)), 2) -> 0 | I35: 0.21 | J35: =0 -> 0
E36: sníž. přenesená | F36: =ROUND((SUM(BH85:BH1631)), 2) -> 0 | I36: 0.15 | J36: =0 -> 0
E37: nulová | F37: =ROUND((SUM(BI85:BI1631)), 2) -> 0 | I37: 0 | J37: =0 -> 0
D39: Cena s DPH | G39: v | H39: CZK | J39: =SUM(J30:J37) -> 0
C45: REKAPITULACE ČLENĚNÍ SOUPISU PRACÍ
C47: Stavba:
E48: =E7 -> PD Pelhřimov - SSZ PPCH Pražská
C49: Objekt:
E50: =E9 -> PS 401 - SSZ PPCH Pražská
C52: Místo: | F52: =F12 -> Pelhřimov | I52: Datum: | J52: =IF(J12="","",J12) -> 19. 10. 2026
C54: Zadavatel: | F54: =E15 -> Město Pelhřimov | I54: Projektant: | J54: =E21 -> AŽD Praha, s.r.o.
C55: Účastník: | F55: =IF(E18="","",E18) -> Vyplň údaj | I55: Zpracovatel: | J55: =E24 -> AŽD Praha, s.r.o.
C57: Kód dílu - Popis | J57: Cena celkem [CZK]
C59: Náklady stavby celkem | J59: =J85 -> 0 | AU59: -1
D60: HSV - Práce a dodávky HSV | J60: =J86 -> 0
D61: 9 - Ostatní konstrukce a práce, bourání | J61: =J87 -> 0
D62: M - Práce a dodávky M | J62: =J216 -> 0
D63: 46-M - Zemní práce při extr.mont.pracích | J63: =J217 -> 0
...

Sheet VRN - Vedlejší rozpočtové...
AT2: {8e3eb814-9851-4dae-9a1c-d6a099fca2c2}
AT3: 2
D4: KRYCÍ LIST SOUPISU PRACÍ | M4: v --- níže se nacházejí doplnkové a pomocné údaje k sestavám --- v | AT4: False
D6: Stavba:
E7: ='Rekapitulace stavby'!K6 -> PD Pelhřimov - SSZ PPCH Pražská
D8: Objekt:
E9: VRN - Vedlejší rozpočtové náklady
D11: KSO: | I11: CC-CZ:
D12: Místo: | F12: Pelhřimov | I12: Datum: | J12: ='Rekapitulace stavby'!AN8 -> 19. 10. 2026
D14: Zadavatel: | I14: IČ: | J14: 00248801
E15: Město Pelhřimov | I15: DIČ: | J15: CZ00248801
D17: Účastník: | I17: IČ: | J17: ='Rekapitulace stavby'!AN13 -> Vyplň údaj
E18: ='Rekapitulace stavby'!E14 -> Vyplň údaj | I18: DIČ: | J18: ='Rekapitulace stavby'!AN14 -> Vyplň údaj
D20: Projektant: | I20: IČ: | J20: 48029483
E21: AŽD Praha, s.r.o. | I21: DIČ: | J21: CZ48029483
D23: Zpracovatel: | I23: IČ: | J23: 48029483
E24: AŽD Praha, s.r.o. | I24: DIČ: | J24: CZ48029483
D26: Poznámka:
D30: Cena bez DPH | J30: =ROUND(J84, 2) -> 0
F32: Základ daně | I32: Sazba daně | J32: Výše daně
D33: DPH | E33: základní | F33: =ROUND((SUM(BE84:BE148)), 2) -> 0 | I33: 0.21 | J33: =ROUND(((SUM(BE84:BE148))*I33), 2) -> 0
E34: snížená | F34: =ROUND((SUM(BF84:BF148)), 2) -> 0 | I34: 0.15 | J34: =ROUND(((SUM(BF84:BF148))*I34), 2) -> 0
E35: zákl. přenesená | F35: =ROUND((SUM(BG84:BG148)), 2) -> 0 | I35: 0.21 | J35: =0 -> 0
E36: sníž. přenesená | F36: =ROUND((SUM(BH84:BH148)), 2) -> 0 | I36: 0.15 | J36: =0 -> 0
E37: nulová | F37: =ROUND((SUM(BI84:BI148)), 2) -> 0 | I37: 0 | J37: =0 -> 0
D39: Cena s DPH | G39: v | H39: CZK | J39: =SUM(J30:J37) -> 0
C45: REKAPITULACE ČLENĚNÍ SOUPISU PRACÍ
C47: Stavba:
E48: =E7 -> PD Pelhřimov - SSZ PPCH Pražská
C49: Objekt:
E50: =E9 -> VRN - Vedlejší rozpočtové náklady
C52: Místo: | F52: =F12 -> Pelhřimov | I52: Datum: | J52: =IF(J12="","",J12) -> 19. 10. 2026
C54: Zadavatel: | F54: =E15 -> Město Pelhřimov | I54: Projektant: | J54: =E21 -> AŽD Praha, s.r.o.
C55: Účastník: | F55: =IF(E18="","",E18) -> Vyplň údaj | I55: Zpracovatel: | J55: =E24 -> AŽD Praha, s.r.o.
C57: Kód dílu - Popis | J57: Cena celkem [CZK]
C59: Náklady stavby celkem | J59: =J84 -> 0 | AU59: -1
D60: VRN - Vedlejší rozpočtové náklady | J60: =J85 -> 0
D61: VRN1 - Průzkumné, zeměměřičské a projektové práce | J61: =J86 -> 0
D62: VRN3 - Zařízení staveniště | J62: =J111 -> 0
D63: VRN4 - Inženýrská činnost | J63: =J129 -> 0
...

Sheet Pokyny pro vyplnění
C3: Struktura údajů, formát souboru a metodika pro zpracování
C4: Struktura
C6: Soubor je složen ze záložky Rekapitulace stavby a záložek s názvem soupisu prací pro jednotlivé objekty ve formátu XLSX. Každá ze záložek přitom obsahuje
C7: ještě samostatné sestavy vymezené orámovaním a nadpisem sestavy.
C9: Rekapitulace stavby obsahuje sestavu Rekapitulace stavby a Rekapitulace objektů stavby a soupisů prací.
D10: V sestavě Rekapitulace stavby jsou uvedeny informace identifikující předmět veřejné zakázky na stavební práce, KSO, CC-CZ, CZ-CPV, CZ-CPA a rekapitulaci
D11: celkové nabídkové ceny účastníka.
D13: Termínem "učastník" (resp. zhotovitel) se myslí "účastník zadávacího řízení" ve smyslu zákona o zadávání veřejných zakázek.
D15: V sestavě Rekapitulace objektů stavby a soupisů prací je uvedena rekapitulace stavebních objektů, inženýrských objektů, provozních souborů,
D16: vedlejších a ostatních nákladů a ostatních nákladů s rekapitulací nabídkové ceny za jednotlivé soupisy prací. Na základě údaje Typ je možné
D17: identifikovat, zda se jedná o objekt nebo soupis prací pro daný objekt:
E18: STA | F18: Stavební objekt pozemní
E19: ING | F19: Stavební objekt inženýrský
E20: PRO | F20: Provozní soubor
E21: VON | F21: Vedlejší a ostatní náklady
E22: OST | F22: Ostatní
E23: Soupis | F23: Soupis prací pro daný typ objektu
C25: Soupis prací pro jednotlivé objekty obsahuje sestavy Krycí list soupisu prací, Rekapitulace členění soupisu prací, Soupis prací. Za soupis prací může být považován
C26: i objekt stavby v případě, že neobsahuje podřízenou zakázku.
D27: Krycí list soupisu obsahuje rekapitulaci informací o předmětu veřejné zakázky ze sestavy Rekapitulace stavby, informaci o zařazení objektu do KSO,
D28: CC-CZ, CZ-CPV, CZ-CPA a rekapitulaci celkové nabídkové ceny účastníka za aktuální soupis prací.
D30: Rekapitulace členění soupisu prací obsahuje rekapitulaci soupisu prací ve všech úrovních členění soupisu tak, jak byla tato členění použita (např.
D31: stavební díly, funkční díly, případně jiné členění) s rekapitulací nabídkové ceny.
D33: Soupis prací obsahuje položky veškerých stavebních nebo montážních prací, dodávek materiálů a služeb nezbytných pro zhotovení stavebního objektu,
D34: inženýrského objektu, provozního souboru, vedlejších a ostatních nákladů.
D35: Pro položky soupisu prací se zobrazují následující informace:
E36: PČ | G36: Pořadové číslo položky v aktuálním soupisu
E37: TYP | G37: Typ položky: K - konstrukce, M - materiál, PP - plný popis, PSC - poznámka k souboru cen, P - poznámka k položce, VV - výkaz výměr, FIG - rozpad figur
E38: Kód | G38: Kód položky
E39: Popis | G39: Zkrácený popis položky
E40: MJ | G40: Měrná jednotka položky
E41: Množství | G41: Množství v měrné jednotce
E42: J.cena | G42: Jednotková cena položky. Zadaní může obsahovat namísto J.ceny sloupce J.materiál a J.montáž, jejichž součet definuje
G43: J.cenu položky.
E44: Cena celkem | G44: Celková cena položky daná jako součin množství a j.ceny
E45: Cenová soustava | G45: Příslušnost položky do cenové soustavy
D47: Ke každé položce soupisu prací se na samostatných řádcích může zobrazovat:
E48: Plný popis položky
E49: Poznámka k souboru cen a poznámka zadavatele
E50: Výkaz výměr
...
