Workbook

Sheet Rekapitulácia stavby
A1: Export Komplet | BA1: 2.0 | BT1: False | BU1: True | BV1: {d4a15352-cb6e-4f7a-ab78-e7d7a412ff66}
AR2: >> skryté stĺpce << | BS2: 0,01 | BT2: 23
BS3: 0,01 | BT3: 23
D4: REKAPITULÁCIA STAVBY | AS4: v --- nižšie sa nachádzajú doplnkové a pomocné údaje k zostavám --- v | BG4: Návod na vyplnenie | BS4: 0,001
D5: Kód: | K5: 26-B-01 | BG5: Meniť je možné iba bunky so žltým podfarbením! 1) na prvom liste Rekapitulácie stavby vyplňte v zostave a) Rekapitulácia stavby - údaje o Zhotoviteľovi (prenesú sa do ostatných zostáv aj v iných listoch) b) Rekapitulácia objektov stavby - potrebné Ostatné náklady 2) na vybraných listoch vyplňte v zostave a) Krycí list - údaje o Zhotoviteľovi, pokiaľ sa líšia od údajov o Zhotoviteľovi na Rekapitulácii stavby (údaje se prenesú do ostatných zostav v danom liste) b) Rekapitulácia rozpočtu - potrebné Ostatné náklady c) Celkové náklady za stavbu - ceny na položkách - množstvo, pokiaľ má žlté podfarbenie - a v prípade potreby poznámku (tá je v skrytom stĺpci) Upozornenie k ekvivalentnosti: Ak sa v tomto výkaze výmer nachádza odkaz na konkrétneho výrobcu, obchodnú značku, výrobok, typ, označenie, patent, výrobný postup alebo technické riešenie, každý takýto odkaz sa považuje za doplnený slovami „alebo ekvivalentný“. Uchádzač môže oceniť a ponúknuť ekvivalentné riešenie, ktoré spĺňa rovnaké alebo lepšie technické, funkčné, kvalitatívne, energetické, bezpečnostné a úžitkové parametre a je kompatibilné s navrhovaným technickým riešením stavby. | BS5: 0,01
D6: Stavba: | K6: Integrovaný výrobný systém pre výrobu a distribúciu nealkoholických sladových produktov | BS6: 0,01
D7: JKSO: | AK7: ČS: | BS7: 0,01
D8: Miesto: | K8: Zvolen | AK8: Dátum: | BS8: 0,01
BS9: 0,01
D10: Objednávateľ: | AK10: IČO: | BS10: 0,01
AK11: IČ DPH: | BS11: 0,01
BS12: 0,01
D13: Zhotoviteľ: | AK13: IČO: | AN13: Vyplň údaj | BS13: 0,01
E14: Vyplň údaj | AK14: IČ DPH: | AN14: Vyplň údaj | BS14: 0,01
BS15: False
D16: Projektant: | AK16: IČO: | BS16: False
AK17: IČ DPH: | BS17: True
BS18: 0,01
D19: Spracovateľ: | AK19: IČO: | BS19: 0,01
E20: Ing.Miroslav Plevka | AK20: IČ DPH: | BS20: True
D22: Poznámka:
D26: Cena bez DPH | AK26: =ROUND(AG94,2) -> 0
L28: Sadzba dane | W28: Základ dane | AK28: Výška dane
D29: DPH | F29: základná | L29: 0.23 | W29: =ROUND(BB94, 2) -> #REF! | AK29: =ROUND(AX94,2) -> #REF!
F30: znížená | L30: 0.23 | W30: =ROUND(BC94, 2) -> #REF! | AK30: =ROUND(AY94,2) -> #REF!
F31: zákl. prenesená | L31: 0.23 | W31: =ROUND(BD94, 2) -> #REF! | AK31: 0
F32: zníž. prenesená | L32: 0.23 | W32: =ROUND(BE94, 2) -> #REF! | AK32: 0
F33: nulová | L33: 0 | W33: =ROUND(BF94, 2) -> #REF! | AK33: 0
D35: Cena s DPH | T35: v | X35: EUR | AK35: =SUM(AK26:AK33) -> #REF!
D49: Projektant | AH49: Spracovateľ
D60: Dátum a podpis: | V60: Pečiatka | AH60: Dátum a podpis: | AM60: Pečiatka
D64: Objednávateľ | AH64: Zhotoviteľ
D75: Dátum a podpis: | V75: Pečiatka | AH75: Dátum a podpis: | AM75: Pečiatka
C82: REKAPITULÁCIA OBJEKTOV STAVBY
C84: Kód: | L84: =K5 -> 26-B-01
C85: Stavba: | L85: =K6 -> Integrovaný výrobný systém pre výrobu a distribúciu nealkoholických sladových produktov
C87: Miesto: | L87: =IF(K8="","",K8) -> Zvolen | AI87: Dátum: | AM87: =IF(AN8= "","",AN8)
C89: Objednávateľ: | L89: =IF(E11= "","",E11) | AI89: Projektant: | AM89: =IF(E17="","",E17) | AS89: Informatívne údaje z listov zákaziek
C90: Zhotoviteľ: | L90: =IF(E14= "Vyplň údaj","",E14) | AI90: Spracovateľ: | AM90: =IF(E20="","",E20) -> Ing.Miroslav Plevka
C92: Kód | I92: Popis | AG92: Cena bez DPH [EUR] | AN92: Cena s DPH [EUR] | AQ92: Typ | AS92: z toho Materiál [EUR] | AT92: z toho Montáž [EUR] | AU92: z toho Ostat. náklady [EUR] | AV92: DPH [EUR] | AW92: Normohodiny [h] | AX92: DPH základná [EUR] | AY92: DPH znížená [EUR] | AZ92: DPH základná prenesená [EUR] | BA92: DPH znížená prenesená [EUR] | BB92: Základňa DPH základná | BC92: Základňa DPH znížená | BD92: Základňa DPH zákl. prenesená | BE92: Základňa DPH zníž. prenesená | BF92: Základňa DPH nulová
...

Sheet 26-B-01-03-01 - Stavebný ...
M2: >> skryté stĺpce << | AT2: {aa2fb747-39f5-4771-9b1b-05b92c45cc7d}
AT3: 0
D4: KRYCÍ LIST ROZPOČTU | N4: v --- nižšie sa nachádzajú doplnkové a pomocné údaje k zostavám --- v | AT4: False
D6: Stavba:
E7: ='Rekapitulácia stavby'!K6 -> Integrovaný výrobný systém pre výrobu a distribúciu nealkoholických sladových produktov
D8: Objekt:
E9: 26-B-01-03 - Stavebné úpravy
D10: Časť:
E11: 26-B-01-03-01 - Stavebný objekt
D13: JKSO: | I13: ČS:
D14: Miesto: | F14: Zvolen | I14: Dátum:
D16: Objednávateľ: | I16: IČO: | J16: =IF('Rekapitulácia stavby'!AN10="","",'Rekapitulácia stavby'!AN10)
E17: =IF('Rekapitulácia stavby'!E11="","",'Rekapitulácia stavby'!E11) | I17: IČ DPH: | J17: =IF('Rekapitulácia stavby'!AN11="","",'Rekapitulácia stavby'!AN11)
D19: Zhotoviteľ: | I19: IČO: | J19: ='Rekapitulácia stavby'!AN13 -> Vyplň údaj
E20: ='Rekapitulácia stavby'!E14 -> Vyplň údaj | I20: IČ DPH: | J20: ='Rekapitulácia stavby'!AN14 -> Vyplň údaj
D22: Projektant: | I22: IČO: | J22: =IF('Rekapitulácia stavby'!AN16="","",'Rekapitulácia stavby'!AN16)
E23: =IF('Rekapitulácia stavby'!E17="","",'Rekapitulácia stavby'!E17) | I23: IČ DPH: | J23: =IF('Rekapitulácia stavby'!AN17="","",'Rekapitulácia stavby'!AN17)
D25: Spracovateľ: | I25: IČO:
E26: Ing.Miroslav Plevka | I26: IČ DPH:
D28: Poznámka:
E32: Materiál | K32: =I98 -> 0
E33: Montáž | K33: =J98 -> 0
D34: Cena bez DPH | K34: =ROUND(K141, 2) -> 0
F36: Základ dane | I36: Sadzba dane | K36: Výška dane
D37: DPH | E37: základná | F37: =ROUND((SUM(BE141:BE406)), 2) -> 0 | I37: 0.23 | K37: =ROUND(((SUM(BE141:BE406))*I37), 2) -> 0
E38: znížená | F38: =ROUND((SUM(BF141:BF406)), 2) -> 0 | I38: 0.23 | K38: =ROUND(((SUM(BF141:BF406))*I38), 2) -> 0
E39: zákl. prenesená | F39: =ROUND((SUM(BG141:BG406)), 2) -> 0 | I39: 0.23 | K39: =0 -> 0
E40: zníž. prenesená | F40: =ROUND((SUM(BH141:BH406)), 2) -> 0 | I40: 0.23 | K40: =0 -> 0
E41: nulová | F41: =ROUND((SUM(BI141:BI406)), 2) -> 0 | I41: 0 | K41: =0 -> 0
D43: Cena s DPH | G43: v | H43: EUR | K43: =SUM(K34:K41) -> 0
D50: Projektant | G50: Spracovateľ
D61: Dátum a podpis: | F61: Pečiatka | G61: Dátum a podpis: | J61: Pečiatka
D65: Objednávateľ | G65: Zhotoviteľ
D76: Dátum a podpis: | F76: Pečiatka | G76: Dátum a podpis: | J76: Pečiatka
C82: REKAPITULÁCIA ROZPOČTU
C84: Stavba:
E85: =E7 -> Integrovaný výrobný systém pre výrobu a distribúciu nealkoholických sladových produktov
C86: Objekt:
E87: 26-B-01-03 - Stavebné úpravy
C88: Časť:
...

Sheet 26-B-01-03-02-01 - Kanali...
M2: >> skryté stĺpce << | AT2: {a036b3ae-6ce0-4482-bad5-e151a5b5b20f}
AT3: 0
D4: KRYCÍ LIST ROZPOČTU | N4: v --- nižšie sa nachádzajú doplnkové a pomocné údaje k zostavám --- v | AT4: False
D6: Stavba:
E7: ='Rekapitulácia stavby'!K6 -> Integrovaný výrobný systém pre výrobu a distribúciu nealkoholických sladových produktov
D8: Objekt:
E9: 26-B-01-03 - Stavebné úpravy
D10: Časť:
E11: 26-B-01-03-02 - Prípojky
D12: Úroveň 3:
E13: 26-B-01-03-02-01 - Kanalizačná
D15: JKSO: | I15: ČS:
D16: Miesto: | F16: Zvolen | I16: Dátum:
D18: Objednávateľ: | I18: IČO: | J18: =IF('Rekapitulácia stavby'!AN10="","",'Rekapitulácia stavby'!AN10)
E19: =IF('Rekapitulácia stavby'!E11="","",'Rekapitulácia stavby'!E11) | I19: IČ DPH: | J19: =IF('Rekapitulácia stavby'!AN11="","",'Rekapitulácia stavby'!AN11)
D21: Zhotoviteľ: | I21: IČO: | J21: ='Rekapitulácia stavby'!AN13 -> Vyplň údaj
E22: ='Rekapitulácia stavby'!E14 -> Vyplň údaj | I22: IČ DPH: | J22: ='Rekapitulácia stavby'!AN14 -> Vyplň údaj
D24: Projektant: | I24: IČO: | J24: =IF('Rekapitulácia stavby'!AN16="","",'Rekapitulácia stavby'!AN16)
E25: =IF('Rekapitulácia stavby'!E17="","",'Rekapitulácia stavby'!E17) | I25: IČ DPH: | J25: =IF('Rekapitulácia stavby'!AN17="","",'Rekapitulácia stavby'!AN17)
D27: Spracovateľ: | I27: IČO:
E28: Ing.Miroslav Plevka | I28: IČ DPH:
D30: Poznámka:
E34: Materiál | K34: =I100 -> 0
E35: Montáž | K35: =J100 -> 0
D36: Cena bez DPH | K36: =ROUND(K129, 2) -> 0
F38: Základ dane | I38: Sadzba dane | K38: Výška dane
D39: DPH | E39: základná | F39: =ROUND((SUM(BE129:BE172)), 2) -> 0 | I39: 0.23 | K39: =ROUND(((SUM(BE129:BE172))*I39), 2) -> 0
E40: znížená | F40: =ROUND((SUM(BF129:BF172)), 2) -> 0 | I40: 0.23 | K40: =ROUND(((SUM(BF129:BF172))*I40), 2) -> 0
E41: zákl. prenesená | F41: =ROUND((SUM(BG129:BG172)), 2) -> 0 | I41: 0.23 | K41: =0 -> 0
E42: zníž. prenesená | F42: =ROUND((SUM(BH129:BH172)), 2) -> 0 | I42: 0.23 | K42: =0 -> 0
E43: nulová | F43: =ROUND((SUM(BI129:BI172)), 2) -> 0 | I43: 0 | K43: =0 -> 0
D45: Cena s DPH | G45: v | H45: EUR | K45: =SUM(K36:K43) -> 0
D50: Projektant | G50: Spracovateľ
D61: Dátum a podpis: | F61: Pečiatka | G61: Dátum a podpis: | J61: Pečiatka
D65: Objednávateľ | G65: Zhotoviteľ
D76: Dátum a podpis: | F76: Pečiatka | G76: Dátum a podpis: | J76: Pečiatka
C82: REKAPITULÁCIA ROZPOČTU
C84: Stavba:
E85: =E7 -> Integrovaný výrobný systém pre výrobu a distribúciu nealkoholických sladových produktov
C86: Objekt:
...

Sheet 26-B-01-03-02-02 - Vodovodná
M2: >> skryté stĺpce << | AT2: {5aa8cb74-55cd-4eb2-9367-a229fe0f99d4}
AT3: 0
D4: KRYCÍ LIST ROZPOČTU | N4: v --- nižšie sa nachádzajú doplnkové a pomocné údaje k zostavám --- v | AT4: False
D6: Stavba:
E7: ='Rekapitulácia stavby'!K6 -> Integrovaný výrobný systém pre výrobu a distribúciu nealkoholických sladových produktov
D8: Objekt:
E9: 26-B-01-03 - Stavebné úpravy
D10: Časť:
E11: 26-B-01-03-02 - Prípojky
D12: Úroveň 3:
E13: 26-B-01-03-02-02 - Vodovodná
D15: JKSO: | I15: ČS:
D16: Miesto: | F16: Zvolen | I16: Dátum:
D18: Objednávateľ: | I18: IČO: | J18: =IF('Rekapitulácia stavby'!AN10="","",'Rekapitulácia stavby'!AN10)
E19: =IF('Rekapitulácia stavby'!E11="","",'Rekapitulácia stavby'!E11) | I19: IČ DPH: | J19: =IF('Rekapitulácia stavby'!AN11="","",'Rekapitulácia stavby'!AN11)
D21: Zhotoviteľ: | I21: IČO: | J21: ='Rekapitulácia stavby'!AN13 -> Vyplň údaj
E22: ='Rekapitulácia stavby'!E14 -> Vyplň údaj | I22: IČ DPH: | J22: ='Rekapitulácia stavby'!AN14 -> Vyplň údaj
D24: Projektant: | I24: IČO: | J24: =IF('Rekapitulácia stavby'!AN16="","",'Rekapitulácia stavby'!AN16)
E25: =IF('Rekapitulácia stavby'!E17="","",'Rekapitulácia stavby'!E17) | I25: IČ DPH: | J25: =IF('Rekapitulácia stavby'!AN17="","",'Rekapitulácia stavby'!AN17)
D27: Spracovateľ: | I27: IČO:
E28: Ing.Miroslav Plevka | I28: IČ DPH:
D30: Poznámka:
E34: Materiál | K34: =I100 -> 0
E35: Montáž | K35: =J100 -> 0
D36: Cena bez DPH | K36: =ROUND(K129, 2) -> 0
F38: Základ dane | I38: Sadzba dane | K38: Výška dane
D39: DPH | E39: základná | F39: =ROUND((SUM(BE129:BE176)), 2) -> 0 | I39: 0.23 | K39: =ROUND(((SUM(BE129:BE176))*I39), 2) -> 0
E40: znížená | F40: =ROUND((SUM(BF129:BF176)), 2) -> 0 | I40: 0.23 | K40: =ROUND(((SUM(BF129:BF176))*I40), 2) -> 0
E41: zákl. prenesená | F41: =ROUND((SUM(BG129:BG176)), 2) -> 0 | I41: 0.23 | K41: =0 -> 0
E42: zníž. prenesená | F42: =ROUND((SUM(BH129:BH176)), 2) -> 0 | I42: 0.23 | K42: =0 -> 0
E43: nulová | F43: =ROUND((SUM(BI129:BI176)), 2) -> 0 | I43: 0 | K43: =0 -> 0
D45: Cena s DPH | G45: v | H45: EUR | K45: =SUM(K36:K43) -> 0
D50: Projektant | G50: Spracovateľ
D61: Dátum a podpis: | F61: Pečiatka | G61: Dátum a podpis: | J61: Pečiatka
D65: Objednávateľ | G65: Zhotoviteľ
D76: Dátum a podpis: | F76: Pečiatka | G76: Dátum a podpis: | J76: Pečiatka
C82: REKAPITULÁCIA ROZPOČTU
C84: Stavba:
E85: =E7 -> Integrovaný výrobný systém pre výrobu a distribúciu nealkoholických sladových produktov
C86: Objekt:
...

Sheet 26-B-01-03-02-03 - NN prí...
M2: >> skryté stĺpce << | AT2: {b606aa38-201a-4381-8e81-7002bdc9e98a}
AT3: 0
D4: KRYCÍ LIST ROZPOČTU | N4: v --- nižšie sa nachádzajú doplnkové a pomocné údaje k zostavám --- v | AT4: False
D6: Stavba:
E7: ='Rekapitulácia stavby'!K6 -> Integrovaný výrobný systém pre výrobu a distribúciu nealkoholických sladových produktov
D8: Objekt:
E9: 26-B-01-03 - Stavebné úpravy
D10: Časť:
E11: 26-B-01-03-02 - Prípojky
D12: Úroveň 3:
E13: 26-B-01-03-02-03 - NN prípojka
D15: JKSO: | I15: ČS:
D16: Miesto: | F16: Zvolen | I16: Dátum:
D18: Objednávateľ: | I18: IČO: | J18: =IF('Rekapitulácia stavby'!AN10="","",'Rekapitulácia stavby'!AN10)
E19: =IF('Rekapitulácia stavby'!E11="","",'Rekapitulácia stavby'!E11) | I19: IČ DPH: | J19: =IF('Rekapitulácia stavby'!AN11="","",'Rekapitulácia stavby'!AN11)
D21: Zhotoviteľ: | I21: IČO: | J21: ='Rekapitulácia stavby'!AN13 -> Vyplň údaj
E22: ='Rekapitulácia stavby'!E14 -> Vyplň údaj | I22: IČ DPH: | J22: ='Rekapitulácia stavby'!AN14 -> Vyplň údaj
D24: Projektant: | I24: IČO: | J24: =IF('Rekapitulácia stavby'!AN16="","",'Rekapitulácia stavby'!AN16)
E25: =IF('Rekapitulácia stavby'!E17="","",'Rekapitulácia stavby'!E17) | I25: IČ DPH: | J25: =IF('Rekapitulácia stavby'!AN17="","",'Rekapitulácia stavby'!AN17)
D27: Spracovateľ: | I27: IČO:
E28: Ing.Miroslav Plevka | I28: IČ DPH:
D30: Poznámka:
E34: Materiál | K34: =I100 -> 0
E35: Montáž | K35: =J100 -> 0
D36: Cena bez DPH | K36: =ROUND(K128, 2) -> 0
F38: Základ dane | I38: Sadzba dane | K38: Výška dane
D39: DPH | E39: základná | F39: =ROUND((SUM(BE128:BE160)), 2) -> 0 | I39: 0.23 | K39: =ROUND(((SUM(BE128:BE160))*I39), 2) -> 0
E40: znížená | F40: =ROUND((SUM(BF128:BF160)), 2) -> 0 | I40: 0.23 | K40: =ROUND(((SUM(BF128:BF160))*I40), 2) -> 0
E41: zákl. prenesená | F41: =ROUND((SUM(BG128:BG160)), 2) -> 0 | I41: 0.23 | K41: =0 -> 0
E42: zníž. prenesená | F42: =ROUND((SUM(BH128:BH160)), 2) -> 0 | I42: 0.23 | K42: =0 -> 0
E43: nulová | F43: =ROUND((SUM(BI128:BI160)), 2) -> 0 | I43: 0 | K43: =0 -> 0
D45: Cena s DPH | G45: v | H45: EUR | K45: =SUM(K36:K43) -> 0
D50: Projektant | G50: Spracovateľ
D61: Dátum a podpis: | F61: Pečiatka | G61: Dátum a podpis: | J61: Pečiatka
D65: Objednávateľ | G65: Zhotoviteľ
D76: Dátum a podpis: | F76: Pečiatka | G76: Dátum a podpis: | J76: Pečiatka
C82: REKAPITULÁCIA ROZPOČTU
C84: Stavba:
E85: =E7 -> Integrovaný výrobný systém pre výrobu a distribúciu nealkoholických sladových produktov
C86: Objekt:
...

Sheet 26-B-01-03-04 - Klimatizá...
M2: >> skryté stĺpce << | AT2: {a3782149-5b7c-4426-8b1f-1a723868a7ad}
AT3: 0
D4: KRYCÍ LIST ROZPOČTU | N4: v --- nižšie sa nachádzajú doplnkové a pomocné údaje k zostavám --- v | AT4: False
D6: Stavba:
E7: ='Rekapitulácia stavby'!K6 -> Integrovaný výrobný systém pre výrobu a distribúciu nealkoholických sladových produktov
D8: Objekt:
E9: 26-B-01-03 - Stavebné úpravy
D10: Časť:
E11: 26-B-01-03-04 - Klimatizácia a vykurovanie formou klimatizačných jednotiek (TČ)
D13: JKSO: | I13: ČS:
D14: Miesto: | F14: Zvolen | I14: Dátum:
D16: Objednávateľ: | I16: IČO: | J16: =IF('Rekapitulácia stavby'!AN10="","",'Rekapitulácia stavby'!AN10)
E17: =IF('Rekapitulácia stavby'!E11="","",'Rekapitulácia stavby'!E11) | I17: IČ DPH: | J17: =IF('Rekapitulácia stavby'!AN11="","",'Rekapitulácia stavby'!AN11)
D19: Zhotoviteľ: | I19: IČO: | J19: ='Rekapitulácia stavby'!AN13 -> Vyplň údaj
E20: ='Rekapitulácia stavby'!E14 -> Vyplň údaj | I20: IČ DPH: | J20: ='Rekapitulácia stavby'!AN14 -> Vyplň údaj
D22: Projektant: | I22: IČO: | J22: =IF('Rekapitulácia stavby'!AN16="","",'Rekapitulácia stavby'!AN16)
E23: =IF('Rekapitulácia stavby'!E17="","",'Rekapitulácia stavby'!E17) | I23: IČ DPH: | J23: =IF('Rekapitulácia stavby'!AN17="","",'Rekapitulácia stavby'!AN17)
D25: Spracovateľ: | I25: IČO:
E26: Ing.Miroslav Plevka | I26: IČ DPH:
D28: Poznámka:
E32: Materiál | K32: =I98 -> 0
E33: Montáž | K33: =J98 -> 0
D34: Cena bez DPH | K34: =ROUND(K122, 2) -> 0
F36: Základ dane | I36: Sadzba dane | K36: Výška dane
D37: DPH | E37: základná | F37: =ROUND((SUM(BE122:BE127)), 2) -> 0 | I37: 0.23 | K37: =ROUND(((SUM(BE122:BE127))*I37), 2) -> 0
E38: znížená | F38: =ROUND((SUM(BF122:BF127)), 2) -> 0 | I38: 0.23 | K38: =ROUND(((SUM(BF122:BF127))*I38), 2) -> 0
E39: zákl. prenesená | F39: =ROUND((SUM(BG122:BG127)), 2) -> 0 | I39: 0.23 | K39: =0 -> 0
E40: zníž. prenesená | F40: =ROUND((SUM(BH122:BH127)), 2) -> 0 | I40: 0.23 | K40: =0 -> 0
E41: nulová | F41: =ROUND((SUM(BI122:BI127)), 2) -> 0 | I41: 0 | K41: =0 -> 0
D43: Cena s DPH | G43: v | H43: EUR | K43: =SUM(K34:K41) -> 0
D50: Projektant | G50: Spracovateľ
D61: Dátum a podpis: | F61: Pečiatka | G61: Dátum a podpis: | J61: Pečiatka
D65: Objednávateľ | G65: Zhotoviteľ
D76: Dátum a podpis: | F76: Pečiatka | G76: Dátum a podpis: | J76: Pečiatka
C82: REKAPITULÁCIA ROZPOČTU
C84: Stavba:
E85: =E7 -> Integrovaný výrobný systém pre výrobu a distribúciu nealkoholických sladových produktov
C86: Objekt:
E87: 26-B-01-03 - Stavebné úpravy
C88: Časť:
...

Sheet 26-B-01-03-05 - Elektroin...
M2: >> skryté stĺpce << | AT2: {ff833675-7db3-4bf2-9fcd-a65672669e90}
AT3: 0
D4: KRYCÍ LIST ROZPOČTU | N4: v --- nižšie sa nachádzajú doplnkové a pomocné údaje k zostavám --- v | AT4: False
D6: Stavba:
E7: ='Rekapitulácia stavby'!K6 -> Integrovaný výrobný systém pre výrobu a distribúciu nealkoholických sladových produktov
D8: Objekt:
E9: 26-B-01-03 - Stavebné úpravy
D10: Časť:
E11: 26-B-01-03-05 - Elektroinštalácie a bleskozvod
D13: JKSO: | I13: ČS:
D14: Miesto: | F14: Zvolen | I14: Dátum:
D16: Objednávateľ: | I16: IČO: | J16: =IF('Rekapitulácia stavby'!AN10="","",'Rekapitulácia stavby'!AN10)
E17: =IF('Rekapitulácia stavby'!E11="","",'Rekapitulácia stavby'!E11) | I17: IČ DPH: | J17: =IF('Rekapitulácia stavby'!AN11="","",'Rekapitulácia stavby'!AN11)
D19: Zhotoviteľ: | I19: IČO: | J19: ='Rekapitulácia stavby'!AN13 -> Vyplň údaj
E20: ='Rekapitulácia stavby'!E14 -> Vyplň údaj | I20: IČ DPH: | J20: ='Rekapitulácia stavby'!AN14 -> Vyplň údaj
D22: Projektant: | I22: IČO: | J22: =IF('Rekapitulácia stavby'!AN16="","",'Rekapitulácia stavby'!AN16)
E23: =IF('Rekapitulácia stavby'!E17="","",'Rekapitulácia stavby'!E17) | I23: IČ DPH: | J23: =IF('Rekapitulácia stavby'!AN17="","",'Rekapitulácia stavby'!AN17)
D25: Spracovateľ: | I25: IČO:
E26: Ing.Miroslav Plevka | I26: IČ DPH:
D28: Poznámka:
E32: Materiál | K32: =I98 -> 0
E33: Montáž | K33: =J98 -> 0
D34: Cena bez DPH | K34: =ROUND(K125, 2) -> 0
F36: Základ dane | I36: Sadzba dane | K36: Výška dane
D37: DPH | E37: základná | F37: =ROUND((SUM(BE125:BE219)), 2) -> 0 | I37: 0.23 | K37: =ROUND(((SUM(BE125:BE219))*I37), 2) -> 0
E38: znížená | F38: =ROUND((SUM(BF125:BF219)), 2) -> 0 | I38: 0.23 | K38: =ROUND(((SUM(BF125:BF219))*I38), 2) -> 0
E39: zákl. prenesená | F39: =ROUND((SUM(BG125:BG219)), 2) -> 0 | I39: 0.23 | K39: =0 -> 0
E40: zníž. prenesená | F40: =ROUND((SUM(BH125:BH219)), 2) -> 0 | I40: 0.23 | K40: =0 -> 0
E41: nulová | F41: =ROUND((SUM(BI125:BI219)), 2) -> 0 | I41: 0 | K41: =0 -> 0
D43: Cena s DPH | G43: v | H43: EUR | K43: =SUM(K34:K41) -> 0
D50: Projektant | G50: Spracovateľ
D61: Dátum a podpis: | F61: Pečiatka | G61: Dátum a podpis: | J61: Pečiatka
D65: Objednávateľ | G65: Zhotoviteľ
D76: Dátum a podpis: | F76: Pečiatka | G76: Dátum a podpis: | J76: Pečiatka
C82: REKAPITULÁCIA ROZPOČTU
C84: Stavba:
E85: =E7 -> Integrovaný výrobný systém pre výrobu a distribúciu nealkoholických sladových produktov
C86: Objekt:
E87: 26-B-01-03 - Stavebné úpravy
C88: Časť:
...

Sheet 26-B-01-03-06 - Zdravotec...
M2: >> skryté stĺpce << | AT2: {a0c4e9ca-dbdb-4e6a-bee3-7c145aeef699}
AT3: 0
D4: KRYCÍ LIST ROZPOČTU | N4: v --- nižšie sa nachádzajú doplnkové a pomocné údaje k zostavám --- v | AT4: False
D6: Stavba:
E7: ='Rekapitulácia stavby'!K6 -> Integrovaný výrobný systém pre výrobu a distribúciu nealkoholických sladových produktov
D8: Objekt:
E9: 26-B-01-03 - Stavebné úpravy
D10: Časť:
E11: 26-B-01-03-06 - Zdravotechnické inštalácie
D13: JKSO: | I13: ČS:
D14: Miesto: | F14: Zvolen | I14: Dátum:
D16: Objednávateľ: | I16: IČO: | J16: =IF('Rekapitulácia stavby'!AN10="","",'Rekapitulácia stavby'!AN10)
E17: =IF('Rekapitulácia stavby'!E11="","",'Rekapitulácia stavby'!E11) | I17: IČ DPH: | J17: =IF('Rekapitulácia stavby'!AN11="","",'Rekapitulácia stavby'!AN11)
D19: Zhotoviteľ: | I19: IČO: | J19: ='Rekapitulácia stavby'!AN13 -> Vyplň údaj
E20: ='Rekapitulácia stavby'!E14 -> Vyplň údaj | I20: IČ DPH: | J20: ='Rekapitulácia stavby'!AN14 -> Vyplň údaj
D22: Projektant: | I22: IČO: | J22: =IF('Rekapitulácia stavby'!AN16="","",'Rekapitulácia stavby'!AN16)
E23: =IF('Rekapitulácia stavby'!E17="","",'Rekapitulácia stavby'!E17) | I23: IČ DPH: | J23: =IF('Rekapitulácia stavby'!AN17="","",'Rekapitulácia stavby'!AN17)
D25: Spracovateľ: | I25: IČO:
E26: Ing.Miroslav Plevka | I26: IČ DPH:
D28: Poznámka:
E32: Materiál | K32: =I98 -> 0
E33: Montáž | K33: =J98 -> 0
D34: Cena bez DPH | K34: =ROUND(K125, 2) -> 0
F36: Základ dane | I36: Sadzba dane | K36: Výška dane
D37: DPH | E37: základná | F37: =ROUND((SUM(BE125:BE206)), 2) -> 0 | I37: 0.23 | K37: =ROUND(((SUM(BE125:BE206))*I37), 2) -> 0
E38: znížená | F38: =ROUND((SUM(BF125:BF206)), 2) -> 0 | I38: 0.23 | K38: =ROUND(((SUM(BF125:BF206))*I38), 2) -> 0
E39: zákl. prenesená | F39: =ROUND((SUM(BG125:BG206)), 2) -> 0 | I39: 0.23 | K39: =0 -> 0
E40: zníž. prenesená | F40: =ROUND((SUM(BH125:BH206)), 2) -> 0 | I40: 0.23 | K40: =0 -> 0
E41: nulová | F41: =ROUND((SUM(BI125:BI206)), 2) -> 0 | I41: 0 | K41: =0 -> 0
D43: Cena s DPH | G43: v | H43: EUR | K43: =SUM(K34:K41) -> 0
D50: Projektant | G50: Spracovateľ
D61: Dátum a podpis: | F61: Pečiatka | G61: Dátum a podpis: | J61: Pečiatka
D65: Objednávateľ | G65: Zhotoviteľ
D76: Dátum a podpis: | F76: Pečiatka | G76: Dátum a podpis: | J76: Pečiatka
C82: REKAPITULÁCIA ROZPOČTU
C84: Stavba:
E85: =E7 -> Integrovaný výrobný systém pre výrobu a distribúciu nealkoholických sladových produktov
C86: Objekt:
E87: 26-B-01-03 - Stavebné úpravy
C88: Časť:
...
