Workbook

Sheet Rekapitulácia stavby
A1: Export Komplet | BA1: 2.0 | BT1: False | BU1: True | BV1: {d4a15352-cb6e-4f7a-ab78-e7d7a412ff66}
AR2: >> skryté stĺpce << | BS2: 0,01 | BT2: 23
BS3: 0,01 | BT3: 23
D4: REKAPITULÁCIA STAVBY | AS4: v --- nižšie sa nachádzajú doplnkové a pomocné údaje k zostavám --- v | BG4: Návod na vyplnenie | BS4: 0,001
D5: Kód: | K5: 26-B-01 | BG5: Meniť je možné iba bunky so žltým podfarbením! 1) na prvom liste Rekapitulácie stavby vyplňte v zostave a) Rekapitulácia stavby - údaje o Zhotoviteľovi (prenesú sa do ostatných zostáv aj v iných listoch) b) Rekapitulácia objektov stavby - potrebné Ostatné náklady 2) na vybraných listoch vyplňte v zostave a) Krycí list - údaje o Zhotoviteľovi, pokiaľ sa líšia od údajov o Zhotoviteľovi na Rekapitulácii stavby (údaje se prenesú do ostatných zostav v danom liste) b) Rekapitulácia rozpočtu - potrebné Ostatné náklady c) Celkové náklady za stavbu - ceny na položkách - množstvo, pokiaľ má žlté podfarbenie - a v prípade potreby poznámku (tá je v skrytom stĺpci) Upozornenie k ekvivalentnosti: Ak sa v tomto výkaze výmer nachádza odkaz na konkrétneho výrobcu, obchodnú značku, výrobok, typ, označenie, patent, výrobný postup alebo technické riešenie, každý takýto odkaz sa považuje za doplnený slovami „alebo ekvivalentný“. Uchádzač môže oceniť a ponúknuť ekvivalentné riešenie, ktoré spĺňa rovnaké alebo lepšie technické, funkčné, kvalitatívne, energetické, bezpečnostné a úžitkové parametre a je kompatibilné s navrhovaným technickým riešením stavby. | BS5: 0,01
D6: Stavba: | K6: Integrovaný výrobný systém pre výrobu a distribúciu nealkoholických sladových produktov | BS6: 0,01
D7: JKSO: | AK7: ČS: | BS7: 0,01
D8: Miesto: | K8: Zvolen | AK8: Dátum: | BS8: 0,01
BS9: 0,01
D10: Objednávateľ: | AK10: IČO: | BS10: 0,01
AK11: IČ DPH: | BS11: 0,01
BS12: 0,01
D13: Zhotoviteľ: | AK13: IČO: | AN13: Vyplň údaj | BS13: 0,01
E14: Vyplň údaj | AK14: IČ DPH: | AN14: Vyplň údaj | BS14: 0,01
BS15: False
D16: Projektant: | AK16: IČO: | BS16: False
AK17: IČ DPH: | BS17: True
BS18: 0,01
D19: Spracovateľ: | AK19: IČO: | BS19: 0,01
E20: Ing.Miroslav Plevka | AK20: IČ DPH: | BS20: True
D22: Poznámka:
D26: Cena bez DPH | AK26: =ROUND(AG94,2) -> 0
L28: Sadzba dane | W28: Základ dane | AK28: Výška dane
D29: DPH | F29: základná | L29: 0.23 | W29: =ROUND(BB94, 2) -> #REF! | AK29: =ROUND(AX94,2) -> #REF!
F30: znížená | L30: 0.23 | W30: =ROUND(BC94, 2) -> #REF! | AK30: =ROUND(AY94,2) -> #REF!
F31: zákl. prenesená | L31: 0.23 | W31: =ROUND(BD94, 2) -> #REF! | AK31: 0
F32: zníž. prenesená | L32: 0.23 | W32: =ROUND(BE94, 2) -> #REF! | AK32: 0
F33: nulová | L33: 0 | W33: =ROUND(BF94, 2) -> #REF! | AK33: 0
D35: Cena s DPH | T35: v | X35: EUR | AK35: =SUM(AK26:AK33) -> #REF!
D49: Projektant | AH49: Spracovateľ
D60: Dátum a podpis: | V60: Pečiatka | AH60: Dátum a podpis: | AM60: Pečiatka
D64: Objednávateľ | AH64: Zhotoviteľ
D75: Dátum a podpis: | V75: Pečiatka | AH75: Dátum a podpis: | AM75: Pečiatka
C82: REKAPITULÁCIA OBJEKTOV STAVBY
C84: Kód: | L84: =K5 -> 26-B-01
C85: Stavba: | L85: =K6 -> Integrovaný výrobný systém pre výrobu a distribúciu nealkoholických sladových produktov
C87: Miesto: | L87: =IF(K8="","",K8) -> Zvolen | AI87: Dátum: | AM87: =IF(AN8= "","",AN8)
C89: Objednávateľ: | L89: =IF(E11= "","",E11) | AI89: Projektant: | AM89: =IF(E17="","",E17) | AS89: Informatívne údaje z listov zákaziek
C90: Zhotoviteľ: | L90: =IF(E14= "Vyplň údaj","",E14) | AI90: Spracovateľ: | AM90: =IF(E20="","",E20) -> Ing.Miroslav Plevka
C92: Kód | I92: Popis | AG92: Cena bez DPH [EUR] | AN92: Cena s DPH [EUR] | AQ92: Typ | AS92: z toho Materiál [EUR] | AT92: z toho Montáž [EUR] | AU92: z toho Ostat. náklady [EUR] | AV92: DPH [EUR] | AW92: Normohodiny [h] | AX92: DPH základná [EUR] | AY92: DPH znížená [EUR] | AZ92: DPH základná prenesená [EUR] | BA92: DPH znížená prenesená [EUR] | BB92: Základňa DPH základná | BC92: Základňa DPH znížená | BD92: Základňa DPH zákl. prenesená | BE92: Základňa DPH zníž. prenesená | BF92: Základňa DPH nulová
C94: Náklady z rozpočtov | AG94: =ROUND(AG95+AG104,2) -> 0 | AN94: =AG94*1.23 -> 0 | AS94: =ROUND(#REF!+#REF!+AS95+#REF!,2) -> #REF! | AT94: =ROUND(#REF!+#REF!+AT95+#REF!,2) -> #REF! | AU94: =ROUND(#REF!+#REF!+AU95+#REF!,2) -> #REF! | AV94: =ROUND(SUM(AX94:AY94),2) -> #REF! | AW94: =ROUND(#REF!+#REF!+AW95+#REF!,5) -> #REF! | AX94: =ROUND(BB94*L29,2) -> #REF! | AY94: =ROUND(BC94*L30,2) -> #REF! | AZ94: =ROUND(BD94*L29,2) -> #REF! | BA94: =ROUND(BE94*L30,2) -> #REF! | BB94: =ROUND(#REF!+#REF!+BB95+#REF!,2) -> #REF! | BC94: =ROUND(#REF!+#REF!+BC95+#REF!,2) -> #REF! | BD94: =ROUND(#REF!+#REF!+BD95+#REF!,2) -> #REF! | BE94: =ROUND(#REF!+#REF!+BE95+#REF!,2) -> #REF! | BF94: =ROUND(#REF!+#REF!+BF95+#REF!,2) -> #REF! | BS94: D | BT94: 0 | BU94: ###NOIMPORT### | BV94: IMPORT | BW94: {d4a15352-cb6e-4f7a-ab78-e7d7a412ff66} | BX94: {00000000-0000-0000-0000-000000000000}
D95: 26-B-01-03 | J95: Stavebné úpravy | AG95: =ROUND(AG96+AG97+SUM(AG101:AG104),2) -> 0 | AN95: =SUM(AG95,AV95) -> #REF! | AQ95: STA | AS95: =ROUND(AS96+AS97+SUM(AS101:AS104),2) -> #REF! | AT95: =ROUND(AT96+AT97+SUM(AT101:AT104),2) -> #REF! | AU95: =ROUND(AU96+AU97+SUM(AU101:AU104),2) -> 0 | AV95: =ROUND(SUM(AX95:AY95),2) -> #REF! | AW95: =ROUND(AW96+AW97+SUM(AW101:AW104),5) -> #REF! | AX95: =ROUND(BB95*L29,2) -> #REF! | AY95: =ROUND(BC95*L30,2) -> #REF! | AZ95: =ROUND(BD95*L29,2) -> #REF! | BA95: =ROUND(BE95*L30,2) -> #REF! | BB95: =ROUND(BB96+BB97+SUM(BB101:BB104),2) -> #REF! | BC95: =ROUND(BC96+BC97+SUM(BC101:BC104),2) -> #REF! | BD95: =ROUND(BD96+BD97+SUM(BD101:BD104),2) -> #REF! | BE95: =ROUND(BE96+BE97+SUM(BE101:BE104),2) -> #REF! | BF95: =ROUND(BF96+BF97+SUM(BF101:BF104),2) -> #REF! | BS95: D | BT95: 1 | BU95: ###NOIMPORT### | BV95: IMPORT | BW95: {c850997f-0973-4813-abf5-a853b3b63f7e} | BX95: {d4a15352-cb6e-4f7a-ab78-e7d7a412ff66} | CM95: 0
A96: / | E96: 26-B-01-03-01 | K96: Stavebný objekt | AG96: ='26-B-01-03-01 - Stavebný ...'!K34 -> 0 | AN96: =SUM(AG96,AV96) -> 0 | AQ96: Časť | AS96: ='26-B-01-03-01 - Stavebný ...'!K32 -> 0 | AT96: ='26-B-01-03-01 - Stavebný ...'!K33 -> 0 | AU96: 0 | AV96: =ROUND(SUM(AX96:AY96),2) -> 0 | AW96: ='26-B-01-03-01 - Stavebný ...'!T141 -> 0 | AX96: ='26-B-01-03-01 - Stavebný ...'!K37 -> 0 | AY96: ='26-B-01-03-01 - Stavebný ...'!K38 -> 0 | AZ96: ='26-B-01-03-01 - Stavebný ...'!K39 -> 0 | BA96: ='26-B-01-03-01 - Stavebný ...'!K40 -> 0 | BB96: ='26-B-01-03-01 - Stavebný ...'!F37 -> 0 | BC96: ='26-B-01-03-01 - Stavebný ...'!F38 -> 0 | BD96: ='26-B-01-03-01 - Stavebný ...'!F39 -> 0 | BE96: ='26-B-01-03-01 - Stavebný ...'!F40 -> 0 | BF96: ='26-B-01-03-01 - Stavebný ...'!F41 -> 0 | BT96: 2 | BV96: IMPORT | BW96: {aa2fb747-39f5-4771-9b1b-05b92c45cc7d} | BX96: {c850997f-0973-4813-abf5-a853b3b63f7e}
E97: 26-B-01-03-02 | K97: Prípojky | AG97: =ROUND(SUM(AG98:AG100),2) -> 0 | AN97: =SUM(AG97,AV97) -> 0 | AQ97: Časť | AS97: =ROUND(SUM(AS98:AS100),2) -> 0 | AT97: =ROUND(SUM(AT98:AT100),2) -> 0 | AU97: =ROUND(SUM(AU98:AU100),2) -> 0 | AV97: =ROUND(SUM(AX97:AY97),2) -> 0 | AW97: =ROUND(SUM(AW98:AW100),5) -> 0 | AX97: =ROUND(BB97*L29,2) -> 0 | AY97: =ROUND(BC97*L30,2) -> 0 | AZ97: =ROUND(BD97*L29,2) -> 0 | BA97: =ROUND(BE97*L30,2) -> 0 | BB97: =ROUND(SUM(BB98:BB100),2) -> 0 | BC97: =ROUND(SUM(BC98:BC100),2) -> 0 | BD97: =ROUND(SUM(BD98:BD100),2) -> 0 | BE97: =ROUND(SUM(BE98:BE100),2) -> 0 | BF97: =ROUND(SUM(BF98:BF100),2) -> 0 | BS97: D | BT97: 2 | BU97: ###NOIMPORT### | BV97: IMPORT | BW97: {6967ef4f-82b3-43dc-9d5b-bc23e7f4e57e} | BX97: {c850997f-0973-4813-abf5-a853b3b63f7e}
A98: / | F98: 26-B-01-03-02-01 | L98: Kanalizačná | AG98: ='26-B-01-03-02-01 - Kanali...'!K36 -> 0 | AN98: =SUM(AG98,AV98) -> 0 | AQ98: Časť | AS98: ='26-B-01-03-02-01 - Kanali...'!K34 -> 0 | AT98: ='26-B-01-03-02-01 - Kanali...'!K35 -> 0 | AU98: 0 | AV98: =ROUND(SUM(AX98:AY98),2) -> 0 | AW98: ='26-B-01-03-02-01 - Kanali...'!T129 -> 0 | AX98: ='26-B-01-03-02-01 - Kanali...'!K39 -> 0 | AY98: ='26-B-01-03-02-01 - Kanali...'!K40 -> 0 | AZ98: ='26-B-01-03-02-01 - Kanali...'!K41 -> 0 | BA98: ='26-B-01-03-02-01 - Kanali...'!K42 -> 0 | BB98: ='26-B-01-03-02-01 - Kanali...'!F39 -> 0 | BC98: ='26-B-01-03-02-01 - Kanali...'!F40 -> 0 | BD98: ='26-B-01-03-02-01 - Kanali...'!F41 -> 0 | BE98: ='26-B-01-03-02-01 - Kanali...'!F42 -> 0 | BF98: ='26-B-01-03-02-01 - Kanali...'!F43 -> 0 | BT98: 3 | BV98: IMPORT | BW98: {a036b3ae-6ce0-4482-bad5-e151a5b5b20f} | BX98: {6967ef4f-82b3-43dc-9d5b-bc23e7f4e57e}
A99: / | F99: 26-B-01-03-02-02 | L99: Vodovodná | AG99: ='26-B-01-03-02-02 - Vodovodná'!K36 -> 0 | AN99: =SUM(AG99,AV99) -> 0 | AQ99: Časť | AS99: ='26-B-01-03-02-02 - Vodovodná'!K34 -> 0 | AT99: ='26-B-01-03-02-02 - Vodovodná'!K35 -> 0 | AU99: 0 | AV99: =ROUND(SUM(AX99:AY99),2) -> 0 | AW99: ='26-B-01-03-02-02 - Vodovodná'!T129 -> 0 | AX99: ='26-B-01-03-02-02 - Vodovodná'!K39 -> 0 | AY99: ='26-B-01-03-02-02 - Vodovodná'!K40 -> 0 | AZ99: ='26-B-01-03-02-02 - Vodovodná'!K41 -> 0 | BA99: ='26-B-01-03-02-02 - Vodovodná'!K42 -> 0 | BB99: ='26-B-01-03-02-02 - Vodovodná'!F39 -> 0 | BC99: ='26-B-01-03-02-02 - Vodovodná'!F40 -> 0 | BD99: ='26-B-01-03-02-02 - Vodovodná'!F41 -> 0 | BE99: ='26-B-01-03-02-02 - Vodovodná'!F42 -> 0 | BF99: ='26-B-01-03-02-02 - Vodovodná'!F43 -> 0 | BT99: 3 | BV99: IMPORT | BW99: {5aa8cb74-55cd-4eb2-9367-a229fe0f99d4} | BX99: {6967ef4f-82b3-43dc-9d5b-bc23e7f4e57e}
A100: / | F100: 26-B-01-03-02-03 | L100: NN prípojka | AG100: ='26-B-01-03-02-03 - NN prí...'!K36 -> 0 | AN100: =SUM(AG100,AV100) -> 0 | AQ100: Časť | AS100: ='26-B-01-03-02-03 - NN prí...'!K34 -> 0 | AT100: ='26-B-01-03-02-03 - NN prí...'!K35 -> 0 | AU100: 0 | AV100: =ROUND(SUM(AX100:AY100),2) -> 0 | AW100: ='26-B-01-03-02-03 - NN prí...'!T128 -> 0 | AX100: ='26-B-01-03-02-03 - NN prí...'!K39 -> 0 | AY100: ='26-B-01-03-02-03 - NN prí...'!K40 -> 0 | AZ100: ='26-B-01-03-02-03 - NN prí...'!K41 -> 0 | BA100: ='26-B-01-03-02-03 - NN prí...'!K42 -> 0 | BB100: ='26-B-01-03-02-03 - NN prí...'!F39 -> 0 | BC100: ='26-B-01-03-02-03 - NN prí...'!F40 -> 0 | BD100: ='26-B-01-03-02-03 - NN prí...'!F41 -> 0 | BE100: ='26-B-01-03-02-03 - NN prí...'!F42 -> 0 | BF100: ='26-B-01-03-02-03 - NN prí...'!F43 -> 0 | BT100: 3 | BV100: IMPORT | BW100: {b606aa38-201a-4381-8e81-7002bdc9e98a} | BX100: {6967ef4f-82b3-43dc-9d5b-bc23e7f4e57e}
A101: / | AQ101: Časť | AS101: =#REF! -> #REF! | AT101: =#REF! -> #REF! | AU101: 0 | AV101: =ROUND(SUM(AX101:AY101),2) -> #REF! | AW101: =#REF! -> #REF! | AX101: =#REF! -> #REF! | AY101: =#REF! -> #REF! | AZ101: =#REF! -> #REF! | BA101: =#REF! -> #REF! | BB101: =#REF! -> #REF! | BC101: =#REF! -> #REF! | BD101: =#REF! -> #REF! | ... BF101: =#REF! -> #REF! | BT101: 2 | BV101: IMPORT | BW101: {2bf32ccd-e7bd-4cef-806c-0fd7cfe1a564} | BX101: {c850997f-0973-4813-abf5-a853b3b63f7e}
A102: / | E102: 26-B-01-03-04 | K102: Klimatizácia a vykurovanie formou klimatizačných jednotiek (TČ) | AG102: ='26-B-01-03-04 - Klimatizá...'!K34 -> 0 | AN102: =SUM(AG102,AV102) -> 0 | AQ102: Časť | AS102: ='26-B-01-03-04 - Klimatizá...'!K32 -> 0 | AT102: ='26-B-01-03-04 - Klimatizá...'!K33 -> 0 | AU102: 0 | AV102: =ROUND(SUM(AX102:AY102),2) -> 0 | AW102: ='26-B-01-03-04 - Klimatizá...'!T122 -> 0 | AX102: ='26-B-01-03-04 - Klimatizá...'!K37 -> 0 | AY102: ='26-B-01-03-04 - Klimatizá...'!K38 -> 0 | AZ102: ='26-B-01-03-04 - Klimatizá...'!K39 -> 0 | BA102: ='26-B-01-03-04 - Klimatizá...'!K40 -> 0 | BB102: ='26-B-01-03-04 - Klimatizá...'!F37 -> 0 | BC102: ='26-B-01-03-04 - Klimatizá...'!F38 -> 0 | BD102: ='26-B-01-03-04 - Klimatizá...'!F39 -> 0 | BE102: ='26-B-01-03-04 - Klimatizá...'!F40 -> 0 | BF102: ='26-B-01-03-04 - Klimatizá...'!F41 -> 0 | BT102: 2 | BV102: IMPORT | BW102: {a3782149-5b7c-4426-8b1f-1a723868a7ad} | BX102: {c850997f-0973-4813-abf5-a853b3b63f7e}
A103: / | E103: 26-B-01-03-05 | K103: Elektroinštalácie a bleskozvod | AG103: ='26-B-01-03-05 - Elektroin...'!K34 -> 0 | AN103: =SUM(AG103,AV103) -> 0 | AQ103: Časť | AS103: ='26-B-01-03-05 - Elektroin...'!K32 -> 0 | AT103: ='26-B-01-03-05 - Elektroin...'!K33 -> 0 | AU103: 0 | AV103: =ROUND(SUM(AX103:AY103),2) -> 0 | AW103: ='26-B-01-03-05 - Elektroin...'!T125 -> 0 | AX103: ='26-B-01-03-05 - Elektroin...'!K37 -> 0 | AY103: ='26-B-01-03-05 - Elektroin...'!K38 -> 0 | AZ103: ='26-B-01-03-05 - Elektroin...'!K39 -> 0 | BA103: ='26-B-01-03-05 - Elektroin...'!K40 -> 0 | BB103: ='26-B-01-03-05 - Elektroin...'!F37 -> 0 | BC103: ='26-B-01-03-05 - Elektroin...'!F38 -> 0 | BD103: ='26-B-01-03-05 - Elektroin...'!F39 -> 0 | BE103: ='26-B-01-03-05 - Elektroin...'!F40 -> 0 | BF103: ='26-B-01-03-05 - Elektroin...'!F41 -> 0 | BT103: 2 | BV103: IMPORT | BW103: {ff833675-7db3-4bf2-9fcd-a65672669e90} | BX103: {c850997f-0973-4813-abf5-a853b3b63f7e}
A104: / | E104: 26-B-01-03-06 | K104: Zdravotechnické inštalácie | AG104: ='26-B-01-03-06 - Zdravotec...'!K34 -> 0 | AN104: =SUM(AG104,AV104) -> 0 | AQ104: Časť | AS104: ='26-B-01-03-06 - Zdravotec...'!K32 -> 0 | AT104: ='26-B-01-03-06 - Zdravotec...'!K33 -> 0 | AU104: 0 | AV104: =ROUND(SUM(AX104:AY104),2) -> 0 | AW104: ='26-B-01-03-06 - Zdravotec...'!T125 -> 0 | AX104: ='26-B-01-03-06 - Zdravotec...'!K37 -> 0 | AY104: ='26-B-01-03-06 - Zdravotec...'!K38 -> 0 | AZ104: ='26-B-01-03-06 - Zdravotec...'!K39 -> 0 | BA104: ='26-B-01-03-06 - Zdravotec...'!K40 -> 0 | BB104: ='26-B-01-03-06 - Zdravotec...'!F37 -> 0 | BC104: ='26-B-01-03-06 - Zdravotec...'!F38 -> 0 | BD104: ='26-B-01-03-06 - Zdravotec...'!F39 -> 0 | BE104: ='26-B-01-03-06 - Zdravotec...'!F40 -> 0 | BF104: ='26-B-01-03-06 - Zdravotec...'!F41 -> 0 | BT104: 2 | BV104: IMPORT | BW104: {a0c4e9ca-dbdb-4e6a-bee3-7c145aeef699} | BX104: {c850997f-0973-4813-abf5-a853b3b63f7e}

Sheet 26-B-01-03-01 - Stavebný ...
M2: >> skryté stĺpce << | AT2: {aa2fb747-39f5-4771-9b1b-05b92c45cc7d}
AT3: 0
D4: KRYCÍ LIST ROZPOČTU | N4: v --- nižšie sa nachádzajú doplnkové a pomocné údaje k zostavám --- v | AT4: False
D6: Stavba:
E7: ='Rekapitulácia stavby'!K6 -> Integrovaný výrobný systém pre výrobu a distribúciu nealkoholických sladových produktov
D8: Objekt:
E9: 26-B-01-03 - Stavebné úpravy
D10: Časť:
E11: 26-B-01-03-01 - Stavebný objekt
D13: JKSO: | I13: ČS:
D14: Miesto: | F14: Zvolen | I14: Dátum:
D16: Objednávateľ: | I16: IČO: | J16: =IF('Rekapitulácia stavby'!AN10="","",'Rekapitulácia stavby'!AN10)
E17: =IF('Rekapitulácia stavby'!E11="","",'Rekapitulácia stavby'!E11) | I17: IČ DPH: | J17: =IF('Rekapitulácia stavby'!AN11="","",'Rekapitulácia stavby'!AN11)
D19: Zhotoviteľ: | I19: IČO: | J19: ='Rekapitulácia stavby'!AN13 -> Vyplň údaj
E20: ='Rekapitulácia stavby'!E14 -> Vyplň údaj | I20: IČ DPH: | J20: ='Rekapitulácia stavby'!AN14 -> Vyplň údaj
D22: Projektant: | I22: IČO: | J22: =IF('Rekapitulácia stavby'!AN16="","",'Rekapitulácia stavby'!AN16)
E23: =IF('Rekapitulácia stavby'!E17="","",'Rekapitulácia stavby'!E17) | I23: IČ DPH: | J23: =IF('Rekapitulácia stavby'!AN17="","",'Rekapitulácia stavby'!AN17)
D25: Spracovateľ: | I25: IČO:
E26: Ing.Miroslav Plevka | I26: IČ DPH:
D28: Poznámka:
E32: Materiál | K32: =I98 -> 0
E33: Montáž | K33: =J98 -> 0
D34: Cena bez DPH | K34: =ROUND(K141, 2) -> 0
F36: Základ dane | I36: Sadzba dane | K36: Výška dane
D37: DPH | E37: základná | F37: =ROUND((SUM(BE141:BE406)), 2) -> 0 | I37: 0.23 | K37: =ROUND(((SUM(BE141:BE406))*I37), 2) -> 0
E38: znížená | F38: =ROUND((SUM(BF141:BF406)), 2) -> 0 | I38: 0.23 | K38: =ROUND(((SUM(BF141:BF406))*I38), 2) -> 0
E39: zákl. prenesená | F39: =ROUND((SUM(BG141:BG406)), 2) -> 0 | I39: 0.23 | K39: =0 -> 0
E40: zníž. prenesená | F40: =ROUND((SUM(BH141:BH406)), 2) -> 0 | I40: 0.23 | K40: =0 -> 0
E41: nulová | F41: =ROUND((SUM(BI141:BI406)), 2) -> 0 | I41: 0 | K41: =0 -> 0
D43: Cena s DPH | G43: v | H43: EUR | K43: =SUM(K34:K41) -> 0
D50: Projektant | G50: Spracovateľ
D61: Dátum a podpis: | F61: Pečiatka | G61: Dátum a podpis: | J61: Pečiatka
D65: Objednávateľ | G65: Zhotoviteľ
D76: Dátum a podpis: | F76: Pečiatka | G76: Dátum a podpis: | J76: Pečiatka
C82: REKAPITULÁCIA ROZPOČTU
C84: Stavba:
E85: =E7 -> Integrovaný výrobný systém pre výrobu a distribúciu nealkoholických sladových produktov
C86: Objekt:
E87: 26-B-01-03 - Stavebné úpravy
C88: Časť:
E89: =E11 -> 26-B-01-03-01 - Stavebný objekt
C91: Miesto: | F91: =F14 -> Zvolen | I91: Dátum: | J91: =IF(J14="","",J14)
C93: Objednávateľ: | F93: =E17 | I93: Projektant: | J93: =E23
C94: Zhotoviteľ: | F94: =IF(E20="","",E20) -> Vyplň údaj | I94: Spracovateľ: | J94: =E26 -> Ing.Miroslav Plevka
C96: Kód dielu - Popis | I96: Materiál [EUR] | J96: Montáž [EUR] | K96: Cena celkom [EUR]
C98: Náklady z rozpočtu | I98: =Q141 -> 0 | J98: =R141 -> 0 | K98: =K141 -> 0 | AU98: -1
D99: HSV - Práce a dodávky HSV | I99: =Q142 -> 0 | J99: =R142 -> 0 | K99: =K142 -> 0
D100: 1 - Zemné práce | I100: =Q143 -> 0 | J100: =R143 -> 0 | K100: =K143 -> 0
D101: 2 - Zakladanie | I101: =Q153 -> 0 | J101: =R153 -> 0 | K101: =K153 -> 0
D102: 4 - Vodorovné konštrukcie | I102: =Q191 -> 0 | J102: =R191 -> 0 | K102: =K191 -> 0
D103: 6 - Úpravy povrchov, podlahy, osadenie | I103: =Q198 -> 0 | J103: =R198 -> 0 | K103: =K198 -> 0
D104: 9 - Ostatné konštrukcie a práce-búranie | I104: =Q207 -> 0 | J104: =R207 -> 0 | K104: =K207 -> 0
D105: 99 - Presun hmôt HSV | I105: =Q210 -> 0 | J105: =R210 -> 0 | K105: =K210 -> 0
D106: PSV - Práce a dodávky PSV | I106: =Q212 -> 0 | J106: =R212 -> 0 | K106: =K212 -> 0
D107: 711 - Izolácie proti vode a vlhkosti | I107: =Q213 -> 0 | J107: =R213 -> 0 | K107: =K213 -> 0
D108: 712 - Izolácie striech, povlakové krytiny | I108: =Q222 -> 0 | J108: =R222 -> 0 | K108: =K222 -> 0
D109: 713 - Izolácie tepelné | I109: =Q228 -> 0 | J109: =R228 -> 0 | K109: =K228 -> 0
D110: 721 - Zdravotechnika - vnútorná kanalizácia | I110: =Q258 -> 0 | J110: =R258 -> 0 | K110: =K258 -> 0
D111: 725 - Zdravotechnika - zariaďovacie predmety | I111: =Q265 -> 0 | J111: =R265 -> 0 | K111: =K265 -> 0
D112: 763 - Konštrukcie - drevostavby | I112: =Q282 -> 0 | J112: =R282 -> 0 | K112: =K282 -> 0
D113: 764 - Konštrukcie klampiarske | I113: =Q292 -> 0 | J113: =R292 -> 0 | K113: =K292 -> 0
D114: 766 - Konštrukcie stolárske | I114: =Q297 -> 0 | J114: =R297 -> 0 | K114: =K297 -> 0
D115: 767 - Konštrukcie doplnkové kovové | I115: =Q320 -> 0 | J115: =R320 -> 0 | K115: =K320 -> 0
D116: 777 - Podlahy syntetické | I116: =Q338 -> 0 | J116: =R338 -> 0 | K116: =K338 -> 0
D117: 783 - Nátery | I117: =Q344 -> 0 | J117: =R344 -> 0 | K117: =K344 -> 0
D118: 43-M - Montáž oceľových konštrukcií | I118: =Q371 -> 0 | J118: =R371 -> 0 | K118: =K371 -> 0
D119: VRN - Investičné náklady neobsiahnuté v cenách | I119: =Q403 -> 0 | J119: =R403 -> 0 | K119: =K403 -> 0
C126: ROZPOČET
C128: Stavba:
E129: =E7 -> Integrovaný výrobný systém pre výrobu a distribúciu nealkoholických sladových produktov
C130: Objekt:
E131: 26-B-01-03 - Stavebné úpravy
C132: Časť:
E133: =E11 -> 26-B-01-03-01 - Stavebný objekt
C135: Miesto: | F135: =F14 -> Zvolen | I135: Dátum: | J135: =IF(J14="","",J14)
C137: Objednávateľ: | F137: =E17 | I137: Projektant: | J137: =E23
C138: Zhotoviteľ: | F138: =IF(E20="","",E20) -> Vyplň údaj | I138: Spracovateľ: | J138: =E26 -> Ing.Miroslav Plevka
C140: PČ | D140: Typ | E140: Kód | F140: Popis | G140: MJ | H140: Množstvo | I140: J. materiál [EUR] | J140: J. montáž [EUR] | K140: Cena celkom [EUR] | L140: Cenová sústava | O140: DPH | P140: J.cena [EUR] | Q140: Materiál celkom [EUR] | R140: Montáž celkom [EUR] | S140: J. Nh [h] | T140: Nh celkom [h] | U140: J. hmotnosť [t] | V140: Hmotnosť celkom [t] | W140: J. suť [t] | X140: Suť Celkom [t]
C141: Náklady z rozpočtu | K141: =BK141 -> 0 | Q141: =Q142+Q212 -> 0 | R141: =R142+R212 -> 0 | T141: =T142+T212 -> 0 | V141: =V142+V212 -> 280.68632 | X141: =X142+X212 -> 0 | AT141: D | AU141: -1 | BK141: =BK142+BK212 -> 0
D142: D | E142: HSV | F142: Práce a dodávky HSV | K142: =BK142 -> 0 | Q142: =Q143+Q153+Q191+Q198+Q207+Q210 -> 0 | R142: =R143+R153+R191+R198+R207+R210 -> 0 | T142: =T143+T153+T191+T198+T207+T210 -> 0 | V142: =V143+V153+V191+V198+V207+V210 -> 251.97587 | X142: =X143+X153+X191+X198+X207+X210 -> 0 | AR142: 1 | AT142: D | AU142: 0 | AY142: ROZPOCET | BK142: =BK143+BK153+BK191+BK198+BK207+BK210 -> 0
D143: D | E143: 1 | F143: Zemné práce | K143: =BK143 -> 0 | Q143: =SUM(Q144:Q152) -> 0 | R143: =SUM(R144:R152) -> 0 | T143: =SUM(T144:T152) -> 0 | V143: =SUM(V144:V152) -> 0 | X143: =SUM(X144:X152) -> 0 | AR143: 1 | AT143: D | AU143: 1 | AY143: ROZPOCET | BK143: =SUM(BK144:BK152) -> 0
C144: 1 | D144: K | E144: 132251205.S | F144: Výkop ryhy šírky nad 600 do 2000 mm strojne v hornine tr. 3, objem do 30 m3 | G144: m3 | H144: 27.569 | K144: =ROUND(P144*H144,2) -> 0 | L144: CS CENEKON 2026 02 v1 | O144: znížená | P144: =I144+J144 -> 0 | Q144: =ROUND(I144*H144,2) -> 0 | R144: =ROUND(J144*H144,2) -> 0 | T144: =S144*H144 -> 0 | U144: 0 | V144: =U144*H144 -> 0 | W144: 0 | X144: =W144*H144 -> 0 | AR144: 4 | AT144: K | AU144: 2 | AY144: ROZPOCET | BE144: =IF(O144="základná",K144,0) -> 0 | BF144: =IF(O144="znížená",K144,0) -> 0 | BG144: =IF(O144="zákl. prenesená",K144,0) -> 0 | BH144: =IF(O144="zníž. prenesená",K144,0) -> 0 | BI144: =IF(O144="nulová",K144,0) -> 0 | BJ144: 2 | BK144: =ROUND(P144*H144,2) -> 0 | BL144: 4 | BM144: -1754488958
D145: VV | F145: "Y2" 0,65*0,6*(4,65+3,1+3,0+3,1+4,65+3,1+3,0+3,1+1,39+1,395) | H145: 11.889 | AT145: VV | AU145: 2 | AV145: 2 | AW145: True | AX145: 0 | AY145: ROZPOCET
D146: VV | F146: "hlavice" 1,4*1,4*1,0*8 | H146: 15.68 | AT146: VV | AU146: 2 | AV146: 2 | AW146: True | AX146: 0 | AY146: ROZPOCET
D147: VV | F147: Medzisúčet | H147: 27.569 | AT147: VV | AU147: 2 | AV147: 3 | AW147: True | AX147: 1 | AY147: ROZPOCET
C148: 2 | D148: K | E148: 162201102.S | F148: Vodorovné premiestnenie výkopku z horniny 1-4 nad 20-50m | G148: m3 | H148: 27.569 | K148: =ROUND(P148*H148,2) -> 0 | L148: CS CENEKON 2026 02 v1 | O148: znížená | P148: =I148+J148 -> 0 | Q148: =ROUND(I148*H148,2) -> 0 | R148: =ROUND(J148*H148,2) -> 0 | T148: =S148*H148 -> 0 | U148: 0 | V148: =U148*H148 -> 0 | W148: 0 | X148: =W148*H148 -> 0 | AR148: 4 | AT148: K | AU148: 2 | AY148: ROZPOCET | BE148: =IF(O148="základná",K148,0) -> 0 | BF148: =IF(O148="znížená",K148,0) -> 0 | BG148: =IF(O148="zákl. prenesená",K148,0) -> 0 | BH148: =IF(O148="zníž. prenesená",K148,0) -> 0 | BI148: =IF(O148="nulová",K148,0) -> 0 | BJ148: 2 | BK148: =ROUND(P148*H148,2) -> 0 | BL148: 4 | BM148: -328703621
D149: VV | F149: "Y2" 0,65*0,6*(4,65+3,1+3,0+3,1+4,65+3,1+3,0+3,1+1,39+1,395) | H149: 11.889 | AT149: VV | AU149: 2 | AV149: 2 | AW149: True | AX149: 0 | AY149: ROZPOCET
D150: VV | F150: "hlavice" 1,4*1,4*1,0*8 | H150: 15.68 | AT150: VV | AU150: 2 | AV150: 2 | AW150: True | AX150: 0 | AY150: ROZPOCET
D151: VV | F151: Medzisúčet | H151: 27.569 | AT151: VV | AU151: 2 | AV151: 3 | AW151: True | AX151: 1 | AY151: ROZPOCET
C152: 3 | D152: K | E152: 171201101.S | F152: Uloženie sypaniny do násypov s rozprestretím sypaniny vo vrstvách a s hrubým urovnaním nezhutnených | G152: m3 | H152: 27.569 | K152: =ROUND(P152*H152,2) -> 0 | L152: CS CENEKON 2026 02 v1 | O152: znížená | P152: =I152+J152 -> 0 | Q152: =ROUND(I152*H152,2) -> 0 | R152: =ROUND(J152*H152,2) -> 0 | T152: =S152*H152 -> 0 | U152: 0 | V152: =U152*H152 -> 0 | W152: 0 | X152: =W152*H152 -> 0 | AR152: 4 | AT152: K | AU152: 2 | AY152: ROZPOCET | BE152: =IF(O152="základná",K152,0) -> 0 | BF152: =IF(O152="znížená",K152,0) -> 0 | BG152: =IF(O152="zákl. prenesená",K152,0) -> 0 | BH152: =IF(O152="zníž. prenesená",K152,0) -> 0 | BI152: =IF(O152="nulová",K152,0) -> 0 | BJ152: 2 | BK152: =ROUND(P152*H152,2) -> 0 | BL152: 4 | BM152: -890860236
D153: D | E153: 2 | F153: Zakladanie | K153: =BK153 -> 0 | Q153: =SUM(Q154:Q190) -> 0 | R153: =SUM(R154:R190) -> 0 | T153: =SUM(T154:T190) -> 0 | V153: =SUM(V154:V190) -> 221.61399 | X153: =SUM(X154:X190) -> 0 | AR153: 1 | AT153: D | AU153: 1 | AY153: ROZPOCET | BK153: =SUM(BK154:BK190) -> 0
C154: 4 | D154: K | E154: 221942132.S | F154: Nastraženie a zabaranenie oceľ. ihiel, pilót zvislých nad 70 kg/m do 5m | G154: m | H154: 36 | K154: =ROUND(P154*H154,2) -> 0 | L154: CS CENEKON 2026 02 v1 | O154: znížená | P154: =I154+J154 -> 0 | Q154: =ROUND(I154*H154,2) -> 0 | R154: =ROUND(J154*H154,2) -> 0 | T154: =S154*H154 -> 0 | U154: 0 | V154: =U154*H154 -> 0 | W154: 0 | X154: =W154*H154 -> 0 | AR154: 4 | AT154: K | AU154: 2 | AY154: ROZPOCET | BE154: =IF(O154="základná",K154,0) -> 0 | BF154: =IF(O154="znížená",K154,0) -> 0 | BG154: =IF(O154="zákl. prenesená",K154,0) -> 0 | BH154: =IF(O154="zníž. prenesená",K154,0) -> 0 | BI154: =IF(O154="nulová",K154,0) -> 0 | BJ154: 2 | BK154: =ROUND(P154*H154,2) -> 0 | BL154: 4 | BM154: -228595721
D155: VV | F155: 8*4,5 | H155: 36 | AT155: VV | AU155: 2 | AV155: 2 | AW155: True | AX155: 1 | AY155: ROZPOCET
C156: 5 | D156: M | E156: 146310000300.S | F156: Rúrka vrtná D 60 mm dĺžky 5 m | G156: ks | H156: 4 | K156: =ROUND(P156*H156,2) -> 0 | L156: CS CENEKON 2026 02 v1 | O156: znížená | P156: =I156+J156 -> 0 | Q156: =ROUND(I156*H156,2) -> 0 | R156: =ROUND(J156*H156,2) -> 0 | T156: =S156*H156 -> 0 | U156: 0.00914 | V156: =U156*H156 -> 0.03656 | W156: 0 | X156: =W156*H156 -> 0 | AR156: 8 | AT156: M | AU156: 2 | AY156: ROZPOCET | BE156: =IF(O156="základná",K156,0) -> 0 | BF156: =IF(O156="znížená",K156,0) -> 0 | BG156: =IF(O156="zákl. prenesená",K156,0) -> 0 | BH156: =IF(O156="zníž. prenesená",K156,0) -> 0 | BI156: =IF(O156="nulová",K156,0) -> 0 | BJ156: 2 | BK156: =ROUND(P156*H156,2) -> 0 | BL156: 4 | BM156: -255681055
D157: VV | F157: 8 | H157: 8 | AT157: VV | AU157: 2 | AV157: 2 | AW157: True | AX157: 1 | AY157: ROZPOCET
D158: VV | F158: 8*0,5 'Prepočítané koeficientom množstva | H158: 4 | AT158: VV | AU158: 2 | AV158: 2 | AW158: False | AX158: 1 | AY158: ROZPOCET
C159: 6 | D159: K | E159: 224361114.S | F159: Výstuž pilót betónovaných do zeme, s vytiahnutím pažnice, z ocele B500 (10505) | G159: t | H159: 3.878 | K159: =ROUND(P159*H159,2) -> 0 | L159: CS CENEKON 2026 02 v1 | O159: znížená | P159: =I159+J159 -> 0 | Q159: =ROUND(I159*H159,2) -> 0 | R159: =ROUND(J159*H159,2) -> 0 | T159: =S159*H159 -> 0 | U159: 1.07393 | V159: =U159*H159 -> 4.1647005 | W159: 0 | X159: =W159*H159 -> 0 | AR159: 4 | AT159: K | AU159: 2 | AY159: ROZPOCET | BE159: =IF(O159="základná",K159,0) -> 0 | BF159: =IF(O159="znížená",K159,0) -> 0 | BG159: =IF(O159="zákl. prenesená",K159,0) -> 0 | BH159: =IF(O159="zníž. prenesená",K159,0) -> 0 | BI159: =IF(O159="nulová",K159,0) -> 0 | BJ159: 2 | BK159: =ROUND(P159*H159,2) -> 0 | BL159: 4 | BM159: 1613097696
D160: VV | F160: "predpoklad 150kg/m3" 25,854*150*0,001 | H160: 3.878 | AT160: VV | AU160: 2 | AV160: 2 | AW160: True | AX160: 1 | AY160: ROZPOCET
C161: 7 | D161: K | E161: 224380110.S | F161: Zhotovenie výplne hlavice pre pilóty VÚIS z betónu železového | G161: m3 | H161: 15.68 | K161: =ROUND(P161*H161,2) -> 0 | L161: CS CENEKON 2026 02 v1 | O161: znížená | P161: =I161+J161 -> 0 | Q161: =ROUND(I161*H161,2) -> 0 | R161: =ROUND(J161*H161,2) -> 0 | T161: =S161*H161 -> 0 | U161: 0 | V161: =U161*H161 -> 0 | W161: 0 | X161: =W161*H161 -> 0 | AR161: 4 | AT161: K | AU161: 2 | AY161: ROZPOCET | BE161: =IF(O161="základná",K161,0) -> 0 | BF161: =IF(O161="znížená",K161,0) -> 0 | BG161: =IF(O161="zákl. prenesená",K161,0) -> 0 | BH161: =IF(O161="zníž. prenesená",K161,0) -> 0 | BI161: =IF(O161="nulová",K161,0) -> 0 | BJ161: 2 | BK161: =ROUND(P161*H161,2) -> 0 | BL161: 4 | BM161: 1042998980
D162: VV | F162: 1,4*1,4*1,0*8 | H162: 15.68 | AT162: VV | AU162: 2 | AV162: 2 | AW162: True | AX162: 1 | AY162: ROZPOCET
...

Sheet 26-B-01-03-02-01 - Kanali...
M2: >> skryté stĺpce << | AT2: {a036b3ae-6ce0-4482-bad5-e151a5b5b20f}
AT3: 0
D4: KRYCÍ LIST ROZPOČTU | N4: v --- nižšie sa nachádzajú doplnkové a pomocné údaje k zostavám --- v | AT4: False
D6: Stavba:
E7: ='Rekapitulácia stavby'!K6 -> Integrovaný výrobný systém pre výrobu a distribúciu nealkoholických sladových produktov
D8: Objekt:
E9: 26-B-01-03 - Stavebné úpravy
D10: Časť:
E11: 26-B-01-03-02 - Prípojky
D12: Úroveň 3:
E13: 26-B-01-03-02-01 - Kanalizačná
D15: JKSO: | I15: ČS:
D16: Miesto: | F16: Zvolen | I16: Dátum:
D18: Objednávateľ: | I18: IČO: | J18: =IF('Rekapitulácia stavby'!AN10="","",'Rekapitulácia stavby'!AN10)
E19: =IF('Rekapitulácia stavby'!E11="","",'Rekapitulácia stavby'!E11) | I19: IČ DPH: | J19: =IF('Rekapitulácia stavby'!AN11="","",'Rekapitulácia stavby'!AN11)
D21: Zhotoviteľ: | I21: IČO: | J21: ='Rekapitulácia stavby'!AN13 -> Vyplň údaj
E22: ='Rekapitulácia stavby'!E14 -> Vyplň údaj | I22: IČ DPH: | J22: ='Rekapitulácia stavby'!AN14 -> Vyplň údaj
D24: Projektant: | I24: IČO: | J24: =IF('Rekapitulácia stavby'!AN16="","",'Rekapitulácia stavby'!AN16)
E25: =IF('Rekapitulácia stavby'!E17="","",'Rekapitulácia stavby'!E17) | I25: IČ DPH: | J25: =IF('Rekapitulácia stavby'!AN17="","",'Rekapitulácia stavby'!AN17)
D27: Spracovateľ: | I27: IČO:
E28: Ing.Miroslav Plevka | I28: IČ DPH:
D30: Poznámka:
E34: Materiál | K34: =I100 -> 0
E35: Montáž | K35: =J100 -> 0
D36: Cena bez DPH | K36: =ROUND(K129, 2) -> 0
F38: Základ dane | I38: Sadzba dane | K38: Výška dane
D39: DPH | E39: základná | F39: =ROUND((SUM(BE129:BE172)), 2) -> 0 | I39: 0.23 | K39: =ROUND(((SUM(BE129:BE172))*I39), 2) -> 0
E40: znížená | F40: =ROUND((SUM(BF129:BF172)), 2) -> 0 | I40: 0.23 | K40: =ROUND(((SUM(BF129:BF172))*I40), 2) -> 0
E41: zákl. prenesená | F41: =ROUND((SUM(BG129:BG172)), 2) -> 0 | I41: 0.23 | K41: =0 -> 0
E42: zníž. prenesená | F42: =ROUND((SUM(BH129:BH172)), 2) -> 0 | I42: 0.23 | K42: =0 -> 0
E43: nulová | F43: =ROUND((SUM(BI129:BI172)), 2) -> 0 | I43: 0 | K43: =0 -> 0
D45: Cena s DPH | G45: v | H45: EUR | K45: =SUM(K36:K43) -> 0
D50: Projektant | G50: Spracovateľ
D61: Dátum a podpis: | F61: Pečiatka | G61: Dátum a podpis: | J61: Pečiatka
D65: Objednávateľ | G65: Zhotoviteľ
D76: Dátum a podpis: | F76: Pečiatka | G76: Dátum a podpis: | J76: Pečiatka
C82: REKAPITULÁCIA ROZPOČTU
C84: Stavba:
E85: =E7 -> Integrovaný výrobný systém pre výrobu a distribúciu nealkoholických sladových produktov
C86: Objekt:
E87: 26-B-01-03 - Stavebné úpravy
C88: Časť:
E89: 26-B-01-03-02 - Prípojky
C90: Úroveň 3:
E91: =E13 -> 26-B-01-03-02-01 - Kanalizačná
C93: Miesto: | F93: =F16 -> Zvolen | I93: Dátum: | J93: =IF(J16="","",J16)
C95: Objednávateľ: | F95: =E19 | I95: Projektant: | J95: =E25
C96: Zhotoviteľ: | F96: =IF(E22="","",E22) -> Vyplň údaj | I96: Spracovateľ: | J96: =E28 -> Ing.Miroslav Plevka
C98: Kód dielu - Popis | I98: Materiál [EUR] | J98: Montáž [EUR] | K98: Cena celkom [EUR]
C100: Náklady z rozpočtu | I100: =Q129 -> 0 | J100: =R129 -> 0 | K100: =K129 -> 0 | AU100: -1
D101: HSV - Práce a dodávky HSV | I101: =Q130 -> 0 | J101: =R130 -> 0 | K101: =K130 -> 0
D102: 1 - Zemné práce | I102: =Q131 -> 0 | J102: =R131 -> 0 | K102: =K131 -> 0
D103: 4 - Vodorovné konštrukcie | I103: =Q147 -> 0 | J103: =R147 -> 0 | K103: =K147 -> 0
D104: 8 - Rúrové vedenie | I104: =Q150 -> 0 | J104: =R150 -> 0 | K104: =K150 -> 0
D105: 99 - Presun hmôt HSV | I105: =Q171 -> 0 | J105: =R171 -> 0 | K105: =K171 -> 0
C112: ROZPOČET
C114: Stavba:
E115: =E7 -> Integrovaný výrobný systém pre výrobu a distribúciu nealkoholických sladových produktov
C116: Objekt:
E117: 26-B-01-03 - Stavebné úpravy
C118: Časť:
E119: 26-B-01-03-02 - Prípojky
C120: Úroveň 3:
E121: =E13 -> 26-B-01-03-02-01 - Kanalizačná
C123: Miesto: | F123: =F16 -> Zvolen | I123: Dátum: | J123: =IF(J16="","",J16)
C125: Objednávateľ: | F125: =E19 | I125: Projektant: | J125: =E25
C126: Zhotoviteľ: | F126: =IF(E22="","",E22) -> Vyplň údaj | I126: Spracovateľ: | J126: =E28 -> Ing.Miroslav Plevka
C128: PČ | D128: Typ | E128: Kód | F128: Popis | G128: MJ | H128: Množstvo | I128: J. materiál [EUR] | J128: J. montáž [EUR] | K128: Cena celkom [EUR] | L128: Cenová sústava | O128: DPH | P128: J.cena [EUR] | Q128: Materiál celkom [EUR] | R128: Montáž celkom [EUR] | S128: J. Nh [h] | T128: Nh celkom [h] | U128: J. hmotnosť [t] | V128: Hmotnosť celkom [t] | W128: J. suť [t] | X128: Suť Celkom [t]
C129: Náklady z rozpočtu | K129: =BK129 -> 0 | Q129: =Q130 -> 0 | R129: =R130 -> 0 | T129: =T130 -> 0 | V129: =V130 -> 23.108658 | X129: =X130 -> 0 | AT129: D | AU129: -1 | BK129: =BK130 -> 0
D130: D | E130: HSV | F130: Práce a dodávky HSV | K130: =BK130 -> 0 | Q130: =Q131+Q147+Q150+Q171 -> 0 | R130: =R131+R147+R150+R171 -> 0 | T130: =T131+T147+T150+T171 -> 0 | V130: =V131+V147+V150+V171 -> 23.108658 | X130: =X131+X147+X150+X171 -> 0 | AR130: 1 | AT130: D | AU130: 0 | AY130: ROZPOCET | BK130: =BK131+BK147+BK150+BK171 -> 0
D131: D | E131: 1 | F131: Zemné práce | K131: =BK131 -> 0 | Q131: =SUM(Q132:Q146) -> 0 | R131: =SUM(R132:R146) -> 0 | T131: =SUM(T132:T146) -> 0 | V131: =SUM(V132:V146) -> 18.144 | X131: =SUM(X132:X146) -> 0 | AR131: 1 | AT131: D | AU131: 1 | AY131: ROZPOCET | BK131: =SUM(BK132:BK146) -> 0
C132: 1 | D132: K | E132: 132201101.S | F132: Výkop ryhy do šírky 600 mm v horn.3 do 100 m3 | G132: m3 | H132: 36 | K132: =ROUND(P132*H132,2) -> 0 | O132: znížená | P132: =I132+J132 -> 0 | Q132: =ROUND(I132*H132,2) -> 0 | R132: =ROUND(J132*H132,2) -> 0 | T132: =S132*H132 -> 0 | U132: 0 | V132: =U132*H132 -> 0 | W132: 0 | X132: =W132*H132 -> 0 | AR132: 4 | AT132: K | AU132: 2 | AY132: ROZPOCET | BE132: =IF(O132="základná",K132,0) -> 0 | BF132: =IF(O132="znížená",K132,0) -> 0 | BG132: =IF(O132="zákl. prenesená",K132,0) -> 0 | BH132: =IF(O132="zníž. prenesená",K132,0) -> 0 | BI132: =IF(O132="nulová",K132,0) -> 0 | BJ132: 2 | BK132: =ROUND(P132*H132,2) -> 0 | BL132: 4 | BM132: 1900816940
D133: VV | F133: 40*0,6*1,5 | H133: 36 | AT133: VV | AU133: 2 | AV133: 2 | AW133: True | AX133: 1 | AY133: ROZPOCET
C134: 2 | D134: K | E134: 132201109.S | F134: Príplatok k cene za lepivosť pri hĺbení rýh šírky do 600 mm zapažených i nezapažených s urovnaním dna v hornine 3 | G134: m3 | H134: 36 | K134: =ROUND(P134*H134,2) -> 0 | O134: znížená | P134: =I134+J134 -> 0 | Q134: =ROUND(I134*H134,2) -> 0 | R134: =ROUND(J134*H134,2) -> 0 | T134: =S134*H134 -> 0 | U134: 0 | V134: =U134*H134 -> 0 | W134: 0 | X134: =W134*H134 -> 0 | AR134: 4 | AT134: K | AU134: 2 | AY134: ROZPOCET | BE134: =IF(O134="základná",K134,0) -> 0 | BF134: =IF(O134="znížená",K134,0) -> 0 | BG134: =IF(O134="zákl. prenesená",K134,0) -> 0 | BH134: =IF(O134="zníž. prenesená",K134,0) -> 0 | BI134: =IF(O134="nulová",K134,0) -> 0 | BJ134: 2 | BK134: =ROUND(P134*H134,2) -> 0 | BL134: 4 | BM134: -1657208955
D135: VV | F135: 40*0,6*1,5 | H135: 36 | AT135: VV | AU135: 2 | AV135: 2 | AW135: True | AX135: 1 | AY135: ROZPOCET
C136: 3 | D136: K | E136: 162201102.S | F136: Vodorovné premiestnenie výkopku z horniny 1-4 nad 20-50m | G136: m3 | H136: 2.4 | K136: =ROUND(P136*H136,2) -> 0 | L136: CS CENEKON 2026 02 v1 | O136: znížená | P136: =I136+J136 -> 0 | Q136: =ROUND(I136*H136,2) -> 0 | R136: =ROUND(J136*H136,2) -> 0 | T136: =S136*H136 -> 0 | U136: 0 | V136: =U136*H136 -> 0 | W136: 0 | X136: =W136*H136 -> 0 | AR136: 4 | AT136: K | AU136: 2 | AY136: ROZPOCET | BE136: =IF(O136="základná",K136,0) -> 0 | BF136: =IF(O136="znížená",K136,0) -> 0 | BG136: =IF(O136="zákl. prenesená",K136,0) -> 0 | BH136: =IF(O136="zníž. prenesená",K136,0) -> 0 | BI136: =IF(O136="nulová",K136,0) -> 0 | BJ136: 2 | BK136: =ROUND(P136*H136,2) -> 0 | BL136: 4 | BM136: -1965056272
D137: VV | F137: 40*0,6*0,1 | H137: 2.4 | AT137: VV | AU137: 2 | AV137: 2 | AW137: True | AX137: 1 | AY137: ROZPOCET
C138: 4 | D138: K | E138: 171201101.S | F138: Uloženie sypaniny do násypov s rozprestretím sypaniny vo vrstvách a s hrubým urovnaním nezhutnených | G138: m3 | H138: 2.4 | K138: =ROUND(P138*H138,2) -> 0 | L138: CS CENEKON 2026 02 v1 | O138: znížená | P138: =I138+J138 -> 0 | Q138: =ROUND(I138*H138,2) -> 0 | R138: =ROUND(J138*H138,2) -> 0 | T138: =S138*H138 -> 0 | U138: 0 | V138: =U138*H138 -> 0 | W138: 0 | X138: =W138*H138 -> 0 | AR138: 4 | AT138: K | AU138: 2 | AY138: ROZPOCET | BE138: =IF(O138="základná",K138,0) -> 0 | BF138: =IF(O138="znížená",K138,0) -> 0 | BG138: =IF(O138="zákl. prenesená",K138,0) -> 0 | BH138: =IF(O138="zníž. prenesená",K138,0) -> 0 | BI138: =IF(O138="nulová",K138,0) -> 0 | BJ138: 2 | BK138: =ROUND(P138*H138,2) -> 0 | BL138: 4 | BM138: -1433686949
D139: VV | F139: 40*0,6*0,1 | H139: 2.4 | AT139: VV | AU139: 2 | AV139: 2 | AW139: True | AX139: 1 | AY139: ROZPOCET
C140: 5 | D140: K | E140: 174101002.S | F140: Zásyp sypaninou so zhutnením jám, šachiet, rýh, zárezov alebo okolo objektov nad 100 do 1000 m3 | G140: m3 | H140: 24 | K140: =ROUND(P140*H140,2) -> 0 | O140: znížená | P140: =I140+J140 -> 0 | Q140: =ROUND(I140*H140,2) -> 0 | R140: =ROUND(J140*H140,2) -> 0 | T140: =S140*H140 -> 0 | U140: 0 | V140: =U140*H140 -> 0 | W140: 0 | X140: =W140*H140 -> 0 | AR140: 4 | AT140: K | AU140: 2 | AY140: ROZPOCET | BE140: =IF(O140="základná",K140,0) -> 0 | BF140: =IF(O140="znížená",K140,0) -> 0 | BG140: =IF(O140="zákl. prenesená",K140,0) -> 0 | BH140: =IF(O140="zníž. prenesená",K140,0) -> 0 | BI140: =IF(O140="nulová",K140,0) -> 0 | BJ140: 2 | BK140: =ROUND(P140*H140,2) -> 0 | BL140: 4 | BM140: 1160965447
D141: VV | F141: 40*0,6*1,0 | H141: 24 | AT141: VV | AU141: 2 | AV141: 2 | AW141: True | AX141: 1 | AY141: ROZPOCET
C142: 6 | D142: K | E142: 175101101.S | F142: Obsyp potrubia sypaninou z vhodných hornín 1 až 4 bez prehodenia sypaniny | G142: m3 | H142: 9.6 | K142: =ROUND(P142*H142,2) -> 0 | O142: znížená | P142: =I142+J142 -> 0 | Q142: =ROUND(I142*H142,2) -> 0 | R142: =ROUND(J142*H142,2) -> 0 | T142: =S142*H142 -> 0 | U142: 0 | V142: =U142*H142 -> 0 | W142: 0 | X142: =W142*H142 -> 0 | AR142: 4 | AT142: K | AU142: 2 | AY142: ROZPOCET | BE142: =IF(O142="základná",K142,0) -> 0 | BF142: =IF(O142="znížená",K142,0) -> 0 | BG142: =IF(O142="zákl. prenesená",K142,0) -> 0 | BH142: =IF(O142="zníž. prenesená",K142,0) -> 0 | BI142: =IF(O142="nulová",K142,0) -> 0 | BJ142: 2 | BK142: =ROUND(P142*H142,2) -> 0 | BL142: 4 | BM142: -373835357
D143: VV | F143: 40*0,6*0,4 | H143: 9.6 | AT143: VV | AU143: 2 | AV143: 2 | AW143: True | AX143: 1 | AY143: ROZPOCET
C144: 7 | D144: M | E144: 583410000800.S | F144: Kamenivo drvené drobné frakcia 0-4 mm | G144: t | H144: 18.144 | K144: =ROUND(P144*H144,2) -> 0 | L144: CS CENEKON 2026 02 v1 | O144: znížená | P144: =I144+J144 -> 0 | Q144: =ROUND(I144*H144,2) -> 0 | R144: =ROUND(J144*H144,2) -> 0 | T144: =S144*H144 -> 0 | U144: 1 | V144: =U144*H144 -> 18.144 | W144: 0 | X144: =W144*H144 -> 0 | AR144: 8 | AT144: M | AU144: 2 | AY144: ROZPOCET | BE144: =IF(O144="základná",K144,0) -> 0 | BF144: =IF(O144="znížená",K144,0) -> 0 | BG144: =IF(O144="zákl. prenesená",K144,0) -> 0 | BH144: =IF(O144="zníž. prenesená",K144,0) -> 0 | BI144: =IF(O144="nulová",K144,0) -> 0 | BJ144: 2 | BK144: =ROUND(P144*H144,2) -> 0 | BL144: 4 | BM144: -41416063
D145: VV | F145: 40*0,6*0,4 | H145: 9.6 | AT145: VV | AU145: 2 | AV145: 2 | AW145: True | AX145: 1 | AY145: ROZPOCET
D146: VV | F146: 9,6*1,89 'Prepočítané koeficientom množstva | H146: 18.144 | AT146: VV | AU146: 2 | AV146: 2 | AW146: False | AX146: 1 | AY146: ROZPOCET
D147: D | E147: 4 | F147: Vodorovné konštrukcie | K147: =BK147 -> 0 | Q147: =SUM(Q148:Q149) -> 0 | R147: =SUM(R148:R149) -> 0 | T147: =SUM(T148:T149) -> 0 | V147: =SUM(V148:V149) -> 4.537848 | X147: =SUM(X148:X149) -> 0 | AR147: 1 | AT147: D | AU147: 1 | AY147: ROZPOCET | BK147: =SUM(BK148:BK149) -> 0
C148: 8 | D148: K | E148: 451572111.S | F148: Lôžko pod potrubie, stoky a drobné objekty, v otvorenom výkope z kameniva drobného ťaženého 0-4 mm | G148: m3 | H148: 2.4 | K148: =ROUND(P148*H148,2) -> 0 | O148: znížená | P148: =I148+J148 -> 0 | Q148: =ROUND(I148*H148,2) -> 0 | R148: =ROUND(J148*H148,2) -> 0 | T148: =S148*H148 -> 0 | U148: 1.89077 | V148: =U148*H148 -> 4.537848 | W148: 0 | X148: =W148*H148 -> 0 | AR148: 4 | AT148: K | AU148: 2 | AY148: ROZPOCET | BE148: =IF(O148="základná",K148,0) -> 0 | BF148: =IF(O148="znížená",K148,0) -> 0 | BG148: =IF(O148="zákl. prenesená",K148,0) -> 0 | BH148: =IF(O148="zníž. prenesená",K148,0) -> 0 | BI148: =IF(O148="nulová",K148,0) -> 0 | BJ148: 2 | BK148: =ROUND(P148*H148,2) -> 0 | BL148: 4 | BM148: -1145484389
D149: VV | F149: 40*0,6*0,1 | H149: 2.4 | AT149: VV | AU149: 2 | AV149: 2 | AW149: True | AX149: 1 | AY149: ROZPOCET
D150: D | E150: 8 | F150: Rúrové vedenie | K150: =BK150 -> 0 | Q150: =SUM(Q151:Q170) -> 0 | R150: =SUM(R151:R170) -> 0 | T150: =SUM(T151:T170) -> 0 | V150: =SUM(V151:V170) -> 0.42681 | X150: =SUM(X151:X170) -> 0 | AR150: 1 | AT150: D | AU150: 1 | AY150: ROZPOCET | BK150: =SUM(BK151:BK170) -> 0
C151: 9 | D151: K | E151: 871324204.S | F151: Potrubie kanalizačné hladké plnostenné PP SN 10 DN 150 | G151: m | H151: 40 | K151: =ROUND(P151*H151,2) -> 0 | O151: znížená | P151: =I151+J151 -> 0 | Q151: =ROUND(I151*H151,2) -> 0 | R151: =ROUND(J151*H151,2) -> 0 | T151: =S151*H151 -> 0 | U151: 0.00345 | V151: =U151*H151 -> 0.138 | W151: 0 | X151: =W151*H151 -> 0 | AR151: 4 | AT151: K | AU151: 2 | AY151: ROZPOCET | BE151: =IF(O151="základná",K151,0) -> 0 | BF151: =IF(O151="znížená",K151,0) -> 0 | BG151: =IF(O151="zákl. prenesená",K151,0) -> 0 | BH151: =IF(O151="zníž. prenesená",K151,0) -> 0 | BI151: =IF(O151="nulová",K151,0) -> 0 | BJ151: 2 | BK151: =ROUND(P151*H151,2) -> 0 | BL151: 4 | BM151: 536820524
D152: VV | F152: 40 | H152: 40 | AT152: VV | AU152: 2 | AV152: 2 | AW152: True | AX152: 1 | AY152: ROZPOCET
C153: 10 | D153: K | E153: 877324004.S | F153: Montáž kanalizačného PP kolena DN 150 | G153: ks | H153: 4 | K153: =ROUND(P153*H153,2) -> 0 | O153: znížená | P153: =I153+J153 -> 0 | Q153: =ROUND(I153*H153,2) -> 0 | R153: =ROUND(J153*H153,2) -> 0 | T153: =S153*H153 -> 0 | U153: 5e-05 | V153: =U153*H153 -> 0.0002 | W153: 0 | X153: =W153*H153 -> 0 | AR153: 4 | AT153: K | AU153: 2 | AY153: ROZPOCET | BE153: =IF(O153="základná",K153,0) -> 0 | BF153: =IF(O153="znížená",K153,0) -> 0 | BG153: =IF(O153="zákl. prenesená",K153,0) -> 0 | BH153: =IF(O153="zníž. prenesená",K153,0) -> 0 | BI153: =IF(O153="nulová",K153,0) -> 0 | BJ153: 2 | BK153: =ROUND(P153*H153,2) -> 0 | BL153: 4 | BM153: 1461377530
D154: VV | F154: 4 | H154: 4 | AT154: VV | AU154: 2 | AV154: 2 | AW154: True | AX154: 1 | AY154: ROZPOCET
C155: 11 | D155: M | E155: 286540069700.S | F155: Koleno PP, DN 160x45° hladké pre gravitačnú kanalizáciu | G155: ks | H155: 4 | K155: =ROUND(P155*H155,2) -> 0 | O155: znížená | P155: =I155+J155 -> 0 | Q155: =ROUND(I155*H155,2) -> 0 | R155: =ROUND(J155*H155,2) -> 0 | T155: =S155*H155 -> 0 | U155: 0.00085 | V155: =U155*H155 -> 0.0034 | W155: 0 | X155: =W155*H155 -> 0 | AR155: 8 | AT155: M | AU155: 2 | AY155: ROZPOCET | BE155: =IF(O155="základná",K155,0) -> 0 | BF155: =IF(O155="znížená",K155,0) -> 0 | BG155: =IF(O155="zákl. prenesená",K155,0) -> 0 | BH155: =IF(O155="zníž. prenesená",K155,0) -> 0 | BI155: =IF(O155="nulová",K155,0) -> 0 | BJ155: 2 | BK155: =ROUND(P155*H155,2) -> 0 | BL155: 4 | BM155: 2060658395
D156: VV | F156: 4 | H156: 4 | AT156: VV | AU156: 2 | AV156: 2 | AW156: True | AX156: 1 | AY156: ROZPOCET
C157: 12 | D157: K | E157: 892311000.S | F157: Skúška tesnosti kanalizácie D 150 mm | G157: m | H157: 40 | K157: =ROUND(P157*H157,2) -> 0 | O157: znížená | P157: =I157+J157 -> 0 | Q157: =ROUND(I157*H157,2) -> 0 | R157: =ROUND(J157*H157,2) -> 0 | T157: =S157*H157 -> 0 | U157: 0 | V157: =U157*H157 -> 0 | W157: 0 | X157: =W157*H157 -> 0 | AR157: 4 | AT157: K | AU157: 2 | AY157: ROZPOCET | BE157: =IF(O157="základná",K157,0) -> 0 | BF157: =IF(O157="znížená",K157,0) -> 0 | BG157: =IF(O157="zákl. prenesená",K157,0) -> 0 | BH157: =IF(O157="zníž. prenesená",K157,0) -> 0 | BI157: =IF(O157="nulová",K157,0) -> 0 | BJ157: 2 | BK157: =ROUND(P157*H157,2) -> 0 | BL157: 4 | BM157: -464751759
D158: VV | F158: 40 | H158: 40 | AT158: VV | AU158: 2 | AV158: 2 | AW158: True | AX158: 1 | AY158: ROZPOCET
C159: 13 | D159: K | E159: 894810009.S | F159: Montáž PP revíznej kanalizačnej šachty priemeru 600 mm do výšky šachty 2 m s roznášacím prstencom a poklopom | G159: ks | H159: 1 | K159: =ROUND(P159*H159,2) -> 0 | O159: znížená | P159: =I159+J159 -> 0 | Q159: =ROUND(I159*H159,2) -> 0 | R159: =ROUND(J159*H159,2) -> 0 | T159: =S159*H159 -> 0 | U159: 0 | V159: =U159*H159 -> 0 | W159: 0 | X159: =W159*H159 -> 0 | AR159: 4 | AT159: K | AU159: 2 | AY159: ROZPOCET | BE159: =IF(O159="základná",K159,0) -> 0 | BF159: =IF(O159="znížená",K159,0) -> 0 | BG159: =IF(O159="zákl. prenesená",K159,0) -> 0 | BH159: =IF(O159="zníž. prenesená",K159,0) -> 0 | BI159: =IF(O159="nulová",K159,0) -> 0 | BJ159: 2 | BK159: =ROUND(P159*H159,2) -> 0 | BL159: 4 | BM159: -123639605
D160: VV | F160: 1 | H160: 1 | AT160: VV | AU160: 2 | AV160: 2 | AW160: True | AX160: 1 | AY160: ROZPOCET
...

Sheet 26-B-01-03-02-02 - Vodovodná
M2: >> skryté stĺpce << | AT2: {5aa8cb74-55cd-4eb2-9367-a229fe0f99d4}
AT3: 0
D4: KRYCÍ LIST ROZPOČTU | N4: v --- nižšie sa nachádzajú doplnkové a pomocné údaje k zostavám --- v | AT4: False
D6: Stavba:
E7: ='Rekapitulácia stavby'!K6 -> Integrovaný výrobný systém pre výrobu a distribúciu nealkoholických sladových produktov
D8: Objekt:
E9: 26-B-01-03 - Stavebné úpravy
D10: Časť:
E11: 26-B-01-03-02 - Prípojky
D12: Úroveň 3:
E13: 26-B-01-03-02-02 - Vodovodná
D15: JKSO: | I15: ČS:
D16: Miesto: | F16: Zvolen | I16: Dátum:
D18: Objednávateľ: | I18: IČO: | J18: =IF('Rekapitulácia stavby'!AN10="","",'Rekapitulácia stavby'!AN10)
E19: =IF('Rekapitulácia stavby'!E11="","",'Rekapitulácia stavby'!E11) | I19: IČ DPH: | J19: =IF('Rekapitulácia stavby'!AN11="","",'Rekapitulácia stavby'!AN11)
D21: Zhotoviteľ: | I21: IČO: | J21: ='Rekapitulácia stavby'!AN13 -> Vyplň údaj
E22: ='Rekapitulácia stavby'!E14 -> Vyplň údaj | I22: IČ DPH: | J22: ='Rekapitulácia stavby'!AN14 -> Vyplň údaj
D24: Projektant: | I24: IČO: | J24: =IF('Rekapitulácia stavby'!AN16="","",'Rekapitulácia stavby'!AN16)
E25: =IF('Rekapitulácia stavby'!E17="","",'Rekapitulácia stavby'!E17) | I25: IČ DPH: | J25: =IF('Rekapitulácia stavby'!AN17="","",'Rekapitulácia stavby'!AN17)
D27: Spracovateľ: | I27: IČO:
E28: Ing.Miroslav Plevka | I28: IČ DPH:
D30: Poznámka:
E34: Materiál | K34: =I100 -> 0
E35: Montáž | K35: =J100 -> 0
D36: Cena bez DPH | K36: =ROUND(K129, 2) -> 0
F38: Základ dane | I38: Sadzba dane | K38: Výška dane
D39: DPH | E39: základná | F39: =ROUND((SUM(BE129:BE176)), 2) -> 0 | I39: 0.23 | K39: =ROUND(((SUM(BE129:BE176))*I39), 2) -> 0
E40: znížená | F40: =ROUND((SUM(BF129:BF176)), 2) -> 0 | I40: 0.23 | K40: =ROUND(((SUM(BF129:BF176))*I40), 2) -> 0
E41: zákl. prenesená | F41: =ROUND((SUM(BG129:BG176)), 2) -> 0 | I41: 0.23 | K41: =0 -> 0
E42: zníž. prenesená | F42: =ROUND((SUM(BH129:BH176)), 2) -> 0 | I42: 0.23 | K42: =0 -> 0
E43: nulová | F43: =ROUND((SUM(BI129:BI176)), 2) -> 0 | I43: 0 | K43: =0 -> 0
D45: Cena s DPH | G45: v | H45: EUR | K45: =SUM(K36:K43) -> 0
D50: Projektant | G50: Spracovateľ
D61: Dátum a podpis: | F61: Pečiatka | G61: Dátum a podpis: | J61: Pečiatka
D65: Objednávateľ | G65: Zhotoviteľ
D76: Dátum a podpis: | F76: Pečiatka | G76: Dátum a podpis: | J76: Pečiatka
C82: REKAPITULÁCIA ROZPOČTU
C84: Stavba:
E85: =E7 -> Integrovaný výrobný systém pre výrobu a distribúciu nealkoholických sladových produktov
C86: Objekt:
E87: 26-B-01-03 - Stavebné úpravy
C88: Časť:
E89: 26-B-01-03-02 - Prípojky
C90: Úroveň 3:
E91: =E13 -> 26-B-01-03-02-02 - Vodovodná
C93: Miesto: | F93: =F16 -> Zvolen | I93: Dátum: | J93: =IF(J16="","",J16)
C95: Objednávateľ: | F95: =E19 | I95: Projektant: | J95: =E25
C96: Zhotoviteľ: | F96: =IF(E22="","",E22) -> Vyplň údaj | I96: Spracovateľ: | J96: =E28 -> Ing.Miroslav Plevka
C98: Kód dielu - Popis | I98: Materiál [EUR] | J98: Montáž [EUR] | K98: Cena celkom [EUR]
C100: Náklady z rozpočtu | I100: =Q129 -> 0 | J100: =R129 -> 0 | K100: =K129 -> 0 | AU100: -1
D101: HSV - Práce a dodávky HSV | I101: =Q130 -> 0 | J101: =R130 -> 0 | K101: =K130 -> 0
D102: 1 - Zemné práce | I102: =Q131 -> 0 | J102: =R131 -> 0 | K102: =K131 -> 0
D103: 4 - Vodorovné konštrukcie | I103: =Q147 -> 0 | J103: =R147 -> 0 | K103: =K147 -> 0
D104: 8 - Rúrové vedenie | I104: =Q150 -> 0 | J104: =R150 -> 0 | K104: =K150 -> 0
D105: 99 - Presun hmôt HSV | I105: =Q175 -> 0 | J105: =R175 -> 0 | K105: =K175 -> 0
C112: ROZPOČET
C114: Stavba:
E115: =E7 -> Integrovaný výrobný systém pre výrobu a distribúciu nealkoholických sladových produktov
C116: Objekt:
E117: 26-B-01-03 - Stavebné úpravy
C118: Časť:
E119: 26-B-01-03-02 - Prípojky
C120: Úroveň 3:
E121: =E13 -> 26-B-01-03-02-02 - Vodovodná
C123: Miesto: | F123: =F16 -> Zvolen | I123: Dátum: | J123: =IF(J16="","",J16)
C125: Objednávateľ: | F125: =E19 | I125: Projektant: | J125: =E25
C126: Zhotoviteľ: | F126: =IF(E22="","",E22) -> Vyplň údaj | I126: Spracovateľ: | J126: =E28 -> Ing.Miroslav Plevka
C128: PČ | D128: Typ | E128: Kód | F128: Popis | G128: MJ | H128: Množstvo | I128: J. materiál [EUR] | J128: J. montáž [EUR] | K128: Cena celkom [EUR] | L128: Cenová sústava | O128: DPH | P128: J.cena [EUR] | Q128: Materiál celkom [EUR] | R128: Montáž celkom [EUR] | S128: J. Nh [h] | T128: Nh celkom [h] | U128: J. hmotnosť [t] | V128: Hmotnosť celkom [t] | W128: J. suť [t] | X128: Suť Celkom [t]
C129: Náklady z rozpočtu | K129: =BK129 -> 0 | Q129: =Q130 -> 0 | R129: =R130 -> 0 | T129: =T130 -> 0 | V129: =V130 -> 33.896278 | X129: =X130 -> 0 | AT129: D | AU129: -1 | BK129: =BK130 -> 0
D130: D | E130: HSV | F130: Práce a dodávky HSV | K130: =BK130 -> 0 | Q130: =Q131+Q147+Q150+Q175 -> 0 | R130: =R131+R147+R150+R175 -> 0 | T130: =T131+T147+T150+T175 -> 0 | V130: =V131+V147+V150+V175 -> 33.896278 | X130: =X131+X147+X150+X175 -> 0 | AR130: 1 | AT130: D | AU130: 0 | AY130: ROZPOCET | BK130: =BK131+BK147+BK150+BK175 -> 0
D131: D | E131: 1 | F131: Zemné práce | K131: =BK131 -> 0 | Q131: =SUM(Q132:Q146) -> 0 | R131: =SUM(R132:R146) -> 0 | T131: =SUM(T132:T146) -> 0 | V131: =SUM(V132:V146) -> 18.144 | X131: =SUM(X132:X146) -> 0 | AR131: 1 | AT131: D | AU131: 1 | AY131: ROZPOCET | BK131: =SUM(BK132:BK146) -> 0
C132: 1 | D132: K | E132: 132201101.S | F132: Výkop ryhy do šírky 600 mm v horn.3 do 100 m3 | G132: m3 | H132: 36 | K132: =ROUND(P132*H132,2) -> 0 | O132: znížená | P132: =I132+J132 -> 0 | Q132: =ROUND(I132*H132,2) -> 0 | R132: =ROUND(J132*H132,2) -> 0 | T132: =S132*H132 -> 0 | U132: 0 | V132: =U132*H132 -> 0 | W132: 0 | X132: =W132*H132 -> 0 | AR132: 4 | AT132: K | AU132: 2 | AY132: ROZPOCET | BE132: =IF(O132="základná",K132,0) -> 0 | BF132: =IF(O132="znížená",K132,0) -> 0 | BG132: =IF(O132="zákl. prenesená",K132,0) -> 0 | BH132: =IF(O132="zníž. prenesená",K132,0) -> 0 | BI132: =IF(O132="nulová",K132,0) -> 0 | BJ132: 2 | BK132: =ROUND(P132*H132,2) -> 0 | BL132: 4 | BM132: -1497199573
D133: VV | F133: 40*0,6*1,5 | H133: 36 | AT133: VV | AU133: 2 | AV133: 2 | AW133: True | AX133: 1 | AY133: ROZPOCET
C134: 2 | D134: K | E134: 132201109.S | F134: Príplatok k cene za lepivosť pri hĺbení rýh šírky do 600 mm zapažených i nezapažených s urovnaním dna v hornine 3 | G134: m3 | H134: 36 | K134: =ROUND(P134*H134,2) -> 0 | O134: znížená | P134: =I134+J134 -> 0 | Q134: =ROUND(I134*H134,2) -> 0 | R134: =ROUND(J134*H134,2) -> 0 | T134: =S134*H134 -> 0 | U134: 0 | V134: =U134*H134 -> 0 | W134: 0 | X134: =W134*H134 -> 0 | AR134: 4 | AT134: K | AU134: 2 | AY134: ROZPOCET | BE134: =IF(O134="základná",K134,0) -> 0 | BF134: =IF(O134="znížená",K134,0) -> 0 | BG134: =IF(O134="zákl. prenesená",K134,0) -> 0 | BH134: =IF(O134="zníž. prenesená",K134,0) -> 0 | BI134: =IF(O134="nulová",K134,0) -> 0 | BJ134: 2 | BK134: =ROUND(P134*H134,2) -> 0 | BL134: 4 | BM134: 1067766704
D135: VV | F135: 40*0,6*1,5 | H135: 36 | AT135: VV | AU135: 2 | AV135: 2 | AW135: True | AX135: 1 | AY135: ROZPOCET
C136: 3 | D136: K | E136: 162201102.S | F136: Vodorovné premiestnenie výkopku z horniny 1-4 nad 20-50m | G136: m3 | H136: 2.4 | K136: =ROUND(P136*H136,2) -> 0 | L136: CS CENEKON 2026 02 v1 | O136: znížená | P136: =I136+J136 -> 0 | Q136: =ROUND(I136*H136,2) -> 0 | R136: =ROUND(J136*H136,2) -> 0 | T136: =S136*H136 -> 0 | U136: 0 | V136: =U136*H136 -> 0 | W136: 0 | X136: =W136*H136 -> 0 | AR136: 4 | AT136: K | AU136: 2 | AY136: ROZPOCET | BE136: =IF(O136="základná",K136,0) -> 0 | BF136: =IF(O136="znížená",K136,0) -> 0 | BG136: =IF(O136="zákl. prenesená",K136,0) -> 0 | BH136: =IF(O136="zníž. prenesená",K136,0) -> 0 | BI136: =IF(O136="nulová",K136,0) -> 0 | BJ136: 2 | BK136: =ROUND(P136*H136,2) -> 0 | BL136: 4 | BM136: -1075732731
D137: VV | F137: 40*0,6*0,1 | H137: 2.4 | AT137: VV | AU137: 2 | AV137: 2 | AW137: True | AX137: 1 | AY137: ROZPOCET
C138: 4 | D138: K | E138: 171201101.S | F138: Uloženie sypaniny do násypov s rozprestretím sypaniny vo vrstvách a s hrubým urovnaním nezhutnených | G138: m3 | H138: 2.4 | K138: =ROUND(P138*H138,2) -> 0 | L138: CS CENEKON 2026 02 v1 | O138: znížená | P138: =I138+J138 -> 0 | Q138: =ROUND(I138*H138,2) -> 0 | R138: =ROUND(J138*H138,2) -> 0 | T138: =S138*H138 -> 0 | U138: 0 | V138: =U138*H138 -> 0 | W138: 0 | X138: =W138*H138 -> 0 | AR138: 4 | AT138: K | AU138: 2 | AY138: ROZPOCET | BE138: =IF(O138="základná",K138,0) -> 0 | BF138: =IF(O138="znížená",K138,0) -> 0 | BG138: =IF(O138="zákl. prenesená",K138,0) -> 0 | BH138: =IF(O138="zníž. prenesená",K138,0) -> 0 | BI138: =IF(O138="nulová",K138,0) -> 0 | BJ138: 2 | BK138: =ROUND(P138*H138,2) -> 0 | BL138: 4 | BM138: 1978222431
D139: VV | F139: 40*0,6*0,1 | H139: 2.4 | AT139: VV | AU139: 2 | AV139: 2 | AW139: True | AX139: 1 | AY139: ROZPOCET
C140: 5 | D140: K | E140: 174101002.S | F140: Zásyp sypaninou so zhutnením jám, šachiet, rýh, zárezov alebo okolo objektov nad 100 do 1000 m3 | G140: m3 | H140: 24 | K140: =ROUND(P140*H140,2) -> 0 | O140: znížená | P140: =I140+J140 -> 0 | Q140: =ROUND(I140*H140,2) -> 0 | R140: =ROUND(J140*H140,2) -> 0 | T140: =S140*H140 -> 0 | U140: 0 | V140: =U140*H140 -> 0 | W140: 0 | X140: =W140*H140 -> 0 | AR140: 4 | AT140: K | AU140: 2 | AY140: ROZPOCET | BE140: =IF(O140="základná",K140,0) -> 0 | BF140: =IF(O140="znížená",K140,0) -> 0 | BG140: =IF(O140="zákl. prenesená",K140,0) -> 0 | BH140: =IF(O140="zníž. prenesená",K140,0) -> 0 | BI140: =IF(O140="nulová",K140,0) -> 0 | BJ140: 2 | BK140: =ROUND(P140*H140,2) -> 0 | BL140: 4 | BM140: -2116324483
D141: VV | F141: 40*0,6*1,0 | H141: 24 | AT141: VV | AU141: 2 | AV141: 2 | AW141: True | AX141: 1 | AY141: ROZPOCET
C142: 6 | D142: K | E142: 175101101.S | F142: Obsyp potrubia sypaninou z vhodných hornín 1 až 4 bez prehodenia sypaniny | G142: m3 | H142: 9.6 | K142: =ROUND(P142*H142,2) -> 0 | O142: znížená | P142: =I142+J142 -> 0 | Q142: =ROUND(I142*H142,2) -> 0 | R142: =ROUND(J142*H142,2) -> 0 | T142: =S142*H142 -> 0 | U142: 0 | V142: =U142*H142 -> 0 | W142: 0 | X142: =W142*H142 -> 0 | AR142: 4 | AT142: K | AU142: 2 | AY142: ROZPOCET | BE142: =IF(O142="základná",K142,0) -> 0 | BF142: =IF(O142="znížená",K142,0) -> 0 | BG142: =IF(O142="zákl. prenesená",K142,0) -> 0 | BH142: =IF(O142="zníž. prenesená",K142,0) -> 0 | BI142: =IF(O142="nulová",K142,0) -> 0 | BJ142: 2 | BK142: =ROUND(P142*H142,2) -> 0 | BL142: 4 | BM142: 345405972
D143: VV | F143: 40*0,6*0,4 | H143: 9.6 | AT143: VV | AU143: 2 | AV143: 2 | AW143: True | AX143: 1 | AY143: ROZPOCET
C144: 7 | D144: M | E144: 583410000800.S | F144: Kamenivo drvené drobné frakcia 0-4 mm | G144: t | H144: 18.144 | K144: =ROUND(P144*H144,2) -> 0 | L144: CS CENEKON 2026 02 v1 | O144: znížená | P144: =I144+J144 -> 0 | Q144: =ROUND(I144*H144,2) -> 0 | R144: =ROUND(J144*H144,2) -> 0 | T144: =S144*H144 -> 0 | U144: 1 | V144: =U144*H144 -> 18.144 | W144: 0 | X144: =W144*H144 -> 0 | AR144: 8 | AT144: M | AU144: 2 | AY144: ROZPOCET | BE144: =IF(O144="základná",K144,0) -> 0 | BF144: =IF(O144="znížená",K144,0) -> 0 | BG144: =IF(O144="zákl. prenesená",K144,0) -> 0 | BH144: =IF(O144="zníž. prenesená",K144,0) -> 0 | BI144: =IF(O144="nulová",K144,0) -> 0 | BJ144: 2 | BK144: =ROUND(P144*H144,2) -> 0 | BL144: 4 | BM144: -1807311527
D145: VV | F145: 40*0,6*0,4 | H145: 9.6 | AT145: VV | AU145: 2 | AV145: 2 | AW145: True | AX145: 1 | AY145: ROZPOCET
D146: VV | F146: 9,6*1,89 'Prepočítané koeficientom množstva | H146: 18.144 | AT146: VV | AU146: 2 | AV146: 2 | AW146: False | AX146: 1 | AY146: ROZPOCET
D147: D | E147: 4 | F147: Vodorovné konštrukcie | K147: =BK147 -> 0 | Q147: =SUM(Q148:Q149) -> 0 | R147: =SUM(R148:R149) -> 0 | T147: =SUM(T148:T149) -> 0 | V147: =SUM(V148:V149) -> 4.537848 | X147: =SUM(X148:X149) -> 0 | AR147: 1 | AT147: D | AU147: 1 | AY147: ROZPOCET | BK147: =SUM(BK148:BK149) -> 0
C148: 8 | D148: K | E148: 451572111.S | F148: Lôžko pod potrubie, stoky a drobné objekty, v otvorenom výkope z kameniva drobného ťaženého 0-4 mm | G148: m3 | H148: 2.4 | K148: =ROUND(P148*H148,2) -> 0 | O148: znížená | P148: =I148+J148 -> 0 | Q148: =ROUND(I148*H148,2) -> 0 | R148: =ROUND(J148*H148,2) -> 0 | T148: =S148*H148 -> 0 | U148: 1.89077 | V148: =U148*H148 -> 4.537848 | W148: 0 | X148: =W148*H148 -> 0 | AR148: 4 | AT148: K | AU148: 2 | AY148: ROZPOCET | BE148: =IF(O148="základná",K148,0) -> 0 | BF148: =IF(O148="znížená",K148,0) -> 0 | BG148: =IF(O148="zákl. prenesená",K148,0) -> 0 | BH148: =IF(O148="zníž. prenesená",K148,0) -> 0 | BI148: =IF(O148="nulová",K148,0) -> 0 | BJ148: 2 | BK148: =ROUND(P148*H148,2) -> 0 | BL148: 4 | BM148: -1257456084
D149: VV | F149: 40*0,6*0,1 | H149: 2.4 | AT149: VV | AU149: 2 | AV149: 2 | AW149: True | AX149: 1 | AY149: ROZPOCET
D150: D | E150: 8 | F150: Rúrové vedenie | K150: =BK150 -> 0 | Q150: =SUM(Q151:Q174) -> 0 | R150: =SUM(R151:R174) -> 0 | T150: =SUM(T151:T174) -> 0 | V150: =SUM(V151:V174) -> 11.21443 | X150: =SUM(X151:X174) -> 0 | AR150: 1 | AT150: D | AU150: 1 | AY150: ROZPOCET | BK150: =SUM(BK151:BK174) -> 0
C151: 9 | D151: K | E151: 230203185.S | F151: Montáž kolena 90° elektrotvarovkového PE 100 SDR 11 D 63 mm | G151: ks | H151: 3 | K151: =ROUND(P151*H151,2) -> 0 | O151: znížená | P151: =I151+J151 -> 0 | Q151: =ROUND(I151*H151,2) -> 0 | R151: =ROUND(J151*H151,2) -> 0 | T151: =S151*H151 -> 0 | U151: 0 | V151: =U151*H151 -> 0 | W151: 0 | X151: =W151*H151 -> 0 | AR151: 4 | AT151: K | AU151: 2 | AY151: ROZPOCET | BE151: =IF(O151="základná",K151,0) -> 0 | BF151: =IF(O151="znížená",K151,0) -> 0 | BG151: =IF(O151="zákl. prenesená",K151,0) -> 0 | BH151: =IF(O151="zníž. prenesená",K151,0) -> 0 | BI151: =IF(O151="nulová",K151,0) -> 0 | BJ151: 2 | BK151: =ROUND(P151*H151,2) -> 0 | BL151: 4 | BM151: 265542932
C152: 10 | D152: M | E152: 286530187200.S | F152: Koleno 90° elektrotvarovkové 90° PE 100 SDR 11 D 63 mm | G152: ks | H152: 3 | K152: =ROUND(P152*H152,2) -> 0 | O152: znížená | P152: =I152+J152 -> 0 | Q152: =ROUND(I152*H152,2) -> 0 | R152: =ROUND(J152*H152,2) -> 0 | T152: =S152*H152 -> 0 | U152: 0.00034 | V152: =U152*H152 -> 0.00102 | W152: 0 | X152: =W152*H152 -> 0 | AR152: 8 | AT152: M | AU152: 2 | AY152: ROZPOCET | BE152: =IF(O152="základná",K152,0) -> 0 | BF152: =IF(O152="znížená",K152,0) -> 0 | BG152: =IF(O152="zákl. prenesená",K152,0) -> 0 | BH152: =IF(O152="zníž. prenesená",K152,0) -> 0 | BI152: =IF(O152="nulová",K152,0) -> 0 | BJ152: 2 | BK152: =ROUND(P152*H152,2) -> 0 | BL152: 4 | BM152: -1519402091
C153: 11 | D153: K | E153: 871221548.S | F153: Potrubie vodovodné z PE 100 SDR11/PN16 zvárané elektrotvarovkami D 63x5,8 mm | G153: m | H153: 40 | K153: =ROUND(P153*H153,2) -> 0 | O153: znížená | P153: =I153+J153 -> 0 | Q153: =ROUND(I153*H153,2) -> 0 | R153: =ROUND(J153*H153,2) -> 0 | T153: =S153*H153 -> 0 | U153: 0.00107 | V153: =U153*H153 -> 0.0428 | W153: 0 | X153: =W153*H153 -> 0 | AR153: 4 | AT153: K | AU153: 2 | AY153: ROZPOCET | BE153: =IF(O153="základná",K153,0) -> 0 | BF153: =IF(O153="znížená",K153,0) -> 0 | BG153: =IF(O153="zákl. prenesená",K153,0) -> 0 | BH153: =IF(O153="zníž. prenesená",K153,0) -> 0 | BI153: =IF(O153="nulová",K153,0) -> 0 | BJ153: 2 | BK153: =ROUND(P153*H153,2) -> 0 | BL153: 4 | BM153: -1478477849
D154: VV | F154: 40 | H154: 40 | AT154: VV | AU154: 2 | AV154: 2 | AW154: True | AX154: 1 | AY154: ROZPOCET
C155: 12 | D155: K | E155: 891241111.S | F155: Montáž vodovodného posúvača s osadením zemnej súpravy (bez poklopov) DN 80 | G155: ks | H155: 1 | K155: =ROUND(P155*H155,2) -> 0 | L155: CS CENEKON 2026 02 v1 | O155: znížená | P155: =I155+J155 -> 0 | Q155: =ROUND(I155*H155,2) -> 0 | R155: =ROUND(J155*H155,2) -> 0 | T155: =S155*H155 -> 0 | U155: 0.00079086 | V155: =U155*H155 -> 0.00079086 | W155: 0 | X155: =W155*H155 -> 0 | AR155: 4 | AT155: K | AU155: 2 | AY155: ROZPOCET | BE155: =IF(O155="základná",K155,0) -> 0 | BF155: =IF(O155="znížená",K155,0) -> 0 | BG155: =IF(O155="zákl. prenesená",K155,0) -> 0 | BH155: =IF(O155="zníž. prenesená",K155,0) -> 0 | BI155: =IF(O155="nulová",K155,0) -> 0 | BJ155: 2 | BK155: =ROUND(P155*H155,2) -> 0 | BL155: 4 | BM155: 1437227427
C156: 13 | D156: M | E156: 422210001000.S | F156: Posúvač uzatvárací DN 80, liatinový, PN 16 | G156: ks | H156: 1 | K156: =ROUND(P156*H156,2) -> 0 | L156: CS CENEKON 2026 02 v1 | O156: znížená | P156: =I156+J156 -> 0 | Q156: =ROUND(I156*H156,2) -> 0 | R156: =ROUND(J156*H156,2) -> 0 | T156: =S156*H156 -> 0 | U156: 0.037 | V156: =U156*H156 -> 0.037 | W156: 0 | X156: =W156*H156 -> 0 | AR156: 8 | AT156: M | AU156: 2 | AY156: ROZPOCET | BE156: =IF(O156="základná",K156,0) -> 0 | BF156: =IF(O156="znížená",K156,0) -> 0 | BG156: =IF(O156="zákl. prenesená",K156,0) -> 0 | BH156: =IF(O156="zníž. prenesená",K156,0) -> 0 | BI156: =IF(O156="nulová",K156,0) -> 0 | BJ156: 2 | BK156: =ROUND(P156*H156,2) -> 0 | BL156: 4 | BM156: 2013785761
C157: 14 | D157: M | E157: 422210001800.S | F157: Zemná súprava posúvačová Y 1020 D 65 mm | G157: ks | H157: 1 | K157: =ROUND(P157*H157,2) -> 0 | L157: CS CENEKON 2026 02 v1 | O157: znížená | P157: =I157+J157 -> 0 | Q157: =ROUND(I157*H157,2) -> 0 | R157: =ROUND(J157*H157,2) -> 0 | T157: =S157*H157 -> 0 | U157: 0.0063 | V157: =U157*H157 -> 0.0063 | W157: 0 | X157: =W157*H157 -> 0 | AR157: 8 | AT157: M | AU157: 2 | AY157: ROZPOCET | BE157: =IF(O157="základná",K157,0) -> 0 | BF157: =IF(O157="znížená",K157,0) -> 0 | BG157: =IF(O157="zákl. prenesená",K157,0) -> 0 | BH157: =IF(O157="zníž. prenesená",K157,0) -> 0 | BI157: =IF(O157="nulová",K157,0) -> 0 | BJ157: 2 | BK157: =ROUND(P157*H157,2) -> 0 | BL157: 4 | BM157: 2129778275
C158: 15 | D158: M | E158: 422210001900.S | F158: Zemná súprava posúvačová Y 1020 D 150 mm | G158: ks | H158: 1 | K158: =ROUND(P158*H158,2) -> 0 | L158: CS CENEKON 2026 02 v1 | O158: znížená | P158: =I158+J158 -> 0 | Q158: =ROUND(I158*H158,2) -> 0 | R158: =ROUND(J158*H158,2) -> 0 | T158: =S158*H158 -> 0 | U158: 0.0095 | V158: =U158*H158 -> 0.0095 | W158: 0 | X158: =W158*H158 -> 0 | AR158: 8 | AT158: M | AU158: 2 | AY158: ROZPOCET | BE158: =IF(O158="základná",K158,0) -> 0 | BF158: =IF(O158="znížená",K158,0) -> 0 | BG158: =IF(O158="zákl. prenesená",K158,0) -> 0 | BH158: =IF(O158="zníž. prenesená",K158,0) -> 0 | BI158: =IF(O158="nulová",K158,0) -> 0 | BJ158: 2 | BK158: =ROUND(P158*H158,2) -> 0 | BL158: 4 | BM158: -366738709
C159: 16 | D159: K | E159: 891247111.S | F159: Montáž vodovodnej armatúry na potrubí, hydrant podzemný (bez osadenia poklopov) DN 80 | G159: ks | H159: 1 | K159: =ROUND(P159*H159,2) -> 0 | L159: CS CENEKON 2026 02 v1 | O159: znížená | P159: =I159+J159 -> 0 | Q159: =ROUND(I159*H159,2) -> 0 | R159: =ROUND(J159*H159,2) -> 0 | T159: =S159*H159 -> 0 | U159: 0.00033873 | V159: =U159*H159 -> 0.00033873 | W159: 0 | X159: =W159*H159 -> 0 | AR159: 4 | AT159: K | AU159: 2 | AY159: ROZPOCET | BE159: =IF(O159="základná",K159,0) -> 0 | BF159: =IF(O159="znížená",K159,0) -> 0 | BG159: =IF(O159="zákl. prenesená",K159,0) -> 0 | BH159: =IF(O159="zníž. prenesená",K159,0) -> 0 | BI159: =IF(O159="nulová",K159,0) -> 0 | BJ159: 2 | BK159: =ROUND(P159*H159,2) -> 0 | BL159: 4 | BM159: 942558898
C160: 17 | D160: M | E160: 449160000900.S | F160: Podzemný hydrant DN 80 s dvojitým uzatváraním, krytie potrubia 1,5 m, PN 16, materíál: liatina, na vodu | G160: ks | H160: 1 | K160: =ROUND(P160*H160,2) -> 0 | L160: CS CENEKON 2026 02 v1 | O160: znížená | P160: =I160+J160 -> 0 | Q160: =ROUND(I160*H160,2) -> 0 | R160: =ROUND(J160*H160,2) -> 0 | T160: =S160*H160 -> 0 | U160: 0.0395 | V160: =U160*H160 -> 0.0395 | W160: 0 | X160: =W160*H160 -> 0 | AR160: 8 | AT160: M | AU160: 2 | AY160: ROZPOCET | BE160: =IF(O160="základná",K160,0) -> 0 | BF160: =IF(O160="znížená",K160,0) -> 0 | BG160: =IF(O160="zákl. prenesená",K160,0) -> 0 | BH160: =IF(O160="zníž. prenesená",K160,0) -> 0 | BI160: =IF(O160="nulová",K160,0) -> 0 | BJ160: 2 | BK160: =ROUND(P160*H160,2) -> 0 | BL160: 4 | BM160: 1750690722
...

Sheet 26-B-01-03-02-03 - NN prí...
M2: >> skryté stĺpce << | AT2: {b606aa38-201a-4381-8e81-7002bdc9e98a}
AT3: 0
D4: KRYCÍ LIST ROZPOČTU | N4: v --- nižšie sa nachádzajú doplnkové a pomocné údaje k zostavám --- v | AT4: False
D6: Stavba:
E7: ='Rekapitulácia stavby'!K6 -> Integrovaný výrobný systém pre výrobu a distribúciu nealkoholických sladových produktov
D8: Objekt:
E9: 26-B-01-03 - Stavebné úpravy
D10: Časť:
E11: 26-B-01-03-02 - Prípojky
D12: Úroveň 3:
E13: 26-B-01-03-02-03 - NN prípojka
D15: JKSO: | I15: ČS:
D16: Miesto: | F16: Zvolen | I16: Dátum:
D18: Objednávateľ: | I18: IČO: | J18: =IF('Rekapitulácia stavby'!AN10="","",'Rekapitulácia stavby'!AN10)
E19: =IF('Rekapitulácia stavby'!E11="","",'Rekapitulácia stavby'!E11) | I19: IČ DPH: | J19: =IF('Rekapitulácia stavby'!AN11="","",'Rekapitulácia stavby'!AN11)
D21: Zhotoviteľ: | I21: IČO: | J21: ='Rekapitulácia stavby'!AN13 -> Vyplň údaj
E22: ='Rekapitulácia stavby'!E14 -> Vyplň údaj | I22: IČ DPH: | J22: ='Rekapitulácia stavby'!AN14 -> Vyplň údaj
D24: Projektant: | I24: IČO: | J24: =IF('Rekapitulácia stavby'!AN16="","",'Rekapitulácia stavby'!AN16)
E25: =IF('Rekapitulácia stavby'!E17="","",'Rekapitulácia stavby'!E17) | I25: IČ DPH: | J25: =IF('Rekapitulácia stavby'!AN17="","",'Rekapitulácia stavby'!AN17)
D27: Spracovateľ: | I27: IČO:
E28: Ing.Miroslav Plevka | I28: IČ DPH:
D30: Poznámka:
E34: Materiál | K34: =I100 -> 0
E35: Montáž | K35: =J100 -> 0
D36: Cena bez DPH | K36: =ROUND(K128, 2) -> 0
F38: Základ dane | I38: Sadzba dane | K38: Výška dane
D39: DPH | E39: základná | F39: =ROUND((SUM(BE128:BE160)), 2) -> 0 | I39: 0.23 | K39: =ROUND(((SUM(BE128:BE160))*I39), 2) -> 0
E40: znížená | F40: =ROUND((SUM(BF128:BF160)), 2) -> 0 | I40: 0.23 | K40: =ROUND(((SUM(BF128:BF160))*I40), 2) -> 0
E41: zákl. prenesená | F41: =ROUND((SUM(BG128:BG160)), 2) -> 0 | I41: 0.23 | K41: =0 -> 0
E42: zníž. prenesená | F42: =ROUND((SUM(BH128:BH160)), 2) -> 0 | I42: 0.23 | K42: =0 -> 0
E43: nulová | F43: =ROUND((SUM(BI128:BI160)), 2) -> 0 | I43: 0 | K43: =0 -> 0
D45: Cena s DPH | G45: v | H45: EUR | K45: =SUM(K36:K43) -> 0
D50: Projektant | G50: Spracovateľ
D61: Dátum a podpis: | F61: Pečiatka | G61: Dátum a podpis: | J61: Pečiatka
D65: Objednávateľ | G65: Zhotoviteľ
D76: Dátum a podpis: | F76: Pečiatka | G76: Dátum a podpis: | J76: Pečiatka
C82: REKAPITULÁCIA ROZPOČTU
C84: Stavba:
E85: =E7 -> Integrovaný výrobný systém pre výrobu a distribúciu nealkoholických sladových produktov
C86: Objekt:
E87: 26-B-01-03 - Stavebné úpravy
C88: Časť:
E89: 26-B-01-03-02 - Prípojky
C90: Úroveň 3:
E91: =E13 -> 26-B-01-03-02-03 - NN prípojka
C93: Miesto: | F93: =F16 -> Zvolen | I93: Dátum: | J93: =IF(J16="","",J16)
C95: Objednávateľ: | F95: =E19 | I95: Projektant: | J95: =E25
C96: Zhotoviteľ: | F96: =IF(E22="","",E22) -> Vyplň údaj | I96: Spracovateľ: | J96: =E28 -> Ing.Miroslav Plevka
C98: Kód dielu - Popis | I98: Materiál [EUR] | J98: Montáž [EUR] | K98: Cena celkom [EUR]
C100: Náklady z rozpočtu | I100: =Q128 -> 0 | J100: =R128 -> 0 | K100: =K128 -> 0 | AU100: -1
D101: M - Práce a dodávky M | I101: =Q129 -> 0 | J101: =R129 -> 0 | K101: =K129 -> 0
D102: 21-M - Elektromontáže | I102: =Q130 -> 0 | J102: =R130 -> 0 | K102: =K130 -> 0
D103: 46-M - Zemné práce vykonávané pri externých montážnych prácach | I103: =Q144 -> 0 | J103: =R144 -> 0 | K103: =K144 -> 0
D104: HZS - Hodinové zúčtovacie sadzby | I104: =Q159 -> 0 | J104: =R159 -> 0 | K104: =K159 -> 0
C111: ROZPOČET
C113: Stavba:
E114: =E7 -> Integrovaný výrobný systém pre výrobu a distribúciu nealkoholických sladových produktov
C115: Objekt:
E116: 26-B-01-03 - Stavebné úpravy
C117: Časť:
E118: 26-B-01-03-02 - Prípojky
C119: Úroveň 3:
E120: =E13 -> 26-B-01-03-02-03 - NN prípojka
C122: Miesto: | F122: =F16 -> Zvolen | I122: Dátum: | J122: =IF(J16="","",J16)
C124: Objednávateľ: | F124: =E19 | I124: Projektant: | J124: =E25
C125: Zhotoviteľ: | F125: =IF(E22="","",E22) -> Vyplň údaj | I125: Spracovateľ: | J125: =E28 -> Ing.Miroslav Plevka
C127: PČ | D127: Typ | E127: Kód | F127: Popis | G127: MJ | H127: Množstvo | I127: J. materiál [EUR] | J127: J. montáž [EUR] | K127: Cena celkom [EUR] | L127: Cenová sústava | O127: DPH | P127: J.cena [EUR] | Q127: Materiál celkom [EUR] | R127: Montáž celkom [EUR] | S127: J. Nh [h] | T127: Nh celkom [h] | U127: J. hmotnosť [t] | V127: Hmotnosť celkom [t] | W127: J. suť [t] | X127: Suť Celkom [t]
C128: Náklady z rozpočtu | K128: =BK128 -> 0 | Q128: =Q129+Q159 -> 0 | R128: =R129+R159 -> 0 | T128: =T129+T159 -> 0 | V128: =V129+V159 -> 1.773482 | X128: =X129+X159 -> 0 | AT128: D | AU128: -1 | BK128: =BK129+BK159 -> 0
D129: D | E129: M | F129: Práce a dodávky M | K129: =BK129 -> 0 | Q129: =Q130+Q144 -> 0 | R129: =R130+R144 -> 0 | T129: =T130+T144 -> 0 | V129: =V130+V144 -> 1.773482 | X129: =X130+X144 -> 0 | AR129: 3 | AT129: D | AU129: 0 | AY129: ROZPOCET | BK129: =BK130+BK144 -> 0
D130: D | E130: 21-M | F130: Elektromontáže | K130: =BK130 -> 0 | Q130: =SUM(Q131:Q143) -> 0 | R130: =SUM(R131:R143) -> 0 | T130: =SUM(T131:T143) -> 0 | V130: =SUM(V131:V143) -> 0.11945 | X130: =SUM(X131:X143) -> 0 | AR130: 3 | AT130: D | AU130: 1 | AY130: ROZPOCET | BK130: =SUM(BK131:BK143) -> 0
C131: 1 | D131: K | E131: 210100005.S | F131: Ukončenie vodičov v rozvádzač. vrátane zapojenia a vodičovej koncovky do 35 mm2 | G131: ks | H131: 1 | K131: =ROUND(P131*H131,2) -> 0 | L131: CS CENEKON 2026 02 v1 | O131: znížená | P131: =I131+J131 -> 0 | Q131: =ROUND(I131*H131,2) -> 0 | R131: =ROUND(J131*H131,2) -> 0 | T131: =S131*H131 -> 0 | U131: 0 | V131: =U131*H131 -> 0 | W131: 0 | X131: =W131*H131 -> 0 | AR131: 64 | AT131: K | AU131: 2 | AY131: ROZPOCET | BE131: =IF(O131="základná",K131,0) -> 0 | BF131: =IF(O131="znížená",K131,0) -> 0 | BG131: =IF(O131="zákl. prenesená",K131,0) -> 0 | BH131: =IF(O131="zníž. prenesená",K131,0) -> 0 | BI131: =IF(O131="nulová",K131,0) -> 0 | BJ131: 2 | BK131: =ROUND(P131*H131,2) -> 0 | BL131: 64 | BM131: -56977771
C132: 2 | D132: M | E132: 345720005100.S | F132: Dutinka lisovacia DI 35-16 izolovaná | G132: ks | H132: 1 | K132: =ROUND(P132*H132,2) -> 0 | L132: CS CENEKON 2026 02 v1 | O132: znížená | P132: =I132+J132 -> 0 | Q132: =ROUND(I132*H132,2) -> 0 | R132: =ROUND(J132*H132,2) -> 0 | T132: =S132*H132 -> 0 | U132: 2e-05 | V132: =U132*H132 -> 2e-05 | W132: 0 | X132: =W132*H132 -> 0 | AR132: 128 | AT132: M | AU132: 2 | AY132: ROZPOCET | BE132: =IF(O132="základná",K132,0) -> 0 | BF132: =IF(O132="znížená",K132,0) -> 0 | BG132: =IF(O132="zákl. prenesená",K132,0) -> 0 | BH132: =IF(O132="zníž. prenesená",K132,0) -> 0 | BI132: =IF(O132="nulová",K132,0) -> 0 | BJ132: 2 | BK132: =ROUND(P132*H132,2) -> 0 | BL132: 128 | BM132: -608245064
C133: 3 | D133: M | E133: 354310013600.S | F133: Káblové oko hliníkové lisovacie 35 Al 617081 | G133: ks | H133: 1 | K133: =ROUND(P133*H133,2) -> 0 | L133: CS CENEKON 2026 02 v1 | O133: znížená | P133: =I133+J133 -> 0 | Q133: =ROUND(I133*H133,2) -> 0 | R133: =ROUND(J133*H133,2) -> 0 | T133: =S133*H133 -> 0 | U133: 3e-05 | V133: =U133*H133 -> 3e-05 | W133: 0 | X133: =W133*H133 -> 0 | AR133: 128 | AT133: M | AU133: 2 | AY133: ROZPOCET | BE133: =IF(O133="základná",K133,0) -> 0 | BF133: =IF(O133="znížená",K133,0) -> 0 | BG133: =IF(O133="zákl. prenesená",K133,0) -> 0 | BH133: =IF(O133="zníž. prenesená",K133,0) -> 0 | BI133: =IF(O133="nulová",K133,0) -> 0 | BJ133: 2 | BK133: =ROUND(P133*H133,2) -> 0 | BL133: 128 | BM133: 1676329021
C134: 4 | D134: K | E134: 210193003.S | F134: Rozpájacia a istiaca plastová skriňa pilierová - typ SR 3 | G134: ks | H134: 1 | K134: =ROUND(P134*H134,2) -> 0 | L134: CS CENEKON 2026 02 v1 | O134: znížená | P134: =I134+J134 -> 0 | Q134: =ROUND(I134*H134,2) -> 0 | R134: =ROUND(J134*H134,2) -> 0 | T134: =S134*H134 -> 0 | U134: 0 | V134: =U134*H134 -> 0 | W134: 0 | X134: =W134*H134 -> 0 | AR134: 4 | AT134: K | AU134: 2 | AY134: ROZPOCET | BE134: =IF(O134="základná",K134,0) -> 0 | BF134: =IF(O134="znížená",K134,0) -> 0 | BG134: =IF(O134="zákl. prenesená",K134,0) -> 0 | BH134: =IF(O134="zníž. prenesená",K134,0) -> 0 | BI134: =IF(O134="nulová",K134,0) -> 0 | BJ134: 2 | BK134: =ROUND(P134*H134,2) -> 0 | BL134: 4 | BM134: 896389643
C135: 5 | D135: M | E135: 357120006220.S | F135: Skriňa elektromerová RE 1.0-P10 pilierová s 3 modulmi, dvojtarif, hlavné ističe 16, 20, resp.25A, ističe pred HDO, nulový mostík 4x elmer | G135: ks | H135: 1 | K135: =ROUND(P135*H135,2) -> 0 | L135: CS CENEKON 2026 02 v1 | O135: znížená | P135: =I135+J135 -> 0 | Q135: =ROUND(I135*H135,2) -> 0 | R135: =ROUND(J135*H135,2) -> 0 | T135: =S135*H135 -> 0 | U135: 0.032 | V135: =U135*H135 -> 0.032 | W135: 0 | X135: =W135*H135 -> 0 | AR135: 128 | AT135: M | AU135: 2 | AY135: ROZPOCET | BE135: =IF(O135="základná",K135,0) -> 0 | BF135: =IF(O135="znížená",K135,0) -> 0 | BG135: =IF(O135="zákl. prenesená",K135,0) -> 0 | BH135: =IF(O135="zníž. prenesená",K135,0) -> 0 | BI135: =IF(O135="nulová",K135,0) -> 0 | BJ135: 2 | BK135: =ROUND(P135*H135,2) -> 0 | BL135: 128 | BM135: -1882289826
C136: 6 | D136: K | E136: 210220020.S | F136: Uzemňovacie vedenie v zemi FeZn do 120 mm2 vrátane izolácie spojov | G136: m | H136: 44 | K136: =ROUND(P136*H136,2) -> 0 | L136: CS CENEKON 2026 02 v1 | O136: znížená | P136: =I136+J136 -> 0 | Q136: =ROUND(I136*H136,2) -> 0 | R136: =ROUND(J136*H136,2) -> 0 | T136: =S136*H136 -> 0 | U136: 0 | V136: =U136*H136 -> 0 | W136: 0 | X136: =W136*H136 -> 0 | AR136: 64 | AT136: K | AU136: 2 | AY136: ROZPOCET | BE136: =IF(O136="základná",K136,0) -> 0 | BF136: =IF(O136="znížená",K136,0) -> 0 | BG136: =IF(O136="zákl. prenesená",K136,0) -> 0 | BH136: =IF(O136="zníž. prenesená",K136,0) -> 0 | BI136: =IF(O136="nulová",K136,0) -> 0 | BJ136: 2 | BK136: =ROUND(P136*H136,2) -> 0 | BL136: 64 | BM136: 1169133318
C137: 7 | D137: M | E137: 354410058800.S | F137: Pásovina uzemňovacia FeZn 30 x 4 mm | G137: kg | H137: 41.8 | K137: =ROUND(P137*H137,2) -> 0 | L137: CS CENEKON 2026 02 v1 | O137: znížená | P137: =I137+J137 -> 0 | Q137: =ROUND(I137*H137,2) -> 0 | R137: =ROUND(J137*H137,2) -> 0 | T137: =S137*H137 -> 0 | U137: 0.001 | V137: =U137*H137 -> 0.0418 | W137: 0 | X137: =W137*H137 -> 0 | AR137: 128 | AT137: M | AU137: 2 | AY137: ROZPOCET | BE137: =IF(O137="základná",K137,0) -> 0 | BF137: =IF(O137="znížená",K137,0) -> 0 | BG137: =IF(O137="zákl. prenesená",K137,0) -> 0 | BH137: =IF(O137="zníž. prenesená",K137,0) -> 0 | BI137: =IF(O137="nulová",K137,0) -> 0 | BJ137: 2 | BK137: =ROUND(P137*H137,2) -> 0 | BL137: 128 | BM137: -1235831921
C138: 8 | D138: K | E138: 210902115.S | F138: Kábel hliníkový silový uložený pevne 1-AYKY 0,6/1 kV 4x35 | G138: m | H138: 40 | K138: =ROUND(P138*H138,2) -> 0 | L138: CS CENEKON 2026 02 v1 | O138: znížená | P138: =I138+J138 -> 0 | Q138: =ROUND(I138*H138,2) -> 0 | R138: =ROUND(J138*H138,2) -> 0 | T138: =S138*H138 -> 0 | U138: 0 | V138: =U138*H138 -> 0 | W138: 0 | X138: =W138*H138 -> 0 | AR138: 64 | AT138: K | AU138: 2 | AY138: ROZPOCET | BE138: =IF(O138="základná",K138,0) -> 0 | BF138: =IF(O138="znížená",K138,0) -> 0 | BG138: =IF(O138="zákl. prenesená",K138,0) -> 0 | BH138: =IF(O138="zníž. prenesená",K138,0) -> 0 | BI138: =IF(O138="nulová",K138,0) -> 0 | BJ138: 2 | BK138: =ROUND(P138*H138,2) -> 0 | BL138: 64 | BM138: 1878779572
D139: VV | F139: 40 | H139: 40 | AT139: VV | AU139: 2 | AV139: 2 | AW139: True | AX139: 1 | AY139: ROZPOCET
C140: 9 | D140: M | E140: 341110030600.S | F140: Kábel hliníkový 1-AYKY 4x35 mm2 | G140: m | H140: 40 | K140: =ROUND(P140*H140,2) -> 0 | L140: CS CENEKON 2026 02 v1 | O140: znížená | P140: =I140+J140 -> 0 | Q140: =ROUND(I140*H140,2) -> 0 | R140: =ROUND(J140*H140,2) -> 0 | T140: =S140*H140 -> 0 | U140: 0.00114 | V140: =U140*H140 -> 0.0456 | W140: 0 | X140: =W140*H140 -> 0 | AR140: 128 | AT140: M | AU140: 2 | AY140: ROZPOCET | BE140: =IF(O140="základná",K140,0) -> 0 | BF140: =IF(O140="znížená",K140,0) -> 0 | BG140: =IF(O140="zákl. prenesená",K140,0) -> 0 | BH140: =IF(O140="zníž. prenesená",K140,0) -> 0 | BI140: =IF(O140="nulová",K140,0) -> 0 | BJ140: 2 | BK140: =ROUND(P140*H140,2) -> 0 | BL140: 128 | BM140: 1898794419
C141: 10 | D141: K | E141: MV | F141: Murárske výpomoci | G141: % | K141: =ROUND(P141*H141,2) -> 0 | O141: znížená | P141: =I141+J141 -> 0 | Q141: =ROUND(I141*H141,2) -> 0 | R141: =ROUND(J141*H141,2) -> 0 | T141: =S141*H141 -> 0 | U141: 0 | V141: =U141*H141 -> 0 | W141: 0 | X141: =W141*H141 -> 0 | AR141: 64 | AT141: K | AU141: 2 | AY141: ROZPOCET | BE141: =IF(O141="základná",K141,0) -> 0 | BF141: =IF(O141="znížená",K141,0) -> 0 | BG141: =IF(O141="zákl. prenesená",K141,0) -> 0 | BH141: =IF(O141="zníž. prenesená",K141,0) -> 0 | BI141: =IF(O141="nulová",K141,0) -> 0 | BJ141: 2 | BK141: =ROUND(P141*H141,2) -> 0 | BL141: 64 | BM141: 256598258
C142: 11 | D142: K | E142: PM | F142: Podružný materiál | G142: % | K142: =ROUND(P142*H142,2) -> 0 | O142: znížená | P142: =I142+J142 -> 0 | Q142: =ROUND(I142*H142,2) -> 0 | R142: =ROUND(J142*H142,2) -> 0 | T142: =S142*H142 -> 0 | U142: 0 | V142: =U142*H142 -> 0 | W142: 0 | X142: =W142*H142 -> 0 | AR142: 128 | AT142: K | AU142: 2 | AY142: ROZPOCET | BE142: =IF(O142="základná",K142,0) -> 0 | BF142: =IF(O142="znížená",K142,0) -> 0 | BG142: =IF(O142="zákl. prenesená",K142,0) -> 0 | BH142: =IF(O142="zníž. prenesená",K142,0) -> 0 | BI142: =IF(O142="nulová",K142,0) -> 0 | BJ142: 2 | BK142: =ROUND(P142*H142,2) -> 0 | BL142: 128 | BM142: -539380113
C143: 12 | D143: K | E143: PPV | F143: Podiel pridružených výkonov | G143: % | K143: =ROUND(P143*H143,2) -> 0 | O143: znížená | P143: =I143+J143 -> 0 | Q143: =ROUND(I143*H143,2) -> 0 | R143: =ROUND(J143*H143,2) -> 0 | T143: =S143*H143 -> 0 | U143: 0 | V143: =U143*H143 -> 0 | W143: 0 | X143: =W143*H143 -> 0 | AR143: 64 | AT143: K | AU143: 2 | AY143: ROZPOCET | BE143: =IF(O143="základná",K143,0) -> 0 | BF143: =IF(O143="znížená",K143,0) -> 0 | BG143: =IF(O143="zákl. prenesená",K143,0) -> 0 | BH143: =IF(O143="zníž. prenesená",K143,0) -> 0 | BI143: =IF(O143="nulová",K143,0) -> 0 | BJ143: 2 | BK143: =ROUND(P143*H143,2) -> 0 | BL143: 64 | BM143: -1678575534
D144: D | E144: 46-M | F144: Zemné práce vykonávané pri externých montážnych prácach | K144: =BK144 -> 0 | Q144: =SUM(Q145:Q158) -> 0 | R144: =SUM(R145:R158) -> 0 | T144: =SUM(T145:T158) -> 0 | V144: =SUM(V145:V158) -> 1.654032 | X144: =SUM(X145:X158) -> 0 | AR144: 3 | AT144: D | AU144: 1 | AY144: ROZPOCET | BK144: =SUM(BK145:BK158) -> 0
C145: 13 | D145: K | E145: 460202164.S | F145: Hĺbenie káblovej ryhy strojne 35 cm širokej a 80 cm hlbokej, v zemine triedy 4 | G145: m | H145: 40 | K145: =ROUND(P145*H145,2) -> 0 | L145: CS CENEKON 2026 02 v1 | O145: znížená | P145: =I145+J145 -> 0 | Q145: =ROUND(I145*H145,2) -> 0 | R145: =ROUND(J145*H145,2) -> 0 | T145: =S145*H145 -> 0 | U145: 0 | V145: =U145*H145 -> 0 | W145: 0 | X145: =W145*H145 -> 0 | AR145: 64 | AT145: K | AU145: 2 | AY145: ROZPOCET | BE145: =IF(O145="základná",K145,0) -> 0 | BF145: =IF(O145="znížená",K145,0) -> 0 | BG145: =IF(O145="zákl. prenesená",K145,0) -> 0 | BH145: =IF(O145="zníž. prenesená",K145,0) -> 0 | BI145: =IF(O145="nulová",K145,0) -> 0 | BJ145: 2 | BK145: =ROUND(P145*H145,2) -> 0 | BL145: 64 | BM145: -223909697
D146: VV | F146: 40 | H146: 40 | AT146: VV | AU146: 2 | AV146: 2 | AW146: True | AX146: 1 | AY146: ROZPOCET
C147: 14 | D147: K | E147: 460420022.S | F147: Zriadenie, rekonšt. káblového lôžka z piesku bez zakrytia, v ryhe šír. do 65 cm, hrúbky vrstvy 10 cm | G147: m | H147: 2.818 | K147: =ROUND(P147*H147,2) -> 0 | L147: CS CENEKON 2026 02 v1 | O147: znížená | P147: =I147+J147 -> 0 | Q147: =ROUND(I147*H147,2) -> 0 | R147: =ROUND(J147*H147,2) -> 0 | T147: =S147*H147 -> 0 | U147: 0 | V147: =U147*H147 -> 0 | W147: 0 | X147: =W147*H147 -> 0 | AR147: 64 | AT147: K | AU147: 2 | AY147: ROZPOCET | BE147: =IF(O147="základná",K147,0) -> 0 | BF147: =IF(O147="znížená",K147,0) -> 0 | BG147: =IF(O147="zákl. prenesená",K147,0) -> 0 | BH147: =IF(O147="zníž. prenesená",K147,0) -> 0 | BI147: =IF(O147="nulová",K147,0) -> 0 | BJ147: 2 | BK147: =ROUND(P147*H147,2) -> 0 | BL147: 64 | BM147: 967419276
C148: 15 | D148: M | E148: 583110000300.S | F148: Drvina vápencová frakcia 0-4 mm | G148: t | H148: 1.172 | K148: =ROUND(P148*H148,2) -> 0 | L148: CS CENEKON 2026 02 v1 | O148: znížená | P148: =I148+J148 -> 0 | Q148: =ROUND(I148*H148,2) -> 0 | R148: =ROUND(J148*H148,2) -> 0 | T148: =S148*H148 -> 0 | U148: 1 | V148: =U148*H148 -> 1.172 | W148: 0 | X148: =W148*H148 -> 0 | AR148: 128 | AT148: M | AU148: 2 | AY148: ROZPOCET | BE148: =IF(O148="základná",K148,0) -> 0 | BF148: =IF(O148="znížená",K148,0) -> 0 | BG148: =IF(O148="zákl. prenesená",K148,0) -> 0 | BH148: =IF(O148="zníž. prenesená",K148,0) -> 0 | BI148: =IF(O148="nulová",K148,0) -> 0 | BJ148: 2 | BK148: =ROUND(P148*H148,2) -> 0 | BL148: 128 | BM148: -2020767718
D149: VV | F149: (11+9,1+12,1)*0,35 | H149: 11.27 | AT149: VV | AU149: 2 | AV149: 2 | AW149: True | AX149: 1 | AY149: ROZPOCET
D150: VV | F150: 11,27*0,104 'Prepočítané koeficientom množstva | H150: 1.172 | AT150: VV | AU150: 2 | AV150: 2 | AW150: False | AX150: 1 | AY150: ROZPOCET
C151: 16 | D151: K | E151: 460490012.S | F151: Rozvinutie a uloženie výstražnej fólie z PE do ryhy, šírka do 33 cm | G151: m | H151: 40 | K151: =ROUND(P151*H151,2) -> 0 | L151: CS CENEKON 2026 02 v1 | O151: znížená | P151: =I151+J151 -> 0 | Q151: =ROUND(I151*H151,2) -> 0 | R151: =ROUND(J151*H151,2) -> 0 | T151: =S151*H151 -> 0 | U151: 0 | V151: =U151*H151 -> 0 | W151: 0 | X151: =W151*H151 -> 0 | AR151: 64 | AT151: K | AU151: 2 | AY151: ROZPOCET | BE151: =IF(O151="základná",K151,0) -> 0 | BF151: =IF(O151="znížená",K151,0) -> 0 | BG151: =IF(O151="zákl. prenesená",K151,0) -> 0 | BH151: =IF(O151="zníž. prenesená",K151,0) -> 0 | BI151: =IF(O151="nulová",K151,0) -> 0 | BJ151: 2 | BK151: =ROUND(P151*H151,2) -> 0 | BL151: 64 | BM151: 685871769
D152: VV | F152: 40 | H152: 40 | AT152: VV | AU152: 2 | AV152: 2 | AW152: True | AX152: 1 | AY152: ROZPOCET
C153: 17 | D153: M | E153: 283230008000.S | F153: Výstražná fólia PE, š. 300, farba červená | G153: m | H153: 40 | K153: =ROUND(P153*H153,2) -> 0 | L153: CS CENEKON 2026 02 v1 | O153: znížená | P153: =I153+J153 -> 0 | Q153: =ROUND(I153*H153,2) -> 0 | R153: =ROUND(J153*H153,2) -> 0 | T153: =S153*H153 -> 0 | U153: 0.00021 | V153: =U153*H153 -> 0.0084 | W153: 0 | X153: =W153*H153 -> 0 | AR153: 128 | AT153: M | AU153: 2 | AY153: ROZPOCET | BE153: =IF(O153="základná",K153,0) -> 0 | BF153: =IF(O153="znížená",K153,0) -> 0 | BG153: =IF(O153="zákl. prenesená",K153,0) -> 0 | BH153: =IF(O153="zníž. prenesená",K153,0) -> 0 | BI153: =IF(O153="nulová",K153,0) -> 0 | BJ153: 2 | BK153: =ROUND(P153*H153,2) -> 0 | BL153: 128 | BM153: -1692043298
C154: 18 | D154: K | E154: 460560164.S | F154: Ručný zásyp nezap. káblovej ryhy bez zhutn. zeminy, 35 cm širokej, 80 cm hlbokej v zemine tr. 4 | G154: m | H154: 40 | K154: =ROUND(P154*H154,2) -> 0 | L154: CS CENEKON 2026 02 v1 | O154: znížená | P154: =I154+J154 -> 0 | Q154: =ROUND(I154*H154,2) -> 0 | R154: =ROUND(J154*H154,2) -> 0 | T154: =S154*H154 -> 0 | U154: 0 | V154: =U154*H154 -> 0 | W154: 0 | X154: =W154*H154 -> 0 | AR154: 64 | AT154: K | AU154: 2 | AY154: ROZPOCET | BE154: =IF(O154="základná",K154,0) -> 0 | BF154: =IF(O154="znížená",K154,0) -> 0 | BG154: =IF(O154="zákl. prenesená",K154,0) -> 0 | BH154: =IF(O154="zníž. prenesená",K154,0) -> 0 | BI154: =IF(O154="nulová",K154,0) -> 0 | BJ154: 2 | BK154: =ROUND(P154*H154,2) -> 0 | BL154: 64 | BM154: 1995752427
D155: VV | F155: 40 | H155: 40 | AT155: VV | AU155: 2 | AV155: 2 | AW155: True | AX155: 1 | AY155: ROZPOCET
C156: 19 | D156: K | E156: 4607001015.S1 | F156: Základ pod elektromerovú skriňu | G156: ks | H156: 1 | K156: =ROUND(P156*H156,2) -> 0 | O156: znížená | P156: =I156+J156 -> 0 | Q156: =ROUND(I156*H156,2) -> 0 | R156: =ROUND(J156*H156,2) -> 0 | T156: =S156*H156 -> 0 | U156: 0.473632 | V156: =U156*H156 -> 0.473632 | W156: 0 | X156: =W156*H156 -> 0 | AR156: 64 | AT156: K | AU156: 2 | AY156: ROZPOCET | BE156: =IF(O156="základná",K156,0) -> 0 | BF156: =IF(O156="znížená",K156,0) -> 0 | BG156: =IF(O156="zákl. prenesená",K156,0) -> 0 | BH156: =IF(O156="zníž. prenesená",K156,0) -> 0 | BI156: =IF(O156="nulová",K156,0) -> 0 | BJ156: 2 | BK156: =ROUND(P156*H156,2) -> 0 | BL156: 64 | BM156: 521071472
C157: 20 | D157: K | E157: 998946291.S | F157: Príplatok za zväčšený presun pre pomocné stavebné práce pri elektromontážach nad vymedzenú najväčšiu dopravnú vzdialenosť po stavenisku do 1 km | G157: % | K157: =ROUND(P157*H157,2) -> 0 | L157: CS CENEKON 2026 02 v1 | O157: znížená | P157: =I157+J157 -> 0 | Q157: =ROUND(I157*H157,2) -> 0 | R157: =ROUND(J157*H157,2) -> 0 | T157: =S157*H157 -> 0 | U157: 0 | V157: =U157*H157 -> 0 | W157: 0 | X157: =W157*H157 -> 0 | AR157: 64 | AT157: K | AU157: 2 | AY157: ROZPOCET | BE157: =IF(O157="základná",K157,0) -> 0 | BF157: =IF(O157="znížená",K157,0) -> 0 | BG157: =IF(O157="zákl. prenesená",K157,0) -> 0 | BH157: =IF(O157="zníž. prenesená",K157,0) -> 0 | BI157: =IF(O157="nulová",K157,0) -> 0 | BJ157: 2 | BK157: =ROUND(P157*H157,2) -> 0 | BL157: 64 | BM157: 320301138
C158: 21 | D158: K | E158: PPV | F158: Podiel pridružených výkonov | G158: % | K158: =ROUND(P158*H158,2) -> 0 | O158: znížená | P158: =I158+J158 -> 0 | Q158: =ROUND(I158*H158,2) -> 0 | R158: =ROUND(J158*H158,2) -> 0 | T158: =S158*H158 -> 0 | U158: 0 | V158: =U158*H158 -> 0 | W158: 0 | X158: =W158*H158 -> 0 | AR158: 64 | AT158: K | AU158: 2 | AY158: ROZPOCET | BE158: =IF(O158="základná",K158,0) -> 0 | BF158: =IF(O158="znížená",K158,0) -> 0 | BG158: =IF(O158="zákl. prenesená",K158,0) -> 0 | BH158: =IF(O158="zníž. prenesená",K158,0) -> 0 | BI158: =IF(O158="nulová",K158,0) -> 0 | BJ158: 2 | BK158: =ROUND(P158*H158,2) -> 0 | BL158: 64 | BM158: 689268158
D159: D | E159: HZS | F159: Hodinové zúčtovacie sadzby | K159: =BK159 -> 0 | Q159: =Q160 -> 0 | R159: =R160 -> 0 | T159: =T160 -> 0 | V159: =V160 -> 0 | X159: =X160 -> 0 | AR159: 4 | AT159: D | AU159: 0 | AY159: ROZPOCET | BK159: =BK160 -> 0
C160: 22 | D160: K | E160: HZS000114.S | F160: Stavebno montážne práce najnáročnejšie na odbornosť - prehliadky pracoviska a revízie (Tr. 4) v rozsahu 8 a viac hodín | G160: hod | H160: 10 | K160: =ROUND(P160*H160,2) -> 0 | L160: CS CENEKON 2026 02 v1 | O160: znížená | P160: =I160+J160 -> 0 | Q160: =ROUND(I160*H160,2) -> 0 | R160: =ROUND(J160*H160,2) -> 0 | T160: =S160*H160 -> 0 | U160: 0 | V160: =U160*H160 -> 0 | W160: 0 | X160: =W160*H160 -> 0 | AR160: 512 | AT160: K | AU160: 1 | AY160: ROZPOCET | BE160: =IF(O160="základná",K160,0) -> 0 | BF160: =IF(O160="znížená",K160,0) -> 0 | BG160: =IF(O160="zákl. prenesená",K160,0) -> 0 | BH160: =IF(O160="zníž. prenesená",K160,0) -> 0 | BI160: =IF(O160="nulová",K160,0) -> 0 | BJ160: 2 | BK160: =ROUND(P160*H160,2) -> 0 | BL160: 512 | BM160: 1578125832

Sheet 26-B-01-03-04 - Klimatizá...
M2: >> skryté stĺpce << | AT2: {a3782149-5b7c-4426-8b1f-1a723868a7ad}
AT3: 0
D4: KRYCÍ LIST ROZPOČTU | N4: v --- nižšie sa nachádzajú doplnkové a pomocné údaje k zostavám --- v | AT4: False
D6: Stavba:
E7: ='Rekapitulácia stavby'!K6 -> Integrovaný výrobný systém pre výrobu a distribúciu nealkoholických sladových produktov
D8: Objekt:
E9: 26-B-01-03 - Stavebné úpravy
D10: Časť:
E11: 26-B-01-03-04 - Klimatizácia a vykurovanie formou klimatizačných jednotiek (TČ)
D13: JKSO: | I13: ČS:
D14: Miesto: | F14: Zvolen | I14: Dátum:
D16: Objednávateľ: | I16: IČO: | J16: =IF('Rekapitulácia stavby'!AN10="","",'Rekapitulácia stavby'!AN10)
E17: =IF('Rekapitulácia stavby'!E11="","",'Rekapitulácia stavby'!E11) | I17: IČ DPH: | J17: =IF('Rekapitulácia stavby'!AN11="","",'Rekapitulácia stavby'!AN11)
D19: Zhotoviteľ: | I19: IČO: | J19: ='Rekapitulácia stavby'!AN13 -> Vyplň údaj
E20: ='Rekapitulácia stavby'!E14 -> Vyplň údaj | I20: IČ DPH: | J20: ='Rekapitulácia stavby'!AN14 -> Vyplň údaj
D22: Projektant: | I22: IČO: | J22: =IF('Rekapitulácia stavby'!AN16="","",'Rekapitulácia stavby'!AN16)
E23: =IF('Rekapitulácia stavby'!E17="","",'Rekapitulácia stavby'!E17) | I23: IČ DPH: | J23: =IF('Rekapitulácia stavby'!AN17="","",'Rekapitulácia stavby'!AN17)
D25: Spracovateľ: | I25: IČO:
E26: Ing.Miroslav Plevka | I26: IČ DPH:
D28: Poznámka:
E32: Materiál | K32: =I98 -> 0
E33: Montáž | K33: =J98 -> 0
D34: Cena bez DPH | K34: =ROUND(K122, 2) -> 0
F36: Základ dane | I36: Sadzba dane | K36: Výška dane
D37: DPH | E37: základná | F37: =ROUND((SUM(BE122:BE127)), 2) -> 0 | I37: 0.23 | K37: =ROUND(((SUM(BE122:BE127))*I37), 2) -> 0
E38: znížená | F38: =ROUND((SUM(BF122:BF127)), 2) -> 0 | I38: 0.23 | K38: =ROUND(((SUM(BF122:BF127))*I38), 2) -> 0
E39: zákl. prenesená | F39: =ROUND((SUM(BG122:BG127)), 2) -> 0 | I39: 0.23 | K39: =0 -> 0
E40: zníž. prenesená | F40: =ROUND((SUM(BH122:BH127)), 2) -> 0 | I40: 0.23 | K40: =0 -> 0
E41: nulová | F41: =ROUND((SUM(BI122:BI127)), 2) -> 0 | I41: 0 | K41: =0 -> 0
D43: Cena s DPH | G43: v | H43: EUR | K43: =SUM(K34:K41) -> 0
D50: Projektant | G50: Spracovateľ
D61: Dátum a podpis: | F61: Pečiatka | G61: Dátum a podpis: | J61: Pečiatka
D65: Objednávateľ | G65: Zhotoviteľ
D76: Dátum a podpis: | F76: Pečiatka | G76: Dátum a podpis: | J76: Pečiatka
C82: REKAPITULÁCIA ROZPOČTU
C84: Stavba:
E85: =E7 -> Integrovaný výrobný systém pre výrobu a distribúciu nealkoholických sladových produktov
C86: Objekt:
E87: 26-B-01-03 - Stavebné úpravy
C88: Časť:
E89: =E11 -> 26-B-01-03-04 - Klimatizácia a vykurovanie formou klimatizačných jednotiek (TČ)
C91: Miesto: | F91: =F14 -> Zvolen | I91: Dátum: | J91: =IF(J14="","",J14)
C93: Objednávateľ: | F93: =E17 | I93: Projektant: | J93: =E23
C94: Zhotoviteľ: | F94: =IF(E20="","",E20) -> Vyplň údaj | I94: Spracovateľ: | J94: =E26 -> Ing.Miroslav Plevka
C96: Kód dielu - Popis | I96: Materiál [EUR] | J96: Montáž [EUR] | K96: Cena celkom [EUR]
C98: Náklady z rozpočtu | I98: =Q122 -> 0 | J98: =R122 -> 0 | K98: =K122 -> 0 | AU98: -1
D99: PSV - Práce a dodávky PSV | I99: =Q123 -> 0 | J99: =R123 -> 0 | K99: =K123 -> 0
D100: D4 - Ústredné kúrenie - strojovne | I100: =Q124 -> 0 | J100: =R124 -> 0 | K100: =K124 -> 0
C107: ROZPOČET
C109: Stavba:
E110: =E7 -> Integrovaný výrobný systém pre výrobu a distribúciu nealkoholických sladových produktov
C111: Objekt:
E112: 26-B-01-03 - Stavebné úpravy
C113: Časť:
E114: =E11 -> 26-B-01-03-04 - Klimatizácia a vykurovanie formou klimatizačných jednotiek (TČ)
C116: Miesto: | F116: =F14 -> Zvolen | I116: Dátum: | J116: =IF(J14="","",J14)
C118: Objednávateľ: | F118: =E17 | I118: Projektant: | J118: =E23
C119: Zhotoviteľ: | F119: =IF(E20="","",E20) -> Vyplň údaj | I119: Spracovateľ: | J119: =E26 -> Ing.Miroslav Plevka
C121: PČ | D121: Typ | E121: Kód | F121: Popis | G121: MJ | H121: Množstvo | I121: J. materiál [EUR] | J121: J. montáž [EUR] | K121: Cena celkom [EUR] | L121: Cenová sústava | O121: DPH | P121: J.cena [EUR] | Q121: Materiál celkom [EUR] | R121: Montáž celkom [EUR] | S121: J. Nh [h] | T121: Nh celkom [h] | U121: J. hmotnosť [t] | V121: Hmotnosť celkom [t] | W121: J. suť [t] | X121: Suť Celkom [t]
C122: Náklady z rozpočtu | K122: =BK122 -> 0 | Q122: =Q123 -> 0 | R122: =R123 -> 0 | T122: =T123 -> 0 | V122: =V123 -> 0 | X122: =X123 -> 0 | AT122: D | AU122: -1 | BK122: =BK123 -> 0
D123: D | E123: PSV | F123: Práce a dodávky PSV | K123: =BK123 -> 0 | Q123: =Q124 -> 0 | R123: =R124 -> 0 | T123: =T124 -> 0 | V123: =V124 -> 0 | X123: =X124 -> 0 | AR123: 1 | AT123: D | AU123: 0 | AY123: ROZPOCET | BK123: =BK124 -> 0
D124: D | E124: D4 | F124: Ústredné kúrenie - strojovne | K124: =BK124 -> 0 | Q124: =SUM(Q125:Q127) -> 0 | R124: =SUM(R125:R127) -> 0 | T124: =SUM(T125:T127) -> 0 | V124: =SUM(V125:V127) -> 0 | X124: =SUM(X125:X127) -> 0 | AR124: 1 | AT124: D | AU124: 1 | AY124: ROZPOCET | BK124: =SUM(BK125:BK127) -> 0
C125: 1 | D125: K | E125: P.C.001 | F125: Montáž tepelného čerpadla 4-16 kW (vzduch-voda)+ strojovňa | G125: kpl | H125: 1 | K125: =ROUND(P125*H125,2) -> 0 | O125: znížená | P125: =I125+J125 -> 0 | Q125: =ROUND(I125*H125,2) -> 0 | R125: =ROUND(J125*H125,2) -> 0 | T125: =S125*H125 -> 0 | U125: 0 | V125: =U125*H125 -> 0 | W125: 0 | X125: =W125*H125 -> 0 | AR125: 16 | AT125: K | AU125: 2 | AY125: ROZPOCET | BE125: =IF(O125="základná",K125,0) -> 0 | BF125: =IF(O125="znížená",K125,0) -> 0 | BG125: =IF(O125="zákl. prenesená",K125,0) -> 0 | BH125: =IF(O125="zníž. prenesená",K125,0) -> 0 | BI125: =IF(O125="nulová",K125,0) -> 0 | BJ125: 2 | BK125: =ROUND(P125*H125,2) -> 0 | BL125: 16 | BM125: 691166932
C126: 2 | D126: M | E126: P.C.002 | F126: Dodávka klimatizačných jednotiek (TČ) | G126: súb | H126: 1 | K126: =ROUND(P126*H126,2) -> 0 | O126: znížená | P126: =I126+J126 -> 0 | Q126: =ROUND(I126*H126,2) -> 0 | R126: =ROUND(J126*H126,2) -> 0 | T126: =S126*H126 -> 0 | U126: 0 | V126: =U126*H126 -> 0 | W126: 0 | X126: =W126*H126 -> 0 | AR126: 32 | AT126: M | AU126: 2 | AY126: ROZPOCET | BE126: =IF(O126="základná",K126,0) -> 0 | BF126: =IF(O126="znížená",K126,0) -> 0 | BG126: =IF(O126="zákl. prenesená",K126,0) -> 0 | BH126: =IF(O126="zníž. prenesená",K126,0) -> 0 | BI126: =IF(O126="nulová",K126,0) -> 0 | BJ126: 2 | BK126: =ROUND(P126*H126,2) -> 0 | BL126: 16 | BM126: -1383767166
C127: 3 | D127: M | E127: P.C.003 | F127: Dodávka príslušenstva | G127: súb | H127: 1 | K127: =ROUND(P127*H127,2) -> 0 | O127: znížená | P127: =I127+J127 -> 0 | Q127: =ROUND(I127*H127,2) -> 0 | R127: =ROUND(J127*H127,2) -> 0 | T127: =S127*H127 -> 0 | U127: 0 | V127: =U127*H127 -> 0 | W127: 0 | X127: =W127*H127 -> 0 | AR127: 32 | AT127: M | AU127: 2 | AY127: ROZPOCET | BE127: =IF(O127="základná",K127,0) -> 0 | BF127: =IF(O127="znížená",K127,0) -> 0 | BG127: =IF(O127="zákl. prenesená",K127,0) -> 0 | BH127: =IF(O127="zníž. prenesená",K127,0) -> 0 | BI127: =IF(O127="nulová",K127,0) -> 0 | BJ127: 2 | BK127: =ROUND(P127*H127,2) -> 0 | BL127: 16 | BM127: 1517778964

Sheet 26-B-01-03-05 - Elektroin...
M2: >> skryté stĺpce << | AT2: {ff833675-7db3-4bf2-9fcd-a65672669e90}
AT3: 0
D4: KRYCÍ LIST ROZPOČTU | N4: v --- nižšie sa nachádzajú doplnkové a pomocné údaje k zostavám --- v | AT4: False
D6: Stavba:
E7: ='Rekapitulácia stavby'!K6 -> Integrovaný výrobný systém pre výrobu a distribúciu nealkoholických sladových produktov
D8: Objekt:
E9: 26-B-01-03 - Stavebné úpravy
D10: Časť:
E11: 26-B-01-03-05 - Elektroinštalácie a bleskozvod
D13: JKSO: | I13: ČS:
D14: Miesto: | F14: Zvolen | I14: Dátum:
D16: Objednávateľ: | I16: IČO: | J16: =IF('Rekapitulácia stavby'!AN10="","",'Rekapitulácia stavby'!AN10)
E17: =IF('Rekapitulácia stavby'!E11="","",'Rekapitulácia stavby'!E11) | I17: IČ DPH: | J17: =IF('Rekapitulácia stavby'!AN11="","",'Rekapitulácia stavby'!AN11)
D19: Zhotoviteľ: | I19: IČO: | J19: ='Rekapitulácia stavby'!AN13 -> Vyplň údaj
E20: ='Rekapitulácia stavby'!E14 -> Vyplň údaj | I20: IČ DPH: | J20: ='Rekapitulácia stavby'!AN14 -> Vyplň údaj
D22: Projektant: | I22: IČO: | J22: =IF('Rekapitulácia stavby'!AN16="","",'Rekapitulácia stavby'!AN16)
E23: =IF('Rekapitulácia stavby'!E17="","",'Rekapitulácia stavby'!E17) | I23: IČ DPH: | J23: =IF('Rekapitulácia stavby'!AN17="","",'Rekapitulácia stavby'!AN17)
D25: Spracovateľ: | I25: IČO:
E26: Ing.Miroslav Plevka | I26: IČ DPH:
D28: Poznámka:
E32: Materiál | K32: =I98 -> 0
E33: Montáž | K33: =J98 -> 0
D34: Cena bez DPH | K34: =ROUND(K125, 2) -> 0
F36: Základ dane | I36: Sadzba dane | K36: Výška dane
D37: DPH | E37: základná | F37: =ROUND((SUM(BE125:BE219)), 2) -> 0 | I37: 0.23 | K37: =ROUND(((SUM(BE125:BE219))*I37), 2) -> 0
E38: znížená | F38: =ROUND((SUM(BF125:BF219)), 2) -> 0 | I38: 0.23 | K38: =ROUND(((SUM(BF125:BF219))*I38), 2) -> 0
E39: zákl. prenesená | F39: =ROUND((SUM(BG125:BG219)), 2) -> 0 | I39: 0.23 | K39: =0 -> 0
E40: zníž. prenesená | F40: =ROUND((SUM(BH125:BH219)), 2) -> 0 | I40: 0.23 | K40: =0 -> 0
E41: nulová | F41: =ROUND((SUM(BI125:BI219)), 2) -> 0 | I41: 0 | K41: =0 -> 0
D43: Cena s DPH | G43: v | H43: EUR | K43: =SUM(K34:K41) -> 0
D50: Projektant | G50: Spracovateľ
D61: Dátum a podpis: | F61: Pečiatka | G61: Dátum a podpis: | J61: Pečiatka
D65: Objednávateľ | G65: Zhotoviteľ
D76: Dátum a podpis: | F76: Pečiatka | G76: Dátum a podpis: | J76: Pečiatka
C82: REKAPITULÁCIA ROZPOČTU
C84: Stavba:
E85: =E7 -> Integrovaný výrobný systém pre výrobu a distribúciu nealkoholických sladových produktov
C86: Objekt:
E87: 26-B-01-03 - Stavebné úpravy
C88: Časť:
E89: =E11 -> 26-B-01-03-05 - Elektroinštalácie a bleskozvod
C91: Miesto: | F91: =F14 -> Zvolen | I91: Dátum: | J91: =IF(J14="","",J14)
C93: Objednávateľ: | F93: =E17 | I93: Projektant: | J93: =E23
C94: Zhotoviteľ: | F94: =IF(E20="","",E20) -> Vyplň údaj | I94: Spracovateľ: | J94: =E26 -> Ing.Miroslav Plevka
C96: Kód dielu - Popis | I96: Materiál [EUR] | J96: Montáž [EUR] | K96: Cena celkom [EUR]
C98: Náklady z rozpočtu | I98: =Q125 -> 0 | J98: =R125 -> 0 | K98: =K125 -> 0 | AU98: -1
D99: M - Práce a dodávky M | I99: =Q126 -> 0 | J99: =R126 -> 0 | K99: =K126 -> 0
D100: 21-M - Elektromontáže | I100: =Q127 -> 0 | J100: =R127 -> 0 | K100: =K127 -> 0
D101: 22-M - Montáže oznamovacích a zabezpečovacích zariadení | I101: =Q202 -> 0 | J101: =R202 -> 0 | K101: =K202 -> 0
D102: 95-M - Revízie | I102: =Q215 -> 0 | J102: =R215 -> 0 | K102: =K215 -> 0
D103: HZS - Hodinové zúčtovacie sadzby | I103: =Q218 -> 0 | J103: =R218 -> 0 | K103: =K218 -> 0
C110: ROZPOČET
C112: Stavba:
E113: =E7 -> Integrovaný výrobný systém pre výrobu a distribúciu nealkoholických sladových produktov
C114: Objekt:
E115: 26-B-01-03 - Stavebné úpravy
C116: Časť:
E117: =E11 -> 26-B-01-03-05 - Elektroinštalácie a bleskozvod
C119: Miesto: | F119: =F14 -> Zvolen | I119: Dátum: | J119: =IF(J14="","",J14)
C121: Objednávateľ: | F121: =E17 | I121: Projektant: | J121: =E23
C122: Zhotoviteľ: | F122: =IF(E20="","",E20) -> Vyplň údaj | I122: Spracovateľ: | J122: =E26 -> Ing.Miroslav Plevka
C124: PČ | D124: Typ | E124: Kód | F124: Popis | G124: MJ | H124: Množstvo | I124: J. materiál [EUR] | J124: J. montáž [EUR] | K124: Cena celkom [EUR] | L124: Cenová sústava | O124: DPH | P124: J.cena [EUR] | Q124: Materiál celkom [EUR] | R124: Montáž celkom [EUR] | S124: J. Nh [h] | T124: Nh celkom [h] | U124: J. hmotnosť [t] | V124: Hmotnosť celkom [t] | W124: J. suť [t] | X124: Suť Celkom [t]
C125: Náklady z rozpočtu | K125: =BK125 -> 0 | Q125: =Q126+Q218 -> 0 | R125: =R126+R218 -> 0 | T125: =T126+T218 -> 0 | V125: =V126+V218 -> 0.94982 | X125: =X126+X218 -> 0 | AT125: D | AU125: -1 | BK125: =BK126+BK218 -> 0
D126: D | E126: M | F126: Práce a dodávky M | K126: =BK126 -> 0 | Q126: =Q127+Q202+Q215 -> 0 | R126: =R127+R202+R215 -> 0 | T126: =T127+T202+T215 -> 0 | V126: =V127+V202+V215 -> 0.94982 | X126: =X127+X202+X215 -> 0 | AR126: 3 | AT126: D | AU126: 0 | AY126: ROZPOCET | BK126: =BK127+BK202+BK215 -> 0
D127: D | E127: 21-M | F127: Elektromontáže | K127: =BK127 -> 0 | Q127: =SUM(Q128:Q201) -> 0 | R127: =SUM(R128:R201) -> 0 | T127: =SUM(T128:T201) -> 0 | V127: =SUM(V128:V201) -> 0.94566 | X127: =SUM(X128:X201) -> 0 | AR127: 3 | AT127: D | AU127: 1 | AY127: ROZPOCET | BK127: =SUM(BK128:BK201) -> 0
C128: 1 | D128: K | E128: 210010026.S | F128: Rúrka ohybná elektroinštalačná z PVC typ FXP 25, uložená pevne | G128: m | H128: 300 | K128: =ROUND(P128*H128,2) -> 0 | L128: CS CENEKON 2025 02 v1 | O128: znížená | P128: =I128+J128 -> 0 | Q128: =ROUND(I128*H128,2) -> 0 | R128: =ROUND(J128*H128,2) -> 0 | T128: =S128*H128 -> 0 | U128: 0 | V128: =U128*H128 -> 0 | W128: 0 | X128: =W128*H128 -> 0 | AR128: 64 | AT128: K | AU128: 2 | AY128: ROZPOCET | BE128: =IF(O128="základná",K128,0) -> 0 | BF128: =IF(O128="znížená",K128,0) -> 0 | BG128: =IF(O128="zákl. prenesená",K128,0) -> 0 | BH128: =IF(O128="zníž. prenesená",K128,0) -> 0 | BI128: =IF(O128="nulová",K128,0) -> 0 | BJ128: 2 | BK128: =ROUND(P128*H128,2) -> 0 | BL128: 64 | BM128: 1471306174
D129: VV | F129: 300 | H129: 300 | AT129: VV | AU129: 2 | AV129: 2 | AW129: True | AX129: 1 | AY129: ROZPOCET
C130: 2 | D130: M | E130: 345710009200.S | F130: Rúrka ohybná vlnitá pancierová so strednou mechanickou odolnosťou z PVC-U, D 25 | G130: m | H130: 300 | K130: =ROUND(P130*H130,2) -> 0 | L130: CS CENEKON 2025 02 v1 | O130: znížená | P130: =I130+J130 -> 0 | Q130: =ROUND(I130*H130,2) -> 0 | R130: =ROUND(J130*H130,2) -> 0 | T130: =S130*H130 -> 0 | U130: 0.00017 | V130: =U130*H130 -> 0.051 | W130: 0 | X130: =W130*H130 -> 0 | AR130: 128 | AT130: M | AU130: 2 | AY130: ROZPOCET | BE130: =IF(O130="základná",K130,0) -> 0 | BF130: =IF(O130="znížená",K130,0) -> 0 | BG130: =IF(O130="zákl. prenesená",K130,0) -> 0 | BH130: =IF(O130="zníž. prenesená",K130,0) -> 0 | BI130: =IF(O130="nulová",K130,0) -> 0 | BJ130: 2 | BK130: =ROUND(P130*H130,2) -> 0 | BL130: 128 | BM130: 1958580279
C131: 3 | D131: K | E131: 210010301.S | F131: Krabica prístrojová bez zapojenia (1901, KP 68, KZ 3) | G131: ks | H131: 43 | K131: =ROUND(P131*H131,2) -> 0 | L131: CS CENEKON 2025 02 v1 | O131: znížená | P131: =I131+J131 -> 0 | Q131: =ROUND(I131*H131,2) -> 0 | R131: =ROUND(J131*H131,2) -> 0 | T131: =S131*H131 -> 0 | U131: 0 | V131: =U131*H131 -> 0 | W131: 0 | X131: =W131*H131 -> 0 | AR131: 64 | AT131: K | AU131: 2 | AY131: ROZPOCET | BE131: =IF(O131="základná",K131,0) -> 0 | BF131: =IF(O131="znížená",K131,0) -> 0 | BG131: =IF(O131="zákl. prenesená",K131,0) -> 0 | BH131: =IF(O131="zníž. prenesená",K131,0) -> 0 | BI131: =IF(O131="nulová",K131,0) -> 0 | BJ131: 2 | BK131: =ROUND(P131*H131,2) -> 0 | BL131: 64 | BM131: -254019020
D132: VV | F132: 43 | H132: 43 | AT132: VV | AU132: 2 | AV132: 2 | AW132: True | AX132: 1 | AY132: ROZPOCET
C133: 4 | D133: M | E133: 345410002400.S | F133: Krabica inštalačná KU 68-1901 KA pod omietku | G133: ks | H133: 43 | K133: =ROUND(P133*H133,2) -> 0 | L133: CS CENEKON 2025 02 v1 | O133: znížená | P133: =I133+J133 -> 0 | Q133: =ROUND(I133*H133,2) -> 0 | R133: =ROUND(J133*H133,2) -> 0 | T133: =S133*H133 -> 0 | U133: 3e-05 | V133: =U133*H133 -> 0.00129 | W133: 0 | X133: =W133*H133 -> 0 | AR133: 128 | AT133: M | AU133: 2 | AY133: ROZPOCET | BE133: =IF(O133="základná",K133,0) -> 0 | BF133: =IF(O133="znížená",K133,0) -> 0 | BG133: =IF(O133="zákl. prenesená",K133,0) -> 0 | BH133: =IF(O133="zníž. prenesená",K133,0) -> 0 | BI133: =IF(O133="nulová",K133,0) -> 0 | BJ133: 2 | BK133: =ROUND(P133*H133,2) -> 0 | BL133: 128 | BM133: -195390076
C134: 5 | D134: K | E134: 210110001.S | F134: Jednopólový spínač - radenie 1, nástenný IP 44, vrátane zapojenia | G134: ks | H134: 10 | K134: =ROUND(P134*H134,2) -> 0 | L134: CS CENEKON 2025 02 v1 | O134: znížená | P134: =I134+J134 -> 0 | Q134: =ROUND(I134*H134,2) -> 0 | R134: =ROUND(J134*H134,2) -> 0 | T134: =S134*H134 -> 0 | U134: 0 | V134: =U134*H134 -> 0 | W134: 0 | X134: =W134*H134 -> 0 | AR134: 64 | AT134: K | AU134: 2 | AY134: ROZPOCET | BE134: =IF(O134="základná",K134,0) -> 0 | BF134: =IF(O134="znížená",K134,0) -> 0 | BG134: =IF(O134="zákl. prenesená",K134,0) -> 0 | BH134: =IF(O134="zníž. prenesená",K134,0) -> 0 | BI134: =IF(O134="nulová",K134,0) -> 0 | BJ134: 2 | BK134: =ROUND(P134*H134,2) -> 0 | BL134: 64 | BM134: -268252398
D135: VV | F135: 10 | H135: 10 | AT135: VV | AU135: 2 | AV135: 2 | AW135: True | AX135: 1 | AY135: ROZPOCET
C136: 6 | D136: M | E136: 345340007945 | F136: Spínač Valena Life jednopólový polozapustený a zapustený, radenie č.1, biely, LEGRAND | G136: ks | H136: 10 | K136: =ROUND(P136*H136,2) -> 0 | L136: CS CENEKON 2025 02 v1 | O136: znížená | P136: =I136+J136 -> 0 | Q136: =ROUND(I136*H136,2) -> 0 | R136: =ROUND(J136*H136,2) -> 0 | T136: =S136*H136 -> 0 | U136: 7e-05 | V136: =U136*H136 -> 0.0007 | W136: 0 | X136: =W136*H136 -> 0 | AR136: 128 | AT136: M | AU136: 2 | AY136: ROZPOCET | BE136: =IF(O136="základná",K136,0) -> 0 | BF136: =IF(O136="znížená",K136,0) -> 0 | BG136: =IF(O136="zákl. prenesená",K136,0) -> 0 | BH136: =IF(O136="zníž. prenesená",K136,0) -> 0 | BI136: =IF(O136="nulová",K136,0) -> 0 | BJ136: 2 | BK136: =ROUND(P136*H136,2) -> 0 | BL136: 128 | BM136: -263680348
C137: 7 | D137: K | E137: 210110003.S | F137: Sériový spínač - radenie 5, nástenný IP 44 vrátane zapojenia | G137: ks | H137: 8 | K137: =ROUND(P137*H137,2) -> 0 | L137: CS CENEKON 2026 01 v1 | O137: znížená | P137: =I137+J137 -> 0 | Q137: =ROUND(I137*H137,2) -> 0 | R137: =ROUND(J137*H137,2) -> 0 | T137: =S137*H137 -> 0 | U137: 0 | V137: =U137*H137 -> 0 | W137: 0 | X137: =W137*H137 -> 0 | AR137: 64 | AT137: K | AU137: 2 | AY137: ROZPOCET | BE137: =IF(O137="základná",K137,0) -> 0 | BF137: =IF(O137="znížená",K137,0) -> 0 | BG137: =IF(O137="zákl. prenesená",K137,0) -> 0 | BH137: =IF(O137="zníž. prenesená",K137,0) -> 0 | BI137: =IF(O137="nulová",K137,0) -> 0 | BJ137: 2 | BK137: =ROUND(P137*H137,2) -> 0 | BL137: 64 | BM137: 354517846
D138: VV | F138: 8 | H138: 8 | AT138: VV | AU138: 2 | AV138: 2 | AW138: True | AX138: 1 | AY138: ROZPOCET
C139: 8 | D139: M | E139: 345330002915.S | F139: Prepínač nástenný, radenie 5, IP44 | G139: ks | H139: 8 | K139: =ROUND(P139*H139,2) -> 0 | L139: CS CENEKON 2026 01 v1 | O139: znížená | P139: =I139+J139 -> 0 | Q139: =ROUND(I139*H139,2) -> 0 | R139: =ROUND(J139*H139,2) -> 0 | T139: =S139*H139 -> 0 | U139: 0.00011 | V139: =U139*H139 -> 0.00088 | W139: 0 | X139: =W139*H139 -> 0 | AR139: 128 | AT139: M | AU139: 2 | AY139: ROZPOCET | BE139: =IF(O139="základná",K139,0) -> 0 | BF139: =IF(O139="znížená",K139,0) -> 0 | BG139: =IF(O139="zákl. prenesená",K139,0) -> 0 | BH139: =IF(O139="zníž. prenesená",K139,0) -> 0 | BI139: =IF(O139="nulová",K139,0) -> 0 | BJ139: 2 | BK139: =ROUND(P139*H139,2) -> 0 | BL139: 128 | BM139: -948823931
C140: 9 | D140: K | E140: 210111021.S | F140: Domová zásuvka pre zapustenú montáž IP 44, vrátane zapojenia 250 V / 16A, 2P + PE | G140: ks | H140: 25 | K140: =ROUND(P140*H140,2) -> 0 | L140: CS CENEKON 2025 02 v1 | O140: znížená | P140: =I140+J140 -> 0 | Q140: =ROUND(I140*H140,2) -> 0 | R140: =ROUND(J140*H140,2) -> 0 | T140: =S140*H140 -> 0 | U140: 0 | V140: =U140*H140 -> 0 | W140: 0 | X140: =W140*H140 -> 0 | AR140: 64 | AT140: K | AU140: 2 | AY140: ROZPOCET | BE140: =IF(O140="základná",K140,0) -> 0 | BF140: =IF(O140="znížená",K140,0) -> 0 | BG140: =IF(O140="zákl. prenesená",K140,0) -> 0 | BH140: =IF(O140="zníž. prenesená",K140,0) -> 0 | BI140: =IF(O140="nulová",K140,0) -> 0 | BJ140: 2 | BK140: =ROUND(P140*H140,2) -> 0 | BL140: 64 | BM140: -89000593
D141: VV | F141: 25 | H141: 25 | AT141: VV | AU141: 2 | AV141: 2 | AW141: True | AX141: 1 | AY141: ROZPOCET
C142: 10 | D142: M | E142: 101477 | F142: Zásuvka nástenná IZ 6343, 63A 4P 6h 400V IP44 | G142: ks | H142: 25 | K142: =ROUND(P142*H142,2) -> 0 | O142: znížená | P142: =I142+J142 -> 0 | Q142: =ROUND(I142*H142,2) -> 0 | R142: =ROUND(J142*H142,2) -> 0 | T142: =S142*H142 -> 0 | U142: 0.00079 | V142: =U142*H142 -> 0.01975 | W142: 0 | X142: =W142*H142 -> 0 | AR142: 256 | AT142: M | AU142: 2 | AY142: ROZPOCET | BE142: =IF(O142="základná",K142,0) -> 0 | BF142: =IF(O142="znížená",K142,0) -> 0 | BG142: =IF(O142="zákl. prenesená",K142,0) -> 0 | BH142: =IF(O142="zníž. prenesená",K142,0) -> 0 | BI142: =IF(O142="nulová",K142,0) -> 0 | BJ142: 2 | BK142: =ROUND(P142*H142,2) -> 0 | BL142: 64 | BM142: 12616653
C143: 11 | D143: K | E143: 210193204.S | F143: Domova rozvodnica povrchová montáž IP 65 | G143: ks | H143: 2 | K143: =ROUND(P143*H143,2) -> 0 | L143: CS CENEKON 2025 02 v1 | O143: znížená | P143: =I143+J143 -> 0 | Q143: =ROUND(I143*H143,2) -> 0 | R143: =ROUND(J143*H143,2) -> 0 | T143: =S143*H143 -> 0 | U143: 0 | V143: =U143*H143 -> 0 | W143: 0 | X143: =W143*H143 -> 0 | AR143: 64 | AT143: K | AU143: 2 | AY143: ROZPOCET | BE143: =IF(O143="základná",K143,0) -> 0 | BF143: =IF(O143="znížená",K143,0) -> 0 | BG143: =IF(O143="zákl. prenesená",K143,0) -> 0 | BH143: =IF(O143="zníž. prenesená",K143,0) -> 0 | BI143: =IF(O143="nulová",K143,0) -> 0 | BJ143: 2 | BK143: =ROUND(P143*H143,2) -> 0 | BL143: 64 | BM143: -75460394
D144: VV | F144: 2 | H144: 2 | AT144: VV | AU144: 2 | AV144: 2 | AW144: True | AX144: 1 | AY144: ROZPOCET
C145: 12 | D145: M | E145: 3571500001701.S | F145: Rozvádzač | G145: ks | H145: 2 | K145: =ROUND(P145*H145,2) -> 0 | O145: znížená | P145: =I145+J145 -> 0 | Q145: =ROUND(I145*H145,2) -> 0 | R145: =ROUND(J145*H145,2) -> 0 | T145: =S145*H145 -> 0 | U145: 0.0473 | V145: =U145*H145 -> 0.0946 | W145: 0 | X145: =W145*H145 -> 0 | AR145: 128 | AT145: M | AU145: 2 | AY145: ROZPOCET | BE145: =IF(O145="základná",K145,0) -> 0 | BF145: =IF(O145="znížená",K145,0) -> 0 | BG145: =IF(O145="zákl. prenesená",K145,0) -> 0 | BH145: =IF(O145="zníž. prenesená",K145,0) -> 0 | BI145: =IF(O145="nulová",K145,0) -> 0 | BJ145: 2 | BK145: =ROUND(P145*H145,2) -> 0 | BL145: 128 | BM145: 1540724285
C146: 13 | D146: K | E146: 210201085.S | F146: Zapojenie LED svietidla, IP20, P=80W, stropného - nástenného interiérového | G146: ks | H146: 20 | K146: =ROUND(P146*H146,2) -> 0 | L146: CS CENEKON 2025 02 v1 | O146: znížená | P146: =I146+J146 -> 0 | Q146: =ROUND(I146*H146,2) -> 0 | R146: =ROUND(J146*H146,2) -> 0 | T146: =S146*H146 -> 0 | U146: 0 | V146: =U146*H146 -> 0 | W146: 0 | X146: =W146*H146 -> 0 | AR146: 64 | AT146: K | AU146: 2 | AY146: ROZPOCET | BE146: =IF(O146="základná",K146,0) -> 0 | BF146: =IF(O146="znížená",K146,0) -> 0 | BG146: =IF(O146="zákl. prenesená",K146,0) -> 0 | BH146: =IF(O146="zníž. prenesená",K146,0) -> 0 | BI146: =IF(O146="nulová",K146,0) -> 0 | BJ146: 2 | BK146: =ROUND(P146*H146,2) -> 0 | BL146: 64 | BM146: -246379391
D147: VV | F147: 20 | H147: 20 | AT147: VV | AU147: 2 | AV147: 2 | AW147: True | AX147: 1 | AY147: ROZPOCET
C148: 14 | D148: M | E148: 348140003490.1 | F148: LED svietidlo interiérové stropné, napr.TRILUX Siella G4 D2 3800lm,35W alebo ekvivalent | G148: ks | H148: 20 | K148: =ROUND(P148*H148,2) -> 0 | O148: znížená | P148: =I148+J148 -> 0 | Q148: =ROUND(I148*H148,2) -> 0 | R148: =ROUND(J148*H148,2) -> 0 | T148: =S148*H148 -> 0 | U148: 0.0045 | V148: =U148*H148 -> 0.09 | W148: 0 | X148: =W148*H148 -> 0 | AR148: 128 | AT148: M | AU148: 2 | AY148: ROZPOCET | BE148: =IF(O148="základná",K148,0) -> 0 | BF148: =IF(O148="znížená",K148,0) -> 0 | BG148: =IF(O148="zákl. prenesená",K148,0) -> 0 | BH148: =IF(O148="zníž. prenesená",K148,0) -> 0 | BI148: =IF(O148="nulová",K148,0) -> 0 | BJ148: 2 | BK148: =ROUND(P148*H148,2) -> 0 | BL148: 128 | BM148: -787016597
C149: 15 | D149: K | E149: 210220020.S | F149: Uzemňovacie vedenie v zemi FeZn do 120 mm2 vrátane izolácie spojov | G149: m | H149: 116 | K149: =ROUND(P149*H149,2) -> 0 | L149: CS CENEKON 2026 01 v1 | O149: znížená | P149: =I149+J149 -> 0 | Q149: =ROUND(I149*H149,2) -> 0 | R149: =ROUND(J149*H149,2) -> 0 | T149: =S149*H149 -> 0 | U149: 0 | V149: =U149*H149 -> 0 | W149: 0 | X149: =W149*H149 -> 0 | AR149: 64 | AT149: K | AU149: 2 | AY149: ROZPOCET | BE149: =IF(O149="základná",K149,0) -> 0 | BF149: =IF(O149="znížená",K149,0) -> 0 | BG149: =IF(O149="zákl. prenesená",K149,0) -> 0 | BH149: =IF(O149="zníž. prenesená",K149,0) -> 0 | BI149: =IF(O149="nulová",K149,0) -> 0 | BJ149: 2 | BK149: =ROUND(P149*H149,2) -> 0 | BL149: 64 | BM149: -65583440
D150: VV | F150: (30+28)*2 | H150: 116 | AT150: VV | AU150: 2 | AV150: 2 | AW150: True | AX150: 1 | AY150: ROZPOCET
C151: 16 | D151: M | E151: 354410058800.S | F151: Pásovina uzemňovacia FeZn 30 x 4 mm | G151: kg | H151: 116 | K151: =ROUND(P151*H151,2) -> 0 | L151: CS CENEKON 2026 01 v1 | O151: znížená | P151: =I151+J151 -> 0 | Q151: =ROUND(I151*H151,2) -> 0 | R151: =ROUND(J151*H151,2) -> 0 | T151: =S151*H151 -> 0 | U151: 0.001 | V151: =U151*H151 -> 0.116 | W151: 0 | X151: =W151*H151 -> 0 | AR151: 128 | AT151: M | AU151: 2 | AY151: ROZPOCET | BE151: =IF(O151="základná",K151,0) -> 0 | BF151: =IF(O151="znížená",K151,0) -> 0 | BG151: =IF(O151="zákl. prenesená",K151,0) -> 0 | BH151: =IF(O151="zníž. prenesená",K151,0) -> 0 | BI151: =IF(O151="nulová",K151,0) -> 0 | BJ151: 2 | BK151: =ROUND(P151*H151,2) -> 0 | BL151: 128 | BM151: -866452598
C152: 17 | D152: K | E152: 210220030.S | F152: Ekvipotenciálna svorkovnica EPS 3 v krabici KO 100 E | G152: ks | H152: 2 | K152: =ROUND(P152*H152,2) -> 0 | L152: CS CENEKON 2026 01 v1 | O152: znížená | P152: =I152+J152 -> 0 | Q152: =ROUND(I152*H152,2) -> 0 | R152: =ROUND(J152*H152,2) -> 0 | T152: =S152*H152 -> 0 | U152: 0 | V152: =U152*H152 -> 0 | W152: 0 | X152: =W152*H152 -> 0 | AR152: 64 | AT152: K | AU152: 2 | AY152: ROZPOCET | BE152: =IF(O152="základná",K152,0) -> 0 | BF152: =IF(O152="znížená",K152,0) -> 0 | BG152: =IF(O152="zákl. prenesená",K152,0) -> 0 | BH152: =IF(O152="zníž. prenesená",K152,0) -> 0 | BI152: =IF(O152="nulová",K152,0) -> 0 | BJ152: 2 | BK152: =ROUND(P152*H152,2) -> 0 | BL152: 64 | BM152: 1713031513
D153: VV | F153: 2 | H153: 2 | AT153: VV | AU153: 2 | AV153: 2 | AW153: True | AX153: 1 | AY153: ROZPOCET
C154: 18 | D154: M | E154: 345410000200.S | F154: Krabica odbočná z PVC s viečkom pod omietku KO 100 E | G154: ks | H154: 2 | K154: =ROUND(P154*H154,2) -> 0 | L154: CS CENEKON 2026 01 v1 | O154: znížená | P154: =I154+J154 -> 0 | Q154: =ROUND(I154*H154,2) -> 0 | R154: =ROUND(J154*H154,2) -> 0 | T154: =S154*H154 -> 0 | U154: 0.0002 | V154: =U154*H154 -> 0.0004 | W154: 0 | X154: =W154*H154 -> 0 | AR154: 128 | AT154: M | AU154: 2 | AY154: ROZPOCET | BE154: =IF(O154="základná",K154,0) -> 0 | BF154: =IF(O154="znížená",K154,0) -> 0 | BG154: =IF(O154="zákl. prenesená",K154,0) -> 0 | BH154: =IF(O154="zníž. prenesená",K154,0) -> 0 | BI154: =IF(O154="nulová",K154,0) -> 0 | BJ154: 2 | BK154: =ROUND(P154*H154,2) -> 0 | BL154: 128 | BM154: 799496397
C155: 19 | D155: M | E155: 345610005000.S | F155: Svorkovnica ekvipotencionálna EPS 3, z PP | G155: ks | H155: 2 | K155: =ROUND(P155*H155,2) -> 0 | L155: CS CENEKON 2026 01 v1 | O155: znížená | P155: =I155+J155 -> 0 | Q155: =ROUND(I155*H155,2) -> 0 | R155: =ROUND(J155*H155,2) -> 0 | T155: =S155*H155 -> 0 | U155: 0.00014 | V155: =U155*H155 -> 0.00028 | W155: 0 | X155: =W155*H155 -> 0 | AR155: 128 | AT155: M | AU155: 2 | AY155: ROZPOCET | BE155: =IF(O155="základná",K155,0) -> 0 | BF155: =IF(O155="znížená",K155,0) -> 0 | BG155: =IF(O155="zákl. prenesená",K155,0) -> 0 | BH155: =IF(O155="zníž. prenesená",K155,0) -> 0 | BI155: =IF(O155="nulová",K155,0) -> 0 | BJ155: 2 | BK155: =ROUND(P155*H155,2) -> 0 | BL155: 128 | BM155: -691317659
C156: 20 | D156: K | E156: 210220050.S | F156: Označenie zvodov číselnými štítkami | G156: ks | H156: 2 | K156: =ROUND(P156*H156,2) -> 0 | L156: CS CENEKON 2026 01 v1 | O156: znížená | P156: =I156+J156 -> 0 | Q156: =ROUND(I156*H156,2) -> 0 | R156: =ROUND(J156*H156,2) -> 0 | T156: =S156*H156 -> 0 | U156: 0 | V156: =U156*H156 -> 0 | W156: 0 | X156: =W156*H156 -> 0 | AR156: 64 | AT156: K | AU156: 2 | AY156: ROZPOCET | BE156: =IF(O156="základná",K156,0) -> 0 | BF156: =IF(O156="znížená",K156,0) -> 0 | BG156: =IF(O156="zákl. prenesená",K156,0) -> 0 | BH156: =IF(O156="zníž. prenesená",K156,0) -> 0 | BI156: =IF(O156="nulová",K156,0) -> 0 | BJ156: 2 | BK156: =ROUND(P156*H156,2) -> 0 | BL156: 64 | BM156: -1675795507
D157: VV | F157: 2 | H157: 2 | AT157: VV | AU157: 2 | AV157: 2 | AW157: True | AX157: 1 | AY157: ROZPOCET
C158: 21 | D158: M | E158: 354410064700.S | F158: Štítok orientačný nerezový na zvody 0 | G158: ks | H158: 2 | K158: =ROUND(P158*H158,2) -> 0 | L158: CS CENEKON 2026 01 v1 | O158: znížená | P158: =I158+J158 -> 0 | Q158: =ROUND(I158*H158,2) -> 0 | R158: =ROUND(J158*H158,2) -> 0 | T158: =S158*H158 -> 0 | U158: 3e-05 | V158: =U158*H158 -> 6e-05 | W158: 0 | X158: =W158*H158 -> 0 | AR158: 128 | AT158: M | AU158: 2 | AY158: ROZPOCET | BE158: =IF(O158="základná",K158,0) -> 0 | BF158: =IF(O158="znížená",K158,0) -> 0 | BG158: =IF(O158="zákl. prenesená",K158,0) -> 0 | BH158: =IF(O158="zníž. prenesená",K158,0) -> 0 | BI158: =IF(O158="nulová",K158,0) -> 0 | BJ158: 2 | BK158: =ROUND(P158*H158,2) -> 0 | BL158: 128 | BM158: -818712492
C159: 22 | D159: K | E159: 210220240.S | F159: Svorka FeZn k zachytávacej, uzemňovacej tyči SJ | G159: ks | H159: 8 | K159: =ROUND(P159*H159,2) -> 0 | L159: CS CENEKON 2026 01 v1 | O159: znížená | P159: =I159+J159 -> 0 | Q159: =ROUND(I159*H159,2) -> 0 | R159: =ROUND(J159*H159,2) -> 0 | T159: =S159*H159 -> 0 | U159: 0 | V159: =U159*H159 -> 0 | W159: 0 | X159: =W159*H159 -> 0 | AR159: 64 | AT159: K | AU159: 2 | AY159: ROZPOCET | BE159: =IF(O159="základná",K159,0) -> 0 | BF159: =IF(O159="znížená",K159,0) -> 0 | BG159: =IF(O159="zákl. prenesená",K159,0) -> 0 | BH159: =IF(O159="zníž. prenesená",K159,0) -> 0 | BI159: =IF(O159="nulová",K159,0) -> 0 | BJ159: 2 | BK159: =ROUND(P159*H159,2) -> 0 | BL159: 64 | BM159: -1888764074
D160: VV | F160: 8 | H160: 8 | AT160: VV | AU160: 2 | AV160: 2 | AW160: True | AX160: 1 | AY160: ROZPOCET
C161: 23 | D161: M | E161: 354410001500.S | F161: Svorka FeZn k uzemňovacej tyči označenie SJ 01 | G161: ks | H161: 8 | K161: =ROUND(P161*H161,2) -> 0 | L161: CS CENEKON 2026 01 v1 | O161: znížená | P161: =I161+J161 -> 0 | Q161: =ROUND(I161*H161,2) -> 0 | R161: =ROUND(J161*H161,2) -> 0 | T161: =S161*H161 -> 0 | U161: 0.0004 | V161: =U161*H161 -> 0.0032 | W161: 0 | X161: =W161*H161 -> 0 | AR161: 128 | AT161: M | AU161: 2 | AY161: ROZPOCET | BE161: =IF(O161="základná",K161,0) -> 0 | BF161: =IF(O161="znížená",K161,0) -> 0 | BG161: =IF(O161="zákl. prenesená",K161,0) -> 0 | BH161: =IF(O161="zníž. prenesená",K161,0) -> 0 | BI161: =IF(O161="nulová",K161,0) -> 0 | BJ161: 2 | BK161: =ROUND(P161*H161,2) -> 0 | BL161: 128 | BM161: 1776902131
C162: 24 | D162: M | E162: 354410002000.S | F162: Svorka FeZn k uzemňovacej tyči označenie SJ 03 | G162: ks | H162: 8 | K162: =ROUND(P162*H162,2) -> 0 | L162: CS CENEKON 2026 01 v1 | O162: znížená | P162: =I162+J162 -> 0 | Q162: =ROUND(I162*H162,2) -> 0 | R162: =ROUND(J162*H162,2) -> 0 | T162: =S162*H162 -> 0 | U162: 0.00055 | V162: =U162*H162 -> 0.0044 | W162: 0 | X162: =W162*H162 -> 0 | AR162: 128 | AT162: M | AU162: 2 | AY162: ROZPOCET | BE162: =IF(O162="základná",K162,0) -> 0 | BF162: =IF(O162="znížená",K162,0) -> 0 | BG162: =IF(O162="zákl. prenesená",K162,0) -> 0 | BH162: =IF(O162="zníž. prenesená",K162,0) -> 0 | BI162: =IF(O162="nulová",K162,0) -> 0 | BJ162: 2 | BK162: =ROUND(P162*H162,2) -> 0 | BL162: 128 | BM162: 1057561983
...

Sheet 26-B-01-03-06 - Zdravotec...
M2: >> skryté stĺpce << | AT2: {a0c4e9ca-dbdb-4e6a-bee3-7c145aeef699}
AT3: 0
D4: KRYCÍ LIST ROZPOČTU | N4: v --- nižšie sa nachádzajú doplnkové a pomocné údaje k zostavám --- v | AT4: False
D6: Stavba:
E7: ='Rekapitulácia stavby'!K6 -> Integrovaný výrobný systém pre výrobu a distribúciu nealkoholických sladových produktov
D8: Objekt:
E9: 26-B-01-03 - Stavebné úpravy
D10: Časť:
E11: 26-B-01-03-06 - Zdravotechnické inštalácie
D13: JKSO: | I13: ČS:
D14: Miesto: | F14: Zvolen | I14: Dátum:
D16: Objednávateľ: | I16: IČO: | J16: =IF('Rekapitulácia stavby'!AN10="","",'Rekapitulácia stavby'!AN10)
E17: =IF('Rekapitulácia stavby'!E11="","",'Rekapitulácia stavby'!E11) | I17: IČ DPH: | J17: =IF('Rekapitulácia stavby'!AN11="","",'Rekapitulácia stavby'!AN11)
D19: Zhotoviteľ: | I19: IČO: | J19: ='Rekapitulácia stavby'!AN13 -> Vyplň údaj
E20: ='Rekapitulácia stavby'!E14 -> Vyplň údaj | I20: IČ DPH: | J20: ='Rekapitulácia stavby'!AN14 -> Vyplň údaj
D22: Projektant: | I22: IČO: | J22: =IF('Rekapitulácia stavby'!AN16="","",'Rekapitulácia stavby'!AN16)
E23: =IF('Rekapitulácia stavby'!E17="","",'Rekapitulácia stavby'!E17) | I23: IČ DPH: | J23: =IF('Rekapitulácia stavby'!AN17="","",'Rekapitulácia stavby'!AN17)
D25: Spracovateľ: | I25: IČO:
E26: Ing.Miroslav Plevka | I26: IČ DPH:
D28: Poznámka:
E32: Materiál | K32: =I98 -> 0
E33: Montáž | K33: =J98 -> 0
D34: Cena bez DPH | K34: =ROUND(K125, 2) -> 0
F36: Základ dane | I36: Sadzba dane | K36: Výška dane
D37: DPH | E37: základná | F37: =ROUND((SUM(BE125:BE206)), 2) -> 0 | I37: 0.23 | K37: =ROUND(((SUM(BE125:BE206))*I37), 2) -> 0
E38: znížená | F38: =ROUND((SUM(BF125:BF206)), 2) -> 0 | I38: 0.23 | K38: =ROUND(((SUM(BF125:BF206))*I38), 2) -> 0
E39: zákl. prenesená | F39: =ROUND((SUM(BG125:BG206)), 2) -> 0 | I39: 0.23 | K39: =0 -> 0
E40: zníž. prenesená | F40: =ROUND((SUM(BH125:BH206)), 2) -> 0 | I40: 0.23 | K40: =0 -> 0
E41: nulová | F41: =ROUND((SUM(BI125:BI206)), 2) -> 0 | I41: 0 | K41: =0 -> 0
D43: Cena s DPH | G43: v | H43: EUR | K43: =SUM(K34:K41) -> 0
D50: Projektant | G50: Spracovateľ
D61: Dátum a podpis: | F61: Pečiatka | G61: Dátum a podpis: | J61: Pečiatka
D65: Objednávateľ | G65: Zhotoviteľ
D76: Dátum a podpis: | F76: Pečiatka | G76: Dátum a podpis: | J76: Pečiatka
C82: REKAPITULÁCIA ROZPOČTU
C84: Stavba:
E85: =E7 -> Integrovaný výrobný systém pre výrobu a distribúciu nealkoholických sladových produktov
C86: Objekt:
E87: 26-B-01-03 - Stavebné úpravy
C88: Časť:
E89: =E11 -> 26-B-01-03-06 - Zdravotechnické inštalácie
C91: Miesto: | F91: =F14 -> Zvolen | I91: Dátum: | J91: =IF(J14="","",J14)
C93: Objednávateľ: | F93: =E17 | I93: Projektant: | J93: =E23
C94: Zhotoviteľ: | F94: =IF(E20="","",E20) -> Vyplň údaj | I94: Spracovateľ: | J94: =E26 -> Ing.Miroslav Plevka
C96: Kód dielu - Popis | I96: Materiál [EUR] | J96: Montáž [EUR] | K96: Cena celkom [EUR]
C98: Náklady z rozpočtu | I98: =Q125 -> 0 | J98: =R125 -> 0 | K98: =K125 -> 0 | AU98: -1
D99: PSV - Práce a dodávky PSV | I99: =Q126 -> 0 | J99: =R126 -> 0 | K99: =K126 -> 0
D100: 713 - Izolácie tepelné | I100: =Q127 -> 0 | J100: =R127 -> 0 | K100: =K127 -> 0
D101: 721 - Zdravotechnika - vnútorná kanalizácia | I101: =Q139 -> 0 | J101: =R139 -> 0 | K101: =K139 -> 0
D102: 722 - Zdravotechnika - vnútorný vodovod | I102: =Q164 -> 0 | J102: =R164 -> 0 | K102: =K164 -> 0
D103: 769 - Montáže vzduchotechnických zariadení | I103: =Q199 -> 0 | J103: =R199 -> 0 | K103: =K199 -> 0
C110: ROZPOČET
C112: Stavba:
E113: =E7 -> Integrovaný výrobný systém pre výrobu a distribúciu nealkoholických sladových produktov
C114: Objekt:
E115: 26-B-01-03 - Stavebné úpravy
C116: Časť:
E117: =E11 -> 26-B-01-03-06 - Zdravotechnické inštalácie
C119: Miesto: | F119: =F14 -> Zvolen | I119: Dátum: | J119: =IF(J14="","",J14)
C121: Objednávateľ: | F121: =E17 | I121: Projektant: | J121: =E23
C122: Zhotoviteľ: | F122: =IF(E20="","",E20) -> Vyplň údaj | I122: Spracovateľ: | J122: =E26 -> Ing.Miroslav Plevka
C124: PČ | D124: Typ | E124: Kód | F124: Popis | G124: MJ | H124: Množstvo | I124: J. materiál [EUR] | J124: J. montáž [EUR] | K124: Cena celkom [EUR] | L124: Cenová sústava | O124: DPH | P124: J.cena [EUR] | Q124: Materiál celkom [EUR] | R124: Montáž celkom [EUR] | S124: J. Nh [h] | T124: Nh celkom [h] | U124: J. hmotnosť [t] | V124: Hmotnosť celkom [t] | W124: J. suť [t] | X124: Suť Celkom [t]
C125: Náklady z rozpočtu | K125: =BK125 -> 0 | Q125: =Q126 -> 0 | R125: =R126 -> 0 | T125: =T126 -> 0 | V125: =V126 -> 0.23089673 | X125: =X126 -> 0 | AT125: D | AU125: -1 | BK125: =BK126 -> 0
D126: D | E126: PSV | F126: Práce a dodávky PSV | K126: =BK126 -> 0 | Q126: =Q127+Q139+Q164+Q199 -> 0 | R126: =R127+R139+R164+R199 -> 0 | T126: =T127+T139+T164+T199 -> 0 | V126: =V127+V139+V164+V199 -> 0.23089673 | X126: =X127+X139+X164+X199 -> 0 | AR126: 2 | AT126: D | AU126: 0 | AY126: ROZPOCET | BK126: =BK127+BK139+BK164+BK199 -> 0
D127: D | E127: 713 | F127: Izolácie tepelné | K127: =BK127 -> 0 | Q127: =SUM(Q128:Q138) -> 0 | R127: =SUM(R128:R138) -> 0 | T127: =SUM(T128:T138) -> 0 | V127: =SUM(V128:V138) -> 0.011385 | X127: =SUM(X128:X138) -> 0 | AR127: 2 | AT127: D | AU127: 1 | AY127: ROZPOCET | BK127: =SUM(BK128:BK138) -> 0
C128: 1 | D128: K | E128: 713482121.S | F128: Montáž trubíc z PE, hr.15-20 mm,vnút.priemer do 38 mm | G128: m | H128: 75 | K128: =ROUND(P128*H128,2) -> 0 | L128: CS CENEKON 2026 01 v1 | O128: znížená | P128: =I128+J128 -> 0 | Q128: =ROUND(I128*H128,2) -> 0 | R128: =ROUND(J128*H128,2) -> 0 | T128: =S128*H128 -> 0 | U128: 2e-05 | V128: =U128*H128 -> 0.0015 | W128: 0 | X128: =W128*H128 -> 0 | AR128: 16 | AT128: K | AU128: 2 | AY128: ROZPOCET | BE128: =IF(O128="základná",K128,0) -> 0 | BF128: =IF(O128="znížená",K128,0) -> 0 | BG128: =IF(O128="zákl. prenesená",K128,0) -> 0 | BH128: =IF(O128="zníž. prenesená",K128,0) -> 0 | BI128: =IF(O128="nulová",K128,0) -> 0 | BJ128: 2 | BK128: =ROUND(P128*H128,2) -> 0 | BL128: 16 | BM128: -6924506
D129: VV | F129: 5+30+40 | H129: 75 | AT129: VV | AU129: 2 | AV129: 2 | AW129: True | AX129: 1 | AY129: ROZPOCET
C130: 2 | D130: M | E130: 283310004800.S | F130: Izolačná PE trubica dxhr. 28x20 mm, nadrezaná, na izolovanie rozvodov vody, kúrenia, zdravotechniky | G130: m | H130: 76.5 | K130: =ROUND(P130*H130,2) -> 0 | L130: CS CENEKON 2026 01 v1 | O130: znížená | P130: =I130+J130 -> 0 | Q130: =ROUND(I130*H130,2) -> 0 | R130: =ROUND(J130*H130,2) -> 0 | T130: =S130*H130 -> 0 | U130: 2e-05 | V130: =U130*H130 -> 0.00153 | W130: 0 | X130: =W130*H130 -> 0 | AR130: 32 | AT130: M | AU130: 2 | AY130: ROZPOCET | BE130: =IF(O130="základná",K130,0) -> 0 | BF130: =IF(O130="znížená",K130,0) -> 0 | BG130: =IF(O130="zákl. prenesená",K130,0) -> 0 | BH130: =IF(O130="zníž. prenesená",K130,0) -> 0 | BI130: =IF(O130="nulová",K130,0) -> 0 | BJ130: 2 | BK130: =ROUND(P130*H130,2) -> 0 | BL130: 16 | BM130: 2063138815
D131: VV | F131: 75*1,02 'Prepočítané koeficientom množstva | H131: 76.5 | AT131: VV | AU131: 2 | AV131: 2 | AW131: False | AX131: 1 | AY131: ROZPOCET
C132: 3 | D132: K | E132: 713482132.S | F132: Montáž trubíc z PE, hr.30 mm,vnút.priemer 39-70 mm | G132: m | H132: 22 | K132: =ROUND(P132*H132,2) -> 0 | L132: CS CENEKON 2026 01 v1 | O132: znížená | P132: =I132+J132 -> 0 | Q132: =ROUND(I132*H132,2) -> 0 | R132: =ROUND(J132*H132,2) -> 0 | T132: =S132*H132 -> 0 | U132: 3e-05 | V132: =U132*H132 -> 0.00066 | W132: 0 | X132: =W132*H132 -> 0 | AR132: 16 | AT132: K | AU132: 2 | AY132: ROZPOCET | BE132: =IF(O132="základná",K132,0) -> 0 | BF132: =IF(O132="znížená",K132,0) -> 0 | BG132: =IF(O132="zákl. prenesená",K132,0) -> 0 | BH132: =IF(O132="zníž. prenesená",K132,0) -> 0 | BI132: =IF(O132="nulová",K132,0) -> 0 | BJ132: 2 | BK132: =ROUND(P132*H132,2) -> 0 | BL132: 16 | BM132: 2105541996
D133: VV | F133: 10+12 | H133: 22 | AT133: VV | AU133: 2 | AV133: 2 | AW133: True | AX133: 1 | AY133: ROZPOCET
C134: 4 | D134: M | E134: 283310006600.S | F134: Izolačná PE trubica dxhr. 48x30 mm, rozrezaná, na izolovanie rozvodov vody, kúrenia, zdravotechniky | G134: m | H134: 22.44 | K134: =ROUND(P134*H134,2) -> 0 | L134: CS CENEKON 2026 01 v1 | O134: znížená | P134: =I134+J134 -> 0 | Q134: =ROUND(I134*H134,2) -> 0 | R134: =ROUND(J134*H134,2) -> 0 | T134: =S134*H134 -> 0 | U134: 0.00024 | V134: =U134*H134 -> 0.0053856 | W134: 0 | X134: =W134*H134 -> 0 | AR134: 32 | AT134: M | AU134: 2 | AY134: ROZPOCET | BE134: =IF(O134="základná",K134,0) -> 0 | BF134: =IF(O134="znížená",K134,0) -> 0 | BG134: =IF(O134="zákl. prenesená",K134,0) -> 0 | BH134: =IF(O134="zníž. prenesená",K134,0) -> 0 | BI134: =IF(O134="nulová",K134,0) -> 0 | BJ134: 2 | BK134: =ROUND(P134*H134,2) -> 0 | BL134: 16 | BM134: 743737398
D135: VV | F135: 22*1,02 'Prepočítané koeficientom množstva | H135: 22.44 | AT135: VV | AU135: 2 | AV135: 2 | AW135: False | AX135: 1 | AY135: ROZPOCET
C136: 5 | D136: K | E136: 713530805.S | F136: Montáž protipožiarnej manžety na prestup potrubia d 65-91 mm, EI120, z jednej strany | G136: ks | H136: 3 | K136: =ROUND(P136*H136,2) -> 0 | L136: CS CENEKON 2026 01 v1 | O136: znížená | P136: =I136+J136 -> 0 | Q136: =ROUND(I136*H136,2) -> 0 | R136: =ROUND(J136*H136,2) -> 0 | T136: =S136*H136 -> 0 | U136: 0.0005498 | V136: =U136*H136 -> 0.0016494 | W136: 0 | X136: =W136*H136 -> 0 | AR136: 16 | AT136: K | AU136: 2 | AY136: ROZPOCET | BE136: =IF(O136="základná",K136,0) -> 0 | BF136: =IF(O136="znížená",K136,0) -> 0 | BG136: =IF(O136="zákl. prenesená",K136,0) -> 0 | BH136: =IF(O136="zníž. prenesená",K136,0) -> 0 | BI136: =IF(O136="nulová",K136,0) -> 0 | BJ136: 2 | BK136: =ROUND(P136*H136,2) -> 0 | BL136: 16 | BM136: -414325858
C137: 6 | D137: M | E137: 449410001706.S | F137: Protipožiarna manžeta 75/2.5, pre tesnenie potrubia D 75 mm v prestupoch | G137: ks | H137: 3 | K137: =ROUND(P137*H137,2) -> 0 | L137: CS CENEKON 2026 01 v1 | O137: znížená | P137: =I137+J137 -> 0 | Q137: =ROUND(I137*H137,2) -> 0 | R137: =ROUND(J137*H137,2) -> 0 | T137: =S137*H137 -> 0 | U137: 0.00022 | V137: =U137*H137 -> 0.00066 | W137: 0 | X137: =W137*H137 -> 0 | AR137: 32 | AT137: M | AU137: 2 | AY137: ROZPOCET | BE137: =IF(O137="základná",K137,0) -> 0 | BF137: =IF(O137="znížená",K137,0) -> 0 | BG137: =IF(O137="zákl. prenesená",K137,0) -> 0 | BH137: =IF(O137="zníž. prenesená",K137,0) -> 0 | BI137: =IF(O137="nulová",K137,0) -> 0 | BJ137: 2 | BK137: =ROUND(P137*H137,2) -> 0 | BL137: 16 | BM137: 692694440
C138: 7 | D138: K | E138: 998713201.S | F138: Presun hmôt pre izolácie tepelné v objektoch výšky do 6 m | G138: % | K138: =ROUND(P138*H138,2) -> 0 | L138: CS CENEKON 2026 01 v1 | O138: znížená | P138: =I138+J138 -> 0 | Q138: =ROUND(I138*H138,2) -> 0 | R138: =ROUND(J138*H138,2) -> 0 | T138: =S138*H138 -> 0 | U138: 0 | V138: =U138*H138 -> 0 | W138: 0 | X138: =W138*H138 -> 0 | AR138: 16 | AT138: K | AU138: 2 | AY138: ROZPOCET | BE138: =IF(O138="základná",K138,0) -> 0 | BF138: =IF(O138="znížená",K138,0) -> 0 | BG138: =IF(O138="zákl. prenesená",K138,0) -> 0 | BH138: =IF(O138="zníž. prenesená",K138,0) -> 0 | BI138: =IF(O138="nulová",K138,0) -> 0 | BJ138: 2 | BK138: =ROUND(P138*H138,2) -> 0 | BL138: 16 | BM138: 1790949452
D139: D | E139: 721 | F139: Zdravotechnika - vnútorná kanalizácia | K139: =BK139 -> 0 | Q139: =SUM(Q140:Q163) -> 0 | R139: =SUM(R140:R163) -> 0 | T139: =SUM(T140:T163) -> 0 | V139: =SUM(V140:V163) -> 0.081442 | X139: =SUM(X140:X163) -> 0 | AR139: 2 | AT139: D | AU139: 1 | AY139: ROZPOCET | BK139: =SUM(BK140:BK163) -> 0
C140: 8 | D140: K | E140: 721171127.S | F140: Potrubie z PVC - U odpadové ležaté hrdlové v zemi D 75 mm | G140: m | H140: 12 | K140: =ROUND(P140*H140,2) -> 0 | L140: CS CENEKON 2026 01 v1 | O140: znížená | P140: =I140+J140 -> 0 | Q140: =ROUND(I140*H140,2) -> 0 | R140: =ROUND(J140*H140,2) -> 0 | T140: =S140*H140 -> 0 | U140: 0.00093 | V140: =U140*H140 -> 0.01116 | W140: 0 | X140: =W140*H140 -> 0 | AR140: 16 | AT140: K | AU140: 2 | AY140: ROZPOCET | BE140: =IF(O140="základná",K140,0) -> 0 | BF140: =IF(O140="znížená",K140,0) -> 0 | BG140: =IF(O140="zákl. prenesená",K140,0) -> 0 | BH140: =IF(O140="zníž. prenesená",K140,0) -> 0 | BI140: =IF(O140="nulová",K140,0) -> 0 | BJ140: 2 | BK140: =ROUND(P140*H140,2) -> 0 | BL140: 16 | BM140: -780171492
C141: 9 | D141: K | E141: 721171130.S | F141: Potrubie z PVC - U odpadové ležaté hrdlové v zemi D 110 mm | G141: m | H141: 15 | K141: =ROUND(P141*H141,2) -> 0 | L141: CS CENEKON 2026 01 v1 | O141: znížená | P141: =I141+J141 -> 0 | Q141: =ROUND(I141*H141,2) -> 0 | R141: =ROUND(J141*H141,2) -> 0 | T141: =S141*H141 -> 0 | U141: 0.00157 | V141: =U141*H141 -> 0.02355 | W141: 0 | X141: =W141*H141 -> 0 | AR141: 16 | AT141: K | AU141: 2 | AY141: ROZPOCET | BE141: =IF(O141="základná",K141,0) -> 0 | BF141: =IF(O141="znížená",K141,0) -> 0 | BG141: =IF(O141="zákl. prenesená",K141,0) -> 0 | BH141: =IF(O141="zníž. prenesená",K141,0) -> 0 | BI141: =IF(O141="nulová",K141,0) -> 0 | BJ141: 2 | BK141: =ROUND(P141*H141,2) -> 0 | BL141: 16 | BM141: 1104147414
C142: 10 | D142: K | E142: 721172293.S | F142: Montáž kolena HT potrubia DN 70 | G142: ks | H142: 2 | K142: =ROUND(P142*H142,2) -> 0 | L142: CS CENEKON 2026 01 v1 | O142: znížená | P142: =I142+J142 -> 0 | Q142: =ROUND(I142*H142,2) -> 0 | R142: =ROUND(J142*H142,2) -> 0 | T142: =S142*H142 -> 0 | U142: 0.000142 | V142: =U142*H142 -> 0.000284 | W142: 0 | X142: =W142*H142 -> 0 | AR142: 16 | AT142: K | AU142: 2 | AY142: ROZPOCET | BE142: =IF(O142="základná",K142,0) -> 0 | BF142: =IF(O142="znížená",K142,0) -> 0 | BG142: =IF(O142="zákl. prenesená",K142,0) -> 0 | BH142: =IF(O142="zníž. prenesená",K142,0) -> 0 | BI142: =IF(O142="nulová",K142,0) -> 0 | BJ142: 2 | BK142: =ROUND(P142*H142,2) -> 0 | BL142: 16 | BM142: -1765924331
C143: 11 | D143: M | E143: 286540002000.S | F143: Koleno HT DN 70, PP systém pre beztlakový rozvod vnútorného odpadu | G143: ks | H143: 2 | K143: =ROUND(P143*H143,2) -> 0 | L143: CS CENEKON 2026 01 v1 | O143: znížená | P143: =I143+J143 -> 0 | Q143: =ROUND(I143*H143,2) -> 0 | R143: =ROUND(J143*H143,2) -> 0 | T143: =S143*H143 -> 0 | U143: 0.00011 | V143: =U143*H143 -> 0.00022 | W143: 0 | X143: =W143*H143 -> 0 | AR143: 32 | AT143: M | AU143: 2 | AY143: ROZPOCET | BE143: =IF(O143="základná",K143,0) -> 0 | BF143: =IF(O143="znížená",K143,0) -> 0 | BG143: =IF(O143="zákl. prenesená",K143,0) -> 0 | BH143: =IF(O143="zníž. prenesená",K143,0) -> 0 | BI143: =IF(O143="nulová",K143,0) -> 0 | BJ143: 2 | BK143: =ROUND(P143*H143,2) -> 0 | BL143: 16 | BM143: 2058769267
C144: 12 | D144: K | E144: 721172296.S | F144: Montáž kolena HT potrubia DN 100 | G144: ks | H144: 18 | K144: =ROUND(P144*H144,2) -> 0 | L144: CS CENEKON 2026 01 v1 | O144: znížená | P144: =I144+J144 -> 0 | Q144: =ROUND(I144*H144,2) -> 0 | R144: =ROUND(J144*H144,2) -> 0 | T144: =S144*H144 -> 0 | U144: 0.0002 | V144: =U144*H144 -> 0.0036 | W144: 0 | X144: =W144*H144 -> 0 | AR144: 16 | AT144: K | AU144: 2 | AY144: ROZPOCET | BE144: =IF(O144="základná",K144,0) -> 0 | BF144: =IF(O144="znížená",K144,0) -> 0 | BG144: =IF(O144="zákl. prenesená",K144,0) -> 0 | BH144: =IF(O144="zníž. prenesená",K144,0) -> 0 | BI144: =IF(O144="nulová",K144,0) -> 0 | BJ144: 2 | BK144: =ROUND(P144*H144,2) -> 0 | BL144: 16 | BM144: 412560196
D145: VV | F145: 8+10 | H145: 18 | AT145: VV | AU145: 2 | AV145: 2 | AW145: True | AX145: 1 | AY145: ROZPOCET
C146: 13 | D146: M | E146: 286540002500.S | F146: Koleno HT DN 100, PP systém pre beztlakový rozvod vnútorného odpadu | G146: ks | H146: 18 | K146: =ROUND(P146*H146,2) -> 0 | L146: CS CENEKON 2026 01 v1 | O146: znížená | P146: =I146+J146 -> 0 | Q146: =ROUND(I146*H146,2) -> 0 | R146: =ROUND(J146*H146,2) -> 0 | T146: =S146*H146 -> 0 | U146: 0.00024 | V146: =U146*H146 -> 0.00432 | W146: 0 | X146: =W146*H146 -> 0 | AR146: 32 | AT146: M | AU146: 2 | AY146: ROZPOCET | BE146: =IF(O146="základná",K146,0) -> 0 | BF146: =IF(O146="znížená",K146,0) -> 0 | BG146: =IF(O146="zákl. prenesená",K146,0) -> 0 | BH146: =IF(O146="zníž. prenesená",K146,0) -> 0 | BI146: =IF(O146="nulová",K146,0) -> 0 | BJ146: 2 | BK146: =ROUND(P146*H146,2) -> 0 | BL146: 16 | BM146: -430620437
C147: 14 | D147: K | E147: 721172312.S | F147: Montáž odbočky HT potrubia DN 70 | G147: ks | H147: 2 | K147: =ROUND(P147*H147,2) -> 0 | L147: CS CENEKON 2026 01 v1 | O147: znížená | P147: =I147+J147 -> 0 | Q147: =ROUND(I147*H147,2) -> 0 | R147: =ROUND(J147*H147,2) -> 0 | T147: =S147*H147 -> 0 | U147: 0.00014 | V147: =U147*H147 -> 0.00028 | W147: 0 | X147: =W147*H147 -> 0 | AR147: 16 | AT147: K | AU147: 2 | AY147: ROZPOCET | BE147: =IF(O147="základná",K147,0) -> 0 | BF147: =IF(O147="znížená",K147,0) -> 0 | BG147: =IF(O147="zákl. prenesená",K147,0) -> 0 | BH147: =IF(O147="zníž. prenesená",K147,0) -> 0 | BI147: =IF(O147="nulová",K147,0) -> 0 | BJ147: 2 | BK147: =ROUND(P147*H147,2) -> 0 | BL147: 16 | BM147: -967243530
D148: VV | F148: 2 | H148: 2 | AT148: VV | AU148: 2 | AV148: 2 | AW148: True | AX148: 1 | AY148: ROZPOCET
C149: 15 | D149: M | E149: 286540009300 | F149: Odbočka HT DN 75/75/45°, PP systém pre beztlakový rozvod vnútorného odpadu, PIPELIFE | G149: ks | H149: 2 | K149: =ROUND(P149*H149,2) -> 0 | L149: CS CENEKON 2026 01 v1 | O149: znížená | P149: =I149+J149 -> 0 | Q149: =ROUND(I149*H149,2) -> 0 | R149: =ROUND(J149*H149,2) -> 0 | T149: =S149*H149 -> 0 | U149: 0.00014 | V149: =U149*H149 -> 0.00028 | W149: 0 | X149: =W149*H149 -> 0 | AR149: 32 | AT149: M | AU149: 2 | AY149: ROZPOCET | BE149: =IF(O149="základná",K149,0) -> 0 | BF149: =IF(O149="znížená",K149,0) -> 0 | BG149: =IF(O149="zákl. prenesená",K149,0) -> 0 | BH149: =IF(O149="zníž. prenesená",K149,0) -> 0 | BI149: =IF(O149="nulová",K149,0) -> 0 | BJ149: 2 | BK149: =ROUND(P149*H149,2) -> 0 | BL149: 16 | BM149: 514103741
C150: 16 | D150: K | E150: 721172315.S | F150: Montáž odbočky HT potrubia DN 100 | G150: ks | H150: 4 | K150: =ROUND(P150*H150,2) -> 0 | L150: CS CENEKON 2026 01 v1 | O150: znížená | P150: =I150+J150 -> 0 | Q150: =ROUND(I150*H150,2) -> 0 | R150: =ROUND(J150*H150,2) -> 0 | T150: =S150*H150 -> 0 | U150: 0.0002 | V150: =U150*H150 -> 0.0008 | W150: 0 | X150: =W150*H150 -> 0 | AR150: 16 | AT150: K | AU150: 2 | AY150: ROZPOCET | BE150: =IF(O150="základná",K150,0) -> 0 | BF150: =IF(O150="znížená",K150,0) -> 0 | BG150: =IF(O150="zákl. prenesená",K150,0) -> 0 | BH150: =IF(O150="zníž. prenesená",K150,0) -> 0 | BI150: =IF(O150="nulová",K150,0) -> 0 | BJ150: 2 | BK150: =ROUND(P150*H150,2) -> 0 | BL150: 16 | BM150: -115204841
D151: VV | F151: 2+2 | H151: 4 | AT151: VV | AU151: 2 | AV151: 2 | AW151: True | AX151: 1 | AY151: ROZPOCET
C152: 17 | D152: M | E152: 286540010600.S | F152: Odbočka HT DN 100, PP systém pre beztlakový rozvod vnútorného odpadu | G152: ks | H152: 4 | K152: =ROUND(P152*H152,2) -> 0 | L152: CS CENEKON 2026 01 v1 | O152: znížená | P152: =I152+J152 -> 0 | Q152: =ROUND(I152*H152,2) -> 0 | R152: =ROUND(J152*H152,2) -> 0 | T152: =S152*H152 -> 0 | U152: 0.00033 | V152: =U152*H152 -> 0.00132 | W152: 0 | X152: =W152*H152 -> 0 | AR152: 32 | AT152: M | AU152: 2 | AY152: ROZPOCET | BE152: =IF(O152="základná",K152,0) -> 0 | BF152: =IF(O152="znížená",K152,0) -> 0 | BG152: =IF(O152="zákl. prenesená",K152,0) -> 0 | BH152: =IF(O152="zníž. prenesená",K152,0) -> 0 | BI152: =IF(O152="nulová",K152,0) -> 0 | BJ152: 2 | BK152: =ROUND(P152*H152,2) -> 0 | BL152: 16 | BM152: -101636617
C153: 18 | D153: K | E153: 721173205.S | F153: Potrubie z PVC - U odpadné pripájacie D 50 mm | G153: m | H153: 18 | K153: =ROUND(P153*H153,2) -> 0 | L153: CS CENEKON 2026 01 v1 | O153: znížená | P153: =I153+J153 -> 0 | Q153: =ROUND(I153*H153,2) -> 0 | R153: =ROUND(J153*H153,2) -> 0 | T153: =S153*H153 -> 0 | U153: 0.00064 | V153: =U153*H153 -> 0.01152 | W153: 0 | X153: =W153*H153 -> 0 | AR153: 16 | AT153: K | AU153: 2 | AY153: ROZPOCET | BE153: =IF(O153="základná",K153,0) -> 0 | BF153: =IF(O153="znížená",K153,0) -> 0 | BG153: =IF(O153="zákl. prenesená",K153,0) -> 0 | BH153: =IF(O153="zníž. prenesená",K153,0) -> 0 | BI153: =IF(O153="nulová",K153,0) -> 0 | BJ153: 2 | BK153: =ROUND(P153*H153,2) -> 0 | BL153: 16 | BM153: -157797772
D154: VV | F154: 12+6 | H154: 18 | AT154: VV | AU154: 2 | AV154: 2 | AW154: True | AX154: 1 | AY154: ROZPOCET
C155: 19 | D155: K | E155: 721173208.S | F155: Potrubie z PVC - U odpadné pripájacie D 110 mm | G155: m | H155: 14 | K155: =ROUND(P155*H155,2) -> 0 | L155: CS CENEKON 2026 01 v1 | O155: znížená | P155: =I155+J155 -> 0 | Q155: =ROUND(I155*H155,2) -> 0 | R155: =ROUND(J155*H155,2) -> 0 | T155: =S155*H155 -> 0 | U155: 0.00157 | V155: =U155*H155 -> 0.02198 | W155: 0 | X155: =W155*H155 -> 0 | AR155: 16 | AT155: K | AU155: 2 | AY155: ROZPOCET | BE155: =IF(O155="základná",K155,0) -> 0 | BF155: =IF(O155="znížená",K155,0) -> 0 | BG155: =IF(O155="zákl. prenesená",K155,0) -> 0 | BH155: =IF(O155="zníž. prenesená",K155,0) -> 0 | BI155: =IF(O155="nulová",K155,0) -> 0 | BJ155: 2 | BK155: =ROUND(P155*H155,2) -> 0 | BL155: 16 | BM155: -2018868742
D156: VV | F156: 14 | H156: 14 | AT156: VV | AU156: 2 | AV156: 2 | AW156: True | AX156: 1 | AY156: ROZPOCET
C157: 20 | D157: K | E157: 721213006.S | F157: Montáž podlahového vpustu s vodorovným odtokom DN 75 | G157: ks | H157: 1 | K157: =ROUND(P157*H157,2) -> 0 | L157: CS CENEKON 2025 02 v1 | O157: znížená | P157: =I157+J157 -> 0 | Q157: =ROUND(I157*H157,2) -> 0 | R157: =ROUND(J157*H157,2) -> 0 | T157: =S157*H157 -> 0 | U157: 0.000368 | V157: =U157*H157 -> 0.000368 | W157: 0 | X157: =W157*H157 -> 0 | AR157: 16 | AT157: K | AU157: 2 | AY157: ROZPOCET | BE157: =IF(O157="základná",K157,0) -> 0 | BF157: =IF(O157="znížená",K157,0) -> 0 | BG157: =IF(O157="zákl. prenesená",K157,0) -> 0 | BH157: =IF(O157="zníž. prenesená",K157,0) -> 0 | BI157: =IF(O157="nulová",K157,0) -> 0 | BJ157: 2 | BK157: =ROUND(P157*H157,2) -> 0 | BL157: 16 | BM157: -419480114
C158: 21 | D158: M | E158: 286630023000.S | F158: Podlahový vpust variabilný odtok DN 75, mriežka/krytka nerez | G158: ks | H158: 1 | K158: =ROUND(P158*H158,2) -> 0 | L158: CS CENEKON 2025 02 v1 | O158: znížená | P158: =I158+J158 -> 0 | Q158: =ROUND(I158*H158,2) -> 0 | R158: =ROUND(J158*H158,2) -> 0 | T158: =S158*H158 -> 0 | U158: 0.00063 | V158: =U158*H158 -> 0.00063 | W158: 0 | X158: =W158*H158 -> 0 | AR158: 32 | AT158: M | AU158: 2 | AY158: ROZPOCET | BE158: =IF(O158="základná",K158,0) -> 0 | BF158: =IF(O158="znížená",K158,0) -> 0 | BG158: =IF(O158="zákl. prenesená",K158,0) -> 0 | BH158: =IF(O158="zníž. prenesená",K158,0) -> 0 | BI158: =IF(O158="nulová",K158,0) -> 0 | BJ158: 2 | BK158: =ROUND(P158*H158,2) -> 0 | BL158: 16 | BM158: 1220139976
C159: 22 | D159: K | E159: 721274103.S | F159: Ventilačná hlavica strešná plastová DN 100 | G159: ks | H159: 1 | K159: =ROUND(P159*H159,2) -> 0 | L159: CS CENEKON 2026 01 v1 | O159: znížená | P159: =I159+J159 -> 0 | Q159: =ROUND(I159*H159,2) -> 0 | R159: =ROUND(J159*H159,2) -> 0 | T159: =S159*H159 -> 0 | U159: 0.00064 | V159: =U159*H159 -> 0.00064 | W159: 0 | X159: =W159*H159 -> 0 | AR159: 16 | AT159: K | AU159: 2 | AY159: ROZPOCET | BE159: =IF(O159="základná",K159,0) -> 0 | BF159: =IF(O159="znížená",K159,0) -> 0 | BG159: =IF(O159="zákl. prenesená",K159,0) -> 0 | BH159: =IF(O159="zníž. prenesená",K159,0) -> 0 | BI159: =IF(O159="nulová",K159,0) -> 0 | BJ159: 2 | BK159: =ROUND(P159*H159,2) -> 0 | BL159: 16 | BM159: -786346190
D160: VV | F160: 1 | H160: 1 | AT160: VV | AU160: 2 | AV160: 2 | AW160: True | AX160: 1 | AY160: ROZPOCET
C161: 23 | D161: K | E161: 721290012.S | F161: Montáž privzdušňovacieho ventilu pre odpadové potrubia DN 110 | G161: ks | H161: 1 | K161: =ROUND(P161*H161,2) -> 0 | L161: CS CENEKON 2025 02 v1 | O161: znížená | P161: =I161+J161 -> 0 | Q161: =ROUND(I161*H161,2) -> 0 | R161: =ROUND(J161*H161,2) -> 0 | T161: =S161*H161 -> 0 | U161: 1e-05 | V161: =U161*H161 -> 1e-05 | W161: 0 | X161: =W161*H161 -> 0 | AR161: 16 | AT161: K | AU161: 2 | AY161: ROZPOCET | BE161: =IF(O161="základná",K161,0) -> 0 | BF161: =IF(O161="znížená",K161,0) -> 0 | BG161: =IF(O161="zákl. prenesená",K161,0) -> 0 | BH161: =IF(O161="zníž. prenesená",K161,0) -> 0 | BI161: =IF(O161="nulová",K161,0) -> 0 | BJ161: 2 | BK161: =ROUND(P161*H161,2) -> 0 | BL161: 16 | BM161: 344064388
C162: 24 | D162: M | E162: 551610000100.S | F162: Privzdušňovacia hlavica DN 110, vnútorná kanalizácia, PP | G162: ks | H162: 1 | K162: =ROUND(P162*H162,2) -> 0 | L162: CS CENEKON 2025 02 v1 | O162: znížená | P162: =I162+J162 -> 0 | Q162: =ROUND(I162*H162,2) -> 0 | R162: =ROUND(J162*H162,2) -> 0 | T162: =S162*H162 -> 0 | U162: 0.00048 | V162: =U162*H162 -> 0.00048 | W162: 0 | X162: =W162*H162 -> 0 | AR162: 32 | AT162: M | AU162: 2 | AY162: ROZPOCET | BE162: =IF(O162="základná",K162,0) -> 0 | BF162: =IF(O162="znížená",K162,0) -> 0 | BG162: =IF(O162="zákl. prenesená",K162,0) -> 0 | BH162: =IF(O162="zníž. prenesená",K162,0) -> 0 | BI162: =IF(O162="nulová",K162,0) -> 0 | BJ162: 2 | BK162: =ROUND(P162*H162,2) -> 0 | BL162: 16 | BM162: 380745057
...
