Workbook

Sheet Rekapitulácia stavby
A1: Export Komplet | BA1: 2.0 | BT1: False | BU1: False | BV1: {4228008c-bb5f-4915-a990-387b30e63958}
AR2: >> skryté stĺpce << | BS2: 0,01 | BT2: 23
BS3: 0,01 | BT3: 23
D4: REKAPITULÁCIA STAVBY | AS4: v --- nižšie sa nachádzajú doplnkové a pomocné údaje k zostavám --- v | BE4: Návod na vyplnenie | BS4: 0,001
D5: Kód: | BE5: Meniť je možné iba bunky so žltým podfarbením!_x000D_ _x000D_ 1) na prvom liste Rekapitulácie stavby vyplňte v zostave_x000D_ _x000D_ a) Rekapitulácia stavby_x000D_ - údaje o Zhotoviteľovi_x000D_ (prenesú sa do ostatných zostáv aj v iných listoch)_x000D_ _x000D_ b) Rekapitulácia objektov stavby_x000D_ - potrebné Ostatné náklady_x000D_ _x000D_ 2) na vybraných listoch vyplňte v zostave_x000D_ _x000D_ a) Krycí list_x000D_ - údaje o Zhotoviteľovi, pokiaľ sa líšia od údajov o Zhotoviteľovi na Rekapitulácii stavby_x000D_ (údaje se prenesú do ostatných zostav v danom liste)_x000D_ _x000D_ b) Rekapitulácia rozpočtu_x000D_ - potrebné Ostatné náklady_x000D_ _x000D_ c) Celkové náklady za stavbu_x000D_ - ceny na položkách_x000D_ - množstvo, pokiaľ má žlté podfarbenie_x000D_ - a v prípade potreby poznámku (tá je v skrytom stĺpci) | BS5: 0,01
D6: Stavba: | K6: Rekonštrukcia priestorov UPC - Podhľad zmena 24.4.2026 | BS6: 0,01
D7: JKSO: | AK7: ČS: | BS7: 0,01
D8: Miesto: | K8: Mlynská Dolina, Bratislava | AK8: Dátum: | AN8: 24. 4. 2026 | BS8: 0,01
BS9: 0,01
D10: Objednávateľ: | AK10: IČO: | BS10: 0,01
E11: MLYNY UK - Univerzita Komenského v Bratislave Šafárikovo námestie 6 P. O. BOX 440 814 Bratislava 1 | AK11: IČ DPH: | BS11: 0,01
BS12: 0,01
D13: Zhotoviteľ: | AK13: IČO: | AN13: Vyplň údaj | BS13: 0,01
E14: Vyplň údaj | AK14: IČ DPH: | AN14: Vyplň údaj | BS14: 0,01
BS15: False
D16: Projektant: | AK16: IČO: | BS16: False
E17: Architektonická kancelária Lubomír Závodný AA | AK17: IČ DPH: | BS17: True
BS18: 0,01
D19: Spracovateľ: | AK19: IČO: | BS19: 0,01
E20: Rosoft,s.r.o. | AK20: IČ DPH: | BS20: True
D22: Poznámka:
D26: Cena bez DPH | AK26: =ROUND(AG94,2) -> 0
L28: Sadzba dane | W28: Základ dane | AK28: Výška dane
D29: DPH | F29: základná | L29: 0.23 | W29: =ROUND(AZ94, 2) -> 0 | AK29: =ROUND(AV94, 2) -> 0
F30: znížená | L30: 0.23 | W30: =ROUND(BA94, 2) -> 0 | AK30: =ROUND(AW94, 2) -> 0
F31: zákl. prenesená | L31: 0.23 | W31: =ROUND(BB94, 2) -> 0 | AK31: 0
F32: zníž. prenesená | L32: 0.23 | W32: =ROUND(BC94, 2) -> 0 | AK32: 0
F33: nulová | L33: 0 | W33: =ROUND(BD94, 2) -> 0 | AK33: 0
D35: Cena s DPH | T35: v | X35: EUR | AK35: =SUM(AK26:AK33) -> 0
D49: Projektant | AH49: Spracovateľ
D60: Dátum a podpis: | V60: Pečiatka | AH60: Dátum a podpis: | AM60: Pečiatka
D64: Objednávateľ | AH64: Zhotoviteľ
D75: Dátum a podpis: | V75: Pečiatka | AH75: Dátum a podpis: | AM75: Pečiatka
C82: REKAPITULÁCIA OBJEKTOV STAVBY
C84: Kód:
C85: Stavba: | L85: =K6 -> Rekonštrukcia priestorov UPC - Podhľad zmena 24.4.2026
C87: Miesto: | L87: =IF(K8="","",K8) -> Mlynská Dolina, Bratislava | AI87: Dátum: | AM87: =IF(AN8= "","",AN8) -> 24. 4. 2026
C89: Objednávateľ: | L89: =IF(E11= "","",E11) -> MLYNY UK - Univerzita Komenského v Bratislave Šafárikovo námestie 6 P. O. BOX 440 814 Bratislava 1 | AI89: Projektant: | AM89: =IF(E17="","",E17) -> Architektonická kancelária Lubomír Závodný AA | AS89: Informatívne údaje z listov zákaziek
C90: Zhotoviteľ: | L90: =IF(E14= "Vyplň údaj","",E14) | AI90: Spracovateľ: | AM90: =IF(E20="","",E20) -> Rosoft,s.r.o.
C92: Kód | I92: Popis | AG92: Cena bez DPH [EUR] | AN92: Cena s DPH [EUR] | AQ92: Typ | AS92: z toho Ostat._x000D_ náklady [EUR] | AT92: DPH [EUR] | AU92: Normohodiny [h] | AV92: DPH základná [EUR] | AW92: DPH znížená [EUR] | AX92: DPH základná prenesená_x000D_ [EUR] | AY92: DPH znížená prenesená_x000D_ [EUR] | AZ92: Základňa_x000D_ DPH základná | BA92: Základňa_x000D_ DPH znížená | BB92: Základňa_x000D_ DPH zákl. prenesená | BC92: Základňa_x000D_ DPH zníž. prenesená | BD92: Základňa_x000D_ DPH nulová
...

Sheet Poznámky
B2: Poznámky:
A3: ▪ | B3: K správnemu naceneniu výkazu výmer je potrebné naštudovanie PD. Naceniť je potrebné jestvujúci výkaz výmer podľa pokynov tendrového zadávateľa, resp. navrhu zmluvy o dielo.
A4: ▪ | B4: Výkaz výmer je neoddeliteľnou súčasťou celej PD. Materiál výrobkov je definovaný vo VV a zároveň sú položky jednoznačne určené a spárovateľné k výkresovej alebo textovej časti projektovej dokumentácie, ktorá dané materiály, v potrebných prípadoch ešte presnejšie podrobnejšie špecifikuje, upresňuje či konkretizuje technicky, parametricky alebo referenčným výrobkom.
A5: ▪ | B5: Informácie o materiáloch výrobkov vo výkresovej časti alebo technických správach môžu byť aj výrazne rozsiahlejšie ako je možné uviesť technicky v texte názvu položky vo výkaze výmer, preto je potrebné naštudovanie projektovej dokumentácie a oceňovať výkaz výmer ako celok a neoddeliteňú súčasť projektovej dokumentácie.
A6: ▪ | B6: Navrhované materiály a výrobky sú referenčné a je možné ich nahradiť materiálmi a výrobkami s rovnocennými alebo lepšími technickými prarametrami, podľa pravidla pre ekvivalent, uvedeného v súťažných podkladoch.
A7: ▪ | B7: Výmery položiek presunov hmot PSV vyjadrených mernými jednotkami v percentách % sa výpĺňajú podľa metodiky rozpočtárskych programov napr. Cenkros, ODIS.
A8: ▪ | B8: Dodávateľ si zahrnie do jednotkových cien všetky náklady podla ZoD, vrátane VRN-ov, (mimo GZS ): napr. označenie staveniska, čistenie komunikácií, vyčistenie všetkých dotknutých plôch od stavebného odpadu, opatrenia pre stav. v zimnom období, poistenie, geodet. merania a dokumentáciu, skúšky, vzorky, revízie, revízne správy, atesty, dielenskú dokumentáciu, uvedenie do prevádzky, zaškolenie obsluhy, dielenskú a technickú dokumentáciu , dokumentáciu skut. vyhotovenia - okrem tej, ktorú zadávateľ požaduje výkazáť samostatne-viď zádávacie podklady k projektu, resp. ZoD, staveb. výťah, žeriav v súčinnosti a položkami pre zvislý presun hmôt vo všetkých výkazoch, ako aj príprava pre sadové úpravy a režijné náklady, vzniknuté odpady počas výstavby -napr. obalové materiály. (Dopravné náklady doručenia materiálov a technológii na stavenisko sú obstarávacie náklady, kt. sú súčasťou jednotkových cien!.)
A10: ▪ | B10: Poznámky sú plátne pre všetky záložky výkazu výmer.

Sheet E.1.1 ASR-Hl.sála UPeCe-2np
L2: >> skryté stĺpce << | AT2: {70b3d82d-3116-4166-8bb3-50ee570ac1e6}
AT3: 0
D4: KRYCÍ LIST ROZPOČTU | M4: v --- nižšie sa nachádzajú doplnkové a pomocné údaje k zostavám --- v | AT4: False
D6: Stavba:
E7: ='Rekapitulácia stavby'!K6 -> Rekonštrukcia priestorov UPC - Podhľad zmena 24.4.2026
D8: Objekt:
E9: E.1.1 Architektonicko-stavebné riešenie
D10: Časť:
E11: Hlavná Sála UPeCe - 2NP
D13: JKSO: | I13: ČS:
D14: Miesto: | F14: Mlynská Dolina, Bratislava | I14: Dátum: | J14: ='Rekapitulácia stavby'!AN8 -> 24. 4. 2026
D16: Objednávateľ: | I16: IČO: | J16: =IF('Rekapitulácia stavby'!AN10="","",'Rekapitulácia stavby'!AN10)
E17: =IF('Rekapitulácia stavby'!E11="","",'Rekapitulácia stavby'!E11) -> MLYNY UK - Univerzita Komenského v Bratislave Šafárikovo námestie 6 P. O. BOX 440 814 Bratislava 1 | I17: IČ DPH: | J17: =IF('Rekapitulácia stavby'!AN11="","",'Rekapitulácia stavby'!AN11)
D19: Zhotoviteľ: | I19: IČO: | J19: ='Rekapitulácia stavby'!AN13 -> Vyplň údaj
E20: ='Rekapitulácia stavby'!E14 -> Vyplň údaj | I20: IČ DPH: | J20: ='Rekapitulácia stavby'!AN14 -> Vyplň údaj
D22: Projektant: | I22: IČO:
E23: Architektonická kancelária Lubomír Závodný AA | I23: IČ DPH:
D25: Spracovateľ: | I25: IČO:
E26: Rosoft,s.r.o. | I26: IČ DPH:
D28: Poznámka:
D32: Náklady z rozpočtu | J32: =J98 -> 0
D33: Ostatné náklady | J33: =J109 -> 0
D34: Cena bez DPH | J34: =ROUND(J32 + J33, 2) -> 0
F36: Základ dane | I36: Sadzba dane | J36: Výška dane
D37: DPH | E37: základná | F37: =ROUND((SUM(BE109:BE116) + SUM(BE138:BE186)), 2) -> 0 | I37: 0.23 | J37: =ROUND(((SUM(BE109:BE116) + SUM(BE138:BE186))*I37), 2) -> 0
E38: znížená | F38: =ROUND((SUM(BF109:BF116) + SUM(BF138:BF186)), 2) -> 0 | I38: 0.23 | J38: =ROUND(((SUM(BF109:BF116) + SUM(BF138:BF186))*I38), 2) -> 0
E39: zákl. prenesená | F39: =ROUND((SUM(BG109:BG116) + SUM(BG138:BG186)), 2) -> 0 | I39: 0.23 | J39: =0 -> 0
E40: zníž. prenesená | F40: =ROUND((SUM(BH109:BH116) + SUM(BH138:BH186)), 2) -> 0 | I40: 0.23 | J40: =0 -> 0
E41: nulová | F41: =ROUND((SUM(BI109:BI116) + SUM(BI138:BI186)), 2) -> 0 | I41: 0 | J41: =0 -> 0
D43: Cena s DPH | G43: v | H43: EUR | J43: =SUM(J34:J41) -> 0
D50: Projektant | G50: Spracovateľ
D61: Dátum a podpis: | F61: Pečiatka | G61: Dátum a podpis: | J61: Pečiatka
D65: Objednávateľ | G65: Zhotoviteľ
D76: Dátum a podpis: | F76: Pečiatka | G76: Dátum a podpis: | J76: Pečiatka
C82: REKAPITULÁCIA ROZPOČTU
C84: Stavba:
E85: =E7 -> Rekonštrukcia priestorov UPC - Podhľad zmena 24.4.2026
C86: Objekt:
E87: E.1.1 Architektonicko-stavebné riešenie
C88: Časť:
...
