Workbook

Sheet Rekapitulácia stavby
A1: Export Komplet | BA1: 2.0 | BT1: False | BU1: False | BV1: {4228008c-bb5f-4915-a990-387b30e63958}
AR2: >> skryté stĺpce << | BS2: 0,01 | BT2: 23
BS3: 0,01 | BT3: 23
D4: REKAPITULÁCIA STAVBY | AS4: v --- nižšie sa nachádzajú doplnkové a pomocné údaje k zostavám --- v | BE4: Návod na vyplnenie | BS4: 0,001
D5: Kód: | BE5: Meniť je možné iba bunky so žltým podfarbením!_x000D_ _x000D_ 1) na prvom liste Rekapitulácie stavby vyplňte v zostave_x000D_ _x000D_ a) Rekapitulácia stavby_x000D_ - údaje o Zhotoviteľovi_x000D_ (prenesú sa do ostatných zostáv aj v iných listoch)_x000D_ _x000D_ b) Rekapitulácia objektov stavby_x000D_ - potrebné Ostatné náklady_x000D_ _x000D_ 2) na vybraných listoch vyplňte v zostave_x000D_ _x000D_ a) Krycí list_x000D_ - údaje o Zhotoviteľovi, pokiaľ sa líšia od údajov o Zhotoviteľovi na Rekapitulácii stavby_x000D_ (údaje se prenesú do ostatných zostav v danom liste)_x000D_ _x000D_ b) Rekapitulácia rozpočtu_x000D_ - potrebné Ostatné náklady_x000D_ _x000D_ c) Celkové náklady za stavbu_x000D_ - ceny na položkách_x000D_ - množstvo, pokiaľ má žlté podfarbenie_x000D_ - a v prípade potreby poznámku (tá je v skrytom stĺpci) | BS5: 0,01
D6: Stavba: | K6: Rekonštrukcia priestorov UPC - Podhľad zmena 24.4.2026 | BS6: 0,01
D7: JKSO: | AK7: ČS: | BS7: 0,01
D8: Miesto: | K8: Mlynská Dolina, Bratislava | AK8: Dátum: | AN8: 24. 4. 2026 | BS8: 0,01
BS9: 0,01
D10: Objednávateľ: | AK10: IČO: | BS10: 0,01
E11: MLYNY UK - Univerzita Komenského v Bratislave Šafárikovo námestie 6 P. O. BOX 440 814 Bratislava 1 | AK11: IČ DPH: | BS11: 0,01
BS12: 0,01
D13: Zhotoviteľ: | AK13: IČO: | AN13: Vyplň údaj | BS13: 0,01
E14: Vyplň údaj | AK14: IČ DPH: | AN14: Vyplň údaj | BS14: 0,01
BS15: False
D16: Projektant: | AK16: IČO: | BS16: False
E17: Architektonická kancelária Lubomír Závodný AA | AK17: IČ DPH: | BS17: True
BS18: 0,01
D19: Spracovateľ: | AK19: IČO: | BS19: 0,01
E20: Rosoft,s.r.o. | AK20: IČ DPH: | BS20: True
D22: Poznámka:
D26: Cena bez DPH | AK26: =ROUND(AG94,2) -> 0
L28: Sadzba dane | W28: Základ dane | AK28: Výška dane
D29: DPH | F29: základná | L29: 0.23 | W29: =ROUND(AZ94, 2) -> 0 | AK29: =ROUND(AV94, 2) -> 0
F30: znížená | L30: 0.23 | W30: =ROUND(BA94, 2) -> 0 | AK30: =ROUND(AW94, 2) -> 0
F31: zákl. prenesená | L31: 0.23 | W31: =ROUND(BB94, 2) -> 0 | AK31: 0
F32: zníž. prenesená | L32: 0.23 | W32: =ROUND(BC94, 2) -> 0 | AK32: 0
F33: nulová | L33: 0 | W33: =ROUND(BD94, 2) -> 0 | AK33: 0
D35: Cena s DPH | T35: v | X35: EUR | AK35: =SUM(AK26:AK33) -> 0
D49: Projektant | AH49: Spracovateľ
D60: Dátum a podpis: | V60: Pečiatka | AH60: Dátum a podpis: | AM60: Pečiatka
D64: Objednávateľ | AH64: Zhotoviteľ
D75: Dátum a podpis: | V75: Pečiatka | AH75: Dátum a podpis: | AM75: Pečiatka
C82: REKAPITULÁCIA OBJEKTOV STAVBY
C84: Kód:
C85: Stavba: | L85: =K6 -> Rekonštrukcia priestorov UPC - Podhľad zmena 24.4.2026
C87: Miesto: | L87: =IF(K8="","",K8) -> Mlynská Dolina, Bratislava | AI87: Dátum: | AM87: =IF(AN8= "","",AN8) -> 24. 4. 2026
C89: Objednávateľ: | L89: =IF(E11= "","",E11) -> MLYNY UK - Univerzita Komenského v Bratislave Šafárikovo námestie 6 P. O. BOX 440 814 Bratislava 1 | AI89: Projektant: | AM89: =IF(E17="","",E17) -> Architektonická kancelária Lubomír Závodný AA | AS89: Informatívne údaje z listov zákaziek
C90: Zhotoviteľ: | L90: =IF(E14= "Vyplň údaj","",E14) | AI90: Spracovateľ: | AM90: =IF(E20="","",E20) -> Rosoft,s.r.o.
C92: Kód | I92: Popis | AG92: Cena bez DPH [EUR] | AN92: Cena s DPH [EUR] | AQ92: Typ | AS92: z toho Ostat._x000D_ náklady [EUR] | AT92: DPH [EUR] | AU92: Normohodiny [h] | AV92: DPH základná [EUR] | AW92: DPH znížená [EUR] | AX92: DPH základná prenesená_x000D_ [EUR] | AY92: DPH znížená prenesená_x000D_ [EUR] | AZ92: Základňa_x000D_ DPH základná | BA92: Základňa_x000D_ DPH znížená | BB92: Základňa_x000D_ DPH zákl. prenesená | BC92: Základňa_x000D_ DPH zníž. prenesená | BD92: Základňa_x000D_ DPH nulová
C94: Náklady z rozpočtov | AG94: =ROUND(AG95,2) -> 0 | AN94: =SUM(AG94,AT94) -> 0 | AS94: =ROUND(AS95,2) -> 0 | AT94: =ROUND(SUM(AV94:AW94),2) -> 0 | AU94: =ROUND(AU95,5) -> 0 | AV94: =ROUND(AZ94*L29,2) -> 0 | AW94: =ROUND(BA94*L30,2) -> 0 | AX94: =ROUND(BB94*L29,2) -> 0 | AY94: =ROUND(BC94*L30,2) -> 0 | AZ94: =ROUND(AZ95,2) -> 0 | BA94: =ROUND(BA95,2) -> 0 | BB94: =ROUND(BB95,2) -> 0 | BC94: =ROUND(BC95,2) -> 0 | BD94: =ROUND(BD95,2) -> 0 | BS94: D | BT94: 0 | BU94: ###NOIMPORT### | BV94: IMPORT | BW94: {4228008c-bb5f-4915-a990-387b30e63958} | BX94: {00000000-0000-0000-0000-000000000000}
J95: E.1.1 Architektonicko-stavebné riešenie | AG95: =ROUND(AG96,2) -> 0 | AN95: =SUM(AG95,AT95) -> 0 | AQ95: STA | AS95: =ROUND(AS96,2) -> 0 | AT95: =ROUND(SUM(AV95:AW95),2) -> 0 | AU95: =ROUND(AU96,5) -> 0 | AV95: =ROUND(AZ95*L29,2) -> 0 | AW95: =ROUND(BA95*L30,2) -> 0 | AX95: =ROUND(BB95*L29,2) -> 0 | AY95: =ROUND(BC95*L30,2) -> 0 | AZ95: =ROUND(AZ96,2) -> 0 | BA95: =ROUND(BA96,2) -> 0 | BB95: =ROUND(BB96,2) -> 0 | BC95: =ROUND(BC96,2) -> 0 | BD95: =ROUND(BD96,2) -> 0 | BS95: D | BT95: 1 | BU95: ###NOIMPORT### | BV95: IMPORT | BW95: {09c1765e-ccfa-4188-8539-a72c76cee21f} | BX95: {4228008c-bb5f-4915-a990-387b30e63958} | CM95: 0
A96: / | K96: Hlavná Sála UPeCe - 2NP | AG96: ='E.1.1 ASR-Hl.sála UPeCe-2np'!J34 -> 0 | AN96: =SUM(AG96,AT96) -> 0 | AQ96: Časť | AS96: 0 | AT96: =ROUND(SUM(AV96:AW96),2) -> 0 | AU96: ='E.1.1 ASR-Hl.sála UPeCe-2np'!P138 -> 0 | AV96: ='E.1.1 ASR-Hl.sála UPeCe-2np'!J37 -> 0 | AW96: ='E.1.1 ASR-Hl.sála UPeCe-2np'!J38 -> 0 | AX96: ='E.1.1 ASR-Hl.sála UPeCe-2np'!J39 -> 0 | AY96: ='E.1.1 ASR-Hl.sála UPeCe-2np'!J40 -> 0 | AZ96: ='E.1.1 ASR-Hl.sála UPeCe-2np'!F37 -> 0 | BA96: ='E.1.1 ASR-Hl.sála UPeCe-2np'!F38 -> 0 | BB96: ='E.1.1 ASR-Hl.sála UPeCe-2np'!F39 -> 0 | BC96: ='E.1.1 ASR-Hl.sála UPeCe-2np'!F40 -> 0 | BD96: ='E.1.1 ASR-Hl.sála UPeCe-2np'!F41 -> 0 | BT96: 2 | BV96: IMPORT | BW96: {70b3d82d-3116-4166-8bb3-50ee570ac1e6} | BX96: {09c1765e-ccfa-4188-8539-a72c76cee21f}

Sheet Poznámky
B2: Poznámky:
A3: ▪ | B3: K správnemu naceneniu výkazu výmer je potrebné naštudovanie PD. Naceniť je potrebné jestvujúci výkaz výmer podľa pokynov tendrového zadávateľa, resp. navrhu zmluvy o dielo.
A4: ▪ | B4: Výkaz výmer je neoddeliteľnou súčasťou celej PD. Materiál výrobkov je definovaný vo VV a zároveň sú položky jednoznačne určené a spárovateľné k výkresovej alebo textovej časti projektovej dokumentácie, ktorá dané materiály, v potrebných prípadoch ešte presnejšie podrobnejšie špecifikuje, upresňuje či konkretizuje technicky, parametricky alebo referenčným výrobkom.
A5: ▪ | B5: Informácie o materiáloch výrobkov vo výkresovej časti alebo technických správach môžu byť aj výrazne rozsiahlejšie ako je možné uviesť technicky v texte názvu položky vo výkaze výmer, preto je potrebné naštudovanie projektovej dokumentácie a oceňovať výkaz výmer ako celok a neoddeliteňú súčasť projektovej dokumentácie.
A6: ▪ | B6: Navrhované materiály a výrobky sú referenčné a je možné ich nahradiť materiálmi a výrobkami s rovnocennými alebo lepšími technickými prarametrami, podľa pravidla pre ekvivalent, uvedeného v súťažných podkladoch.
A7: ▪ | B7: Výmery položiek presunov hmot PSV vyjadrených mernými jednotkami v percentách % sa výpĺňajú podľa metodiky rozpočtárskych programov napr. Cenkros, ODIS.
A8: ▪ | B8: Dodávateľ si zahrnie do jednotkových cien všetky náklady podla ZoD, vrátane VRN-ov, (mimo GZS ): napr. označenie staveniska, čistenie komunikácií, vyčistenie všetkých dotknutých plôch od stavebného odpadu, opatrenia pre stav. v zimnom období, poistenie, geodet. merania a dokumentáciu, skúšky, vzorky, revízie, revízne správy, atesty, dielenskú dokumentáciu, uvedenie do prevádzky, zaškolenie obsluhy, dielenskú a technickú dokumentáciu , dokumentáciu skut. vyhotovenia - okrem tej, ktorú zadávateľ požaduje výkazáť samostatne-viď zádávacie podklady k projektu, resp. ZoD, staveb. výťah, žeriav v súčinnosti a položkami pre zvislý presun hmôt vo všetkých výkazoch, ako aj príprava pre sadové úpravy a režijné náklady, vzniknuté odpady počas výstavby -napr. obalové materiály. (Dopravné náklady doručenia materiálov a technológii na stavenisko sú obstarávacie náklady, kt. sú súčasťou jednotkových cien!.)
A10: ▪ | B10: Poznámky sú plátne pre všetky záložky výkazu výmer.

Sheet E.1.1 ASR-Hl.sála UPeCe-2np
L2: >> skryté stĺpce << | AT2: {70b3d82d-3116-4166-8bb3-50ee570ac1e6}
AT3: 0
D4: KRYCÍ LIST ROZPOČTU | M4: v --- nižšie sa nachádzajú doplnkové a pomocné údaje k zostavám --- v | AT4: False
D6: Stavba:
E7: ='Rekapitulácia stavby'!K6 -> Rekonštrukcia priestorov UPC - Podhľad zmena 24.4.2026
D8: Objekt:
E9: E.1.1 Architektonicko-stavebné riešenie
D10: Časť:
E11: Hlavná Sála UPeCe - 2NP
D13: JKSO: | I13: ČS:
D14: Miesto: | F14: Mlynská Dolina, Bratislava | I14: Dátum: | J14: ='Rekapitulácia stavby'!AN8 -> 24. 4. 2026
D16: Objednávateľ: | I16: IČO: | J16: =IF('Rekapitulácia stavby'!AN10="","",'Rekapitulácia stavby'!AN10)
E17: =IF('Rekapitulácia stavby'!E11="","",'Rekapitulácia stavby'!E11) -> MLYNY UK - Univerzita Komenského v Bratislave Šafárikovo námestie 6 P. O. BOX 440 814 Bratislava 1 | I17: IČ DPH: | J17: =IF('Rekapitulácia stavby'!AN11="","",'Rekapitulácia stavby'!AN11)
D19: Zhotoviteľ: | I19: IČO: | J19: ='Rekapitulácia stavby'!AN13 -> Vyplň údaj
E20: ='Rekapitulácia stavby'!E14 -> Vyplň údaj | I20: IČ DPH: | J20: ='Rekapitulácia stavby'!AN14 -> Vyplň údaj
D22: Projektant: | I22: IČO:
E23: Architektonická kancelária Lubomír Závodný AA | I23: IČ DPH:
D25: Spracovateľ: | I25: IČO:
E26: Rosoft,s.r.o. | I26: IČ DPH:
D28: Poznámka:
D32: Náklady z rozpočtu | J32: =J98 -> 0
D33: Ostatné náklady | J33: =J109 -> 0
D34: Cena bez DPH | J34: =ROUND(J32 + J33, 2) -> 0
F36: Základ dane | I36: Sadzba dane | J36: Výška dane
D37: DPH | E37: základná | F37: =ROUND((SUM(BE109:BE116) + SUM(BE138:BE186)), 2) -> 0 | I37: 0.23 | J37: =ROUND(((SUM(BE109:BE116) + SUM(BE138:BE186))*I37), 2) -> 0
E38: znížená | F38: =ROUND((SUM(BF109:BF116) + SUM(BF138:BF186)), 2) -> 0 | I38: 0.23 | J38: =ROUND(((SUM(BF109:BF116) + SUM(BF138:BF186))*I38), 2) -> 0
E39: zákl. prenesená | F39: =ROUND((SUM(BG109:BG116) + SUM(BG138:BG186)), 2) -> 0 | I39: 0.23 | J39: =0 -> 0
E40: zníž. prenesená | F40: =ROUND((SUM(BH109:BH116) + SUM(BH138:BH186)), 2) -> 0 | I40: 0.23 | J40: =0 -> 0
E41: nulová | F41: =ROUND((SUM(BI109:BI116) + SUM(BI138:BI186)), 2) -> 0 | I41: 0 | J41: =0 -> 0
D43: Cena s DPH | G43: v | H43: EUR | J43: =SUM(J34:J41) -> 0
D50: Projektant | G50: Spracovateľ
D61: Dátum a podpis: | F61: Pečiatka | G61: Dátum a podpis: | J61: Pečiatka
D65: Objednávateľ | G65: Zhotoviteľ
D76: Dátum a podpis: | F76: Pečiatka | G76: Dátum a podpis: | J76: Pečiatka
C82: REKAPITULÁCIA ROZPOČTU
C84: Stavba:
E85: =E7 -> Rekonštrukcia priestorov UPC - Podhľad zmena 24.4.2026
C86: Objekt:
E87: E.1.1 Architektonicko-stavebné riešenie
C88: Časť:
E89: =E11 -> Hlavná Sála UPeCe - 2NP
C91: Miesto: | F91: =F14 -> Mlynská Dolina, Bratislava | I91: Dátum: | J91: =IF(J14="","",J14) -> 24. 4. 2026
C93: Objednávateľ: | F93: =E17 -> MLYNY UK - Univerzita Komenského v Bratislave Šafárikovo námestie 6 P. O. BOX 440 814 Bratislava 1 | I93: Projektant: | J93: =E23 -> Architektonická kancelária Lubomír Závodný AA
C94: Zhotoviteľ: | F94: =IF(E20="","",E20) -> Vyplň údaj | I94: Spracovateľ: | J94: =E26 -> Rosoft,s.r.o.
C96: Kód dielu - Popis | J96: Cena celkom [EUR]
C98: 1) Náklady z rozpočtu | J98: =J138 -> 0 | AU98: -1
D99: HSV - Práce a dodávky HSV | J99: =J139 -> 0
D100: 4 - Vodorovné konštrukcie | J100: =J140 -> 0
D101: 6 - Úpravy povrchov, podlahy, osadenie | J101: =J148 -> 0
D102: 9 - Ostatné konštrukcie a práce-búranie | J102: =J155 -> 0
D103: 99 - Presun hmôt HSV | J103: =J167 -> 0
D104: PSV - Práce a dodávky PSV | J104: =J169 -> 0
D105: 767 - Konštrukcie doplnkové kovové | J105: =J170 -> 0
D106: 784 - Maľby | J106: =J182 -> 0
C109: 2) Ostatné náklady | J109: =ROUND(J110 + J111 + J112 + J113 + J114 + J115,2) -> 0 | N109: DPH
D110: GZS | J110: 0 | N110: znížená | AY110: VRN | BE110: =IF(N110="základná",J110,0) -> 0 | BF110: =IF(N110="znížená",J110,0) -> 0 | BG110: =IF(N110="zákl. prenesená",J110,0) -> 0 | BH110: =IF(N110="zníž. prenesená",J110,0) -> 0 | BI110: =IF(N110="nulová",J110,0) -> 0 | BJ110: 2
D111: Projektové práce | J111: 0 | N111: znížená | AY111: VRN | BE111: =IF(N111="základná",J111,0) -> 0 | BF111: =IF(N111="znížená",J111,0) -> 0 | BG111: =IF(N111="zákl. prenesená",J111,0) -> 0 | BH111: =IF(N111="zníž. prenesená",J111,0) -> 0 | BI111: =IF(N111="nulová",J111,0) -> 0 | BJ111: 2
D112: Sťažené podmienky | J112: 0 | N112: znížená | AY112: VRN | BE112: =IF(N112="základná",J112,0) -> 0 | BF112: =IF(N112="znížená",J112,0) -> 0 | BG112: =IF(N112="zákl. prenesená",J112,0) -> 0 | BH112: =IF(N112="zníž. prenesená",J112,0) -> 0 | BI112: =IF(N112="nulová",J112,0) -> 0 | BJ112: 2
D113: Vplyv prostredia | J113: 0 | N113: znížená | AY113: VRN | BE113: =IF(N113="základná",J113,0) -> 0 | BF113: =IF(N113="znížená",J113,0) -> 0 | BG113: =IF(N113="zákl. prenesená",J113,0) -> 0 | BH113: =IF(N113="zníž. prenesená",J113,0) -> 0 | BI113: =IF(N113="nulová",J113,0) -> 0 | BJ113: 2
D114: Iné VRN | J114: 0 | N114: znížená | AY114: VRN | BE114: =IF(N114="základná",J114,0) -> 0 | BF114: =IF(N114="znížená",J114,0) -> 0 | BG114: =IF(N114="zákl. prenesená",J114,0) -> 0 | BH114: =IF(N114="zníž. prenesená",J114,0) -> 0 | BI114: =IF(N114="nulová",J114,0) -> 0 | BJ114: 2
D115: Kompletačná činnosť | J115: =ROUND(J32*T115,2) -> 0 | N115: znížená | AY115: KOMPLETACNA | BE115: =IF(N115="základná",J115,0) -> 0 | BF115: =IF(N115="znížená",J115,0) -> 0 | BG115: =IF(N115="zákl. prenesená",J115,0) -> 0 | BH115: =IF(N115="zníž. prenesená",J115,0) -> 0 | BI115: =IF(N115="nulová",J115,0) -> 0 | BJ115: 2
C117: Celkové náklady za stavbu 1) + 2) | J117: =ROUND(J98+J109,2) -> 0
C123: ROZPOČET
C125: Stavba:
E126: =E7 -> Rekonštrukcia priestorov UPC - Podhľad zmena 24.4.2026
C127: Objekt:
E128: E.1.1 Architektonicko-stavebné riešenie
C129: Časť:
E130: =E11 -> Hlavná Sála UPeCe - 2NP
C132: Miesto: | F132: =F14 -> Mlynská Dolina, Bratislava | I132: Dátum: | J132: =IF(J14="","",J14) -> 24. 4. 2026
C134: Objednávateľ: | F134: =E17 -> MLYNY UK - Univerzita Komenského v Bratislave Šafárikovo námestie 6 P. O. BOX 440 814 Bratislava 1 | I134: Projektant: | J134: =E23 -> Architektonická kancelária Lubomír Závodný AA
C135: Zhotoviteľ: | F135: =IF(E20="","",E20) -> Vyplň údaj | I135: Spracovateľ: | J135: =E26 -> Rosoft,s.r.o.
C137: PČ | D137: Typ | E137: Kód | F137: Popis | G137: MJ | H137: Množstvo | I137: J.cena [EUR] | J137: Cena celkom [EUR] | K137: Cenová sústava | N137: DPH | O137: J. Nh [h] | P137: Nh celkom [h] | Q137: J. hmotnosť [t] | R137: Hmotnosť celkom [t] | S137: J. suť [t] | T137: Suť Celkom [t]
C138: Náklady z rozpočtu | J138: =BK138 -> 0 | P138: =P139+P169 -> 0 | R138: =R139+R169 -> 12.419106 | T138: =T139+T169 -> 0 | AT138: D | AU138: -1 | BK138: =BK139+BK169 -> 0
D139: D | E139: HSV | F139: Práce a dodávky HSV | J139: =BK139 -> 0 | P139: =P140+P148+P155+P167 -> 0 | R139: =R140+R148+R155+R167 -> 7.0110514 | T139: =T140+T148+T155+T167 -> 0 | AR139: 1 | AT139: D | AU139: 0 | AY139: ROZPOCET | BK139: =BK140+BK148+BK155+BK167 -> 0
D140: D | E140: 4 | F140: Vodorovné konštrukcie | J140: =BK140 -> 0 | P140: =SUM(P141:P147) -> 0 | R140: =SUM(R141:R147) -> 2.28596 | T140: =SUM(T141:T147) -> 0 | AR140: 1 | AT140: D | AU140: 1 | AY140: ROZPOCET | BK140: =SUM(BK141:BK147) -> 0
C141: 1 | D141: K | E141: 4113885885x | F141: Vyspravenie poľa rebierkovej nosnej strešnej konštrukcie, vrátane odstránenia poškodených častí betónu,presun sute vrámci staveniska a následný odvoz na skladádku a jej uloženie v zmysle platnej legislatívy | G141: ks | H141: 1 | J141: =ROUND(I141*H141,2) -> 0 | N141: znížená | P141: =O141*H141 -> 0 | Q141: 2.28596 | R141: =Q141*H141 -> 2.28596 | S141: 0 | T141: =S141*H141 -> 0 | AR141: 4 | AT141: K | AU141: 2 | AY141: ROZPOCET | BE141: =IF(N141="základná",J141,0) -> 0 | BF141: =IF(N141="znížená",J141,0) -> 0 | BG141: =IF(N141="zákl. prenesená",J141,0) -> 0 | BH141: =IF(N141="zníž. prenesená",J141,0) -> 0 | BI141: =IF(N141="nulová",J141,0) -> 0 | BJ141: 2 | BK141: =ROUND(I141*H141,2) -> 0 | BL141: 4 | BM141: 990662406
D142: VV | F142: v jednotkovej cene položky sú zarátané: | AT142: VV | AU142: 2 | AV142: 1 | AW142: True | AX142: 0 | AY142: ROZPOCET
D143: VV | F143: - odstránenie poškodených častí betónu | AT143: VV | AU143: 2 | AV143: 1 | AW143: True | AX143: 0 | AY143: ROZPOCET
D144: VV | F144: - očistenie a ošetrenie obnaženej výstuže náterom ekvivalent SIKA Monotop 610 v dvoch vrstvách | AT144: VV | AU144: 2 | AV144: 1 | AW144: True | AX144: 0 | AY144: ROZPOCET
D145: VV | F145: - doplnenie betónu reprofilačnou maltou ekvivalent SIKA REP. v zmysle PD | AT145: VV | AU145: 2 | AV145: 1 | AW145: True | AX145: 0 | AY145: ROZPOCET
D146: VV | F146: - presun sute vrámci staveniska a následný odvoz na skladádku a jej uloženie v zmysle platnej legislatívy | AT146: VV | AU146: 2 | AV146: 1 | AW146: True | AX146: 0 | AY146: ROZPOCET
D147: VV | F147: 1 | H147: 1 | AT147: VV | AU147: 2 | AV147: 2 | AW147: True | AX147: 1 | AY147: ROZPOCET
D148: D | E148: 6 | F148: Úpravy povrchov, podlahy, osadenie | J148: =BK148 -> 0 | P148: =SUM(P149:P154) -> 0 | R148: =SUM(R149:R154) -> 0.2385 | T148: =SUM(T149:T154) -> 0 | AR148: 1 | AT148: D | AU148: 1 | AY148: ROZPOCET | BK148: =SUM(BK149:BK154) -> 0
C149: 2 | D149: K | E149: 612460121.S | F149: Príprava vnútorného podkladu stien penetráciou základnou | G149: m2 | H149: 10 | J149: =ROUND(I149*H149,2) -> 0 | N149: znížená | P149: =O149*H149 -> 0 | Q149: 0.000225 | R149: =Q149*H149 -> 0.00225 | S149: 0 | T149: =S149*H149 -> 0 | AR149: 4 | AT149: K | AU149: 2 | AY149: ROZPOCET | BE149: =IF(N149="základná",J149,0) -> 0 | BF149: =IF(N149="znížená",J149,0) -> 0 | BG149: =IF(N149="zákl. prenesená",J149,0) -> 0 | BH149: =IF(N149="zníž. prenesená",J149,0) -> 0 | BI149: =IF(N149="nulová",J149,0) -> 0 | BJ149: 2 | BK149: =ROUND(I149*H149,2) -> 0 | BL149: 4 | BM149: 952528437
C150: 3 | D150: K | E150: 612460242.S | F150: Vnútorná omietka stien vápennocementová jadrová (hrubá), hr. 15 mm | G150: m2 | H150: 10 | J150: =ROUND(I150*H150,2) -> 0 | N150: znížená | P150: =O150*H150 -> 0 | Q150: 0.023625 | R150: =Q150*H150 -> 0.23625 | S150: 0 | T150: =S150*H150 -> 0 | AR150: 4 | AT150: K | AU150: 2 | AY150: ROZPOCET | BE150: =IF(N150="základná",J150,0) -> 0 | BF150: =IF(N150="znížená",J150,0) -> 0 | BG150: =IF(N150="zákl. prenesená",J150,0) -> 0 | BH150: =IF(N150="zníž. prenesená",J150,0) -> 0 | BI150: =IF(N150="nulová",J150,0) -> 0 | BJ150: 2 | BK150: =ROUND(I150*H150,2) -> 0 | BL150: 4 | BM150: 1065499040
D151: VV | F151: "doplnenie omietky po ostránení v zatečených miestach nad podhľadom presný rozsah sa určí po odstránení existujúceho podhľadu | AT151: VV | AU151: 2 | AV151: 1 | AW151: True | AX151: 0 | AY151: ROZPOCET
D152: VV | F152: "predpoklad 10x1m2 | AT152: VV | AU152: 2 | AV152: 1 | AW152: True | AX152: 0 | AY152: ROZPOCET
D153: VV | F153: 10 | H153: 10 | AT153: VV | AU153: 2 | AV153: 2 | AW153: True | AX153: 1 | AY153: ROZPOCET
D154: VV | F154: "vrátane napojenia na existujúcu omietku, všetkých potrebných profilov podľa technologického predpisu a prípadnej prípravy podkladu | AT154: VV | AU154: 2 | AV154: 1 | AW154: True | AX154: 0 | AY154: ROZPOCET
D155: D | E155: 9 | F155: Ostatné konštrukcie a práce-búranie | J155: =BK155 -> 0 | P155: =SUM(P156:P166) -> 0 | R155: =SUM(R156:R166) -> 4.4865914 | T155: =SUM(T156:T166) -> 0 | AR155: 1 | AT155: D | AU155: 1 | AY155: ROZPOCET | BK155: =SUM(BK156:BK166) -> 0
C156: 4 | D156: K | E156: 9419550055x | F156: Lešenie ľahké pracovné pomocné s výškou lešeňovej podlahy nad 3,5 do 7,5 m / pojazdná pološina | G156: m2 | H156: 720.25 | J156: =ROUND(I156*H156,2) -> 0 | N156: znížená | P156: =O156*H156 -> 0 | Q156: 0.00618134 | R156: =Q156*H156 -> 4.4521101 | S156: 0 | T156: =S156*H156 -> 0 | AR156: 4 | AT156: K | AU156: 2 | AY156: ROZPOCET | BE156: =IF(N156="základná",J156,0) -> 0 | BF156: =IF(N156="znížená",J156,0) -> 0 | BG156: =IF(N156="zákl. prenesená",J156,0) -> 0 | BH156: =IF(N156="zníž. prenesená",J156,0) -> 0 | BI156: =IF(N156="nulová",J156,0) -> 0 | BJ156: 2 | BK156: =ROUND(I156*H156,2) -> 0 | BL156: 4 | BM156: -762971467
D157: VV | F157: "plocha podhľadu | AT157: VV | AU157: 2 | AV157: 1 | AW157: True | AX157: 0 | AY157: ROZPOCET
D158: VV | F158: (3,5+6*5)*(3,5+6*3) | H158: 720.25 | AT158: VV | AU158: 2 | AV158: 2 | AW158: True | AX158: 1 | AY158: ROZPOCET
D159: VV | F159: "dodávateľ nacení podľa vlasných možností, respektíve POV | AT159: VV | AU159: 2 | AV159: 1 | AW159: True | AX159: 0 | AY159: ROZPOCET
C160: 5 | D160: K | E160: 952901114.S | F160: Vyčistenie budov pri výške podlaží nad 4 m | G160: m2 | H160: 703.7 | J160: =ROUND(I160*H160,2) -> 0 | N160: znížená | P160: =O160*H160 -> 0 | Q160: 4.9e-05 | R160: =Q160*H160 -> 0.0344813 | S160: 0 | T160: =S160*H160 -> 0 | AR160: 4 | AT160: K | AU160: 2 | AY160: ROZPOCET | BE160: =IF(N160="základná",J160,0) -> 0 | BF160: =IF(N160="znížená",J160,0) -> 0 | BG160: =IF(N160="zákl. prenesená",J160,0) -> 0 | BH160: =IF(N160="zníž. prenesená",J160,0) -> 0 | BI160: =IF(N160="nulová",J160,0) -> 0 | BJ160: 2 | BK160: =ROUND(I160*H160,2) -> 0 | BL160: 4 | BM160: -1676203211
C161: 8 | D161: K | E161: 979081111.S | F161: Odvoz sutiny a vybúraných hmôt na skládku do 1 km | G161: t | H161: 3.601 | J161: =ROUND(I161*H161,2) -> 0 | N161: znížená | P161: =O161*H161 -> 0 | Q161: 0 | R161: =Q161*H161 -> 0 | S161: 0 | T161: =S161*H161 -> 0 | AR161: 4 | AT161: K | AU161: 2 | AY161: ROZPOCET | BE161: =IF(N161="základná",J161,0) -> 0 | BF161: =IF(N161="znížená",J161,0) -> 0 | BG161: =IF(N161="zákl. prenesená",J161,0) -> 0 | BH161: =IF(N161="zníž. prenesená",J161,0) -> 0 | BI161: =IF(N161="nulová",J161,0) -> 0 | BJ161: 2 | BK161: =ROUND(I161*H161,2) -> 0 | BL161: 4 | BM161: -892699251
C162: 9 | D162: K | E162: 979081121.S | F162: Odvoz sutiny a vybúraných hmôt na skládku za každý ďalší 1 km | G162: t | H162: 103.094 | J162: =ROUND(I162*H162,2) -> 0 | N162: znížená | P162: =O162*H162 -> 0 | Q162: 0 | R162: =Q162*H162 -> 0 | S162: 0 | T162: =S162*H162 -> 0 | AR162: 4 | AT162: K | AU162: 2 | AY162: ROZPOCET | BE162: =IF(N162="základná",J162,0) -> 0 | BF162: =IF(N162="znížená",J162,0) -> 0 | BG162: =IF(N162="zákl. prenesená",J162,0) -> 0 | BH162: =IF(N162="zníž. prenesená",J162,0) -> 0 | BI162: =IF(N162="nulová",J162,0) -> 0 | BJ162: 2 | BK162: =ROUND(I162*H162,2) -> 0 | BL162: 4 | BM162: -1666979007
C163: 12 | D163: K | E163: 979087213.S | F163: Nakladanie na dopravné prostriedky pre vodorovnú dopravu vybúraných hmôt | G163: t | H163: 3.601 | J163: =ROUND(I163*H163,2) -> 0 | N163: znížená | P163: =O163*H163 -> 0 | Q163: 0 | R163: =Q163*H163 -> 0 | S163: 0 | T163: =S163*H163 -> 0 | AR163: 4 | AT163: K | AU163: 2 | AY163: ROZPOCET | BE163: =IF(N163="základná",J163,0) -> 0 | BF163: =IF(N163="znížená",J163,0) -> 0 | BG163: =IF(N163="zákl. prenesená",J163,0) -> 0 | BH163: =IF(N163="zníž. prenesená",J163,0) -> 0 | BI163: =IF(N163="nulová",J163,0) -> 0 | BJ163: 2 | BK163: =ROUND(I163*H163,2) -> 0 | BL163: 4 | BM163: -1514628757
D164: VV | F164: "naloženie sute uloženej na kope z búracích prác podhľadu | AT164: VV | AU164: 2 | AV164: 1 | AW164: True | AX164: 0 | AY164: ROZPOCET
...
