Workbook

Sheet Rekapitulace stavby
A1: Export Komplet | BA1: 2.0 | BB1: ZAMOK | BT1: False | BU1: False | BV1: {f94d37d3-7a45-4f0f-91c2-8075eb0115b4}
BS2: 0,01 | BT2: 21
BS3: 0,01 | BT3: 12
D4: REKAPITULACE STAVBY | AS4: v --- níže se nacházejí doplnkové a pomocné údaje k sestavám --- v | BE4: Návod na vyplnění | BS4: 0,001
D5: Kód: | K5: MOKA | BE5: Měnit lze pouze buňky se žlutým podbarvením!_x000D_ _x000D_ 1) na prvním listu Rekapitulace stavby vyplňte v sestavě_x000D_ _x000D_ a) Souhrnný list_x000D_ - údaje o Uchazeči_x000D_ (přenesou se do ostatních sestav i v jiných listech)_x000D_ _x000D_ b) Rekapitulace objektů_x000D_ - potřebné Ostatní náklady_x000D_ _x000D_ 2) na vybraných listech vyplňte v sestavě_x000D_ _x000D_ a) Krycí list_x000D_ - údaje o Uchazeči, pokud se liší od údajů o Uchazeči na Souhrnném listu_x000D_ (údaje se přenesou do ostatních sestav v daném listu)_x000D_ _x000D_ b) Rekapitulace rozpočtu_x000D_ - potřebné Ostatní náklady_x000D_ _x000D_ c) Celkové náklady za stavbu_x000D_ - ceny u položek_x000D_ - množství, pokud má žluté podbarvení_x000D_ - a v případě potřeby poznámku (ta je ve skrytém sloupci) | BS5: 0,01
D6: Stavba: | K6: Zázemí dopravního hřiště Pelhřimov | BS6: 0,01
D7: KSO: | AK7: CC-CZ: | BS7: 0,01
D8: Místo: | K8: par. č. 3138/2 k.u. Pelhřimov [718912] | AK8: Datum: | AN8: 7. 9. 2026 | BS8: 0,01
BS9: 0,01
D10: Zadavatel: | AK10: IČ: | AN10: 71235701 | BS10: 0,01
E11: Dům dětí a mládeže Pelhřimov, příspěvková org. | AK11: DIČ: | BS11: 0,01
BS12: 0,01
D13: Uchazeč: | AK13: IČ: | AN13: Vyplň údaj | BS13: 0,01
E14: Vyplň údaj | AK14: DIČ: | AN14: Vyplň údaj | BS14: 0,01
BS15: False
D16: Projektant: | AK16: IČ: | AN16: 09498729 | BS16: False
E17: MOKA atelier s.r.o. | AK17: DIČ: | BS17: True
BS18: 0,01
D19: Zpracovatel: | AK19: IČ: | AN19: 09498729 | BS19: 0,01
E20: MOKA atelier s.r.o. | AK20: DIČ: | BS20: True
D22: Poznámka:
E23: Soupis prací je sestaven s využitím Cenové soustavy ÚRS. Položky, které pochází z této cenové soustavy, jsou ve sloupci 'Cenová soustava' označeny popisem 'CS ÚRS' a úrovní příslušného kalendářního pololetí. Veškeré další informace vymezující popis a podmínky použití těchto položek z Cenové soustavy, které nejsou uvedeny přímo v soupisu prací, jsou neomezeně dálkově k dispozici na webu podminky.urs.cz.
D26: Cena bez DPH | AK26: =ROUND(AG94,2) -> 0
L28: Sazba daně | W28: Základ daně | AK28: Výše daně
D29: DPH | F29: základní | L29: 0.21 | W29: =ROUND(AZ94, 2) -> 0 | AK29: =ROUND(AV94, 2) -> 0
F30: snížená | L30: 0.12 | W30: =ROUND(BA94, 2) -> 0 | AK30: =ROUND(AW94, 2) -> 0
F31: zákl. přenesená | L31: 0.21 | W31: =ROUND(BB94, 2) -> 0 | AK31: 0
F32: sníž. přenesená | L32: 0.12 | W32: =ROUND(BC94, 2) -> 0 | AK32: 0
F33: nulová | L33: 0 | W33: =ROUND(BD94, 2) -> 0 | AK33: 0
D35: Cena s DPH | T35: v | X35: CZK | AK35: =SUM(AK26:AK33) -> 0
D49: Projektant | AH49: Zpracovatel
D60: Datum a podpis: | V60: Razítko | AH60: Datum a podpis: | AM60: Razítko
D64: Objednavatel | AH64: Uchazeč
D75: Datum a podpis: | V75: Razítko | AH75: Datum a podpis: | AM75: Razítko
C82: REKAPITULACE OBJEKTŮ STAVBY A SOUPISŮ PRACÍ
C84: Kód: | L84: =K5 -> MOKA
C85: Stavba: | L85: =K6 -> Zázemí dopravního hřiště Pelhřimov
C87: Místo: | L87: =IF(K8="","",K8) -> par. č. 3138/2 k.u. Pelhřimov [718912] | AI87: Datum: | AM87: =IF(AN8= "","",AN8) -> 7. 9. 2026
C89: Zadavatel: | L89: =IF(E11= "","",E11) -> Dům dětí a mládeže Pelhřimov, příspěvková org. | AI89: Projektant: | AM89: =IF(E17="","",E17) -> MOKA atelier s.r.o. | AS89: Informatívní údaje z listů zakázek
C90: Uchazeč: | L90: =IF(E14= "Vyplň údaj","",E14) | AI90: Zpracovatel: | AM90: =IF(E20="","",E20) -> MOKA atelier s.r.o.
C92: Kód | I92: Popis | AG92: Cena bez DPH [CZK] | AN92: Cena s DPH [CZK] | AQ92: Typ | AS92: z toho Ostat._x000D_ náklady [CZK] | AT92: DPH [CZK] | AU92: Normohodiny [h] | AV92: DPH základní [CZK] | AW92: DPH snížená [CZK] | AX92: DPH základní přenesená_x000D_ [CZK] | AY92: DPH snížená přenesená_x000D_ [CZK] | AZ92: Základna_x000D_ DPH základní | BA92: Základna_x000D_ DPH snížená | BB92: Základna_x000D_ DPH zákl. přenesená | BC92: Základna_x000D_ DPH sníž. přenesená | BD92: Základna_x000D_ DPH nulová
C94: Náklady z rozpočtů | AG94: =ROUND(AG95,2) -> 0 | AN94: =SUM(AG94,AT94) -> 0 | AS94: =ROUND(AS95,2) -> 0 | AT94: =ROUND(SUM(AV94:AW94),2) -> 0 | AU94: =ROUND(AU95,5) -> 0 | AV94: =ROUND(AZ94*L29,2) -> 0 | AW94: =ROUND(BA94*L30,2) -> 0 | AX94: =ROUND(BB94*L29,2) -> 0 | AY94: =ROUND(BC94*L30,2) -> 0 | AZ94: =ROUND(AZ95,2) -> 0 | BA94: =ROUND(BA95,2) -> 0 | BB94: =ROUND(BB95,2) -> 0 | BC94: =ROUND(BC95,2) -> 0 | BD94: =ROUND(BD95,2) -> 0 | BS94: D | BT94: 0 | BU94: ###NOIMPORT### | BV94: IMPORT | BW94: {f94d37d3-7a45-4f0f-91c2-8075eb0115b4} | BX94: {00000000-0000-0000-0000-000000000000}
A95: / | D95: 01 | J95: Novostavba zázemí pro návštěvníky dopravního hřiště | AG95: ='01 - Novostavba zázemí pr...'!J32 -> 0 | AN95: =SUM(AG95,AT95) -> 0 | AQ95: STA | AS95: 0 | AT95: =ROUND(SUM(AV95:AW95),2) -> 0 | AU95: ='01 - Novostavba zázemí pr...'!P147 -> 0 | AV95: ='01 - Novostavba zázemí pr...'!J35 -> 0 | AW95: ='01 - Novostavba zázemí pr...'!J36 -> 0 | AX95: ='01 - Novostavba zázemí pr...'!J37 -> 0 | AY95: ='01 - Novostavba zázemí pr...'!J38 -> 0 | AZ95: ='01 - Novostavba zázemí pr...'!F35 -> 0 | BA95: ='01 - Novostavba zázemí pr...'!F36 -> 0 | BB95: ='01 - Novostavba zázemí pr...'!F37 -> 0 | BC95: ='01 - Novostavba zázemí pr...'!F38 -> 0 | BD95: ='01 - Novostavba zázemí pr...'!F39 -> 0 | BT95: 1 | BV95: IMPORT | BW95: {15447d44-1308-4955-aed9-310e68f98efa} | BX95: {f94d37d3-7a45-4f0f-91c2-8075eb0115b4} | CM95: 2

Sheet 01 - Novostavba zázemí pr...
AT2: {15447d44-1308-4955-aed9-310e68f98efa} | AZ2: PATKY | BA2: Základové patky C25/30 | BB2: m3 | BC2: 1,08 | BD2: 3
AT3: 2 | AZ3: PODLAHOVA_PLOCHA | BA3: Podlahová plocha (skladba VO 1.1) | BB3: m2 | BC3: 60,97 | BD3: 3
D4: KRYCÍ LIST SOUPISU PRACÍ | M4: v --- níže se nacházejí doplnkové a pomocné údaje k sestavám --- v | AT4: False | AZ4: PRICKY | BA4: Příčky z prefabrikovaných sendvičových panelů s izolačním jádrem z PUR pěny | BB4: m2 | BC4: 10,47 | BD4: 3
AZ5: SDK_OBKLAD | BA5: Obložení SDK deskou protipožární | BB5: m2 | BC5: 42,838 | BD5: 3
D6: Stavba: | AZ6: VSAK | BA6: Výkop pro podzemní vsakovací boxy | BB6: m3 | BC6: 1,728 | BD6: 3
E7: ='Rekapitulace stavby'!K6 -> Zázemí dopravního hřiště Pelhřimov | AZ7: VYKOPY | BA7: Odkopávky pro založení objektu | BB7: m3 | BC7: 72,72 | BD7: 3
D8: Objekt: | AZ8: ZASYP | BA8: Zásypy | BB8: m3 | BC8: 37,44 | BD8: 3
E9: 01 - Novostavba zázemí pro návštěvníky dopravního hřiště | AZ9: ZTRAC_BED | BA9: Nadzákladové zdi ze ztraceného bednění | BB9: m2 | BC9: 11,25 | BD9: 3
AZ10: RYHY | BA10: Rýhy pro el. přípojku a venkovní kanalizaci | BB10: m3 | BC10: 32,57 | BD10: 3
D11: KSO: | I11: CC-CZ: | AZ11: ZASYP_RYHY | BA11: Zásyp rýh pro el. přípojku a venkovní kanalizaci | BB11: m3 | BC11: 18,65 | BD11: 3
D12: Místo: | F12: par. č. 3138/2 k.u. Pelhřimov [718912] | I12: Datum: | J12: ='Rekapitulace stavby'!AN8 -> 7. 9. 2026
D14: Zadavatel: | I14: IČ: | J14: 71235701
E15: Dům dětí a mládeže Pelhřimov, příspěvková org. | I15: DIČ:
D17: Uchazeč: | I17: IČ: | J17: ='Rekapitulace stavby'!AN13 -> Vyplň údaj
E18: ='Rekapitulace stavby'!E14 -> Vyplň údaj | I18: DIČ: | J18: ='Rekapitulace stavby'!AN14 -> Vyplň údaj
D20: Projektant: | I20: IČ: | J20: 09498729
E21: MOKA atelier s.r.o. | I21: DIČ:
D23: Zpracovatel: | I23: IČ: | J23: 09498729
E24: MOKA atelier s.r.o. | I24: DIČ:
D26: Poznámka:
D30: Náklady z rozpočtu | J30: =J96 -> 0
D31: Ostatní náklady | J31: =J120 -> 0
D32: Cena bez DPH | J32: =ROUND(J30 + J31, 2) -> 0
F34: Základ daně | I34: Sazba daně | J34: Výše daně
D35: DPH | E35: základní | F35: =ROUND((SUM(BE120:BE127) + SUM(BE147:BE699)), 2) -> 0 | I35: 0.21 | J35: =ROUND(((SUM(BE120:BE127) + SUM(BE147:BE699))*I35), 2) -> 0
E36: snížená | F36: =ROUND((SUM(BF120:BF127) + SUM(BF147:BF699)), 2) -> 0 | I36: 0.12 | J36: =ROUND(((SUM(BF120:BF127) + SUM(BF147:BF699))*I36), 2) -> 0
E37: zákl. přenesená | F37: =ROUND((SUM(BG120:BG127) + SUM(BG147:BG699)), 2) -> 0 | I37: 0.21 | J37: =0 -> 0
E38: sníž. přenesená | F38: =ROUND((SUM(BH120:BH127) + SUM(BH147:BH699)), 2) -> 0 | I38: 0.12 | J38: =0 -> 0
E39: nulová | F39: =ROUND((SUM(BI120:BI127) + SUM(BI147:BI699)), 2) -> 0 | I39: 0 | J39: =0 -> 0
D41: Cena s DPH | G41: v | H41: CZK | J41: =SUM(J32:J39) -> 0
D50: Projektant | G50: Zpracovatel
D61: Datum a podpis: | F61: Razítko | G61: Datum a podpis: | J61: Razítko
D65: Objednavatel | G65: Uchazeč
D76: Datum a podpis: | F76: Razítko | G76: Datum a podpis: | J76: Razítko
C82: REKAPITULACE ČLENĚNÍ SOUPISU PRACÍ
C84: Stavba:
E85: =E7 -> Zázemí dopravního hřiště Pelhřimov
C86: Objekt:
E87: =E9 -> 01 - Novostavba zázemí pro návštěvníky dopravního hřiště
C89: Místo: | F89: =F12 -> par. č. 3138/2 k.u. Pelhřimov [718912] | I89: Datum: | J89: =IF(J12="","",J12) -> 7. 9. 2026
C91: Zadavatel: | F91: =E15 -> Dům dětí a mládeže Pelhřimov, příspěvková org. | I91: Projektant: | J91: =E21 -> MOKA atelier s.r.o.
C92: Uchazeč: | F92: =IF(E18="","",E18) -> Vyplň údaj | I92: Zpracovatel: | J92: =E24 -> MOKA atelier s.r.o.
C94: Kód dílu - Popis | J94: Cena celkem [CZK]
C96: 1) Náklady ze soupisu prací | J96: =J147 -> 0 | AU96: -1
D97: HSV - Práce a dodávky HSV | J97: =J148 -> 0
D98: 1 - Zemní práce | J98: =J149 -> 0
D99: 2 - Zakládání | J99: =J268 -> 0
D100: 3 - Svislé a kompletní konstrukce | J100: =J298 -> 0
D101: 5 - Komunikace pozemní | J101: =J330 -> 0
D102: 6 - Úpravy povrchů, podlahy a osazování výplní | J102: =J339 -> 0
D103: 8 - Vedení trubní dálková a přípojná | J103: =J350 -> 0
D104: 9 - Ostatní konstrukce a práce, bourání | J104: =J368 -> 0
D105: 997 - Doprava suti a vybouraných hmot | J105: =J376 -> 0
D106: 998 - Přesun hmot | J106: =J397 -> 0
D107: PSV - Práce a dodávky PSV | J107: =J400 -> 0
D108: 713 - Izolace tepelné | J108: =J401 -> 0
D109: 741 - Elektroinstalace - silnoproud | J109: =J415 -> 0
D110: 762 - Konstrukce tesařské | J110: =J553 -> 0
D111: 763 - Konstrukce suché výstavby | J111: =J564 -> 0
D112: 764 - Konstrukce klempířské | J112: =J592 -> 0
D113: 766 - Konstrukce truhlářské | J113: =J613 -> 0
D114: 776 - Podlahy povlakové | J114: =J652 -> 0
D115: 784 - Dokončovací práce - malby a tapety | J115: =J674 -> 0
D116: M - Práce a dodávky M | J116: =J686 -> 0
D117: 46-M - Zemní práce při extr.mont.pracích | J117: =J687 -> 0
C120: 2) Ostatní náklady | J120: =ROUND(J121 + J122 + J123 + J124 + J125 + J126,2) -> 0 | N120: DPH
D121: Zařízení staveniště | J121: 0 | N121: základní | AY121: VRN | BE121: =IF(N121="základní",J121,0) -> 0 | BF121: =IF(N121="snížená",J121,0) -> 0 | BG121: =IF(N121="zákl. přenesená",J121,0) -> 0 | BH121: =IF(N121="sníž. přenesená",J121,0) -> 0 | BI121: =IF(N121="nulová",J121,0) -> 0 | BJ121: 1
D122: Projektové práce | J122: 0 | N122: základní | AY122: VRN | BE122: =IF(N122="základní",J122,0) -> 0 | BF122: =IF(N122="snížená",J122,0) -> 0 | BG122: =IF(N122="zákl. přenesená",J122,0) -> 0 | BH122: =IF(N122="sníž. přenesená",J122,0) -> 0 | BI122: =IF(N122="nulová",J122,0) -> 0 | BJ122: 1
D123: Územní vlivy | J123: 0 | N123: základní | AY123: VRN | BE123: =IF(N123="základní",J123,0) -> 0 | BF123: =IF(N123="snížená",J123,0) -> 0 | BG123: =IF(N123="zákl. přenesená",J123,0) -> 0 | BH123: =IF(N123="sníž. přenesená",J123,0) -> 0 | BI123: =IF(N123="nulová",J123,0) -> 0 | BJ123: 1
D124: Provozní vlivy | J124: 0 | N124: základní | AY124: VRN | BE124: =IF(N124="základní",J124,0) -> 0 | BF124: =IF(N124="snížená",J124,0) -> 0 | BG124: =IF(N124="zákl. přenesená",J124,0) -> 0 | BH124: =IF(N124="sníž. přenesená",J124,0) -> 0 | BI124: =IF(N124="nulová",J124,0) -> 0 | BJ124: 1
D125: Jiné VRN | J125: 0 | N125: základní | AY125: VRN | BE125: =IF(N125="základní",J125,0) -> 0 | BF125: =IF(N125="snížená",J125,0) -> 0 | BG125: =IF(N125="zákl. přenesená",J125,0) -> 0 | BH125: =IF(N125="sníž. přenesená",J125,0) -> 0 | BI125: =IF(N125="nulová",J125,0) -> 0 | BJ125: 1
D126: Kompletační činnost | J126: =ROUND(J30*T126,2) -> 0 | N126: základní | AY126: KOMPLETACNA | BE126: =IF(N126="základní",J126,0) -> 0 | BF126: =IF(N126="snížená",J126,0) -> 0 | BG126: =IF(N126="zákl. přenesená",J126,0) -> 0 | BH126: =IF(N126="sníž. přenesená",J126,0) -> 0 | BI126: =IF(N126="nulová",J126,0) -> 0 | BJ126: 1
C128: Celkové náklady za stavbu 1) + 2) | J128: =ROUND(J96+J120,2) -> 0
C134: SOUPIS PRACÍ
C136: Stavba:
E137: =E7 -> Zázemí dopravního hřiště Pelhřimov
C138: Objekt:
E139: =E9 -> 01 - Novostavba zázemí pro návštěvníky dopravního hřiště
C141: Místo: | F141: =F12 -> par. č. 3138/2 k.u. Pelhřimov [718912] | I141: Datum: | J141: =IF(J12="","",J12) -> 7. 9. 2026
C143: Zadavatel: | F143: =E15 -> Dům dětí a mládeže Pelhřimov, příspěvková org. | I143: Projektant: | J143: =E21 -> MOKA atelier s.r.o.
C144: Uchazeč: | F144: =IF(E18="","",E18) -> Vyplň údaj | I144: Zpracovatel: | J144: =E24 -> MOKA atelier s.r.o.
C146: PČ | D146: Typ | E146: Kód | F146: Popis | G146: MJ | H146: Množství | I146: J.cena [CZK] | J146: Cena celkem [CZK] | K146: Cenová soustava | N146: DPH | O146: J. Nh [h] | P146: Nh celkem [h] | Q146: J. hmotnost [t] | R146: Hmotnost celkem [t] | S146: J. suť [t] | T146: Suť Celkem [t]
C147: Náklady soupisu celkem | J147: =BK147 -> 0 | P147: =P148+P400+P686 -> 0 | R147: =R148+R400+R686 -> 31.464418 | T147: =T148+T400+T686 -> 24.25125 | AT147: D | AU147: -1 | BK147: =BK148+BK400+BK686 -> 0
D148: D | E148: HSV | F148: Práce a dodávky HSV | J148: =BK148 -> 0 | P148: =P149+P268+P298+P330+P339+P350+P368+P376+P397 -> 0 | R148: =R149+R268+R298+R330+R339+R350+R368+R376+R397 -> 28.153603 | T148: =T149+T268+T298+T330+T339+T350+T368+T376+T397 -> 24.25125 | AR148: 1 | AT148: D | AU148: 0 | AY148: ROZPOCET | BK148: =BK149+BK268+BK298+BK330+BK339+BK350+BK368+BK376+BK397 -> 0
D149: D | E149: 1 | F149: Zemní práce | J149: =BK149 -> 0 | P149: =SUM(P150:P267) -> 0 | R149: =SUM(R150:R267) -> 13.602 | T149: =SUM(T150:T267) -> 24.25125 | AR149: 1 | AT149: D | AU149: 1 | AY149: ROZPOCET | BK149: =SUM(BK150:BK267) -> 0
C150: 1 | D150: K | E150: 121151113 | F150: Sejmutí ornice plochy do 500 m2 tl vrstvy do 200 mm strojně | G150: m2 | H150: 246.775 | J150: =ROUND(I150*H150,2) -> 0 | K150: CS ÚRS 2026 02 | N150: základní | P150: =O150*H150 -> 0 | Q150: 0 | R150: =Q150*H150 -> 0 | S150: 0 | T150: =S150*H150 -> 0 | AR150: 4 | AT150: K | AU150: 2 | AY150: ROZPOCET | BE150: =IF(N150="základní",J150,0) -> 0 | BF150: =IF(N150="snížená",J150,0) -> 0 | BG150: =IF(N150="zákl. přenesená",J150,0) -> 0 | BH150: =IF(N150="sníž. přenesená",J150,0) -> 0 | BI150: =IF(N150="nulová",J150,0) -> 0 | BJ150: 1 | BK150: =ROUND(I150*H150,2) -> 0 | BL150: 4 | BM150: -800216035
D151: PP | F151: Sejmutí ornice strojně při souvislé ploše přes 100 do 500 m2, tl. vrstvy do 200 mm | AT151: PP | AU151: 2
D152: VV | F152: "hlavní objekt | AT152: VV | AU152: 2 | AV152: 1 | AW152: True | AX152: 0 | AY152: ROZPOCET
D153: VV | F153: 31,0*5,5 | H153: 170.5 | AT153: VV | AU153: 2 | AV153: 2 | AW153: True | AX153: 0 | AY153: ROZPOCET
D154: VV | F154: "Rýhy pro el. přípojku | AT154: VV | AU154: 2 | AV154: 1 | AW154: True | AX154: 0 | AY154: ROZPOCET
D155: VV | F155: "pod asfaltem" (33,0*1,5) | H155: 49.5 | AT155: VV | AU155: 2 | AV155: 2 | AW155: True | AX155: 0 | AY155: ROZPOCET
D156: VV | F156: "pod chodníkem" (3,35*1,5) | H156: 5.025 | AT156: VV | AU156: 2 | AV156: 2 | AW156: True | AX156: 0 | AY156: ROZPOCET
D157: VV | F157: "pod volným terénem" (14,5*1,5) | H157: 21.75 | AT157: VV | AU157: 2 | AV157: 2 | AW157: True | AX157: 0 | AY157: ROZPOCET
D158: VV | F158: Součet | H158: 246.775 | AT158: VV | AU158: 2 | AV158: 4 | AW158: True | AX158: 1 | AY158: ROZPOCET
C159: 2 | D159: K | E159: 122251103 | F159: Odkopávky a prokopávky nezapažené v hornině třídy těžitelnosti I skupiny 3 objem do 100 m3 strojně | G159: m3 | H159: 74.448 | J159: =ROUND(I159*H159,2) -> 0 | K159: CS ÚRS 2026 02 | N159: základní | P159: =O159*H159 -> 0 | Q159: 0 | R159: =Q159*H159 -> 0 | S159: 0 | T159: =S159*H159 -> 0 | AR159: 4 | AT159: K | AU159: 2 | AY159: ROZPOCET | BE159: =IF(N159="základní",J159,0) -> 0 | BF159: =IF(N159="snížená",J159,0) -> 0 | BG159: =IF(N159="zákl. přenesená",J159,0) -> 0 | BH159: =IF(N159="sníž. přenesená",J159,0) -> 0 | BI159: =IF(N159="nulová",J159,0) -> 0 | BJ159: 1 | BK159: =ROUND(I159*H159,2) -> 0 | BL159: 4 | BM159: 94707438
D160: PP | F160: Odkopávky a prokopávky nezapažené strojně v hornině třídy těžitelnosti I skupiny 3 přes 50 do 100 m3 | AT160: PP | AU160: 2
D161: VV | F161: VYKOPY | H161: 72.72 | AT161: VV | AU161: 2 | AV161: 2 | AW161: True | AX161: 0 | AY161: ROZPOCET
D162: VV | F162: VSAK | H162: 1.728 | AT162: VV | AU162: 2 | AV162: 2 | AW162: True | AX162: 0 | AY162: ROZPOCET
D163: VV | F163: Součet | H163: 74.448 | AT163: VV | AU163: 2 | AV163: 4 | AW163: True | AX163: 1 | AY163: ROZPOCET
D164: FIG | F164: Rozpad figury: VYKOPY | AU164: 2
...

Sheet Seznam figur
C4: SEZNAM FIGUR
C5: Kód: | D5: MOKA
C6: Stavba: | D6: Zázemí dopravního hřiště Pelhřimov
C7: Datum: | D7: ='Rekapitulace stavby'!AN8 -> 7. 9. 2026
C9: Kód | D9: Popis | E9: MJ | F9: Výměra
C10: 01 | D10: Novostavba zázemí pro návštěvníky dopravního hřiště
C11: PATKY | D11: Základové patky C25/30 | E11: m3 | F11: 1.08
D12: "Základové patky C25/30 | F12: 0
D13: "500x400x300, 18 ks | F13: 0
D14: (0,5*0,4*0,3)*18 | F14: 1.08
D15: Součet | F15: 1.08
C16: Použití figury:
C17: 132251101 | D17: Hloubení rýh nezapažených š do 800 mm v hornině třídy těžitelnosti I skupiny 3 objem do 20 m3 strojně | E17: m3 | F17: 33.65
C18: 171251101 | D18: Uložení sypaniny do násypů nezhutněných strojně | E18: m3 | F18: 52.008
C19: 275313711 | D19: Základové patky z betonu tř. C 20/25 | E19: m3 | F19: 1.08
C20: PODLAHOVA_PLOCHA | D20: Podlahová plocha (skladba VO 1.1) | E20: m2 | F20: 60.97
D21: "Podlahová plocha (skladba VO 1.1) | F21: 0
D22: (8,7+43,57+8,7) | F22: 60.97
D23: Součet | F23: 60.97
C24: Použití figury:
C25: 713121111 | D25: Montáž izolace tepelné podlah volně kladenými rohožemi, pásy, dílci, deskami 1 vrstva | E25: m2 | F25: 60.97
C26: 762511153 | D26: Podlahové kce podkladové z cementotřískových desek tl 16 mm na nebroušených na pero a drážku šroubovaných | E26: m2 | F26: 60.97
C27: 776221111 | D27: Lepení pásů z PVC standardním lepidlem | E27: m2 | F27: 60.97
C28: PRICKY | D28: Příčky z prefabrikovaných sendvičových panelů s izolačním jádrem z PUR pěny | E28: m2 | F28: 10.47
D29: "příčky z prefabrikovaných sendvičových panelů s izolačním jádrem z PUR pěny o tloušťce 50 mm | F29: 0
D30: (2,85*2,5)*2 | F30: 14.25
D31: "odpočet otvorů | F31: 0
D32: -(0,9*2,1)*2 | F32: -3.78
D33: Součet | F33: 10.47
C34: Použití figury:
C35: 342151111 | D35: Montáž opláštění stěn ocelových kcí ze sendvičových panelů šroubovaných budov v do 6 m | E35: m2 | F35: 10.47
C36: 55324612X | D36: panel sendvičový stěnový oboustranně profilovaný izolace PUR tl 50mm | E36: m2 | F36: 11.517
C37: RYHY | D37: Rýhy pro el. přípojku a venkovní kanalizaci | E37: m3 | F37: 32.57
D38: "Rýhy pro el. přípojku | F38: 0
D39: "pod asfaltem" (33,0*0,8*0,5) | F39: 13.2
D40: "pod chodníkem" (3,35*0,4*0,5) | F40: 0.67
D41: "pod volným terénem" (14,5*1,2*0,5) | F41: 8.7
D42: "rýhy pro venkovní kanalizaci | F42: 0
D43: (25,0*0,5*0,8) | F43: 10
D44: Součet | F44: 32.57
C45: Použití figury:
C46: 132251101 | D46: Hloubení rýh nezapažených š do 800 mm v hornině třídy těžitelnosti I skupiny 3 objem do 20 m3 strojně | E46: m3 | F46: 33.65
C47: 171251101 | D47: Uložení sypaniny do násypů nezhutněných strojně | E47: m3 | F47: 52.008
C48: SDK_OBKLAD | D48: Obložení SDK deskou protipožární | E48: m2 | F48: 42.838
D49: "Obložení SDK deskou protipožární | F49: 0
D50: "EI 30 DP1 | F50: 0
D51: (21,135*2,5) | F51: 52.838
D52: "odpočet otvorů | F52: 0
D53: -(1,0*1,0*2+1,0*2,0*4) | F53: -10
D54: Součet | F54: 42.838
C55: Použití figury:
C56: 763121622 | D56: Montáž desek tl 15 mm na nosnou kci SDK stěna předsazená | E56: m2 | F56: 42.838
C57: 763121714 | D57: SDK stěna předsazená základní penetrační nátěr | E57: m2 | F57: 42.838
C58: 784211101 | D58: Dvojnásobné bílé malby ze směsí za mokra výborně oděruvzdorných v místnostech v do 3,80 m | E58: m2 | F58: 42.838
C59: VSAK | D59: Výkop pro podzemní vsakovací boxy | E59: m3 | F59: 1.728
D60: "výkop pro podzemní vsakovací boxy | F60: 0
D61: ((1,2*0,6*1,0)*2)*1,2 | F61: 1.728
D62: Součet | F62: 1.728
C63: Použití figury:
C64: 122251103 | D64: Odkopávky a prokopávky nezapažené v hornině třídy těžitelnosti I skupiny 3 objem do 100 m3 strojně | E64: m3 | F64: 74.448
C65: 171251101 | D65: Uložení sypaniny do násypů nezhutněných strojně | E65: m3 | F65: 52.008
C66: VYKOPY | D66: Odkopávky pro založení objektu | E66: m3 | F66: 72.72
D67: "Odkopávky pro založení objektu | F67: 0
D68: (0,91+1,42+0,7)*24,0 | F68: 72.72
D69: Součet | F69: 72.72
C70: Použití figury:
C71: 122251103 | D71: Odkopávky a prokopávky nezapažené v hornině třídy těžitelnosti I skupiny 3 objem do 100 m3 strojně | E71: m3 | F71: 74.448
C72: 171251101 | D72: Uložení sypaniny do násypů nezhutněných strojně | E72: m3 | F72: 52.008
C73: ZASYP | D73: Zásypy | E73: m3 | F73: 37.44
D74: "Zásypy v okolí nadzákladových stěn z tvarovek ze ztraceného bednění | F74: 0
D75: ((0,91-0,35)+(1,42-0,42))*24,0 | F75: 37.44
D76: Součet | F76: 37.44
C77: Použití figury:
C78: 171251101 | D78: Uložení sypaniny do násypů nezhutněných strojně | E78: m3 | F78: 52.008
C79: 174151101 | D79: Zásyp jam, šachet rýh nebo kolem objektů sypaninou se zhutněním | E79: m3 | F79: 56.09
C80: ZASYP_RYHY | D80: Zásyp rýh pro el. přípojku a venkovní kanalizaci | E80: m3 | F80: 18.65
D81: "Zásyp rýh pro el. přípojku | F81: 0
D82: "Rýhy pro el. přípojku | F82: 0
D83: "pod asfaltem" (33,0*0,4*0,5) | F83: 6.6
D84: "pod volným terénem" (14,5*0,8*0,5) | F84: 5.8
D85: "rýhy pro venkovní kanalizaci | F85: 0
D86: (25,0*0,5*0,5) | F86: 6.25
D87: Součet | F87: 18.65
C88: Použití figury:
C89: 171251101 | D89: Uložení sypaniny do násypů nezhutněných strojně | E89: m3 | F89: 52.008
C90: 174151101 | D90: Zásyp jam, šachet rýh nebo kolem objektů sypaninou se zhutněním | E90: m3 | F90: 56.09
C91: ZTRAC_BED | D91: Nadzákladové zdi ze ztraceného bednění | E91: m2 | F91: 11.25
D92: "Nadzákladové zdi ze ztraceného bednění | F92: 0
D93: "nad patkami, tl. 400 mm | F93: 0
D94: (1,25*0,5)*18 | F94: 11.25
D95: Součet | F95: 11.25
C96: Použití figury:
C97: 279113145 | D97: Základová zeď tl přes 300 do 400 mm z tvárnic ztraceného bednění včetně výplně z betonu tř. C 20/25 | E97: m2 | F97: 11.25
C98: 279361821 | D98: Výztuž základových zdí nosných betonářskou ocelí 10 505 | E98: t | F98: 0.18
