Workbook

Sheet Rekapitulace stavby
A1: Export Komplet | BA1: 2.0 | BB1: ZAMOK | BT1: False | BU1: False | BV1: {f94d37d3-7a45-4f0f-91c2-8075eb0115b4}
BS2: 0,01 | BT2: 21
BS3: 0,01 | BT3: 12
D4: REKAPITULACE STAVBY | AS4: v --- níže se nacházejí doplnkové a pomocné údaje k sestavám --- v | BE4: Návod na vyplnění | BS4: 0,001
D5: Kód: | K5: MOKA | BE5: Měnit lze pouze buňky se žlutým podbarvením!_x000D_ _x000D_ 1) na prvním listu Rekapitulace stavby vyplňte v sestavě_x000D_ _x000D_ a) Souhrnný list_x000D_ - údaje o Uchazeči_x000D_ (přenesou se do ostatních sestav i v jiných listech)_x000D_ _x000D_ b) Rekapitulace objektů_x000D_ - potřebné Ostatní náklady_x000D_ _x000D_ 2) na vybraných listech vyplňte v sestavě_x000D_ _x000D_ a) Krycí list_x000D_ - údaje o Uchazeči, pokud se liší od údajů o Uchazeči na Souhrnném listu_x000D_ (údaje se přenesou do ostatních sestav v daném listu)_x000D_ _x000D_ b) Rekapitulace rozpočtu_x000D_ - potřebné Ostatní náklady_x000D_ _x000D_ c) Celkové náklady za stavbu_x000D_ - ceny u položek_x000D_ - množství, pokud má žluté podbarvení_x000D_ - a v případě potřeby poznámku (ta je ve skrytém sloupci) | BS5: 0,01
D6: Stavba: | K6: Zázemí dopravního hřiště Pelhřimov | BS6: 0,01
D7: KSO: | AK7: CC-CZ: | BS7: 0,01
D8: Místo: | K8: par. č. 3138/2 k.u. Pelhřimov [718912] | AK8: Datum: | AN8: 7. 9. 2026 | BS8: 0,01
BS9: 0,01
D10: Zadavatel: | AK10: IČ: | AN10: 71235701 | BS10: 0,01
E11: Dům dětí a mládeže Pelhřimov, příspěvková org. | AK11: DIČ: | BS11: 0,01
BS12: 0,01
D13: Uchazeč: | AK13: IČ: | AN13: Vyplň údaj | BS13: 0,01
E14: Vyplň údaj | AK14: DIČ: | AN14: Vyplň údaj | BS14: 0,01
BS15: False
D16: Projektant: | AK16: IČ: | AN16: 09498729 | BS16: False
E17: MOKA atelier s.r.o. | AK17: DIČ: | BS17: True
BS18: 0,01
D19: Zpracovatel: | AK19: IČ: | AN19: 09498729 | BS19: 0,01
E20: MOKA atelier s.r.o. | AK20: DIČ: | BS20: True
D22: Poznámka:
E23: Soupis prací je sestaven s využitím Cenové soustavy ÚRS. Položky, které pochází z této cenové soustavy, jsou ve sloupci 'Cenová soustava' označeny popisem 'CS ÚRS' a úrovní příslušného kalendářního pololetí. Veškeré další informace vymezující popis a podmínky použití těchto položek z Cenové soustavy, které nejsou uvedeny přímo v soupisu prací, jsou neomezeně dálkově k dispozici na webu podminky.urs.cz.
D26: Cena bez DPH | AK26: =ROUND(AG94,2) -> 0
L28: Sazba daně | W28: Základ daně | AK28: Výše daně
D29: DPH | F29: základní | L29: 0.21 | W29: =ROUND(AZ94, 2) -> 0 | AK29: =ROUND(AV94, 2) -> 0
F30: snížená | L30: 0.12 | W30: =ROUND(BA94, 2) -> 0 | AK30: =ROUND(AW94, 2) -> 0
F31: zákl. přenesená | L31: 0.21 | W31: =ROUND(BB94, 2) -> 0 | AK31: 0
F32: sníž. přenesená | L32: 0.12 | W32: =ROUND(BC94, 2) -> 0 | AK32: 0
F33: nulová | L33: 0 | W33: =ROUND(BD94, 2) -> 0 | AK33: 0
D35: Cena s DPH | T35: v | X35: CZK | AK35: =SUM(AK26:AK33) -> 0
D49: Projektant | AH49: Zpracovatel
D60: Datum a podpis: | V60: Razítko | AH60: Datum a podpis: | AM60: Razítko
D64: Objednavatel | AH64: Uchazeč
D75: Datum a podpis: | V75: Razítko | AH75: Datum a podpis: | AM75: Razítko
C82: REKAPITULACE OBJEKTŮ STAVBY A SOUPISŮ PRACÍ
C84: Kód: | L84: =K5 -> MOKA
C85: Stavba: | L85: =K6 -> Zázemí dopravního hřiště Pelhřimov
C87: Místo: | L87: =IF(K8="","",K8) -> par. č. 3138/2 k.u. Pelhřimov [718912] | AI87: Datum: | AM87: =IF(AN8= "","",AN8) -> 7. 9. 2026
C89: Zadavatel: | L89: =IF(E11= "","",E11) -> Dům dětí a mládeže Pelhřimov, příspěvková org. | AI89: Projektant: | AM89: =IF(E17="","",E17) -> MOKA atelier s.r.o. | AS89: Informatívní údaje z listů zakázek
C90: Uchazeč: | L90: =IF(E14= "Vyplň údaj","",E14) | AI90: Zpracovatel: | AM90: =IF(E20="","",E20) -> MOKA atelier s.r.o.
...

Sheet 01 - Novostavba zázemí pr...
AT2: {15447d44-1308-4955-aed9-310e68f98efa} | AZ2: PATKY | BA2: Základové patky C25/30 | BB2: m3 | BC2: 1,08 | BD2: 3
AT3: 2 | AZ3: PODLAHOVA_PLOCHA | BA3: Podlahová plocha (skladba VO 1.1) | BB3: m2 | BC3: 60,97 | BD3: 3
D4: KRYCÍ LIST SOUPISU PRACÍ | M4: v --- níže se nacházejí doplnkové a pomocné údaje k sestavám --- v | AT4: False | AZ4: PRICKY | BA4: Příčky z prefabrikovaných sendvičových panelů s izolačním jádrem z PUR pěny | BB4: m2 | BC4: 10,47 | BD4: 3
AZ5: SDK_OBKLAD | BA5: Obložení SDK deskou protipožární | BB5: m2 | BC5: 42,838 | BD5: 3
D6: Stavba: | AZ6: VSAK | BA6: Výkop pro podzemní vsakovací boxy | BB6: m3 | BC6: 1,728 | BD6: 3
E7: ='Rekapitulace stavby'!K6 -> Zázemí dopravního hřiště Pelhřimov | AZ7: VYKOPY | BA7: Odkopávky pro založení objektu | BB7: m3 | BC7: 72,72 | BD7: 3
D8: Objekt: | AZ8: ZASYP | BA8: Zásypy | BB8: m3 | BC8: 37,44 | BD8: 3
E9: 01 - Novostavba zázemí pro návštěvníky dopravního hřiště | AZ9: ZTRAC_BED | BA9: Nadzákladové zdi ze ztraceného bednění | BB9: m2 | BC9: 11,25 | BD9: 3
AZ10: RYHY | BA10: Rýhy pro el. přípojku a venkovní kanalizaci | BB10: m3 | BC10: 32,57 | BD10: 3
D11: KSO: | I11: CC-CZ: | AZ11: ZASYP_RYHY | BA11: Zásyp rýh pro el. přípojku a venkovní kanalizaci | BB11: m3 | BC11: 18,65 | BD11: 3
D12: Místo: | F12: par. č. 3138/2 k.u. Pelhřimov [718912] | I12: Datum: | J12: ='Rekapitulace stavby'!AN8 -> 7. 9. 2026
D14: Zadavatel: | I14: IČ: | J14: 71235701
E15: Dům dětí a mládeže Pelhřimov, příspěvková org. | I15: DIČ:
D17: Uchazeč: | I17: IČ: | J17: ='Rekapitulace stavby'!AN13 -> Vyplň údaj
E18: ='Rekapitulace stavby'!E14 -> Vyplň údaj | I18: DIČ: | J18: ='Rekapitulace stavby'!AN14 -> Vyplň údaj
D20: Projektant: | I20: IČ: | J20: 09498729
E21: MOKA atelier s.r.o. | I21: DIČ:
D23: Zpracovatel: | I23: IČ: | J23: 09498729
E24: MOKA atelier s.r.o. | I24: DIČ:
D26: Poznámka:
D30: Náklady z rozpočtu | J30: =J96 -> 0
D31: Ostatní náklady | J31: =J120 -> 0
D32: Cena bez DPH | J32: =ROUND(J30 + J31, 2) -> 0
F34: Základ daně | I34: Sazba daně | J34: Výše daně
D35: DPH | E35: základní | F35: =ROUND((SUM(BE120:BE127) + SUM(BE147:BE699)), 2) -> 0 | I35: 0.21 | J35: =ROUND(((SUM(BE120:BE127) + SUM(BE147:BE699))*I35), 2) -> 0
E36: snížená | F36: =ROUND((SUM(BF120:BF127) + SUM(BF147:BF699)), 2) -> 0 | I36: 0.12 | J36: =ROUND(((SUM(BF120:BF127) + SUM(BF147:BF699))*I36), 2) -> 0
E37: zákl. přenesená | F37: =ROUND((SUM(BG120:BG127) + SUM(BG147:BG699)), 2) -> 0 | I37: 0.21 | J37: =0 -> 0
E38: sníž. přenesená | F38: =ROUND((SUM(BH120:BH127) + SUM(BH147:BH699)), 2) -> 0 | I38: 0.12 | J38: =0 -> 0
E39: nulová | F39: =ROUND((SUM(BI120:BI127) + SUM(BI147:BI699)), 2) -> 0 | I39: 0 | J39: =0 -> 0
D41: Cena s DPH | G41: v | H41: CZK | J41: =SUM(J32:J39) -> 0
D50: Projektant | G50: Zpracovatel
D61: Datum a podpis: | F61: Razítko | G61: Datum a podpis: | J61: Razítko
D65: Objednavatel | G65: Uchazeč
D76: Datum a podpis: | F76: Razítko | G76: Datum a podpis: | J76: Razítko
C82: REKAPITULACE ČLENĚNÍ SOUPISU PRACÍ
C84: Stavba:
E85: =E7 -> Zázemí dopravního hřiště Pelhřimov
C86: Objekt:
E87: =E9 -> 01 - Novostavba zázemí pro návštěvníky dopravního hřiště
C89: Místo: | F89: =F12 -> par. č. 3138/2 k.u. Pelhřimov [718912] | I89: Datum: | J89: =IF(J12="","",J12) -> 7. 9. 2026
...

Sheet Seznam figur
C4: SEZNAM FIGUR
C5: Kód: | D5: MOKA
C6: Stavba: | D6: Zázemí dopravního hřiště Pelhřimov
C7: Datum: | D7: ='Rekapitulace stavby'!AN8 -> 7. 9. 2026
C9: Kód | D9: Popis | E9: MJ | F9: Výměra
C10: 01 | D10: Novostavba zázemí pro návštěvníky dopravního hřiště
C11: PATKY | D11: Základové patky C25/30 | E11: m3 | F11: 1.08
D12: "Základové patky C25/30 | F12: 0
D13: "500x400x300, 18 ks | F13: 0
D14: (0,5*0,4*0,3)*18 | F14: 1.08
D15: Součet | F15: 1.08
C16: Použití figury:
C17: 132251101 | D17: Hloubení rýh nezapažených š do 800 mm v hornině třídy těžitelnosti I skupiny 3 objem do 20 m3 strojně | E17: m3 | F17: 33.65
C18: 171251101 | D18: Uložení sypaniny do násypů nezhutněných strojně | E18: m3 | F18: 52.008
C19: 275313711 | D19: Základové patky z betonu tř. C 20/25 | E19: m3 | F19: 1.08
C20: PODLAHOVA_PLOCHA | D20: Podlahová plocha (skladba VO 1.1) | E20: m2 | F20: 60.97
D21: "Podlahová plocha (skladba VO 1.1) | F21: 0
D22: (8,7+43,57+8,7) | F22: 60.97
D23: Součet | F23: 60.97
C24: Použití figury:
C25: 713121111 | D25: Montáž izolace tepelné podlah volně kladenými rohožemi, pásy, dílci, deskami 1 vrstva | E25: m2 | F25: 60.97
C26: 762511153 | D26: Podlahové kce podkladové z cementotřískových desek tl 16 mm na nebroušených na pero a drážku šroubovaných | E26: m2 | F26: 60.97
C27: 776221111 | D27: Lepení pásů z PVC standardním lepidlem | E27: m2 | F27: 60.97
C28: PRICKY | D28: Příčky z prefabrikovaných sendvičových panelů s izolačním jádrem z PUR pěny | E28: m2 | F28: 10.47
D29: "příčky z prefabrikovaných sendvičových panelů s izolačním jádrem z PUR pěny o tloušťce 50 mm | F29: 0
D30: (2,85*2,5)*2 | F30: 14.25
D31: "odpočet otvorů | F31: 0
D32: -(0,9*2,1)*2 | F32: -3.78
D33: Součet | F33: 10.47
C34: Použití figury:
C35: 342151111 | D35: Montáž opláštění stěn ocelových kcí ze sendvičových panelů šroubovaných budov v do 6 m | E35: m2 | F35: 10.47
C36: 55324612X | D36: panel sendvičový stěnový oboustranně profilovaný izolace PUR tl 50mm | E36: m2 | F36: 11.517
C37: RYHY | D37: Rýhy pro el. přípojku a venkovní kanalizaci | E37: m3 | F37: 32.57
D38: "Rýhy pro el. přípojku | F38: 0
D39: "pod asfaltem" (33,0*0,8*0,5) | F39: 13.2
D40: "pod chodníkem" (3,35*0,4*0,5) | F40: 0.67
D41: "pod volným terénem" (14,5*1,2*0,5) | F41: 8.7
D42: "rýhy pro venkovní kanalizaci | F42: 0
D43: (25,0*0,5*0,8) | F43: 10
D44: Součet | F44: 32.57
...
