Workbook

Sheet Rekapitulácia stavby
A1: Export Komplet | BA1: 2.0 | BT1: False | BU1: False | BV1: {92e0941c-5c99-4220-a9d2-a152a07b1a48}
AR2: >> skryté stĺpce << | BS2: 0,001 | BT2: 20
BS3: 0,001 | BT3: 20
D4: REKAPITULÁCIA STAVBY | AS4: v --- nižšie sa nachádzajú doplnkové a pomocné údaje k zostavám --- v | BE4: Návod na vyplnenie | BS4: 0,001
D5: Kód: | BE5: Meniť je možné iba bunky so žltým podfarbením!_x000D_ _x000D_ 1) na prvom liste Rekapitulácie stavby vyplňte v zostave_x000D_ _x000D_ a) Rekapitulácia stavby_x000D_ - údaje o Zhotoviteľovi_x000D_ (prenesú sa do ostatných zostáv aj v iných listoch)_x000D_ _x000D_ b) Rekapitulácia objektov stavby_x000D_ - potrebné Ostatné náklady_x000D_ _x000D_ 2) na vybraných listoch vyplňte v zostave_x000D_ _x000D_ a) Krycí list_x000D_ - údaje o Zhotoviteľovi, pokiaľ sa líšia od údajov o Zhotoviteľovi na Rekapitulácii stavby_x000D_ (údaje se prenesú do ostatných zostav v danom liste)_x000D_ _x000D_ b) Rekapitulácia rozpočtu_x000D_ - potrebné Ostatné náklady_x000D_ _x000D_ c) Celkové náklady za stavbu_x000D_ - ceny na položkách_x000D_ - množstvo, pokiaľ má žlté podfarbenie_x000D_ - a v prípade potreby poznámku (tá je v skrytom stĺpci) | BS5: 0,001
D6: Stavba: | K6: ZŠ Kráľa Svätopluka, Nitra - výstavba bežeckej dráhy so šprintérskou rovinkou | BS6: 0,001
D7: JKSO: | AK7: KS: | BS7: 0,001
D8: Miesto: | AK8: Dátum: | BS8: 0,001
BS9: 0,001
D10: Objednávateľ: | AK10: IČO: | BS10: 0,001
E11: Mesto Nitra | AK11: IČ DPH: | BS11: 0,001
BS12: 0,001
D13: Zhotoviteľ: | AK13: IČO: | AN13: Vyplň údaj | BS13: 0,001
E14: Vyplň údaj | AK14: IČ DPH: | AN14: Vyplň údaj | BS14: 0,001
BS15: False
D16: Projektant: | AK16: IČO: | BS16: False
E17: Ing. Miroslav Schroner | AK17: IČ DPH: | BS17: True
BS18: 0,01
D19: Spracovateľ: | AK19: IČO: | BS19: 0,01
AK20: IČ DPH: | BS20: True
D22: Poznámka:
D26: Cena bez DPH | AK26: =ROUND(AG94,2) -> 0
L28: Sadzba dane | W28: Základ dane | AK28: Výška dane
D29: DPH | F29: základná | L29: 0.2 | W29: =ROUND(AZ94, 2) -> 0 | AK29: =ROUND(AV94, 2) -> 0
F30: znížená | L30: 0.2 | W30: =AK26 -> 0 | AK30: =W30*0.2 -> 0
F31: zákl. prenesená | L31: 0.2 | W31: =ROUND(BB94, 2) -> 0 | AK31: 0
F32: zníž. prenesená | L32: 0.2 | W32: =ROUND(BC94, 2) -> 0 | AK32: 0
F33: nulová | L33: 0 | W33: =ROUND(BD94, 2) -> 0 | AK33: 0
D35: Cena s DPH | T35: v | X35: EUR | AK35: =SUM(AK26:AK33) -> 0
D49: Projektant | AH49: Spracovateľ
D60: Dátum a podpis: | V60: Pečiatka | AH60: Dátum a podpis: | AM60: Pečiatka
D64: Objednávateľ | AH64: Zhotoviteľ
D75: Dátum a podpis: | V75: Pečiatka | AH75: Dátum a podpis: | AM75: Pečiatka
C82: REKAPITULÁCIA OBJEKTOV STAVBY
C84: Kód:
C85: Stavba: | L85: =K6 -> ZŠ Kráľa Svätopluka, Nitra - výstavba bežeckej dráhy so šprintérskou rovinkou
C87: Miesto: | L87: =IF(K8="","",K8) | AI87: Dátum: | AM87: =IF(AN8= "","",AN8)
C89: Objednávateľ: | L89: =IF(E11= "","",E11) -> Mesto Nitra | AI89: Projektant: | AM89: =IF(E17="","",E17) -> Ing. Miroslav Schroner | AS89: Informatívne údaje z listov zákaziek
C90: Zhotoviteľ: | L90: =IF(E14= "Vyplň údaj","",E14) | AI90: Spracovateľ: | AM90: =IF(E20="","",E20)
C92: Kód | I92: Popis | AG92: Cena bez DPH [EUR] | AN92: Cena s DPH [EUR] | AQ92: Typ | AS92: z toho Ostat._x000D_ náklady [EUR] | AT92: DPH [EUR] | AU92: Normohodiny [h] | AV92: DPH základná [EUR] | AW92: DPH znížená [EUR] | AX92: DPH základná prenesená_x000D_ [EUR] | AY92: DPH znížená prenesená_x000D_ [EUR] | AZ92: Základňa_x000D_ DPH základná | BA92: Základňa_x000D_ DPH znížená | BB92: Základňa_x000D_ DPH zákl. prenesená | BC92: Základňa_x000D_ DPH zníž. prenesená | BD92: Základňa_x000D_ DPH nulová
C94: Náklady z rozpočtov | AG94: =ROUND(SUM(AG95:AG95),2) -> 0 | AN94: =AG94*1.2 -> 0 | AS94: =ROUND(SUM(AS95:AS95),2) -> 0 | AT94: =ROUND(SUM(AV94:AW94),2) -> 0 | AU94: =ROUND(SUM(AU95:AU95),5) -> 0 | AV94: =ROUND(AZ94*L29,2) -> 0 | AW94: =ROUND(BA94*L30,2) -> 0 | AX94: =ROUND(BB94*L29,2) -> 0 | AY94: =ROUND(BC94*L30,2) -> 0 | AZ94: =ROUND(SUM(AZ95:AZ95),2) -> 0 | BA94: =ROUND(SUM(BA95:BA95),2) -> 0 | BB94: =ROUND(SUM(BB95:BB95),2) -> 0 | BC94: =ROUND(SUM(BC95:BC95),2) -> 0 | BD94: =ROUND(SUM(BD95:BD95),2) -> 0 | BS94: D | BT94: 0 | BU94: ###NOIMPORT### | BV94: IMPORT | BW94: {92e0941c-5c99-4220-a9d2-a152a07b1a48} | BX94: {00000000-0000-0000-0000-000000000000}
A95: / | D95: 1 | J95: Atletický ovál a rovinka s doskočiskom | AG95: ='Atletický ovál a rovinka'!J30 -> 0 | AN95: =AG95*1.2 -> 0 | AQ95: STA | AS95: 0 | AT95: =ROUND(SUM(AV95:AW95),2) -> 0 | AU95: ='Atletický ovál a rovinka'!P122 -> 0 | AV95: ='Atletický ovál a rovinka'!J33 -> 0 | AW95: ='Atletický ovál a rovinka'!J34 -> 0 | AX95: ='Atletický ovál a rovinka'!J35 -> 0 | AY95: ='Atletický ovál a rovinka'!J36 -> 0 | AZ95: ='Atletický ovál a rovinka'!F33 -> 0 | BA95: ='Atletický ovál a rovinka'!F34 -> 0 | BB95: ='Atletický ovál a rovinka'!F35 -> 0 | BC95: ='Atletický ovál a rovinka'!F36 -> 0 | BD95: ='Atletický ovál a rovinka'!F37 -> 0 | BT95: 1 | BV95: IMPORT | BW95: {a02e0447-e477-433e-ab18-c71a8bdf1b9e} | BX95: {92e0941c-5c99-4220-a9d2-a152a07b1a48} | CM95: 0

Sheet Atletický ovál a rovinka
L2: >> skryté stĺpce << | AT2: {a02e0447-e477-433e-ab18-c71a8bdf1b9e}
AT3: 0
D4: KRYCÍ LIST ROZPOČTU | M4: v --- nižšie sa nachádzajú doplnkové a pomocné údaje k zostavám --- v | AT4: False
D6: Stavba:
E7: ='Rekapitulácia stavby'!K6 -> ZŠ Kráľa Svätopluka, Nitra - výstavba bežeckej dráhy so šprintérskou rovinkou
D8: Objekt:
E9: Atletický ovál a bežecká rovinka
D11: JKSO: | I11: KS:
D12: Miesto: | I12: Dátum:
D14: Objednávateľ: | I14: IČO:
E15: Mesto Nitra | I15: IČ DPH:
D17: Zhotoviteľ: | I17: IČO: | J17: ='Rekapitulácia stavby'!AN13 -> Vyplň údaj
E18: ='Rekapitulácia stavby'!E14 -> Vyplň údaj | I18: IČ DPH: | J18: ='Rekapitulácia stavby'!AN14 -> Vyplň údaj
D20: Projektant: | I20: IČO:
E21: ='Rekapitulácia stavby'!E17 -> Ing. Miroslav Schroner | I21: IČ DPH:
D23: Spracovateľ: | I23: IČO:
E24: ='Rekapitulácia stavby'!E20 -> 0 | I24: IČ DPH:
D26: Poznámka:
D30: Cena bez DPH | J30: =ROUND(J122, 2) -> 0
F32: Základ dane | I32: Sadzba dane | J32: Výška dane
D33: DPH | E33: základná | F33: =ROUND((SUM(BE122:BE165)), 2) -> 0 | I33: 0.2 | J33: =ROUND(((SUM(BE122:BE165))*I33), 2) -> 0
E34: znížená | F34: =J30 -> 0 | I34: 0.2 | J34: =F34*0.2 -> 0
E35: zákl. prenesená | F35: =ROUND((SUM(BG122:BG165)), 2) -> 0 | I35: 0.2 | J35: =0 -> 0
E36: zníž. prenesená | F36: =ROUND((SUM(BH122:BH165)), 2) -> 0 | I36: 0.2 | J36: =0 -> 0
E37: nulová | F37: =ROUND((SUM(BI122:BI165)), 2) -> 0 | I37: 0 | J37: =0 -> 0
D39: Cena s DPH | G39: v | H39: EUR | J39: =SUM(J30:J37) -> 0
D50: Projektant | G50: Spracovateľ
D61: Dátum a podpis: | F61: Pečiatka | G61: Dátum a podpis: | J61: Pečiatka
D65: Objednávateľ | G65: Zhotoviteľ
D76: Dátum a podpis: | F76: Pečiatka | G76: Dátum a podpis: | J76: Pečiatka
C82: REKAPITULÁCIA ROZPOČTU
C84: Stavba:
E85: =E7 -> ZŠ Kráľa Svätopluka, Nitra - výstavba bežeckej dráhy so šprintérskou rovinkou
C86: Objekt:
E87: =E9 -> Atletický ovál a bežecká rovinka
C89: Miesto: | F89: =F12 | I89: Dátum:
C91: Objednávateľ: | F91: =E15 -> Mesto Nitra | I91: Projektant: | J91: =E21 -> Ing. Miroslav Schroner
C92: Zhotoviteľ: | F92: =IF(E18="","",E18) -> Vyplň údaj | I92: Spracovateľ: | J92: =E24 -> 0
C94: Kód dielu - Popis | J94: Cena celkom [EUR]
C96: Náklady z rozpočtu | J96: =J122 -> 0 | AU96: -1
D97: HSV - Práce a dodávky HSV | J97: =J123 -> 0
D98: 1 - Zemné práce | J98: =J124 -> 0
D99: 5 - Komunikácie | J99: =J142 -> 0
D100: 9 - Ostatné konštrukcie a práce-búranie | J100: =J147 -> 0
D101: 99 - Presun hmôt HSV | J101: =J164 -> 0
D102: OST - Ostatné | J102: =J166 -> 0
C109: ROZPOČET
C111: Stavba:
E112: =E7 -> ZŠ Kráľa Svätopluka, Nitra - výstavba bežeckej dráhy so šprintérskou rovinkou
C113: Objekt:
E114: =E9 -> Atletický ovál a bežecká rovinka
C116: Miesto: | F116: =F12 | I116: Dátum:
C118: Objednávateľ: | F118: =E15 -> Mesto Nitra | I118: Projektant: | J118: =E21 -> Ing. Miroslav Schroner
C119: Zhotoviteľ: | F119: =IF(E18="","",E18) -> Vyplň údaj | I119: Spracovateľ: | J119: =E24 -> 0
C121: PČ | D121: Typ | E121: Kód | F121: Popis | G121: MJ | H121: Množstvo | I121: J.cena [EUR] | J121: Cena celkom [EUR] | K121: Cenová sústava | N121: DPH | O121: J. Nh [h] | P121: Nh celkom [h] | Q121: J. hmotnosť [t] | R121: Hmotnosť celkom [t] | S121: J. suť [t] | T121: Suť Celkom [t]
C122: Náklady z rozpočtu | J122: =J123+J166 -> 0 | P122: =P123 -> 0 | R122: =R123 -> 450.22117 | T122: =T123 -> 200.43458 | AT122: D | AU122: -1 | BK122: =BK123 -> 0
D123: D | E123: HSV | F123: Práce a dodávky HSV | J123: =J124+J142+J147+J164 -> 0 | P123: =P124+P142+P147+P164 -> 0 | R123: =R124+R142+R147+R164 -> 450.22117 | T123: =T124+T142+T147+T164 -> 200.43458 | AR123: 1 | AT123: D | AU123: 0 | AY123: ROZPOCET | BK123: =BK124+BK142+BK147+BK164 -> 0
D124: D | E124: 1 | F124: Zemné práce | J124: =SUM(J125:J141) -> 0 | P124: =SUM(P125:P141) -> 0 | R124: =SUM(R125:R141) -> 0.0079 | T124: =SUM(T125:T141) -> 200.43458 | AR124: 1 | AT124: D | AU124: 1 | AY124: ROZPOCET | BK124: =SUM(BK125:BK141) -> 0
C125: 1 | D125: K | E125: 122301101 | F125: Odkopávka a prekopávka nezapažená v hornine 4, do 100 m3 | G125: m3 | H125: 229.71 | J125: =ROUND(I125*H125,3) -> 0 | N125: znížená | P125: =O125*H125 -> 0 | Q125: 0 | R125: =Q125*H125 -> 0 | S125: 0.098 | T125: =S125*H125 -> 22.51158 | AR125: 4 | AT125: K | AU125: 2 | AY125: ROZPOCET | BE125: =IF(N125="základná",J125,0) -> 0 | BF125: =IF(N125="znížená",J125,0) -> 0 | BG125: =IF(N125="zákl. prenesená",J125,0) -> 0 | BH125: =IF(N125="zníž. prenesená",J125,0) -> 0 | BI125: =IF(N125="nulová",J125,0) -> 0 | BJ125: 2 | BK125: =ROUND(I125*H125,3) -> 0 | BL125: 4 | BM125: 666382287
C126: 2 | D126: K | E126: 122301109 | F126: Odkopovávka a prekopávka nezapažená. Príplatok za lepivosť horniny 4 | G126: m3 | H126: 229.71 | J126: =ROUND(I126*H126,3) -> 0
C127: 3 | D127: K | E127: 113107141 | F127: Odstránenie krytu pôvodného športového povrchu škvárového , hr. vrstvy do 50 mm, -0,09800t | G127: m2 | H127: 983 | J127: =ROUND(I127*H127,3) -> 0
C128: 4 | D128: K | E128: 113307142 | F128: Odstránenie podkladu z kameniva,hr.nad 50 do 200 mm, -0,18100t | G128: m2 | H128: 983 | J128: =ROUND(I128*H128,3) -> 0 | N128: znížená | P128: =O128*H128 -> 0 | Q128: 0 | R128: =Q128*H128 -> 0 | S128: 0.181 | T128: =S128*H128 -> 177.923 | AR128: 4 | AT128: K | AU128: 2 | AY128: ROZPOCET | BE128: =IF(N128="základná",J128,0) -> 0 | BF128: =IF(N128="znížená",J128,0) -> 0 | BG128: =IF(N128="zákl. prenesená",J128,0) -> 0 | BH128: =IF(N128="zníž. prenesená",J128,0) -> 0 | BI128: =IF(N128="nulová",J128,0) -> 0 | BJ128: 2 | BK128: =ROUND(I128*H128,3) -> 0 | BL128: 4 | BM128: 275566647
C129: 5 | D129: K | E129: 132301101 | F129: Výkop ryhy do šírky 600 mm v horn.4 do 100 m3 | G129: m3 | H129: 45.27 | J129: =ROUND(I129*H129,3) -> 0 | N129: znížená | P129: =O129*H129 -> 0 | Q129: 0 | R129: =Q129*H129 -> 0 | S129: 0 | T129: =S129*H129 -> 0 | AR129: 4 | AT129: K | AU129: 2 | AY129: ROZPOCET | BE129: =IF(N129="základná",J129,0) -> 0 | BF129: =IF(N129="znížená",J129,0) -> 0 | BG129: =IF(N129="zákl. prenesená",J129,0) -> 0 | BH129: =IF(N129="zníž. prenesená",J129,0) -> 0 | BI129: =IF(N129="nulová",J129,0) -> 0 | BJ129: 2 | BK129: =ROUND(I129*H129,3) -> 0 | BL129: 4 | BM129: -851763411
C130: 6 | D130: K | E130: 132301109 | F130: Príplatok za lepivosť pri hĺbení rýh šírky do 600 mm zapažených i nezapažených s urovnaním dna v hornine 4 | G130: m3 | H130: 45.27 | J130: =ROUND(I130*H130,3) -> 0 | N130: znížená | P130: =O130*H130 -> 0 | Q130: 0 | R130: =Q130*H130 -> 0 | S130: 0 | T130: =S130*H130 -> 0 | AR130: 4 | AT130: K | AU130: 2 | AY130: ROZPOCET | BE130: =IF(N130="základná",J130,0) -> 0 | BF130: =IF(N130="znížená",J130,0) -> 0 | BG130: =IF(N130="zákl. prenesená",J130,0) -> 0 | BH130: =IF(N130="zníž. prenesená",J130,0) -> 0 | BI130: =IF(N130="nulová",J130,0) -> 0 | BJ130: 2 | BK130: =ROUND(I130*H130,3) -> 0 | BL130: 4 | BM130: 94343393
C131: 6 | D131: K | E131: 171201203 | F131: Uloženie sypaniny na skládky nad 1000 do 10000 m3 | G131: m3 | H131: 274.98 | J131: =ROUND(I131*H131,3) -> 0 | N131: znížená | P131: =O131*H131 -> 0 | Q131: 0 | R131: =Q131*H131 -> 0 | S131: 0 | T131: =S131*H131 -> 0 | AR131: 4 | AT131: K | AU131: 2 | AY131: ROZPOCET | BE131: =IF(N131="základná",J131,0) -> 0 | BF131: =IF(N131="znížená",J131,0) -> 0 | BG131: =IF(N131="zákl. prenesená",J131,0) -> 0 | BH131: =IF(N131="zníž. prenesená",J131,0) -> 0 | BI131: =IF(N131="nulová",J131,0) -> 0 | BJ131: 2 | BK131: =ROUND(I131*H131,3) -> 0 | BL131: 4 | BM131: 94343393
C132: 6 | D132: K | E132: 171209002 | F132: Poplatok za skladovanie - zemina a kamenivo (17 05) ostatné | G132: t | H132: 494.96 | J132: =ROUND(I132*H132,3) -> 0 | N132: znížená | P132: =O132*H132 -> 0 | Q132: 0 | R132: =Q132*H132 -> 0 | S132: 0 | T132: =S132*H132 -> 0 | AR132: 4 | AT132: K | AU132: 2 | AY132: ROZPOCET | BE132: =IF(N132="základná",J132,0) -> 0 | BF132: =IF(N132="znížená",J132,0) -> 0 | BG132: =IF(N132="zákl. prenesená",J132,0) -> 0 | BH132: =IF(N132="zníž. prenesená",J132,0) -> 0 | BI132: =IF(N132="nulová",J132,0) -> 0 | BJ132: 2 | BK132: =ROUND(I132*H132,3) -> 0 | BL132: 4 | BM132: 94343393
C133: 6 | D133: K | E133: 171209002,9 | F133: Zákonný poplatok | G133: t | H133: 494.96 | J133: =ROUND(I133*H133,3) -> 0 | N133: znížená | P133: =O133*H133 -> 0 | Q133: 0 | R133: =Q133*H133 -> 0 | S133: 0 | T133: =S133*H133 -> 0 | AR133: 4 | AT133: K | AU133: 2 | AY133: ROZPOCET | BE133: =IF(N133="základná",J133,0) -> 0 | BF133: =IF(N133="znížená",J133,0) -> 0 | BG133: =IF(N133="zákl. prenesená",J133,0) -> 0 | BH133: =IF(N133="zníž. prenesená",J133,0) -> 0 | BI133: =IF(N133="nulová",J133,0) -> 0 | BJ133: 2 | BK133: =ROUND(I133*H133,3) -> 0 | BL133: 4 | BM133: 94343393
C134: 10 | D134: K | E134: 175101202 | F134: Obsyp objektov sypaninou z vhodných hornín 1 až 4 s prehodením sypaniny | G134: m3 | H134: 21.12 | J134: =ROUND(I134*H134,3) -> 0 | P134: =O134*H134 -> 0 | BK134: =ROUND(I134*H134,3) -> 0
C135: 11 | D135: K | E135: 180404111 | F135: Založenie ihriskového trávnika výsevom na vrstve ornice | G135: m2 | H135: 258.92 | J135: =ROUND(I135*H135,3) -> 0 | N135: znížená | P135: =O135*H135 -> 0 | Q135: 0 | R135: =Q135*H135 -> 0 | S135: 0 | T135: =S135*H135 -> 0 | AR135: 4 | AT135: K | AU135: 2 | AY135: ROZPOCET | BE135: =IF(N135="základná",J135,0) -> 0 | BF135: =IF(N135="znížená",J135,0) -> 0 | BG135: =IF(N135="zákl. prenesená",J135,0) -> 0 | BH135: =IF(N135="zníž. prenesená",J135,0) -> 0 | BI135: =IF(N135="nulová",J135,0) -> 0 | BJ135: 2 | BK135: =ROUND(I135*H135,3) -> 0 | BL135: 4 | BM135: 1151355088
C136: 12 | D136: M | E136: 0057211200 | F136: Trávové semeno - parková zmes | G136: kg | H136: 7.77 | J136: =ROUND(I136*H136,3) -> 0 | N136: znížená | P136: =O136*H136 -> 0 | Q136: 0.001 | R136: =Q136*H136 -> 0.00777 | S136: 0 | T136: =S136*H136 -> 0 | AR136: 8 | AT136: M | AU136: 2 | AY136: ROZPOCET | BE136: =IF(N136="základná",J136,0) -> 0 | BF136: =IF(N136="znížená",J136,0) -> 0 | BG136: =IF(N136="zákl. prenesená",J136,0) -> 0 | BH136: =IF(N136="zníž. prenesená",J136,0) -> 0 | BI136: =IF(N136="nulová",J136,0) -> 0 | BJ136: 2 | BK136: =ROUND(I136*H136,3) -> 0 | BL136: 4 | BM136: 179043459
C137: 13 | D137: K | E137: 183403153 | F137: Obrobenie pôdy hrabaním v rovine alebo na svahu do 1:5 | G137: m2 | H137: 258.92 | J137: =ROUND(I137*H137,3) -> 0 | N137: znížená | P137: =O137*H137 -> 0 | Q137: 0 | R137: =Q137*H137 -> 0 | S137: 0 | T137: =S137*H137 -> 0 | AR137: 4 | AT137: K | AU137: 2 | AY137: ROZPOCET | BE137: =IF(N137="základná",J137,0) -> 0 | BF137: =IF(N137="znížená",J137,0) -> 0 | BG137: =IF(N137="zákl. prenesená",J137,0) -> 0 | BH137: =IF(N137="zníž. prenesená",J137,0) -> 0 | BI137: =IF(N137="nulová",J137,0) -> 0 | BJ137: 2 | BK137: =ROUND(I137*H137,3) -> 0 | BL137: 4 | BM137: 20045339
C138: 14 | D138: K | E138: 183403161 | F138: Obrobenie pôdy valcovaním v rovine alebo na svahu do 1:5 | G138: m2 | H138: 258.92 | J138: =ROUND(I138*H138,3) -> 0 | N138: znížená | P138: =O138*H138 -> 0 | Q138: 0 | R138: =Q138*H138 -> 0 | S138: 0 | T138: =S138*H138 -> 0 | AR138: 4 | AT138: K | AU138: 2 | AY138: ROZPOCET | BE138: =IF(N138="základná",J138,0) -> 0 | BF138: =IF(N138="znížená",J138,0) -> 0 | BG138: =IF(N138="zákl. prenesená",J138,0) -> 0 | BH138: =IF(N138="zníž. prenesená",J138,0) -> 0 | BI138: =IF(N138="nulová",J138,0) -> 0 | BJ138: 2 | BK138: =ROUND(I138*H138,3) -> 0 | BL138: 4 | BM138: -1317028062
C139: 15 | D139: K | E139: 184802111 | F139: Chemické odburinenie pôdy v rovine alebo na svahu do 1:5 postrekom naširoko | G139: m2 | H139: 258.92 | J139: =ROUND(I139*H139,3) -> 0 | N139: znížená | P139: =O139*H139 -> 0 | Q139: 0 | R139: =Q139*H139 -> 0 | S139: 0 | T139: =S139*H139 -> 0 | AR139: 4 | AT139: K | AU139: 2 | AY139: ROZPOCET | BE139: =IF(N139="základná",J139,0) -> 0 | BF139: =IF(N139="znížená",J139,0) -> 0 | BG139: =IF(N139="zákl. prenesená",J139,0) -> 0 | BH139: =IF(N139="zníž. prenesená",J139,0) -> 0 | BI139: =IF(N139="nulová",J139,0) -> 0 | BJ139: 2 | BK139: =ROUND(I139*H139,3) -> 0 | BL139: 4 | BM139: 1348847489
C140: 16 | D140: M | E140: 2522519201000 | F140: Chemické odburinenie trávnika Bofix | G140: l | H140: 0.13 | J140: =ROUND(I140*H140,3) -> 0 | N140: znížená | P140: =O140*H140 -> 0 | Q140: 0.001 | R140: =Q140*H140 -> 0.00013 | S140: 0 | T140: =S140*H140 -> 0 | AR140: 8 | AT140: M | AU140: 2 | AY140: ROZPOCET | BE140: =IF(N140="základná",J140,0) -> 0 | BF140: =IF(N140="znížená",J140,0) -> 0 | BG140: =IF(N140="zákl. prenesená",J140,0) -> 0 | BH140: =IF(N140="zníž. prenesená",J140,0) -> 0 | BI140: =IF(N140="nulová",J140,0) -> 0 | BJ140: 2 | BK140: =ROUND(I140*H140,3) -> 0 | BL140: 4 | BM140: 1589491901
C141: 17 | D141: K | E141: 185804312 | F141: Zaliatie rastlín vodou, plochy jednotlivo nad 20 m2 | G141: m3 | H141: 5.28 | J141: =ROUND(I141*H141,3) -> 0 | N141: znížená | P141: =O141*H141 -> 0 | Q141: 0 | R141: =Q141*H141 -> 0 | S141: 0 | T141: =S141*H141 -> 0 | AR141: 4 | AT141: K | AU141: 2 | AY141: ROZPOCET | BE141: =IF(N141="základná",J141,0) -> 0 | BF141: =IF(N141="znížená",J141,0) -> 0 | BG141: =IF(N141="zákl. prenesená",J141,0) -> 0 | BH141: =IF(N141="zníž. prenesená",J141,0) -> 0 | BI141: =IF(N141="nulová",J141,0) -> 0 | BJ141: 2 | BK141: =ROUND(I141*H141,3) -> 0 | BL141: 4 | BM141: 837113946
D142: D | E142: 5 | F142: Komunikácie | J142: =SUM(J143:J146) -> 0 | P142: =SUM(P143:P146) -> 0 | R142: =SUM(R143:R146) -> 225.36619 | T142: =SUM(T143:T146) -> 0 | AR142: 1 | AT142: D | AU142: 1 | AY142: ROZPOCET | BK142: =SUM(BK143:BK146) -> 0
C143: 18 | D143: K | E143: 564851111 | F143: Podklad zo štrkodrviny s rozprestretím a zhutnením, po zhutnení hr. 150 mm fr. 0-32 | G143: m2 | H143: 1098.972 | J143: =ROUND(I143*H143,3) -> 0 | N143: znížená | P143: =O143*H143 -> 0 | Q143: 0.12144 | R143: =Q143*H143 -> 133.45916 | S143: 0 | T143: =S143*H143 -> 0 | AR143: 4 | AT143: K | AU143: 2 | AY143: ROZPOCET | BE143: =IF(N143="základná",J143,0) -> 0 | BF143: =IF(N143="znížená",J143,0) -> 0 | BG143: =IF(N143="zákl. prenesená",J143,0) -> 0 | BH143: =IF(N143="zníž. prenesená",J143,0) -> 0 | BI143: =IF(N143="nulová",J143,0) -> 0 | BJ143: 2 | BK143: =ROUND(I143*H143,3) -> 0 | BL143: 4 | BM143: -1290992085
C144: 19 | D144: K | E144: 564831111 | F144: Podklad zo štrkodrviny s rozprestretím a zhutnením, po zhutnení hr. 50 mm fr. 0-8 | G144: m2 | H144: 1098.972 | J144: =ROUND(I144*H144,3) -> 0 | N144: znížená | P144: =O144*H144 -> 0 | Q144: 0.08003 | R144: =Q144*H144 -> 87.950729 | S144: 0 | T144: =S144*H144 -> 0 | AR144: 4 | AT144: K | AU144: 2 | AY144: ROZPOCET | BE144: =IF(N144="základná",J144,0) -> 0 | BF144: =IF(N144="znížená",J144,0) -> 0 | BG144: =IF(N144="zákl. prenesená",J144,0) -> 0 | BH144: =IF(N144="zníž. prenesená",J144,0) -> 0 | BI144: =IF(N144="nulová",J144,0) -> 0 | BJ144: 2 | BK144: =ROUND(I144*H144,3) -> 0 | BL144: 4 | BM144: -1870828598
C145: 20 | D145: K | E145: 589160031 | F145: Vyhotovenie podložky z gumoasfaltu, vodopriepustná, hr.30mm, pokládka finišérom | G145: m2 | H145: 1098.972 | J145: =ROUND(I145*H145,3) -> 0 | N145: znížená | P145: =O145*H145 -> 0 | Q145: 0.00175 | R145: =Q145*H145 -> 1.923201 | S145: 0 | T145: =S145*H145 -> 0 | AR145: 4 | AT145: K | AU145: 2 | AY145: ROZPOCET | BE145: =IF(N145="základná",J145,0) -> 0 | BF145: =IF(N145="znížená",J145,0) -> 0 | BG145: =IF(N145="zákl. prenesená",J145,0) -> 0 | BH145: =IF(N145="zníž. prenesená",J145,0) -> 0 | BI145: =IF(N145="nulová",J145,0) -> 0 | BJ145: 2 | BK145: =ROUND(I145*H145,3) -> 0 | BL145: 4 | BM145: 1222391981
C146: 21 | D146: K | E146: 589170021 | F146: Vyhotovenie finálnej tartanovej vrstvy v skladbe 11-12mm SBR + 1-2mm EPDM (dvojnásobný nástrek), farba modrá | G146: m2 | H146: 1098.972 | J146: =ROUND(I146*H146,3) -> 0 | N146: znížená | P146: =O146*H146 -> 0 | Q146: 0.00185 | R146: =Q146*H146 -> 2.0330982 | S146: 0 | T146: =S146*H146 -> 0 | AR146: 4 | AT146: K | AU146: 2 | AY146: ROZPOCET | BE146: =IF(N146="základná",J146,0) -> 0 | BF146: =IF(N146="znížená",J146,0) -> 0 | BG146: =IF(N146="zákl. prenesená",J146,0) -> 0 | BH146: =IF(N146="zníž. prenesená",J146,0) -> 0 | BI146: =IF(N146="nulová",J146,0) -> 0 | BJ146: 2 | BK146: =ROUND(I146*H146,3) -> 0 | BL146: 4 | BM146: -615794446
D147: D | E147: 9 | F147: Ostatné konštrukcie a práce-búranie | J147: =SUM(J148:J163) -> 0 | P147: =SUM(P148:P163) -> 0 | R147: =SUM(R148:R163) -> 224.84708 | T147: =SUM(T148:T163) -> 0 | AR147: 1 | AT147: D | AU147: 1 | AY147: ROZPOCET | BK147: =SUM(BK148:BK163) -> 0
C148: 22 | D148: K | E148: 915711211 | F148: Vodorovné značenie atletických čiar a handicapov PU farbou, š.5cm, farba biela | G148: m | H148: 1190 | J148: =ROUND(I148*H148,3) -> 0 | N148: znížená | P148: =O148*H148 -> 0 | Q148: 7e-05 | R148: =Q148*H148 -> 0.0833 | S148: 0 | T148: =S148*H148 -> 0 | AR148: 4 | AT148: K | AU148: 2 | AY148: ROZPOCET | BE148: =IF(N148="základná",J148,0) -> 0 | BF148: =IF(N148="znížená",J148,0) -> 0 | BG148: =IF(N148="zákl. prenesená",J148,0) -> 0 | BH148: =IF(N148="zníž. prenesená",J148,0) -> 0 | BI148: =IF(N148="nulová",J148,0) -> 0 | BJ148: 2 | BK148: =ROUND(I148*H148,3) -> 0 | BL148: 4 | BM148: 212732953
C149: 23 | D149: K | E149: 915714111 | F149: Lepenie a odstránenie pásky deliacich čiar | G149: m | H149: 1190 | J149: =ROUND(I149*H149,3) -> 0 | N149: znížená | P149: =O149*H149 -> 0 | Q149: 0.00024 | R149: =Q149*H149 -> 0.2856 | S149: 0 | T149: =S149*H149 -> 0 | AR149: 4 | AT149: K | AU149: 2 | AY149: ROZPOCET | BE149: =IF(N149="základná",J149,0) -> 0 | BF149: =IF(N149="znížená",J149,0) -> 0 | BG149: =IF(N149="zákl. prenesená",J149,0) -> 0 | BH149: =IF(N149="zníž. prenesená",J149,0) -> 0 | BI149: =IF(N149="nulová",J149,0) -> 0 | BJ149: 2 | BK149: =ROUND(I149*H149,3) -> 0 | BL149: 4 | BM149: 919446944
C150: 24 | D150: K | E150: 915791111 | F150: Predznačenie pre značenie striekané farbou z náterových hmôt deliace čiary, vodiace prúžky | G150: m | H150: 1190 | J150: =ROUND(I150*H150,3) -> 0 | N150: znížená | P150: =O150*H150 -> 0 | Q150: 0 | R150: =Q150*H150 -> 0 | S150: 0 | T150: =S150*H150 -> 0 | AR150: 4 | AT150: K | AU150: 2 | AY150: ROZPOCET | BE150: =IF(N150="základná",J150,0) -> 0 | BF150: =IF(N150="znížená",J150,0) -> 0 | BG150: =IF(N150="zákl. prenesená",J150,0) -> 0 | BH150: =IF(N150="zníž. prenesená",J150,0) -> 0 | BI150: =IF(N150="nulová",J150,0) -> 0 | BJ150: 2 | BK150: =ROUND(I150*H150,3) -> 0 | BL150: 4 | BM150: 1999492079
C151: 30 | D151: K | E151: 916561112 | F151: Osadenie záhonového alebo parkového obrubníka betón., do lôžka z bet. pros. tr. C 16/20 s bočnou oporou | G151: m | H151: 503.2 | J151: =ROUND(I151*H151,3) -> 0 | N151: znížená | P151: =O151*H151 -> 0 | Q151: 0.09853 | R151: =Q151*H151 -> 49.580296 | S151: 0 | T151: =S151*H151 -> 0 | AR151: 4 | AT151: K | AU151: 2 | AY151: ROZPOCET | BE151: =IF(N151="základná",J151,0) -> 0 | BF151: =IF(N151="znížená",J151,0) -> 0 | BG151: =IF(N151="zákl. prenesená",J151,0) -> 0 | BH151: =IF(N151="zníž. prenesená",J151,0) -> 0 | BI151: =IF(N151="nulová",J151,0) -> 0 | BJ151: 2 | BK151: =ROUND(I151*H151,3) -> 0 | BL151: 4 | BM151: 1081947189
C152: 31 | D152: M | E152: 592170001800 | F152: Obrubník parkový, 1000x50x200 mm, sivá | G152: ks | H152: 528.36 | J152: =ROUND(I152*H152,3) -> 0 | N152: znížená | P152: =O152*H152 -> 0 | Q152: 0.023 | R152: =Q152*H152 -> 12.15228 | S152: 0 | T152: =S152*H152 -> 0 | AR152: 8 | AT152: M | AU152: 2 | AY152: ROZPOCET | BE152: =IF(N152="základná",J152,0) -> 0 | BF152: =IF(N152="znížená",J152,0) -> 0 | BG152: =IF(N152="zákl. prenesená",J152,0) -> 0 | BH152: =IF(N152="zníž. prenesená",J152,0) -> 0 | BI152: =IF(N152="nulová",J152,0) -> 0 | BJ152: 2 | BK152: =ROUND(I152*H152,3) -> 0 | BL152: 4 | BM152: 405868375
C153: 34 | D153: K | E153: 918101111 | F153: Lôžko pod obrubníky, krajníky alebo obruby z dlažobných kociek z betónu prostého tr. C 16/20 | G153: m3 | H153: 28.56 | J153: =ROUND(I153*H153,3) -> 0 | N153: znížená | P153: =O153*H153 -> 0 | Q153: 2.21513 | R153: =Q153*H153 -> 63.264113 | S153: 0 | T153: =S153*H153 -> 0 | AR153: 4 | AT153: K | AU153: 2 | AY153: ROZPOCET | BE153: =IF(N153="základná",J153,0) -> 0 | BF153: =IF(N153="znížená",J153,0) -> 0 | BG153: =IF(N153="zákl. prenesená",J153,0) -> 0 | BH153: =IF(N153="zníž. prenesená",J153,0) -> 0 | BI153: =IF(N153="nulová",J153,0) -> 0 | BJ153: 2 | BK153: =ROUND(I153*H153,3) -> 0 | BL153: 4 | BM153: -1071172026
D154: K | E154: 596610033 | F154: Kladenie gumového ukončovacieho diela (flexibilného obrubníka) 980/200/50mm do lôžka z bet. pros. tr. C 30/37 s bočnou oporou | G154: ks | H154: 26 | J154: =ROUND(I154*H154,3) -> 0 | P154: =O154*H154 -> 0
D155: M | E155: 272520005500 | F155: Gumový ukončovací diel (flexibilný obrubník) 980/200/50mm, farba červená vrátane lapača piesku | G155: ks | H155: 26 | J155: =ROUND(I155*H155,3) -> 0 | P155: =O155*H155 -> 0
C156: 34 | D156: K | E156: 762222141,98753 | F156: Montáž a dodávka pieskového doskočiska vrátane pryžového obrubníka, netkanej separačnej geotextílie pod piesok napr. GEOMATEX NTB 10 300G 100X4M alebo ekvivalent, vyhotovenie celej konštrukcie doskočiska podľa názornej ukážky úpravy doskočiska podľa PD | G156: m2 | H156: 33.21 | J156: =ROUND(I156*H156,3) -> 0 | N156: znížená | P156: =O156*H156 -> 0 | Q156: 2.21513 | R156: =Q156*H156 -> 73.564467 | S156: 0 | T156: =S156*H156 -> 0 | AR156: 4 | AT156: K | AU156: 2 | AY156: ROZPOCET | BE156: =IF(N156="základná",J156,0) -> 0 | BF156: =IF(N156="znížená",J156,0) -> 0 | BG156: =IF(N156="zákl. prenesená",J156,0) -> 0 | BH156: =IF(N156="zníž. prenesená",J156,0) -> 0 | BI156: =IF(N156="nulová",J156,0) -> 0 | BJ156: 2 | BK156: =ROUND(I156*H156,3) -> 0 | BL156: 4 | BM156: -1071172026
C157: 34 | D157: K | E157: 762222141,98753,1 | F157: Montáž a dodávka piesku do doskočiska, piesok jemný kvarcitový prírodný, dekoratívnej bielej farby, zrnitosť 0 - 1 mm, tvrdosť 7, 1530 kd/m | G157: m3 | H157: 10.7 | J157: =ROUND(I157*H157,3) -> 0 | N157: znížená | P157: =O157*H157 -> 0 | Q157: 2.21513 | R157: =Q157*H157 -> 23.701891 | S157: 0 | T157: =S157*H157 -> 0 | AR157: 4 | AT157: K | AU157: 2 | AY157: ROZPOCET | BE157: =IF(N157="základná",J157,0) -> 0 | BF157: =IF(N157="znížená",J157,0) -> 0 | BG157: =IF(N157="zákl. prenesená",J157,0) -> 0 | BH157: =IF(N157="zníž. prenesená",J157,0) -> 0 | BI157: =IF(N157="nulová",J157,0) -> 0 | BJ157: 2 | BK157: =ROUND(I157*H157,3) -> 0 | BL157: 4 | BM157: -1071172026
C158: 34 | D158: K | E158: 762222141,98753,2 | F158: Montáž a dodávka odrazovej dosky pred doskočiskom, podľa názornej ukážky úpravy doskočiska podľa PD | G158: súb | H158: 1 | J158: =ROUND(I158*H158,3) -> 0 | N158: znížená | P158: =O158*H158 -> 0 | Q158: 2.21513 | R158: =Q158*H158 -> 2.21513 | S158: 0 | T158: =S158*H158 -> 0 | AR158: 4 | AT158: K | AU158: 2 | AY158: ROZPOCET | BE158: =IF(N158="základná",J158,0) -> 0 | BF158: =IF(N158="znížená",J158,0) -> 0 | BG158: =IF(N158="zákl. prenesená",J158,0) -> 0 | BH158: =IF(N158="zníž. prenesená",J158,0) -> 0 | BI158: =IF(N158="nulová",J158,0) -> 0 | BJ158: 2 | BK158: =ROUND(I158*H158,3) -> 0 | BL158: 4 | BM158: -1071172026
C159: 34 | D159: K | E159: 113206111 | F159: Vytrhanie obrúb betónových, s vybúraním lôžka, z krajníkov alebo obrubníkov stojatých, -0,14500t | G159: m | H159: 472.41 | J159: =ROUND(I159*H159,3) -> 0 | N159: znížená | P159: =O159*H159 -> 0 | Q159: 0 | R159: =Q159*H159 -> 0 | S159: 0 | T159: =S159*H159 -> 0 | AR159: 4 | AT159: K | AU159: 2 | AY159: ROZPOCET | BE159: =IF(N159="základná",J159,0) -> 0 | BF159: =IF(N159="znížená",J159,0) -> 0 | BG159: =IF(N159="zákl. prenesená",J159,0) -> 0 | BH159: =IF(N159="zníž. prenesená",J159,0) -> 0 | BI159: =IF(N159="nulová",J159,0) -> 0 | BJ159: 2 | BK159: =ROUND(I159*H159,3) -> 0 | BL159: 4 | BM159: -459531204
C160: 37 | D160: K | E160: 979082212 | F160: Vodorovná doprava sutiny po suchu s naložením a so zložením na vzdialenosť do 50 m | G160: t | H160: 46.85 | J160: =ROUND(I160*H160,3) -> 0 | N160: znížená | P160: =O160*H160 -> 0 | Q160: 0 | R160: =Q160*H160 -> 0 | S160: 0 | T160: =S160*H160 -> 0 | AR160: 4 | AT160: K | AU160: 2 | AY160: ROZPOCET | BE160: =IF(N160="základná",J160,0) -> 0 | BF160: =IF(N160="znížená",J160,0) -> 0 | BG160: =IF(N160="zákl. prenesená",J160,0) -> 0 | BH160: =IF(N160="zníž. prenesená",J160,0) -> 0 | BI160: =IF(N160="nulová",J160,0) -> 0 | BJ160: 2 | BK160: =ROUND(I160*H160,3) -> 0 | BL160: 4 | BM160: 1471552673
C161: 38 | D161: K | E161: 979082219 | F161: Príplatok k cene za každý ďalší aj začatý 1 km nad 1 km | G161: t | H161: 234.25 | J161: =ROUND(I161*H161,3) -> 0 | N161: znížená | P161: =O161*H161 -> 0 | Q161: 0 | R161: =Q161*H161 -> 0 | S161: 0 | T161: =S161*H161 -> 0 | AR161: 4 | AT161: K | AU161: 2 | AY161: ROZPOCET | BE161: =IF(N161="základná",J161,0) -> 0 | BF161: =IF(N161="znížená",J161,0) -> 0 | BG161: =IF(N161="zákl. prenesená",J161,0) -> 0 | BH161: =IF(N161="zníž. prenesená",J161,0) -> 0 | BI161: =IF(N161="nulová",J161,0) -> 0 | BJ161: 2 | BK161: =ROUND(I161*H161,3) -> 0 | BL161: 4 | BM161: 2011247724
C162: 39 | D162: K | E162: 979089012 | F162: Poplatok za skladovanie - betón, tehly, dlaždice (17 01), ostatné | G162: t | H162: 46.85 | J162: =ROUND(I162*H162,3) -> 0 | BK162: =ROUND(I162*H162,3) -> 0
C163: 40 | D163: K | E163: 9790890121 | F163: Zákonný poplatok | G163: t | H163: 46.85 | J163: =ROUND(I163*H163,3) -> 0
D164: D | E164: 99 | F164: Presun hmôt HSV | J164: =SUM(J165) -> 0 | P164: =P165 -> 0 | R164: =R165 -> 0 | T164: =T165 -> 0 | AR164: 1 | AT164: D | AU164: 1 | AY164: ROZPOCET | BK164: =BK165 -> 0
C165: 43 | D165: K | E165: 998222012 | F165: Presun hmôt pre športové povrchy (8233, 8235) pre akékoľvek dľžky | G165: t | H165: 376.21 | J165: =ROUND(I165*H165,3) -> 0 | N165: znížená | P165: =O165*H165 -> 0 | Q165: 0 | R165: =Q165*H165 -> 0 | S165: 0 | T165: =S165*H165 -> 0 | AR165: 4 | AT165: K | AU165: 2 | AY165: ROZPOCET | BE165: =IF(N165="základná",J165,0) -> 0 | BF165: =IF(N165="znížená",J165,0) -> 0 | BG165: =IF(N165="zákl. prenesená",J165,0) -> 0 | BH165: =IF(N165="zníž. prenesená",J165,0) -> 0 | BI165: =IF(N165="nulová",J165,0) -> 0 | BJ165: 2 | BK165: =ROUND(I165*H165,3) -> 0 | BL165: 4 | BM165: 175917077
D166: D | E166: OST | F166: Ostatné | J166: =SUM(J167:J169) -> 0
...
