Workbook

Sheet Rekapitulácia stavby
A1: Export Komplet | BA1: 2.0 | BT1: False | BU1: False | BV1: {6f6699da-4551-4e6e-8b79-1dfcf8da807f}
AR2: >> skryté stĺpce << | BS2: 0,001 | BT2: 20
BS3: 0,001 | BT3: 20
D4: REKAPITULÁCIA STAVBY | AS4: v --- nižšie sa nachádzajú doplnkové a pomocné údaje k zostavám --- v | BE4: Návod na vyplnenie | BS4: 0,001
BE5: Meniť je možné iba bunky so žltým podfarbením!_x000D_ _x000D_ 1) na prvom liste Rekapitulácie stavby vyplňte v zostave_x000D_ _x000D_ a) Rekapitulácia stavby_x000D_ - údaje o Zhotoviteľovi_x000D_ (prenesú sa do ostatných zostáv aj v iných listoch)_x000D_ _x000D_ b) Rekapitulácia objektov stavby_x000D_ - potrebné Ostatné náklady_x000D_ _x000D_ 2) na vybraných listoch vyplňte v zostave_x000D_ _x000D_ a) Krycí list_x000D_ - údaje o Zhotoviteľovi, pokiaľ sa líšia od údajov o Zhotoviteľovi na Rekapitulácii stavby_x000D_ (údaje se prenesú do ostatných zostav v danom liste)_x000D_ _x000D_ b) Rekapitulácia rozpočtu_x000D_ - potrebné Ostatné náklady_x000D_ _x000D_ c) Celkové náklady za stavbu_x000D_ - ceny na položkách_x000D_ - množstvo, pokiaľ má žlté podfarbenie_x000D_ - a v prípade potreby poznámku (tá je v skrytom stĺpci) | BS5: 0,001
D6: Stavba: | K6: REVITALIZÁCIA ÚZEMIA HRADNÉHO KOPCA V NITRE | BS6: 0,001
D7: JKSO: | AK7: KS: | BS7: 0,001
D8: Miesto: | AK8: Dátum: | AN8: 18. 10. 2021 | BS8: 0,001
BS9: 0,001
D10: Objednávateľ: | AK10: IČO: | BS10: 0,001
E11: Mesto Nitra | AK11: IČ DPH: | BS11: 0,001
BS12: 0,001
D13: Zhotoviteľ: | AK13: IČO: | AN13: Vyplň údaj | BS13: 0,001
E14: Vyplň údaj | AK14: IČ DPH: | AN14: Vyplň údaj | BS14: 0,001
BS15: False
D16: Projektant: | AK16: IČO: | BS16: False
E17: Ing. arch. Martin Dulík AA | AK17: IČ DPH: | BS17: True
BS18: 0,01
D19: Spracovateľ: | AK19: IČO: | BS19: 0,01
E20: Ing. arch. Martin Dulík | AK20: IČ DPH: | BS20: True
D22: Poznámka:
D26: Cena bez DPH | AK26: =ROUND(AG94,2) -> 0
L28: Sadzba dane | W28: Základ dane | AK28: Výška dane
D29: DPH | F29: základná | L29: 0.2 | W29: =ROUND(AZ94, 2) -> 0 | AK29: =ROUND(AV94, 2) -> 0
F30: znížená | L30: 0.2 | W30: =ROUND(BA94, 2) -> 0 | AK30: =ROUND(AW94, 2) -> 0
F31: zákl. prenesená | L31: 0.2 | W31: =ROUND(BB94, 2) -> 0 | AK31: 0
F32: zníž. prenesená | L32: 0.2 | W32: =ROUND(BC94, 2) -> 0 | AK32: 0
F33: nulová | L33: 0 | W33: =ROUND(BD94, 2) -> 0 | AK33: 0
D35: Cena s DPH | T35: v | X35: EUR | AK35: =SUM(AK26:AK33) -> 0
D49: Projektant | AH49: Spracovateľ
D60: Dátum a podpis: | V60: Pečiatka | AH60: Dátum a podpis: | AM60: Pečiatka
D64: Objednávateľ | AH64: Zhotoviteľ
D75: Dátum a podpis: | V75: Pečiatka | AH75: Dátum a podpis: | AM75: Pečiatka
C82: REKAPITULÁCIA OBJEKTOV STAVBY
C85: Stavba: | L85: =K6 -> REVITALIZÁCIA ÚZEMIA HRADNÉHO KOPCA V NITRE
C87: Miesto: | L87: =IF(K8="","",K8) | AI87: Dátum: | AM87: =IF(AN8= "","",AN8) -> 18. 10. 2021
C89: Objednávateľ: | L89: =IF(E11= "","",E11) -> Mesto Nitra | AI89: Projektant: | AM89: =IF(E17="","",E17) -> Ing. arch. Martin Dulík AA | AS89: Informatívne údaje z listov zákaziek
C90: Zhotoviteľ: | L90: =IF(E14= "Vyplň údaj","",E14) | AI90: Spracovateľ: | AM90: =IF(E20="","",E20) -> Ing. arch. Martin Dulík
C92: Kód | I92: Popis | AG92: Cena bez DPH [EUR] | AN92: Cena s DPH [EUR] | AQ92: Typ | AS92: z toho Ostat._x000D_ náklady [EUR] | AT92: DPH [EUR] | AU92: Normohodiny [h] | AV92: DPH základná [EUR] | AW92: DPH znížená [EUR] | AX92: DPH základná prenesená_x000D_ [EUR] | AY92: DPH znížená prenesená_x000D_ [EUR] | AZ92: Základňa_x000D_ DPH základná | BA92: Základňa_x000D_ DPH znížená | BB92: Základňa_x000D_ DPH zákl. prenesená | BC92: Základňa_x000D_ DPH zníž. prenesená | BD92: Základňa_x000D_ DPH nulová
C94: Náklady z rozpočtov | AG94: =ROUND(SUM(AG95:AG111),2) -> 0 | AN94: =SUM(AG94,AT94) -> 0 | AS94: =ROUND(SUM(AS95:AS111),2) -> 0 | AT94: =ROUND(SUM(AV94:AW94),2) -> 0 | AU94: =ROUND(SUM(AU95:AU111),5) -> 0 | AV94: =ROUND(AZ94*L29,2) -> 0 | AW94: =ROUND(BA94*L30,2) -> 0 | AX94: =ROUND(BB94*L29,2) -> 0 | AY94: =ROUND(BC94*L30,2) -> 0 | AZ94: =ROUND(SUM(AZ95:AZ111),2) -> 0 | BA94: =ROUND(SUM(BA95:BA111),2) -> 0 | BB94: =ROUND(SUM(BB95:BB111),2) -> 0 | BC94: =ROUND(SUM(BC95:BC111),2) -> 0 | BD94: =ROUND(SUM(BD95:BD111),2) -> 0 | BS94: D | BT94: 0 | BU94: ###NOIMPORT### | BV94: IMPORT | BW94: {6f6699da-4551-4e6e-8b79-1dfcf8da807f} | BX94: {00000000-0000-0000-0000-000000000000}
A95: / | D95: 001 | J95: Chodník A2 | AG95: ='001 - Chodník A2'!J30 -> 0 | AN95: =SUM(AG95,AT95) -> 0 | AQ95: STA | AS95: 0 | AT95: =ROUND(SUM(AV95:AW95),2) -> 0 | AU95: ='001 - Chodník A2'!P125 -> 0 | AV95: ='001 - Chodník A2'!J33 -> 0 | AW95: ='001 - Chodník A2'!J34 -> 0 | AX95: ='001 - Chodník A2'!J35 -> 0 | AY95: ='001 - Chodník A2'!J36 -> 0 | AZ95: ='001 - Chodník A2'!F33 -> 0 | BA95: ='001 - Chodník A2'!F34 -> 0 | BB95: ='001 - Chodník A2'!F35 -> 0 | BC95: ='001 - Chodník A2'!F36 -> 0 | BD95: ='001 - Chodník A2'!F37 -> 0 | BT95: 1 | BV95: IMPORT | BW95: {21be7f48-74d5-4076-9a0d-805d18e1cfa8} | BX95: {6f6699da-4551-4e6e-8b79-1dfcf8da807f} | CM95: 0
A96: / | D96: 002 | J96: Chodník A3 | AG96: ='002 - Chodník A3'!J30 -> 0 | AN96: =SUM(AG96,AT96) -> 0 | AQ96: STA | AS96: 0 | AT96: =ROUND(SUM(AV96:AW96),2) -> 0 | AU96: ='002 - Chodník A3'!P122 -> 0 | AV96: ='002 - Chodník A3'!J33 -> 0 | AW96: ='002 - Chodník A3'!J34 -> 0 | AX96: ='002 - Chodník A3'!J35 -> 0 | AY96: ='002 - Chodník A3'!J36 -> 0 | AZ96: ='002 - Chodník A3'!F33 -> 0 | BA96: ='002 - Chodník A3'!F34 -> 0 | BB96: ='002 - Chodník A3'!F35 -> 0 | BC96: ='002 - Chodník A3'!F36 -> 0 | BD96: ='002 - Chodník A3'!F37 -> 0 | BT96: 1 | BV96: IMPORT | BW96: {5b7bd9fc-0efd-4f31-b385-578181154b79} | BX96: {6f6699da-4551-4e6e-8b79-1dfcf8da807f} | CM96: 0
A97: / | D97: 003 | J97: Chodník A4 | AG97: ='003 - Chodník A4'!J30 -> 0 | AN97: =SUM(AG97,AT97) -> 0 | AQ97: STA | AS97: 0 | AT97: =ROUND(SUM(AV97:AW97),2) -> 0 | AU97: ='003 - Chodník A4'!P123 -> 0 | AV97: ='003 - Chodník A4'!J33 -> 0 | AW97: ='003 - Chodník A4'!J34 -> 0 | AX97: ='003 - Chodník A4'!J35 -> 0 | AY97: ='003 - Chodník A4'!J36 -> 0 | AZ97: ='003 - Chodník A4'!F33 -> 0 | BA97: ='003 - Chodník A4'!F34 -> 0 | BB97: ='003 - Chodník A4'!F35 -> 0 | BC97: ='003 - Chodník A4'!F36 -> 0 | BD97: ='003 - Chodník A4'!F37 -> 0 | BT97: 1 | BV97: IMPORT | BW97: {3e00772e-795d-4d82-bd13-f25bdc46b836} | BX97: {6f6699da-4551-4e6e-8b79-1dfcf8da807f} | CM97: 0
A98: / | D98: 004 | J98: Chodník A5 | AG98: ='004 - Chodník A5'!J30 -> 0 | AN98: =SUM(AG98,AT98) -> 0 | AQ98: STA | AS98: 0 | AT98: =ROUND(SUM(AV98:AW98),2) -> 0 | AU98: ='004 - Chodník A5'!P125 -> 0 | AV98: ='004 - Chodník A5'!J33 -> 0 | AW98: ='004 - Chodník A5'!J34 -> 0 | AX98: ='004 - Chodník A5'!J35 -> 0 | AY98: ='004 - Chodník A5'!J36 -> 0 | AZ98: ='004 - Chodník A5'!F33 -> 0 | BA98: ='004 - Chodník A5'!F34 -> 0 | BB98: ='004 - Chodník A5'!F35 -> 0 | BC98: ='004 - Chodník A5'!F36 -> 0 | BD98: ='004 - Chodník A5'!F37 -> 0 | BT98: 1 | BV98: IMPORT | BW98: {24127c46-34af-4d3b-a26a-32d5e7a39d98} | BX98: {6f6699da-4551-4e6e-8b79-1dfcf8da807f} | CM98: 0
A99: / | D99: 005 | J99: Chodník A6 | AG99: ='005 - Chodník A6'!J30 -> 0 | AN99: =SUM(AG99,AT99) -> 0 | AQ99: STA | AS99: 0 | AT99: =ROUND(SUM(AV99:AW99),2) -> 0 | AU99: ='005 - Chodník A6'!P125 -> 0 | AV99: ='005 - Chodník A6'!J33 -> 0 | AW99: ='005 - Chodník A6'!J34 -> 0 | AX99: ='005 - Chodník A6'!J35 -> 0 | AY99: ='005 - Chodník A6'!J36 -> 0 | AZ99: ='005 - Chodník A6'!F33 -> 0 | BA99: ='005 - Chodník A6'!F34 -> 0 | BB99: ='005 - Chodník A6'!F35 -> 0 | BC99: ='005 - Chodník A6'!F36 -> 0 | BD99: ='005 - Chodník A6'!F37 -> 0 | BT99: 1 | BV99: IMPORT | BW99: {855faa37-0a5c-4d35-ad1c-40cc5c6fce90} | BX99: {6f6699da-4551-4e6e-8b79-1dfcf8da807f} | CM99: 0
A100: / | D100: 006 | J100: Chodník A7 | AG100: ='006 - Chodník A7'!J30 -> 0 | AN100: =SUM(AG100,AT100) -> 0 | AQ100: STA | AS100: 0 | AT100: =ROUND(SUM(AV100:AW100),2) -> 0 | AU100: ='006 - Chodník A7'!P126 -> 0 | AV100: ='006 - Chodník A7'!J33 -> 0 | AW100: ='006 - Chodník A7'!J34 -> 0 | AX100: ='006 - Chodník A7'!J35 -> 0 | AY100: ='006 - Chodník A7'!J36 -> 0 | AZ100: ='006 - Chodník A7'!F33 -> 0 | BA100: ='006 - Chodník A7'!F34 -> 0 | BB100: ='006 - Chodník A7'!F35 -> 0 | BC100: ='006 - Chodník A7'!F36 -> 0 | BD100: ='006 - Chodník A7'!F37 -> 0 | BT100: 1 | BV100: IMPORT | BW100: {f004e98b-b8fb-46fa-9165-4ac9ca6aef9c} | BX100: {6f6699da-4551-4e6e-8b79-1dfcf8da807f} | CM100: 0
A101: / | D101: 007 | J101: Chodník A8 | AG101: ='007 - Chodník A8'!J30 -> 0 | AN101: =SUM(AG101,AT101) -> 0 | AQ101: STA | AS101: 0 | AT101: =ROUND(SUM(AV101:AW101),2) -> 0 | AU101: ='007 - Chodník A8'!P122 -> 0 | AV101: ='007 - Chodník A8'!J33 -> 0 | AW101: ='007 - Chodník A8'!J34 -> 0 | AX101: ='007 - Chodník A8'!J35 -> 0 | AY101: ='007 - Chodník A8'!J36 -> 0 | AZ101: ='007 - Chodník A8'!F33 -> 0 | BA101: ='007 - Chodník A8'!F34 -> 0 | BB101: ='007 - Chodník A8'!F35 -> 0 | BC101: ='007 - Chodník A8'!F36 -> 0 | BD101: ='007 - Chodník A8'!F37 -> 0 | BT101: 1 | BV101: IMPORT | BW101: {d4d3ef33-331e-4236-b446-041abc156f25} | BX101: {6f6699da-4551-4e6e-8b79-1dfcf8da807f} | CM101: 0
A102: / | D102: 008 | J102: Chodník A9 | AG102: ='008 - Chodník A9'!J30 -> 0 | AN102: =SUM(AG102,AT102) -> 0 | AQ102: STA | AS102: 0 | AT102: =ROUND(SUM(AV102:AW102),2) -> 0 | AU102: ='008 - Chodník A9'!P124 -> 0 | AV102: ='008 - Chodník A9'!J33 -> 0 | AW102: ='008 - Chodník A9'!J34 -> 0 | AX102: ='008 - Chodník A9'!J35 -> 0 | AY102: ='008 - Chodník A9'!J36 -> 0 | AZ102: ='008 - Chodník A9'!F33 -> 0 | BA102: ='008 - Chodník A9'!F34 -> 0 | BB102: ='008 - Chodník A9'!F35 -> 0 | BC102: ='008 - Chodník A9'!F36 -> 0 | BD102: ='008 - Chodník A9'!F37 -> 0 | BT102: 1 | BV102: IMPORT | BW102: {3d4f2b3d-c776-442f-a108-947a058e5a9b} | BX102: {6f6699da-4551-4e6e-8b79-1dfcf8da807f} | CM102: 0
A103: / | D103: 009 | J103: Objekt B - Schodisko pod skalkou | AG103: ='009 - Objekt B - Schodisk...'!J30 -> 0 | AN103: =SUM(AG103,AT103) -> 0 | AQ103: STA | AS103: 0 | AT103: =ROUND(SUM(AV103:AW103),2) -> 0 | AU103: ='009 - Objekt B - Schodisk...'!P127 -> 0 | AV103: ='009 - Objekt B - Schodisk...'!J33 -> 0 | AW103: ='009 - Objekt B - Schodisk...'!J34 -> 0 | AX103: ='009 - Objekt B - Schodisk...'!J35 -> 0 | AY103: ='009 - Objekt B - Schodisk...'!J36 -> 0 | AZ103: ='009 - Objekt B - Schodisk...'!F33 -> 0 | BA103: ='009 - Objekt B - Schodisk...'!F34 -> 0 | BB103: ='009 - Objekt B - Schodisk...'!F35 -> 0 | BC103: ='009 - Objekt B - Schodisk...'!F36 -> 0 | BD103: ='009 - Objekt B - Schodisk...'!F37 -> 0 | BT103: 1 | BV103: IMPORT | BW103: {ba344a6b-ca2e-4fda-ba42-dc12e6afe495} | BX103: {6f6699da-4551-4e6e-8b79-1dfcf8da807f} | CM103: 0
A104: / | D104: 010 | J104: Objekt C - Schodisko pod jaskyňou | AG104: ='010 - Objekt C - Schodisk...'!J30 -> 0 | AN104: =SUM(AG104,AT104) -> 0 | AQ104: STA | AS104: 0 | AT104: =ROUND(SUM(AV104:AW104),2) -> 0 | AU104: ='010 - Objekt C - Schodisk...'!P128 -> 0 | AV104: ='010 - Objekt C - Schodisk...'!J33 -> 0 | AW104: ='010 - Objekt C - Schodisk...'!J34 -> 0 | AX104: ='010 - Objekt C - Schodisk...'!J35 -> 0 | AY104: ='010 - Objekt C - Schodisk...'!J36 -> 0 | AZ104: ='010 - Objekt C - Schodisk...'!F33 -> 0 | BA104: ='010 - Objekt C - Schodisk...'!F34 -> 0 | BB104: ='010 - Objekt C - Schodisk...'!F35 -> 0 | BC104: ='010 - Objekt C - Schodisk...'!F36 -> 0 | BD104: ='010 - Objekt C - Schodisk...'!F37 -> 0 | BT104: 1 | BV104: IMPORT | BW104: {505c3fea-912d-4bea-aec0-7f463676132b} | BX104: {6f6699da-4551-4e6e-8b79-1dfcf8da807f} | CM104: 0
A105: / | D105: 011 | J105: Objekt D - Mostík | AG105: ='011 - Objekt D - Mostík'!J30 -> 0 | AN105: =SUM(AG105,AT105) -> 0 | AQ105: STA | AS105: 0 | AT105: =ROUND(SUM(AV105:AW105),2) -> 0 | AU105: ='011 - Objekt D - Mostík'!P125 -> 0 | AV105: ='011 - Objekt D - Mostík'!J33 -> 0 | AW105: ='011 - Objekt D - Mostík'!J34 -> 0 | AX105: ='011 - Objekt D - Mostík'!J35 -> 0 | AY105: ='011 - Objekt D - Mostík'!J36 -> 0 | AZ105: ='011 - Objekt D - Mostík'!F33 -> 0 | BA105: ='011 - Objekt D - Mostík'!F34 -> 0 | BB105: ='011 - Objekt D - Mostík'!F35 -> 0 | BC105: ='011 - Objekt D - Mostík'!F36 -> 0 | BD105: ='011 - Objekt D - Mostík'!F37 -> 0 | BT105: 1 | BV105: IMPORT | BW105: {585f0d36-cace-4657-90e4-3195fe6a5369} | BX105: {6f6699da-4551-4e6e-8b79-1dfcf8da807f} | CM105: 0
A106: / | D106: 012 | J106: Objekt E - Schodisko bočný vstup | AG106: ='012 - Objekt E - Schodisk...'!J30 -> 0 | AN106: =SUM(AG106,AT106) -> 0 | AQ106: STA | AS106: 0 | AT106: =ROUND(SUM(AV106:AW106),2) -> 0 | AU106: ='012 - Objekt E - Schodisk...'!P122 -> 0 | AV106: ='012 - Objekt E - Schodisk...'!J33 -> 0 | AW106: ='012 - Objekt E - Schodisk...'!J34 -> 0 | AX106: ='012 - Objekt E - Schodisk...'!J35 -> 0 | AY106: ='012 - Objekt E - Schodisk...'!J36 -> 0 | AZ106: ='012 - Objekt E - Schodisk...'!F33 -> 0 | BA106: ='012 - Objekt E - Schodisk...'!F34 -> 0 | BB106: ='012 - Objekt E - Schodisk...'!F35 -> 0 | BC106: ='012 - Objekt E - Schodisk...'!F36 -> 0 | BD106: ='012 - Objekt E - Schodisk...'!F37 -> 0 | BT106: 1 | BV106: IMPORT | BW106: {5c1a72fe-67ed-471f-a75b-0dc465276b20} | BX106: {6f6699da-4551-4e6e-8b79-1dfcf8da807f} | CM106: 0
A107: / | D107: 013 | J107: Objekt F - Odpočívadlo | AG107: ='013 - Objekt F - Odpočívadlo'!J30 -> 0 | AN107: =SUM(AG107,AT107) -> 0 | AQ107: STA | AS107: 0 | AT107: =ROUND(SUM(AV107:AW107),2) -> 0 | AU107: ='013 - Objekt F - Odpočívadlo'!P125 -> 0 | AV107: ='013 - Objekt F - Odpočívadlo'!J33 -> 0 | AW107: ='013 - Objekt F - Odpočívadlo'!J34 -> 0 | AX107: ='013 - Objekt F - Odpočívadlo'!J35 -> 0 | AY107: ='013 - Objekt F - Odpočívadlo'!J36 -> 0 | AZ107: ='013 - Objekt F - Odpočívadlo'!F33 -> 0 | BA107: ='013 - Objekt F - Odpočívadlo'!F34 -> 0 | BB107: ='013 - Objekt F - Odpočívadlo'!F35 -> 0 | BC107: ='013 - Objekt F - Odpočívadlo'!F36 -> 0 | BD107: ='013 - Objekt F - Odpočívadlo'!F37 -> 0 | BT107: 1 | BV107: IMPORT | BW107: {b835ed08-b708-4626-8573-99531c25af8d} | BX107: {6f6699da-4551-4e6e-8b79-1dfcf8da807f} | CM107: 0
A108: / | D108: 014 | J108: Objekt G - Odbočenie + schodisko | AG108: ='014 - Objekt G - Odbočeni...'!J30 -> 0 | AN108: =SUM(AG108,AT108) -> 0 | AQ108: STA | AS108: 0 | AT108: =ROUND(SUM(AV108:AW108),2) -> 0 | AU108: ='014 - Objekt G - Odbočeni...'!P125 -> 0 | AV108: ='014 - Objekt G - Odbočeni...'!J33 -> 0 | AW108: ='014 - Objekt G - Odbočeni...'!J34 -> 0 | AX108: ='014 - Objekt G - Odbočeni...'!J35 -> 0 | AY108: ='014 - Objekt G - Odbočeni...'!J36 -> 0 | AZ108: ='014 - Objekt G - Odbočeni...'!F33 -> 0 | BA108: ='014 - Objekt G - Odbočeni...'!F34 -> 0 | BB108: ='014 - Objekt G - Odbočeni...'!F35 -> 0 | BC108: ='014 - Objekt G - Odbočeni...'!F36 -> 0 | BD108: ='014 - Objekt G - Odbočeni...'!F37 -> 0 | BT108: 1 | BV108: IMPORT | BW108: {f478be9a-0d29-4e89-9a00-182de49fd061} | BX108: {6f6699da-4551-4e6e-8b79-1dfcf8da807f} | CM108: 0
A109: / | D109: 015 | J109: Objekt H - Odpočívadlo | AG109: ='015 - Objekt H - Odpočívadlo'!J30 -> 0 | AN109: =SUM(AG109,AT109) -> 0 | AQ109: STA | AS109: 0 | AT109: =ROUND(SUM(AV109:AW109),2) -> 0 | AU109: ='015 - Objekt H - Odpočívadlo'!P125 -> 0 | AV109: ='015 - Objekt H - Odpočívadlo'!J33 -> 0 | AW109: ='015 - Objekt H - Odpočívadlo'!J34 -> 0 | AX109: ='015 - Objekt H - Odpočívadlo'!J35 -> 0 | AY109: ='015 - Objekt H - Odpočívadlo'!J36 -> 0 | AZ109: ='015 - Objekt H - Odpočívadlo'!F33 -> 0 | BA109: ='015 - Objekt H - Odpočívadlo'!F34 -> 0 | BB109: ='015 - Objekt H - Odpočívadlo'!F35 -> 0 | BC109: ='015 - Objekt H - Odpočívadlo'!F36 -> 0 | BD109: ='015 - Objekt H - Odpočívadlo'!F37 -> 0 | BT109: 1 | BV109: IMPORT | BW109: {7244515b-a754-4658-935f-c5d5e1db4c00} | BX109: {6f6699da-4551-4e6e-8b79-1dfcf8da807f} | CM109: 0
A110: / | D110: 016 | J110: Objekt I - Vyhliadka pod hradbami | AG110: ='016 - Objekt I - Vyhliadk...'!J30 -> 0 | AN110: =SUM(AG110,AT110) -> 0 | AQ110: STA | AS110: 0 | AT110: =ROUND(SUM(AV110:AW110),2) -> 0 | AU110: ='016 - Objekt I - Vyhliadk...'!P124 -> 0 | AV110: ='016 - Objekt I - Vyhliadk...'!J33 -> 0 | AW110: ='016 - Objekt I - Vyhliadk...'!J34 -> 0 | AX110: ='016 - Objekt I - Vyhliadk...'!J35 -> 0 | AY110: ='016 - Objekt I - Vyhliadk...'!J36 -> 0 | AZ110: ='016 - Objekt I - Vyhliadk...'!F33 -> 0 | BA110: ='016 - Objekt I - Vyhliadk...'!F34 -> 0 | BB110: ='016 - Objekt I - Vyhliadk...'!F35 -> 0 | BC110: ='016 - Objekt I - Vyhliadk...'!F36 -> 0 | BD110: ='016 - Objekt I - Vyhliadk...'!F37 -> 0 | BT110: 1 | BV110: IMPORT | BW110: {23b14c5e-f09e-49ef-9012-ae594b4567d8} | BX110: {6f6699da-4551-4e6e-8b79-1dfcf8da807f} | CM110: 0
A111: / | D111: 017 | J111: Objekt J - Úprava oplotenia – turniket bočný vstup | AG111: ='017 - Objekt J - Úprava ...'!J30 -> 0 | AN111: =SUM(AG111,AT111) -> 0 | AQ111: STA | AS111: 0 | AT111: =ROUND(SUM(AV111:AW111),2) -> 0 | AU111: ='017 - Objekt J - Úprava ...'!P118 -> 0 | AV111: ='017 - Objekt J - Úprava ...'!J33 -> 0 | AW111: ='017 - Objekt J - Úprava ...'!J34 -> 0 | AX111: ='017 - Objekt J - Úprava ...'!J35 -> 0 | AY111: ='017 - Objekt J - Úprava ...'!J36 -> 0 | AZ111: ='017 - Objekt J - Úprava ...'!F33 -> 0 | BA111: ='017 - Objekt J - Úprava ...'!F34 -> 0 | BB111: ='017 - Objekt J - Úprava ...'!F35 -> 0 | BC111: ='017 - Objekt J - Úprava ...'!F36 -> 0 | BD111: ='017 - Objekt J - Úprava ...'!F37 -> 0 | BT111: 1 | BV111: IMPORT | BW111: {7341495f-d726-4449-b113-7b85bac4b7c2} | BX111: {6f6699da-4551-4e6e-8b79-1dfcf8da807f} | CM111: 0

Sheet 001 - Chodník A2
L2: >> skryté stĺpce << | AT2: {21be7f48-74d5-4076-9a0d-805d18e1cfa8}
AT3: 0
D4: KRYCÍ LIST ROZPOČTU | M4: v --- nižšie sa nachádzajú doplnkové a pomocné údaje k zostavám --- v | AT4: False
D6: Stavba:
E7: ='Rekapitulácia stavby'!K6 -> REVITALIZÁCIA ÚZEMIA HRADNÉHO KOPCA V NITRE
D8: Objekt:
E9: 001 - Chodník A2
D11: JKSO: | I11: KS:
D12: Miesto: | I12: Dátum: | J12: ='Rekapitulácia stavby'!AN8 -> 18. 10. 2021
D14: Objednávateľ: | I14: IČO:
E15: Mesto Nitra | I15: IČ DPH:
D17: Zhotoviteľ: | I17: IČO: | J17: ='Rekapitulácia stavby'!AN13 -> Vyplň údaj
E18: ='Rekapitulácia stavby'!E14 -> Vyplň údaj | I18: IČ DPH: | J18: ='Rekapitulácia stavby'!AN14 -> Vyplň údaj
D20: Projektant: | I20: IČO:
E21: Ing. arch. Martin Dulík AA | I21: IČ DPH:
D23: Spracovateľ: | I23: IČO:
E24: Ing. arch. Martin Dulík | I24: IČ DPH:
D26: Poznámka:
D30: Cena bez DPH | J30: =ROUND(J125, 2) -> 0
F32: Základ dane | I32: Sadzba dane | J32: Výška dane
D33: DPH | E33: základná | F33: =ROUND((SUM(BE125:BE172)), 2) -> 0 | I33: 0.2 | J33: =ROUND(((SUM(BE125:BE172))*I33), 2) -> 0
E34: znížená | F34: =ROUND((SUM(BF125:BF172)), 2) -> 0 | I34: 0.2 | J34: =ROUND(((SUM(BF125:BF172))*I34), 2) -> 0
E35: zákl. prenesená | F35: =ROUND((SUM(BG125:BG172)), 2) -> 0 | I35: 0.2 | J35: =0 -> 0
E36: zníž. prenesená | F36: =ROUND((SUM(BH125:BH172)), 2) -> 0 | I36: 0.2 | J36: =0 -> 0
E37: nulová | F37: =ROUND((SUM(BI125:BI172)), 2) -> 0 | I37: 0 | J37: =0 -> 0
D39: Cena s DPH | G39: v | H39: EUR | J39: =SUM(J30:J37) -> 0
D50: Projektant | G50: Spracovateľ
D61: Dátum a podpis: | F61: Pečiatka | G61: Dátum a podpis: | J61: Pečiatka
D65: Objednávateľ | G65: Zhotoviteľ
D76: Dátum a podpis: | F76: Pečiatka | G76: Dátum a podpis: | J76: Pečiatka
C82: REKAPITULÁCIA ROZPOČTU
C84: Stavba:
E85: =E7 -> REVITALIZÁCIA ÚZEMIA HRADNÉHO KOPCA V NITRE
C86: Objekt:
E87: =E9 -> 001 - Chodník A2
C89: Miesto: | F89: =F12 | I89: Dátum: | J89: =IF(J12="","",J12) -> 18. 10. 2021
C91: Objednávateľ: | F91: =E15 -> Mesto Nitra | I91: Projektant: | J91: =E21 -> Ing. arch. Martin Dulík AA
C92: Zhotoviteľ: | F92: =IF(E18="","",E18) -> Vyplň údaj | I92: Spracovateľ: | J92: =E24 -> Ing. arch. Martin Dulík
C94: Kód dielu - Popis | J94: Cena celkom [EUR]
C96: Náklady z rozpočtu | J96: =J125 -> 0 | AU96: -1
D97: HSV - Práce a dodávky HSV | J97: =J126 -> 0
D98: 1 - Zemné práce | J98: =J127 -> 0
D99: 2 - Zakladanie | J99: =J139 -> 0
D100: 3 - Zvislé a kompletné konštrukcie | J100: =J146 -> 0
D101: 5 - Komunikácie | J101: =J151 -> 0
D102: 9 - Ostatné konštrukcie a práce-búranie | J102: =J154 -> 0
D103: 99 - Presun hmôt HSV | J103: =J167 -> 0
D104: PSV - Práce a dodávky PSV | J104: =J169 -> 0
D105: 721 - Zdravotechnika - vnútorná kanalizácia | J105: =J170 -> 0
C112: ROZPOČET
C114: Stavba:
E115: =E7 -> REVITALIZÁCIA ÚZEMIA HRADNÉHO KOPCA V NITRE
C116: Objekt:
E117: =E9 -> 001 - Chodník A2
C119: Miesto: | F119: =F12 | I119: Dátum: | J119: =IF(J12="","",J12) -> 18. 10. 2021
C121: Objednávateľ: | F121: =E15 -> Mesto Nitra | I121: Projektant: | J121: =E21 -> Ing. arch. Martin Dulík AA
C122: Zhotoviteľ: | F122: =IF(E18="","",E18) -> Vyplň údaj | I122: Spracovateľ: | J122: =E24 -> Ing. arch. Martin Dulík
C124: PČ | D124: Typ | E124: Kód | F124: Popis | G124: MJ | H124: Množstvo | I124: J.cena [EUR] | J124: Cena celkom [EUR] | K124: Cenová sústava | N124: DPH | O124: J. Nh [h] | P124: Nh celkom [h] | Q124: J. hmotnosť [t] | R124: Hmotnosť celkom [t] | S124: J. suť [t] | T124: Suť Celkom [t]
C125: Náklady z rozpočtu | J125: =BK125 -> 0 | P125: =P126+P169 -> 0 | R125: =R126+R169 -> 0 | T125: =T126+T169 -> 0 | AT125: D | AU125: -1 | BK125: =BK126+BK169 -> 0
D126: D | E126: HSV | F126: Práce a dodávky HSV | J126: =BK126 -> 0 | P126: =P127+P139+P146+P151+P154+P167 -> 0 | R126: =R127+R139+R146+R151+R154+R167 -> 0 | T126: =T127+T139+T146+T151+T154+T167 -> 0 | AR126: 1 | AT126: D | AU126: 0 | AY126: ROZPOCET | BK126: =BK127+BK139+BK146+BK151+BK154+BK167 -> 0
D127: D | E127: 1 | F127: Zemné práce | J127: =BK127 -> 0 | P127: =SUM(P128:P138) -> 0 | R127: =SUM(R128:R138) -> 0 | T127: =SUM(T128:T138) -> 0 | AR127: 1 | AT127: D | AU127: 1 | AY127: ROZPOCET | BK127: =SUM(BK128:BK138) -> 0
C128: 1 | D128: K | E128: 113107221.S | F128: Odstránenie krytu v ploche nad 200 m2 z kameniva hrubého drveného, hr. do 100 mm, -0,13000t | G128: m2 | H128: 254.68 | J128: =ROUND(I128*H128,3) -> 0 | N128: znížená | P128: =O128*H128 -> 0 | Q128: 0 | R128: =Q128*H128 -> 0 | S128: 0 | T128: =S128*H128 -> 0 | AR128: 4 | AT128: K | AU128: 2 | AY128: ROZPOCET | BE128: =IF(N128="základná",J128,0) -> 0 | BF128: =IF(N128="znížená",J128,0) -> 0 | BG128: =IF(N128="zákl. prenesená",J128,0) -> 0 | BH128: =IF(N128="zníž. prenesená",J128,0) -> 0 | BI128: =IF(N128="nulová",J128,0) -> 0 | BJ128: 2 | BK128: =ROUND(I128*H128,3) -> 0 | BL128: 4 | BM128: 2
C129: 2 | D129: K | E129: 113202111.S | F129: Vytrhanie obrúb kamenných, s vybúraním lôžka, z krajníkov alebo obrubníkov stojatých, -0,14500t | G129: m | H129: 127.161 | J129: =ROUND(I129*H129,3) -> 0 | N129: znížená | P129: =O129*H129 -> 0 | Q129: 0 | R129: =Q129*H129 -> 0 | S129: 0 | T129: =S129*H129 -> 0 | AR129: 4 | AT129: K | AU129: 2 | AY129: ROZPOCET | BE129: =IF(N129="základná",J129,0) -> 0 | BF129: =IF(N129="znížená",J129,0) -> 0 | BG129: =IF(N129="zákl. prenesená",J129,0) -> 0 | BH129: =IF(N129="zníž. prenesená",J129,0) -> 0 | BI129: =IF(N129="nulová",J129,0) -> 0 | BJ129: 2 | BK129: =ROUND(I129*H129,3) -> 0 | BL129: 4 | BM129: 4
C130: 3 | D130: K | E130: 120901121.S | F130: Búranie konštrukcií z betónu prostého neprekladaného kameňom v odkopávkach | G130: m3 | H130: 6.294 | J130: =ROUND(I130*H130,3) -> 0 | N130: znížená | P130: =O130*H130 -> 0 | Q130: 0 | R130: =Q130*H130 -> 0 | S130: 0 | T130: =S130*H130 -> 0 | AR130: 4 | AT130: K | AU130: 2 | AY130: ROZPOCET | BE130: =IF(N130="základná",J130,0) -> 0 | BF130: =IF(N130="znížená",J130,0) -> 0 | BG130: =IF(N130="zákl. prenesená",J130,0) -> 0 | BH130: =IF(N130="zníž. prenesená",J130,0) -> 0 | BI130: =IF(N130="nulová",J130,0) -> 0 | BJ130: 2 | BK130: =ROUND(I130*H130,3) -> 0 | BL130: 4 | BM130: 6
C131: 4 | D131: K | E131: 122301101.S | F131: Odkopávka a prekopávka nezapažená v hornine 4, do 100 m3 | G131: m3 | H131: 37.786 | J131: =ROUND(I131*H131,3) -> 0 | N131: znížená | P131: =O131*H131 -> 0 | Q131: 0 | R131: =Q131*H131 -> 0 | S131: 0 | T131: =S131*H131 -> 0 | AR131: 4 | AT131: K | AU131: 2 | AY131: ROZPOCET | BE131: =IF(N131="základná",J131,0) -> 0 | BF131: =IF(N131="znížená",J131,0) -> 0 | BG131: =IF(N131="zákl. prenesená",J131,0) -> 0 | BH131: =IF(N131="zníž. prenesená",J131,0) -> 0 | BI131: =IF(N131="nulová",J131,0) -> 0 | BJ131: 2 | BK131: =ROUND(I131*H131,3) -> 0 | BL131: 4 | BM131: 8
C132: 5 | D132: K | E132: 132211101.S | F132: Hĺbenie rýh šírky do 600 mm v hornine tr.3 súdržných - ručným náradím | G132: m3 | H132: 52.563 | J132: =ROUND(I132*H132,3) -> 0 | N132: znížená | P132: =O132*H132 -> 0 | Q132: 0 | R132: =Q132*H132 -> 0 | S132: 0 | T132: =S132*H132 -> 0 | AR132: 4 | AT132: K | AU132: 2 | AY132: ROZPOCET | BE132: =IF(N132="základná",J132,0) -> 0 | BF132: =IF(N132="znížená",J132,0) -> 0 | BG132: =IF(N132="zákl. prenesená",J132,0) -> 0 | BH132: =IF(N132="zníž. prenesená",J132,0) -> 0 | BI132: =IF(N132="nulová",J132,0) -> 0 | BJ132: 2 | BK132: =ROUND(I132*H132,3) -> 0 | BL132: 4 | BM132: 10
C133: 6 | D133: K | E133: 162201201.S | F133: Vodorovné premiestnenie výkopu nosením do 10 m horniny 1 až 4 | G133: m3 | H133: 90.349 | J133: =ROUND(I133*H133,3) -> 0 | N133: znížená | P133: =O133*H133 -> 0 | Q133: 0 | R133: =Q133*H133 -> 0 | S133: 0 | T133: =S133*H133 -> 0 | AR133: 4 | AT133: K | AU133: 2 | AY133: ROZPOCET | BE133: =IF(N133="základná",J133,0) -> 0 | BF133: =IF(N133="znížená",J133,0) -> 0 | BG133: =IF(N133="zákl. prenesená",J133,0) -> 0 | BH133: =IF(N133="zníž. prenesená",J133,0) -> 0 | BI133: =IF(N133="nulová",J133,0) -> 0 | BJ133: 2 | BK133: =ROUND(I133*H133,3) -> 0 | BL133: 4 | BM133: 12
C134: 7 | D134: K | E134: 162201209.S | F134: Vodorovné premiestnenie výkopu nosením do 10 m horniny 1 až 4 - príplatok k cene za každých ďalších 10 m | G134: m3 | H134: 2168.376 | J134: =ROUND(I134*H134,3) -> 0 | N134: znížená | P134: =O134*H134 -> 0 | Q134: 0 | R134: =Q134*H134 -> 0 | S134: 0 | T134: =S134*H134 -> 0 | AR134: 4 | AT134: K | AU134: 2 | AY134: ROZPOCET | BE134: =IF(N134="základná",J134,0) -> 0 | BF134: =IF(N134="znížená",J134,0) -> 0 | BG134: =IF(N134="zákl. prenesená",J134,0) -> 0 | BH134: =IF(N134="zníž. prenesená",J134,0) -> 0 | BI134: =IF(N134="nulová",J134,0) -> 0 | BJ134: 2 | BK134: =ROUND(I134*H134,3) -> 0 | BL134: 4 | BM134: 14
C135: 8 | D135: K | E135: 162501102.S | F135: Vodorovné premiestnenie výkopku po spevnenej ceste z horniny tr.1-4, do 100 m3 na vzdialenosť do 3000 m | G135: m3 | H135: 90.349 | J135: =ROUND(I135*H135,3) -> 0 | N135: znížená | P135: =O135*H135 -> 0 | Q135: 0 | R135: =Q135*H135 -> 0 | S135: 0 | T135: =S135*H135 -> 0 | AR135: 4 | AT135: K | AU135: 2 | AY135: ROZPOCET | BE135: =IF(N135="základná",J135,0) -> 0 | BF135: =IF(N135="znížená",J135,0) -> 0 | BG135: =IF(N135="zákl. prenesená",J135,0) -> 0 | BH135: =IF(N135="zníž. prenesená",J135,0) -> 0 | BI135: =IF(N135="nulová",J135,0) -> 0 | BJ135: 2 | BK135: =ROUND(I135*H135,3) -> 0 | BL135: 4 | BM135: 16
C136: 9 | D136: K | E136: 162501105.S | F136: Vodorovné premiestnenie výkopku po spevnenej ceste z horniny tr.1-4, do 100 m3, príplatok k cene za každých ďalšich a začatých 1000 m | G136: m3 | H136: 632.443 | J136: =ROUND(I136*H136,3) -> 0 | N136: znížená | P136: =O136*H136 -> 0 | Q136: 0 | R136: =Q136*H136 -> 0 | S136: 0 | T136: =S136*H136 -> 0 | AR136: 4 | AT136: K | AU136: 2 | AY136: ROZPOCET | BE136: =IF(N136="základná",J136,0) -> 0 | BF136: =IF(N136="znížená",J136,0) -> 0 | BG136: =IF(N136="zákl. prenesená",J136,0) -> 0 | BH136: =IF(N136="zníž. prenesená",J136,0) -> 0 | BI136: =IF(N136="nulová",J136,0) -> 0 | BJ136: 2 | BK136: =ROUND(I136*H136,3) -> 0 | BL136: 4 | BM136: 18
C137: 10 | D137: K | E137: 167101100.S | F137: Nakladanie výkopku tr.1-4 ručne | G137: m3 | H137: 90.349 | J137: =ROUND(I137*H137,3) -> 0 | N137: znížená | P137: =O137*H137 -> 0 | Q137: 0 | R137: =Q137*H137 -> 0 | S137: 0 | T137: =S137*H137 -> 0 | AR137: 4 | AT137: K | AU137: 2 | AY137: ROZPOCET | BE137: =IF(N137="základná",J137,0) -> 0 | BF137: =IF(N137="znížená",J137,0) -> 0 | BG137: =IF(N137="zákl. prenesená",J137,0) -> 0 | BH137: =IF(N137="zníž. prenesená",J137,0) -> 0 | BI137: =IF(N137="nulová",J137,0) -> 0 | BJ137: 2 | BK137: =ROUND(I137*H137,3) -> 0 | BL137: 4 | BM137: 20
C138: 11 | D138: K | E138: 171209002.S | F138: Poplatok za skladovanie - zemina a kamenivo (17 05) ostatné | G138: t | H138: 135.524 | J138: =ROUND(I138*H138,3) -> 0 | N138: znížená | P138: =O138*H138 -> 0 | Q138: 0 | R138: =Q138*H138 -> 0 | S138: 0 | T138: =S138*H138 -> 0 | AR138: 4 | AT138: K | AU138: 2 | AY138: ROZPOCET | BE138: =IF(N138="základná",J138,0) -> 0 | BF138: =IF(N138="znížená",J138,0) -> 0 | BG138: =IF(N138="zákl. prenesená",J138,0) -> 0 | BH138: =IF(N138="zníž. prenesená",J138,0) -> 0 | BI138: =IF(N138="nulová",J138,0) -> 0 | BJ138: 2 | BK138: =ROUND(I138*H138,3) -> 0 | BL138: 4 | BM138: 22
D139: D | E139: 2 | F139: Zakladanie | J139: =BK139 -> 0 | P139: =SUM(P140:P145) -> 0 | R139: =SUM(R140:R145) -> 0 | T139: =SUM(T140:T145) -> 0 | AR139: 1 | AT139: D | AU139: 1 | AY139: ROZPOCET | BK139: =SUM(BK140:BK145) -> 0
C140: 12 | D140: K | E140: 211971121.S | F140: Zhotov. oplášt. výplne z geotext. v ryhe alebo v záreze pri rozvinutej šírke oplášt. od 0 do 2, 5 m | G140: m2 | H140: 301.37 | J140: =ROUND(I140*H140,3) -> 0 | N140: znížená | P140: =O140*H140 -> 0 | Q140: 0 | R140: =Q140*H140 -> 0 | S140: 0 | T140: =S140*H140 -> 0 | AR140: 4 | AT140: K | AU140: 2 | AY140: ROZPOCET | BE140: =IF(N140="základná",J140,0) -> 0 | BF140: =IF(N140="znížená",J140,0) -> 0 | BG140: =IF(N140="zákl. prenesená",J140,0) -> 0 | BH140: =IF(N140="zníž. prenesená",J140,0) -> 0 | BI140: =IF(N140="nulová",J140,0) -> 0 | BJ140: 2 | BK140: =ROUND(I140*H140,3) -> 0 | BL140: 4 | BM140: 24
C141: 13 | D141: M | E141: 693110004500.S | F141: Geotextília polypropylénová netkaná 300 g/m2 | G141: m2 | H141: 307.397 | J141: =ROUND(I141*H141,3) -> 0 | N141: znížená | P141: =O141*H141 -> 0 | Q141: 0 | R141: =Q141*H141 -> 0 | S141: 0 | T141: =S141*H141 -> 0 | AR141: 8 | AT141: M | AU141: 2 | AY141: ROZPOCET | BE141: =IF(N141="základná",J141,0) -> 0 | BF141: =IF(N141="znížená",J141,0) -> 0 | BG141: =IF(N141="zákl. prenesená",J141,0) -> 0 | BH141: =IF(N141="zníž. prenesená",J141,0) -> 0 | BI141: =IF(N141="nulová",J141,0) -> 0 | BJ141: 2 | BK141: =ROUND(I141*H141,3) -> 0 | BL141: 4 | BM141: 26
C142: 14 | D142: K | E142: 247571113.S | F142: Obsyp a tesnenie, obsyp so zhutnením z kameniva 16-32 mm | G142: m3 | H142: 13.894 | J142: =ROUND(I142*H142,3) -> 0 | N142: znížená | P142: =O142*H142 -> 0 | Q142: 0 | R142: =Q142*H142 -> 0 | S142: 0 | T142: =S142*H142 -> 0 | AR142: 4 | AT142: K | AU142: 2 | AY142: ROZPOCET | BE142: =IF(N142="základná",J142,0) -> 0 | BF142: =IF(N142="znížená",J142,0) -> 0 | BG142: =IF(N142="zákl. prenesená",J142,0) -> 0 | BH142: =IF(N142="zníž. prenesená",J142,0) -> 0 | BI142: =IF(N142="nulová",J142,0) -> 0 | BJ142: 2 | BK142: =ROUND(I142*H142,3) -> 0 | BL142: 4 | BM142: 28
C143: 15 | D143: K | E143: 274313611.S | F143: Betón základových pásov, prostý tr. C 16/20 | G143: m3 | H143: 53.831 | J143: =ROUND(I143*H143,3) -> 0 | N143: znížená | P143: =O143*H143 -> 0 | Q143: 0 | R143: =Q143*H143 -> 0 | S143: 0 | T143: =S143*H143 -> 0 | AR143: 4 | AT143: K | AU143: 2 | AY143: ROZPOCET | BE143: =IF(N143="základná",J143,0) -> 0 | BF143: =IF(N143="znížená",J143,0) -> 0 | BG143: =IF(N143="zákl. prenesená",J143,0) -> 0 | BH143: =IF(N143="zníž. prenesená",J143,0) -> 0 | BI143: =IF(N143="nulová",J143,0) -> 0 | BJ143: 2 | BK143: =ROUND(I143*H143,3) -> 0 | BL143: 4 | BM143: 30
C144: 16 | D144: K | E144: 274351215.S | F144: Debnenie stien základových pásov, zhotovenie-dielce | G144: m2 | H144: 89.013 | J144: =ROUND(I144*H144,3) -> 0 | N144: znížená | P144: =O144*H144 -> 0 | Q144: 0 | R144: =Q144*H144 -> 0 | S144: 0 | T144: =S144*H144 -> 0 | AR144: 4 | AT144: K | AU144: 2 | AY144: ROZPOCET | BE144: =IF(N144="základná",J144,0) -> 0 | BF144: =IF(N144="znížená",J144,0) -> 0 | BG144: =IF(N144="zákl. prenesená",J144,0) -> 0 | BH144: =IF(N144="zníž. prenesená",J144,0) -> 0 | BI144: =IF(N144="nulová",J144,0) -> 0 | BJ144: 2 | BK144: =ROUND(I144*H144,3) -> 0 | BL144: 4 | BM144: 32
C145: 17 | D145: K | E145: 274351216.S | F145: Debnenie stien základových pásov, odstránenie-dielce | G145: m2 | H145: 89.013 | J145: =ROUND(I145*H145,3) -> 0 | N145: znížená | P145: =O145*H145 -> 0 | Q145: 0 | R145: =Q145*H145 -> 0 | S145: 0 | T145: =S145*H145 -> 0 | AR145: 4 | AT145: K | AU145: 2 | AY145: ROZPOCET | BE145: =IF(N145="základná",J145,0) -> 0 | BF145: =IF(N145="znížená",J145,0) -> 0 | BG145: =IF(N145="zákl. prenesená",J145,0) -> 0 | BH145: =IF(N145="zníž. prenesená",J145,0) -> 0 | BI145: =IF(N145="nulová",J145,0) -> 0 | BJ145: 2 | BK145: =ROUND(I145*H145,3) -> 0 | BL145: 4 | BM145: 34
D146: D | E146: 3 | F146: Zvislé a kompletné konštrukcie | J146: =BK146 -> 0 | P146: =SUM(P147:P150) -> 0 | R146: =SUM(R147:R150) -> 0 | T146: =SUM(T147:T150) -> 0 | AR146: 1 | AT146: D | AU146: 1 | AY146: ROZPOCET | BK146: =SUM(BK147:BK150) -> 0
C147: 18 | D147: K | E147: 327323127.S | F147: Múry a valy z betónu železového tr. C 25/30 | G147: m3 | H147: 19.792 | J147: =ROUND(I147*H147,3) -> 0 | N147: znížená | P147: =O147*H147 -> 0 | Q147: 0 | R147: =Q147*H147 -> 0 | S147: 0 | T147: =S147*H147 -> 0 | AR147: 4 | AT147: K | AU147: 2 | AY147: ROZPOCET | BE147: =IF(N147="základná",J147,0) -> 0 | BF147: =IF(N147="znížená",J147,0) -> 0 | BG147: =IF(N147="zákl. prenesená",J147,0) -> 0 | BH147: =IF(N147="zníž. prenesená",J147,0) -> 0 | BI147: =IF(N147="nulová",J147,0) -> 0 | BJ147: 2 | BK147: =ROUND(I147*H147,3) -> 0 | BL147: 4 | BM147: 36
C148: 19 | D148: K | E148: 327351211.S | F148: Debnenie múrov a valov zvislých aj sklonených, výšky do 20 m zhotovenie | G148: m2 | H148: 38.246 | J148: =ROUND(I148*H148,3) -> 0 | N148: znížená | P148: =O148*H148 -> 0 | Q148: 0 | R148: =Q148*H148 -> 0 | S148: 0 | T148: =S148*H148 -> 0 | AR148: 4 | AT148: K | AU148: 2 | AY148: ROZPOCET | BE148: =IF(N148="základná",J148,0) -> 0 | BF148: =IF(N148="znížená",J148,0) -> 0 | BG148: =IF(N148="zákl. prenesená",J148,0) -> 0 | BH148: =IF(N148="zníž. prenesená",J148,0) -> 0 | BI148: =IF(N148="nulová",J148,0) -> 0 | BJ148: 2 | BK148: =ROUND(I148*H148,3) -> 0 | BL148: 4 | BM148: 38
C149: 20 | D149: K | E149: 327351221.S | F149: Debnenie múrov a valov zvislých aj sklonených, výšky do 20 m odstránenie | G149: m2 | H149: 38.246 | J149: =ROUND(I149*H149,3) -> 0 | N149: znížená | P149: =O149*H149 -> 0 | Q149: 0 | R149: =Q149*H149 -> 0 | S149: 0 | T149: =S149*H149 -> 0 | AR149: 4 | AT149: K | AU149: 2 | AY149: ROZPOCET | BE149: =IF(N149="základná",J149,0) -> 0 | BF149: =IF(N149="znížená",J149,0) -> 0 | BG149: =IF(N149="zákl. prenesená",J149,0) -> 0 | BH149: =IF(N149="zníž. prenesená",J149,0) -> 0 | BI149: =IF(N149="nulová",J149,0) -> 0 | BJ149: 2 | BK149: =ROUND(I149*H149,3) -> 0 | BL149: 4 | BM149: 40
C150: 21 | D150: K | E150: 327361006.S | F150: Výstuž múrov a valov priemeru do 12 mm, z ocele B500 (10505) | G150: t | H150: 3.365 | J150: =ROUND(I150*H150,3) -> 0 | N150: znížená | P150: =O150*H150 -> 0 | Q150: 0 | R150: =Q150*H150 -> 0 | S150: 0 | T150: =S150*H150 -> 0 | AR150: 4 | AT150: K | AU150: 2 | AY150: ROZPOCET | BE150: =IF(N150="základná",J150,0) -> 0 | BF150: =IF(N150="znížená",J150,0) -> 0 | BG150: =IF(N150="zákl. prenesená",J150,0) -> 0 | BH150: =IF(N150="zníž. prenesená",J150,0) -> 0 | BI150: =IF(N150="nulová",J150,0) -> 0 | BJ150: 2 | BK150: =ROUND(I150*H150,3) -> 0 | BL150: 4 | BM150: 42
D151: D | E151: 5 | F151: Komunikácie | J151: =BK151 -> 0 | P151: =SUM(P152:P153) -> 0 | R151: =SUM(R152:R153) -> 0 | T151: =SUM(T152:T153) -> 0 | AR151: 1 | AT151: D | AU151: 1 | AY151: ROZPOCET | BK151: =SUM(BK152:BK153) -> 0
C152: 22 | D152: K | E152: 564740111.S | F152: Podklad alebo kryt z kameniva hrubého drveného veľ. 8-16 mm s rozprestretím a zhutnením hr. 120 mm | G152: m2 | H152: 254.68 | J152: =ROUND(I152*H152,3) -> 0 | N152: znížená | P152: =O152*H152 -> 0 | Q152: 0 | R152: =Q152*H152 -> 0 | S152: 0 | T152: =S152*H152 -> 0 | AR152: 4 | AT152: K | AU152: 2 | AY152: ROZPOCET | BE152: =IF(N152="základná",J152,0) -> 0 | BF152: =IF(N152="znížená",J152,0) -> 0 | BG152: =IF(N152="zákl. prenesená",J152,0) -> 0 | BH152: =IF(N152="zníž. prenesená",J152,0) -> 0 | BI152: =IF(N152="nulová",J152,0) -> 0 | BJ152: 2 | BK152: =ROUND(I152*H152,3) -> 0 | BL152: 4 | BM152: 44
C153: 23 | D153: K | E153: 564782419.S | F153: Mlátový povrch chodníka hr. 80 mm | G153: m2 | H153: 254.68 | J153: =ROUND(I153*H153,3) -> 0 | N153: znížená | P153: =O153*H153 -> 0 | Q153: 0 | R153: =Q153*H153 -> 0 | S153: 0 | T153: =S153*H153 -> 0 | AR153: 4 | AT153: K | AU153: 2 | AY153: ROZPOCET | BE153: =IF(N153="základná",J153,0) -> 0 | BF153: =IF(N153="znížená",J153,0) -> 0 | BG153: =IF(N153="zákl. prenesená",J153,0) -> 0 | BH153: =IF(N153="zníž. prenesená",J153,0) -> 0 | BI153: =IF(N153="nulová",J153,0) -> 0 | BJ153: 2 | BK153: =ROUND(I153*H153,3) -> 0 | BL153: 4 | BM153: 46
D154: D | E154: 9 | F154: Ostatné konštrukcie a práce-búranie | J154: =BK154 -> 0 | P154: =SUM(P155:P166) -> 0 | R154: =SUM(R155:R166) -> 0 | T154: =SUM(T155:T166) -> 0 | AR154: 1 | AT154: D | AU154: 1 | AY154: ROZPOCET | BK154: =SUM(BK155:BK166) -> 0
C155: 24 | D155: K | E155: 917161111.S | F155: Osadenie chodník. obrubníka kamenného ležatého do lôžka z betónu prostého tr. C 12/15 s bočnou oporou | G155: m | H155: 127.161 | J155: =ROUND(I155*H155,3) -> 0 | N155: znížená | P155: =O155*H155 -> 0 | Q155: 0 | R155: =Q155*H155 -> 0 | S155: 0 | T155: =S155*H155 -> 0 | AR155: 4 | AT155: K | AU155: 2 | AY155: ROZPOCET | BE155: =IF(N155="základná",J155,0) -> 0 | BF155: =IF(N155="znížená",J155,0) -> 0 | BG155: =IF(N155="zákl. prenesená",J155,0) -> 0 | BH155: =IF(N155="zníž. prenesená",J155,0) -> 0 | BI155: =IF(N155="nulová",J155,0) -> 0 | BJ155: 2 | BK155: =ROUND(I155*H155,3) -> 0 | BL155: 4 | BM155: 48
C156: 25 | D156: M | E156: 583810001300.S | F156: Obrubník kamenný rovný z vyvretých hornín | G156: m | H156: 128.433 | J156: =ROUND(I156*H156,3) -> 0 | N156: znížená | P156: =O156*H156 -> 0 | Q156: 0 | R156: =Q156*H156 -> 0 | S156: 0 | T156: =S156*H156 -> 0 | AR156: 8 | AT156: M | AU156: 2 | AY156: ROZPOCET | BE156: =IF(N156="základná",J156,0) -> 0 | BF156: =IF(N156="znížená",J156,0) -> 0 | BG156: =IF(N156="zákl. prenesená",J156,0) -> 0 | BH156: =IF(N156="zníž. prenesená",J156,0) -> 0 | BI156: =IF(N156="nulová",J156,0) -> 0 | BJ156: 2 | BK156: =ROUND(I156*H156,3) -> 0 | BL156: 4 | BM156: 50
C157: 26 | D157: K | E157: 935114443.S | F157: Osadenie odvodňovacieho betónového žľabu univerzálneho s ochrannou hranou svetlej šírky 300 mm a s roštom triedy C 250 | G157: m | H157: 16.07 | J157: =ROUND(I157*H157,3) -> 0 | N157: znížená | P157: =O157*H157 -> 0 | Q157: 0 | R157: =Q157*H157 -> 0 | S157: 0 | T157: =S157*H157 -> 0 | AR157: 4 | AT157: K | AU157: 2 | AY157: ROZPOCET | BE157: =IF(N157="základná",J157,0) -> 0 | BF157: =IF(N157="znížená",J157,0) -> 0 | BG157: =IF(N157="zákl. prenesená",J157,0) -> 0 | BH157: =IF(N157="zníž. prenesená",J157,0) -> 0 | BI157: =IF(N157="nulová",J157,0) -> 0 | BJ157: 2 | BK157: =ROUND(I157*H157,3) -> 0 | BL157: 4 | BM157: 52
C158: 27 | D158: M | E158: 5922300101 | F158: Odvodňovací žľab š. 300, s odvodnením | G158: m | H158: 16.07 | J158: =ROUND(I158*H158,3) -> 0 | N158: znížená | P158: =O158*H158 -> 0 | Q158: 0 | R158: =Q158*H158 -> 0 | S158: 0 | T158: =S158*H158 -> 0 | AR158: 8 | AT158: M | AU158: 2 | AY158: ROZPOCET | BE158: =IF(N158="základná",J158,0) -> 0 | BF158: =IF(N158="znížená",J158,0) -> 0 | BG158: =IF(N158="zákl. prenesená",J158,0) -> 0 | BH158: =IF(N158="zníž. prenesená",J158,0) -> 0 | BI158: =IF(N158="nulová",J158,0) -> 0 | BJ158: 2 | BK158: =ROUND(I158*H158,3) -> 0 | BL158: 4 | BM158: 54
C159: 28 | D159: K | E159: 935914210.S | F159: Osadenie odvodňovacej oceľovej zvodnice | G159: m | H159: 21 | J159: =ROUND(I159*H159,3) -> 0 | N159: znížená | P159: =O159*H159 -> 0 | Q159: 0 | R159: =Q159*H159 -> 0 | S159: 0 | T159: =S159*H159 -> 0 | AR159: 4 | AT159: K | AU159: 2 | AY159: ROZPOCET | BE159: =IF(N159="základná",J159,0) -> 0 | BF159: =IF(N159="znížená",J159,0) -> 0 | BG159: =IF(N159="zákl. prenesená",J159,0) -> 0 | BH159: =IF(N159="zníž. prenesená",J159,0) -> 0 | BI159: =IF(N159="nulová",J159,0) -> 0 | BJ159: 2 | BK159: =ROUND(I159*H159,3) -> 0 | BL159: 4 | BM159: 56
C160: 29 | D160: M | E160: 553469510 | F160: Oceľová zvodnica bez roštu Raudo Viaqua 100x90, dl. 3,0 m | G160: kus | H160: 7 | J160: =ROUND(I160*H160,3) -> 0 | N160: znížená | P160: =O160*H160 -> 0 | Q160: 0 | R160: =Q160*H160 -> 0 | S160: 0 | T160: =S160*H160 -> 0 | AR160: 8 | AT160: M | AU160: 2 | AY160: ROZPOCET | BE160: =IF(N160="základná",J160,0) -> 0 | BF160: =IF(N160="znížená",J160,0) -> 0 | BG160: =IF(N160="zákl. prenesená",J160,0) -> 0 | BH160: =IF(N160="zníž. prenesená",J160,0) -> 0 | BI160: =IF(N160="nulová",J160,0) -> 0 | BJ160: 2 | BK160: =ROUND(I160*H160,3) -> 0 | BL160: 4 | BM160: 58
C161: 30 | D161: K | E161: 962022391.S | F161: Búranie muriva alebo vybúranie otvorov plochy nad 4 m2 nadzákladového kamenného príp. zmieš. na akúkoľvek maltu, -2,38500t | G161: m3 | H161: 12.424 | J161: =ROUND(I161*H161,3) -> 0 | N161: znížená | P161: =O161*H161 -> 0 | Q161: 0 | R161: =Q161*H161 -> 0 | S161: 0 | T161: =S161*H161 -> 0 | AR161: 4 | AT161: K | AU161: 2 | AY161: ROZPOCET | BE161: =IF(N161="základná",J161,0) -> 0 | BF161: =IF(N161="znížená",J161,0) -> 0 | BG161: =IF(N161="zákl. prenesená",J161,0) -> 0 | BH161: =IF(N161="zníž. prenesená",J161,0) -> 0 | BI161: =IF(N161="nulová",J161,0) -> 0 | BJ161: 2 | BK161: =ROUND(I161*H161,3) -> 0 | BL161: 4 | BM161: 60
C162: 31 | D162: K | E162: 979081111.S | F162: Odvoz sutiny a vybúraných hmôt na skládku do 1 km | G162: t | H162: 95.025 | J162: =ROUND(I162*H162,3) -> 0 | N162: znížená | P162: =O162*H162 -> 0 | Q162: 0 | R162: =Q162*H162 -> 0 | S162: 0 | T162: =S162*H162 -> 0 | AR162: 4 | AT162: K | AU162: 2 | AY162: ROZPOCET | BE162: =IF(N162="základná",J162,0) -> 0 | BF162: =IF(N162="znížená",J162,0) -> 0 | BG162: =IF(N162="zákl. prenesená",J162,0) -> 0 | BH162: =IF(N162="zníž. prenesená",J162,0) -> 0 | BI162: =IF(N162="nulová",J162,0) -> 0 | BJ162: 2 | BK162: =ROUND(I162*H162,3) -> 0 | BL162: 4 | BM162: 62
C163: 32 | D163: K | E163: 979081121.S | F163: Odvoz sutiny a vybúraných hmôt na skládku za každý ďalší 1 km | G163: t | H163: 855.225 | J163: =ROUND(I163*H163,3) -> 0 | N163: znížená | P163: =O163*H163 -> 0 | Q163: 0 | R163: =Q163*H163 -> 0 | S163: 0 | T163: =S163*H163 -> 0 | AR163: 4 | AT163: K | AU163: 2 | AY163: ROZPOCET | BE163: =IF(N163="základná",J163,0) -> 0 | BF163: =IF(N163="znížená",J163,0) -> 0 | BG163: =IF(N163="zákl. prenesená",J163,0) -> 0 | BH163: =IF(N163="zníž. prenesená",J163,0) -> 0 | BI163: =IF(N163="nulová",J163,0) -> 0 | BJ163: 2 | BK163: =ROUND(I163*H163,3) -> 0 | BL163: 4 | BM163: 64
C164: 33 | D164: K | E164: 979082111.S | F164: Vnútrostavenisková doprava sutiny a vybúraných hmôt do 10 m, ručný presun | G164: t | H164: 95.025 | J164: =ROUND(I164*H164,3) -> 0 | N164: znížená | P164: =O164*H164 -> 0 | Q164: 0 | R164: =Q164*H164 -> 0 | S164: 0 | T164: =S164*H164 -> 0 | AR164: 4 | AT164: K | AU164: 2 | AY164: ROZPOCET | BE164: =IF(N164="základná",J164,0) -> 0 | BF164: =IF(N164="znížená",J164,0) -> 0 | BG164: =IF(N164="zákl. prenesená",J164,0) -> 0 | BH164: =IF(N164="zníž. prenesená",J164,0) -> 0 | BI164: =IF(N164="nulová",J164,0) -> 0 | BJ164: 2 | BK164: =ROUND(I164*H164,3) -> 0 | BL164: 4 | BM164: 66
C165: 34 | D165: K | E165: 979082121.S | F165: Vnútrostavenisková doprava sutiny a vybúraných hmôt za každých ďalších 5 m, ručný presun | G165: t | H165: 4561.2 | J165: =ROUND(I165*H165,3) -> 0 | N165: znížená | P165: =O165*H165 -> 0 | Q165: 0 | R165: =Q165*H165 -> 0 | S165: 0 | T165: =S165*H165 -> 0 | AR165: 4 | AT165: K | AU165: 2 | AY165: ROZPOCET | BE165: =IF(N165="základná",J165,0) -> 0 | BF165: =IF(N165="znížená",J165,0) -> 0 | BG165: =IF(N165="zákl. prenesená",J165,0) -> 0 | BH165: =IF(N165="zníž. prenesená",J165,0) -> 0 | BI165: =IF(N165="nulová",J165,0) -> 0 | BJ165: 2 | BK165: =ROUND(I165*H165,3) -> 0 | BL165: 4 | BM165: 68
C166: 35 | D166: K | E166: 979089012.S | F166: Poplatok za skladovanie | G166: t | H166: 95.025 | J166: =ROUND(I166*H166,3) -> 0 | N166: znížená | P166: =O166*H166 -> 0 | Q166: 0 | R166: =Q166*H166 -> 0 | S166: 0 | T166: =S166*H166 -> 0 | AR166: 4 | AT166: K | AU166: 2 | AY166: ROZPOCET | BE166: =IF(N166="základná",J166,0) -> 0 | BF166: =IF(N166="znížená",J166,0) -> 0 | BG166: =IF(N166="zákl. prenesená",J166,0) -> 0 | BH166: =IF(N166="zníž. prenesená",J166,0) -> 0 | BI166: =IF(N166="nulová",J166,0) -> 0 | BJ166: 2 | BK166: =ROUND(I166*H166,3) -> 0 | BL166: 4 | BM166: 70
...

Sheet 002 - Chodník A3
L2: >> skryté stĺpce << | AT2: {5b7bd9fc-0efd-4f31-b385-578181154b79}
AT3: 0
D4: KRYCÍ LIST ROZPOČTU | M4: v --- nižšie sa nachádzajú doplnkové a pomocné údaje k zostavám --- v | AT4: False
D6: Stavba:
E7: ='Rekapitulácia stavby'!K6 -> REVITALIZÁCIA ÚZEMIA HRADNÉHO KOPCA V NITRE
D8: Objekt:
E9: 002 - Chodník A3
D11: JKSO: | I11: KS:
D12: Miesto: | I12: Dátum: | J12: ='Rekapitulácia stavby'!AN8 -> 18. 10. 2021
D14: Objednávateľ: | I14: IČO:
E15: Mesto Nitra | I15: IČ DPH:
D17: Zhotoviteľ: | I17: IČO: | J17: ='Rekapitulácia stavby'!AN13 -> Vyplň údaj
E18: ='Rekapitulácia stavby'!E14 -> Vyplň údaj | I18: IČ DPH: | J18: ='Rekapitulácia stavby'!AN14 -> Vyplň údaj
D20: Projektant: | I20: IČO:
E21: Ing. arch. Martin Dulík AA | I21: IČ DPH:
D23: Spracovateľ: | I23: IČO:
E24: Ing. arch. Martin Dulík | I24: IČ DPH:
D26: Poznámka:
D30: Cena bez DPH | J30: =ROUND(J122, 2) -> 0
F32: Základ dane | I32: Sadzba dane | J32: Výška dane
D33: DPH | E33: základná | F33: =ROUND((SUM(BE122:BE152)), 2) -> 0 | I33: 0.2 | J33: =ROUND(((SUM(BE122:BE152))*I33), 2) -> 0
E34: znížená | F34: =ROUND((SUM(BF122:BF152)), 2) -> 0 | I34: 0.2 | J34: =ROUND(((SUM(BF122:BF152))*I34), 2) -> 0
E35: zákl. prenesená | F35: =ROUND((SUM(BG122:BG152)), 2) -> 0 | I35: 0.2 | J35: =0 -> 0
E36: zníž. prenesená | F36: =ROUND((SUM(BH122:BH152)), 2) -> 0 | I36: 0.2 | J36: =0 -> 0
E37: nulová | F37: =ROUND((SUM(BI122:BI152)), 2) -> 0 | I37: 0 | J37: =0 -> 0
D39: Cena s DPH | G39: v | H39: EUR | J39: =SUM(J30:J37) -> 0
D50: Projektant | G50: Spracovateľ
D61: Dátum a podpis: | F61: Pečiatka | G61: Dátum a podpis: | J61: Pečiatka
D65: Objednávateľ | G65: Zhotoviteľ
D76: Dátum a podpis: | F76: Pečiatka | G76: Dátum a podpis: | J76: Pečiatka
C82: REKAPITULÁCIA ROZPOČTU
C84: Stavba:
E85: =E7 -> REVITALIZÁCIA ÚZEMIA HRADNÉHO KOPCA V NITRE
C86: Objekt:
E87: =E9 -> 002 - Chodník A3
C89: Miesto: | F89: =F12 | I89: Dátum: | J89: =IF(J12="","",J12) -> 18. 10. 2021
C91: Objednávateľ: | F91: =E15 -> Mesto Nitra | I91: Projektant: | J91: =E21 -> Ing. arch. Martin Dulík AA
C92: Zhotoviteľ: | F92: =IF(E18="","",E18) -> Vyplň údaj | I92: Spracovateľ: | J92: =E24 -> Ing. arch. Martin Dulík
C94: Kód dielu - Popis | J94: Cena celkom [EUR]
C96: Náklady z rozpočtu | J96: =J122 -> 0 | AU96: -1
D97: HSV - Práce a dodávky HSV | J97: =J123 -> 0
D98: 1 - Zemné práce | J98: =J124 -> 0
D99: 2 - Zakladanie | J99: =J136 -> 0
D100: 5 - Komunikácie | J100: =J140 -> 0
D101: 9 - Ostatné konštrukcie a práce-búranie | J101: =J143 -> 0
D102: 99 - Presun hmôt HSV | J102: =J151 -> 0
C109: ROZPOČET
C111: Stavba:
E112: =E7 -> REVITALIZÁCIA ÚZEMIA HRADNÉHO KOPCA V NITRE
C113: Objekt:
E114: =E9 -> 002 - Chodník A3
C116: Miesto: | F116: =F12 | I116: Dátum: | J116: =IF(J12="","",J12) -> 18. 10. 2021
C118: Objednávateľ: | F118: =E15 -> Mesto Nitra | I118: Projektant: | J118: =E21 -> Ing. arch. Martin Dulík AA
C119: Zhotoviteľ: | F119: =IF(E18="","",E18) -> Vyplň údaj | I119: Spracovateľ: | J119: =E24 -> Ing. arch. Martin Dulík
C121: PČ | D121: Typ | E121: Kód | F121: Popis | G121: MJ | H121: Množstvo | I121: J.cena [EUR] | J121: Cena celkom [EUR] | K121: Cenová sústava | N121: DPH | O121: J. Nh [h] | P121: Nh celkom [h] | Q121: J. hmotnosť [t] | R121: Hmotnosť celkom [t] | S121: J. suť [t] | T121: Suť Celkom [t]
C122: Náklady z rozpočtu | J122: =BK122 -> 0 | P122: =P123 -> 0 | R122: =R123 -> 0 | T122: =T123 -> 0 | AT122: D | AU122: -1 | BK122: =BK123 -> 0
D123: D | E123: HSV | F123: Práce a dodávky HSV | J123: =BK123 -> 0 | P123: =P124+P136+P140+P143+P151 -> 0 | R123: =R124+R136+R140+R143+R151 -> 0 | T123: =T124+T136+T140+T143+T151 -> 0 | AR123: 1 | AT123: D | AU123: 0 | AY123: ROZPOCET | BK123: =BK124+BK136+BK140+BK143+BK151 -> 0
D124: D | E124: 1 | F124: Zemné práce | J124: =BK124 -> 0 | P124: =SUM(P125:P135) -> 0 | R124: =SUM(R125:R135) -> 0 | T124: =SUM(T125:T135) -> 0 | AR124: 1 | AT124: D | AU124: 1 | AY124: ROZPOCET | BK124: =SUM(BK125:BK135) -> 0
C125: 1 | D125: K | E125: 113107121.S | F125: Odstránenie krytu v ploche do 200 m2 z kameniva hrubého drveného, hr. do 100 mm, -0,13000t | G125: m2 | H125: 79.09 | J125: =ROUND(I125*H125,3) -> 0 | N125: znížená | P125: =O125*H125 -> 0 | Q125: 0 | R125: =Q125*H125 -> 0 | S125: 0 | T125: =S125*H125 -> 0 | AR125: 4 | AT125: K | AU125: 2 | AY125: ROZPOCET | BE125: =IF(N125="základná",J125,0) -> 0 | BF125: =IF(N125="znížená",J125,0) -> 0 | BG125: =IF(N125="zákl. prenesená",J125,0) -> 0 | BH125: =IF(N125="zníž. prenesená",J125,0) -> 0 | BI125: =IF(N125="nulová",J125,0) -> 0 | BJ125: 2 | BK125: =ROUND(I125*H125,3) -> 0 | BL125: 4 | BM125: 2
C126: 2 | D126: K | E126: 113202111.S | F126: Vytrhanie obrúb kamenných, s vybúraním lôžka, z krajníkov alebo obrubníkov stojatých, -0,14500t | G126: m | H126: 41.096 | J126: =ROUND(I126*H126,3) -> 0 | N126: znížená | P126: =O126*H126 -> 0 | Q126: 0 | R126: =Q126*H126 -> 0 | S126: 0 | T126: =S126*H126 -> 0 | AR126: 4 | AT126: K | AU126: 2 | AY126: ROZPOCET | BE126: =IF(N126="základná",J126,0) -> 0 | BF126: =IF(N126="znížená",J126,0) -> 0 | BG126: =IF(N126="zákl. prenesená",J126,0) -> 0 | BH126: =IF(N126="zníž. prenesená",J126,0) -> 0 | BI126: =IF(N126="nulová",J126,0) -> 0 | BJ126: 2 | BK126: =ROUND(I126*H126,3) -> 0 | BL126: 4 | BM126: 4
C127: 3 | D127: K | E127: 120901121.S | F127: Búranie konštrukcií z betónu prostého neprekladaného kameňom v odkopávkach | G127: m3 | H127: 3.915 | J127: =ROUND(I127*H127,3) -> 0 | N127: znížená | P127: =O127*H127 -> 0 | Q127: 0 | R127: =Q127*H127 -> 0 | S127: 0 | T127: =S127*H127 -> 0 | AR127: 4 | AT127: K | AU127: 2 | AY127: ROZPOCET | BE127: =IF(N127="základná",J127,0) -> 0 | BF127: =IF(N127="znížená",J127,0) -> 0 | BG127: =IF(N127="zákl. prenesená",J127,0) -> 0 | BH127: =IF(N127="zníž. prenesená",J127,0) -> 0 | BI127: =IF(N127="nulová",J127,0) -> 0 | BJ127: 2 | BK127: =ROUND(I127*H127,3) -> 0 | BL127: 4 | BM127: 6
C128: 4 | D128: K | E128: 122301101.S | F128: Odkopávka a prekopávka nezapažená v hornine 4, do 100 m3 | G128: m3 | H128: 2.847 | J128: =ROUND(I128*H128,3) -> 0 | N128: znížená | P128: =O128*H128 -> 0 | Q128: 0 | R128: =Q128*H128 -> 0 | S128: 0 | T128: =S128*H128 -> 0 | AR128: 4 | AT128: K | AU128: 2 | AY128: ROZPOCET | BE128: =IF(N128="základná",J128,0) -> 0 | BF128: =IF(N128="znížená",J128,0) -> 0 | BG128: =IF(N128="zákl. prenesená",J128,0) -> 0 | BH128: =IF(N128="zníž. prenesená",J128,0) -> 0 | BI128: =IF(N128="nulová",J128,0) -> 0 | BJ128: 2 | BK128: =ROUND(I128*H128,3) -> 0 | BL128: 4 | BM128: 8
C129: 5 | D129: K | E129: 132211101.S | F129: Hĺbenie rýh šírky do 600 mm v hornine tr.3 súdržných - ručným náradím | G129: m3 | H129: 6.977 | J129: =ROUND(I129*H129,3) -> 0 | N129: znížená | P129: =O129*H129 -> 0 | Q129: 0 | R129: =Q129*H129 -> 0 | S129: 0 | T129: =S129*H129 -> 0 | AR129: 4 | AT129: K | AU129: 2 | AY129: ROZPOCET | BE129: =IF(N129="základná",J129,0) -> 0 | BF129: =IF(N129="znížená",J129,0) -> 0 | BG129: =IF(N129="zákl. prenesená",J129,0) -> 0 | BH129: =IF(N129="zníž. prenesená",J129,0) -> 0 | BI129: =IF(N129="nulová",J129,0) -> 0 | BJ129: 2 | BK129: =ROUND(I129*H129,3) -> 0 | BL129: 4 | BM129: 10
C130: 6 | D130: K | E130: 162201201.S | F130: Vodorovné premiestnenie výkopu nosením do 10 m horniny 1 až 4 | G130: m3 | H130: 9.824 | J130: =ROUND(I130*H130,3) -> 0 | N130: znížená | P130: =O130*H130 -> 0 | Q130: 0 | R130: =Q130*H130 -> 0 | S130: 0 | T130: =S130*H130 -> 0 | AR130: 4 | AT130: K | AU130: 2 | AY130: ROZPOCET | BE130: =IF(N130="základná",J130,0) -> 0 | BF130: =IF(N130="znížená",J130,0) -> 0 | BG130: =IF(N130="zákl. prenesená",J130,0) -> 0 | BH130: =IF(N130="zníž. prenesená",J130,0) -> 0 | BI130: =IF(N130="nulová",J130,0) -> 0 | BJ130: 2 | BK130: =ROUND(I130*H130,3) -> 0 | BL130: 4 | BM130: 12
C131: 7 | D131: K | E131: 162201209.S | F131: Vodorovné premiestnenie výkopu nosením do 10 m horniny 1 až 4 - príplatok k cene za každých ďalších 10 m | G131: m3 | H131: 235.776 | J131: =ROUND(I131*H131,3) -> 0 | N131: znížená | P131: =O131*H131 -> 0 | Q131: 0 | R131: =Q131*H131 -> 0 | S131: 0 | T131: =S131*H131 -> 0 | AR131: 4 | AT131: K | AU131: 2 | AY131: ROZPOCET | BE131: =IF(N131="základná",J131,0) -> 0 | BF131: =IF(N131="znížená",J131,0) -> 0 | BG131: =IF(N131="zákl. prenesená",J131,0) -> 0 | BH131: =IF(N131="zníž. prenesená",J131,0) -> 0 | BI131: =IF(N131="nulová",J131,0) -> 0 | BJ131: 2 | BK131: =ROUND(I131*H131,3) -> 0 | BL131: 4 | BM131: 14
C132: 8 | D132: K | E132: 162501102.S | F132: Vodorovné premiestnenie výkopku po spevnenej ceste z horniny tr.1-4, do 100 m3 na vzdialenosť do 3000 m | G132: m3 | H132: 9.824 | J132: =ROUND(I132*H132,3) -> 0 | N132: znížená | P132: =O132*H132 -> 0 | Q132: 0 | R132: =Q132*H132 -> 0 | S132: 0 | T132: =S132*H132 -> 0 | AR132: 4 | AT132: K | AU132: 2 | AY132: ROZPOCET | BE132: =IF(N132="základná",J132,0) -> 0 | BF132: =IF(N132="znížená",J132,0) -> 0 | BG132: =IF(N132="zákl. prenesená",J132,0) -> 0 | BH132: =IF(N132="zníž. prenesená",J132,0) -> 0 | BI132: =IF(N132="nulová",J132,0) -> 0 | BJ132: 2 | BK132: =ROUND(I132*H132,3) -> 0 | BL132: 4 | BM132: 16
C133: 9 | D133: K | E133: 162501105.S | F133: Vodorovné premiestnenie výkopku po spevnenej ceste z horniny tr.1-4, do 100 m3, príplatok k cene za každých ďalšich a začatých 1000 m | G133: m3 | H133: 68.768 | J133: =ROUND(I133*H133,3) -> 0 | N133: znížená | P133: =O133*H133 -> 0 | Q133: 0 | R133: =Q133*H133 -> 0 | S133: 0 | T133: =S133*H133 -> 0 | AR133: 4 | AT133: K | AU133: 2 | AY133: ROZPOCET | BE133: =IF(N133="základná",J133,0) -> 0 | BF133: =IF(N133="znížená",J133,0) -> 0 | BG133: =IF(N133="zákl. prenesená",J133,0) -> 0 | BH133: =IF(N133="zníž. prenesená",J133,0) -> 0 | BI133: =IF(N133="nulová",J133,0) -> 0 | BJ133: 2 | BK133: =ROUND(I133*H133,3) -> 0 | BL133: 4 | BM133: 18
C134: 10 | D134: K | E134: 167101100.S | F134: Nakladanie výkopku tr.1-4 ručne | G134: m3 | H134: 9.824 | J134: =ROUND(I134*H134,3) -> 0 | N134: znížená | P134: =O134*H134 -> 0 | Q134: 0 | R134: =Q134*H134 -> 0 | S134: 0 | T134: =S134*H134 -> 0 | AR134: 4 | AT134: K | AU134: 2 | AY134: ROZPOCET | BE134: =IF(N134="základná",J134,0) -> 0 | BF134: =IF(N134="znížená",J134,0) -> 0 | BG134: =IF(N134="zákl. prenesená",J134,0) -> 0 | BH134: =IF(N134="zníž. prenesená",J134,0) -> 0 | BI134: =IF(N134="nulová",J134,0) -> 0 | BJ134: 2 | BK134: =ROUND(I134*H134,3) -> 0 | BL134: 4 | BM134: 20
C135: 11 | D135: K | E135: 171209002.S | F135: Poplatok za skladovanie - zemina a kamenivo (17 05) ostatné | G135: t | H135: 14.736 | J135: =ROUND(I135*H135,3) -> 0 | N135: znížená | P135: =O135*H135 -> 0 | Q135: 0 | R135: =Q135*H135 -> 0 | S135: 0 | T135: =S135*H135 -> 0 | AR135: 4 | AT135: K | AU135: 2 | AY135: ROZPOCET | BE135: =IF(N135="základná",J135,0) -> 0 | BF135: =IF(N135="znížená",J135,0) -> 0 | BG135: =IF(N135="zákl. prenesená",J135,0) -> 0 | BH135: =IF(N135="zníž. prenesená",J135,0) -> 0 | BI135: =IF(N135="nulová",J135,0) -> 0 | BJ135: 2 | BK135: =ROUND(I135*H135,3) -> 0 | BL135: 4 | BM135: 22
D136: D | E136: 2 | F136: Zakladanie | J136: =BK136 -> 0 | P136: =SUM(P137:P139) -> 0 | R136: =SUM(R137:R139) -> 0 | T136: =SUM(T137:T139) -> 0 | AR136: 1 | AT136: D | AU136: 1 | AY136: ROZPOCET | BK136: =SUM(BK137:BK139) -> 0
C137: 12 | D137: K | E137: 274313611.S | F137: Betón základových pásov, prostý tr. C 16/20 | G137: m3 | H137: 12.122 | J137: =ROUND(I137*H137,3) -> 0 | N137: znížená | P137: =O137*H137 -> 0 | Q137: 0 | R137: =Q137*H137 -> 0 | S137: 0 | T137: =S137*H137 -> 0 | AR137: 4 | AT137: K | AU137: 2 | AY137: ROZPOCET | BE137: =IF(N137="základná",J137,0) -> 0 | BF137: =IF(N137="znížená",J137,0) -> 0 | BG137: =IF(N137="zákl. prenesená",J137,0) -> 0 | BH137: =IF(N137="zníž. prenesená",J137,0) -> 0 | BI137: =IF(N137="nulová",J137,0) -> 0 | BJ137: 2 | BK137: =ROUND(I137*H137,3) -> 0 | BL137: 4 | BM137: 24
C138: 13 | D138: K | E138: 274351215.S | F138: Debnenie stien základových pásov, zhotovenie-dielce | G138: m2 | H138: 28.767 | J138: =ROUND(I138*H138,3) -> 0 | N138: znížená | P138: =O138*H138 -> 0 | Q138: 0 | R138: =Q138*H138 -> 0 | S138: 0 | T138: =S138*H138 -> 0 | AR138: 4 | AT138: K | AU138: 2 | AY138: ROZPOCET | BE138: =IF(N138="základná",J138,0) -> 0 | BF138: =IF(N138="znížená",J138,0) -> 0 | BG138: =IF(N138="zákl. prenesená",J138,0) -> 0 | BH138: =IF(N138="zníž. prenesená",J138,0) -> 0 | BI138: =IF(N138="nulová",J138,0) -> 0 | BJ138: 2 | BK138: =ROUND(I138*H138,3) -> 0 | BL138: 4 | BM138: 26
C139: 14 | D139: K | E139: 274351216.S | F139: Debnenie stien základových pásov, odstránenie-dielce | G139: m2 | H139: 28.767 | J139: =ROUND(I139*H139,3) -> 0 | N139: znížená | P139: =O139*H139 -> 0 | Q139: 0 | R139: =Q139*H139 -> 0 | S139: 0 | T139: =S139*H139 -> 0 | AR139: 4 | AT139: K | AU139: 2 | AY139: ROZPOCET | BE139: =IF(N139="základná",J139,0) -> 0 | BF139: =IF(N139="znížená",J139,0) -> 0 | BG139: =IF(N139="zákl. prenesená",J139,0) -> 0 | BH139: =IF(N139="zníž. prenesená",J139,0) -> 0 | BI139: =IF(N139="nulová",J139,0) -> 0 | BJ139: 2 | BK139: =ROUND(I139*H139,3) -> 0 | BL139: 4 | BM139: 28
D140: D | E140: 5 | F140: Komunikácie | J140: =BK140 -> 0 | P140: =SUM(P141:P142) -> 0 | R140: =SUM(R141:R142) -> 0 | T140: =SUM(T141:T142) -> 0 | AR140: 1 | AT140: D | AU140: 1 | AY140: ROZPOCET | BK140: =SUM(BK141:BK142) -> 0
C141: 15 | D141: K | E141: 564740111.S | F141: Podklad alebo kryt z kameniva hrubého drveného veľ. 8-16 mm s rozprestretím a zhutnením hr. 120 mm | G141: m2 | H141: 79.09 | J141: =ROUND(I141*H141,3) -> 0 | N141: znížená | P141: =O141*H141 -> 0 | Q141: 0 | R141: =Q141*H141 -> 0 | S141: 0 | T141: =S141*H141 -> 0 | AR141: 4 | AT141: K | AU141: 2 | AY141: ROZPOCET | BE141: =IF(N141="základná",J141,0) -> 0 | BF141: =IF(N141="znížená",J141,0) -> 0 | BG141: =IF(N141="zákl. prenesená",J141,0) -> 0 | BH141: =IF(N141="zníž. prenesená",J141,0) -> 0 | BI141: =IF(N141="nulová",J141,0) -> 0 | BJ141: 2 | BK141: =ROUND(I141*H141,3) -> 0 | BL141: 4 | BM141: 30
C142: 16 | D142: K | E142: 564782419.S | F142: Mlátový povrch chodníka hr. 80 mm | G142: m2 | H142: 79.09 | J142: =ROUND(I142*H142,3) -> 0 | N142: znížená | P142: =O142*H142 -> 0 | Q142: 0 | R142: =Q142*H142 -> 0 | S142: 0 | T142: =S142*H142 -> 0 | AR142: 4 | AT142: K | AU142: 2 | AY142: ROZPOCET | BE142: =IF(N142="základná",J142,0) -> 0 | BF142: =IF(N142="znížená",J142,0) -> 0 | BG142: =IF(N142="zákl. prenesená",J142,0) -> 0 | BH142: =IF(N142="zníž. prenesená",J142,0) -> 0 | BI142: =IF(N142="nulová",J142,0) -> 0 | BJ142: 2 | BK142: =ROUND(I142*H142,3) -> 0 | BL142: 4 | BM142: 32
D143: D | E143: 9 | F143: Ostatné konštrukcie a práce-búranie | J143: =BK143 -> 0 | P143: =SUM(P144:P150) -> 0 | R143: =SUM(R144:R150) -> 0 | T143: =SUM(T144:T150) -> 0 | AR143: 1 | AT143: D | AU143: 1 | AY143: ROZPOCET | BK143: =SUM(BK144:BK150) -> 0
C144: 17 | D144: K | E144: 917161111.S | F144: Osadenie chodník. obrubníka kamenného ležatého do lôžka z betónu prostého tr. C 12/15 s bočnou oporou | G144: m | H144: 41.096 | J144: =ROUND(I144*H144,3) -> 0 | N144: znížená | P144: =O144*H144 -> 0 | Q144: 0 | R144: =Q144*H144 -> 0 | S144: 0 | T144: =S144*H144 -> 0 | AR144: 4 | AT144: K | AU144: 2 | AY144: ROZPOCET | BE144: =IF(N144="základná",J144,0) -> 0 | BF144: =IF(N144="znížená",J144,0) -> 0 | BG144: =IF(N144="zákl. prenesená",J144,0) -> 0 | BH144: =IF(N144="zníž. prenesená",J144,0) -> 0 | BI144: =IF(N144="nulová",J144,0) -> 0 | BJ144: 2 | BK144: =ROUND(I144*H144,3) -> 0 | BL144: 4 | BM144: 34
C145: 18 | D145: M | E145: 583810001300.S | F145: Obrubník kamenný rovný z vyvretých hornín | G145: m | H145: 41.507 | J145: =ROUND(I145*H145,3) -> 0 | N145: znížená | P145: =O145*H145 -> 0 | Q145: 0 | R145: =Q145*H145 -> 0 | S145: 0 | T145: =S145*H145 -> 0 | AR145: 8 | AT145: M | AU145: 2 | AY145: ROZPOCET | BE145: =IF(N145="základná",J145,0) -> 0 | BF145: =IF(N145="znížená",J145,0) -> 0 | BG145: =IF(N145="zákl. prenesená",J145,0) -> 0 | BH145: =IF(N145="zníž. prenesená",J145,0) -> 0 | BI145: =IF(N145="nulová",J145,0) -> 0 | BJ145: 2 | BK145: =ROUND(I145*H145,3) -> 0 | BL145: 4 | BM145: 36
C146: 19 | D146: K | E146: 979081111.S | F146: Odvoz sutiny a vybúraných hmôt na skládku do 1 km | G146: t | H146: 24.854 | J146: =ROUND(I146*H146,3) -> 0 | N146: znížená | P146: =O146*H146 -> 0 | Q146: 0 | R146: =Q146*H146 -> 0 | S146: 0 | T146: =S146*H146 -> 0 | AR146: 4 | AT146: K | AU146: 2 | AY146: ROZPOCET | BE146: =IF(N146="základná",J146,0) -> 0 | BF146: =IF(N146="znížená",J146,0) -> 0 | BG146: =IF(N146="zákl. prenesená",J146,0) -> 0 | BH146: =IF(N146="zníž. prenesená",J146,0) -> 0 | BI146: =IF(N146="nulová",J146,0) -> 0 | BJ146: 2 | BK146: =ROUND(I146*H146,3) -> 0 | BL146: 4 | BM146: 38
C147: 20 | D147: K | E147: 979081121.S | F147: Odvoz sutiny a vybúraných hmôt na skládku za každý ďalší 1 km | G147: t | H147: 223.686 | J147: =ROUND(I147*H147,3) -> 0 | N147: znížená | P147: =O147*H147 -> 0 | Q147: 0 | R147: =Q147*H147 -> 0 | S147: 0 | T147: =S147*H147 -> 0 | AR147: 4 | AT147: K | AU147: 2 | AY147: ROZPOCET | BE147: =IF(N147="základná",J147,0) -> 0 | BF147: =IF(N147="znížená",J147,0) -> 0 | BG147: =IF(N147="zákl. prenesená",J147,0) -> 0 | BH147: =IF(N147="zníž. prenesená",J147,0) -> 0 | BI147: =IF(N147="nulová",J147,0) -> 0 | BJ147: 2 | BK147: =ROUND(I147*H147,3) -> 0 | BL147: 4 | BM147: 40
C148: 21 | D148: K | E148: 979082111.S | F148: Vnútrostavenisková doprava sutiny a vybúraných hmôt do 10 m, ručný presun | G148: t | H148: 24.854 | J148: =ROUND(I148*H148,3) -> 0 | N148: znížená | P148: =O148*H148 -> 0 | Q148: 0 | R148: =Q148*H148 -> 0 | S148: 0 | T148: =S148*H148 -> 0 | AR148: 4 | AT148: K | AU148: 2 | AY148: ROZPOCET | BE148: =IF(N148="základná",J148,0) -> 0 | BF148: =IF(N148="znížená",J148,0) -> 0 | BG148: =IF(N148="zákl. prenesená",J148,0) -> 0 | BH148: =IF(N148="zníž. prenesená",J148,0) -> 0 | BI148: =IF(N148="nulová",J148,0) -> 0 | BJ148: 2 | BK148: =ROUND(I148*H148,3) -> 0 | BL148: 4 | BM148: 42
C149: 22 | D149: K | E149: 979082121.S | F149: Vnútrostavenisková doprava sutiny a vybúraných hmôt za každých ďalších 5 m, ručný presun | G149: t | H149: 1192.992 | J149: =ROUND(I149*H149,3) -> 0 | N149: znížená | P149: =O149*H149 -> 0 | Q149: 0 | R149: =Q149*H149 -> 0 | S149: 0 | T149: =S149*H149 -> 0 | AR149: 4 | AT149: K | AU149: 2 | AY149: ROZPOCET | BE149: =IF(N149="základná",J149,0) -> 0 | BF149: =IF(N149="znížená",J149,0) -> 0 | BG149: =IF(N149="zákl. prenesená",J149,0) -> 0 | BH149: =IF(N149="zníž. prenesená",J149,0) -> 0 | BI149: =IF(N149="nulová",J149,0) -> 0 | BJ149: 2 | BK149: =ROUND(I149*H149,3) -> 0 | BL149: 4 | BM149: 44
C150: 23 | D150: K | E150: 979089012.S | F150: Poplatok za skladovanie | G150: t | H150: 24.854 | J150: =ROUND(I150*H150,3) -> 0 | N150: znížená | P150: =O150*H150 -> 0 | Q150: 0 | R150: =Q150*H150 -> 0 | S150: 0 | T150: =S150*H150 -> 0 | AR150: 4 | AT150: K | AU150: 2 | AY150: ROZPOCET | BE150: =IF(N150="základná",J150,0) -> 0 | BF150: =IF(N150="znížená",J150,0) -> 0 | BG150: =IF(N150="zákl. prenesená",J150,0) -> 0 | BH150: =IF(N150="zníž. prenesená",J150,0) -> 0 | BI150: =IF(N150="nulová",J150,0) -> 0 | BJ150: 2 | BK150: =ROUND(I150*H150,3) -> 0 | BL150: 4 | BM150: 46
D151: D | E151: 99 | F151: Presun hmôt HSV | J151: =BK151 -> 0 | P151: =P152 -> 0 | R151: =R152 -> 0 | T151: =T152 -> 0 | AR151: 1 | AT151: D | AU151: 1 | AY151: ROZPOCET | BK151: =BK152 -> 0
C152: 24 | D152: K | E152: 999281119.S | F152: Ručný presun hmôt | G152: t | H152: 73.151 | J152: =ROUND(I152*H152,3) -> 0 | N152: znížená | P152: =O152*H152 -> 0 | Q152: 0 | R152: =Q152*H152 -> 0 | S152: 0 | T152: =S152*H152 -> 0 | AR152: 4 | AT152: K | AU152: 2 | AY152: ROZPOCET | BE152: =IF(N152="základná",J152,0) -> 0 | BF152: =IF(N152="znížená",J152,0) -> 0 | BG152: =IF(N152="zákl. prenesená",J152,0) -> 0 | BH152: =IF(N152="zníž. prenesená",J152,0) -> 0 | BI152: =IF(N152="nulová",J152,0) -> 0 | BJ152: 2 | BK152: =ROUND(I152*H152,3) -> 0 | BL152: 4 | BM152: 48

Sheet 003 - Chodník A4
L2: >> skryté stĺpce << | AT2: {3e00772e-795d-4d82-bd13-f25bdc46b836}
AT3: 0
D4: KRYCÍ LIST ROZPOČTU | M4: v --- nižšie sa nachádzajú doplnkové a pomocné údaje k zostavám --- v | AT4: False
D6: Stavba:
E7: ='Rekapitulácia stavby'!K6 -> REVITALIZÁCIA ÚZEMIA HRADNÉHO KOPCA V NITRE
D8: Objekt:
E9: 003 - Chodník A4
D11: JKSO: | I11: KS:
D12: Miesto: | I12: Dátum: | J12: ='Rekapitulácia stavby'!AN8 -> 18. 10. 2021
D14: Objednávateľ: | I14: IČO:
E15: Mesto Nitra | I15: IČ DPH:
D17: Zhotoviteľ: | I17: IČO: | J17: ='Rekapitulácia stavby'!AN13 -> Vyplň údaj
E18: ='Rekapitulácia stavby'!E14 -> Vyplň údaj | I18: IČ DPH: | J18: ='Rekapitulácia stavby'!AN14 -> Vyplň údaj
D20: Projektant: | I20: IČO:
E21: Ing. arch. Martin Dulík AA | I21: IČ DPH:
D23: Spracovateľ: | I23: IČO:
E24: Ing. arch. Martin Dulík | I24: IČ DPH:
D26: Poznámka:
D30: Cena bez DPH | J30: =ROUND(J123, 2) -> 0
F32: Základ dane | I32: Sadzba dane | J32: Výška dane
D33: DPH | E33: základná | F33: =ROUND((SUM(BE123:BE156)), 2) -> 0 | I33: 0.2 | J33: =ROUND(((SUM(BE123:BE156))*I33), 2) -> 0
E34: znížená | F34: =ROUND((SUM(BF123:BF156)), 2) -> 0 | I34: 0.2 | J34: =ROUND(((SUM(BF123:BF156))*I34), 2) -> 0
E35: zákl. prenesená | F35: =ROUND((SUM(BG123:BG156)), 2) -> 0 | I35: 0.2 | J35: =0 -> 0
E36: zníž. prenesená | F36: =ROUND((SUM(BH123:BH156)), 2) -> 0 | I36: 0.2 | J36: =0 -> 0
E37: nulová | F37: =ROUND((SUM(BI123:BI156)), 2) -> 0 | I37: 0 | J37: =0 -> 0
D39: Cena s DPH | G39: v | H39: EUR | J39: =SUM(J30:J37) -> 0
D50: Projektant | G50: Spracovateľ
D61: Dátum a podpis: | F61: Pečiatka | G61: Dátum a podpis: | J61: Pečiatka
D65: Objednávateľ | G65: Zhotoviteľ
D76: Dátum a podpis: | F76: Pečiatka | G76: Dátum a podpis: | J76: Pečiatka
C82: REKAPITULÁCIA ROZPOČTU
C84: Stavba:
E85: =E7 -> REVITALIZÁCIA ÚZEMIA HRADNÉHO KOPCA V NITRE
C86: Objekt:
E87: =E9 -> 003 - Chodník A4
C89: Miesto: | F89: =F12 | I89: Dátum: | J89: =IF(J12="","",J12) -> 18. 10. 2021
C91: Objednávateľ: | F91: =E15 -> Mesto Nitra | I91: Projektant: | J91: =E21 -> Ing. arch. Martin Dulík AA
C92: Zhotoviteľ: | F92: =IF(E18="","",E18) -> Vyplň údaj | I92: Spracovateľ: | J92: =E24 -> Ing. arch. Martin Dulík
C94: Kód dielu - Popis | J94: Cena celkom [EUR]
C96: Náklady z rozpočtu | J96: =J123 -> 0 | AU96: -1
D97: HSV - Práce a dodávky HSV | J97: =J124 -> 0
D98: 1 - Zemné práce | J98: =J125 -> 0
D99: 2 - Zakladanie | J99: =J137 -> 0
D100: 5 - Komunikácie | J100: =J141 -> 0
D101: 9 - Ostatné konštrukcie a práce-búranie | J101: =J144 -> 0
D102: 99 - Presun hmôt HSV | J102: =J154 -> 0
D103: PSV - Práce a dodávky PSV | J103: =J156 -> 0
C110: ROZPOČET
C112: Stavba:
E113: =E7 -> REVITALIZÁCIA ÚZEMIA HRADNÉHO KOPCA V NITRE
C114: Objekt:
E115: =E9 -> 003 - Chodník A4
C117: Miesto: | F117: =F12 | I117: Dátum: | J117: =IF(J12="","",J12) -> 18. 10. 2021
C119: Objednávateľ: | F119: =E15 -> Mesto Nitra | I119: Projektant: | J119: =E21 -> Ing. arch. Martin Dulík AA
C120: Zhotoviteľ: | F120: =IF(E18="","",E18) -> Vyplň údaj | I120: Spracovateľ: | J120: =E24 -> Ing. arch. Martin Dulík
C122: PČ | D122: Typ | E122: Kód | F122: Popis | G122: MJ | H122: Množstvo | I122: J.cena [EUR] | J122: Cena celkom [EUR] | K122: Cenová sústava | N122: DPH | O122: J. Nh [h] | P122: Nh celkom [h] | Q122: J. hmotnosť [t] | R122: Hmotnosť celkom [t] | S122: J. suť [t] | T122: Suť Celkom [t]
C123: Náklady z rozpočtu | J123: =BK123 -> 0 | P123: =P124+P156 -> 0 | R123: =R124+R156 -> 0 | T123: =T124+T156 -> 0 | AT123: D | AU123: -1 | BK123: =BK124+BK156 -> 0
D124: D | E124: HSV | F124: Práce a dodávky HSV | J124: =BK124 -> 0 | P124: =P125+P137+P141+P144+P154 -> 0 | R124: =R125+R137+R141+R144+R154 -> 0 | T124: =T125+T137+T141+T144+T154 -> 0 | AR124: 1 | AT124: D | AU124: 0 | AY124: ROZPOCET | BK124: =BK125+BK137+BK141+BK144+BK154 -> 0
D125: D | E125: 1 | F125: Zemné práce | J125: =BK125 -> 0 | P125: =SUM(P126:P136) -> 0 | R125: =SUM(R126:R136) -> 0 | T125: =SUM(T126:T136) -> 0 | AR125: 1 | AT125: D | AU125: 1 | AY125: ROZPOCET | BK125: =SUM(BK126:BK136) -> 0
C126: 1 | D126: K | E126: 113107221.S | F126: Odstránenie krytu v ploche nad 200 m2 z kameniva hrubého drveného, hr. do 100 mm, -0,13000t | G126: m2 | H126: 164.21 | J126: =ROUND(I126*H126,3) -> 0 | N126: znížená | P126: =O126*H126 -> 0 | Q126: 0 | R126: =Q126*H126 -> 0 | S126: 0 | T126: =S126*H126 -> 0 | AR126: 4 | AT126: K | AU126: 2 | AY126: ROZPOCET | BE126: =IF(N126="základná",J126,0) -> 0 | BF126: =IF(N126="znížená",J126,0) -> 0 | BG126: =IF(N126="zákl. prenesená",J126,0) -> 0 | BH126: =IF(N126="zníž. prenesená",J126,0) -> 0 | BI126: =IF(N126="nulová",J126,0) -> 0 | BJ126: 2 | BK126: =ROUND(I126*H126,3) -> 0 | BL126: 4 | BM126: 2
C127: 2 | D127: K | E127: 113202111.S | F127: Vytrhanie obrúb kamenných, s vybúraním lôžka, z krajníkov alebo obrubníkov stojatých, -0,14500t | G127: m | H127: 61.374 | J127: =ROUND(I127*H127,3) -> 0 | N127: znížená | P127: =O127*H127 -> 0 | Q127: 0 | R127: =Q127*H127 -> 0 | S127: 0 | T127: =S127*H127 -> 0 | AR127: 4 | AT127: K | AU127: 2 | AY127: ROZPOCET | BE127: =IF(N127="základná",J127,0) -> 0 | BF127: =IF(N127="znížená",J127,0) -> 0 | BG127: =IF(N127="zákl. prenesená",J127,0) -> 0 | BH127: =IF(N127="zníž. prenesená",J127,0) -> 0 | BI127: =IF(N127="nulová",J127,0) -> 0 | BJ127: 2 | BK127: =ROUND(I127*H127,3) -> 0 | BL127: 4 | BM127: 4
C128: 3 | D128: K | E128: 120901121.S | F128: Búranie konštrukcií z betónu prostého neprekladaného kameňom v odkopávkach | G128: m3 | H128: 3.038 | J128: =ROUND(I128*H128,3) -> 0 | N128: znížená | P128: =O128*H128 -> 0 | Q128: 0 | R128: =Q128*H128 -> 0 | S128: 0 | T128: =S128*H128 -> 0 | AR128: 4 | AT128: K | AU128: 2 | AY128: ROZPOCET | BE128: =IF(N128="základná",J128,0) -> 0 | BF128: =IF(N128="znížená",J128,0) -> 0 | BG128: =IF(N128="zákl. prenesená",J128,0) -> 0 | BH128: =IF(N128="zníž. prenesená",J128,0) -> 0 | BI128: =IF(N128="nulová",J128,0) -> 0 | BJ128: 2 | BK128: =ROUND(I128*H128,3) -> 0 | BL128: 4 | BM128: 6
C129: 4 | D129: K | E129: 122301101.S | F129: Odkopávka a prekopávka nezapažená v hornine 4, do 100 m3 | G129: m3 | H129: 24.632 | J129: =ROUND(I129*H129,3) -> 0 | N129: znížená | P129: =O129*H129 -> 0 | Q129: 0 | R129: =Q129*H129 -> 0 | S129: 0 | T129: =S129*H129 -> 0 | AR129: 4 | AT129: K | AU129: 2 | AY129: ROZPOCET | BE129: =IF(N129="základná",J129,0) -> 0 | BF129: =IF(N129="znížená",J129,0) -> 0 | BG129: =IF(N129="zákl. prenesená",J129,0) -> 0 | BH129: =IF(N129="zníž. prenesená",J129,0) -> 0 | BI129: =IF(N129="nulová",J129,0) -> 0 | BJ129: 2 | BK129: =ROUND(I129*H129,3) -> 0 | BL129: 4 | BM129: 8
C130: 5 | D130: K | E130: 132211101.S | F130: Hĺbenie rýh šírky do 600 mm v hornine tr.3 súdržných - ručným náradím | G130: m3 | H130: 17.492 | J130: =ROUND(I130*H130,3) -> 0 | N130: znížená | P130: =O130*H130 -> 0 | Q130: 0 | R130: =Q130*H130 -> 0 | S130: 0 | T130: =S130*H130 -> 0 | AR130: 4 | AT130: K | AU130: 2 | AY130: ROZPOCET | BE130: =IF(N130="základná",J130,0) -> 0 | BF130: =IF(N130="znížená",J130,0) -> 0 | BG130: =IF(N130="zákl. prenesená",J130,0) -> 0 | BH130: =IF(N130="zníž. prenesená",J130,0) -> 0 | BI130: =IF(N130="nulová",J130,0) -> 0 | BJ130: 2 | BK130: =ROUND(I130*H130,3) -> 0 | BL130: 4 | BM130: 10
C131: 6 | D131: K | E131: 162201201.S | F131: Vodorovné premiestnenie výkopu nosením do 10 m horniny 1 až 4 | G131: m3 | H131: 42.124 | J131: =ROUND(I131*H131,3) -> 0 | N131: znížená | P131: =O131*H131 -> 0 | Q131: 0 | R131: =Q131*H131 -> 0 | S131: 0 | T131: =S131*H131 -> 0 | AR131: 4 | AT131: K | AU131: 2 | AY131: ROZPOCET | BE131: =IF(N131="základná",J131,0) -> 0 | BF131: =IF(N131="znížená",J131,0) -> 0 | BG131: =IF(N131="zákl. prenesená",J131,0) -> 0 | BH131: =IF(N131="zníž. prenesená",J131,0) -> 0 | BI131: =IF(N131="nulová",J131,0) -> 0 | BJ131: 2 | BK131: =ROUND(I131*H131,3) -> 0 | BL131: 4 | BM131: 12
C132: 7 | D132: K | E132: 162201209.S | F132: Vodorovné premiestnenie výkopu nosením do 10 m horniny 1 až 4 - príplatok k cene za každých ďalších 10 m | G132: m3 | H132: 1010.976 | J132: =ROUND(I132*H132,3) -> 0 | N132: znížená | P132: =O132*H132 -> 0 | Q132: 0 | R132: =Q132*H132 -> 0 | S132: 0 | T132: =S132*H132 -> 0 | AR132: 4 | AT132: K | AU132: 2 | AY132: ROZPOCET | BE132: =IF(N132="základná",J132,0) -> 0 | BF132: =IF(N132="znížená",J132,0) -> 0 | BG132: =IF(N132="zákl. prenesená",J132,0) -> 0 | BH132: =IF(N132="zníž. prenesená",J132,0) -> 0 | BI132: =IF(N132="nulová",J132,0) -> 0 | BJ132: 2 | BK132: =ROUND(I132*H132,3) -> 0 | BL132: 4 | BM132: 14
C133: 8 | D133: K | E133: 162501102.S | F133: Vodorovné premiestnenie výkopku po spevnenej ceste z horniny tr.1-4, do 100 m3 na vzdialenosť do 3000 m | G133: m3 | H133: 42.124 | J133: =ROUND(I133*H133,3) -> 0 | N133: znížená | P133: =O133*H133 -> 0 | Q133: 0 | R133: =Q133*H133 -> 0 | S133: 0 | T133: =S133*H133 -> 0 | AR133: 4 | AT133: K | AU133: 2 | AY133: ROZPOCET | BE133: =IF(N133="základná",J133,0) -> 0 | BF133: =IF(N133="znížená",J133,0) -> 0 | BG133: =IF(N133="zákl. prenesená",J133,0) -> 0 | BH133: =IF(N133="zníž. prenesená",J133,0) -> 0 | BI133: =IF(N133="nulová",J133,0) -> 0 | BJ133: 2 | BK133: =ROUND(I133*H133,3) -> 0 | BL133: 4 | BM133: 16
C134: 9 | D134: K | E134: 162501105.S | F134: Vodorovné premiestnenie výkopku po spevnenej ceste z horniny tr.1-4, do 100 m3, príplatok k cene za každých ďalšich a začatých 1000 m | G134: m3 | H134: 294.868 | J134: =ROUND(I134*H134,3) -> 0 | N134: znížená | P134: =O134*H134 -> 0 | Q134: 0 | R134: =Q134*H134 -> 0 | S134: 0 | T134: =S134*H134 -> 0 | AR134: 4 | AT134: K | AU134: 2 | AY134: ROZPOCET | BE134: =IF(N134="základná",J134,0) -> 0 | BF134: =IF(N134="znížená",J134,0) -> 0 | BG134: =IF(N134="zákl. prenesená",J134,0) -> 0 | BH134: =IF(N134="zníž. prenesená",J134,0) -> 0 | BI134: =IF(N134="nulová",J134,0) -> 0 | BJ134: 2 | BK134: =ROUND(I134*H134,3) -> 0 | BL134: 4 | BM134: 18
C135: 10 | D135: K | E135: 167101100.S | F135: Nakladanie výkopku tr.1-4 ručne | G135: m3 | H135: 42.124 | J135: =ROUND(I135*H135,3) -> 0 | N135: znížená | P135: =O135*H135 -> 0 | Q135: 0 | R135: =Q135*H135 -> 0 | S135: 0 | T135: =S135*H135 -> 0 | AR135: 4 | AT135: K | AU135: 2 | AY135: ROZPOCET | BE135: =IF(N135="základná",J135,0) -> 0 | BF135: =IF(N135="znížená",J135,0) -> 0 | BG135: =IF(N135="zákl. prenesená",J135,0) -> 0 | BH135: =IF(N135="zníž. prenesená",J135,0) -> 0 | BI135: =IF(N135="nulová",J135,0) -> 0 | BJ135: 2 | BK135: =ROUND(I135*H135,3) -> 0 | BL135: 4 | BM135: 20
C136: 11 | D136: K | E136: 171209002.S | F136: Poplatok za skladovanie - zemina a kamenivo (17 05) ostatné | G136: t | H136: 63.186 | J136: =ROUND(I136*H136,3) -> 0 | N136: znížená | P136: =O136*H136 -> 0 | Q136: 0 | R136: =Q136*H136 -> 0 | S136: 0 | T136: =S136*H136 -> 0 | AR136: 4 | AT136: K | AU136: 2 | AY136: ROZPOCET | BE136: =IF(N136="základná",J136,0) -> 0 | BF136: =IF(N136="znížená",J136,0) -> 0 | BG136: =IF(N136="zákl. prenesená",J136,0) -> 0 | BH136: =IF(N136="zníž. prenesená",J136,0) -> 0 | BI136: =IF(N136="nulová",J136,0) -> 0 | BJ136: 2 | BK136: =ROUND(I136*H136,3) -> 0 | BL136: 4 | BM136: 22
D137: D | E137: 2 | F137: Zakladanie | J137: =BK137 -> 0 | P137: =SUM(P138:P140) -> 0 | R137: =SUM(R138:R140) -> 0 | T137: =SUM(T138:T140) -> 0 | AR137: 1 | AT137: D | AU137: 1 | AY137: ROZPOCET | BK137: =SUM(BK138:BK140) -> 0
C138: 12 | D138: K | E138: 274313611.S | F138: Betón základových pásov, prostý tr. C 16/20 | G138: m3 | H138: 18.104 | J138: =ROUND(I138*H138,3) -> 0 | N138: znížená | P138: =O138*H138 -> 0 | Q138: 0 | R138: =Q138*H138 -> 0 | S138: 0 | T138: =S138*H138 -> 0 | AR138: 4 | AT138: K | AU138: 2 | AY138: ROZPOCET | BE138: =IF(N138="základná",J138,0) -> 0 | BF138: =IF(N138="znížená",J138,0) -> 0 | BG138: =IF(N138="zákl. prenesená",J138,0) -> 0 | BH138: =IF(N138="zníž. prenesená",J138,0) -> 0 | BI138: =IF(N138="nulová",J138,0) -> 0 | BJ138: 2 | BK138: =ROUND(I138*H138,3) -> 0 | BL138: 4 | BM138: 24
C139: 13 | D139: K | E139: 274351215.S | F139: Debnenie stien základových pásov, zhotovenie-dielce | G139: m2 | H139: 42.962 | J139: =ROUND(I139*H139,3) -> 0 | N139: znížená | P139: =O139*H139 -> 0 | Q139: 0 | R139: =Q139*H139 -> 0 | S139: 0 | T139: =S139*H139 -> 0 | AR139: 4 | AT139: K | AU139: 2 | AY139: ROZPOCET | BE139: =IF(N139="základná",J139,0) -> 0 | BF139: =IF(N139="znížená",J139,0) -> 0 | BG139: =IF(N139="zákl. prenesená",J139,0) -> 0 | BH139: =IF(N139="zníž. prenesená",J139,0) -> 0 | BI139: =IF(N139="nulová",J139,0) -> 0 | BJ139: 2 | BK139: =ROUND(I139*H139,3) -> 0 | BL139: 4 | BM139: 26
C140: 14 | D140: K | E140: 274351216.S | F140: Debnenie stien základových pásov, odstránenie-dielce | G140: m2 | H140: 42.962 | J140: =ROUND(I140*H140,3) -> 0 | N140: znížená | P140: =O140*H140 -> 0 | Q140: 0 | R140: =Q140*H140 -> 0 | S140: 0 | T140: =S140*H140 -> 0 | AR140: 4 | AT140: K | AU140: 2 | AY140: ROZPOCET | BE140: =IF(N140="základná",J140,0) -> 0 | BF140: =IF(N140="znížená",J140,0) -> 0 | BG140: =IF(N140="zákl. prenesená",J140,0) -> 0 | BH140: =IF(N140="zníž. prenesená",J140,0) -> 0 | BI140: =IF(N140="nulová",J140,0) -> 0 | BJ140: 2 | BK140: =ROUND(I140*H140,3) -> 0 | BL140: 4 | BM140: 28
D141: D | E141: 5 | F141: Komunikácie | J141: =BK141 -> 0 | P141: =SUM(P142:P143) -> 0 | R141: =SUM(R142:R143) -> 0 | T141: =SUM(T142:T143) -> 0 | AR141: 1 | AT141: D | AU141: 1 | AY141: ROZPOCET | BK141: =SUM(BK142:BK143) -> 0
C142: 15 | D142: K | E142: 564740111.S | F142: Podklad alebo kryt z kameniva hrubého drveného veľ. 8-16 mm s rozprestretím a zhutnením hr. 120 mm | G142: m2 | H142: 164.21 | J142: =ROUND(I142*H142,3) -> 0 | N142: znížená | P142: =O142*H142 -> 0 | Q142: 0 | R142: =Q142*H142 -> 0 | S142: 0 | T142: =S142*H142 -> 0 | AR142: 4 | AT142: K | AU142: 2 | AY142: ROZPOCET | BE142: =IF(N142="základná",J142,0) -> 0 | BF142: =IF(N142="znížená",J142,0) -> 0 | BG142: =IF(N142="zákl. prenesená",J142,0) -> 0 | BH142: =IF(N142="zníž. prenesená",J142,0) -> 0 | BI142: =IF(N142="nulová",J142,0) -> 0 | BJ142: 2 | BK142: =ROUND(I142*H142,3) -> 0 | BL142: 4 | BM142: 30
C143: 16 | D143: K | E143: 564782419.S | F143: Mlátový povrch chodníka hr. 80 mm | G143: m2 | H143: 164.21 | J143: =ROUND(I143*H143,3) -> 0 | N143: znížená | P143: =O143*H143 -> 0 | Q143: 0 | R143: =Q143*H143 -> 0 | S143: 0 | T143: =S143*H143 -> 0 | AR143: 4 | AT143: K | AU143: 2 | AY143: ROZPOCET | BE143: =IF(N143="základná",J143,0) -> 0 | BF143: =IF(N143="znížená",J143,0) -> 0 | BG143: =IF(N143="zákl. prenesená",J143,0) -> 0 | BH143: =IF(N143="zníž. prenesená",J143,0) -> 0 | BI143: =IF(N143="nulová",J143,0) -> 0 | BJ143: 2 | BK143: =ROUND(I143*H143,3) -> 0 | BL143: 4 | BM143: 32
D144: D | E144: 9 | F144: Ostatné konštrukcie a práce-búranie | J144: =BK144 -> 0 | P144: =SUM(P145:P153) -> 0 | R144: =SUM(R145:R153) -> 0 | T144: =SUM(T145:T153) -> 0 | AR144: 1 | AT144: D | AU144: 1 | AY144: ROZPOCET | BK144: =SUM(BK145:BK153) -> 0
C145: 17 | D145: K | E145: 917161111.S | F145: Osadenie chodník. obrubníka kamenného ležatého do lôžka z betónu prostého tr. C 12/15 s bočnou oporou | G145: m | H145: 61.374 | J145: =ROUND(I145*H145,3) -> 0 | N145: znížená | P145: =O145*H145 -> 0 | Q145: 0 | R145: =Q145*H145 -> 0 | S145: 0 | T145: =S145*H145 -> 0 | AR145: 4 | AT145: K | AU145: 2 | AY145: ROZPOCET | BE145: =IF(N145="základná",J145,0) -> 0 | BF145: =IF(N145="znížená",J145,0) -> 0 | BG145: =IF(N145="zákl. prenesená",J145,0) -> 0 | BH145: =IF(N145="zníž. prenesená",J145,0) -> 0 | BI145: =IF(N145="nulová",J145,0) -> 0 | BJ145: 2 | BK145: =ROUND(I145*H145,3) -> 0 | BL145: 4 | BM145: 34
C146: 18 | D146: M | E146: 583810001300.S | F146: Obrubník kamenný rovný z vyvretých hornín | G146: m | H146: 61.988 | J146: =ROUND(I146*H146,3) -> 0 | N146: znížená | P146: =O146*H146 -> 0 | Q146: 0 | R146: =Q146*H146 -> 0 | S146: 0 | T146: =S146*H146 -> 0 | AR146: 8 | AT146: M | AU146: 2 | AY146: ROZPOCET | BE146: =IF(N146="základná",J146,0) -> 0 | BF146: =IF(N146="znížená",J146,0) -> 0 | BG146: =IF(N146="zákl. prenesená",J146,0) -> 0 | BH146: =IF(N146="zníž. prenesená",J146,0) -> 0 | BI146: =IF(N146="nulová",J146,0) -> 0 | BJ146: 2 | BK146: =ROUND(I146*H146,3) -> 0 | BL146: 4 | BM146: 36
C147: 19 | D147: K | E147: 935914210.S | F147: Osadenie odvodňovacej oceľovej zvodnice | G147: m | H147: 9 | J147: =ROUND(I147*H147,3) -> 0 | N147: znížená | P147: =O147*H147 -> 0 | Q147: 0 | R147: =Q147*H147 -> 0 | S147: 0 | T147: =S147*H147 -> 0 | AR147: 4 | AT147: K | AU147: 2 | AY147: ROZPOCET | BE147: =IF(N147="základná",J147,0) -> 0 | BF147: =IF(N147="znížená",J147,0) -> 0 | BG147: =IF(N147="zákl. prenesená",J147,0) -> 0 | BH147: =IF(N147="zníž. prenesená",J147,0) -> 0 | BI147: =IF(N147="nulová",J147,0) -> 0 | BJ147: 2 | BK147: =ROUND(I147*H147,3) -> 0 | BL147: 4 | BM147: 38
C148: 20 | D148: M | E148: 553469510 | F148: Oceľová zvodnica bez roštu Raudo Viaqua 100x90, dl. 3,0 m | G148: kus | H148: 9 | J148: =ROUND(I148*H148,3) -> 0 | N148: znížená | P148: =O148*H148 -> 0 | Q148: 0 | R148: =Q148*H148 -> 0 | S148: 0 | T148: =S148*H148 -> 0 | AR148: 8 | AT148: M | AU148: 2 | AY148: ROZPOCET | BE148: =IF(N148="základná",J148,0) -> 0 | BF148: =IF(N148="znížená",J148,0) -> 0 | BG148: =IF(N148="zákl. prenesená",J148,0) -> 0 | BH148: =IF(N148="zníž. prenesená",J148,0) -> 0 | BI148: =IF(N148="nulová",J148,0) -> 0 | BJ148: 2 | BK148: =ROUND(I148*H148,3) -> 0 | BL148: 4 | BM148: 40
C149: 21 | D149: K | E149: 979081111.S | F149: Odvoz sutiny a vybúraných hmôt na skládku do 1 km | G149: t | H149: 36.93 | J149: =ROUND(I149*H149,3) -> 0 | N149: znížená | P149: =O149*H149 -> 0 | Q149: 0 | R149: =Q149*H149 -> 0 | S149: 0 | T149: =S149*H149 -> 0 | AR149: 4 | AT149: K | AU149: 2 | AY149: ROZPOCET | BE149: =IF(N149="základná",J149,0) -> 0 | BF149: =IF(N149="znížená",J149,0) -> 0 | BG149: =IF(N149="zákl. prenesená",J149,0) -> 0 | BH149: =IF(N149="zníž. prenesená",J149,0) -> 0 | BI149: =IF(N149="nulová",J149,0) -> 0 | BJ149: 2 | BK149: =ROUND(I149*H149,3) -> 0 | BL149: 4 | BM149: 42
C150: 22 | D150: K | E150: 979081121.S | F150: Odvoz sutiny a vybúraných hmôt na skládku za každý ďalší 1 km | G150: t | H150: 332.37 | J150: =ROUND(I150*H150,3) -> 0 | N150: znížená | P150: =O150*H150 -> 0 | Q150: 0 | R150: =Q150*H150 -> 0 | S150: 0 | T150: =S150*H150 -> 0 | AR150: 4 | AT150: K | AU150: 2 | AY150: ROZPOCET | BE150: =IF(N150="základná",J150,0) -> 0 | BF150: =IF(N150="znížená",J150,0) -> 0 | BG150: =IF(N150="zákl. prenesená",J150,0) -> 0 | BH150: =IF(N150="zníž. prenesená",J150,0) -> 0 | BI150: =IF(N150="nulová",J150,0) -> 0 | BJ150: 2 | BK150: =ROUND(I150*H150,3) -> 0 | BL150: 4 | BM150: 44
C151: 23 | D151: K | E151: 979082111.S | F151: Vnútrostavenisková doprava sutiny a vybúraných hmôt do 10 m, ručný presun | G151: t | H151: 36.93 | J151: =ROUND(I151*H151,3) -> 0 | N151: znížená | P151: =O151*H151 -> 0 | Q151: 0 | R151: =Q151*H151 -> 0 | S151: 0 | T151: =S151*H151 -> 0 | AR151: 4 | AT151: K | AU151: 2 | AY151: ROZPOCET | BE151: =IF(N151="základná",J151,0) -> 0 | BF151: =IF(N151="znížená",J151,0) -> 0 | BG151: =IF(N151="zákl. prenesená",J151,0) -> 0 | BH151: =IF(N151="zníž. prenesená",J151,0) -> 0 | BI151: =IF(N151="nulová",J151,0) -> 0 | BJ151: 2 | BK151: =ROUND(I151*H151,3) -> 0 | BL151: 4 | BM151: 46
C152: 24 | D152: K | E152: 979082121.S | F152: Vnútrostavenisková doprava sutiny a vybúraných hmôt za každých ďalších 5 m, ručný presun | G152: t | H152: 1772.64 | J152: =ROUND(I152*H152,3) -> 0 | N152: znížená | P152: =O152*H152 -> 0 | Q152: 0 | R152: =Q152*H152 -> 0 | S152: 0 | T152: =S152*H152 -> 0 | AR152: 4 | AT152: K | AU152: 2 | AY152: ROZPOCET | BE152: =IF(N152="základná",J152,0) -> 0 | BF152: =IF(N152="znížená",J152,0) -> 0 | BG152: =IF(N152="zákl. prenesená",J152,0) -> 0 | BH152: =IF(N152="zníž. prenesená",J152,0) -> 0 | BI152: =IF(N152="nulová",J152,0) -> 0 | BJ152: 2 | BK152: =ROUND(I152*H152,3) -> 0 | BL152: 4 | BM152: 48
C153: 25 | D153: K | E153: 979089012.S | F153: Poplatok za skladovanie | G153: t | H153: 36.93 | J153: =ROUND(I153*H153,3) -> 0 | N153: znížená | P153: =O153*H153 -> 0 | Q153: 0 | R153: =Q153*H153 -> 0 | S153: 0 | T153: =S153*H153 -> 0 | AR153: 4 | AT153: K | AU153: 2 | AY153: ROZPOCET | BE153: =IF(N153="základná",J153,0) -> 0 | BF153: =IF(N153="znížená",J153,0) -> 0 | BG153: =IF(N153="zákl. prenesená",J153,0) -> 0 | BH153: =IF(N153="zníž. prenesená",J153,0) -> 0 | BI153: =IF(N153="nulová",J153,0) -> 0 | BJ153: 2 | BK153: =ROUND(I153*H153,3) -> 0 | BL153: 4 | BM153: 50
D154: D | E154: 99 | F154: Presun hmôt HSV | J154: =BK154 -> 0 | P154: =P155 -> 0 | R154: =R155 -> 0 | T154: =T155 -> 0 | AR154: 1 | AT154: D | AU154: 1 | AY154: ROZPOCET | BK154: =BK155 -> 0
C155: 26 | D155: K | E155: 999281119.S | F155: Ručný presun hmôt | G155: t | H155: 130.136 | J155: =ROUND(I155*H155,3) -> 0 | N155: znížená | P155: =O155*H155 -> 0 | Q155: 0 | R155: =Q155*H155 -> 0 | S155: 0 | T155: =S155*H155 -> 0 | AR155: 4 | AT155: K | AU155: 2 | AY155: ROZPOCET | BE155: =IF(N155="základná",J155,0) -> 0 | BF155: =IF(N155="znížená",J155,0) -> 0 | BG155: =IF(N155="zákl. prenesená",J155,0) -> 0 | BH155: =IF(N155="zníž. prenesená",J155,0) -> 0 | BI155: =IF(N155="nulová",J155,0) -> 0 | BJ155: 2 | BK155: =ROUND(I155*H155,3) -> 0 | BL155: 4 | BM155: 52
D156: D | E156: PSV | F156: Práce a dodávky PSV | J156: =BK156 -> 0 | P156: 0 | R156: 0 | T156: 0 | AR156: 2 | AT156: D | AU156: 0 | AY156: ROZPOCET | BK156: 0

Sheet 004 - Chodník A5
L2: >> skryté stĺpce << | AT2: {24127c46-34af-4d3b-a26a-32d5e7a39d98}
AT3: 0
D4: KRYCÍ LIST ROZPOČTU | M4: v --- nižšie sa nachádzajú doplnkové a pomocné údaje k zostavám --- v | AT4: False
D6: Stavba:
E7: ='Rekapitulácia stavby'!K6 -> REVITALIZÁCIA ÚZEMIA HRADNÉHO KOPCA V NITRE
D8: Objekt:
E9: 004 - Chodník A5
D11: JKSO: | I11: KS:
D12: Miesto: | I12: Dátum: | J12: ='Rekapitulácia stavby'!AN8 -> 18. 10. 2021
D14: Objednávateľ: | I14: IČO:
E15: Mesto Nitra | I15: IČ DPH:
D17: Zhotoviteľ: | I17: IČO: | J17: ='Rekapitulácia stavby'!AN13 -> Vyplň údaj
E18: ='Rekapitulácia stavby'!E14 -> Vyplň údaj | I18: IČ DPH: | J18: ='Rekapitulácia stavby'!AN14 -> Vyplň údaj
D20: Projektant: | I20: IČO:
E21: Ing. arch. Martin Dulík AA | I21: IČ DPH:
D23: Spracovateľ: | I23: IČO:
E24: Ing. arch. Martin Dulík | I24: IČ DPH:
D26: Poznámka:
D30: Cena bez DPH | J30: =ROUND(J125, 2) -> 0
F32: Základ dane | I32: Sadzba dane | J32: Výška dane
D33: DPH | E33: základná | F33: =ROUND((SUM(BE125:BE171)), 2) -> 0 | I33: 0.2 | J33: =ROUND(((SUM(BE125:BE171))*I33), 2) -> 0
E34: znížená | F34: =ROUND((SUM(BF125:BF171)), 2) -> 0 | I34: 0.2 | J34: =ROUND(((SUM(BF125:BF171))*I34), 2) -> 0
E35: zákl. prenesená | F35: =ROUND((SUM(BG125:BG171)), 2) -> 0 | I35: 0.2 | J35: =0 -> 0
E36: zníž. prenesená | F36: =ROUND((SUM(BH125:BH171)), 2) -> 0 | I36: 0.2 | J36: =0 -> 0
E37: nulová | F37: =ROUND((SUM(BI125:BI171)), 2) -> 0 | I37: 0 | J37: =0 -> 0
D39: Cena s DPH | G39: v | H39: EUR | J39: =SUM(J30:J37) -> 0
D50: Projektant | G50: Spracovateľ
D61: Dátum a podpis: | F61: Pečiatka | G61: Dátum a podpis: | J61: Pečiatka
D65: Objednávateľ | G65: Zhotoviteľ
D76: Dátum a podpis: | F76: Pečiatka | G76: Dátum a podpis: | J76: Pečiatka
C82: REKAPITULÁCIA ROZPOČTU
C84: Stavba:
E85: =E7 -> REVITALIZÁCIA ÚZEMIA HRADNÉHO KOPCA V NITRE
C86: Objekt:
E87: =E9 -> 004 - Chodník A5
C89: Miesto: | F89: =F12 | I89: Dátum: | J89: =IF(J12="","",J12) -> 18. 10. 2021
C91: Objednávateľ: | F91: =E15 -> Mesto Nitra | I91: Projektant: | J91: =E21 -> Ing. arch. Martin Dulík AA
C92: Zhotoviteľ: | F92: =IF(E18="","",E18) -> Vyplň údaj | I92: Spracovateľ: | J92: =E24 -> Ing. arch. Martin Dulík
C94: Kód dielu - Popis | J94: Cena celkom [EUR]
C96: Náklady z rozpočtu | J96: =J125 -> 0 | AU96: -1
D97: HSV - Práce a dodávky HSV | J97: =J126 -> 0
D98: 1 - Zemné práce | J98: =J127 -> 0
D99: 2 - Zakladanie | J99: =J139 -> 0
D100: 3 - Zvislé a kompletné konštrukcie | J100: =J146 -> 0
D101: 5 - Komunikácie | J101: =J152 -> 0
D102: 9 - Ostatné konštrukcie a práce-búranie | J102: =J155 -> 0
D103: 99 - Presun hmôt HSV | J103: =J166 -> 0
D104: PSV - Práce a dodávky PSV | J104: =J168 -> 0
D105: 721 - Zdravotechnika - vnútorná kanalizácia | J105: =J169 -> 0
C112: ROZPOČET
C114: Stavba:
E115: =E7 -> REVITALIZÁCIA ÚZEMIA HRADNÉHO KOPCA V NITRE
C116: Objekt:
E117: =E9 -> 004 - Chodník A5
C119: Miesto: | F119: =F12 | I119: Dátum: | J119: =IF(J12="","",J12) -> 18. 10. 2021
C121: Objednávateľ: | F121: =E15 -> Mesto Nitra | I121: Projektant: | J121: =E21 -> Ing. arch. Martin Dulík AA
C122: Zhotoviteľ: | F122: =IF(E18="","",E18) -> Vyplň údaj | I122: Spracovateľ: | J122: =E24 -> Ing. arch. Martin Dulík
C124: PČ | D124: Typ | E124: Kód | F124: Popis | G124: MJ | H124: Množstvo | I124: J.cena [EUR] | J124: Cena celkom [EUR] | K124: Cenová sústava | N124: DPH | O124: J. Nh [h] | P124: Nh celkom [h] | Q124: J. hmotnosť [t] | R124: Hmotnosť celkom [t] | S124: J. suť [t] | T124: Suť Celkom [t]
C125: Náklady z rozpočtu | J125: =BK125 -> 0 | P125: =P126+P168 -> 0 | R125: =R126+R168 -> 0 | T125: =T126+T168 -> 0 | AT125: D | AU125: -1 | BK125: =BK126+BK168 -> 0
D126: D | E126: HSV | F126: Práce a dodávky HSV | J126: =BK126 -> 0 | P126: =P127+P139+P146+P152+P155+P166 -> 0 | R126: =R127+R139+R146+R152+R155+R166 -> 0 | T126: =T127+T139+T146+T152+T155+T166 -> 0 | AR126: 1 | AT126: D | AU126: 0 | AY126: ROZPOCET | BK126: =BK127+BK139+BK146+BK152+BK155+BK166 -> 0
D127: D | E127: 1 | F127: Zemné práce | J127: =BK127 -> 0 | P127: =SUM(P128:P138) -> 0 | R127: =SUM(R128:R138) -> 0 | T127: =SUM(T128:T138) -> 0 | AR127: 1 | AT127: D | AU127: 1 | AY127: ROZPOCET | BK127: =SUM(BK128:BK138) -> 0
C128: 1 | D128: K | E128: 113107221.S | F128: Odstránenie krytu v ploche nad 200 m2 z kameniva hrubého drveného, hr. do 100 mm, -0,13000t | G128: m2 | H128: 112.447 | J128: =ROUND(I128*H128,3) -> 0 | N128: znížená | P128: =O128*H128 -> 0 | Q128: 0 | R128: =Q128*H128 -> 0 | S128: 0 | T128: =S128*H128 -> 0 | AR128: 4 | AT128: K | AU128: 2 | AY128: ROZPOCET | BE128: =IF(N128="základná",J128,0) -> 0 | BF128: =IF(N128="znížená",J128,0) -> 0 | BG128: =IF(N128="zákl. prenesená",J128,0) -> 0 | BH128: =IF(N128="zníž. prenesená",J128,0) -> 0 | BI128: =IF(N128="nulová",J128,0) -> 0 | BJ128: 2 | BK128: =ROUND(I128*H128,3) -> 0 | BL128: 4 | BM128: 2
C129: 2 | D129: K | E129: 113202111.S | F129: Vytrhanie obrúb kamenných, s vybúraním lôžka, z krajníkov alebo obrubníkov stojatých, -0,14500t | G129: m | H129: 41.58 | J129: =ROUND(I129*H129,3) -> 0 | N129: znížená | P129: =O129*H129 -> 0 | Q129: 0 | R129: =Q129*H129 -> 0 | S129: 0 | T129: =S129*H129 -> 0 | AR129: 4 | AT129: K | AU129: 2 | AY129: ROZPOCET | BE129: =IF(N129="základná",J129,0) -> 0 | BF129: =IF(N129="znížená",J129,0) -> 0 | BG129: =IF(N129="zákl. prenesená",J129,0) -> 0 | BH129: =IF(N129="zníž. prenesená",J129,0) -> 0 | BI129: =IF(N129="nulová",J129,0) -> 0 | BJ129: 2 | BK129: =ROUND(I129*H129,3) -> 0 | BL129: 4 | BM129: 4
C130: 3 | D130: K | E130: 120901121.S | F130: Búranie konštrukcií z betónu prostého neprekladaného kameňom v odkopávkach | G130: m3 | H130: 2.058 | J130: =ROUND(I130*H130,3) -> 0 | N130: znížená | P130: =O130*H130 -> 0 | Q130: 0 | R130: =Q130*H130 -> 0 | S130: 0 | T130: =S130*H130 -> 0 | AR130: 4 | AT130: K | AU130: 2 | AY130: ROZPOCET | BE130: =IF(N130="základná",J130,0) -> 0 | BF130: =IF(N130="znížená",J130,0) -> 0 | BG130: =IF(N130="zákl. prenesená",J130,0) -> 0 | BH130: =IF(N130="zníž. prenesená",J130,0) -> 0 | BI130: =IF(N130="nulová",J130,0) -> 0 | BJ130: 2 | BK130: =ROUND(I130*H130,3) -> 0 | BL130: 4 | BM130: 6
C131: 4 | D131: K | E131: 122301101.S | F131: Odkopávka a prekopávka nezapažená v hornine 4, do 100 m3 | G131: m3 | H131: 2.879 | J131: =ROUND(I131*H131,3) -> 0 | N131: znížená | P131: =O131*H131 -> 0 | Q131: 0 | R131: =Q131*H131 -> 0 | S131: 0 | T131: =S131*H131 -> 0 | AR131: 4 | AT131: K | AU131: 2 | AY131: ROZPOCET | BE131: =IF(N131="základná",J131,0) -> 0 | BF131: =IF(N131="znížená",J131,0) -> 0 | BG131: =IF(N131="zákl. prenesená",J131,0) -> 0 | BH131: =IF(N131="zníž. prenesená",J131,0) -> 0 | BI131: =IF(N131="nulová",J131,0) -> 0 | BJ131: 2 | BK131: =ROUND(I131*H131,3) -> 0 | BL131: 4 | BM131: 8
C132: 5 | D132: K | E132: 132211101.S | F132: Hĺbenie rýh šírky do 600 mm v hornine tr.3 súdržných - ručným náradím | G132: m3 | H132: 21.18 | J132: =ROUND(I132*H132,3) -> 0 | N132: znížená | P132: =O132*H132 -> 0 | Q132: 0 | R132: =Q132*H132 -> 0 | S132: 0 | T132: =S132*H132 -> 0 | AR132: 4 | AT132: K | AU132: 2 | AY132: ROZPOCET | BE132: =IF(N132="základná",J132,0) -> 0 | BF132: =IF(N132="znížená",J132,0) -> 0 | BG132: =IF(N132="zákl. prenesená",J132,0) -> 0 | BH132: =IF(N132="zníž. prenesená",J132,0) -> 0 | BI132: =IF(N132="nulová",J132,0) -> 0 | BJ132: 2 | BK132: =ROUND(I132*H132,3) -> 0 | BL132: 4 | BM132: 10
C133: 6 | D133: K | E133: 162201201.S | F133: Vodorovné premiestnenie výkopu nosením do 10 m horniny 1 až 4 | G133: m3 | H133: 24.059 | J133: =ROUND(I133*H133,3) -> 0 | N133: znížená | P133: =O133*H133 -> 0 | Q133: 0 | R133: =Q133*H133 -> 0 | S133: 0 | T133: =S133*H133 -> 0 | AR133: 4 | AT133: K | AU133: 2 | AY133: ROZPOCET | BE133: =IF(N133="základná",J133,0) -> 0 | BF133: =IF(N133="znížená",J133,0) -> 0 | BG133: =IF(N133="zákl. prenesená",J133,0) -> 0 | BH133: =IF(N133="zníž. prenesená",J133,0) -> 0 | BI133: =IF(N133="nulová",J133,0) -> 0 | BJ133: 2 | BK133: =ROUND(I133*H133,3) -> 0 | BL133: 4 | BM133: 12
C134: 7 | D134: K | E134: 162201209.S | F134: Vodorovné premiestnenie výkopu nosením do 10 m horniny 1 až 4 - príplatok k cene za každých ďalších 10 m | G134: m3 | H134: 577.416 | J134: =ROUND(I134*H134,3) -> 0 | N134: znížená | P134: =O134*H134 -> 0 | Q134: 0 | R134: =Q134*H134 -> 0 | S134: 0 | T134: =S134*H134 -> 0 | AR134: 4 | AT134: K | AU134: 2 | AY134: ROZPOCET | BE134: =IF(N134="základná",J134,0) -> 0 | BF134: =IF(N134="znížená",J134,0) -> 0 | BG134: =IF(N134="zákl. prenesená",J134,0) -> 0 | BH134: =IF(N134="zníž. prenesená",J134,0) -> 0 | BI134: =IF(N134="nulová",J134,0) -> 0 | BJ134: 2 | BK134: =ROUND(I134*H134,3) -> 0 | BL134: 4 | BM134: 14
C135: 8 | D135: K | E135: 162501102.S | F135: Vodorovné premiestnenie výkopku po spevnenej ceste z horniny tr.1-4, do 100 m3 na vzdialenosť do 3000 m | G135: m3 | H135: 24.059 | J135: =ROUND(I135*H135,3) -> 0 | N135: znížená | P135: =O135*H135 -> 0 | Q135: 0 | R135: =Q135*H135 -> 0 | S135: 0 | T135: =S135*H135 -> 0 | AR135: 4 | AT135: K | AU135: 2 | AY135: ROZPOCET | BE135: =IF(N135="základná",J135,0) -> 0 | BF135: =IF(N135="znížená",J135,0) -> 0 | BG135: =IF(N135="zákl. prenesená",J135,0) -> 0 | BH135: =IF(N135="zníž. prenesená",J135,0) -> 0 | BI135: =IF(N135="nulová",J135,0) -> 0 | BJ135: 2 | BK135: =ROUND(I135*H135,3) -> 0 | BL135: 4 | BM135: 16
C136: 9 | D136: K | E136: 162501105.S | F136: Vodorovné premiestnenie výkopku po spevnenej ceste z horniny tr.1-4, do 100 m3, príplatok k cene za každých ďalšich a začatých 1000 m | G136: m3 | H136: 168.413 | J136: =ROUND(I136*H136,3) -> 0 | N136: znížená | P136: =O136*H136 -> 0 | Q136: 0 | R136: =Q136*H136 -> 0 | S136: 0 | T136: =S136*H136 -> 0 | AR136: 4 | AT136: K | AU136: 2 | AY136: ROZPOCET | BE136: =IF(N136="základná",J136,0) -> 0 | BF136: =IF(N136="znížená",J136,0) -> 0 | BG136: =IF(N136="zákl. prenesená",J136,0) -> 0 | BH136: =IF(N136="zníž. prenesená",J136,0) -> 0 | BI136: =IF(N136="nulová",J136,0) -> 0 | BJ136: 2 | BK136: =ROUND(I136*H136,3) -> 0 | BL136: 4 | BM136: 18
C137: 10 | D137: K | E137: 167101100.S | F137: Nakladanie výkopku tr.1-4 ručne | G137: m3 | H137: 24.059 | J137: =ROUND(I137*H137,3) -> 0 | N137: znížená | P137: =O137*H137 -> 0 | Q137: 0 | R137: =Q137*H137 -> 0 | S137: 0 | T137: =S137*H137 -> 0 | AR137: 4 | AT137: K | AU137: 2 | AY137: ROZPOCET | BE137: =IF(N137="základná",J137,0) -> 0 | BF137: =IF(N137="znížená",J137,0) -> 0 | BG137: =IF(N137="zákl. prenesená",J137,0) -> 0 | BH137: =IF(N137="zníž. prenesená",J137,0) -> 0 | BI137: =IF(N137="nulová",J137,0) -> 0 | BJ137: 2 | BK137: =ROUND(I137*H137,3) -> 0 | BL137: 4 | BM137: 20
C138: 11 | D138: K | E138: 171209002.S | F138: Poplatok za skladovanie - zemina a kamenivo (17 05) ostatné | G138: t | H138: 36.089 | J138: =ROUND(I138*H138,3) -> 0 | N138: znížená | P138: =O138*H138 -> 0 | Q138: 0 | R138: =Q138*H138 -> 0 | S138: 0 | T138: =S138*H138 -> 0 | AR138: 4 | AT138: K | AU138: 2 | AY138: ROZPOCET | BE138: =IF(N138="základná",J138,0) -> 0 | BF138: =IF(N138="znížená",J138,0) -> 0 | BG138: =IF(N138="zákl. prenesená",J138,0) -> 0 | BH138: =IF(N138="zníž. prenesená",J138,0) -> 0 | BI138: =IF(N138="nulová",J138,0) -> 0 | BJ138: 2 | BK138: =ROUND(I138*H138,3) -> 0 | BL138: 4 | BM138: 22
D139: D | E139: 2 | F139: Zakladanie | J139: =BK139 -> 0 | P139: =SUM(P140:P145) -> 0 | R139: =SUM(R140:R145) -> 0 | T139: =SUM(T140:T145) -> 0 | AR139: 1 | AT139: D | AU139: 1 | AY139: ROZPOCET | BK139: =SUM(BK140:BK145) -> 0
C140: 12 | D140: K | E140: 211971121.S | F140: Zhotov. oplášt. výplne z geotext. v ryhe alebo v záreze pri rozvinutej šírke oplášt. od 0 do 2, 5 m | G140: m2 | H140: 292.154 | J140: =ROUND(I140*H140,3) -> 0 | N140: znížená | P140: =O140*H140 -> 0 | Q140: 0 | R140: =Q140*H140 -> 0 | S140: 0 | T140: =S140*H140 -> 0 | AR140: 4 | AT140: K | AU140: 2 | AY140: ROZPOCET | BE140: =IF(N140="základná",J140,0) -> 0 | BF140: =IF(N140="znížená",J140,0) -> 0 | BG140: =IF(N140="zákl. prenesená",J140,0) -> 0 | BH140: =IF(N140="zníž. prenesená",J140,0) -> 0 | BI140: =IF(N140="nulová",J140,0) -> 0 | BJ140: 2 | BK140: =ROUND(I140*H140,3) -> 0 | BL140: 4 | BM140: 24
C141: 13 | D141: M | E141: 693110004500.S | F141: Geotextília polypropylénová netkaná 300 g/m2 | G141: m2 | H141: 297.997 | J141: =ROUND(I141*H141,3) -> 0 | N141: znížená | P141: =O141*H141 -> 0 | Q141: 0 | R141: =Q141*H141 -> 0 | S141: 0 | T141: =S141*H141 -> 0 | AR141: 8 | AT141: M | AU141: 2 | AY141: ROZPOCET | BE141: =IF(N141="základná",J141,0) -> 0 | BF141: =IF(N141="znížená",J141,0) -> 0 | BG141: =IF(N141="zákl. prenesená",J141,0) -> 0 | BH141: =IF(N141="zníž. prenesená",J141,0) -> 0 | BI141: =IF(N141="nulová",J141,0) -> 0 | BJ141: 2 | BK141: =ROUND(I141*H141,3) -> 0 | BL141: 4 | BM141: 26
C142: 14 | D142: K | E142: 247571113.S | F142: Obsyp a tesnenie, obsyp so zhutnením z kameniva 16-32 mm | G142: m3 | H142: 3.873 | J142: =ROUND(I142*H142,3) -> 0 | N142: znížená | P142: =O142*H142 -> 0 | Q142: 0 | R142: =Q142*H142 -> 0 | S142: 0 | T142: =S142*H142 -> 0 | AR142: 4 | AT142: K | AU142: 2 | AY142: ROZPOCET | BE142: =IF(N142="základná",J142,0) -> 0 | BF142: =IF(N142="znížená",J142,0) -> 0 | BG142: =IF(N142="zákl. prenesená",J142,0) -> 0 | BH142: =IF(N142="zníž. prenesená",J142,0) -> 0 | BI142: =IF(N142="nulová",J142,0) -> 0 | BJ142: 2 | BK142: =ROUND(I142*H142,3) -> 0 | BL142: 4 | BM142: 28
C143: 15 | D143: K | E143: 274313611.S | F143: Betón základových pásov, prostý tr. C 16/20 | G143: m3 | H143: 21.595 | J143: =ROUND(I143*H143,3) -> 0 | N143: znížená | P143: =O143*H143 -> 0 | Q143: 0 | R143: =Q143*H143 -> 0 | S143: 0 | T143: =S143*H143 -> 0 | AR143: 4 | AT143: K | AU143: 2 | AY143: ROZPOCET | BE143: =IF(N143="základná",J143,0) -> 0 | BF143: =IF(N143="znížená",J143,0) -> 0 | BG143: =IF(N143="zákl. prenesená",J143,0) -> 0 | BH143: =IF(N143="zníž. prenesená",J143,0) -> 0 | BI143: =IF(N143="nulová",J143,0) -> 0 | BJ143: 2 | BK143: =ROUND(I143*H143,3) -> 0 | BL143: 4 | BM143: 30
C144: 16 | D144: K | E144: 274351215.S | F144: Debnenie stien základových pásov, zhotovenie-dielce | G144: m2 | H144: 29.106 | J144: =ROUND(I144*H144,3) -> 0 | N144: znížená | P144: =O144*H144 -> 0 | Q144: 0 | R144: =Q144*H144 -> 0 | S144: 0 | T144: =S144*H144 -> 0 | AR144: 4 | AT144: K | AU144: 2 | AY144: ROZPOCET | BE144: =IF(N144="základná",J144,0) -> 0 | BF144: =IF(N144="znížená",J144,0) -> 0 | BG144: =IF(N144="zákl. prenesená",J144,0) -> 0 | BH144: =IF(N144="zníž. prenesená",J144,0) -> 0 | BI144: =IF(N144="nulová",J144,0) -> 0 | BJ144: 2 | BK144: =ROUND(I144*H144,3) -> 0 | BL144: 4 | BM144: 32
C145: 17 | D145: K | E145: 274351216.S | F145: Debnenie stien základových pásov, odstránenie-dielce | G145: m2 | H145: 90.106 | J145: =ROUND(I145*H145,3) -> 0 | N145: znížená | P145: =O145*H145 -> 0 | Q145: 0 | R145: =Q145*H145 -> 0 | S145: 0 | T145: =S145*H145 -> 0 | AR145: 4 | AT145: K | AU145: 2 | AY145: ROZPOCET | BE145: =IF(N145="základná",J145,0) -> 0 | BF145: =IF(N145="znížená",J145,0) -> 0 | BG145: =IF(N145="zákl. prenesená",J145,0) -> 0 | BH145: =IF(N145="zníž. prenesená",J145,0) -> 0 | BI145: =IF(N145="nulová",J145,0) -> 0 | BJ145: 2 | BK145: =ROUND(I145*H145,3) -> 0 | BL145: 4 | BM145: 34
D146: D | E146: 3 | F146: Zvislé a kompletné konštrukcie | J146: =BK146 -> 0 | P146: =SUM(P147:P151) -> 0 | R146: =SUM(R147:R151) -> 0 | T146: =SUM(T147:T151) -> 0 | AR146: 1 | AT146: D | AU146: 1 | AY146: ROZPOCET | BK146: =SUM(BK147:BK151) -> 0
C147: 18 | D147: K | E147: 313212124.S | F147: Murivo režné z kameňa lomársky upraveného tr.I | G147: m3 | H147: 3.994 | J147: =ROUND(I147*H147,3) -> 0 | N147: znížená | P147: =O147*H147 -> 0 | Q147: 0 | R147: =Q147*H147 -> 0 | S147: 0 | T147: =S147*H147 -> 0 | AR147: 4 | AT147: K | AU147: 2 | AY147: ROZPOCET | BE147: =IF(N147="základná",J147,0) -> 0 | BF147: =IF(N147="znížená",J147,0) -> 0 | BG147: =IF(N147="zákl. prenesená",J147,0) -> 0 | BH147: =IF(N147="zníž. prenesená",J147,0) -> 0 | BI147: =IF(N147="nulová",J147,0) -> 0 | BJ147: 2 | BK147: =ROUND(I147*H147,3) -> 0 | BL147: 4 | BM147: 36
C148: 19 | D148: K | E148: 327323127.S | F148: Múry a valy z betónu železového tr. C 25/30 | G148: m3 | H148: 19.792 | J148: =ROUND(I148*H148,3) -> 0 | N148: znížená | P148: =O148*H148 -> 0 | Q148: 0 | R148: =Q148*H148 -> 0 | S148: 0 | T148: =S148*H148 -> 0 | AR148: 4 | AT148: K | AU148: 2 | AY148: ROZPOCET | BE148: =IF(N148="základná",J148,0) -> 0 | BF148: =IF(N148="znížená",J148,0) -> 0 | BG148: =IF(N148="zákl. prenesená",J148,0) -> 0 | BH148: =IF(N148="zníž. prenesená",J148,0) -> 0 | BI148: =IF(N148="nulová",J148,0) -> 0 | BJ148: 2 | BK148: =ROUND(I148*H148,3) -> 0 | BL148: 4 | BM148: 38
C149: 20 | D149: K | E149: 327351211.S | F149: Debnenie múrov a valov zvislých aj sklonených, výšky do 20 m zhotovenie | G149: m2 | H149: 38.246 | J149: =ROUND(I149*H149,3) -> 0 | N149: znížená | P149: =O149*H149 -> 0 | Q149: 0 | R149: =Q149*H149 -> 0 | S149: 0 | T149: =S149*H149 -> 0 | AR149: 4 | AT149: K | AU149: 2 | AY149: ROZPOCET | BE149: =IF(N149="základná",J149,0) -> 0 | BF149: =IF(N149="znížená",J149,0) -> 0 | BG149: =IF(N149="zákl. prenesená",J149,0) -> 0 | BH149: =IF(N149="zníž. prenesená",J149,0) -> 0 | BI149: =IF(N149="nulová",J149,0) -> 0 | BJ149: 2 | BK149: =ROUND(I149*H149,3) -> 0 | BL149: 4 | BM149: 40
C150: 21 | D150: K | E150: 327351221.S | F150: Debnenie múrov a valov zvislých aj sklonených, výšky do 20 m odstránenie | G150: m2 | H150: 38.246 | J150: =ROUND(I150*H150,3) -> 0 | N150: znížená | P150: =O150*H150 -> 0 | Q150: 0 | R150: =Q150*H150 -> 0 | S150: 0 | T150: =S150*H150 -> 0 | AR150: 4 | AT150: K | AU150: 2 | AY150: ROZPOCET | BE150: =IF(N150="základná",J150,0) -> 0 | BF150: =IF(N150="znížená",J150,0) -> 0 | BG150: =IF(N150="zákl. prenesená",J150,0) -> 0 | BH150: =IF(N150="zníž. prenesená",J150,0) -> 0 | BI150: =IF(N150="nulová",J150,0) -> 0 | BJ150: 2 | BK150: =ROUND(I150*H150,3) -> 0 | BL150: 4 | BM150: 42
C151: 22 | D151: K | E151: 327361006.S | F151: Výstuž múrov a valov priemeru do 12 mm, z ocele B500 (10505) | G151: t | H151: 3.365 | J151: =ROUND(I151*H151,3) -> 0 | N151: znížená | P151: =O151*H151 -> 0 | Q151: 0 | R151: =Q151*H151 -> 0 | S151: 0 | T151: =S151*H151 -> 0 | AR151: 4 | AT151: K | AU151: 2 | AY151: ROZPOCET | BE151: =IF(N151="základná",J151,0) -> 0 | BF151: =IF(N151="znížená",J151,0) -> 0 | BG151: =IF(N151="zákl. prenesená",J151,0) -> 0 | BH151: =IF(N151="zníž. prenesená",J151,0) -> 0 | BI151: =IF(N151="nulová",J151,0) -> 0 | BJ151: 2 | BK151: =ROUND(I151*H151,3) -> 0 | BL151: 4 | BM151: 44
D152: D | E152: 5 | F152: Komunikácie | J152: =BK152 -> 0 | P152: =SUM(P153:P154) -> 0 | R152: =SUM(R153:R154) -> 0 | T152: =SUM(T153:T154) -> 0 | AR152: 1 | AT152: D | AU152: 1 | AY152: ROZPOCET | BK152: =SUM(BK153:BK154) -> 0
C153: 23 | D153: K | E153: 564740111.S | F153: Podklad alebo kryt z kameniva hrubého drveného veľ. 8-16 mm s rozprestretím a zhutnením hr. 120 mm | G153: m2 | H153: 112.447 | J153: =ROUND(I153*H153,3) -> 0 | N153: znížená | P153: =O153*H153 -> 0 | Q153: 0 | R153: =Q153*H153 -> 0 | S153: 0 | T153: =S153*H153 -> 0 | AR153: 4 | AT153: K | AU153: 2 | AY153: ROZPOCET | BE153: =IF(N153="základná",J153,0) -> 0 | BF153: =IF(N153="znížená",J153,0) -> 0 | BG153: =IF(N153="zákl. prenesená",J153,0) -> 0 | BH153: =IF(N153="zníž. prenesená",J153,0) -> 0 | BI153: =IF(N153="nulová",J153,0) -> 0 | BJ153: 2 | BK153: =ROUND(I153*H153,3) -> 0 | BL153: 4 | BM153: 46
C154: 24 | D154: K | E154: 564782419.S | F154: Mlátový povrch chodníka hr. 80 mm | G154: m2 | H154: 112.447 | J154: =ROUND(I154*H154,3) -> 0 | N154: znížená | P154: =O154*H154 -> 0 | Q154: 0 | R154: =Q154*H154 -> 0 | S154: 0 | T154: =S154*H154 -> 0 | AR154: 4 | AT154: K | AU154: 2 | AY154: ROZPOCET | BE154: =IF(N154="základná",J154,0) -> 0 | BF154: =IF(N154="znížená",J154,0) -> 0 | BG154: =IF(N154="zákl. prenesená",J154,0) -> 0 | BH154: =IF(N154="zníž. prenesená",J154,0) -> 0 | BI154: =IF(N154="nulová",J154,0) -> 0 | BJ154: 2 | BK154: =ROUND(I154*H154,3) -> 0 | BL154: 4 | BM154: 48
D155: D | E155: 9 | F155: Ostatné konštrukcie a práce-búranie | J155: =BK155 -> 0 | P155: =SUM(P156:P165) -> 0 | R155: =SUM(R156:R165) -> 0 | T155: =SUM(T156:T165) -> 0 | AR155: 1 | AT155: D | AU155: 1 | AY155: ROZPOCET | BK155: =SUM(BK156:BK165) -> 0
C156: 25 | D156: K | E156: 917161111.S | F156: Osadenie chodník. obrubníka kamenného ležatého do lôžka z betónu prostého tr. C 12/15 s bočnou oporou | G156: m | H156: 41.58 | J156: =ROUND(I156*H156,3) -> 0 | N156: znížená | P156: =O156*H156 -> 0 | Q156: 0 | R156: =Q156*H156 -> 0 | S156: 0 | T156: =S156*H156 -> 0 | AR156: 4 | AT156: K | AU156: 2 | AY156: ROZPOCET | BE156: =IF(N156="základná",J156,0) -> 0 | BF156: =IF(N156="znížená",J156,0) -> 0 | BG156: =IF(N156="zákl. prenesená",J156,0) -> 0 | BH156: =IF(N156="zníž. prenesená",J156,0) -> 0 | BI156: =IF(N156="nulová",J156,0) -> 0 | BJ156: 2 | BK156: =ROUND(I156*H156,3) -> 0 | BL156: 4 | BM156: 50
C157: 26 | D157: M | E157: 583810001300.S | F157: Obrubník kamenný rovný z vyvretých hornín | G157: m | H157: 41.996 | J157: =ROUND(I157*H157,3) -> 0 | N157: znížená | P157: =O157*H157 -> 0 | Q157: 0 | R157: =Q157*H157 -> 0 | S157: 0 | T157: =S157*H157 -> 0 | AR157: 8 | AT157: M | AU157: 2 | AY157: ROZPOCET | BE157: =IF(N157="základná",J157,0) -> 0 | BF157: =IF(N157="znížená",J157,0) -> 0 | BG157: =IF(N157="zákl. prenesená",J157,0) -> 0 | BH157: =IF(N157="zníž. prenesená",J157,0) -> 0 | BI157: =IF(N157="nulová",J157,0) -> 0 | BJ157: 2 | BK157: =ROUND(I157*H157,3) -> 0 | BL157: 4 | BM157: 52
C158: 27 | D158: K | E158: 935914210.S | F158: Osadenie odvodňovacej oceľovej zvodnice | G158: m | H158: 9 | J158: =ROUND(I158*H158,3) -> 0 | N158: znížená | P158: =O158*H158 -> 0 | Q158: 0 | R158: =Q158*H158 -> 0 | S158: 0 | T158: =S158*H158 -> 0 | AR158: 4 | AT158: K | AU158: 2 | AY158: ROZPOCET | BE158: =IF(N158="základná",J158,0) -> 0 | BF158: =IF(N158="znížená",J158,0) -> 0 | BG158: =IF(N158="zákl. prenesená",J158,0) -> 0 | BH158: =IF(N158="zníž. prenesená",J158,0) -> 0 | BI158: =IF(N158="nulová",J158,0) -> 0 | BJ158: 2 | BK158: =ROUND(I158*H158,3) -> 0 | BL158: 4 | BM158: 54
C159: 28 | D159: M | E159: 553469510 | F159: Oceľová zvodnica bez roštu Raudo Viaqua 100x90, dl. 3,0 m | G159: kus | H159: 3 | J159: =ROUND(I159*H159,3) -> 0 | N159: znížená | P159: =O159*H159 -> 0 | Q159: 0 | R159: =Q159*H159 -> 0 | S159: 0 | T159: =S159*H159 -> 0 | AR159: 8 | AT159: M | AU159: 2 | AY159: ROZPOCET | BE159: =IF(N159="základná",J159,0) -> 0 | BF159: =IF(N159="znížená",J159,0) -> 0 | BG159: =IF(N159="zákl. prenesená",J159,0) -> 0 | BH159: =IF(N159="zníž. prenesená",J159,0) -> 0 | BI159: =IF(N159="nulová",J159,0) -> 0 | BJ159: 2 | BK159: =ROUND(I159*H159,3) -> 0 | BL159: 4 | BM159: 56
C160: 29 | D160: K | E160: 962022391.S | F160: Búranie muriva alebo vybúranie otvorov plochy nad 4 m2 nadzákladového kamenného príp. zmieš. na akúkoľvek maltu, -2,38500t | G160: m3 | H160: 6.025 | J160: =ROUND(I160*H160,3) -> 0 | N160: znížená | P160: =O160*H160 -> 0 | Q160: 0 | R160: =Q160*H160 -> 0 | S160: 0 | T160: =S160*H160 -> 0 | AR160: 4 | AT160: K | AU160: 2 | AY160: ROZPOCET | BE160: =IF(N160="základná",J160,0) -> 0 | BF160: =IF(N160="znížená",J160,0) -> 0 | BG160: =IF(N160="zákl. prenesená",J160,0) -> 0 | BH160: =IF(N160="zníž. prenesená",J160,0) -> 0 | BI160: =IF(N160="nulová",J160,0) -> 0 | BJ160: 2 | BK160: =ROUND(I160*H160,3) -> 0 | BL160: 4 | BM160: 58
C161: 30 | D161: K | E161: 979081111.S | F161: Odvoz sutiny a vybúraných hmôt na skládku do 1 km | G161: t | H161: 39.544 | J161: =ROUND(I161*H161,3) -> 0 | N161: znížená | P161: =O161*H161 -> 0 | Q161: 0 | R161: =Q161*H161 -> 0 | S161: 0 | T161: =S161*H161 -> 0 | AR161: 4 | AT161: K | AU161: 2 | AY161: ROZPOCET | BE161: =IF(N161="základná",J161,0) -> 0 | BF161: =IF(N161="znížená",J161,0) -> 0 | BG161: =IF(N161="zákl. prenesená",J161,0) -> 0 | BH161: =IF(N161="zníž. prenesená",J161,0) -> 0 | BI161: =IF(N161="nulová",J161,0) -> 0 | BJ161: 2 | BK161: =ROUND(I161*H161,3) -> 0 | BL161: 4 | BM161: 60
C162: 31 | D162: K | E162: 979081121.S | F162: Odvoz sutiny a vybúraných hmôt na skládku za každý ďalší 1 km | G162: t | H162: 355.896 | J162: =ROUND(I162*H162,3) -> 0 | N162: znížená | P162: =O162*H162 -> 0 | Q162: 0 | R162: =Q162*H162 -> 0 | S162: 0 | T162: =S162*H162 -> 0 | AR162: 4 | AT162: K | AU162: 2 | AY162: ROZPOCET | BE162: =IF(N162="základná",J162,0) -> 0 | BF162: =IF(N162="znížená",J162,0) -> 0 | BG162: =IF(N162="zákl. prenesená",J162,0) -> 0 | BH162: =IF(N162="zníž. prenesená",J162,0) -> 0 | BI162: =IF(N162="nulová",J162,0) -> 0 | BJ162: 2 | BK162: =ROUND(I162*H162,3) -> 0 | BL162: 4 | BM162: 62
C163: 32 | D163: K | E163: 979082111.S | F163: Vnútrostavenisková doprava sutiny a vybúraných hmôt do 10 m, ručný presun | G163: t | H163: 39.544 | J163: =ROUND(I163*H163,3) -> 0 | N163: znížená | P163: =O163*H163 -> 0 | Q163: 0 | R163: =Q163*H163 -> 0 | S163: 0 | T163: =S163*H163 -> 0 | AR163: 4 | AT163: K | AU163: 2 | AY163: ROZPOCET | BE163: =IF(N163="základná",J163,0) -> 0 | BF163: =IF(N163="znížená",J163,0) -> 0 | BG163: =IF(N163="zákl. prenesená",J163,0) -> 0 | BH163: =IF(N163="zníž. prenesená",J163,0) -> 0 | BI163: =IF(N163="nulová",J163,0) -> 0 | BJ163: 2 | BK163: =ROUND(I163*H163,3) -> 0 | BL163: 4 | BM163: 64
C164: 33 | D164: K | E164: 979082121.S | F164: Vnútrostavenisková doprava sutiny a vybúraných hmôt za každých ďalších 5 m, ručný presun | G164: t | H164: 1898.112 | J164: =ROUND(I164*H164,3) -> 0 | N164: znížená | P164: =O164*H164 -> 0 | Q164: 0 | R164: =Q164*H164 -> 0 | S164: 0 | T164: =S164*H164 -> 0 | AR164: 4 | AT164: K | AU164: 2 | AY164: ROZPOCET | BE164: =IF(N164="základná",J164,0) -> 0 | BF164: =IF(N164="znížená",J164,0) -> 0 | BG164: =IF(N164="zákl. prenesená",J164,0) -> 0 | BH164: =IF(N164="zníž. prenesená",J164,0) -> 0 | BI164: =IF(N164="nulová",J164,0) -> 0 | BJ164: 2 | BK164: =ROUND(I164*H164,3) -> 0 | BL164: 4 | BM164: 66
C165: 34 | D165: K | E165: 979089012.S | F165: Poplatok za skladovanie | G165: t | H165: 39.544 | J165: =ROUND(I165*H165,3) -> 0 | N165: znížená | P165: =O165*H165 -> 0 | Q165: 0 | R165: =Q165*H165 -> 0 | S165: 0 | T165: =S165*H165 -> 0 | AR165: 4 | AT165: K | AU165: 2 | AY165: ROZPOCET | BE165: =IF(N165="základná",J165,0) -> 0 | BF165: =IF(N165="znížená",J165,0) -> 0 | BG165: =IF(N165="zákl. prenesená",J165,0) -> 0 | BH165: =IF(N165="zníž. prenesená",J165,0) -> 0 | BI165: =IF(N165="nulová",J165,0) -> 0 | BJ165: 2 | BK165: =ROUND(I165*H165,3) -> 0 | BL165: 4 | BM165: 68
D166: D | E166: 99 | F166: Presun hmôt HSV | J166: =BK166 -> 0 | P166: =P167 -> 0 | R166: =R167 -> 0 | T166: =T167 -> 0 | AR166: 1 | AT166: D | AU166: 1 | AY166: ROZPOCET | BK166: =BK167 -> 0
...

Sheet 005 - Chodník A6
L2: >> skryté stĺpce << | AT2: {855faa37-0a5c-4d35-ad1c-40cc5c6fce90}
AT3: 0
D4: KRYCÍ LIST ROZPOČTU | M4: v --- nižšie sa nachádzajú doplnkové a pomocné údaje k zostavám --- v | AT4: False
D6: Stavba:
E7: ='Rekapitulácia stavby'!K6 -> REVITALIZÁCIA ÚZEMIA HRADNÉHO KOPCA V NITRE
D8: Objekt:
E9: 005 - Chodník A6
D11: JKSO: | I11: KS:
D12: Miesto: | I12: Dátum: | J12: ='Rekapitulácia stavby'!AN8 -> 18. 10. 2021
D14: Objednávateľ: | I14: IČO:
E15: Mesto Nitra | I15: IČ DPH:
D17: Zhotoviteľ: | I17: IČO: | J17: ='Rekapitulácia stavby'!AN13 -> Vyplň údaj
E18: ='Rekapitulácia stavby'!E14 -> Vyplň údaj | I18: IČ DPH: | J18: ='Rekapitulácia stavby'!AN14 -> Vyplň údaj
D20: Projektant: | I20: IČO:
E21: Ing. arch. Martin Dulík AA | I21: IČ DPH:
D23: Spracovateľ: | I23: IČO:
E24: Ing. arch. Martin Dulík | I24: IČ DPH:
D26: Poznámka:
D30: Cena bez DPH | J30: =ROUND(J125, 2) -> 0
F32: Základ dane | I32: Sadzba dane | J32: Výška dane
D33: DPH | E33: základná | F33: =ROUND((SUM(BE125:BE167)), 2) -> 0 | I33: 0.2 | J33: =ROUND(((SUM(BE125:BE167))*I33), 2) -> 0
E34: znížená | F34: =ROUND((SUM(BF125:BF167)), 2) -> 0 | I34: 0.2 | J34: =ROUND(((SUM(BF125:BF167))*I34), 2) -> 0
E35: zákl. prenesená | F35: =ROUND((SUM(BG125:BG167)), 2) -> 0 | I35: 0.2 | J35: =0 -> 0
E36: zníž. prenesená | F36: =ROUND((SUM(BH125:BH167)), 2) -> 0 | I36: 0.2 | J36: =0 -> 0
E37: nulová | F37: =ROUND((SUM(BI125:BI167)), 2) -> 0 | I37: 0 | J37: =0 -> 0
D39: Cena s DPH | G39: v | H39: EUR | J39: =SUM(J30:J37) -> 0
D50: Projektant | G50: Spracovateľ
D61: Dátum a podpis: | F61: Pečiatka | G61: Dátum a podpis: | J61: Pečiatka
D65: Objednávateľ | G65: Zhotoviteľ
D76: Dátum a podpis: | F76: Pečiatka | G76: Dátum a podpis: | J76: Pečiatka
C82: REKAPITULÁCIA ROZPOČTU
C84: Stavba:
E85: =E7 -> REVITALIZÁCIA ÚZEMIA HRADNÉHO KOPCA V NITRE
C86: Objekt:
E87: =E9 -> 005 - Chodník A6
C89: Miesto: | F89: =F12 | I89: Dátum: | J89: =IF(J12="","",J12) -> 18. 10. 2021
C91: Objednávateľ: | F91: =E15 -> Mesto Nitra | I91: Projektant: | J91: =E21 -> Ing. arch. Martin Dulík AA
C92: Zhotoviteľ: | F92: =IF(E18="","",E18) -> Vyplň údaj | I92: Spracovateľ: | J92: =E24 -> Ing. arch. Martin Dulík
C94: Kód dielu - Popis | J94: Cena celkom [EUR]
C96: Náklady z rozpočtu | J96: =J125 -> 0 | AU96: -1
D97: HSV - Práce a dodávky HSV | J97: =J126 -> 0
D98: 1 - Zemné práce | J98: =J127 -> 0
D99: 2 - Zakladanie | J99: =J139 -> 0
D100: 3 - Zvislé a kompletné konštrukcie | J100: =J146 -> 0
D101: 5 - Komunikácie | J101: =J151 -> 0
D102: 9 - Ostatné konštrukcie a práce-búranie | J102: =J154 -> 0
D103: 99 - Presun hmôt HSV | J103: =J162 -> 0
D104: PSV - Práce a dodávky PSV | J104: =J164 -> 0
D105: 721 - Zdravotechnika - vnútorná kanalizácia | J105: =J165 -> 0
C112: ROZPOČET
C114: Stavba:
E115: =E7 -> REVITALIZÁCIA ÚZEMIA HRADNÉHO KOPCA V NITRE
C116: Objekt:
E117: =E9 -> 005 - Chodník A6
C119: Miesto: | F119: =F12 | I119: Dátum: | J119: =IF(J12="","",J12) -> 18. 10. 2021
C121: Objednávateľ: | F121: =E15 -> Mesto Nitra | I121: Projektant: | J121: =E21 -> Ing. arch. Martin Dulík AA
C122: Zhotoviteľ: | F122: =IF(E18="","",E18) -> Vyplň údaj | I122: Spracovateľ: | J122: =E24 -> Ing. arch. Martin Dulík
C124: PČ | D124: Typ | E124: Kód | F124: Popis | G124: MJ | H124: Množstvo | I124: J.cena [EUR] | J124: Cena celkom [EUR] | K124: Cenová sústava | N124: DPH | O124: J. Nh [h] | P124: Nh celkom [h] | Q124: J. hmotnosť [t] | R124: Hmotnosť celkom [t] | S124: J. suť [t] | T124: Suť Celkom [t]
C125: Náklady z rozpočtu | J125: =BK125 -> 0 | P125: =P126+P164 -> 0 | R125: =R126+R164 -> 0 | T125: =T126+T164 -> 0 | AT125: D | AU125: -1 | BK125: =BK126+BK164 -> 0
D126: D | E126: HSV | F126: Práce a dodávky HSV | J126: =BK126 -> 0 | P126: =P127+P139+P146+P151+P154+P162 -> 0 | R126: =R127+R139+R146+R151+R154+R162 -> 0 | T126: =T127+T139+T146+T151+T154+T162 -> 0 | AR126: 1 | AT126: D | AU126: 0 | AY126: ROZPOCET | BK126: =BK127+BK139+BK146+BK151+BK154+BK162 -> 0
D127: D | E127: 1 | F127: Zemné práce | J127: =BK127 -> 0 | P127: =SUM(P128:P138) -> 0 | R127: =SUM(R128:R138) -> 0 | T127: =SUM(T128:T138) -> 0 | AR127: 1 | AT127: D | AU127: 1 | AY127: ROZPOCET | BK127: =SUM(BK128:BK138) -> 0
C128: 1 | D128: K | E128: 113107121.S | F128: Odstránenie krytu v ploche do 200 m2 z kameniva hrubého drveného, hr. do 100 mm, -0,13000t | G128: m2 | H128: 42.84 | J128: =ROUND(I128*H128,3) -> 0 | N128: znížená | P128: =O128*H128 -> 0 | Q128: 0 | R128: =Q128*H128 -> 0 | S128: 0 | T128: =S128*H128 -> 0 | AR128: 4 | AT128: K | AU128: 2 | AY128: ROZPOCET | BE128: =IF(N128="základná",J128,0) -> 0 | BF128: =IF(N128="znížená",J128,0) -> 0 | BG128: =IF(N128="zákl. prenesená",J128,0) -> 0 | BH128: =IF(N128="zníž. prenesená",J128,0) -> 0 | BI128: =IF(N128="nulová",J128,0) -> 0 | BJ128: 2 | BK128: =ROUND(I128*H128,3) -> 0 | BL128: 4 | BM128: 2
C129: 2 | D129: K | E129: 113202111.S | F129: Vytrhanie obrúb kamenných, s vybúraním lôžka, z krajníkov alebo obrubníkov stojatých, -0,14500t | G129: m | H129: 67.69 | J129: =ROUND(I129*H129,3) -> 0 | N129: znížená | P129: =O129*H129 -> 0 | Q129: 0 | R129: =Q129*H129 -> 0 | S129: 0 | T129: =S129*H129 -> 0 | AR129: 4 | AT129: K | AU129: 2 | AY129: ROZPOCET | BE129: =IF(N129="základná",J129,0) -> 0 | BF129: =IF(N129="znížená",J129,0) -> 0 | BG129: =IF(N129="zákl. prenesená",J129,0) -> 0 | BH129: =IF(N129="zníž. prenesená",J129,0) -> 0 | BI129: =IF(N129="nulová",J129,0) -> 0 | BJ129: 2 | BK129: =ROUND(I129*H129,3) -> 0 | BL129: 4 | BM129: 4
C130: 3 | D130: K | E130: 120901121.S | F130: Búranie konštrukcií z betónu prostého neprekladaného kameňom v odkopávkach | G130: m3 | H130: 3.351 | J130: =ROUND(I130*H130,3) -> 0 | N130: znížená | P130: =O130*H130 -> 0 | Q130: 0 | R130: =Q130*H130 -> 0 | S130: 0 | T130: =S130*H130 -> 0 | AR130: 4 | AT130: K | AU130: 2 | AY130: ROZPOCET | BE130: =IF(N130="základná",J130,0) -> 0 | BF130: =IF(N130="znížená",J130,0) -> 0 | BG130: =IF(N130="zákl. prenesená",J130,0) -> 0 | BH130: =IF(N130="zníž. prenesená",J130,0) -> 0 | BI130: =IF(N130="nulová",J130,0) -> 0 | BJ130: 2 | BK130: =ROUND(I130*H130,3) -> 0 | BL130: 4 | BM130: 6
C131: 4 | D131: K | E131: 122301101.S | F131: Odkopávka a prekopávka nezapažená v hornine 4, do 100 m3 | G131: m3 | H131: 2.436 | J131: =ROUND(I131*H131,3) -> 0 | N131: znížená | P131: =O131*H131 -> 0 | Q131: 0 | R131: =Q131*H131 -> 0 | S131: 0 | T131: =S131*H131 -> 0 | AR131: 4 | AT131: K | AU131: 2 | AY131: ROZPOCET | BE131: =IF(N131="základná",J131,0) -> 0 | BF131: =IF(N131="znížená",J131,0) -> 0 | BG131: =IF(N131="zákl. prenesená",J131,0) -> 0 | BH131: =IF(N131="zníž. prenesená",J131,0) -> 0 | BI131: =IF(N131="nulová",J131,0) -> 0 | BJ131: 2 | BK131: =ROUND(I131*H131,3) -> 0 | BL131: 4 | BM131: 8
C132: 5 | D132: K | E132: 132211101.S | F132: Hĺbenie rýh šírky do 600 mm v hornine tr.3 súdržných - ručným náradím | G132: m3 | H132: 24.022 | J132: =ROUND(I132*H132,3) -> 0 | N132: znížená | P132: =O132*H132 -> 0 | Q132: 0 | R132: =Q132*H132 -> 0 | S132: 0 | T132: =S132*H132 -> 0 | AR132: 4 | AT132: K | AU132: 2 | AY132: ROZPOCET | BE132: =IF(N132="základná",J132,0) -> 0 | BF132: =IF(N132="znížená",J132,0) -> 0 | BG132: =IF(N132="zákl. prenesená",J132,0) -> 0 | BH132: =IF(N132="zníž. prenesená",J132,0) -> 0 | BI132: =IF(N132="nulová",J132,0) -> 0 | BJ132: 2 | BK132: =ROUND(I132*H132,3) -> 0 | BL132: 4 | BM132: 10
C133: 6 | D133: K | E133: 162201201.S | F133: Vodorovné premiestnenie výkopu nosením do 10 m horniny 1 až 4 | G133: m3 | H133: 26.458 | J133: =ROUND(I133*H133,3) -> 0 | N133: znížená | P133: =O133*H133 -> 0 | Q133: 0 | R133: =Q133*H133 -> 0 | S133: 0 | T133: =S133*H133 -> 0 | AR133: 4 | AT133: K | AU133: 2 | AY133: ROZPOCET | BE133: =IF(N133="základná",J133,0) -> 0 | BF133: =IF(N133="znížená",J133,0) -> 0 | BG133: =IF(N133="zákl. prenesená",J133,0) -> 0 | BH133: =IF(N133="zníž. prenesená",J133,0) -> 0 | BI133: =IF(N133="nulová",J133,0) -> 0 | BJ133: 2 | BK133: =ROUND(I133*H133,3) -> 0 | BL133: 4 | BM133: 12
C134: 7 | D134: K | E134: 162201209.S | F134: Vodorovné premiestnenie výkopu nosením do 10 m horniny 1 až 4 - príplatok k cene za každých ďalších 10 m | G134: m3 | H134: 634.992 | J134: =ROUND(I134*H134,3) -> 0 | N134: znížená | P134: =O134*H134 -> 0 | Q134: 0 | R134: =Q134*H134 -> 0 | S134: 0 | T134: =S134*H134 -> 0 | AR134: 4 | AT134: K | AU134: 2 | AY134: ROZPOCET | BE134: =IF(N134="základná",J134,0) -> 0 | BF134: =IF(N134="znížená",J134,0) -> 0 | BG134: =IF(N134="zákl. prenesená",J134,0) -> 0 | BH134: =IF(N134="zníž. prenesená",J134,0) -> 0 | BI134: =IF(N134="nulová",J134,0) -> 0 | BJ134: 2 | BK134: =ROUND(I134*H134,3) -> 0 | BL134: 4 | BM134: 14
C135: 8 | D135: K | E135: 162501102.S | F135: Vodorovné premiestnenie výkopku po spevnenej ceste z horniny tr.1-4, do 100 m3 na vzdialenosť do 3000 m | G135: m3 | H135: 26.458 | J135: =ROUND(I135*H135,3) -> 0 | N135: znížená | P135: =O135*H135 -> 0 | Q135: 0 | R135: =Q135*H135 -> 0 | S135: 0 | T135: =S135*H135 -> 0 | AR135: 4 | AT135: K | AU135: 2 | AY135: ROZPOCET | BE135: =IF(N135="základná",J135,0) -> 0 | BF135: =IF(N135="znížená",J135,0) -> 0 | BG135: =IF(N135="zákl. prenesená",J135,0) -> 0 | BH135: =IF(N135="zníž. prenesená",J135,0) -> 0 | BI135: =IF(N135="nulová",J135,0) -> 0 | BJ135: 2 | BK135: =ROUND(I135*H135,3) -> 0 | BL135: 4 | BM135: 16
C136: 9 | D136: K | E136: 162501105.S | F136: Vodorovné premiestnenie výkopku po spevnenej ceste z horniny tr.1-4, do 100 m3, príplatok k cene za každých ďalšich a začatých 1000 m | G136: m3 | H136: 185.206 | J136: =ROUND(I136*H136,3) -> 0 | N136: znížená | P136: =O136*H136 -> 0 | Q136: 0 | R136: =Q136*H136 -> 0 | S136: 0 | T136: =S136*H136 -> 0 | AR136: 4 | AT136: K | AU136: 2 | AY136: ROZPOCET | BE136: =IF(N136="základná",J136,0) -> 0 | BF136: =IF(N136="znížená",J136,0) -> 0 | BG136: =IF(N136="zákl. prenesená",J136,0) -> 0 | BH136: =IF(N136="zníž. prenesená",J136,0) -> 0 | BI136: =IF(N136="nulová",J136,0) -> 0 | BJ136: 2 | BK136: =ROUND(I136*H136,3) -> 0 | BL136: 4 | BM136: 18
C137: 10 | D137: K | E137: 167101100.S | F137: Nakladanie výkopku tr.1-4 ručne | G137: m3 | H137: 26.458 | J137: =ROUND(I137*H137,3) -> 0 | N137: znížená | P137: =O137*H137 -> 0 | Q137: 0 | R137: =Q137*H137 -> 0 | S137: 0 | T137: =S137*H137 -> 0 | AR137: 4 | AT137: K | AU137: 2 | AY137: ROZPOCET | BE137: =IF(N137="základná",J137,0) -> 0 | BF137: =IF(N137="znížená",J137,0) -> 0 | BG137: =IF(N137="zákl. prenesená",J137,0) -> 0 | BH137: =IF(N137="zníž. prenesená",J137,0) -> 0 | BI137: =IF(N137="nulová",J137,0) -> 0 | BJ137: 2 | BK137: =ROUND(I137*H137,3) -> 0 | BL137: 4 | BM137: 20
C138: 11 | D138: K | E138: 171209002.S | F138: Poplatok za skladovanie - zemina a kamenivo (17 05) ostatné | G138: t | H138: 39.687 | J138: =ROUND(I138*H138,3) -> 0 | N138: znížená | P138: =O138*H138 -> 0 | Q138: 0 | R138: =Q138*H138 -> 0 | S138: 0 | T138: =S138*H138 -> 0 | AR138: 4 | AT138: K | AU138: 2 | AY138: ROZPOCET | BE138: =IF(N138="základná",J138,0) -> 0 | BF138: =IF(N138="znížená",J138,0) -> 0 | BG138: =IF(N138="zákl. prenesená",J138,0) -> 0 | BH138: =IF(N138="zníž. prenesená",J138,0) -> 0 | BI138: =IF(N138="nulová",J138,0) -> 0 | BJ138: 2 | BK138: =ROUND(I138*H138,3) -> 0 | BL138: 4 | BM138: 22
D139: D | E139: 2 | F139: Zakladanie | J139: =BK139 -> 0 | P139: =SUM(P140:P145) -> 0 | R139: =SUM(R140:R145) -> 0 | T139: =SUM(T140:T145) -> 0 | AR139: 1 | AT139: D | AU139: 1 | AY139: ROZPOCET | BK139: =SUM(BK140:BK145) -> 0
C140: 12 | D140: K | E140: 211971121.S | F140: Zhotov. oplášt. výplne z geotext. v ryhe alebo v záreze pri rozvinutej šírke oplášt. od 0 do 2, 5 m | G140: m2 | H140: 19.334 | J140: =ROUND(I140*H140,3) -> 0 | N140: znížená | P140: =O140*H140 -> 0 | Q140: 0 | R140: =Q140*H140 -> 0 | S140: 0 | T140: =S140*H140 -> 0 | AR140: 4 | AT140: K | AU140: 2 | AY140: ROZPOCET | BE140: =IF(N140="základná",J140,0) -> 0 | BF140: =IF(N140="znížená",J140,0) -> 0 | BG140: =IF(N140="zákl. prenesená",J140,0) -> 0 | BH140: =IF(N140="zníž. prenesená",J140,0) -> 0 | BI140: =IF(N140="nulová",J140,0) -> 0 | BJ140: 2 | BK140: =ROUND(I140*H140,3) -> 0 | BL140: 4 | BM140: 24
C141: 13 | D141: M | E141: 693110004500.S | F141: Geotextília polypropylénová netkaná 300 g/m2 | G141: m2 | H141: 19.721 | J141: =ROUND(I141*H141,3) -> 0 | N141: znížená | P141: =O141*H141 -> 0 | Q141: 0 | R141: =Q141*H141 -> 0 | S141: 0 | T141: =S141*H141 -> 0 | AR141: 8 | AT141: M | AU141: 2 | AY141: ROZPOCET | BE141: =IF(N141="základná",J141,0) -> 0 | BF141: =IF(N141="znížená",J141,0) -> 0 | BG141: =IF(N141="zákl. prenesená",J141,0) -> 0 | BH141: =IF(N141="zníž. prenesená",J141,0) -> 0 | BI141: =IF(N141="nulová",J141,0) -> 0 | BJ141: 2 | BK141: =ROUND(I141*H141,3) -> 0 | BL141: 4 | BM141: 26
C142: 14 | D142: K | E142: 247571113.S | F142: Obsyp a tesnenie, obsyp so zhutnením z kameniva 16-32 mm | G142: m3 | H142: 20.461 | J142: =ROUND(I142*H142,3) -> 0 | N142: znížená | P142: =O142*H142 -> 0 | Q142: 0 | R142: =Q142*H142 -> 0 | S142: 0 | T142: =S142*H142 -> 0 | AR142: 4 | AT142: K | AU142: 2 | AY142: ROZPOCET | BE142: =IF(N142="základná",J142,0) -> 0 | BF142: =IF(N142="znížená",J142,0) -> 0 | BG142: =IF(N142="zákl. prenesená",J142,0) -> 0 | BH142: =IF(N142="zníž. prenesená",J142,0) -> 0 | BI142: =IF(N142="nulová",J142,0) -> 0 | BJ142: 2 | BK142: =ROUND(I142*H142,3) -> 0 | BL142: 4 | BM142: 28
C143: 15 | D143: K | E143: 274313611.S | F143: Betón základových pásov, prostý tr. C 16/20 | G143: m3 | H143: 24.863 | J143: =ROUND(I143*H143,3) -> 0 | N143: znížená | P143: =O143*H143 -> 0 | Q143: 0 | R143: =Q143*H143 -> 0 | S143: 0 | T143: =S143*H143 -> 0 | AR143: 4 | AT143: K | AU143: 2 | AY143: ROZPOCET | BE143: =IF(N143="základná",J143,0) -> 0 | BF143: =IF(N143="znížená",J143,0) -> 0 | BG143: =IF(N143="zákl. prenesená",J143,0) -> 0 | BH143: =IF(N143="zníž. prenesená",J143,0) -> 0 | BI143: =IF(N143="nulová",J143,0) -> 0 | BJ143: 2 | BK143: =ROUND(I143*H143,3) -> 0 | BL143: 4 | BM143: 30
C144: 16 | D144: K | E144: 274351215.S | F144: Debnenie stien základových pásov, zhotovenie-dielce | G144: m2 | H144: 47.383 | J144: =ROUND(I144*H144,3) -> 0 | N144: znížená | P144: =O144*H144 -> 0 | Q144: 0 | R144: =Q144*H144 -> 0 | S144: 0 | T144: =S144*H144 -> 0 | AR144: 4 | AT144: K | AU144: 2 | AY144: ROZPOCET | BE144: =IF(N144="základná",J144,0) -> 0 | BF144: =IF(N144="znížená",J144,0) -> 0 | BG144: =IF(N144="zákl. prenesená",J144,0) -> 0 | BH144: =IF(N144="zníž. prenesená",J144,0) -> 0 | BI144: =IF(N144="nulová",J144,0) -> 0 | BJ144: 2 | BK144: =ROUND(I144*H144,3) -> 0 | BL144: 4 | BM144: 32
C145: 17 | D145: K | E145: 274351216.S | F145: Debnenie stien základových pásov, odstránenie-dielce | G145: m2 | H145: 47.383 | J145: =ROUND(I145*H145,3) -> 0 | N145: znížená | P145: =O145*H145 -> 0 | Q145: 0 | R145: =Q145*H145 -> 0 | S145: 0 | T145: =S145*H145 -> 0 | AR145: 4 | AT145: K | AU145: 2 | AY145: ROZPOCET | BE145: =IF(N145="základná",J145,0) -> 0 | BF145: =IF(N145="znížená",J145,0) -> 0 | BG145: =IF(N145="zákl. prenesená",J145,0) -> 0 | BH145: =IF(N145="zníž. prenesená",J145,0) -> 0 | BI145: =IF(N145="nulová",J145,0) -> 0 | BJ145: 2 | BK145: =ROUND(I145*H145,3) -> 0 | BL145: 4 | BM145: 34
D146: D | E146: 3 | F146: Zvislé a kompletné konštrukcie | J146: =BK146 -> 0 | P146: =SUM(P147:P150) -> 0 | R146: =SUM(R147:R150) -> 0 | T146: =SUM(T147:T150) -> 0 | AR146: 1 | AT146: D | AU146: 1 | AY146: ROZPOCET | BK146: =SUM(BK147:BK150) -> 0
C147: 18 | D147: K | E147: 327323127.S | F147: Múry a valy z betónu železového tr. C 25/30 | G147: m3 | H147: 3.433 | J147: =ROUND(I147*H147,3) -> 0 | N147: znížená | P147: =O147*H147 -> 0 | Q147: 0 | R147: =Q147*H147 -> 0 | S147: 0 | T147: =S147*H147 -> 0 | AR147: 4 | AT147: K | AU147: 2 | AY147: ROZPOCET | BE147: =IF(N147="základná",J147,0) -> 0 | BF147: =IF(N147="znížená",J147,0) -> 0 | BG147: =IF(N147="zákl. prenesená",J147,0) -> 0 | BH147: =IF(N147="zníž. prenesená",J147,0) -> 0 | BI147: =IF(N147="nulová",J147,0) -> 0 | BJ147: 2 | BK147: =ROUND(I147*H147,3) -> 0 | BL147: 4 | BM147: 36
C148: 19 | D148: K | E148: 327351211.S | F148: Debnenie múrov a valov zvislých aj sklonených, výšky do 20 m zhotovenie | G148: m2 | H148: 9.84 | J148: =ROUND(I148*H148,3) -> 0 | N148: znížená | P148: =O148*H148 -> 0 | Q148: 0 | R148: =Q148*H148 -> 0 | S148: 0 | T148: =S148*H148 -> 0 | AR148: 4 | AT148: K | AU148: 2 | AY148: ROZPOCET | BE148: =IF(N148="základná",J148,0) -> 0 | BF148: =IF(N148="znížená",J148,0) -> 0 | BG148: =IF(N148="zákl. prenesená",J148,0) -> 0 | BH148: =IF(N148="zníž. prenesená",J148,0) -> 0 | BI148: =IF(N148="nulová",J148,0) -> 0 | BJ148: 2 | BK148: =ROUND(I148*H148,3) -> 0 | BL148: 4 | BM148: 38
C149: 20 | D149: K | E149: 327351221.S | F149: Debnenie múrov a valov zvislých aj sklonených, výšky do 20 m odstránenie | G149: m2 | H149: 9.84 | J149: =ROUND(I149*H149,3) -> 0 | N149: znížená | P149: =O149*H149 -> 0 | Q149: 0 | R149: =Q149*H149 -> 0 | S149: 0 | T149: =S149*H149 -> 0 | AR149: 4 | AT149: K | AU149: 2 | AY149: ROZPOCET | BE149: =IF(N149="základná",J149,0) -> 0 | BF149: =IF(N149="znížená",J149,0) -> 0 | BG149: =IF(N149="zákl. prenesená",J149,0) -> 0 | BH149: =IF(N149="zníž. prenesená",J149,0) -> 0 | BI149: =IF(N149="nulová",J149,0) -> 0 | BJ149: 2 | BK149: =ROUND(I149*H149,3) -> 0 | BL149: 4 | BM149: 40
C150: 21 | D150: K | E150: 327361006.S | F150: Výstuž múrov a valov priemeru do 12 mm, z ocele B500 (10505) | G150: t | H150: 0.584 | J150: =ROUND(I150*H150,3) -> 0 | N150: znížená | P150: =O150*H150 -> 0 | Q150: 0 | R150: =Q150*H150 -> 0 | S150: 0 | T150: =S150*H150 -> 0 | AR150: 4 | AT150: K | AU150: 2 | AY150: ROZPOCET | BE150: =IF(N150="základná",J150,0) -> 0 | BF150: =IF(N150="znížená",J150,0) -> 0 | BG150: =IF(N150="zákl. prenesená",J150,0) -> 0 | BH150: =IF(N150="zníž. prenesená",J150,0) -> 0 | BI150: =IF(N150="nulová",J150,0) -> 0 | BJ150: 2 | BK150: =ROUND(I150*H150,3) -> 0 | BL150: 4 | BM150: 42
D151: D | E151: 5 | F151: Komunikácie | J151: =BK151 -> 0 | P151: =SUM(P152:P153) -> 0 | R151: =SUM(R152:R153) -> 0 | T151: =SUM(T152:T153) -> 0 | AR151: 1 | AT151: D | AU151: 1 | AY151: ROZPOCET | BK151: =SUM(BK152:BK153) -> 0
C152: 22 | D152: K | E152: 564740111.S | F152: Podklad alebo kryt z kameniva hrubého drveného veľ. 8-16 mm s rozprestretím a zhutnením hr. 120 mm | G152: m2 | H152: 42.84 | J152: =ROUND(I152*H152,3) -> 0 | N152: znížená | P152: =O152*H152 -> 0 | Q152: 0 | R152: =Q152*H152 -> 0 | S152: 0 | T152: =S152*H152 -> 0 | AR152: 4 | AT152: K | AU152: 2 | AY152: ROZPOCET | BE152: =IF(N152="základná",J152,0) -> 0 | BF152: =IF(N152="znížená",J152,0) -> 0 | BG152: =IF(N152="zákl. prenesená",J152,0) -> 0 | BH152: =IF(N152="zníž. prenesená",J152,0) -> 0 | BI152: =IF(N152="nulová",J152,0) -> 0 | BJ152: 2 | BK152: =ROUND(I152*H152,3) -> 0 | BL152: 4 | BM152: 44
C153: 23 | D153: K | E153: 564782419.S | F153: Mlátový povrch chodníka hr. 80 mm | G153: m2 | H153: 42.84 | J153: =ROUND(I153*H153,3) -> 0 | N153: znížená | P153: =O153*H153 -> 0 | Q153: 0 | R153: =Q153*H153 -> 0 | S153: 0 | T153: =S153*H153 -> 0 | AR153: 4 | AT153: K | AU153: 2 | AY153: ROZPOCET | BE153: =IF(N153="základná",J153,0) -> 0 | BF153: =IF(N153="znížená",J153,0) -> 0 | BG153: =IF(N153="zákl. prenesená",J153,0) -> 0 | BH153: =IF(N153="zníž. prenesená",J153,0) -> 0 | BI153: =IF(N153="nulová",J153,0) -> 0 | BJ153: 2 | BK153: =ROUND(I153*H153,3) -> 0 | BL153: 4 | BM153: 46
D154: D | E154: 9 | F154: Ostatné konštrukcie a práce-búranie | J154: =BK154 -> 0 | P154: =SUM(P155:P161) -> 0 | R154: =SUM(R155:R161) -> 0 | T154: =SUM(T155:T161) -> 0 | AR154: 1 | AT154: D | AU154: 1 | AY154: ROZPOCET | BK154: =SUM(BK155:BK161) -> 0
C155: 24 | D155: K | E155: 917161111.S | F155: Osadenie chodník. obrubníka kamenného ležatého do lôžka z betónu prostého tr. C 12/15 s bočnou oporou | G155: m | H155: 67.69 | J155: =ROUND(I155*H155,3) -> 0 | N155: znížená | P155: =O155*H155 -> 0 | Q155: 0 | R155: =Q155*H155 -> 0 | S155: 0 | T155: =S155*H155 -> 0 | AR155: 4 | AT155: K | AU155: 2 | AY155: ROZPOCET | BE155: =IF(N155="základná",J155,0) -> 0 | BF155: =IF(N155="znížená",J155,0) -> 0 | BG155: =IF(N155="zákl. prenesená",J155,0) -> 0 | BH155: =IF(N155="zníž. prenesená",J155,0) -> 0 | BI155: =IF(N155="nulová",J155,0) -> 0 | BJ155: 2 | BK155: =ROUND(I155*H155,3) -> 0 | BL155: 4 | BM155: 48
C156: 25 | D156: M | E156: 583810001300.S | F156: Obrubník kamenný rovný z vyvretých hornín | G156: m | H156: 68.367 | J156: =ROUND(I156*H156,3) -> 0 | N156: znížená | P156: =O156*H156 -> 0 | Q156: 0 | R156: =Q156*H156 -> 0 | S156: 0 | T156: =S156*H156 -> 0 | AR156: 8 | AT156: M | AU156: 2 | AY156: ROZPOCET | BE156: =IF(N156="základná",J156,0) -> 0 | BF156: =IF(N156="znížená",J156,0) -> 0 | BG156: =IF(N156="zákl. prenesená",J156,0) -> 0 | BH156: =IF(N156="zníž. prenesená",J156,0) -> 0 | BI156: =IF(N156="nulová",J156,0) -> 0 | BJ156: 2 | BK156: =ROUND(I156*H156,3) -> 0 | BL156: 4 | BM156: 50
C157: 26 | D157: K | E157: 979081111.S | F157: Odvoz sutiny a vybúraných hmôt na skládku do 1 km | G157: t | H157: 22.756 | J157: =ROUND(I157*H157,3) -> 0 | N157: znížená | P157: =O157*H157 -> 0 | Q157: 0 | R157: =Q157*H157 -> 0 | S157: 0 | T157: =S157*H157 -> 0 | AR157: 4 | AT157: K | AU157: 2 | AY157: ROZPOCET | BE157: =IF(N157="základná",J157,0) -> 0 | BF157: =IF(N157="znížená",J157,0) -> 0 | BG157: =IF(N157="zákl. prenesená",J157,0) -> 0 | BH157: =IF(N157="zníž. prenesená",J157,0) -> 0 | BI157: =IF(N157="nulová",J157,0) -> 0 | BJ157: 2 | BK157: =ROUND(I157*H157,3) -> 0 | BL157: 4 | BM157: 52
C158: 27 | D158: K | E158: 979081121.S | F158: Odvoz sutiny a vybúraných hmôt na skládku za každý ďalší 1 km | G158: t | H158: 204.804 | J158: =ROUND(I158*H158,3) -> 0 | N158: znížená | P158: =O158*H158 -> 0 | Q158: 0 | R158: =Q158*H158 -> 0 | S158: 0 | T158: =S158*H158 -> 0 | AR158: 4 | AT158: K | AU158: 2 | AY158: ROZPOCET | BE158: =IF(N158="základná",J158,0) -> 0 | BF158: =IF(N158="znížená",J158,0) -> 0 | BG158: =IF(N158="zákl. prenesená",J158,0) -> 0 | BH158: =IF(N158="zníž. prenesená",J158,0) -> 0 | BI158: =IF(N158="nulová",J158,0) -> 0 | BJ158: 2 | BK158: =ROUND(I158*H158,3) -> 0 | BL158: 4 | BM158: 54
C159: 28 | D159: K | E159: 979082111.S | F159: Vnútrostavenisková doprava sutiny a vybúraných hmôt do 10 m, ručný presun | G159: t | H159: 22.756 | J159: =ROUND(I159*H159,3) -> 0 | N159: znížená | P159: =O159*H159 -> 0 | Q159: 0 | R159: =Q159*H159 -> 0 | S159: 0 | T159: =S159*H159 -> 0 | AR159: 4 | AT159: K | AU159: 2 | AY159: ROZPOCET | BE159: =IF(N159="základná",J159,0) -> 0 | BF159: =IF(N159="znížená",J159,0) -> 0 | BG159: =IF(N159="zákl. prenesená",J159,0) -> 0 | BH159: =IF(N159="zníž. prenesená",J159,0) -> 0 | BI159: =IF(N159="nulová",J159,0) -> 0 | BJ159: 2 | BK159: =ROUND(I159*H159,3) -> 0 | BL159: 4 | BM159: 56
C160: 29 | D160: K | E160: 979082121.S | F160: Vnútrostavenisková doprava sutiny a vybúraných hmôt za každých ďalších 5 m, ručný presun | G160: t | H160: 1092.288 | J160: =ROUND(I160*H160,3) -> 0 | N160: znížená | P160: =O160*H160 -> 0 | Q160: 0 | R160: =Q160*H160 -> 0 | S160: 0 | T160: =S160*H160 -> 0 | AR160: 4 | AT160: K | AU160: 2 | AY160: ROZPOCET | BE160: =IF(N160="základná",J160,0) -> 0 | BF160: =IF(N160="znížená",J160,0) -> 0 | BG160: =IF(N160="zákl. prenesená",J160,0) -> 0 | BH160: =IF(N160="zníž. prenesená",J160,0) -> 0 | BI160: =IF(N160="nulová",J160,0) -> 0 | BJ160: 2 | BK160: =ROUND(I160*H160,3) -> 0 | BL160: 4 | BM160: 58
C161: 30 | D161: K | E161: 979089012.S | F161: Poplatok za skladovanie | G161: t | H161: 22.756 | J161: =ROUND(I161*H161,3) -> 0 | N161: znížená | P161: =O161*H161 -> 0 | Q161: 0 | R161: =Q161*H161 -> 0 | S161: 0 | T161: =S161*H161 -> 0 | AR161: 4 | AT161: K | AU161: 2 | AY161: ROZPOCET | BE161: =IF(N161="základná",J161,0) -> 0 | BF161: =IF(N161="znížená",J161,0) -> 0 | BG161: =IF(N161="zákl. prenesená",J161,0) -> 0 | BH161: =IF(N161="zníž. prenesená",J161,0) -> 0 | BI161: =IF(N161="nulová",J161,0) -> 0 | BJ161: 2 | BK161: =ROUND(I161*H161,3) -> 0 | BL161: 4 | BM161: 60
D162: D | E162: 99 | F162: Presun hmôt HSV | J162: =BK162 -> 0 | P162: =P163 -> 0 | R162: =R163 -> 0 | T162: =T163 -> 0 | AR162: 1 | AT162: D | AU162: 1 | AY162: ROZPOCET | BK162: =BK163 -> 0
C163: 31 | D163: K | E163: 999281119.S | F163: Ručný presun hmôt | G163: t | H163: 164.971 | J163: =ROUND(I163*H163,3) -> 0 | N163: znížená | P163: =O163*H163 -> 0 | Q163: 0 | R163: =Q163*H163 -> 0 | S163: 0 | T163: =S163*H163 -> 0 | AR163: 4 | AT163: K | AU163: 2 | AY163: ROZPOCET | BE163: =IF(N163="základná",J163,0) -> 0 | BF163: =IF(N163="znížená",J163,0) -> 0 | BG163: =IF(N163="zákl. prenesená",J163,0) -> 0 | BH163: =IF(N163="zníž. prenesená",J163,0) -> 0 | BI163: =IF(N163="nulová",J163,0) -> 0 | BJ163: 2 | BK163: =ROUND(I163*H163,3) -> 0 | BL163: 4 | BM163: 62
D164: D | E164: PSV | F164: Práce a dodávky PSV | J164: =BK164 -> 0 | P164: =P165 -> 0 | R164: =R165 -> 0 | T164: =T165 -> 0 | AR164: 2 | AT164: D | AU164: 0 | AY164: ROZPOCET | BK164: =BK165 -> 0
D165: D | E165: 721 | F165: Zdravotechnika - vnútorná kanalizácia | J165: =BK165 -> 0 | P165: =SUM(P166:P167) -> 0 | R165: =SUM(R166:R167) -> 0 | T165: =SUM(T166:T167) -> 0 | AR165: 2 | AT165: D | AU165: 1 | AY165: ROZPOCET | BK165: =SUM(BK166:BK167) -> 0
C166: 32 | D166: K | E166: 721171109.S | F166: Odvodnenie TR DN 100 mm | G166: m | H166: 3.6 | J166: =ROUND(I166*H166,3) -> 0 | N166: znížená | P166: =O166*H166 -> 0 | Q166: 0 | R166: =Q166*H166 -> 0 | S166: 0 | T166: =S166*H166 -> 0 | AR166: 16 | AT166: K | AU166: 2 | AY166: ROZPOCET | BE166: =IF(N166="základná",J166,0) -> 0 | BF166: =IF(N166="znížená",J166,0) -> 0 | BG166: =IF(N166="zákl. prenesená",J166,0) -> 0 | BH166: =IF(N166="zníž. prenesená",J166,0) -> 0 | BI166: =IF(N166="nulová",J166,0) -> 0 | BJ166: 2 | BK166: =ROUND(I166*H166,3) -> 0 | BL166: 16 | BM166: 64
...

Sheet 006 - Chodník A7
L2: >> skryté stĺpce << | AT2: {f004e98b-b8fb-46fa-9165-4ac9ca6aef9c}
AT3: 0
D4: KRYCÍ LIST ROZPOČTU | M4: v --- nižšie sa nachádzajú doplnkové a pomocné údaje k zostavám --- v | AT4: False
D6: Stavba:
E7: ='Rekapitulácia stavby'!K6 -> REVITALIZÁCIA ÚZEMIA HRADNÉHO KOPCA V NITRE
D8: Objekt:
E9: 006 - Chodník A7
D11: JKSO: | I11: KS:
D12: Miesto: | I12: Dátum: | J12: ='Rekapitulácia stavby'!AN8 -> 18. 10. 2021
D14: Objednávateľ: | I14: IČO:
E15: Mesto Nitra | I15: IČ DPH:
D17: Zhotoviteľ: | I17: IČO: | J17: ='Rekapitulácia stavby'!AN13 -> Vyplň údaj
E18: ='Rekapitulácia stavby'!E14 -> Vyplň údaj | I18: IČ DPH: | J18: ='Rekapitulácia stavby'!AN14 -> Vyplň údaj
D20: Projektant: | I20: IČO:
E21: Ing. arch. Martin Dulík AA | I21: IČ DPH:
D23: Spracovateľ: | I23: IČO:
E24: Ing. arch. Martin Dulík | I24: IČ DPH:
D26: Poznámka:
D30: Cena bez DPH | J30: =ROUND(J126, 2) -> 0
F32: Základ dane | I32: Sadzba dane | J32: Výška dane
D33: DPH | E33: základná | F33: =ROUND((SUM(BE126:BE178)), 2) -> 0 | I33: 0.2 | J33: =ROUND(((SUM(BE126:BE178))*I33), 2) -> 0
E34: znížená | F34: =ROUND((SUM(BF126:BF178)), 2) -> 0 | I34: 0.2 | J34: =ROUND(((SUM(BF126:BF178))*I34), 2) -> 0
E35: zákl. prenesená | F35: =ROUND((SUM(BG126:BG178)), 2) -> 0 | I35: 0.2 | J35: =0 -> 0
E36: zníž. prenesená | F36: =ROUND((SUM(BH126:BH178)), 2) -> 0 | I36: 0.2 | J36: =0 -> 0
E37: nulová | F37: =ROUND((SUM(BI126:BI178)), 2) -> 0 | I37: 0 | J37: =0 -> 0
D39: Cena s DPH | G39: v | H39: EUR | J39: =SUM(J30:J37) -> 0
D50: Projektant | G50: Spracovateľ
D61: Dátum a podpis: | F61: Pečiatka | G61: Dátum a podpis: | J61: Pečiatka
D65: Objednávateľ | G65: Zhotoviteľ
D76: Dátum a podpis: | F76: Pečiatka | G76: Dátum a podpis: | J76: Pečiatka
C82: REKAPITULÁCIA ROZPOČTU
C84: Stavba:
E85: =E7 -> REVITALIZÁCIA ÚZEMIA HRADNÉHO KOPCA V NITRE
C86: Objekt:
E87: =E9 -> 006 - Chodník A7
C89: Miesto: | F89: =F12 | I89: Dátum: | J89: =IF(J12="","",J12) -> 18. 10. 2021
C91: Objednávateľ: | F91: =E15 -> Mesto Nitra | I91: Projektant: | J91: =E21 -> Ing. arch. Martin Dulík AA
C92: Zhotoviteľ: | F92: =IF(E18="","",E18) -> Vyplň údaj | I92: Spracovateľ: | J92: =E24 -> Ing. arch. Martin Dulík
C94: Kód dielu - Popis | J94: Cena celkom [EUR]
C96: Náklady z rozpočtu | J96: =J126 -> 0 | AU96: -1
D97: HSV - Práce a dodávky HSV | J97: =J127 -> 0
D98: 1 - Zemné práce | J98: =J128 -> 0
D99: 2 - Zakladanie | J99: =J140 -> 0
D100: 3 - Zvislé a kompletné konštrukcie | J100: =J149 -> 0
D101: 5 - Komunikácie | J101: =J154 -> 0
D102: 9 - Ostatné konštrukcie a práce-búranie | J102: =J157 -> 0
D103: 99 - Presun hmôt HSV | J103: =J168 -> 0
D104: PSV - Práce a dodávky PSV | J104: =J170 -> 0
D105: 767 - Konštrukcie doplnkové kovové | J105: =J171 -> 0
D106: 783 - Nátery | J106: =J176 -> 0
C113: ROZPOČET
C115: Stavba:
E116: =E7 -> REVITALIZÁCIA ÚZEMIA HRADNÉHO KOPCA V NITRE
C117: Objekt:
E118: =E9 -> 006 - Chodník A7
C120: Miesto: | F120: =F12 | I120: Dátum: | J120: =IF(J12="","",J12) -> 18. 10. 2021
C122: Objednávateľ: | F122: =E15 -> Mesto Nitra | I122: Projektant: | J122: =E21 -> Ing. arch. Martin Dulík AA
C123: Zhotoviteľ: | F123: =IF(E18="","",E18) -> Vyplň údaj | I123: Spracovateľ: | J123: =E24 -> Ing. arch. Martin Dulík
C125: PČ | D125: Typ | E125: Kód | F125: Popis | G125: MJ | H125: Množstvo | I125: J.cena [EUR] | J125: Cena celkom [EUR] | K125: Cenová sústava | N125: DPH | O125: J. Nh [h] | P125: Nh celkom [h] | Q125: J. hmotnosť [t] | R125: Hmotnosť celkom [t] | S125: J. suť [t] | T125: Suť Celkom [t]
C126: Náklady z rozpočtu | J126: =BK126 -> 0 | P126: =P127+P170 -> 0 | R126: =R127+R170 -> 0 | T126: =T127+T170 -> 0 | AT126: D | AU126: -1 | BK126: =BK127+BK170 -> 0
D127: D | E127: HSV | F127: Práce a dodávky HSV | J127: =BK127 -> 0 | P127: =P128+P140+P149+P154+P157+P168 -> 0 | R127: =R128+R140+R149+R154+R157+R168 -> 0 | T127: =T128+T140+T149+T154+T157+T168 -> 0 | AR127: 1 | AT127: D | AU127: 0 | AY127: ROZPOCET | BK127: =BK128+BK140+BK149+BK154+BK157+BK168 -> 0
D128: D | E128: 1 | F128: Zemné práce | J128: =BK128 -> 0 | P128: =SUM(P129:P139) -> 0 | R128: =SUM(R129:R139) -> 0 | T128: =SUM(T129:T139) -> 0 | AR128: 1 | AT128: D | AU128: 1 | AY128: ROZPOCET | BK128: =SUM(BK129:BK139) -> 0
C129: 1 | D129: K | E129: 113107221.S | F129: Odstránenie krytu v ploche nad 200 m2 z kameniva hrubého drveného, hr. do 100 mm, -0,13000t | G129: m2 | H129: 368.6 | J129: =ROUND(I129*H129,3) -> 0 | N129: znížená | P129: =O129*H129 -> 0 | Q129: 0 | R129: =Q129*H129 -> 0 | S129: 0 | T129: =S129*H129 -> 0 | AR129: 4 | AT129: K | AU129: 2 | AY129: ROZPOCET | BE129: =IF(N129="základná",J129,0) -> 0 | BF129: =IF(N129="znížená",J129,0) -> 0 | BG129: =IF(N129="zákl. prenesená",J129,0) -> 0 | BH129: =IF(N129="zníž. prenesená",J129,0) -> 0 | BI129: =IF(N129="nulová",J129,0) -> 0 | BJ129: 2 | BK129: =ROUND(I129*H129,3) -> 0 | BL129: 4 | BM129: 2
C130: 2 | D130: K | E130: 113202111.S | F130: Vytrhanie obrúb kamenných, s vybúraním lôžka, z krajníkov alebo obrubníkov stojatých, -0,14500t | G130: m | H130: 202.74 | J130: =ROUND(I130*H130,3) -> 0 | N130: znížená | P130: =O130*H130 -> 0 | Q130: 0 | R130: =Q130*H130 -> 0 | S130: 0 | T130: =S130*H130 -> 0 | AR130: 4 | AT130: K | AU130: 2 | AY130: ROZPOCET | BE130: =IF(N130="základná",J130,0) -> 0 | BF130: =IF(N130="znížená",J130,0) -> 0 | BG130: =IF(N130="zákl. prenesená",J130,0) -> 0 | BH130: =IF(N130="zníž. prenesená",J130,0) -> 0 | BI130: =IF(N130="nulová",J130,0) -> 0 | BJ130: 2 | BK130: =ROUND(I130*H130,3) -> 0 | BL130: 4 | BM130: 4
C131: 3 | D131: K | E131: 120901121.S | F131: Búranie konštrukcií z betónu prostého neprekladaného kameňom v odkopávkach | G131: m3 | H131: 10.036 | J131: =ROUND(I131*H131,3) -> 0 | N131: znížená | P131: =O131*H131 -> 0 | Q131: 0 | R131: =Q131*H131 -> 0 | S131: 0 | T131: =S131*H131 -> 0 | AR131: 4 | AT131: K | AU131: 2 | AY131: ROZPOCET | BE131: =IF(N131="základná",J131,0) -> 0 | BF131: =IF(N131="znížená",J131,0) -> 0 | BG131: =IF(N131="zákl. prenesená",J131,0) -> 0 | BH131: =IF(N131="zníž. prenesená",J131,0) -> 0 | BI131: =IF(N131="nulová",J131,0) -> 0 | BJ131: 2 | BK131: =ROUND(I131*H131,3) -> 0 | BL131: 4 | BM131: 6
C132: 4 | D132: K | E132: 122301101.S | F132: Odkopávka a prekopávka nezapažená v hornine 4, do 100 m3 | G132: m3 | H132: 1.002 | J132: =ROUND(I132*H132,3) -> 0 | N132: znížená | P132: =O132*H132 -> 0 | Q132: 0 | R132: =Q132*H132 -> 0 | S132: 0 | T132: =S132*H132 -> 0 | AR132: 4 | AT132: K | AU132: 2 | AY132: ROZPOCET | BE132: =IF(N132="základná",J132,0) -> 0 | BF132: =IF(N132="znížená",J132,0) -> 0 | BG132: =IF(N132="zákl. prenesená",J132,0) -> 0 | BH132: =IF(N132="zníž. prenesená",J132,0) -> 0 | BI132: =IF(N132="nulová",J132,0) -> 0 | BJ132: 2 | BK132: =ROUND(I132*H132,3) -> 0 | BL132: 4 | BM132: 8
C133: 5 | D133: K | E133: 132211101.S | F133: Hĺbenie rýh šírky do 600 mm v hornine tr.3 súdržných - ručným náradím | G133: m3 | H133: 3.248 | J133: =ROUND(I133*H133,3) -> 0 | N133: znížená | P133: =O133*H133 -> 0 | Q133: 0 | R133: =Q133*H133 -> 0 | S133: 0 | T133: =S133*H133 -> 0 | AR133: 4 | AT133: K | AU133: 2 | AY133: ROZPOCET | BE133: =IF(N133="základná",J133,0) -> 0 | BF133: =IF(N133="znížená",J133,0) -> 0 | BG133: =IF(N133="zákl. prenesená",J133,0) -> 0 | BH133: =IF(N133="zníž. prenesená",J133,0) -> 0 | BI133: =IF(N133="nulová",J133,0) -> 0 | BJ133: 2 | BK133: =ROUND(I133*H133,3) -> 0 | BL133: 4 | BM133: 10
C134: 6 | D134: K | E134: 162201201.S | F134: Vodorovné premiestnenie výkopu nosením do 10 m horniny 1 až 4 | G134: m3 | H134: 4.25 | J134: =ROUND(I134*H134,3) -> 0 | N134: znížená | P134: =O134*H134 -> 0 | Q134: 0 | R134: =Q134*H134 -> 0 | S134: 0 | T134: =S134*H134 -> 0 | AR134: 4 | AT134: K | AU134: 2 | AY134: ROZPOCET | BE134: =IF(N134="základná",J134,0) -> 0 | BF134: =IF(N134="znížená",J134,0) -> 0 | BG134: =IF(N134="zákl. prenesená",J134,0) -> 0 | BH134: =IF(N134="zníž. prenesená",J134,0) -> 0 | BI134: =IF(N134="nulová",J134,0) -> 0 | BJ134: 2 | BK134: =ROUND(I134*H134,3) -> 0 | BL134: 4 | BM134: 12
C135: 7 | D135: K | E135: 162201209.S | F135: Vodorovné premiestnenie výkopu nosením do 10 m horniny 1 až 4 - príplatok k cene za každých ďalších 10 m | G135: m3 | H135: 102 | J135: =ROUND(I135*H135,3) -> 0 | N135: znížená | P135: =O135*H135 -> 0 | Q135: 0 | R135: =Q135*H135 -> 0 | S135: 0 | T135: =S135*H135 -> 0 | AR135: 4 | AT135: K | AU135: 2 | AY135: ROZPOCET | BE135: =IF(N135="základná",J135,0) -> 0 | BF135: =IF(N135="znížená",J135,0) -> 0 | BG135: =IF(N135="zákl. prenesená",J135,0) -> 0 | BH135: =IF(N135="zníž. prenesená",J135,0) -> 0 | BI135: =IF(N135="nulová",J135,0) -> 0 | BJ135: 2 | BK135: =ROUND(I135*H135,3) -> 0 | BL135: 4 | BM135: 14
C136: 8 | D136: K | E136: 162501102.S | F136: Vodorovné premiestnenie výkopku po spevnenej ceste z horniny tr.1-4, do 100 m3 na vzdialenosť do 3000 m | G136: m3 | H136: 4.25 | J136: =ROUND(I136*H136,3) -> 0 | N136: znížená | P136: =O136*H136 -> 0 | Q136: 0 | R136: =Q136*H136 -> 0 | S136: 0 | T136: =S136*H136 -> 0 | AR136: 4 | AT136: K | AU136: 2 | AY136: ROZPOCET | BE136: =IF(N136="základná",J136,0) -> 0 | BF136: =IF(N136="znížená",J136,0) -> 0 | BG136: =IF(N136="zákl. prenesená",J136,0) -> 0 | BH136: =IF(N136="zníž. prenesená",J136,0) -> 0 | BI136: =IF(N136="nulová",J136,0) -> 0 | BJ136: 2 | BK136: =ROUND(I136*H136,3) -> 0 | BL136: 4 | BM136: 16
C137: 9 | D137: K | E137: 162501105.S | F137: Vodorovné premiestnenie výkopku po spevnenej ceste z horniny tr.1-4, do 100 m3, príplatok k cene za každých ďalšich a začatých 1000 m | G137: m3 | H137: 29.75 | J137: =ROUND(I137*H137,3) -> 0 | N137: znížená | P137: =O137*H137 -> 0 | Q137: 0 | R137: =Q137*H137 -> 0 | S137: 0 | T137: =S137*H137 -> 0 | AR137: 4 | AT137: K | AU137: 2 | AY137: ROZPOCET | BE137: =IF(N137="základná",J137,0) -> 0 | BF137: =IF(N137="znížená",J137,0) -> 0 | BG137: =IF(N137="zákl. prenesená",J137,0) -> 0 | BH137: =IF(N137="zníž. prenesená",J137,0) -> 0 | BI137: =IF(N137="nulová",J137,0) -> 0 | BJ137: 2 | BK137: =ROUND(I137*H137,3) -> 0 | BL137: 4 | BM137: 18
C138: 10 | D138: K | E138: 167101100.S | F138: Nakladanie výkopku tr.1-4 ručne | G138: m3 | H138: 4.25 | J138: =ROUND(I138*H138,3) -> 0 | N138: znížená | P138: =O138*H138 -> 0 | Q138: 0 | R138: =Q138*H138 -> 0 | S138: 0 | T138: =S138*H138 -> 0 | AR138: 4 | AT138: K | AU138: 2 | AY138: ROZPOCET | BE138: =IF(N138="základná",J138,0) -> 0 | BF138: =IF(N138="znížená",J138,0) -> 0 | BG138: =IF(N138="zákl. prenesená",J138,0) -> 0 | BH138: =IF(N138="zníž. prenesená",J138,0) -> 0 | BI138: =IF(N138="nulová",J138,0) -> 0 | BJ138: 2 | BK138: =ROUND(I138*H138,3) -> 0 | BL138: 4 | BM138: 20
C139: 11 | D139: K | E139: 171209002.S | F139: Poplatok za skladovanie - zemina a kamenivo (17 05) ostatné | G139: t | H139: 6.375 | J139: =ROUND(I139*H139,3) -> 0 | N139: znížená | P139: =O139*H139 -> 0 | Q139: 0 | R139: =Q139*H139 -> 0 | S139: 0 | T139: =S139*H139 -> 0 | AR139: 4 | AT139: K | AU139: 2 | AY139: ROZPOCET | BE139: =IF(N139="základná",J139,0) -> 0 | BF139: =IF(N139="znížená",J139,0) -> 0 | BG139: =IF(N139="zákl. prenesená",J139,0) -> 0 | BH139: =IF(N139="zníž. prenesená",J139,0) -> 0 | BI139: =IF(N139="nulová",J139,0) -> 0 | BJ139: 2 | BK139: =ROUND(I139*H139,3) -> 0 | BL139: 4 | BM139: 22
D140: D | E140: 2 | F140: Zakladanie | J140: =BK140 -> 0 | P140: =SUM(P141:P148) -> 0 | R140: =SUM(R141:R148) -> 0 | T140: =SUM(T141:T148) -> 0 | AR140: 1 | AT140: D | AU140: 1 | AY140: ROZPOCET | BK140: =SUM(BK141:BK148) -> 0
C141: 12 | D141: K | E141: 211971121.S | F141: Zhotov. oplášt. výplne z geotext. v ryhe alebo v záreze pri rozvinutej šírke oplášt. od 0 do 2, 5 m | G141: m2 | H141: 12.795 | J141: =ROUND(I141*H141,3) -> 0 | N141: znížená | P141: =O141*H141 -> 0 | Q141: 0 | R141: =Q141*H141 -> 0 | S141: 0 | T141: =S141*H141 -> 0 | AR141: 4 | AT141: K | AU141: 2 | AY141: ROZPOCET | BE141: =IF(N141="základná",J141,0) -> 0 | BF141: =IF(N141="znížená",J141,0) -> 0 | BG141: =IF(N141="zákl. prenesená",J141,0) -> 0 | BH141: =IF(N141="zníž. prenesená",J141,0) -> 0 | BI141: =IF(N141="nulová",J141,0) -> 0 | BJ141: 2 | BK141: =ROUND(I141*H141,3) -> 0 | BL141: 4 | BM141: 24
C142: 13 | D142: M | E142: 693110004500.S | F142: Geotextília polypropylénová netkaná 300 g/m2 | G142: m2 | H142: 13.051 | J142: =ROUND(I142*H142,3) -> 0 | N142: znížená | P142: =O142*H142 -> 0 | Q142: 0 | R142: =Q142*H142 -> 0 | S142: 0 | T142: =S142*H142 -> 0 | AR142: 8 | AT142: M | AU142: 2 | AY142: ROZPOCET | BE142: =IF(N142="základná",J142,0) -> 0 | BF142: =IF(N142="znížená",J142,0) -> 0 | BG142: =IF(N142="zákl. prenesená",J142,0) -> 0 | BH142: =IF(N142="zníž. prenesená",J142,0) -> 0 | BI142: =IF(N142="nulová",J142,0) -> 0 | BJ142: 2 | BK142: =ROUND(I142*H142,3) -> 0 | BL142: 4 | BM142: 26
C143: 14 | D143: K | E143: 247571113.S | F143: Obsyp a tesnenie, obsyp so zhutnením z kameniva 16-32 mm | G143: m3 | H143: 1.36 | J143: =ROUND(I143*H143,3) -> 0 | N143: znížená | P143: =O143*H143 -> 0 | Q143: 0 | R143: =Q143*H143 -> 0 | S143: 0 | T143: =S143*H143 -> 0 | AR143: 4 | AT143: K | AU143: 2 | AY143: ROZPOCET | BE143: =IF(N143="základná",J143,0) -> 0 | BF143: =IF(N143="znížená",J143,0) -> 0 | BG143: =IF(N143="zákl. prenesená",J143,0) -> 0 | BH143: =IF(N143="zníž. prenesená",J143,0) -> 0 | BI143: =IF(N143="nulová",J143,0) -> 0 | BJ143: 2 | BK143: =ROUND(I143*H143,3) -> 0 | BL143: 4 | BM143: 28
C144: 15 | D144: K | E144: 272353101.S | F144: Debnenie kotevného otvoru s prierezom do 0,01 m2, hĺbky do 0,25 m | G144: ks | H144: 102 | J144: =ROUND(I144*H144,3) -> 0 | N144: znížená | P144: =O144*H144 -> 0 | Q144: 0 | R144: =Q144*H144 -> 0 | S144: 0 | T144: =S144*H144 -> 0 | AR144: 4 | AT144: K | AU144: 2 | AY144: ROZPOCET | BE144: =IF(N144="základná",J144,0) -> 0 | BF144: =IF(N144="znížená",J144,0) -> 0 | BG144: =IF(N144="zákl. prenesená",J144,0) -> 0 | BH144: =IF(N144="zníž. prenesená",J144,0) -> 0 | BI144: =IF(N144="nulová",J144,0) -> 0 | BJ144: 2 | BK144: =ROUND(I144*H144,3) -> 0 | BL144: 4 | BM144: 30
C145: 16 | D145: K | E145: 272353110.S | F145: Debnenie kotevného otvoru s prierezom do 0,01 m2, príplatok nad 0,25 m | G145: ks | H145: 102 | J145: =ROUND(I145*H145,3) -> 0 | N145: znížená | P145: =O145*H145 -> 0 | Q145: 0 | R145: =Q145*H145 -> 0 | S145: 0 | T145: =S145*H145 -> 0 | AR145: 4 | AT145: K | AU145: 2 | AY145: ROZPOCET | BE145: =IF(N145="základná",J145,0) -> 0 | BF145: =IF(N145="znížená",J145,0) -> 0 | BG145: =IF(N145="zákl. prenesená",J145,0) -> 0 | BH145: =IF(N145="zníž. prenesená",J145,0) -> 0 | BI145: =IF(N145="nulová",J145,0) -> 0 | BJ145: 2 | BK145: =ROUND(I145*H145,3) -> 0 | BL145: 4 | BM145: 32
C146: 17 | D146: K | E146: 274313611.S | F146: Betón základových pásov, prostý tr. C 16/20 | G146: m3 | H146: 69.94 | J146: =ROUND(I146*H146,3) -> 0 | N146: znížená | P146: =O146*H146 -> 0 | Q146: 0 | R146: =Q146*H146 -> 0 | S146: 0 | T146: =S146*H146 -> 0 | AR146: 4 | AT146: K | AU146: 2 | AY146: ROZPOCET | BE146: =IF(N146="základná",J146,0) -> 0 | BF146: =IF(N146="znížená",J146,0) -> 0 | BG146: =IF(N146="zákl. prenesená",J146,0) -> 0 | BH146: =IF(N146="zníž. prenesená",J146,0) -> 0 | BI146: =IF(N146="nulová",J146,0) -> 0 | BJ146: 2 | BK146: =ROUND(I146*H146,3) -> 0 | BL146: 4 | BM146: 34
C147: 18 | D147: K | E147: 274351215.S | F147: Debnenie stien základových pásov, zhotovenie-dielce | G147: m2 | H147: 77.041 | J147: =ROUND(I147*H147,3) -> 0 | N147: znížená | P147: =O147*H147 -> 0 | Q147: 0 | R147: =Q147*H147 -> 0 | S147: 0 | T147: =S147*H147 -> 0 | AR147: 4 | AT147: K | AU147: 2 | AY147: ROZPOCET | BE147: =IF(N147="základná",J147,0) -> 0 | BF147: =IF(N147="znížená",J147,0) -> 0 | BG147: =IF(N147="zákl. prenesená",J147,0) -> 0 | BH147: =IF(N147="zníž. prenesená",J147,0) -> 0 | BI147: =IF(N147="nulová",J147,0) -> 0 | BJ147: 2 | BK147: =ROUND(I147*H147,3) -> 0 | BL147: 4 | BM147: 36
C148: 19 | D148: K | E148: 274351216.S | F148: Debnenie stien základových pásov, odstránenie-dielce | G148: m2 | H148: 77.041 | J148: =ROUND(I148*H148,3) -> 0 | N148: znížená | P148: =O148*H148 -> 0 | Q148: 0 | R148: =Q148*H148 -> 0 | S148: 0 | T148: =S148*H148 -> 0 | AR148: 4 | AT148: K | AU148: 2 | AY148: ROZPOCET | BE148: =IF(N148="základná",J148,0) -> 0 | BF148: =IF(N148="znížená",J148,0) -> 0 | BG148: =IF(N148="zákl. prenesená",J148,0) -> 0 | BH148: =IF(N148="zníž. prenesená",J148,0) -> 0 | BI148: =IF(N148="nulová",J148,0) -> 0 | BJ148: 2 | BK148: =ROUND(I148*H148,3) -> 0 | BL148: 4 | BM148: 38
D149: D | E149: 3 | F149: Zvislé a kompletné konštrukcie | J149: =BK149 -> 0 | P149: =SUM(P150:P153) -> 0 | R149: =SUM(R150:R153) -> 0 | T149: =SUM(T150:T153) -> 0 | AR149: 1 | AT149: D | AU149: 1 | AY149: ROZPOCET | BK149: =SUM(BK150:BK153) -> 0
C150: 20 | D150: K | E150: 327323127.S | F150: Múry a valy z betónu železového tr. C 25/30 | G150: m3 | H150: 2.003 | J150: =ROUND(I150*H150,3) -> 0 | N150: znížená | P150: =O150*H150 -> 0 | Q150: 0 | R150: =Q150*H150 -> 0 | S150: 0 | T150: =S150*H150 -> 0 | AR150: 4 | AT150: K | AU150: 2 | AY150: ROZPOCET | BE150: =IF(N150="základná",J150,0) -> 0 | BF150: =IF(N150="znížená",J150,0) -> 0 | BG150: =IF(N150="zákl. prenesená",J150,0) -> 0 | BH150: =IF(N150="zníž. prenesená",J150,0) -> 0 | BI150: =IF(N150="nulová",J150,0) -> 0 | BJ150: 2 | BK150: =ROUND(I150*H150,3) -> 0 | BL150: 4 | BM150: 40
C151: 21 | D151: K | E151: 327351211.S | F151: Debnenie múrov a valov zvislých aj sklonených, výšky do 20 m zhotovenie | G151: m2 | H151: 5.588 | J151: =ROUND(I151*H151,3) -> 0 | N151: znížená | P151: =O151*H151 -> 0 | Q151: 0 | R151: =Q151*H151 -> 0 | S151: 0 | T151: =S151*H151 -> 0 | AR151: 4 | AT151: K | AU151: 2 | AY151: ROZPOCET | BE151: =IF(N151="základná",J151,0) -> 0 | BF151: =IF(N151="znížená",J151,0) -> 0 | BG151: =IF(N151="zákl. prenesená",J151,0) -> 0 | BH151: =IF(N151="zníž. prenesená",J151,0) -> 0 | BI151: =IF(N151="nulová",J151,0) -> 0 | BJ151: 2 | BK151: =ROUND(I151*H151,3) -> 0 | BL151: 4 | BM151: 42
C152: 22 | D152: K | E152: 327351221.S | F152: Debnenie múrov a valov zvislých aj sklonených, výšky do 20 m odstránenie | G152: m2 | H152: 5.588 | J152: =ROUND(I152*H152,3) -> 0 | N152: znížená | P152: =O152*H152 -> 0 | Q152: 0 | R152: =Q152*H152 -> 0 | S152: 0 | T152: =S152*H152 -> 0 | AR152: 4 | AT152: K | AU152: 2 | AY152: ROZPOCET | BE152: =IF(N152="základná",J152,0) -> 0 | BF152: =IF(N152="znížená",J152,0) -> 0 | BG152: =IF(N152="zákl. prenesená",J152,0) -> 0 | BH152: =IF(N152="zníž. prenesená",J152,0) -> 0 | BI152: =IF(N152="nulová",J152,0) -> 0 | BJ152: 2 | BK152: =ROUND(I152*H152,3) -> 0 | BL152: 4 | BM152: 44
C153: 23 | D153: K | E153: 327361006.S | F153: Výstuž múrov a valov priemeru do 12 mm, z ocele B500 (10505) | G153: t | H153: 0.361 | J153: =ROUND(I153*H153,3) -> 0 | N153: znížená | P153: =O153*H153 -> 0 | Q153: 0 | R153: =Q153*H153 -> 0 | S153: 0 | T153: =S153*H153 -> 0 | AR153: 4 | AT153: K | AU153: 2 | AY153: ROZPOCET | BE153: =IF(N153="základná",J153,0) -> 0 | BF153: =IF(N153="znížená",J153,0) -> 0 | BG153: =IF(N153="zákl. prenesená",J153,0) -> 0 | BH153: =IF(N153="zníž. prenesená",J153,0) -> 0 | BI153: =IF(N153="nulová",J153,0) -> 0 | BJ153: 2 | BK153: =ROUND(I153*H153,3) -> 0 | BL153: 4 | BM153: 46
D154: D | E154: 5 | F154: Komunikácie | J154: =BK154 -> 0 | P154: =SUM(P155:P156) -> 0 | R154: =SUM(R155:R156) -> 0 | T154: =SUM(T155:T156) -> 0 | AR154: 1 | AT154: D | AU154: 1 | AY154: ROZPOCET | BK154: =SUM(BK155:BK156) -> 0
C155: 24 | D155: K | E155: 564740111.S | F155: Podklad alebo kryt z kameniva hrubého drveného veľ. 8-16 mm s rozprestretím a zhutnením hr. 120 mm | G155: m2 | H155: 368.6 | J155: =ROUND(I155*H155,3) -> 0 | N155: znížená | P155: =O155*H155 -> 0 | Q155: 0 | R155: =Q155*H155 -> 0 | S155: 0 | T155: =S155*H155 -> 0 | AR155: 4 | AT155: K | AU155: 2 | AY155: ROZPOCET | BE155: =IF(N155="základná",J155,0) -> 0 | BF155: =IF(N155="znížená",J155,0) -> 0 | BG155: =IF(N155="zákl. prenesená",J155,0) -> 0 | BH155: =IF(N155="zníž. prenesená",J155,0) -> 0 | BI155: =IF(N155="nulová",J155,0) -> 0 | BJ155: 2 | BK155: =ROUND(I155*H155,3) -> 0 | BL155: 4 | BM155: 48
C156: 25 | D156: K | E156: 564782419.S | F156: Mlátový povrch chodníka hr. 80 mm | G156: m2 | H156: 368.6 | J156: =ROUND(I156*H156,3) -> 0 | N156: znížená | P156: =O156*H156 -> 0 | Q156: 0 | R156: =Q156*H156 -> 0 | S156: 0 | T156: =S156*H156 -> 0 | AR156: 4 | AT156: K | AU156: 2 | AY156: ROZPOCET | BE156: =IF(N156="základná",J156,0) -> 0 | BF156: =IF(N156="znížená",J156,0) -> 0 | BG156: =IF(N156="zákl. prenesená",J156,0) -> 0 | BH156: =IF(N156="zníž. prenesená",J156,0) -> 0 | BI156: =IF(N156="nulová",J156,0) -> 0 | BJ156: 2 | BK156: =ROUND(I156*H156,3) -> 0 | BL156: 4 | BM156: 50
D157: D | E157: 9 | F157: Ostatné konštrukcie a práce-búranie | J157: =BK157 -> 0 | P157: =SUM(P158:P167) -> 0 | R157: =SUM(R158:R167) -> 0 | T157: =SUM(T158:T167) -> 0 | AR157: 1 | AT157: D | AU157: 1 | AY157: ROZPOCET | BK157: =SUM(BK158:BK167) -> 0
C158: 26 | D158: K | E158: 917161111.S | F158: Osadenie chodník. obrubníka kamenného ležatého do lôžka z betónu prostého tr. C 12/15 s bočnou oporou | G158: m | H158: 202.74 | J158: =ROUND(I158*H158,3) -> 0 | N158: znížená | P158: =O158*H158 -> 0 | Q158: 0 | R158: =Q158*H158 -> 0 | S158: 0 | T158: =S158*H158 -> 0 | AR158: 4 | AT158: K | AU158: 2 | AY158: ROZPOCET | BE158: =IF(N158="základná",J158,0) -> 0 | BF158: =IF(N158="znížená",J158,0) -> 0 | BG158: =IF(N158="zákl. prenesená",J158,0) -> 0 | BH158: =IF(N158="zníž. prenesená",J158,0) -> 0 | BI158: =IF(N158="nulová",J158,0) -> 0 | BJ158: 2 | BK158: =ROUND(I158*H158,3) -> 0 | BL158: 4 | BM158: 52
C159: 27 | D159: M | E159: 583810001300.S | F159: Obrubník kamenný rovný z vyvretých hornín | G159: m | H159: 204.767 | J159: =ROUND(I159*H159,3) -> 0 | N159: znížená | P159: =O159*H159 -> 0 | Q159: 0 | R159: =Q159*H159 -> 0 | S159: 0 | T159: =S159*H159 -> 0 | AR159: 8 | AT159: M | AU159: 2 | AY159: ROZPOCET | BE159: =IF(N159="základná",J159,0) -> 0 | BF159: =IF(N159="znížená",J159,0) -> 0 | BG159: =IF(N159="zákl. prenesená",J159,0) -> 0 | BH159: =IF(N159="zníž. prenesená",J159,0) -> 0 | BI159: =IF(N159="nulová",J159,0) -> 0 | BJ159: 2 | BK159: =ROUND(I159*H159,3) -> 0 | BL159: 4 | BM159: 54
C160: 28 | D160: K | E160: 935914210.S | F160: Osadenie odvodňovacej oceľovej zvodnice | G160: m | H160: 18 | J160: =ROUND(I160*H160,3) -> 0 | N160: znížená | P160: =O160*H160 -> 0 | Q160: 0 | R160: =Q160*H160 -> 0 | S160: 0 | T160: =S160*H160 -> 0 | AR160: 4 | AT160: K | AU160: 2 | AY160: ROZPOCET | BE160: =IF(N160="základná",J160,0) -> 0 | BF160: =IF(N160="znížená",J160,0) -> 0 | BG160: =IF(N160="zákl. prenesená",J160,0) -> 0 | BH160: =IF(N160="zníž. prenesená",J160,0) -> 0 | BI160: =IF(N160="nulová",J160,0) -> 0 | BJ160: 2 | BK160: =ROUND(I160*H160,3) -> 0 | BL160: 4 | BM160: 56
C161: 29 | D161: M | E161: 553469510 | F161: Oceľová zvodnica bez roštu Raudo Viaqua 100x90, dl. 3,0 m | G161: kus | H161: 6 | J161: =ROUND(I161*H161,3) -> 0 | N161: znížená | P161: =O161*H161 -> 0 | Q161: 0 | R161: =Q161*H161 -> 0 | S161: 0 | T161: =S161*H161 -> 0 | AR161: 8 | AT161: M | AU161: 2 | AY161: ROZPOCET | BE161: =IF(N161="základná",J161,0) -> 0 | BF161: =IF(N161="znížená",J161,0) -> 0 | BG161: =IF(N161="zákl. prenesená",J161,0) -> 0 | BH161: =IF(N161="zníž. prenesená",J161,0) -> 0 | BI161: =IF(N161="nulová",J161,0) -> 0 | BJ161: 2 | BK161: =ROUND(I161*H161,3) -> 0 | BL161: 4 | BM161: 58
C162: 30 | D162: K | E162: 959941121.S | F162: Chemická kotva s kotevným svorníkom tesnená chemickou ampulkou do betónu, ŽB, kameňa, s vyvŕtaním otvoru M12/10/135 mm | G162: ks | H162: 408 | J162: =ROUND(I162*H162,3) -> 0 | N162: znížená | P162: =O162*H162 -> 0 | Q162: 0 | R162: =Q162*H162 -> 0 | S162: 0 | T162: =S162*H162 -> 0 | AR162: 4 | AT162: K | AU162: 2 | AY162: ROZPOCET | BE162: =IF(N162="základná",J162,0) -> 0 | BF162: =IF(N162="znížená",J162,0) -> 0 | BG162: =IF(N162="zákl. prenesená",J162,0) -> 0 | BH162: =IF(N162="zníž. prenesená",J162,0) -> 0 | BI162: =IF(N162="nulová",J162,0) -> 0 | BJ162: 2 | BK162: =ROUND(I162*H162,3) -> 0 | BL162: 4 | BM162: 60
C163: 31 | D163: K | E163: 979081111.S | F163: Odvoz sutiny a vybúraných hmôt na skládku do 1 km | G163: t | H163: 99.395 | J163: =ROUND(I163*H163,3) -> 0 | N163: znížená | P163: =O163*H163 -> 0 | Q163: 0 | R163: =Q163*H163 -> 0 | S163: 0 | T163: =S163*H163 -> 0 | AR163: 4 | AT163: K | AU163: 2 | AY163: ROZPOCET | BE163: =IF(N163="základná",J163,0) -> 0 | BF163: =IF(N163="znížená",J163,0) -> 0 | BG163: =IF(N163="zákl. prenesená",J163,0) -> 0 | BH163: =IF(N163="zníž. prenesená",J163,0) -> 0 | BI163: =IF(N163="nulová",J163,0) -> 0 | BJ163: 2 | BK163: =ROUND(I163*H163,3) -> 0 | BL163: 4 | BM163: 62
C164: 32 | D164: K | E164: 979081121.S | F164: Odvoz sutiny a vybúraných hmôt na skládku za každý ďalší 1 km | G164: t | H164: 894.555 | J164: =ROUND(I164*H164,3) -> 0 | N164: znížená | P164: =O164*H164 -> 0 | Q164: 0 | R164: =Q164*H164 -> 0 | S164: 0 | T164: =S164*H164 -> 0 | AR164: 4 | AT164: K | AU164: 2 | AY164: ROZPOCET | BE164: =IF(N164="základná",J164,0) -> 0 | BF164: =IF(N164="znížená",J164,0) -> 0 | BG164: =IF(N164="zákl. prenesená",J164,0) -> 0 | BH164: =IF(N164="zníž. prenesená",J164,0) -> 0 | BI164: =IF(N164="nulová",J164,0) -> 0 | BJ164: 2 | BK164: =ROUND(I164*H164,3) -> 0 | BL164: 4 | BM164: 64
C165: 33 | D165: K | E165: 979082111.S | F165: Vnútrostavenisková doprava sutiny a vybúraných hmôt do 10 m, ručný presun | G165: t | H165: 99.395 | J165: =ROUND(I165*H165,3) -> 0 | N165: znížená | P165: =O165*H165 -> 0 | Q165: 0 | R165: =Q165*H165 -> 0 | S165: 0 | T165: =S165*H165 -> 0 | AR165: 4 | AT165: K | AU165: 2 | AY165: ROZPOCET | BE165: =IF(N165="základná",J165,0) -> 0 | BF165: =IF(N165="znížená",J165,0) -> 0 | BG165: =IF(N165="zákl. prenesená",J165,0) -> 0 | BH165: =IF(N165="zníž. prenesená",J165,0) -> 0 | BI165: =IF(N165="nulová",J165,0) -> 0 | BJ165: 2 | BK165: =ROUND(I165*H165,3) -> 0 | BL165: 4 | BM165: 66
C166: 34 | D166: K | E166: 979082121.S | F166: Vnútrostavenisková doprava sutiny a vybúraných hmôt za každých ďalších 5 m, ručný presun | G166: t | H166: 4770.96 | J166: =ROUND(I166*H166,3) -> 0 | N166: znížená | P166: =O166*H166 -> 0 | Q166: 0 | R166: =Q166*H166 -> 0 | S166: 0 | T166: =S166*H166 -> 0 | AR166: 4 | AT166: K | AU166: 2 | AY166: ROZPOCET | BE166: =IF(N166="základná",J166,0) -> 0 | BF166: =IF(N166="znížená",J166,0) -> 0 | BG166: =IF(N166="zákl. prenesená",J166,0) -> 0 | BH166: =IF(N166="zníž. prenesená",J166,0) -> 0 | BI166: =IF(N166="nulová",J166,0) -> 0 | BJ166: 2 | BK166: =ROUND(I166*H166,3) -> 0 | BL166: 4 | BM166: 68
...

Sheet 007 - Chodník A8
L2: >> skryté stĺpce << | AT2: {d4d3ef33-331e-4236-b446-041abc156f25}
AT3: 0
D4: KRYCÍ LIST ROZPOČTU | M4: v --- nižšie sa nachádzajú doplnkové a pomocné údaje k zostavám --- v | AT4: False
D6: Stavba:
E7: ='Rekapitulácia stavby'!K6 -> REVITALIZÁCIA ÚZEMIA HRADNÉHO KOPCA V NITRE
D8: Objekt:
E9: 007 - Chodník A8
D11: JKSO: | I11: KS:
D12: Miesto: | I12: Dátum: | J12: ='Rekapitulácia stavby'!AN8 -> 18. 10. 2021
D14: Objednávateľ: | I14: IČO:
E15: Mesto Nitra | I15: IČ DPH:
D17: Zhotoviteľ: | I17: IČO: | J17: ='Rekapitulácia stavby'!AN13 -> Vyplň údaj
E18: ='Rekapitulácia stavby'!E14 -> Vyplň údaj | I18: IČ DPH: | J18: ='Rekapitulácia stavby'!AN14 -> Vyplň údaj
D20: Projektant: | I20: IČO:
E21: Ing. arch. Martin Dulík AA | I21: IČ DPH:
D23: Spracovateľ: | I23: IČO:
E24: Ing. arch. Martin Dulík | I24: IČ DPH:
D26: Poznámka:
D30: Cena bez DPH | J30: =ROUND(J122, 2) -> 0
F32: Základ dane | I32: Sadzba dane | J32: Výška dane
D33: DPH | E33: základná | F33: =ROUND((SUM(BE122:BE150)), 2) -> 0 | I33: 0.2 | J33: =ROUND(((SUM(BE122:BE150))*I33), 2) -> 0
E34: znížená | F34: =ROUND((SUM(BF122:BF150)), 2) -> 0 | I34: 0.2 | J34: =ROUND(((SUM(BF122:BF150))*I34), 2) -> 0
E35: zákl. prenesená | F35: =ROUND((SUM(BG122:BG150)), 2) -> 0 | I35: 0.2 | J35: =0 -> 0
E36: zníž. prenesená | F36: =ROUND((SUM(BH122:BH150)), 2) -> 0 | I36: 0.2 | J36: =0 -> 0
E37: nulová | F37: =ROUND((SUM(BI122:BI150)), 2) -> 0 | I37: 0 | J37: =0 -> 0
D39: Cena s DPH | G39: v | H39: EUR | J39: =SUM(J30:J37) -> 0
D50: Projektant | G50: Spracovateľ
D61: Dátum a podpis: | F61: Pečiatka | G61: Dátum a podpis: | J61: Pečiatka
D65: Objednávateľ | G65: Zhotoviteľ
D76: Dátum a podpis: | F76: Pečiatka | G76: Dátum a podpis: | J76: Pečiatka
C82: REKAPITULÁCIA ROZPOČTU
C84: Stavba:
E85: =E7 -> REVITALIZÁCIA ÚZEMIA HRADNÉHO KOPCA V NITRE
C86: Objekt:
E87: =E9 -> 007 - Chodník A8
C89: Miesto: | F89: =F12 | I89: Dátum: | J89: =IF(J12="","",J12) -> 18. 10. 2021
C91: Objednávateľ: | F91: =E15 -> Mesto Nitra | I91: Projektant: | J91: =E21 -> Ing. arch. Martin Dulík AA
C92: Zhotoviteľ: | F92: =IF(E18="","",E18) -> Vyplň údaj | I92: Spracovateľ: | J92: =E24 -> Ing. arch. Martin Dulík
C94: Kód dielu - Popis | J94: Cena celkom [EUR]
C96: Náklady z rozpočtu | J96: =J122 -> 0 | AU96: -1
D97: HSV - Práce a dodávky HSV | J97: =J123 -> 0
D98: 1 - Zemné práce | J98: =J124 -> 0
D99: 2 - Zakladanie | J99: =J135 -> 0
D100: 5 - Komunikácie | J100: =J139 -> 0
D101: 9 - Ostatné konštrukcie a práce-búranie | J101: =J142 -> 0
D102: 99 - Presun hmôt HSV | J102: =J149 -> 0
C109: ROZPOČET
C111: Stavba:
E112: =E7 -> REVITALIZÁCIA ÚZEMIA HRADNÉHO KOPCA V NITRE
C113: Objekt:
E114: =E9 -> 007 - Chodník A8
C116: Miesto: | F116: =F12 | I116: Dátum: | J116: =IF(J12="","",J12) -> 18. 10. 2021
C118: Objednávateľ: | F118: =E15 -> Mesto Nitra | I118: Projektant: | J118: =E21 -> Ing. arch. Martin Dulík AA
C119: Zhotoviteľ: | F119: =IF(E18="","",E18) -> Vyplň údaj | I119: Spracovateľ: | J119: =E24 -> Ing. arch. Martin Dulík
C121: PČ | D121: Typ | E121: Kód | F121: Popis | G121: MJ | H121: Množstvo | I121: J.cena [EUR] | J121: Cena celkom [EUR] | K121: Cenová sústava | N121: DPH | O121: J. Nh [h] | P121: Nh celkom [h] | Q121: J. hmotnosť [t] | R121: Hmotnosť celkom [t] | S121: J. suť [t] | T121: Suť Celkom [t]
C122: Náklady z rozpočtu | J122: =BK122 -> 0 | P122: =P123 -> 0 | R122: =R123 -> 0 | T122: =T123 -> 0 | AT122: D | AU122: -1 | BK122: =BK123 -> 0
D123: D | E123: HSV | F123: Práce a dodávky HSV | J123: =BK123 -> 0 | P123: =P124+P135+P139+P142+P149 -> 0 | R123: =R124+R135+R139+R142+R149 -> 0 | T123: =T124+T135+T139+T142+T149 -> 0 | AR123: 1 | AT123: D | AU123: 0 | AY123: ROZPOCET | BK123: =BK124+BK135+BK139+BK142+BK149 -> 0
D124: D | E124: 1 | F124: Zemné práce | J124: =BK124 -> 0 | P124: =SUM(P125:P134) -> 0 | R124: =SUM(R125:R134) -> 0 | T124: =SUM(T125:T134) -> 0 | AR124: 1 | AT124: D | AU124: 1 | AY124: ROZPOCET | BK124: =SUM(BK125:BK134) -> 0
C125: 1 | D125: K | E125: 113107121.S | F125: Odstránenie krytu v ploche do 200 m2 z kameniva hrubého drveného, hr. do 100 mm, -0,13000t | G125: m2 | H125: 63.58 | J125: =ROUND(I125*H125,3) -> 0 | N125: znížená | P125: =O125*H125 -> 0 | Q125: 0 | R125: =Q125*H125 -> 0 | S125: 0 | T125: =S125*H125 -> 0 | AR125: 4 | AT125: K | AU125: 2 | AY125: ROZPOCET | BE125: =IF(N125="základná",J125,0) -> 0 | BF125: =IF(N125="znížená",J125,0) -> 0 | BG125: =IF(N125="zákl. prenesená",J125,0) -> 0 | BH125: =IF(N125="zníž. prenesená",J125,0) -> 0 | BI125: =IF(N125="nulová",J125,0) -> 0 | BJ125: 2 | BK125: =ROUND(I125*H125,3) -> 0 | BL125: 4 | BM125: 2
C126: 2 | D126: K | E126: 113202111.S | F126: Vytrhanie obrúb kamenných, s vybúraním lôžka, z krajníkov alebo obrubníkov stojatých, -0,14500t | G126: m | H126: 145.744 | J126: =ROUND(I126*H126,3) -> 0 | N126: znížená | P126: =O126*H126 -> 0 | Q126: 0 | R126: =Q126*H126 -> 0 | S126: 0 | T126: =S126*H126 -> 0 | AR126: 4 | AT126: K | AU126: 2 | AY126: ROZPOCET | BE126: =IF(N126="základná",J126,0) -> 0 | BF126: =IF(N126="znížená",J126,0) -> 0 | BG126: =IF(N126="zákl. prenesená",J126,0) -> 0 | BH126: =IF(N126="zníž. prenesená",J126,0) -> 0 | BI126: =IF(N126="nulová",J126,0) -> 0 | BJ126: 2 | BK126: =ROUND(I126*H126,3) -> 0 | BL126: 4 | BM126: 4
C127: 3 | D127: K | E127: 120901121.S | F127: Búranie konštrukcií z betónu prostého neprekladaného kameňom v odkopávkach | G127: m3 | H127: 4.818 | J127: =ROUND(I127*H127,3) -> 0 | N127: znížená | P127: =O127*H127 -> 0 | Q127: 0 | R127: =Q127*H127 -> 0 | S127: 0 | T127: =S127*H127 -> 0 | AR127: 4 | AT127: K | AU127: 2 | AY127: ROZPOCET | BE127: =IF(N127="základná",J127,0) -> 0 | BF127: =IF(N127="znížená",J127,0) -> 0 | BG127: =IF(N127="zákl. prenesená",J127,0) -> 0 | BH127: =IF(N127="zníž. prenesená",J127,0) -> 0 | BI127: =IF(N127="nulová",J127,0) -> 0 | BJ127: 2 | BK127: =ROUND(I127*H127,3) -> 0 | BL127: 4 | BM127: 6
C128: 4 | D128: K | E128: 132211101.S | F128: Hĺbenie rýh šírky do 600 mm v hornine tr.3 súdržných - ručným náradím | G128: m3 | H128: 27.74 | J128: =ROUND(I128*H128,3) -> 0 | N128: znížená | P128: =O128*H128 -> 0 | Q128: 0 | R128: =Q128*H128 -> 0 | S128: 0 | T128: =S128*H128 -> 0 | AR128: 4 | AT128: K | AU128: 2 | AY128: ROZPOCET | BE128: =IF(N128="základná",J128,0) -> 0 | BF128: =IF(N128="znížená",J128,0) -> 0 | BG128: =IF(N128="zákl. prenesená",J128,0) -> 0 | BH128: =IF(N128="zníž. prenesená",J128,0) -> 0 | BI128: =IF(N128="nulová",J128,0) -> 0 | BJ128: 2 | BK128: =ROUND(I128*H128,3) -> 0 | BL128: 4 | BM128: 8
C129: 5 | D129: K | E129: 162201201.S | F129: Vodorovné premiestnenie výkopu nosením do 10 m horniny 1 až 4 | G129: m3 | H129: 27.74 | J129: =ROUND(I129*H129,3) -> 0 | N129: znížená | P129: =O129*H129 -> 0 | Q129: 0 | R129: =Q129*H129 -> 0 | S129: 0 | T129: =S129*H129 -> 0 | AR129: 4 | AT129: K | AU129: 2 | AY129: ROZPOCET | BE129: =IF(N129="základná",J129,0) -> 0 | BF129: =IF(N129="znížená",J129,0) -> 0 | BG129: =IF(N129="zákl. prenesená",J129,0) -> 0 | BH129: =IF(N129="zníž. prenesená",J129,0) -> 0 | BI129: =IF(N129="nulová",J129,0) -> 0 | BJ129: 2 | BK129: =ROUND(I129*H129,3) -> 0 | BL129: 4 | BM129: 10
C130: 6 | D130: K | E130: 162201209.S | F130: Vodorovné premiestnenie výkopu nosením do 10 m horniny 1 až 4 - príplatok k cene za každých ďalších 10 m | G130: m3 | H130: 665.76 | J130: =ROUND(I130*H130,3) -> 0 | N130: znížená | P130: =O130*H130 -> 0 | Q130: 0 | R130: =Q130*H130 -> 0 | S130: 0 | T130: =S130*H130 -> 0 | AR130: 4 | AT130: K | AU130: 2 | AY130: ROZPOCET | BE130: =IF(N130="základná",J130,0) -> 0 | BF130: =IF(N130="znížená",J130,0) -> 0 | BG130: =IF(N130="zákl. prenesená",J130,0) -> 0 | BH130: =IF(N130="zníž. prenesená",J130,0) -> 0 | BI130: =IF(N130="nulová",J130,0) -> 0 | BJ130: 2 | BK130: =ROUND(I130*H130,3) -> 0 | BL130: 4 | BM130: 12
C131: 7 | D131: K | E131: 162501102.S | F131: Vodorovné premiestnenie výkopku po spevnenej ceste z horniny tr.1-4, do 100 m3 na vzdialenosť do 3000 m | G131: m3 | H131: 27.74 | J131: =ROUND(I131*H131,3) -> 0 | N131: znížená | P131: =O131*H131 -> 0 | Q131: 0 | R131: =Q131*H131 -> 0 | S131: 0 | T131: =S131*H131 -> 0 | AR131: 4 | AT131: K | AU131: 2 | AY131: ROZPOCET | BE131: =IF(N131="základná",J131,0) -> 0 | BF131: =IF(N131="znížená",J131,0) -> 0 | BG131: =IF(N131="zákl. prenesená",J131,0) -> 0 | BH131: =IF(N131="zníž. prenesená",J131,0) -> 0 | BI131: =IF(N131="nulová",J131,0) -> 0 | BJ131: 2 | BK131: =ROUND(I131*H131,3) -> 0 | BL131: 4 | BM131: 14
C132: 8 | D132: K | E132: 162501105.S | F132: Vodorovné premiestnenie výkopku po spevnenej ceste z horniny tr.1-4, do 100 m3, príplatok k cene za každých ďalšich a začatých 1000 m | G132: m3 | H132: 194.18 | J132: =ROUND(I132*H132,3) -> 0 | N132: znížená | P132: =O132*H132 -> 0 | Q132: 0 | R132: =Q132*H132 -> 0 | S132: 0 | T132: =S132*H132 -> 0 | AR132: 4 | AT132: K | AU132: 2 | AY132: ROZPOCET | BE132: =IF(N132="základná",J132,0) -> 0 | BF132: =IF(N132="znížená",J132,0) -> 0 | BG132: =IF(N132="zákl. prenesená",J132,0) -> 0 | BH132: =IF(N132="zníž. prenesená",J132,0) -> 0 | BI132: =IF(N132="nulová",J132,0) -> 0 | BJ132: 2 | BK132: =ROUND(I132*H132,3) -> 0 | BL132: 4 | BM132: 16
C133: 9 | D133: K | E133: 167101100.S | F133: Nakladanie výkopku tr.1-4 ručne | G133: m3 | H133: 27.74 | J133: =ROUND(I133*H133,3) -> 0 | N133: znížená | P133: =O133*H133 -> 0 | Q133: 0 | R133: =Q133*H133 -> 0 | S133: 0 | T133: =S133*H133 -> 0 | AR133: 4 | AT133: K | AU133: 2 | AY133: ROZPOCET | BE133: =IF(N133="základná",J133,0) -> 0 | BF133: =IF(N133="znížená",J133,0) -> 0 | BG133: =IF(N133="zákl. prenesená",J133,0) -> 0 | BH133: =IF(N133="zníž. prenesená",J133,0) -> 0 | BI133: =IF(N133="nulová",J133,0) -> 0 | BJ133: 2 | BK133: =ROUND(I133*H133,3) -> 0 | BL133: 4 | BM133: 18
C134: 10 | D134: K | E134: 171209002.S | F134: Poplatok za skladovanie - zemina a kamenivo (17 05) ostatné | G134: t | H134: 41.61 | J134: =ROUND(I134*H134,3) -> 0 | N134: znížená | P134: =O134*H134 -> 0 | Q134: 0 | R134: =Q134*H134 -> 0 | S134: 0 | T134: =S134*H134 -> 0 | AR134: 4 | AT134: K | AU134: 2 | AY134: ROZPOCET | BE134: =IF(N134="základná",J134,0) -> 0 | BF134: =IF(N134="znížená",J134,0) -> 0 | BG134: =IF(N134="zákl. prenesená",J134,0) -> 0 | BH134: =IF(N134="zníž. prenesená",J134,0) -> 0 | BI134: =IF(N134="nulová",J134,0) -> 0 | BJ134: 2 | BK134: =ROUND(I134*H134,3) -> 0 | BL134: 4 | BM134: 20
D135: D | E135: 2 | F135: Zakladanie | J135: =BK135 -> 0 | P135: =SUM(P136:P138) -> 0 | R135: =SUM(R136:R138) -> 0 | T135: =SUM(T136:T138) -> 0 | AR135: 1 | AT135: D | AU135: 1 | AY135: ROZPOCET | BK135: =SUM(BK136:BK138) -> 0
C136: 11 | D136: K | E136: 274313611.S | F136: Betón základových pásov, prostý tr. C 16/20 | G136: m3 | H136: 28.711 | J136: =ROUND(I136*H136,3) -> 0 | N136: znížená | P136: =O136*H136 -> 0 | Q136: 0 | R136: =Q136*H136 -> 0 | S136: 0 | T136: =S136*H136 -> 0 | AR136: 4 | AT136: K | AU136: 2 | AY136: ROZPOCET | BE136: =IF(N136="základná",J136,0) -> 0 | BF136: =IF(N136="znížená",J136,0) -> 0 | BG136: =IF(N136="zákl. prenesená",J136,0) -> 0 | BH136: =IF(N136="zníž. prenesená",J136,0) -> 0 | BI136: =IF(N136="nulová",J136,0) -> 0 | BJ136: 2 | BK136: =ROUND(I136*H136,3) -> 0 | BL136: 4 | BM136: 22
C137: 12 | D137: K | E137: 274351215.S | F137: Debnenie stien základových pásov, zhotovenie-dielce | G137: m2 | H137: 68.134 | J137: =ROUND(I137*H137,3) -> 0 | N137: znížená | P137: =O137*H137 -> 0 | Q137: 0 | R137: =Q137*H137 -> 0 | S137: 0 | T137: =S137*H137 -> 0 | AR137: 4 | AT137: K | AU137: 2 | AY137: ROZPOCET | BE137: =IF(N137="základná",J137,0) -> 0 | BF137: =IF(N137="znížená",J137,0) -> 0 | BG137: =IF(N137="zákl. prenesená",J137,0) -> 0 | BH137: =IF(N137="zníž. prenesená",J137,0) -> 0 | BI137: =IF(N137="nulová",J137,0) -> 0 | BJ137: 2 | BK137: =ROUND(I137*H137,3) -> 0 | BL137: 4 | BM137: 24
C138: 13 | D138: K | E138: 274351216.S | F138: Debnenie stien základových pásov, odstránenie-dielce | G138: m2 | H138: 68.134 | J138: =ROUND(I138*H138,3) -> 0 | N138: znížená | P138: =O138*H138 -> 0 | Q138: 0 | R138: =Q138*H138 -> 0 | S138: 0 | T138: =S138*H138 -> 0 | AR138: 4 | AT138: K | AU138: 2 | AY138: ROZPOCET | BE138: =IF(N138="základná",J138,0) -> 0 | BF138: =IF(N138="znížená",J138,0) -> 0 | BG138: =IF(N138="zákl. prenesená",J138,0) -> 0 | BH138: =IF(N138="zníž. prenesená",J138,0) -> 0 | BI138: =IF(N138="nulová",J138,0) -> 0 | BJ138: 2 | BK138: =ROUND(I138*H138,3) -> 0 | BL138: 4 | BM138: 26
D139: D | E139: 5 | F139: Komunikácie | J139: =BK139 -> 0 | P139: =SUM(P140:P141) -> 0 | R139: =SUM(R140:R141) -> 0 | T139: =SUM(T140:T141) -> 0 | AR139: 1 | AT139: D | AU139: 1 | AY139: ROZPOCET | BK139: =SUM(BK140:BK141) -> 0
C140: 14 | D140: K | E140: 564740111.S | F140: Podklad alebo kryt z kameniva hrubého drveného veľ. 8-16 mm s rozprestretím a zhutnením hr. 120 mm | G140: m2 | H140: 63.58 | J140: =ROUND(I140*H140,3) -> 0 | N140: znížená | P140: =O140*H140 -> 0 | Q140: 0 | R140: =Q140*H140 -> 0 | S140: 0 | T140: =S140*H140 -> 0 | AR140: 4 | AT140: K | AU140: 2 | AY140: ROZPOCET | BE140: =IF(N140="základná",J140,0) -> 0 | BF140: =IF(N140="znížená",J140,0) -> 0 | BG140: =IF(N140="zákl. prenesená",J140,0) -> 0 | BH140: =IF(N140="zníž. prenesená",J140,0) -> 0 | BI140: =IF(N140="nulová",J140,0) -> 0 | BJ140: 2 | BK140: =ROUND(I140*H140,3) -> 0 | BL140: 4 | BM140: 28
C141: 15 | D141: K | E141: 564782419.S | F141: Mlátový povrch chodníka hr. 80 mm | G141: m2 | H141: 63.58 | J141: =ROUND(I141*H141,3) -> 0 | N141: znížená | P141: =O141*H141 -> 0 | Q141: 0 | R141: =Q141*H141 -> 0 | S141: 0 | T141: =S141*H141 -> 0 | AR141: 4 | AT141: K | AU141: 2 | AY141: ROZPOCET | BE141: =IF(N141="základná",J141,0) -> 0 | BF141: =IF(N141="znížená",J141,0) -> 0 | BG141: =IF(N141="zákl. prenesená",J141,0) -> 0 | BH141: =IF(N141="zníž. prenesená",J141,0) -> 0 | BI141: =IF(N141="nulová",J141,0) -> 0 | BJ141: 2 | BK141: =ROUND(I141*H141,3) -> 0 | BL141: 4 | BM141: 30
D142: D | E142: 9 | F142: Ostatné konštrukcie a práce-búranie | J142: =BK142 -> 0 | P142: =SUM(P143:P148) -> 0 | R142: =SUM(R143:R148) -> 0 | T142: =SUM(T143:T148) -> 0 | AR142: 1 | AT142: D | AU142: 1 | AY142: ROZPOCET | BK142: =SUM(BK143:BK148) -> 0
C143: 16 | D143: K | E143: 917161111.S | F143: Osadenie chodník. obrubníka kamenného ležatého do lôžka z betónu prostého tr. C 12/15 s bočnou oporou | G143: m | H143: 145.744 | J143: =ROUND(I143*H143,3) -> 0 | N143: znížená | P143: =O143*H143 -> 0 | Q143: 0 | R143: =Q143*H143 -> 0 | S143: 0 | T143: =S143*H143 -> 0 | AR143: 4 | AT143: K | AU143: 2 | AY143: ROZPOCET | BE143: =IF(N143="základná",J143,0) -> 0 | BF143: =IF(N143="znížená",J143,0) -> 0 | BG143: =IF(N143="zákl. prenesená",J143,0) -> 0 | BH143: =IF(N143="zníž. prenesená",J143,0) -> 0 | BI143: =IF(N143="nulová",J143,0) -> 0 | BJ143: 2 | BK143: =ROUND(I143*H143,3) -> 0 | BL143: 4 | BM143: 32
C144: 17 | D144: K | E144: 979081111.S | F144: Odvoz sutiny a vybúraných hmôt na skládku do 1 km | G144: t | H144: 39.998 | J144: =ROUND(I144*H144,3) -> 0 | N144: znížená | P144: =O144*H144 -> 0 | Q144: 0 | R144: =Q144*H144 -> 0 | S144: 0 | T144: =S144*H144 -> 0 | AR144: 4 | AT144: K | AU144: 2 | AY144: ROZPOCET | BE144: =IF(N144="základná",J144,0) -> 0 | BF144: =IF(N144="znížená",J144,0) -> 0 | BG144: =IF(N144="zákl. prenesená",J144,0) -> 0 | BH144: =IF(N144="zníž. prenesená",J144,0) -> 0 | BI144: =IF(N144="nulová",J144,0) -> 0 | BJ144: 2 | BK144: =ROUND(I144*H144,3) -> 0 | BL144: 4 | BM144: 34
C145: 18 | D145: K | E145: 979081121.S | F145: Odvoz sutiny a vybúraných hmôt na skládku za každý ďalší 1 km | G145: t | H145: 359.982 | J145: =ROUND(I145*H145,3) -> 0 | N145: znížená | P145: =O145*H145 -> 0 | Q145: 0 | R145: =Q145*H145 -> 0 | S145: 0 | T145: =S145*H145 -> 0 | AR145: 4 | AT145: K | AU145: 2 | AY145: ROZPOCET | BE145: =IF(N145="základná",J145,0) -> 0 | BF145: =IF(N145="znížená",J145,0) -> 0 | BG145: =IF(N145="zákl. prenesená",J145,0) -> 0 | BH145: =IF(N145="zníž. prenesená",J145,0) -> 0 | BI145: =IF(N145="nulová",J145,0) -> 0 | BJ145: 2 | BK145: =ROUND(I145*H145,3) -> 0 | BL145: 4 | BM145: 36
C146: 19 | D146: K | E146: 979082111.S | F146: Vnútrostavenisková doprava sutiny a vybúraných hmôt do 10 m, ručný presun | G146: t | H146: 39.998 | J146: =ROUND(I146*H146,3) -> 0 | N146: znížená | P146: =O146*H146 -> 0 | Q146: 0 | R146: =Q146*H146 -> 0 | S146: 0 | T146: =S146*H146 -> 0 | AR146: 4 | AT146: K | AU146: 2 | AY146: ROZPOCET | BE146: =IF(N146="základná",J146,0) -> 0 | BF146: =IF(N146="znížená",J146,0) -> 0 | BG146: =IF(N146="zákl. prenesená",J146,0) -> 0 | BH146: =IF(N146="zníž. prenesená",J146,0) -> 0 | BI146: =IF(N146="nulová",J146,0) -> 0 | BJ146: 2 | BK146: =ROUND(I146*H146,3) -> 0 | BL146: 4 | BM146: 38
C147: 20 | D147: K | E147: 979082121.S | F147: Vnútrostavenisková doprava sutiny a vybúraných hmôt za každých ďalších 5 m, ručný presun | G147: t | H147: 1919.904 | J147: =ROUND(I147*H147,3) -> 0 | N147: znížená | P147: =O147*H147 -> 0 | Q147: 0 | R147: =Q147*H147 -> 0 | S147: 0 | T147: =S147*H147 -> 0 | AR147: 4 | AT147: K | AU147: 2 | AY147: ROZPOCET | BE147: =IF(N147="základná",J147,0) -> 0 | BF147: =IF(N147="znížená",J147,0) -> 0 | BG147: =IF(N147="zákl. prenesená",J147,0) -> 0 | BH147: =IF(N147="zníž. prenesená",J147,0) -> 0 | BI147: =IF(N147="nulová",J147,0) -> 0 | BJ147: 2 | BK147: =ROUND(I147*H147,3) -> 0 | BL147: 4 | BM147: 40
C148: 21 | D148: K | E148: 979089012.S | F148: Poplatok za skladovanie | G148: t | H148: 39.998 | J148: =ROUND(I148*H148,3) -> 0 | N148: znížená | P148: =O148*H148 -> 0 | Q148: 0 | R148: =Q148*H148 -> 0 | S148: 0 | T148: =S148*H148 -> 0 | AR148: 4 | AT148: K | AU148: 2 | AY148: ROZPOCET | BE148: =IF(N148="základná",J148,0) -> 0 | BF148: =IF(N148="znížená",J148,0) -> 0 | BG148: =IF(N148="zákl. prenesená",J148,0) -> 0 | BH148: =IF(N148="zníž. prenesená",J148,0) -> 0 | BI148: =IF(N148="nulová",J148,0) -> 0 | BJ148: 2 | BK148: =ROUND(I148*H148,3) -> 0 | BL148: 4 | BM148: 42
D149: D | E149: 99 | F149: Presun hmôt HSV | J149: =BK149 -> 0 | P149: =P150 -> 0 | R149: =R150 -> 0 | T149: =T150 -> 0 | AR149: 1 | AT149: D | AU149: 1 | AY149: ROZPOCET | BK149: =BK150 -> 0
C150: 22 | D150: K | E150: 999281119.S | F150: Ručný presun hmôt | G150: t | H150: 112.261 | J150: =ROUND(I150*H150,3) -> 0 | N150: znížená | P150: =O150*H150 -> 0 | Q150: 0 | R150: =Q150*H150 -> 0 | S150: 0 | T150: =S150*H150 -> 0 | AR150: 4 | AT150: K | AU150: 2 | AY150: ROZPOCET | BE150: =IF(N150="základná",J150,0) -> 0 | BF150: =IF(N150="znížená",J150,0) -> 0 | BG150: =IF(N150="zákl. prenesená",J150,0) -> 0 | BH150: =IF(N150="zníž. prenesená",J150,0) -> 0 | BI150: =IF(N150="nulová",J150,0) -> 0 | BJ150: 2 | BK150: =ROUND(I150*H150,3) -> 0 | BL150: 4 | BM150: 44

Sheet 008 - Chodník A9
L2: >> skryté stĺpce << | AT2: {3d4f2b3d-c776-442f-a108-947a058e5a9b}
AT3: 0
D4: KRYCÍ LIST ROZPOČTU | M4: v --- nižšie sa nachádzajú doplnkové a pomocné údaje k zostavám --- v | AT4: False
D6: Stavba:
E7: ='Rekapitulácia stavby'!K6 -> REVITALIZÁCIA ÚZEMIA HRADNÉHO KOPCA V NITRE
D8: Objekt:
E9: 008 - Chodník A9
D11: JKSO: | I11: KS:
D12: Miesto: | I12: Dátum: | J12: ='Rekapitulácia stavby'!AN8 -> 18. 10. 2021
D14: Objednávateľ: | I14: IČO:
E15: Mesto Nitra | I15: IČ DPH:
D17: Zhotoviteľ: | I17: IČO: | J17: ='Rekapitulácia stavby'!AN13 -> Vyplň údaj
E18: ='Rekapitulácia stavby'!E14 -> Vyplň údaj | I18: IČ DPH: | J18: ='Rekapitulácia stavby'!AN14 -> Vyplň údaj
D20: Projektant: | I20: IČO:
E21: Ing. arch. Martin Dulík AA | I21: IČ DPH:
D23: Spracovateľ: | I23: IČO:
E24: Ing. arch. Martin Dulík | I24: IČ DPH:
D26: Poznámka:
D30: Cena bez DPH | J30: =ROUND(J124, 2) -> 0
F32: Základ dane | I32: Sadzba dane | J32: Výška dane
D33: DPH | E33: základná | F33: =ROUND((SUM(BE124:BE161)), 2) -> 0 | I33: 0.2 | J33: =ROUND(((SUM(BE124:BE161))*I33), 2) -> 0
E34: znížená | F34: =ROUND((SUM(BF124:BF161)), 2) -> 0 | I34: 0.2 | J34: =ROUND(((SUM(BF124:BF161))*I34), 2) -> 0
E35: zákl. prenesená | F35: =ROUND((SUM(BG124:BG161)), 2) -> 0 | I35: 0.2 | J35: =0 -> 0
E36: zníž. prenesená | F36: =ROUND((SUM(BH124:BH161)), 2) -> 0 | I36: 0.2 | J36: =0 -> 0
E37: nulová | F37: =ROUND((SUM(BI124:BI161)), 2) -> 0 | I37: 0 | J37: =0 -> 0
D39: Cena s DPH | G39: v | H39: EUR | J39: =SUM(J30:J37) -> 0
D50: Projektant | G50: Spracovateľ
D61: Dátum a podpis: | F61: Pečiatka | G61: Dátum a podpis: | J61: Pečiatka
D65: Objednávateľ | G65: Zhotoviteľ
D76: Dátum a podpis: | F76: Pečiatka | G76: Dátum a podpis: | J76: Pečiatka
C82: REKAPITULÁCIA ROZPOČTU
C84: Stavba:
E85: =E7 -> REVITALIZÁCIA ÚZEMIA HRADNÉHO KOPCA V NITRE
C86: Objekt:
E87: =E9 -> 008 - Chodník A9
C89: Miesto: | F89: =F12 | I89: Dátum: | J89: =IF(J12="","",J12) -> 18. 10. 2021
C91: Objednávateľ: | F91: =E15 -> Mesto Nitra | I91: Projektant: | J91: =E21 -> Ing. arch. Martin Dulík AA
C92: Zhotoviteľ: | F92: =IF(E18="","",E18) -> Vyplň údaj | I92: Spracovateľ: | J92: =E24 -> Ing. arch. Martin Dulík
C94: Kód dielu - Popis | J94: Cena celkom [EUR]
C96: Náklady z rozpočtu | J96: =J124 -> 0 | AU96: -1
D97: HSV - Práce a dodávky HSV | J97: =J125 -> 0
D98: 1 - Zemné práce | J98: =J126 -> 0
D99: 2 - Zakladanie | J99: =J137 -> 0
D100: 9 - Ostatné konštrukcie a práce-búranie | J100: =J140 -> 0
D101: 99 - Presun hmôt HSV | J101: =J146 -> 0
D102: PSV - Práce a dodávky PSV | J102: =J148 -> 0
D103: 767 - Konštrukcie doplnkové kovové | J103: =J149 -> 0
D104: 783 - Nátery | J104: =J159 -> 0
C111: ROZPOČET
C113: Stavba:
E114: =E7 -> REVITALIZÁCIA ÚZEMIA HRADNÉHO KOPCA V NITRE
C115: Objekt:
E116: =E9 -> 008 - Chodník A9
C118: Miesto: | F118: =F12 | I118: Dátum: | J118: =IF(J12="","",J12) -> 18. 10. 2021
C120: Objednávateľ: | F120: =E15 -> Mesto Nitra | I120: Projektant: | J120: =E21 -> Ing. arch. Martin Dulík AA
C121: Zhotoviteľ: | F121: =IF(E18="","",E18) -> Vyplň údaj | I121: Spracovateľ: | J121: =E24 -> Ing. arch. Martin Dulík
C123: PČ | D123: Typ | E123: Kód | F123: Popis | G123: MJ | H123: Množstvo | I123: J.cena [EUR] | J123: Cena celkom [EUR] | K123: Cenová sústava | N123: DPH | O123: J. Nh [h] | P123: Nh celkom [h] | Q123: J. hmotnosť [t] | R123: Hmotnosť celkom [t] | S123: J. suť [t] | T123: Suť Celkom [t]
C124: Náklady z rozpočtu | J124: =BK124 -> 0 | P124: =P125+P148 -> 0 | R124: =R125+R148 -> 0 | T124: =T125+T148 -> 0 | AT124: D | AU124: -1 | BK124: =BK125+BK148 -> 0
D125: D | E125: HSV | F125: Práce a dodávky HSV | J125: =BK125 -> 0 | P125: =P126+P137+P140+P146 -> 0 | R125: =R126+R137+R140+R146 -> 0 | T125: =T126+T137+T140+T146 -> 0 | AR125: 1 | AT125: D | AU125: 0 | AY125: ROZPOCET | BK125: =BK126+BK137+BK140+BK146 -> 0
D126: D | E126: 1 | F126: Zemné práce | J126: =BK126 -> 0 | P126: =SUM(P127:P136) -> 0 | R126: =SUM(R127:R136) -> 0 | T126: =SUM(T127:T136) -> 0 | AR126: 1 | AT126: D | AU126: 1 | AY126: ROZPOCET | BK126: =SUM(BK127:BK136) -> 0
C127: 1 | D127: K | E127: 113107122.S | F127: Odstránenie krytu v ploche do 200 m2 z kameniva hrubého drveného, hr.100 do 200 mm, -0,23500t | G127: m2 | H127: 38.056 | J127: =ROUND(I127*H127,3) -> 0 | N127: znížená | P127: =O127*H127 -> 0 | Q127: 0 | R127: =Q127*H127 -> 0 | S127: 0 | T127: =S127*H127 -> 0 | AR127: 4 | AT127: K | AU127: 2 | AY127: ROZPOCET | BE127: =IF(N127="základná",J127,0) -> 0 | BF127: =IF(N127="znížená",J127,0) -> 0 | BG127: =IF(N127="zákl. prenesená",J127,0) -> 0 | BH127: =IF(N127="zníž. prenesená",J127,0) -> 0 | BI127: =IF(N127="nulová",J127,0) -> 0 | BJ127: 2 | BK127: =ROUND(I127*H127,3) -> 0 | BL127: 4 | BM127: 2
C128: 2 | D128: K | E128: 113202111.S | F128: Vytrhanie obrúb kamenných, s vybúraním lôžka, z krajníkov alebo obrubníkov stojatých, -0,14500t | G128: m | H128: 17.361 | J128: =ROUND(I128*H128,3) -> 0 | N128: znížená | P128: =O128*H128 -> 0 | Q128: 0 | R128: =Q128*H128 -> 0 | S128: 0 | T128: =S128*H128 -> 0 | AR128: 4 | AT128: K | AU128: 2 | AY128: ROZPOCET | BE128: =IF(N128="základná",J128,0) -> 0 | BF128: =IF(N128="znížená",J128,0) -> 0 | BG128: =IF(N128="zákl. prenesená",J128,0) -> 0 | BH128: =IF(N128="zníž. prenesená",J128,0) -> 0 | BI128: =IF(N128="nulová",J128,0) -> 0 | BJ128: 2 | BK128: =ROUND(I128*H128,3) -> 0 | BL128: 4 | BM128: 4
C129: 3 | D129: K | E129: 120901121.S | F129: Búranie konštrukcií z betónu prostého neprekladaného kameňom v odkopávkach | G129: m3 | H129: 0.859 | J129: =ROUND(I129*H129,3) -> 0 | N129: znížená | P129: =O129*H129 -> 0 | Q129: 0 | R129: =Q129*H129 -> 0 | S129: 0 | T129: =S129*H129 -> 0 | AR129: 4 | AT129: K | AU129: 2 | AY129: ROZPOCET | BE129: =IF(N129="základná",J129,0) -> 0 | BF129: =IF(N129="znížená",J129,0) -> 0 | BG129: =IF(N129="zákl. prenesená",J129,0) -> 0 | BH129: =IF(N129="zníž. prenesená",J129,0) -> 0 | BI129: =IF(N129="nulová",J129,0) -> 0 | BJ129: 2 | BK129: =ROUND(I129*H129,3) -> 0 | BL129: 4 | BM129: 6
C130: 4 | D130: K | E130: 133211101.S | F130: Hĺbenie šachiet v hornine tr. 3 súdržných - ručným náradím plocha výkopu do 4 m2 | G130: m3 | H130: 2.317 | J130: =ROUND(I130*H130,3) -> 0 | N130: znížená | P130: =O130*H130 -> 0 | Q130: 0 | R130: =Q130*H130 -> 0 | S130: 0 | T130: =S130*H130 -> 0 | AR130: 4 | AT130: K | AU130: 2 | AY130: ROZPOCET | BE130: =IF(N130="základná",J130,0) -> 0 | BF130: =IF(N130="znížená",J130,0) -> 0 | BG130: =IF(N130="zákl. prenesená",J130,0) -> 0 | BH130: =IF(N130="zníž. prenesená",J130,0) -> 0 | BI130: =IF(N130="nulová",J130,0) -> 0 | BJ130: 2 | BK130: =ROUND(I130*H130,3) -> 0 | BL130: 4 | BM130: 8
C131: 5 | D131: K | E131: 162201201.S | F131: Vodorovné premiestnenie výkopu nosením do 10 m horniny 1 až 4 | G131: m3 | H131: 3.319 | J131: =ROUND(I131*H131,3) -> 0 | N131: znížená | P131: =O131*H131 -> 0 | Q131: 0 | R131: =Q131*H131 -> 0 | S131: 0 | T131: =S131*H131 -> 0 | AR131: 4 | AT131: K | AU131: 2 | AY131: ROZPOCET | BE131: =IF(N131="základná",J131,0) -> 0 | BF131: =IF(N131="znížená",J131,0) -> 0 | BG131: =IF(N131="zákl. prenesená",J131,0) -> 0 | BH131: =IF(N131="zníž. prenesená",J131,0) -> 0 | BI131: =IF(N131="nulová",J131,0) -> 0 | BJ131: 2 | BK131: =ROUND(I131*H131,3) -> 0 | BL131: 4 | BM131: 10
C132: 6 | D132: K | E132: 162201209.S | F132: Vodorovné premiestnenie výkopu nosením do 10 m horniny 1 až 4 - príplatok k cene za každých ďalších 10 m | G132: m3 | H132: 79.656 | J132: =ROUND(I132*H132,3) -> 0 | N132: znížená | P132: =O132*H132 -> 0 | Q132: 0 | R132: =Q132*H132 -> 0 | S132: 0 | T132: =S132*H132 -> 0 | AR132: 4 | AT132: K | AU132: 2 | AY132: ROZPOCET | BE132: =IF(N132="základná",J132,0) -> 0 | BF132: =IF(N132="znížená",J132,0) -> 0 | BG132: =IF(N132="zákl. prenesená",J132,0) -> 0 | BH132: =IF(N132="zníž. prenesená",J132,0) -> 0 | BI132: =IF(N132="nulová",J132,0) -> 0 | BJ132: 2 | BK132: =ROUND(I132*H132,3) -> 0 | BL132: 4 | BM132: 12
C133: 7 | D133: K | E133: 162501102.S | F133: Vodorovné premiestnenie výkopku po spevnenej ceste z horniny tr.1-4, do 100 m3 na vzdialenosť do 3000 m | G133: m3 | H133: 3.319 | J133: =ROUND(I133*H133,3) -> 0 | N133: znížená | P133: =O133*H133 -> 0 | Q133: 0 | R133: =Q133*H133 -> 0 | S133: 0 | T133: =S133*H133 -> 0 | AR133: 4 | AT133: K | AU133: 2 | AY133: ROZPOCET | BE133: =IF(N133="základná",J133,0) -> 0 | BF133: =IF(N133="znížená",J133,0) -> 0 | BG133: =IF(N133="zákl. prenesená",J133,0) -> 0 | BH133: =IF(N133="zníž. prenesená",J133,0) -> 0 | BI133: =IF(N133="nulová",J133,0) -> 0 | BJ133: 2 | BK133: =ROUND(I133*H133,3) -> 0 | BL133: 4 | BM133: 14
C134: 8 | D134: K | E134: 162501105.S | F134: Vodorovné premiestnenie výkopku po spevnenej ceste z horniny tr.1-4, do 100 m3, príplatok k cene za každých ďalšich a začatých 1000 m | G134: m3 | H134: 23.233 | J134: =ROUND(I134*H134,3) -> 0 | N134: znížená | P134: =O134*H134 -> 0 | Q134: 0 | R134: =Q134*H134 -> 0 | S134: 0 | T134: =S134*H134 -> 0 | AR134: 4 | AT134: K | AU134: 2 | AY134: ROZPOCET | BE134: =IF(N134="základná",J134,0) -> 0 | BF134: =IF(N134="znížená",J134,0) -> 0 | BG134: =IF(N134="zákl. prenesená",J134,0) -> 0 | BH134: =IF(N134="zníž. prenesená",J134,0) -> 0 | BI134: =IF(N134="nulová",J134,0) -> 0 | BJ134: 2 | BK134: =ROUND(I134*H134,3) -> 0 | BL134: 4 | BM134: 16
C135: 9 | D135: K | E135: 167101100.S | F135: Nakladanie výkopku tr.1-4 ručne | G135: m3 | H135: 3.319 | J135: =ROUND(I135*H135,3) -> 0 | N135: znížená | P135: =O135*H135 -> 0 | Q135: 0 | R135: =Q135*H135 -> 0 | S135: 0 | T135: =S135*H135 -> 0 | AR135: 4 | AT135: K | AU135: 2 | AY135: ROZPOCET | BE135: =IF(N135="základná",J135,0) -> 0 | BF135: =IF(N135="znížená",J135,0) -> 0 | BG135: =IF(N135="zákl. prenesená",J135,0) -> 0 | BH135: =IF(N135="zníž. prenesená",J135,0) -> 0 | BI135: =IF(N135="nulová",J135,0) -> 0 | BJ135: 2 | BK135: =ROUND(I135*H135,3) -> 0 | BL135: 4 | BM135: 18
C136: 10 | D136: K | E136: 171209002.S | F136: Poplatok za skladovanie - zemina a kamenivo (17 05) ostatné | G136: t | H136: 4.979 | J136: =ROUND(I136*H136,3) -> 0 | N136: znížená | P136: =O136*H136 -> 0 | Q136: 0 | R136: =Q136*H136 -> 0 | S136: 0 | T136: =S136*H136 -> 0 | AR136: 4 | AT136: K | AU136: 2 | AY136: ROZPOCET | BE136: =IF(N136="základná",J136,0) -> 0 | BF136: =IF(N136="znížená",J136,0) -> 0 | BG136: =IF(N136="zákl. prenesená",J136,0) -> 0 | BH136: =IF(N136="zníž. prenesená",J136,0) -> 0 | BI136: =IF(N136="nulová",J136,0) -> 0 | BJ136: 2 | BK136: =ROUND(I136*H136,3) -> 0 | BL136: 4 | BM136: 20
D137: D | E137: 2 | F137: Zakladanie | J137: =BK137 -> 0 | P137: =SUM(P138:P139) -> 0 | R137: =SUM(R138:R139) -> 0 | T137: =SUM(T138:T139) -> 0 | AR137: 1 | AT137: D | AU137: 1 | AY137: ROZPOCET | BK137: =SUM(BK138:BK139) -> 0
C138: 11 | D138: K | E138: 274313611.S | F138: Betón základových pásov, prostý tr. C 16/20 | G138: m3 | H138: 21.595 | J138: =ROUND(I138*H138,3) -> 0 | N138: znížená | P138: =O138*H138 -> 0 | Q138: 0 | R138: =Q138*H138 -> 0 | S138: 0 | T138: =S138*H138 -> 0 | AR138: 4 | AT138: K | AU138: 2 | AY138: ROZPOCET | BE138: =IF(N138="základná",J138,0) -> 0 | BF138: =IF(N138="znížená",J138,0) -> 0 | BG138: =IF(N138="zákl. prenesená",J138,0) -> 0 | BH138: =IF(N138="zníž. prenesená",J138,0) -> 0 | BI138: =IF(N138="nulová",J138,0) -> 0 | BJ138: 2 | BK138: =ROUND(I138*H138,3) -> 0 | BL138: 4 | BM138: 22
C139: 12 | D139: K | E139: 275313611.S | F139: Betón základových pätiek, prostý tr. C 16/20 | G139: m3 | H139: 2.099 | J139: =ROUND(I139*H139,3) -> 0 | N139: znížená | P139: =O139*H139 -> 0 | Q139: 0 | R139: =Q139*H139 -> 0 | S139: 0 | T139: =S139*H139 -> 0 | AR139: 4 | AT139: K | AU139: 2 | AY139: ROZPOCET | BE139: =IF(N139="základná",J139,0) -> 0 | BF139: =IF(N139="znížená",J139,0) -> 0 | BG139: =IF(N139="zákl. prenesená",J139,0) -> 0 | BH139: =IF(N139="zníž. prenesená",J139,0) -> 0 | BI139: =IF(N139="nulová",J139,0) -> 0 | BJ139: 2 | BK139: =ROUND(I139*H139,3) -> 0 | BL139: 4 | BM139: 24
D140: D | E140: 9 | F140: Ostatné konštrukcie a práce-búranie | J140: =BK140 -> 0 | P140: =SUM(P141:P145) -> 0 | R140: =SUM(R141:R145) -> 0 | T140: =SUM(T141:T145) -> 0 | AR140: 1 | AT140: D | AU140: 1 | AY140: ROZPOCET | BK140: =SUM(BK141:BK145) -> 0
C141: 13 | D141: K | E141: 979081111.S | F141: Odvoz sutiny a vybúraných hmôt na skládku do 1 km | G141: t | H141: 13.35 | J141: =ROUND(I141*H141,3) -> 0 | N141: znížená | P141: =O141*H141 -> 0 | Q141: 0 | R141: =Q141*H141 -> 0 | S141: 0 | T141: =S141*H141 -> 0 | AR141: 4 | AT141: K | AU141: 2 | AY141: ROZPOCET | BE141: =IF(N141="základná",J141,0) -> 0 | BF141: =IF(N141="znížená",J141,0) -> 0 | BG141: =IF(N141="zákl. prenesená",J141,0) -> 0 | BH141: =IF(N141="zníž. prenesená",J141,0) -> 0 | BI141: =IF(N141="nulová",J141,0) -> 0 | BJ141: 2 | BK141: =ROUND(I141*H141,3) -> 0 | BL141: 4 | BM141: 26
C142: 14 | D142: K | E142: 979081121.S | F142: Odvoz sutiny a vybúraných hmôt na skládku za každý ďalší 1 km | G142: t | H142: 120.15 | J142: =ROUND(I142*H142,3) -> 0 | N142: znížená | P142: =O142*H142 -> 0 | Q142: 0 | R142: =Q142*H142 -> 0 | S142: 0 | T142: =S142*H142 -> 0 | AR142: 4 | AT142: K | AU142: 2 | AY142: ROZPOCET | BE142: =IF(N142="základná",J142,0) -> 0 | BF142: =IF(N142="znížená",J142,0) -> 0 | BG142: =IF(N142="zákl. prenesená",J142,0) -> 0 | BH142: =IF(N142="zníž. prenesená",J142,0) -> 0 | BI142: =IF(N142="nulová",J142,0) -> 0 | BJ142: 2 | BK142: =ROUND(I142*H142,3) -> 0 | BL142: 4 | BM142: 28
C143: 15 | D143: K | E143: 979082111.S | F143: Vnútrostavenisková doprava sutiny a vybúraných hmôt do 10 m, ručný presun | G143: t | H143: 13.35 | J143: =ROUND(I143*H143,3) -> 0 | N143: znížená | P143: =O143*H143 -> 0 | Q143: 0 | R143: =Q143*H143 -> 0 | S143: 0 | T143: =S143*H143 -> 0 | AR143: 4 | AT143: K | AU143: 2 | AY143: ROZPOCET | BE143: =IF(N143="základná",J143,0) -> 0 | BF143: =IF(N143="znížená",J143,0) -> 0 | BG143: =IF(N143="zákl. prenesená",J143,0) -> 0 | BH143: =IF(N143="zníž. prenesená",J143,0) -> 0 | BI143: =IF(N143="nulová",J143,0) -> 0 | BJ143: 2 | BK143: =ROUND(I143*H143,3) -> 0 | BL143: 4 | BM143: 30
C144: 16 | D144: K | E144: 979082121.S | F144: Vnútrostavenisková doprava sutiny a vybúraných hmôt za každých ďalších 5 m, ručný presun | G144: t | H144: 640.8 | J144: =ROUND(I144*H144,3) -> 0 | N144: znížená | P144: =O144*H144 -> 0 | Q144: 0 | R144: =Q144*H144 -> 0 | S144: 0 | T144: =S144*H144 -> 0 | AR144: 4 | AT144: K | AU144: 2 | AY144: ROZPOCET | BE144: =IF(N144="základná",J144,0) -> 0 | BF144: =IF(N144="znížená",J144,0) -> 0 | BG144: =IF(N144="zákl. prenesená",J144,0) -> 0 | BH144: =IF(N144="zníž. prenesená",J144,0) -> 0 | BI144: =IF(N144="nulová",J144,0) -> 0 | BJ144: 2 | BK144: =ROUND(I144*H144,3) -> 0 | BL144: 4 | BM144: 32
C145: 17 | D145: K | E145: 979089012.S | F145: Poplatok za skladovanie | G145: t | H145: 13.35 | J145: =ROUND(I145*H145,3) -> 0 | N145: znížená | P145: =O145*H145 -> 0 | Q145: 0 | R145: =Q145*H145 -> 0 | S145: 0 | T145: =S145*H145 -> 0 | AR145: 4 | AT145: K | AU145: 2 | AY145: ROZPOCET | BE145: =IF(N145="základná",J145,0) -> 0 | BF145: =IF(N145="znížená",J145,0) -> 0 | BG145: =IF(N145="zákl. prenesená",J145,0) -> 0 | BH145: =IF(N145="zníž. prenesená",J145,0) -> 0 | BI145: =IF(N145="nulová",J145,0) -> 0 | BJ145: 2 | BK145: =ROUND(I145*H145,3) -> 0 | BL145: 4 | BM145: 34
D146: D | E146: 99 | F146: Presun hmôt HSV | J146: =BK146 -> 0 | P146: =P147 -> 0 | R146: =R147 -> 0 | T146: =T147 -> 0 | AR146: 1 | AT146: D | AU146: 1 | AY146: ROZPOCET | BK146: =BK147 -> 0
C147: 18 | D147: K | E147: 999281119.S | F147: Ručný presun hmôt | G147: t | H147: 51.986 | J147: =ROUND(I147*H147,3) -> 0 | N147: znížená | P147: =O147*H147 -> 0 | Q147: 0 | R147: =Q147*H147 -> 0 | S147: 0 | T147: =S147*H147 -> 0 | AR147: 4 | AT147: K | AU147: 2 | AY147: ROZPOCET | BE147: =IF(N147="základná",J147,0) -> 0 | BF147: =IF(N147="znížená",J147,0) -> 0 | BG147: =IF(N147="zákl. prenesená",J147,0) -> 0 | BH147: =IF(N147="zníž. prenesená",J147,0) -> 0 | BI147: =IF(N147="nulová",J147,0) -> 0 | BJ147: 2 | BK147: =ROUND(I147*H147,3) -> 0 | BL147: 4 | BM147: 36
D148: D | E148: PSV | F148: Práce a dodávky PSV | J148: =BK148 -> 0 | P148: =P149+P159 -> 0 | R148: =R149+R159 -> 0 | T148: =T149+T159 -> 0 | AR148: 2 | AT148: D | AU148: 0 | AY148: ROZPOCET | BK148: =BK149+BK159 -> 0
D149: D | E149: 767 | F149: Konštrukcie doplnkové kovové | J149: =BK149 -> 0 | P149: =SUM(P150:P158) -> 0 | R149: =SUM(R150:R158) -> 0 | T149: =SUM(T150:T158) -> 0 | AR149: 2 | AT149: D | AU149: 1 | AY149: ROZPOCET | BK149: =SUM(BK150:BK158) -> 0
C150: 19 | D150: K | E150: 767161210.S | F150: Montáž zábradlia rovného z rúrok na oceľovú konštrukciu, s hmotnosťou 1 m zábradlia do 20 kg | G150: m | H150: 72.044 | J150: =ROUND(I150*H150,3) -> 0 | N150: znížená | P150: =O150*H150 -> 0 | Q150: 0 | R150: =Q150*H150 -> 0 | S150: 0 | T150: =S150*H150 -> 0 | AR150: 16 | AT150: K | AU150: 2 | AY150: ROZPOCET | BE150: =IF(N150="základná",J150,0) -> 0 | BF150: =IF(N150="znížená",J150,0) -> 0 | BG150: =IF(N150="zákl. prenesená",J150,0) -> 0 | BH150: =IF(N150="zníž. prenesená",J150,0) -> 0 | BI150: =IF(N150="nulová",J150,0) -> 0 | BJ150: 2 | BK150: =ROUND(I150*H150,3) -> 0 | BL150: 16 | BM150: 38
C151: 20 | D151: M | E151: 5530000AZ | F151: Dodávka oceľového zábradlia A9 Z1 - Z2 | G151: m | H151: 72.044 | J151: =ROUND(I151*H151,3) -> 0 | N151: znížená | P151: =O151*H151 -> 0 | Q151: 0 | R151: =Q151*H151 -> 0 | S151: 0 | T151: =S151*H151 -> 0 | AR151: 32 | AT151: M | AU151: 2 | AY151: ROZPOCET | BE151: =IF(N151="základná",J151,0) -> 0 | BF151: =IF(N151="znížená",J151,0) -> 0 | BG151: =IF(N151="zákl. prenesená",J151,0) -> 0 | BH151: =IF(N151="zníž. prenesená",J151,0) -> 0 | BI151: =IF(N151="nulová",J151,0) -> 0 | BJ151: 2 | BK151: =ROUND(I151*H151,3) -> 0 | BL151: 16 | BM151: 40
