Workbook

Sheet Rekapitulácia stavby
A1: Export Komplet | BA1: 2.0 | BT1: False | BU1: False | BV1: {6f6699da-4551-4e6e-8b79-1dfcf8da807f}
AR2: >> skryté stĺpce << | BS2: 0,001 | BT2: 20
BS3: 0,001 | BT3: 20
D4: REKAPITULÁCIA STAVBY | AS4: v --- nižšie sa nachádzajú doplnkové a pomocné údaje k zostavám --- v | BE4: Návod na vyplnenie | BS4: 0,001
BE5: Meniť je možné iba bunky so žltým podfarbením!_x000D_ _x000D_ 1) na prvom liste Rekapitulácie stavby vyplňte v zostave_x000D_ _x000D_ a) Rekapitulácia stavby_x000D_ - údaje o Zhotoviteľovi_x000D_ (prenesú sa do ostatných zostáv aj v iných listoch)_x000D_ _x000D_ b) Rekapitulácia objektov stavby_x000D_ - potrebné Ostatné náklady_x000D_ _x000D_ 2) na vybraných listoch vyplňte v zostave_x000D_ _x000D_ a) Krycí list_x000D_ - údaje o Zhotoviteľovi, pokiaľ sa líšia od údajov o Zhotoviteľovi na Rekapitulácii stavby_x000D_ (údaje se prenesú do ostatných zostav v danom liste)_x000D_ _x000D_ b) Rekapitulácia rozpočtu_x000D_ - potrebné Ostatné náklady_x000D_ _x000D_ c) Celkové náklady za stavbu_x000D_ - ceny na položkách_x000D_ - množstvo, pokiaľ má žlté podfarbenie_x000D_ - a v prípade potreby poznámku (tá je v skrytom stĺpci) | BS5: 0,001
D6: Stavba: | K6: REVITALIZÁCIA ÚZEMIA HRADNÉHO KOPCA V NITRE | BS6: 0,001
D7: JKSO: | AK7: KS: | BS7: 0,001
D8: Miesto: | AK8: Dátum: | AN8: 18. 10. 2021 | BS8: 0,001
BS9: 0,001
D10: Objednávateľ: | AK10: IČO: | BS10: 0,001
E11: Mesto Nitra | AK11: IČ DPH: | BS11: 0,001
BS12: 0,001
D13: Zhotoviteľ: | AK13: IČO: | AN13: Vyplň údaj | BS13: 0,001
E14: Vyplň údaj | AK14: IČ DPH: | AN14: Vyplň údaj | BS14: 0,001
BS15: False
D16: Projektant: | AK16: IČO: | BS16: False
E17: Ing. arch. Martin Dulík AA | AK17: IČ DPH: | BS17: True
BS18: 0,01
D19: Spracovateľ: | AK19: IČO: | BS19: 0,01
E20: Ing. arch. Martin Dulík | AK20: IČ DPH: | BS20: True
D22: Poznámka:
D26: Cena bez DPH | AK26: =ROUND(AG94,2) -> 0
L28: Sadzba dane | W28: Základ dane | AK28: Výška dane
D29: DPH | F29: základná | L29: 0.2 | W29: =ROUND(AZ94, 2) -> 0 | AK29: =ROUND(AV94, 2) -> 0
F30: znížená | L30: 0.2 | W30: =ROUND(BA94, 2) -> 0 | AK30: =ROUND(AW94, 2) -> 0
F31: zákl. prenesená | L31: 0.2 | W31: =ROUND(BB94, 2) -> 0 | AK31: 0
F32: zníž. prenesená | L32: 0.2 | W32: =ROUND(BC94, 2) -> 0 | AK32: 0
F33: nulová | L33: 0 | W33: =ROUND(BD94, 2) -> 0 | AK33: 0
D35: Cena s DPH | T35: v | X35: EUR | AK35: =SUM(AK26:AK33) -> 0
D49: Projektant | AH49: Spracovateľ
D60: Dátum a podpis: | V60: Pečiatka | AH60: Dátum a podpis: | AM60: Pečiatka
D64: Objednávateľ | AH64: Zhotoviteľ
D75: Dátum a podpis: | V75: Pečiatka | AH75: Dátum a podpis: | AM75: Pečiatka
C82: REKAPITULÁCIA OBJEKTOV STAVBY
C85: Stavba: | L85: =K6 -> REVITALIZÁCIA ÚZEMIA HRADNÉHO KOPCA V NITRE
C87: Miesto: | L87: =IF(K8="","",K8) | AI87: Dátum: | AM87: =IF(AN8= "","",AN8) -> 18. 10. 2021
C89: Objednávateľ: | L89: =IF(E11= "","",E11) -> Mesto Nitra | AI89: Projektant: | AM89: =IF(E17="","",E17) -> Ing. arch. Martin Dulík AA | AS89: Informatívne údaje z listov zákaziek
C90: Zhotoviteľ: | L90: =IF(E14= "Vyplň údaj","",E14) | AI90: Spracovateľ: | AM90: =IF(E20="","",E20) -> Ing. arch. Martin Dulík
C92: Kód | I92: Popis | AG92: Cena bez DPH [EUR] | AN92: Cena s DPH [EUR] | AQ92: Typ | AS92: z toho Ostat._x000D_ náklady [EUR] | AT92: DPH [EUR] | AU92: Normohodiny [h] | AV92: DPH základná [EUR] | AW92: DPH znížená [EUR] | AX92: DPH základná prenesená_x000D_ [EUR] | AY92: DPH znížená prenesená_x000D_ [EUR] | AZ92: Základňa_x000D_ DPH základná | BA92: Základňa_x000D_ DPH znížená | BB92: Základňa_x000D_ DPH zákl. prenesená | BC92: Základňa_x000D_ DPH zníž. prenesená | BD92: Základňa_x000D_ DPH nulová
C94: Náklady z rozpočtov | AG94: =ROUND(SUM(AG95:AG111),2) -> 0 | AN94: =SUM(AG94,AT94) -> 0 | AS94: =ROUND(SUM(AS95:AS111),2) -> 0 | AT94: =ROUND(SUM(AV94:AW94),2) -> 0 | AU94: =ROUND(SUM(AU95:AU111),5) -> 0 | AV94: =ROUND(AZ94*L29,2) -> 0 | AW94: =ROUND(BA94*L30,2) -> 0 | AX94: =ROUND(BB94*L29,2) -> 0 | AY94: =ROUND(BC94*L30,2) -> 0 | AZ94: =ROUND(SUM(AZ95:AZ111),2) -> 0 | BA94: =ROUND(SUM(BA95:BA111),2) -> 0 | BB94: =ROUND(SUM(BB95:BB111),2) -> 0 | BC94: =ROUND(SUM(BC95:BC111),2) -> 0 | BD94: =ROUND(SUM(BD95:BD111),2) -> 0 | BS94: D | BT94: 0 | BU94: ###NOIMPORT### | BV94: IMPORT | BW94: {6f6699da-4551-4e6e-8b79-1dfcf8da807f} | BX94: {00000000-0000-0000-0000-000000000000}
...

Sheet 001 - Chodník A2
L2: >> skryté stĺpce << | AT2: {21be7f48-74d5-4076-9a0d-805d18e1cfa8}
AT3: 0
D4: KRYCÍ LIST ROZPOČTU | M4: v --- nižšie sa nachádzajú doplnkové a pomocné údaje k zostavám --- v | AT4: False
D6: Stavba:
E7: ='Rekapitulácia stavby'!K6 -> REVITALIZÁCIA ÚZEMIA HRADNÉHO KOPCA V NITRE
D8: Objekt:
E9: 001 - Chodník A2
D11: JKSO: | I11: KS:
D12: Miesto: | I12: Dátum: | J12: ='Rekapitulácia stavby'!AN8 -> 18. 10. 2021
D14: Objednávateľ: | I14: IČO:
E15: Mesto Nitra | I15: IČ DPH:
D17: Zhotoviteľ: | I17: IČO: | J17: ='Rekapitulácia stavby'!AN13 -> Vyplň údaj
E18: ='Rekapitulácia stavby'!E14 -> Vyplň údaj | I18: IČ DPH: | J18: ='Rekapitulácia stavby'!AN14 -> Vyplň údaj
D20: Projektant: | I20: IČO:
E21: Ing. arch. Martin Dulík AA | I21: IČ DPH:
D23: Spracovateľ: | I23: IČO:
E24: Ing. arch. Martin Dulík | I24: IČ DPH:
D26: Poznámka:
D30: Cena bez DPH | J30: =ROUND(J125, 2) -> 0
F32: Základ dane | I32: Sadzba dane | J32: Výška dane
D33: DPH | E33: základná | F33: =ROUND((SUM(BE125:BE172)), 2) -> 0 | I33: 0.2 | J33: =ROUND(((SUM(BE125:BE172))*I33), 2) -> 0
E34: znížená | F34: =ROUND((SUM(BF125:BF172)), 2) -> 0 | I34: 0.2 | J34: =ROUND(((SUM(BF125:BF172))*I34), 2) -> 0
E35: zákl. prenesená | F35: =ROUND((SUM(BG125:BG172)), 2) -> 0 | I35: 0.2 | J35: =0 -> 0
E36: zníž. prenesená | F36: =ROUND((SUM(BH125:BH172)), 2) -> 0 | I36: 0.2 | J36: =0 -> 0
E37: nulová | F37: =ROUND((SUM(BI125:BI172)), 2) -> 0 | I37: 0 | J37: =0 -> 0
D39: Cena s DPH | G39: v | H39: EUR | J39: =SUM(J30:J37) -> 0
D50: Projektant | G50: Spracovateľ
D61: Dátum a podpis: | F61: Pečiatka | G61: Dátum a podpis: | J61: Pečiatka
D65: Objednávateľ | G65: Zhotoviteľ
D76: Dátum a podpis: | F76: Pečiatka | G76: Dátum a podpis: | J76: Pečiatka
C82: REKAPITULÁCIA ROZPOČTU
C84: Stavba:
E85: =E7 -> REVITALIZÁCIA ÚZEMIA HRADNÉHO KOPCA V NITRE
C86: Objekt:
E87: =E9 -> 001 - Chodník A2
C89: Miesto: | F89: =F12 | I89: Dátum: | J89: =IF(J12="","",J12) -> 18. 10. 2021
C91: Objednávateľ: | F91: =E15 -> Mesto Nitra | I91: Projektant: | J91: =E21 -> Ing. arch. Martin Dulík AA
C92: Zhotoviteľ: | F92: =IF(E18="","",E18) -> Vyplň údaj | I92: Spracovateľ: | J92: =E24 -> Ing. arch. Martin Dulík
C94: Kód dielu - Popis | J94: Cena celkom [EUR]
C96: Náklady z rozpočtu | J96: =J125 -> 0 | AU96: -1
...

Sheet 002 - Chodník A3
L2: >> skryté stĺpce << | AT2: {5b7bd9fc-0efd-4f31-b385-578181154b79}
AT3: 0
D4: KRYCÍ LIST ROZPOČTU | M4: v --- nižšie sa nachádzajú doplnkové a pomocné údaje k zostavám --- v | AT4: False
D6: Stavba:
E7: ='Rekapitulácia stavby'!K6 -> REVITALIZÁCIA ÚZEMIA HRADNÉHO KOPCA V NITRE
D8: Objekt:
E9: 002 - Chodník A3
D11: JKSO: | I11: KS:
D12: Miesto: | I12: Dátum: | J12: ='Rekapitulácia stavby'!AN8 -> 18. 10. 2021
D14: Objednávateľ: | I14: IČO:
E15: Mesto Nitra | I15: IČ DPH:
D17: Zhotoviteľ: | I17: IČO: | J17: ='Rekapitulácia stavby'!AN13 -> Vyplň údaj
E18: ='Rekapitulácia stavby'!E14 -> Vyplň údaj | I18: IČ DPH: | J18: ='Rekapitulácia stavby'!AN14 -> Vyplň údaj
D20: Projektant: | I20: IČO:
E21: Ing. arch. Martin Dulík AA | I21: IČ DPH:
D23: Spracovateľ: | I23: IČO:
E24: Ing. arch. Martin Dulík | I24: IČ DPH:
D26: Poznámka:
D30: Cena bez DPH | J30: =ROUND(J122, 2) -> 0
F32: Základ dane | I32: Sadzba dane | J32: Výška dane
D33: DPH | E33: základná | F33: =ROUND((SUM(BE122:BE152)), 2) -> 0 | I33: 0.2 | J33: =ROUND(((SUM(BE122:BE152))*I33), 2) -> 0
E34: znížená | F34: =ROUND((SUM(BF122:BF152)), 2) -> 0 | I34: 0.2 | J34: =ROUND(((SUM(BF122:BF152))*I34), 2) -> 0
E35: zákl. prenesená | F35: =ROUND((SUM(BG122:BG152)), 2) -> 0 | I35: 0.2 | J35: =0 -> 0
E36: zníž. prenesená | F36: =ROUND((SUM(BH122:BH152)), 2) -> 0 | I36: 0.2 | J36: =0 -> 0
E37: nulová | F37: =ROUND((SUM(BI122:BI152)), 2) -> 0 | I37: 0 | J37: =0 -> 0
D39: Cena s DPH | G39: v | H39: EUR | J39: =SUM(J30:J37) -> 0
D50: Projektant | G50: Spracovateľ
D61: Dátum a podpis: | F61: Pečiatka | G61: Dátum a podpis: | J61: Pečiatka
D65: Objednávateľ | G65: Zhotoviteľ
D76: Dátum a podpis: | F76: Pečiatka | G76: Dátum a podpis: | J76: Pečiatka
C82: REKAPITULÁCIA ROZPOČTU
C84: Stavba:
E85: =E7 -> REVITALIZÁCIA ÚZEMIA HRADNÉHO KOPCA V NITRE
C86: Objekt:
E87: =E9 -> 002 - Chodník A3
C89: Miesto: | F89: =F12 | I89: Dátum: | J89: =IF(J12="","",J12) -> 18. 10. 2021
C91: Objednávateľ: | F91: =E15 -> Mesto Nitra | I91: Projektant: | J91: =E21 -> Ing. arch. Martin Dulík AA
C92: Zhotoviteľ: | F92: =IF(E18="","",E18) -> Vyplň údaj | I92: Spracovateľ: | J92: =E24 -> Ing. arch. Martin Dulík
C94: Kód dielu - Popis | J94: Cena celkom [EUR]
C96: Náklady z rozpočtu | J96: =J122 -> 0 | AU96: -1
...

Sheet 003 - Chodník A4
L2: >> skryté stĺpce << | AT2: {3e00772e-795d-4d82-bd13-f25bdc46b836}
AT3: 0
D4: KRYCÍ LIST ROZPOČTU | M4: v --- nižšie sa nachádzajú doplnkové a pomocné údaje k zostavám --- v | AT4: False
D6: Stavba:
E7: ='Rekapitulácia stavby'!K6 -> REVITALIZÁCIA ÚZEMIA HRADNÉHO KOPCA V NITRE
D8: Objekt:
E9: 003 - Chodník A4
D11: JKSO: | I11: KS:
D12: Miesto: | I12: Dátum: | J12: ='Rekapitulácia stavby'!AN8 -> 18. 10. 2021
D14: Objednávateľ: | I14: IČO:
E15: Mesto Nitra | I15: IČ DPH:
D17: Zhotoviteľ: | I17: IČO: | J17: ='Rekapitulácia stavby'!AN13 -> Vyplň údaj
E18: ='Rekapitulácia stavby'!E14 -> Vyplň údaj | I18: IČ DPH: | J18: ='Rekapitulácia stavby'!AN14 -> Vyplň údaj
D20: Projektant: | I20: IČO:
E21: Ing. arch. Martin Dulík AA | I21: IČ DPH:
D23: Spracovateľ: | I23: IČO:
E24: Ing. arch. Martin Dulík | I24: IČ DPH:
D26: Poznámka:
D30: Cena bez DPH | J30: =ROUND(J123, 2) -> 0
F32: Základ dane | I32: Sadzba dane | J32: Výška dane
D33: DPH | E33: základná | F33: =ROUND((SUM(BE123:BE156)), 2) -> 0 | I33: 0.2 | J33: =ROUND(((SUM(BE123:BE156))*I33), 2) -> 0
E34: znížená | F34: =ROUND((SUM(BF123:BF156)), 2) -> 0 | I34: 0.2 | J34: =ROUND(((SUM(BF123:BF156))*I34), 2) -> 0
E35: zákl. prenesená | F35: =ROUND((SUM(BG123:BG156)), 2) -> 0 | I35: 0.2 | J35: =0 -> 0
E36: zníž. prenesená | F36: =ROUND((SUM(BH123:BH156)), 2) -> 0 | I36: 0.2 | J36: =0 -> 0
E37: nulová | F37: =ROUND((SUM(BI123:BI156)), 2) -> 0 | I37: 0 | J37: =0 -> 0
D39: Cena s DPH | G39: v | H39: EUR | J39: =SUM(J30:J37) -> 0
D50: Projektant | G50: Spracovateľ
D61: Dátum a podpis: | F61: Pečiatka | G61: Dátum a podpis: | J61: Pečiatka
D65: Objednávateľ | G65: Zhotoviteľ
D76: Dátum a podpis: | F76: Pečiatka | G76: Dátum a podpis: | J76: Pečiatka
C82: REKAPITULÁCIA ROZPOČTU
C84: Stavba:
E85: =E7 -> REVITALIZÁCIA ÚZEMIA HRADNÉHO KOPCA V NITRE
C86: Objekt:
E87: =E9 -> 003 - Chodník A4
C89: Miesto: | F89: =F12 | I89: Dátum: | J89: =IF(J12="","",J12) -> 18. 10. 2021
C91: Objednávateľ: | F91: =E15 -> Mesto Nitra | I91: Projektant: | J91: =E21 -> Ing. arch. Martin Dulík AA
C92: Zhotoviteľ: | F92: =IF(E18="","",E18) -> Vyplň údaj | I92: Spracovateľ: | J92: =E24 -> Ing. arch. Martin Dulík
C94: Kód dielu - Popis | J94: Cena celkom [EUR]
C96: Náklady z rozpočtu | J96: =J123 -> 0 | AU96: -1
...

Sheet 004 - Chodník A5
L2: >> skryté stĺpce << | AT2: {24127c46-34af-4d3b-a26a-32d5e7a39d98}
AT3: 0
D4: KRYCÍ LIST ROZPOČTU | M4: v --- nižšie sa nachádzajú doplnkové a pomocné údaje k zostavám --- v | AT4: False
D6: Stavba:
E7: ='Rekapitulácia stavby'!K6 -> REVITALIZÁCIA ÚZEMIA HRADNÉHO KOPCA V NITRE
D8: Objekt:
E9: 004 - Chodník A5
D11: JKSO: | I11: KS:
D12: Miesto: | I12: Dátum: | J12: ='Rekapitulácia stavby'!AN8 -> 18. 10. 2021
D14: Objednávateľ: | I14: IČO:
E15: Mesto Nitra | I15: IČ DPH:
D17: Zhotoviteľ: | I17: IČO: | J17: ='Rekapitulácia stavby'!AN13 -> Vyplň údaj
E18: ='Rekapitulácia stavby'!E14 -> Vyplň údaj | I18: IČ DPH: | J18: ='Rekapitulácia stavby'!AN14 -> Vyplň údaj
D20: Projektant: | I20: IČO:
E21: Ing. arch. Martin Dulík AA | I21: IČ DPH:
D23: Spracovateľ: | I23: IČO:
E24: Ing. arch. Martin Dulík | I24: IČ DPH:
D26: Poznámka:
D30: Cena bez DPH | J30: =ROUND(J125, 2) -> 0
F32: Základ dane | I32: Sadzba dane | J32: Výška dane
D33: DPH | E33: základná | F33: =ROUND((SUM(BE125:BE171)), 2) -> 0 | I33: 0.2 | J33: =ROUND(((SUM(BE125:BE171))*I33), 2) -> 0
E34: znížená | F34: =ROUND((SUM(BF125:BF171)), 2) -> 0 | I34: 0.2 | J34: =ROUND(((SUM(BF125:BF171))*I34), 2) -> 0
E35: zákl. prenesená | F35: =ROUND((SUM(BG125:BG171)), 2) -> 0 | I35: 0.2 | J35: =0 -> 0
E36: zníž. prenesená | F36: =ROUND((SUM(BH125:BH171)), 2) -> 0 | I36: 0.2 | J36: =0 -> 0
E37: nulová | F37: =ROUND((SUM(BI125:BI171)), 2) -> 0 | I37: 0 | J37: =0 -> 0
D39: Cena s DPH | G39: v | H39: EUR | J39: =SUM(J30:J37) -> 0
D50: Projektant | G50: Spracovateľ
D61: Dátum a podpis: | F61: Pečiatka | G61: Dátum a podpis: | J61: Pečiatka
D65: Objednávateľ | G65: Zhotoviteľ
D76: Dátum a podpis: | F76: Pečiatka | G76: Dátum a podpis: | J76: Pečiatka
C82: REKAPITULÁCIA ROZPOČTU
C84: Stavba:
E85: =E7 -> REVITALIZÁCIA ÚZEMIA HRADNÉHO KOPCA V NITRE
C86: Objekt:
E87: =E9 -> 004 - Chodník A5
C89: Miesto: | F89: =F12 | I89: Dátum: | J89: =IF(J12="","",J12) -> 18. 10. 2021
C91: Objednávateľ: | F91: =E15 -> Mesto Nitra | I91: Projektant: | J91: =E21 -> Ing. arch. Martin Dulík AA
C92: Zhotoviteľ: | F92: =IF(E18="","",E18) -> Vyplň údaj | I92: Spracovateľ: | J92: =E24 -> Ing. arch. Martin Dulík
C94: Kód dielu - Popis | J94: Cena celkom [EUR]
C96: Náklady z rozpočtu | J96: =J125 -> 0 | AU96: -1
...

Sheet 005 - Chodník A6
L2: >> skryté stĺpce << | AT2: {855faa37-0a5c-4d35-ad1c-40cc5c6fce90}
AT3: 0
D4: KRYCÍ LIST ROZPOČTU | M4: v --- nižšie sa nachádzajú doplnkové a pomocné údaje k zostavám --- v | AT4: False
D6: Stavba:
E7: ='Rekapitulácia stavby'!K6 -> REVITALIZÁCIA ÚZEMIA HRADNÉHO KOPCA V NITRE
D8: Objekt:
E9: 005 - Chodník A6
D11: JKSO: | I11: KS:
D12: Miesto: | I12: Dátum: | J12: ='Rekapitulácia stavby'!AN8 -> 18. 10. 2021
D14: Objednávateľ: | I14: IČO:
E15: Mesto Nitra | I15: IČ DPH:
D17: Zhotoviteľ: | I17: IČO: | J17: ='Rekapitulácia stavby'!AN13 -> Vyplň údaj
E18: ='Rekapitulácia stavby'!E14 -> Vyplň údaj | I18: IČ DPH: | J18: ='Rekapitulácia stavby'!AN14 -> Vyplň údaj
D20: Projektant: | I20: IČO:
E21: Ing. arch. Martin Dulík AA | I21: IČ DPH:
D23: Spracovateľ: | I23: IČO:
E24: Ing. arch. Martin Dulík | I24: IČ DPH:
D26: Poznámka:
D30: Cena bez DPH | J30: =ROUND(J125, 2) -> 0
F32: Základ dane | I32: Sadzba dane | J32: Výška dane
D33: DPH | E33: základná | F33: =ROUND((SUM(BE125:BE167)), 2) -> 0 | I33: 0.2 | J33: =ROUND(((SUM(BE125:BE167))*I33), 2) -> 0
E34: znížená | F34: =ROUND((SUM(BF125:BF167)), 2) -> 0 | I34: 0.2 | J34: =ROUND(((SUM(BF125:BF167))*I34), 2) -> 0
E35: zákl. prenesená | F35: =ROUND((SUM(BG125:BG167)), 2) -> 0 | I35: 0.2 | J35: =0 -> 0
E36: zníž. prenesená | F36: =ROUND((SUM(BH125:BH167)), 2) -> 0 | I36: 0.2 | J36: =0 -> 0
E37: nulová | F37: =ROUND((SUM(BI125:BI167)), 2) -> 0 | I37: 0 | J37: =0 -> 0
D39: Cena s DPH | G39: v | H39: EUR | J39: =SUM(J30:J37) -> 0
D50: Projektant | G50: Spracovateľ
D61: Dátum a podpis: | F61: Pečiatka | G61: Dátum a podpis: | J61: Pečiatka
D65: Objednávateľ | G65: Zhotoviteľ
D76: Dátum a podpis: | F76: Pečiatka | G76: Dátum a podpis: | J76: Pečiatka
C82: REKAPITULÁCIA ROZPOČTU
C84: Stavba:
E85: =E7 -> REVITALIZÁCIA ÚZEMIA HRADNÉHO KOPCA V NITRE
C86: Objekt:
E87: =E9 -> 005 - Chodník A6
C89: Miesto: | F89: =F12 | I89: Dátum: | J89: =IF(J12="","",J12) -> 18. 10. 2021
C91: Objednávateľ: | F91: =E15 -> Mesto Nitra | I91: Projektant: | J91: =E21 -> Ing. arch. Martin Dulík AA
C92: Zhotoviteľ: | F92: =IF(E18="","",E18) -> Vyplň údaj | I92: Spracovateľ: | J92: =E24 -> Ing. arch. Martin Dulík
C94: Kód dielu - Popis | J94: Cena celkom [EUR]
C96: Náklady z rozpočtu | J96: =J125 -> 0 | AU96: -1
...

Sheet 006 - Chodník A7
L2: >> skryté stĺpce << | AT2: {f004e98b-b8fb-46fa-9165-4ac9ca6aef9c}
AT3: 0
D4: KRYCÍ LIST ROZPOČTU | M4: v --- nižšie sa nachádzajú doplnkové a pomocné údaje k zostavám --- v | AT4: False
D6: Stavba:
E7: ='Rekapitulácia stavby'!K6 -> REVITALIZÁCIA ÚZEMIA HRADNÉHO KOPCA V NITRE
D8: Objekt:
E9: 006 - Chodník A7
D11: JKSO: | I11: KS:
D12: Miesto: | I12: Dátum: | J12: ='Rekapitulácia stavby'!AN8 -> 18. 10. 2021
D14: Objednávateľ: | I14: IČO:
E15: Mesto Nitra | I15: IČ DPH:
D17: Zhotoviteľ: | I17: IČO: | J17: ='Rekapitulácia stavby'!AN13 -> Vyplň údaj
E18: ='Rekapitulácia stavby'!E14 -> Vyplň údaj | I18: IČ DPH: | J18: ='Rekapitulácia stavby'!AN14 -> Vyplň údaj
D20: Projektant: | I20: IČO:
E21: Ing. arch. Martin Dulík AA | I21: IČ DPH:
D23: Spracovateľ: | I23: IČO:
E24: Ing. arch. Martin Dulík | I24: IČ DPH:
D26: Poznámka:
D30: Cena bez DPH | J30: =ROUND(J126, 2) -> 0
F32: Základ dane | I32: Sadzba dane | J32: Výška dane
D33: DPH | E33: základná | F33: =ROUND((SUM(BE126:BE178)), 2) -> 0 | I33: 0.2 | J33: =ROUND(((SUM(BE126:BE178))*I33), 2) -> 0
E34: znížená | F34: =ROUND((SUM(BF126:BF178)), 2) -> 0 | I34: 0.2 | J34: =ROUND(((SUM(BF126:BF178))*I34), 2) -> 0
E35: zákl. prenesená | F35: =ROUND((SUM(BG126:BG178)), 2) -> 0 | I35: 0.2 | J35: =0 -> 0
E36: zníž. prenesená | F36: =ROUND((SUM(BH126:BH178)), 2) -> 0 | I36: 0.2 | J36: =0 -> 0
E37: nulová | F37: =ROUND((SUM(BI126:BI178)), 2) -> 0 | I37: 0 | J37: =0 -> 0
D39: Cena s DPH | G39: v | H39: EUR | J39: =SUM(J30:J37) -> 0
D50: Projektant | G50: Spracovateľ
D61: Dátum a podpis: | F61: Pečiatka | G61: Dátum a podpis: | J61: Pečiatka
D65: Objednávateľ | G65: Zhotoviteľ
D76: Dátum a podpis: | F76: Pečiatka | G76: Dátum a podpis: | J76: Pečiatka
C82: REKAPITULÁCIA ROZPOČTU
C84: Stavba:
E85: =E7 -> REVITALIZÁCIA ÚZEMIA HRADNÉHO KOPCA V NITRE
C86: Objekt:
E87: =E9 -> 006 - Chodník A7
C89: Miesto: | F89: =F12 | I89: Dátum: | J89: =IF(J12="","",J12) -> 18. 10. 2021
C91: Objednávateľ: | F91: =E15 -> Mesto Nitra | I91: Projektant: | J91: =E21 -> Ing. arch. Martin Dulík AA
C92: Zhotoviteľ: | F92: =IF(E18="","",E18) -> Vyplň údaj | I92: Spracovateľ: | J92: =E24 -> Ing. arch. Martin Dulík
C94: Kód dielu - Popis | J94: Cena celkom [EUR]
C96: Náklady z rozpočtu | J96: =J126 -> 0 | AU96: -1
...

Sheet 007 - Chodník A8
L2: >> skryté stĺpce << | AT2: {d4d3ef33-331e-4236-b446-041abc156f25}
AT3: 0
D4: KRYCÍ LIST ROZPOČTU | M4: v --- nižšie sa nachádzajú doplnkové a pomocné údaje k zostavám --- v | AT4: False
D6: Stavba:
E7: ='Rekapitulácia stavby'!K6 -> REVITALIZÁCIA ÚZEMIA HRADNÉHO KOPCA V NITRE
D8: Objekt:
E9: 007 - Chodník A8
D11: JKSO: | I11: KS:
D12: Miesto: | I12: Dátum: | J12: ='Rekapitulácia stavby'!AN8 -> 18. 10. 2021
D14: Objednávateľ: | I14: IČO:
E15: Mesto Nitra | I15: IČ DPH:
D17: Zhotoviteľ: | I17: IČO: | J17: ='Rekapitulácia stavby'!AN13 -> Vyplň údaj
E18: ='Rekapitulácia stavby'!E14 -> Vyplň údaj | I18: IČ DPH: | J18: ='Rekapitulácia stavby'!AN14 -> Vyplň údaj
D20: Projektant: | I20: IČO:
E21: Ing. arch. Martin Dulík AA | I21: IČ DPH:
D23: Spracovateľ: | I23: IČO:
E24: Ing. arch. Martin Dulík | I24: IČ DPH:
D26: Poznámka:
D30: Cena bez DPH | J30: =ROUND(J122, 2) -> 0
F32: Základ dane | I32: Sadzba dane | J32: Výška dane
D33: DPH | E33: základná | F33: =ROUND((SUM(BE122:BE150)), 2) -> 0 | I33: 0.2 | J33: =ROUND(((SUM(BE122:BE150))*I33), 2) -> 0
E34: znížená | F34: =ROUND((SUM(BF122:BF150)), 2) -> 0 | I34: 0.2 | J34: =ROUND(((SUM(BF122:BF150))*I34), 2) -> 0
E35: zákl. prenesená | F35: =ROUND((SUM(BG122:BG150)), 2) -> 0 | I35: 0.2 | J35: =0 -> 0
E36: zníž. prenesená | F36: =ROUND((SUM(BH122:BH150)), 2) -> 0 | I36: 0.2 | J36: =0 -> 0
E37: nulová | F37: =ROUND((SUM(BI122:BI150)), 2) -> 0 | I37: 0 | J37: =0 -> 0
D39: Cena s DPH | G39: v | H39: EUR | J39: =SUM(J30:J37) -> 0
D50: Projektant | G50: Spracovateľ
D61: Dátum a podpis: | F61: Pečiatka | G61: Dátum a podpis: | J61: Pečiatka
D65: Objednávateľ | G65: Zhotoviteľ
D76: Dátum a podpis: | F76: Pečiatka | G76: Dátum a podpis: | J76: Pečiatka
C82: REKAPITULÁCIA ROZPOČTU
C84: Stavba:
E85: =E7 -> REVITALIZÁCIA ÚZEMIA HRADNÉHO KOPCA V NITRE
C86: Objekt:
E87: =E9 -> 007 - Chodník A8
C89: Miesto: | F89: =F12 | I89: Dátum: | J89: =IF(J12="","",J12) -> 18. 10. 2021
C91: Objednávateľ: | F91: =E15 -> Mesto Nitra | I91: Projektant: | J91: =E21 -> Ing. arch. Martin Dulík AA
C92: Zhotoviteľ: | F92: =IF(E18="","",E18) -> Vyplň údaj | I92: Spracovateľ: | J92: =E24 -> Ing. arch. Martin Dulík
C94: Kód dielu - Popis | J94: Cena celkom [EUR]
C96: Náklady z rozpočtu | J96: =J122 -> 0 | AU96: -1
...

Sheet 008 - Chodník A9
L2: >> skryté stĺpce << | AT2: {3d4f2b3d-c776-442f-a108-947a058e5a9b}
AT3: 0
D4: KRYCÍ LIST ROZPOČTU | M4: v --- nižšie sa nachádzajú doplnkové a pomocné údaje k zostavám --- v | AT4: False
D6: Stavba:
E7: ='Rekapitulácia stavby'!K6 -> REVITALIZÁCIA ÚZEMIA HRADNÉHO KOPCA V NITRE
D8: Objekt:
E9: 008 - Chodník A9
D11: JKSO: | I11: KS:
D12: Miesto: | I12: Dátum: | J12: ='Rekapitulácia stavby'!AN8 -> 18. 10. 2021
D14: Objednávateľ: | I14: IČO:
E15: Mesto Nitra | I15: IČ DPH:
D17: Zhotoviteľ: | I17: IČO: | J17: ='Rekapitulácia stavby'!AN13 -> Vyplň údaj
E18: ='Rekapitulácia stavby'!E14 -> Vyplň údaj | I18: IČ DPH: | J18: ='Rekapitulácia stavby'!AN14 -> Vyplň údaj
D20: Projektant: | I20: IČO:
E21: Ing. arch. Martin Dulík AA | I21: IČ DPH:
D23: Spracovateľ: | I23: IČO:
E24: Ing. arch. Martin Dulík | I24: IČ DPH:
D26: Poznámka:
D30: Cena bez DPH | J30: =ROUND(J124, 2) -> 0
F32: Základ dane | I32: Sadzba dane | J32: Výška dane
D33: DPH | E33: základná | F33: =ROUND((SUM(BE124:BE161)), 2) -> 0 | I33: 0.2 | J33: =ROUND(((SUM(BE124:BE161))*I33), 2) -> 0
E34: znížená | F34: =ROUND((SUM(BF124:BF161)), 2) -> 0 | I34: 0.2 | J34: =ROUND(((SUM(BF124:BF161))*I34), 2) -> 0
E35: zákl. prenesená | F35: =ROUND((SUM(BG124:BG161)), 2) -> 0 | I35: 0.2 | J35: =0 -> 0
E36: zníž. prenesená | F36: =ROUND((SUM(BH124:BH161)), 2) -> 0 | I36: 0.2 | J36: =0 -> 0
E37: nulová | F37: =ROUND((SUM(BI124:BI161)), 2) -> 0 | I37: 0 | J37: =0 -> 0
D39: Cena s DPH | G39: v | H39: EUR | J39: =SUM(J30:J37) -> 0
D50: Projektant | G50: Spracovateľ
D61: Dátum a podpis: | F61: Pečiatka | G61: Dátum a podpis: | J61: Pečiatka
D65: Objednávateľ | G65: Zhotoviteľ
D76: Dátum a podpis: | F76: Pečiatka | G76: Dátum a podpis: | J76: Pečiatka
C82: REKAPITULÁCIA ROZPOČTU
C84: Stavba:
E85: =E7 -> REVITALIZÁCIA ÚZEMIA HRADNÉHO KOPCA V NITRE
C86: Objekt:
E87: =E9 -> 008 - Chodník A9
C89: Miesto: | F89: =F12 | I89: Dátum: | J89: =IF(J12="","",J12) -> 18. 10. 2021
C91: Objednávateľ: | F91: =E15 -> Mesto Nitra | I91: Projektant: | J91: =E21 -> Ing. arch. Martin Dulík AA
C92: Zhotoviteľ: | F92: =IF(E18="","",E18) -> Vyplň údaj | I92: Spracovateľ: | J92: =E24 -> Ing. arch. Martin Dulík
C94: Kód dielu - Popis | J94: Cena celkom [EUR]
C96: Náklady z rozpočtu | J96: =J124 -> 0 | AU96: -1
...

Sheet 009 - Objekt B - Schodisk...
L2: >> skryté stĺpce << | AT2: {ba344a6b-ca2e-4fda-ba42-dc12e6afe495}
AT3: 0
D4: KRYCÍ LIST ROZPOČTU | M4: v --- nižšie sa nachádzajú doplnkové a pomocné údaje k zostavám --- v | AT4: False
D6: Stavba:
E7: ='Rekapitulácia stavby'!K6 -> REVITALIZÁCIA ÚZEMIA HRADNÉHO KOPCA V NITRE
D8: Objekt:
E9: 009 - Objekt B - Schodisko pod skalkou
D11: JKSO: | I11: KS:
D12: Miesto: | I12: Dátum: | J12: ='Rekapitulácia stavby'!AN8 -> 18. 10. 2021
D14: Objednávateľ: | I14: IČO:
E15: Mesto Nitra | I15: IČ DPH:
D17: Zhotoviteľ: | I17: IČO: | J17: ='Rekapitulácia stavby'!AN13 -> Vyplň údaj
E18: ='Rekapitulácia stavby'!E14 -> Vyplň údaj | I18: IČ DPH: | J18: ='Rekapitulácia stavby'!AN14 -> Vyplň údaj
D20: Projektant: | I20: IČO:
E21: Ing. arch. Martin Dulík AA | I21: IČ DPH:
D23: Spracovateľ: | I23: IČO:
E24: Ing. arch. Martin Dulík | I24: IČ DPH:
D26: Poznámka:
D30: Cena bez DPH | J30: =ROUND(J127, 2) -> 0
F32: Základ dane | I32: Sadzba dane | J32: Výška dane
D33: DPH | E33: základná | F33: =ROUND((SUM(BE127:BE172)), 2) -> 0 | I33: 0.2 | J33: =ROUND(((SUM(BE127:BE172))*I33), 2) -> 0
E34: znížená | F34: =ROUND((SUM(BF127:BF172)), 2) -> 0 | I34: 0.2 | J34: =ROUND(((SUM(BF127:BF172))*I34), 2) -> 0
E35: zákl. prenesená | F35: =ROUND((SUM(BG127:BG172)), 2) -> 0 | I35: 0.2 | J35: =0 -> 0
E36: zníž. prenesená | F36: =ROUND((SUM(BH127:BH172)), 2) -> 0 | I36: 0.2 | J36: =0 -> 0
E37: nulová | F37: =ROUND((SUM(BI127:BI172)), 2) -> 0 | I37: 0 | J37: =0 -> 0
D39: Cena s DPH | G39: v | H39: EUR | J39: =SUM(J30:J37) -> 0
D50: Projektant | G50: Spracovateľ
D61: Dátum a podpis: | F61: Pečiatka | G61: Dátum a podpis: | J61: Pečiatka
D65: Objednávateľ | G65: Zhotoviteľ
D76: Dátum a podpis: | F76: Pečiatka | G76: Dátum a podpis: | J76: Pečiatka
C82: REKAPITULÁCIA ROZPOČTU
C84: Stavba:
E85: =E7 -> REVITALIZÁCIA ÚZEMIA HRADNÉHO KOPCA V NITRE
C86: Objekt:
E87: =E9 -> 009 - Objekt B - Schodisko pod skalkou
C89: Miesto: | F89: =F12 | I89: Dátum: | J89: =IF(J12="","",J12) -> 18. 10. 2021
C91: Objednávateľ: | F91: =E15 -> Mesto Nitra | I91: Projektant: | J91: =E21 -> Ing. arch. Martin Dulík AA
C92: Zhotoviteľ: | F92: =IF(E18="","",E18) -> Vyplň údaj | I92: Spracovateľ: | J92: =E24 -> Ing. arch. Martin Dulík
C94: Kód dielu - Popis | J94: Cena celkom [EUR]
C96: Náklady z rozpočtu | J96: =J127 -> 0 | AU96: -1
...

Sheet 010 - Objekt C - Schodisk...
L2: >> skryté stĺpce << | AT2: {505c3fea-912d-4bea-aec0-7f463676132b}
AT3: 0
D4: KRYCÍ LIST ROZPOČTU | M4: v --- nižšie sa nachádzajú doplnkové a pomocné údaje k zostavám --- v | AT4: False
D6: Stavba:
E7: ='Rekapitulácia stavby'!K6 -> REVITALIZÁCIA ÚZEMIA HRADNÉHO KOPCA V NITRE
D8: Objekt:
E9: 010 - Objekt C - Schodisko pod jaskyňou
D11: JKSO: | I11: KS:
D12: Miesto: | I12: Dátum: | J12: ='Rekapitulácia stavby'!AN8 -> 18. 10. 2021
D14: Objednávateľ: | I14: IČO:
E15: Mesto Nitra | I15: IČ DPH:
D17: Zhotoviteľ: | I17: IČO: | J17: ='Rekapitulácia stavby'!AN13 -> Vyplň údaj
E18: ='Rekapitulácia stavby'!E14 -> Vyplň údaj | I18: IČ DPH: | J18: ='Rekapitulácia stavby'!AN14 -> Vyplň údaj
D20: Projektant: | I20: IČO:
E21: Ing. arch. Martin Dulík AA | I21: IČ DPH:
D23: Spracovateľ: | I23: IČO:
E24: Ing. arch. Martin Dulík | I24: IČ DPH:
D26: Poznámka:
D30: Cena bez DPH | J30: =ROUND(J128, 2) -> 0
F32: Základ dane | I32: Sadzba dane | J32: Výška dane
D33: DPH | E33: základná | F33: =ROUND((SUM(BE128:BE182)), 2) -> 0 | I33: 0.2 | J33: =ROUND(((SUM(BE128:BE182))*I33), 2) -> 0
E34: znížená | F34: =ROUND((SUM(BF128:BF182)), 2) -> 0 | I34: 0.2 | J34: =ROUND(((SUM(BF128:BF182))*I34), 2) -> 0
E35: zákl. prenesená | F35: =ROUND((SUM(BG128:BG182)), 2) -> 0 | I35: 0.2 | J35: =0 -> 0
E36: zníž. prenesená | F36: =ROUND((SUM(BH128:BH182)), 2) -> 0 | I36: 0.2 | J36: =0 -> 0
E37: nulová | F37: =ROUND((SUM(BI128:BI182)), 2) -> 0 | I37: 0 | J37: =0 -> 0
D39: Cena s DPH | G39: v | H39: EUR | J39: =SUM(J30:J37) -> 0
D50: Projektant | G50: Spracovateľ
D61: Dátum a podpis: | F61: Pečiatka | G61: Dátum a podpis: | J61: Pečiatka
D65: Objednávateľ | G65: Zhotoviteľ
D76: Dátum a podpis: | F76: Pečiatka | G76: Dátum a podpis: | J76: Pečiatka
C82: REKAPITULÁCIA ROZPOČTU
C84: Stavba:
E85: =E7 -> REVITALIZÁCIA ÚZEMIA HRADNÉHO KOPCA V NITRE
C86: Objekt:
E87: =E9 -> 010 - Objekt C - Schodisko pod jaskyňou
C89: Miesto: | F89: =F12 | I89: Dátum: | J89: =IF(J12="","",J12) -> 18. 10. 2021
C91: Objednávateľ: | F91: =E15 -> Mesto Nitra | I91: Projektant: | J91: =E21 -> Ing. arch. Martin Dulík AA
C92: Zhotoviteľ: | F92: =IF(E18="","",E18) -> Vyplň údaj | I92: Spracovateľ: | J92: =E24 -> Ing. arch. Martin Dulík
C94: Kód dielu - Popis | J94: Cena celkom [EUR]
C96: Náklady z rozpočtu | J96: =J128 -> 0 | AU96: -1
...

Sheet 011 - Objekt D - Mostík
L2: >> skryté stĺpce << | AT2: {585f0d36-cace-4657-90e4-3195fe6a5369}
AT3: 0
D4: KRYCÍ LIST ROZPOČTU | M4: v --- nižšie sa nachádzajú doplnkové a pomocné údaje k zostavám --- v | AT4: False
D6: Stavba:
E7: ='Rekapitulácia stavby'!K6 -> REVITALIZÁCIA ÚZEMIA HRADNÉHO KOPCA V NITRE
D8: Objekt:
E9: 011 - Objekt D - Mostík
D11: JKSO: | I11: KS:
D12: Miesto: | I12: Dátum: | J12: ='Rekapitulácia stavby'!AN8 -> 18. 10. 2021
D14: Objednávateľ: | I14: IČO:
E15: Mesto Nitra | I15: IČ DPH:
D17: Zhotoviteľ: | I17: IČO: | J17: ='Rekapitulácia stavby'!AN13 -> Vyplň údaj
E18: ='Rekapitulácia stavby'!E14 -> Vyplň údaj | I18: IČ DPH: | J18: ='Rekapitulácia stavby'!AN14 -> Vyplň údaj
D20: Projektant: | I20: IČO:
E21: Ing. arch. Martin Dulík AA | I21: IČ DPH:
D23: Spracovateľ: | I23: IČO:
E24: Ing. arch. Martin Dulík | I24: IČ DPH:
D26: Poznámka:
D30: Cena bez DPH | J30: =ROUND(J125, 2) -> 0
F32: Základ dane | I32: Sadzba dane | J32: Výška dane
D33: DPH | E33: základná | F33: =ROUND((SUM(BE125:BE166)), 2) -> 0 | I33: 0.2 | J33: =ROUND(((SUM(BE125:BE166))*I33), 2) -> 0
E34: znížená | F34: =ROUND((SUM(BF125:BF166)), 2) -> 0 | I34: 0.2 | J34: =ROUND(((SUM(BF125:BF166))*I34), 2) -> 0
E35: zákl. prenesená | F35: =ROUND((SUM(BG125:BG166)), 2) -> 0 | I35: 0.2 | J35: =0 -> 0
E36: zníž. prenesená | F36: =ROUND((SUM(BH125:BH166)), 2) -> 0 | I36: 0.2 | J36: =0 -> 0
E37: nulová | F37: =ROUND((SUM(BI125:BI166)), 2) -> 0 | I37: 0 | J37: =0 -> 0
D39: Cena s DPH | G39: v | H39: EUR | J39: =SUM(J30:J37) -> 0
D50: Projektant | G50: Spracovateľ
D61: Dátum a podpis: | F61: Pečiatka | G61: Dátum a podpis: | J61: Pečiatka
D65: Objednávateľ | G65: Zhotoviteľ
D76: Dátum a podpis: | F76: Pečiatka | G76: Dátum a podpis: | J76: Pečiatka
C82: REKAPITULÁCIA ROZPOČTU
C84: Stavba:
E85: =E7 -> REVITALIZÁCIA ÚZEMIA HRADNÉHO KOPCA V NITRE
C86: Objekt:
E87: =E9 -> 011 - Objekt D - Mostík
C89: Miesto: | F89: =F12 | I89: Dátum: | J89: =IF(J12="","",J12) -> 18. 10. 2021
C91: Objednávateľ: | F91: =E15 -> Mesto Nitra | I91: Projektant: | J91: =E21 -> Ing. arch. Martin Dulík AA
C92: Zhotoviteľ: | F92: =IF(E18="","",E18) -> Vyplň údaj | I92: Spracovateľ: | J92: =E24 -> Ing. arch. Martin Dulík
C94: Kód dielu - Popis | J94: Cena celkom [EUR]
C96: Náklady z rozpočtu | J96: =J125 -> 0 | AU96: -1
...

Sheet 012 - Objekt E - Schodisk...
L2: >> skryté stĺpce << | AT2: {5c1a72fe-67ed-471f-a75b-0dc465276b20}
AT3: 0
D4: KRYCÍ LIST ROZPOČTU | M4: v --- nižšie sa nachádzajú doplnkové a pomocné údaje k zostavám --- v | AT4: False
D6: Stavba:
E7: ='Rekapitulácia stavby'!K6 -> REVITALIZÁCIA ÚZEMIA HRADNÉHO KOPCA V NITRE
D8: Objekt:
E9: 012 - Objekt E - Schodisko bočný vstup
D11: JKSO: | I11: KS:
D12: Miesto: | I12: Dátum: | J12: ='Rekapitulácia stavby'!AN8 -> 18. 10. 2021
D14: Objednávateľ: | I14: IČO:
E15: Mesto Nitra | I15: IČ DPH:
D17: Zhotoviteľ: | I17: IČO: | J17: ='Rekapitulácia stavby'!AN13 -> Vyplň údaj
E18: ='Rekapitulácia stavby'!E14 -> Vyplň údaj | I18: IČ DPH: | J18: ='Rekapitulácia stavby'!AN14 -> Vyplň údaj
D20: Projektant: | I20: IČO:
E21: Ing. arch. Martin Dulík AA | I21: IČ DPH:
D23: Spracovateľ: | I23: IČO:
E24: Ing. arch. Martin Dulík | I24: IČ DPH:
D26: Poznámka:
D30: Cena bez DPH | J30: =ROUND(J122, 2) -> 0
F32: Základ dane | I32: Sadzba dane | J32: Výška dane
D33: DPH | E33: základná | F33: =ROUND((SUM(BE122:BE142)), 2) -> 0 | I33: 0.2 | J33: =ROUND(((SUM(BE122:BE142))*I33), 2) -> 0
E34: znížená | F34: =ROUND((SUM(BF122:BF142)), 2) -> 0 | I34: 0.2 | J34: =ROUND(((SUM(BF122:BF142))*I34), 2) -> 0
E35: zákl. prenesená | F35: =ROUND((SUM(BG122:BG142)), 2) -> 0 | I35: 0.2 | J35: =0 -> 0
E36: zníž. prenesená | F36: =ROUND((SUM(BH122:BH142)), 2) -> 0 | I36: 0.2 | J36: =0 -> 0
E37: nulová | F37: =ROUND((SUM(BI122:BI142)), 2) -> 0 | I37: 0 | J37: =0 -> 0
D39: Cena s DPH | G39: v | H39: EUR | J39: =SUM(J30:J37) -> 0
D50: Projektant | G50: Spracovateľ
D61: Dátum a podpis: | F61: Pečiatka | G61: Dátum a podpis: | J61: Pečiatka
D65: Objednávateľ | G65: Zhotoviteľ
D76: Dátum a podpis: | F76: Pečiatka | G76: Dátum a podpis: | J76: Pečiatka
C82: REKAPITULÁCIA ROZPOČTU
C84: Stavba:
E85: =E7 -> REVITALIZÁCIA ÚZEMIA HRADNÉHO KOPCA V NITRE
C86: Objekt:
E87: =E9 -> 012 - Objekt E - Schodisko bočný vstup
C89: Miesto: | F89: =F12 | I89: Dátum: | J89: =IF(J12="","",J12) -> 18. 10. 2021
C91: Objednávateľ: | F91: =E15 -> Mesto Nitra | I91: Projektant: | J91: =E21 -> Ing. arch. Martin Dulík AA
C92: Zhotoviteľ: | F92: =IF(E18="","",E18) -> Vyplň údaj | I92: Spracovateľ: | J92: =E24 -> Ing. arch. Martin Dulík
C94: Kód dielu - Popis | J94: Cena celkom [EUR]
C96: Náklady z rozpočtu | J96: =J122 -> 0 | AU96: -1
...

Sheet 013 - Objekt F - Odpočívadlo
L2: >> skryté stĺpce << | AT2: {b835ed08-b708-4626-8573-99531c25af8d}
AT3: 0
D4: KRYCÍ LIST ROZPOČTU | M4: v --- nižšie sa nachádzajú doplnkové a pomocné údaje k zostavám --- v | AT4: False
D6: Stavba:
E7: ='Rekapitulácia stavby'!K6 -> REVITALIZÁCIA ÚZEMIA HRADNÉHO KOPCA V NITRE
D8: Objekt:
E9: 013 - Objekt F - Odpočívadlo
D11: JKSO: | I11: KS:
D12: Miesto: | I12: Dátum: | J12: ='Rekapitulácia stavby'!AN8 -> 18. 10. 2021
D14: Objednávateľ: | I14: IČO:
E15: Mesto Nitra | I15: IČ DPH:
D17: Zhotoviteľ: | I17: IČO: | J17: ='Rekapitulácia stavby'!AN13 -> Vyplň údaj
E18: ='Rekapitulácia stavby'!E14 -> Vyplň údaj | I18: IČ DPH: | J18: ='Rekapitulácia stavby'!AN14 -> Vyplň údaj
D20: Projektant: | I20: IČO:
E21: Ing. arch. Martin Dulík AA | I21: IČ DPH:
D23: Spracovateľ: | I23: IČO:
E24: Ing. arch. Martin Dulík | I24: IČ DPH:
D26: Poznámka:
D30: Cena bez DPH | J30: =ROUND(J125, 2) -> 0
F32: Základ dane | I32: Sadzba dane | J32: Výška dane
D33: DPH | E33: základná | F33: =ROUND((SUM(BE125:BE165)), 2) -> 0 | I33: 0.2 | J33: =ROUND(((SUM(BE125:BE165))*I33), 2) -> 0
E34: znížená | F34: =ROUND((SUM(BF125:BF165)), 2) -> 0 | I34: 0.2 | J34: =ROUND(((SUM(BF125:BF165))*I34), 2) -> 0
E35: zákl. prenesená | F35: =ROUND((SUM(BG125:BG165)), 2) -> 0 | I35: 0.2 | J35: =0 -> 0
E36: zníž. prenesená | F36: =ROUND((SUM(BH125:BH165)), 2) -> 0 | I36: 0.2 | J36: =0 -> 0
E37: nulová | F37: =ROUND((SUM(BI125:BI165)), 2) -> 0 | I37: 0 | J37: =0 -> 0
D39: Cena s DPH | G39: v | H39: EUR | J39: =SUM(J30:J37) -> 0
D50: Projektant | G50: Spracovateľ
D61: Dátum a podpis: | F61: Pečiatka | G61: Dátum a podpis: | J61: Pečiatka
D65: Objednávateľ | G65: Zhotoviteľ
D76: Dátum a podpis: | F76: Pečiatka | G76: Dátum a podpis: | J76: Pečiatka
C82: REKAPITULÁCIA ROZPOČTU
C84: Stavba:
E85: =E7 -> REVITALIZÁCIA ÚZEMIA HRADNÉHO KOPCA V NITRE
C86: Objekt:
E87: =E9 -> 013 - Objekt F - Odpočívadlo
C89: Miesto: | F89: =F12 | I89: Dátum: | J89: =IF(J12="","",J12) -> 18. 10. 2021
C91: Objednávateľ: | F91: =E15 -> Mesto Nitra | I91: Projektant: | J91: =E21 -> Ing. arch. Martin Dulík AA
C92: Zhotoviteľ: | F92: =IF(E18="","",E18) -> Vyplň údaj | I92: Spracovateľ: | J92: =E24 -> Ing. arch. Martin Dulík
C94: Kód dielu - Popis | J94: Cena celkom [EUR]
C96: Náklady z rozpočtu | J96: =J125 -> 0 | AU96: -1
...

Sheet 014 - Objekt G - Odbočeni...
L2: >> skryté stĺpce << | AT2: {f478be9a-0d29-4e89-9a00-182de49fd061}
AT3: 0
D4: KRYCÍ LIST ROZPOČTU | M4: v --- nižšie sa nachádzajú doplnkové a pomocné údaje k zostavám --- v | AT4: False
D6: Stavba:
E7: ='Rekapitulácia stavby'!K6 -> REVITALIZÁCIA ÚZEMIA HRADNÉHO KOPCA V NITRE
D8: Objekt:
E9: 014 - Objekt G - Odbočenie + schodisko
D11: JKSO: | I11: KS:
D12: Miesto: | I12: Dátum: | J12: ='Rekapitulácia stavby'!AN8 -> 18. 10. 2021
D14: Objednávateľ: | I14: IČO:
E15: Mesto Nitra | I15: IČ DPH:
D17: Zhotoviteľ: | I17: IČO: | J17: ='Rekapitulácia stavby'!AN13 -> Vyplň údaj
E18: ='Rekapitulácia stavby'!E14 -> Vyplň údaj | I18: IČ DPH: | J18: ='Rekapitulácia stavby'!AN14 -> Vyplň údaj
D20: Projektant: | I20: IČO:
E21: Ing. arch. Martin Dulík AA | I21: IČ DPH:
D23: Spracovateľ: | I23: IČO:
E24: Ing. arch. Martin Dulík | I24: IČ DPH:
D26: Poznámka:
D30: Cena bez DPH | J30: =ROUND(J125, 2) -> 0
F32: Základ dane | I32: Sadzba dane | J32: Výška dane
D33: DPH | E33: základná | F33: =ROUND((SUM(BE125:BE170)), 2) -> 0 | I33: 0.2 | J33: =ROUND(((SUM(BE125:BE170))*I33), 2) -> 0
E34: znížená | F34: =ROUND((SUM(BF125:BF170)), 2) -> 0 | I34: 0.2 | J34: =ROUND(((SUM(BF125:BF170))*I34), 2) -> 0
E35: zákl. prenesená | F35: =ROUND((SUM(BG125:BG170)), 2) -> 0 | I35: 0.2 | J35: =0 -> 0
E36: zníž. prenesená | F36: =ROUND((SUM(BH125:BH170)), 2) -> 0 | I36: 0.2 | J36: =0 -> 0
E37: nulová | F37: =ROUND((SUM(BI125:BI170)), 2) -> 0 | I37: 0 | J37: =0 -> 0
D39: Cena s DPH | G39: v | H39: EUR | J39: =SUM(J30:J37) -> 0
D50: Projektant | G50: Spracovateľ
D61: Dátum a podpis: | F61: Pečiatka | G61: Dátum a podpis: | J61: Pečiatka
D65: Objednávateľ | G65: Zhotoviteľ
D76: Dátum a podpis: | F76: Pečiatka | G76: Dátum a podpis: | J76: Pečiatka
C82: REKAPITULÁCIA ROZPOČTU
C84: Stavba:
E85: =E7 -> REVITALIZÁCIA ÚZEMIA HRADNÉHO KOPCA V NITRE
C86: Objekt:
E87: =E9 -> 014 - Objekt G - Odbočenie + schodisko
C89: Miesto: | F89: =F12 | I89: Dátum: | J89: =IF(J12="","",J12) -> 18. 10. 2021
C91: Objednávateľ: | F91: =E15 -> Mesto Nitra | I91: Projektant: | J91: =E21 -> Ing. arch. Martin Dulík AA
C92: Zhotoviteľ: | F92: =IF(E18="","",E18) -> Vyplň údaj | I92: Spracovateľ: | J92: =E24 -> Ing. arch. Martin Dulík
C94: Kód dielu - Popis | J94: Cena celkom [EUR]
C96: Náklady z rozpočtu | J96: =J125 -> 0 | AU96: -1
...

Sheet 015 - Objekt H - Odpočívadlo
L2: >> skryté stĺpce << | AT2: {7244515b-a754-4658-935f-c5d5e1db4c00}
AT3: 0
D4: KRYCÍ LIST ROZPOČTU | M4: v --- nižšie sa nachádzajú doplnkové a pomocné údaje k zostavám --- v | AT4: False
D6: Stavba:
E7: ='Rekapitulácia stavby'!K6 -> REVITALIZÁCIA ÚZEMIA HRADNÉHO KOPCA V NITRE
D8: Objekt:
E9: 015 - Objekt H - Odpočívadlo
D11: JKSO: | I11: KS:
D12: Miesto: | I12: Dátum: | J12: ='Rekapitulácia stavby'!AN8 -> 18. 10. 2021
D14: Objednávateľ: | I14: IČO:
E15: Mesto Nitra | I15: IČ DPH:
D17: Zhotoviteľ: | I17: IČO: | J17: ='Rekapitulácia stavby'!AN13 -> Vyplň údaj
E18: ='Rekapitulácia stavby'!E14 -> Vyplň údaj | I18: IČ DPH: | J18: ='Rekapitulácia stavby'!AN14 -> Vyplň údaj
D20: Projektant: | I20: IČO:
E21: Ing. arch. Martin Dulík AA | I21: IČ DPH:
D23: Spracovateľ: | I23: IČO:
E24: Ing. arch. Martin Dulík | I24: IČ DPH:
D26: Poznámka:
D30: Cena bez DPH | J30: =ROUND(J125, 2) -> 0
F32: Základ dane | I32: Sadzba dane | J32: Výška dane
D33: DPH | E33: základná | F33: =ROUND((SUM(BE125:BE161)), 2) -> 0 | I33: 0.2 | J33: =ROUND(((SUM(BE125:BE161))*I33), 2) -> 0
E34: znížená | F34: =ROUND((SUM(BF125:BF161)), 2) -> 0 | I34: 0.2 | J34: =ROUND(((SUM(BF125:BF161))*I34), 2) -> 0
E35: zákl. prenesená | F35: =ROUND((SUM(BG125:BG161)), 2) -> 0 | I35: 0.2 | J35: =0 -> 0
E36: zníž. prenesená | F36: =ROUND((SUM(BH125:BH161)), 2) -> 0 | I36: 0.2 | J36: =0 -> 0
E37: nulová | F37: =ROUND((SUM(BI125:BI161)), 2) -> 0 | I37: 0 | J37: =0 -> 0
D39: Cena s DPH | G39: v | H39: EUR | J39: =SUM(J30:J37) -> 0
D50: Projektant | G50: Spracovateľ
D61: Dátum a podpis: | F61: Pečiatka | G61: Dátum a podpis: | J61: Pečiatka
D65: Objednávateľ | G65: Zhotoviteľ
D76: Dátum a podpis: | F76: Pečiatka | G76: Dátum a podpis: | J76: Pečiatka
C82: REKAPITULÁCIA ROZPOČTU
C84: Stavba:
E85: =E7 -> REVITALIZÁCIA ÚZEMIA HRADNÉHO KOPCA V NITRE
C86: Objekt:
E87: =E9 -> 015 - Objekt H - Odpočívadlo
C89: Miesto: | F89: =F12 | I89: Dátum: | J89: =IF(J12="","",J12) -> 18. 10. 2021
C91: Objednávateľ: | F91: =E15 -> Mesto Nitra | I91: Projektant: | J91: =E21 -> Ing. arch. Martin Dulík AA
C92: Zhotoviteľ: | F92: =IF(E18="","",E18) -> Vyplň údaj | I92: Spracovateľ: | J92: =E24 -> Ing. arch. Martin Dulík
C94: Kód dielu - Popis | J94: Cena celkom [EUR]
C96: Náklady z rozpočtu | J96: =J125 -> 0 | AU96: -1
...

Sheet 016 - Objekt I - Vyhliadk...
L2: >> skryté stĺpce << | AT2: {23b14c5e-f09e-49ef-9012-ae594b4567d8}
AT3: 0
D4: KRYCÍ LIST ROZPOČTU | M4: v --- nižšie sa nachádzajú doplnkové a pomocné údaje k zostavám --- v | AT4: False
D6: Stavba:
E7: ='Rekapitulácia stavby'!K6 -> REVITALIZÁCIA ÚZEMIA HRADNÉHO KOPCA V NITRE
D8: Objekt:
E9: 016 - Objekt I - Vyhliadka pod hradbami
D11: JKSO: | I11: KS:
D12: Miesto: | I12: Dátum: | J12: ='Rekapitulácia stavby'!AN8 -> 18. 10. 2021
D14: Objednávateľ: | I14: IČO:
E15: Mesto Nitra | I15: IČ DPH:
D17: Zhotoviteľ: | I17: IČO: | J17: ='Rekapitulácia stavby'!AN13 -> Vyplň údaj
E18: ='Rekapitulácia stavby'!E14 -> Vyplň údaj | I18: IČ DPH: | J18: ='Rekapitulácia stavby'!AN14 -> Vyplň údaj
D20: Projektant: | I20: IČO:
E21: Ing. arch. Martin Dulík AA | I21: IČ DPH:
D23: Spracovateľ: | I23: IČO:
E24: Ing. arch. Martin Dulík | I24: IČ DPH:
D26: Poznámka:
D30: Cena bez DPH | J30: =ROUND(J124, 2) -> 0
F32: Základ dane | I32: Sadzba dane | J32: Výška dane
D33: DPH | E33: základná | F33: =ROUND((SUM(BE124:BE150)), 2) -> 0 | I33: 0.2 | J33: =ROUND(((SUM(BE124:BE150))*I33), 2) -> 0
E34: znížená | F34: =ROUND((SUM(BF124:BF150)), 2) -> 0 | I34: 0.2 | J34: =ROUND(((SUM(BF124:BF150))*I34), 2) -> 0
E35: zákl. prenesená | F35: =ROUND((SUM(BG124:BG150)), 2) -> 0 | I35: 0.2 | J35: =0 -> 0
E36: zníž. prenesená | F36: =ROUND((SUM(BH124:BH150)), 2) -> 0 | I36: 0.2 | J36: =0 -> 0
E37: nulová | F37: =ROUND((SUM(BI124:BI150)), 2) -> 0 | I37: 0 | J37: =0 -> 0
D39: Cena s DPH | G39: v | H39: EUR | J39: =SUM(J30:J37) -> 0
D50: Projektant | G50: Spracovateľ
D61: Dátum a podpis: | F61: Pečiatka | G61: Dátum a podpis: | J61: Pečiatka
D65: Objednávateľ | G65: Zhotoviteľ
D76: Dátum a podpis: | F76: Pečiatka | G76: Dátum a podpis: | J76: Pečiatka
C82: REKAPITULÁCIA ROZPOČTU
C84: Stavba:
E85: =E7 -> REVITALIZÁCIA ÚZEMIA HRADNÉHO KOPCA V NITRE
C86: Objekt:
E87: =E9 -> 016 - Objekt I - Vyhliadka pod hradbami
C89: Miesto: | F89: =F12 | I89: Dátum: | J89: =IF(J12="","",J12) -> 18. 10. 2021
C91: Objednávateľ: | F91: =E15 -> Mesto Nitra | I91: Projektant: | J91: =E21 -> Ing. arch. Martin Dulík AA
C92: Zhotoviteľ: | F92: =IF(E18="","",E18) -> Vyplň údaj | I92: Spracovateľ: | J92: =E24 -> Ing. arch. Martin Dulík
C94: Kód dielu - Popis | J94: Cena celkom [EUR]
C96: Náklady z rozpočtu | J96: =J124 -> 0 | AU96: -1
...

Sheet 017 - Objekt J  - Úprava ...
L2: >> skryté stĺpce << | AT2: {7341495f-d726-4449-b113-7b85bac4b7c2}
AT3: 0
D4: KRYCÍ LIST ROZPOČTU | M4: v --- nižšie sa nachádzajú doplnkové a pomocné údaje k zostavám --- v | AT4: False
D6: Stavba:
E7: ='Rekapitulácia stavby'!K6 -> REVITALIZÁCIA ÚZEMIA HRADNÉHO KOPCA V NITRE
D8: Objekt:
E9: 017 - Objekt J - Úprava oplotenia – turniket bočný vstup
D11: JKSO: | I11: KS:
D12: Miesto: | I12: Dátum: | J12: ='Rekapitulácia stavby'!AN8 -> 18. 10. 2021
D14: Objednávateľ: | I14: IČO:
E15: Mesto Nitra | I15: IČ DPH:
D17: Zhotoviteľ: | I17: IČO: | J17: ='Rekapitulácia stavby'!AN13 -> Vyplň údaj
E18: ='Rekapitulácia stavby'!E14 -> Vyplň údaj | I18: IČ DPH: | J18: ='Rekapitulácia stavby'!AN14 -> Vyplň údaj
D20: Projektant: | I20: IČO:
E21: Ing. arch. Martin Dulík AA | I21: IČ DPH:
D23: Spracovateľ: | I23: IČO:
E24: Ing. arch. Martin Dulík | I24: IČ DPH:
D26: Poznámka:
D30: Cena bez DPH | J30: =ROUND(J118, 2) -> 0
F32: Základ dane | I32: Sadzba dane | J32: Výška dane
D33: DPH | E33: základná | F33: =ROUND((SUM(BE118:BE122)), 2) -> 0 | I33: 0.2 | J33: =ROUND(((SUM(BE118:BE122))*I33), 2) -> 0
E34: znížená | F34: =ROUND((SUM(BF118:BF122)), 2) -> 0 | I34: 0.2 | J34: =ROUND(((SUM(BF118:BF122))*I34), 2) -> 0
E35: zákl. prenesená | F35: =ROUND((SUM(BG118:BG122)), 2) -> 0 | I35: 0.2 | J35: =0 -> 0
E36: zníž. prenesená | F36: =ROUND((SUM(BH118:BH122)), 2) -> 0 | I36: 0.2 | J36: =0 -> 0
E37: nulová | F37: =ROUND((SUM(BI118:BI122)), 2) -> 0 | I37: 0 | J37: =0 -> 0
D39: Cena s DPH | G39: v | H39: EUR | J39: =SUM(J30:J37) -> 0
D50: Projektant | G50: Spracovateľ
D61: Dátum a podpis: | F61: Pečiatka | G61: Dátum a podpis: | J61: Pečiatka
D65: Objednávateľ | G65: Zhotoviteľ
D76: Dátum a podpis: | F76: Pečiatka | G76: Dátum a podpis: | J76: Pečiatka
C82: REKAPITULÁCIA ROZPOČTU
C84: Stavba:
E85: =E7 -> REVITALIZÁCIA ÚZEMIA HRADNÉHO KOPCA V NITRE
C86: Objekt:
E87: =E9 -> 017 - Objekt J - Úprava oplotenia – turniket bočný vstup
C89: Miesto: | F89: =F12 | I89: Dátum: | J89: =IF(J12="","",J12) -> 18. 10. 2021
C91: Objednávateľ: | F91: =E15 -> Mesto Nitra | I91: Projektant: | J91: =E21 -> Ing. arch. Martin Dulík AA
C92: Zhotoviteľ: | F92: =IF(E18="","",E18) -> Vyplň údaj | I92: Spracovateľ: | J92: =E24 -> Ing. arch. Martin Dulík
C94: Kód dielu - Popis | J94: Cena celkom [EUR]
C96: Náklady z rozpočtu | J96: =J118 -> 0 | AU96: -1
...
