Workbook

Sheet Rekapitulácia stavby
A1: Export Komplet | BA1: 2.0 | BT1: False | BU1: False | BV1: {c3782493-7a83-4d0a-b605-219cf9361d8d}
AR2: >> skryté stĺpce << | BS2: 0,01 | BT2: 20
BS3: 0,01 | BT3: 20
D4: REKAPITULÁCIA STAVBY | AS4: v --- nižšie sa nachádzajú doplnkové a pomocné údaje k zostavám --- v | BE4: Návod na vyplnenie | BS4: 0,001
D5: Kód: | BE5: Meniť je možné iba bunky so žltým podfarbením!_x000D_ _x000D_ 1) na prvom liste Rekapitulácie stavby vyplňte v zostave_x000D_ _x000D_ a) Rekapitulácia stavby_x000D_ - údaje o Zhotoviteľovi_x000D_ (prenesú sa do ostatných zostáv aj v iných listoch)_x000D_ _x000D_ b) Rekapitulácia objektov stavby_x000D_ - potrebné Ostatné náklady_x000D_ _x000D_ 2) na vybraných listoch vyplňte v zostave_x000D_ _x000D_ a) Krycí list_x000D_ - údaje o Zhotoviteľovi, pokiaľ sa líšia od údajov o Zhotoviteľovi na Rekapitulácii stavby_x000D_ (údaje se prenesú do ostatných zostav v danom liste)_x000D_ _x000D_ b) Rekapitulácia rozpočtu_x000D_ - potrebné Ostatné náklady_x000D_ _x000D_ c) Celkové náklady za stavbu_x000D_ - ceny na položkách_x000D_ - množstvo, pokiaľ má žlté podfarbenie_x000D_ - a v prípade potreby poznámku (tá je v skrytom stĺpci) | BS5: 0,01
D6: Stavba: | K6: Oprava pešej lávky nad železničnou stanicou Nitra | BS6: 0,01
D7: JKSO: | AK7: KS: | BS7: 0,01
D8: Miesto: | K8: Nitra | AK8: Dátum: | AN8: 30. 8. 2021 | BS8: 0,01
BS9: 0,01
D10: Objednávateľ: | AK10: IČO: | BS10: 0,01
E11: Mesto Nitra | AK11: IČ DPH: | BS11: 0,01
BS12: 0,01
D13: Zhotoviteľ: | AK13: IČO: | AN13: Vyplň údaj | BS13: 0,01
E14: Vyplň údaj | AK14: IČ DPH: | AN14: Vyplň údaj | BS14: 0,01
BS15: False
D16: Projektant: | AK16: IČO: | BS16: False
AK17: IČ DPH: | BS17: True
BS18: 0,01
D19: Spracovateľ: | AK19: IČO: | BS19: 0,01
E20: Združenie „SHP: Nitra – PD" SHP SK s.r.o. | AK20: IČ DPH: | BS20: True
D22: Poznámka:
D26: Cena bez DPH | AK26: =ROUND(AG94,2) -> 0
L28: Sadzba dane | W28: Základ dane | AK28: Výška dane
D29: DPH | F29: základná | L29: 0.2 | W29: =ROUND(AZ94, 2) -> 0 | AK29: =ROUND(AV94, 2) -> 0
F30: znížená | L30: 0.2 | W30: =ROUND(BA94, 2) -> 0 | AK30: =ROUND(AW94, 2) -> 0
F31: zákl. prenesená | L31: 0.2 | W31: =ROUND(BB94, 2) -> 0 | AK31: 0
F32: zníž. prenesená | L32: 0.2 | W32: =ROUND(BC94, 2) -> 0 | AK32: 0
F33: nulová | L33: 0 | W33: =ROUND(BD94, 2) -> 0 | AK33: 0
D35: Cena s DPH | T35: v | X35: EUR | AK35: =SUM(AK26:AK33) -> 0
D49: Projektant | AH49: Spracovateľ
D60: Dátum a podpis: | V60: Pečiatka | AH60: Dátum a podpis: | AM60: Pečiatka
D64: Objednávateľ | AH64: Zhotoviteľ
D75: Dátum a podpis: | V75: Pečiatka | AH75: Dátum a podpis: | AM75: Pečiatka
C82: REKAPITULÁCIA OBJEKTOV STAVBY
C84: Kód:
C85: Stavba: | L85: =K6 -> Oprava pešej lávky nad železničnou stanicou Nitra
C87: Miesto: | L87: =IF(K8="","",K8) -> Nitra | AI87: Dátum: | AM87: =IF(AN8= "","",AN8) -> 30. 8. 2021
C89: Objednávateľ: | L89: =IF(E11= "","",E11) -> Mesto Nitra | AI89: Projektant: | AM89: =IF(E17="","",E17) | AS89: Informatívne údaje z listov zákaziek
C90: Zhotoviteľ: | L90: =IF(E14= "Vyplň údaj","",E14) | AI90: Spracovateľ: | AM90: =IF(E20="","",E20) -> Združenie „SHP: Nitra – PD" SHP SK s.r.o.
C92: Kód | I92: Popis | AG92: Cena bez DPH [EUR] | AN92: Cena s DPH [EUR] | AQ92: Typ | AS92: z toho Ostat._x000D_ náklady [EUR] | AT92: DPH [EUR] | AU92: Normohodiny [h] | AV92: DPH základná [EUR] | AW92: DPH znížená [EUR] | AX92: DPH základná prenesená_x000D_ [EUR] | AY92: DPH znížená prenesená_x000D_ [EUR] | AZ92: Základňa_x000D_ DPH základná | BA92: Základňa_x000D_ DPH znížená | BB92: Základňa_x000D_ DPH zákl. prenesená | BC92: Základňa_x000D_ DPH zníž. prenesená | BD92: Základňa_x000D_ DPH nulová
C94: Náklady z rozpočtov | AG94: =ROUND(AG95+AG97+AG99+SUM(AG101:AG103),2) -> 0 | AN94: =SUM(AG94,AT94) -> 0 | AS94: =ROUND(AS95+AS97+AS99+SUM(AS101:AS103),2) -> 0 | AT94: =ROUND(SUM(AV94:AW94),2) -> 0 | AU94: =ROUND(AU95+AU97+AU99+SUM(AU101:AU103),5) -> 0 | AV94: =ROUND(AZ94*L29,2) -> 0 | AW94: =ROUND(BA94*L30,2) -> 0 | AX94: =ROUND(BB94*L29,2) -> 0 | AY94: =ROUND(BC94*L30,2) -> 0 | AZ94: =ROUND(AZ95+AZ97+AZ99+SUM(AZ101:AZ103),2) -> 0 | BA94: =ROUND(BA95+BA97+BA99+SUM(BA101:BA103),2) -> 0 | BB94: =ROUND(BB95+BB97+BB99+SUM(BB101:BB103),2) -> 0 | BC94: =ROUND(BC95+BC97+BC99+SUM(BC101:BC103),2) -> 0 | BD94: =ROUND(BD95+BD97+BD99+SUM(BD101:BD103),2) -> 0 | BS94: D | BT94: 0 | BU94: ###NOIMPORT### | BV94: IMPORT | BW94: {c3782493-7a83-4d0a-b605-219cf9361d8d} | BX94: {00000000-0000-0000-0000-000000000000}
D95: SO 201 | J95: Lávka | AG95: =ROUND(AG96,2) -> 0 | AN95: =SUM(AG95,AT95) -> 0 | AQ95: STA | AS95: =ROUND(AS96,2) -> 0 | AT95: =ROUND(SUM(AV95:AW95),2) -> 0 | AU95: =ROUND(AU96,5) -> 0 | AV95: =ROUND(AZ95*L29,2) -> 0 | AW95: =ROUND(BA95*L30,2) -> 0 | AX95: =ROUND(BB95*L29,2) -> 0 | AY95: =ROUND(BC95*L30,2) -> 0 | AZ95: =ROUND(AZ96,2) -> 0 | BA95: =ROUND(BA96,2) -> 0 | BB95: =ROUND(BB96,2) -> 0 | BC95: =ROUND(BC96,2) -> 0 | BD95: =ROUND(BD96,2) -> 0 | BS95: D | BT95: 1 | BU95: ###NOIMPORT### | BV95: IMPORT | BW95: {f46bdbdd-6475-4d96-b63b-d659db6d0b6b} | BX95: {c3782493-7a83-4d0a-b605-219cf9361d8d} | CM95: 0
A96: / | E96: D 201 | K96: Lávka | AG96: ='D 201 - Lávka'!J32 -> 0 | AN96: =SUM(AG96,AT96) -> 0 | AQ96: Časť | AS96: 0 | AT96: =ROUND(SUM(AV96:AW96),2) -> 0 | AU96: ='D 201 - Lávka'!P132 -> 0 | AV96: ='D 201 - Lávka'!J35 -> 0 | AW96: ='D 201 - Lávka'!J36 -> 0 | AX96: ='D 201 - Lávka'!J37 -> 0 | AY96: ='D 201 - Lávka'!J38 -> 0 | AZ96: ='D 201 - Lávka'!F35 -> 0 | BA96: ='D 201 - Lávka'!F36 -> 0 | BB96: ='D 201 - Lávka'!F37 -> 0 | BC96: ='D 201 - Lávka'!F38 -> 0 | BD96: ='D 201 - Lávka'!F39 -> 0 | BT96: 2 | BV96: IMPORT | BW96: {fcb0add3-a592-4b3d-aa63-4815118fd374} | BX96: {f46bdbdd-6475-4d96-b63b-d659db6d0b6b}
D97: SO 202 | J97: Schodisko | AG97: =ROUND(AG98,2) -> 0 | AN97: =SUM(AG97,AT97) -> 0 | AQ97: STA | AS97: =ROUND(AS98,2) -> 0 | AT97: =ROUND(SUM(AV97:AW97),2) -> 0 | AU97: =ROUND(AU98,5) -> 0 | AV97: =ROUND(AZ97*L29,2) -> 0 | AW97: =ROUND(BA97*L30,2) -> 0 | AX97: =ROUND(BB97*L29,2) -> 0 | AY97: =ROUND(BC97*L30,2) -> 0 | AZ97: =ROUND(AZ98,2) -> 0 | BA97: =ROUND(BA98,2) -> 0 | BB97: =ROUND(BB98,2) -> 0 | BC97: =ROUND(BC98,2) -> 0 | BD97: =ROUND(BD98,2) -> 0 | BS97: D | BT97: 1 | BU97: ###NOIMPORT### | BV97: IMPORT | BW97: {43a1427d-d92c-4f25-8dcf-d161a88991a4} | BX97: {c3782493-7a83-4d0a-b605-219cf9361d8d} | CM97: 0
A98: / | E98: D 202 | K98: Schodisko | AG98: ='D 202 - Schodisko'!J32 -> 0 | AN98: =SUM(AG98,AT98) -> 0 | AQ98: Časť | AS98: 0 | AT98: =ROUND(SUM(AV98:AW98),2) -> 0 | AU98: ='D 202 - Schodisko'!P129 -> 0 | AV98: ='D 202 - Schodisko'!J35 -> 0 | AW98: ='D 202 - Schodisko'!J36 -> 0 | AX98: ='D 202 - Schodisko'!J37 -> 0 | AY98: ='D 202 - Schodisko'!J38 -> 0 | AZ98: ='D 202 - Schodisko'!F35 -> 0 | BA98: ='D 202 - Schodisko'!F36 -> 0 | BB98: ='D 202 - Schodisko'!F37 -> 0 | BC98: ='D 202 - Schodisko'!F38 -> 0 | BD98: ='D 202 - Schodisko'!F39 -> 0 | BT98: 2 | BV98: IMPORT | BW98: {9a0319ae-a538-41ea-995d-b7aea3706a38} | BX98: {43a1427d-d92c-4f25-8dcf-d161a88991a4}
D99: SO 203 | J99: Výťah | AG99: =ROUND(AG100,2) -> 0 | AN99: =SUM(AG99,AT99) -> 0 | AQ99: STA | AS99: =ROUND(AS100,2) -> 0 | AT99: =ROUND(SUM(AV99:AW99),2) -> 0 | AU99: =ROUND(AU100,5) -> 0 | AV99: =ROUND(AZ99*L29,2) -> 0 | AW99: =ROUND(BA99*L30,2) -> 0 | AX99: =ROUND(BB99*L29,2) -> 0 | AY99: =ROUND(BC99*L30,2) -> 0 | AZ99: =ROUND(AZ100,2) -> 0 | BA99: =ROUND(BA100,2) -> 0 | BB99: =ROUND(BB100,2) -> 0 | BC99: =ROUND(BC100,2) -> 0 | BD99: =ROUND(BD100,2) -> 0 | BS99: D | BT99: 1 | BU99: ###NOIMPORT### | BV99: IMPORT | BW99: {9112c5a3-57e2-4bc3-a18d-46e926036043} | BX99: {c3782493-7a83-4d0a-b605-219cf9361d8d} | CM99: 0
A100: / | E100: D 203 | K100: Výťah | AG100: ='D 203 - Výťah'!J32 -> 0 | AN100: =SUM(AG100,AT100) -> 0 | AQ100: Časť | AS100: 0 | AT100: =ROUND(SUM(AV100:AW100),2) -> 0 | AU100: ='D 203 - Výťah'!P136 -> 0 | AV100: ='D 203 - Výťah'!J35 -> 0 | AW100: ='D 203 - Výťah'!J36 -> 0 | AX100: ='D 203 - Výťah'!J37 -> 0 | AY100: ='D 203 - Výťah'!J38 -> 0 | AZ100: ='D 203 - Výťah'!F35 -> 0 | BA100: ='D 203 - Výťah'!F36 -> 0 | BB100: ='D 203 - Výťah'!F37 -> 0 | BC100: ='D 203 - Výťah'!F38 -> 0 | BD100: ='D 203 - Výťah'!F39 -> 0 | BT100: 2 | BV100: IMPORT | BW100: {245cd100-bb97-4ea5-b1c4-e021dc9c2ac9} | BX100: {9112c5a3-57e2-4bc3-a18d-46e926036043}
A101: / | D101: SO 401 | J101: Elektrická prípojka NN a napojenie výťahu | AG101: ='SO 401 - Elektrická prípo...'!J30 -> 0 | AN101: =SUM(AG101,AT101) -> 0 | AQ101: STA | AS101: 0 | AT101: =ROUND(SUM(AV101:AW101),2) -> 0 | AU101: ='SO 401 - Elektrická prípo...'!P119 -> 0 | AV101: ='SO 401 - Elektrická prípo...'!J33 -> 0 | AW101: ='SO 401 - Elektrická prípo...'!J34 -> 0 | AX101: ='SO 401 - Elektrická prípo...'!J35 -> 0 | AY101: ='SO 401 - Elektrická prípo...'!J36 -> 0 | AZ101: ='SO 401 - Elektrická prípo...'!F33 -> 0 | BA101: ='SO 401 - Elektrická prípo...'!F34 -> 0 | BB101: ='SO 401 - Elektrická prípo...'!F35 -> 0 | BC101: ='SO 401 - Elektrická prípo...'!F36 -> 0 | BD101: ='SO 401 - Elektrická prípo...'!F37 -> 0 | BT101: 1 | BV101: IMPORT | BW101: {30c5fba4-82d0-4ea5-87ae-d45080f9aa2e} | BX101: {c3782493-7a83-4d0a-b605-219cf9361d8d} | CM101: 0
A102: / | D102: SO 402 | J102: Verejné osvetlenie lávky | AG102: ='SO 402 - Verejné osvetlen...'!J30 -> 0 | AN102: =SUM(AG102,AT102) -> 0 | AQ102: STA | AS102: 0 | AT102: =ROUND(SUM(AV102:AW102),2) -> 0 | AU102: ='SO 402 - Verejné osvetlen...'!P119 -> 0 | AV102: ='SO 402 - Verejné osvetlen...'!J33 -> 0 | AW102: ='SO 402 - Verejné osvetlen...'!J34 -> 0 | AX102: ='SO 402 - Verejné osvetlen...'!J35 -> 0 | AY102: ='SO 402 - Verejné osvetlen...'!J36 -> 0 | AZ102: ='SO 402 - Verejné osvetlen...'!F33 -> 0 | BA102: ='SO 402 - Verejné osvetlen...'!F34 -> 0 | BB102: ='SO 402 - Verejné osvetlen...'!F35 -> 0 | BC102: ='SO 402 - Verejné osvetlen...'!F36 -> 0 | BD102: ='SO 402 - Verejné osvetlen...'!F37 -> 0 | BT102: 1 | BV102: IMPORT | BW102: {869e2d83-3862-43b5-9b4e-04c7a5066b18} | BX102: {c3782493-7a83-4d0a-b605-219cf9361d8d} | CM102: 0
A103: / | D103: 6 | J103: Vedľajšie rozpočtové náklady pre všetký stavebné objekty | AG103: ='6 - Vedľajšie rozpočtové ...'!J30 -> 0 | AN103: =SUM(AG103,AT103) -> 0 | AQ103: STA | AS103: 0 | AT103: =ROUND(SUM(AV103:AW103),2) -> 0 | AU103: ='6 - Vedľajšie rozpočtové ...'!P117 -> 0 | AV103: ='6 - Vedľajšie rozpočtové ...'!J33 -> 0 | AW103: ='6 - Vedľajšie rozpočtové ...'!J34 -> 0 | AX103: ='6 - Vedľajšie rozpočtové ...'!J35 -> 0 | AY103: ='6 - Vedľajšie rozpočtové ...'!J36 -> 0 | AZ103: ='6 - Vedľajšie rozpočtové ...'!F33 -> 0 | BA103: ='6 - Vedľajšie rozpočtové ...'!F34 -> 0 | BB103: ='6 - Vedľajšie rozpočtové ...'!F35 -> 0 | BC103: ='6 - Vedľajšie rozpočtové ...'!F36 -> 0 | BD103: ='6 - Vedľajšie rozpočtové ...'!F37 -> 0 | BT103: 1 | BV103: IMPORT | BW103: {28e62fa5-0411-4578-8f9b-1bc8345e49e1} | BX103: {c3782493-7a83-4d0a-b605-219cf9361d8d} | CM103: 0

Sheet D 201 - Lávka
L2: >> skryté stĺpce << | AT2: {fcb0add3-a592-4b3d-aa63-4815118fd374}
AT3: 0
D4: Výkaz výmer | M4: v --- nižšie sa nachádzajú doplnkové a pomocné údaje k zostavám --- v | AT4: False
D6: Stavba:
E7: ='Rekapitulácia stavby'!K6 -> Oprava pešej lávky nad železničnou stanicou Nitra
D8: Objekt:
E9: SO 201 - Lávka
D10: Časť:
E11: D 201 - Lávka
D13: JKSO: | I13: KS:
D14: Miesto: | F14: Nitra | I14: Dátum: | J14: ='Rekapitulácia stavby'!AN8 -> 30. 8. 2021
D16: Objednávateľ: | I16: IČO:
E17: Mesto Nitra | I17: IČ DPH:
D19: Zhotoviteľ: | I19: IČO: | J19: ='Rekapitulácia stavby'!AN13 -> Vyplň údaj
E20: ='Rekapitulácia stavby'!E14 -> Vyplň údaj | I20: IČ DPH: | J20: ='Rekapitulácia stavby'!AN14 -> Vyplň údaj
D22: Projektant: | I22: IČO: | J22: =IF('Rekapitulácia stavby'!AN16="","",'Rekapitulácia stavby'!AN16)
E23: =IF('Rekapitulácia stavby'!E17="","",'Rekapitulácia stavby'!E17) | I23: IČ DPH: | J23: =IF('Rekapitulácia stavby'!AN17="","",'Rekapitulácia stavby'!AN17)
D25: Spracovateľ: | I25: IČO:
E26: Združenie „SHP: Nitra – PD" SHP SK s.r.o. | I26: IČ DPH:
D28: Poznámka:
D32: Cena bez DPH | J32: =ROUND(J132, 2) -> 0
F34: Základ dane | I34: Sadzba dane | J34: Výška dane
D35: DPH | E35: základná | F35: =ROUND((SUM(BE132:BE335)), 2) -> 0 | I35: 0.2 | J35: =ROUND(((SUM(BE132:BE335))*I35), 2) -> 0
E36: znížená | F36: =ROUND((SUM(BF132:BF335)), 2) -> 0 | I36: 0.2 | J36: =ROUND(((SUM(BF132:BF335))*I36), 2) -> 0
E37: zákl. prenesená | F37: =ROUND((SUM(BG132:BG335)), 2) -> 0 | I37: 0.2 | J37: =0 -> 0
E38: zníž. prenesená | F38: =ROUND((SUM(BH132:BH335)), 2) -> 0 | I38: 0.2 | J38: =0 -> 0
E39: nulová | F39: =ROUND((SUM(BI132:BI335)), 2) -> 0 | I39: 0 | J39: =0 -> 0
D41: Cena s DPH | G41: v | H41: EUR | J41: =SUM(J32:J39) -> 0
D50: Projektant | G50: Spracovateľ
D61: Dátum a podpis: | F61: Pečiatka | G61: Dátum a podpis: | J61: Pečiatka
D65: Objednávateľ | G65: Zhotoviteľ
D76: Dátum a podpis: | F76: Pečiatka | G76: Dátum a podpis: | J76: Pečiatka
C82: REKAPITULÁCIA
C84: Stavba:
E85: =E7 -> Oprava pešej lávky nad železničnou stanicou Nitra
C86: Objekt:
E87: SO 201 - Lávka
C88: Časť:
E89: =E11 -> D 201 - Lávka
C91: Miesto: | F91: =F14 -> Nitra | I91: Dátum: | J91: =IF(J14="","",J14) -> 30. 8. 2021
C93: Objednávateľ: | F93: =E17 -> Mesto Nitra | I93: Projektant: | J93: =E23
C94: Zhotoviteľ: | F94: =IF(E20="","",E20) -> Vyplň údaj | I94: Spracovateľ: | J94: =E26 -> Združenie „SHP: Nitra – PD" SHP SK s.r.o.
C96: Kód dielu - Popis | J96: Cena celkom [EUR]
C98: Náklady z rozpočtu | J98: =J132 -> 0 | AU98: -1
D99: HSV - Práce a dodávky HSV | J99: =J133 -> 0
D100: 1 - Zemné práce | J100: =J134 -> 0
D101: 2 - Zakladanie | J101: =J164 -> 0
D102: 3 - Zvislé a kompletné konštrukcie | J102: =J179 -> 0
D103: 4 - Vodorovné konštrukcie | J103: =J191 -> 0
D104: 5 - Komunikácie | J104: =J209 -> 0
D105: 6 - Úpravy povrchov, podlahy, osadenie | J105: =J217 -> 0
D106: 9 - Ostatné konštrukcie a práce-búranie | J106: =J225 -> 0
D107: 99 - Presun hmôt HSV | J107: =J296 -> 0
D108: PSV - Práce a dodávky PSV | J108: =J298 -> 0
D109: 711 - Izolácie proti vode a vlhkosti | J109: =J299 -> 0
D110: 783 - Nátery | J110: =J308 -> 0
C117: ROZPOČET
C119: Stavba:
E120: =E7 -> Oprava pešej lávky nad železničnou stanicou Nitra
C121: Objekt:
E122: SO 201 - Lávka
C123: Časť:
E124: =E11 -> D 201 - Lávka
C126: Miesto: | F126: =F14 -> Nitra | I126: Dátum: | J126: =IF(J14="","",J14) -> 30. 8. 2021
C128: Objednávateľ: | F128: =E17 -> Mesto Nitra | I128: Projektant: | J128: =E23
C129: Zhotoviteľ: | F129: =IF(E20="","",E20) -> Vyplň údaj | I129: Spracovateľ: | J129: =E26 -> Združenie „SHP: Nitra – PD" SHP SK s.r.o.
C131: PČ | D131: Typ | E131: Kód | F131: Popis | G131: MJ | H131: Množstvo | I131: J.cena [EUR] | J131: Cena celkom [EUR] | K131: Cenová sústava | N131: DPH | O131: J. Nh [h] | P131: Nh celkom [h] | Q131: J. hmotnosť [t] | R131: Hmotnosť celkom [t] | S131: J. suť [t] | T131: Suť Celkom [t]
C132: Náklady z rozpočtu | J132: =BK132 -> 0 | P132: =P133+P298 -> 0 | R132: =R133+R298 -> 0 | T132: =T133+T298 -> 0 | AT132: D | AU132: -1 | BK132: =BK133+BK298 -> 0
D133: D | E133: HSV | F133: Práce a dodávky HSV | J133: =BK133 -> 0 | P133: =P134+P164+P179+P191+P209+P217+P225+P296 -> 0 | R133: =R134+R164+R179+R191+R209+R217+R225+R296 -> 0 | T133: =T134+T164+T179+T191+T209+T217+T225+T296 -> 0 | AR133: 1 | AT133: D | AU133: 0 | AY133: ROZPOCET | BK133: =BK134+BK164+BK179+BK191+BK209+BK217+BK225+BK296 -> 0
D134: D | E134: 1 | F134: Zemné práce | J134: =BK134 -> 0 | P134: =SUM(P135:P163) -> 0 | R134: =SUM(R135:R163) -> 0 | T134: =SUM(T135:T163) -> 0 | AR134: 1 | AT134: D | AU134: 1 | AY134: ROZPOCET | BK134: =SUM(BK135:BK163) -> 0
C135: 1 | D135: K | E135: 112101101 | F135: Odstránenie listnatých stromov do priemeru 300 mm, motorovou pílou | G135: ks | H135: 3 | J135: =ROUND(I135*H135,2) -> 0 | N135: znížená | P135: =O135*H135 -> 0 | Q135: 0 | R135: =Q135*H135 -> 0 | S135: 0 | T135: =S135*H135 -> 0 | AR135: 4 | AT135: K | AU135: 2 | AY135: ROZPOCET | BE135: =IF(N135="základná",J135,0) -> 0 | BF135: =IF(N135="znížená",J135,0) -> 0 | BG135: =IF(N135="zákl. prenesená",J135,0) -> 0 | BH135: =IF(N135="zníž. prenesená",J135,0) -> 0 | BI135: =IF(N135="nulová",J135,0) -> 0 | BJ135: 2 | BK135: =ROUND(I135*H135,2) -> 0 | BL135: 4 | BM135: 2
D136: VV | F136: "breza + javor" 2+1 | H136: 3 | AT136: VV | AU136: 2 | AV136: 2 | AW136: True | AX136: 0 | AY136: ROZPOCET
D137: VV | F137: Súčet | H137: 3 | AT137: VV | AU137: 2 | AV137: 4 | AW137: True | AX137: 1 | AY137: ROZPOCET
C138: 2 | D138: K | E138: 113107122 | F138: Odstránenie krytu v ploche do 200 m2 z kameniva hrubého drveného, hr.100 do 200 mm, -0,23500t | G138: m2 | H138: 50.3 | J138: =ROUND(I138*H138,2) -> 0 | N138: znížená | P138: =O138*H138 -> 0 | Q138: 0 | R138: =Q138*H138 -> 0 | S138: 0 | T138: =S138*H138 -> 0 | AR138: 4 | AT138: K | AU138: 2 | AY138: ROZPOCET | BE138: =IF(N138="základná",J138,0) -> 0 | BF138: =IF(N138="znížená",J138,0) -> 0 | BG138: =IF(N138="zákl. prenesená",J138,0) -> 0 | BH138: =IF(N138="zníž. prenesená",J138,0) -> 0 | BI138: =IF(N138="nulová",J138,0) -> 0 | BJ138: 2 | BK138: =ROUND(I138*H138,2) -> 0 | BL138: 4 | BM138: 4
D139: VV | F139: "odstranenie vozovky v páse 500mm kolem obrubníkov - podklad.lože hr. 150 mm"0,5*6,2*2 | H139: 6.2 | AT139: VV | AU139: 2 | AV139: 2 | AW139: True | AX139: 0 | AY139: ROZPOCET
D140: VV | F140: "odstranenie asfalt.chodníkov - podklad.lože hr. 200 mm"15,3+16,8+12 | H140: 44.1 | AT140: VV | AU140: 2 | AV140: 2 | AW140: True | AX140: 0 | AY140: ROZPOCET
D141: VV | F141: Súčet | H141: 50.3 | AT141: VV | AU141: 2 | AV141: 4 | AW141: True | AX141: 1 | AY141: ROZPOCET
C142: 3 | D142: K | E142: 113107142 | F142: Odstránenie krytu asfaltového v ploche do 200 m2, hr. nad 50 do 100 mm, -0,18100t | G142: m2 | H142: 6.2 | J142: =ROUND(I142*H142,2) -> 0 | N142: znížená | P142: =O142*H142 -> 0 | Q142: 0 | R142: =Q142*H142 -> 0 | S142: 0 | T142: =S142*H142 -> 0 | AR142: 4 | AT142: K | AU142: 2 | AY142: ROZPOCET | BE142: =IF(N142="základná",J142,0) -> 0 | BF142: =IF(N142="znížená",J142,0) -> 0 | BG142: =IF(N142="zákl. prenesená",J142,0) -> 0 | BH142: =IF(N142="zníž. prenesená",J142,0) -> 0 | BI142: =IF(N142="nulová",J142,0) -> 0 | BJ142: 2 | BK142: =ROUND(I142*H142,2) -> 0 | BL142: 4 | BM142: 6
D143: VV | F143: "odstranenie vozovky v páse 500mm kolem obrubníkov-kryt hr. 100mm" 0,5*6,2*2 | H143: 6.2 | AT143: VV | AU143: 2 | AV143: 2 | AW143: True | AX143: 0 | AY143: ROZPOCET
D144: VV | F144: Súčet | H144: 6.2 | AT144: VV | AU144: 2 | AV144: 4 | AW144: True | AX144: 1 | AY144: ROZPOCET
C145: 4 | D145: K | E145: 113107241 | F145: Odstránenie krytu v ploche nad 200 m2 asfaltového, hr. vrstvy do 50 mm, -0,09800t | G145: m2 | H145: 247.3 | J145: =ROUND(I145*H145,2) -> 0 | N145: znížená | P145: =O145*H145 -> 0 | Q145: 0 | R145: =Q145*H145 -> 0 | S145: 0 | T145: =S145*H145 -> 0 | AR145: 4 | AT145: K | AU145: 2 | AY145: ROZPOCET | BE145: =IF(N145="základná",J145,0) -> 0 | BF145: =IF(N145="znížená",J145,0) -> 0 | BG145: =IF(N145="zákl. prenesená",J145,0) -> 0 | BH145: =IF(N145="zníž. prenesená",J145,0) -> 0 | BI145: =IF(N145="nulová",J145,0) -> 0 | BJ145: 2 | BK145: =ROUND(I145*H145,2) -> 0 | BL145: 4 | BM145: 8
D146: VV | F146: "mostovka - stájúcí asfalt" 203,20 | H146: 203.2 | AT146: VV | AU146: 2 | AV146: 2 | AW146: True | AX146: 0 | AY146: ROZPOCET
D147: VV | F147: "odstranenie asfalt. chodníkov" 15,3+16,8+12 | H147: 44.1 | AT147: VV | AU147: 2 | AV147: 2 | AW147: True | AX147: 0 | AY147: ROZPOCET
D148: VV | F148: Súčet | H148: 247.3 | AT148: VV | AU148: 2 | AV148: 4 | AW148: True | AX148: 1 | AY148: ROZPOCET
C149: 5 | D149: K | E149: 113202111 | F149: Vytrhanie obrúb kamenných, s vybúraním lôžka, z krajníkov alebo obrubníkov stojatých, -0,14500t | G149: m | H149: 12.4 | J149: =ROUND(I149*H149,2) -> 0 | N149: znížená | P149: =O149*H149 -> 0 | Q149: 0 | R149: =Q149*H149 -> 0 | S149: 0 | T149: =S149*H149 -> 0 | AR149: 4 | AT149: K | AU149: 2 | AY149: ROZPOCET | BE149: =IF(N149="základná",J149,0) -> 0 | BF149: =IF(N149="znížená",J149,0) -> 0 | BG149: =IF(N149="zákl. prenesená",J149,0) -> 0 | BH149: =IF(N149="zníž. prenesená",J149,0) -> 0 | BI149: =IF(N149="nulová",J149,0) -> 0 | BJ149: 2 | BK149: =ROUND(I149*H149,2) -> 0 | BL149: 4 | BM149: 10
D150: VV | F150: "odstaněnie cestných obrubníkov"12,4 | H150: 12.4 | AT150: VV | AU150: 2 | AV150: 2 | AW150: True | AX150: 0 | AY150: ROZPOCET
D151: VV | F151: Súčet | H151: 12.4 | AT151: VV | AU151: 2 | AV151: 4 | AW151: True | AX151: 1 | AY151: ROZPOCET
C152: 6 | D152: K | E152: 113206111 | F152: Vytrhanie obrúb betónových, s vybúraním lôžka, z krajníkov alebo obrubníkov stojatých, -0,14500t | G152: m | H152: 16.4 | J152: =ROUND(I152*H152,2) -> 0 | N152: znížená | P152: =O152*H152 -> 0 | Q152: 0 | R152: =Q152*H152 -> 0 | S152: 0 | T152: =S152*H152 -> 0 | AR152: 4 | AT152: K | AU152: 2 | AY152: ROZPOCET | BE152: =IF(N152="základná",J152,0) -> 0 | BF152: =IF(N152="znížená",J152,0) -> 0 | BG152: =IF(N152="zákl. prenesená",J152,0) -> 0 | BH152: =IF(N152="zníž. prenesená",J152,0) -> 0 | BI152: =IF(N152="nulová",J152,0) -> 0 | BJ152: 2 | BK152: =ROUND(I152*H152,2) -> 0 | BL152: 4 | BM152: 12
D153: VV | F153: 6,2+6,2+2,0+2,0 | H153: 16.4 | AT153: VV | AU153: 2 | AV153: 2 | AW153: True | AX153: 0 | AY153: ROZPOCET
D154: VV | F154: Súčet | H154: 16.4 | AT154: VV | AU154: 2 | AV154: 4 | AW154: True | AX154: 1 | AY154: ROZPOCET
C155: 7 | D155: K | E155: 131101101 | F155: Výkop nezapaženej jamy v hornine 1-2, do 100 m3 | G155: m3 | H155: 8.591 | J155: =ROUND(I155*H155,2) -> 0 | N155: znížená | P155: =O155*H155 -> 0 | Q155: 0 | R155: =Q155*H155 -> 0 | S155: 0 | T155: =S155*H155 -> 0 | AR155: 4 | AT155: K | AU155: 2 | AY155: ROZPOCET | BE155: =IF(N155="základná",J155,0) -> 0 | BF155: =IF(N155="znížená",J155,0) -> 0 | BG155: =IF(N155="zákl. prenesená",J155,0) -> 0 | BH155: =IF(N155="zníž. prenesená",J155,0) -> 0 | BI155: =IF(N155="nulová",J155,0) -> 0 | BJ155: 2 | BK155: =ROUND(I155*H155,2) -> 0 | BL155: 4 | BM155: 14
D156: VV | F156: "sklz" 0,276*13 | H156: 3.588 | AT156: VV | AU156: 2 | AV156: 2 | AW156: True | AX156: 0 | AY156: ROZPOCET
D157: VV | F157: "chodník k výťahu a schodisku"0,613*3,5+0,488*4,6+0,613*1 | H157: 5.003 | AT157: VV | AU157: 2 | AV157: 2 | AW157: True | AX157: 0 | AY157: ROZPOCET
D158: VV | F158: Súčet | H158: 8.591 | AT158: VV | AU158: 2 | AV158: 4 | AW158: True | AX158: 1 | AY158: ROZPOCET
C159: 8 | D159: K | E159: 162501102 | F159: Vodorovné premiestnenie výkopku po spevnenej ceste z horniny tr.1-4, do 100 m3 na vzdialenosť do 3000 m | G159: m3 | H159: 8.591 | J159: =ROUND(I159*H159,2) -> 0 | N159: znížená | P159: =O159*H159 -> 0 | Q159: 0 | R159: =Q159*H159 -> 0 | S159: 0 | T159: =S159*H159 -> 0 | AR159: 4 | AT159: K | AU159: 2 | AY159: ROZPOCET | BE159: =IF(N159="základná",J159,0) -> 0 | BF159: =IF(N159="znížená",J159,0) -> 0 | BG159: =IF(N159="zákl. prenesená",J159,0) -> 0 | BH159: =IF(N159="zníž. prenesená",J159,0) -> 0 | BI159: =IF(N159="nulová",J159,0) -> 0 | BJ159: 2 | BK159: =ROUND(I159*H159,2) -> 0 | BL159: 4 | BM159: 16
C160: 9 | D160: K | E160: 167101100 | F160: Nakladanie výkopku tr.1-4 | G160: m3 | H160: 8.591 | J160: =ROUND(I160*H160,2) -> 0 | N160: znížená | P160: =O160*H160 -> 0 | Q160: 0 | R160: =Q160*H160 -> 0 | S160: 0 | T160: =S160*H160 -> 0 | AR160: 4 | AT160: K | AU160: 2 | AY160: ROZPOCET | BE160: =IF(N160="základná",J160,0) -> 0 | BF160: =IF(N160="znížená",J160,0) -> 0 | BG160: =IF(N160="zákl. prenesená",J160,0) -> 0 | BH160: =IF(N160="zníž. prenesená",J160,0) -> 0 | BI160: =IF(N160="nulová",J160,0) -> 0 | BJ160: 2 | BK160: =ROUND(I160*H160,2) -> 0 | BL160: 4 | BM160: 18
C161: 10 | D161: K | E161: 171201201 | F161: Uloženie sypaniny na skládky do 100 m3 | G161: m3 | H161: 8.591 | J161: =ROUND(I161*H161,2) -> 0 | N161: znížená | P161: =O161*H161 -> 0 | Q161: 0 | R161: =Q161*H161 -> 0 | S161: 0 | T161: =S161*H161 -> 0 | AR161: 4 | AT161: K | AU161: 2 | AY161: ROZPOCET | BE161: =IF(N161="základná",J161,0) -> 0 | BF161: =IF(N161="znížená",J161,0) -> 0 | BG161: =IF(N161="zákl. prenesená",J161,0) -> 0 | BH161: =IF(N161="zníž. prenesená",J161,0) -> 0 | BI161: =IF(N161="nulová",J161,0) -> 0 | BJ161: 2 | BK161: =ROUND(I161*H161,2) -> 0 | BL161: 4 | BM161: 20
C162: 11 | D162: K | E162: 184201111 | F162: Výsadba stromu do predom vyhĺbenej jamky v rovine alebo na svahu do 1:5 pri výške kmeňa do 1, 8 m | G162: ks | H162: 2 | J162: =ROUND(I162*H162,2) -> 0 | N162: znížená | P162: =O162*H162 -> 0 | Q162: 0 | R162: =Q162*H162 -> 0 | S162: 0 | T162: =S162*H162 -> 0 | AR162: 4 | AT162: K | AU162: 2 | AY162: ROZPOCET | BE162: =IF(N162="základná",J162,0) -> 0 | BF162: =IF(N162="znížená",J162,0) -> 0 | BG162: =IF(N162="zákl. prenesená",J162,0) -> 0 | BH162: =IF(N162="zníž. prenesená",J162,0) -> 0 | BI162: =IF(N162="nulová",J162,0) -> 0 | BJ162: 2 | BK162: =ROUND(I162*H162,2) -> 0 | BL162: 4 | BM162: 22
C163: 12 | D163: M | E163: 0265600084000R | F163: Breza previsnutá | G163: ks | H163: 2 | J163: =ROUND(I163*H163,2) -> 0 | N163: znížená | P163: =O163*H163 -> 0 | Q163: 0 | R163: =Q163*H163 -> 0 | S163: 0 | T163: =S163*H163 -> 0 | AR163: 8 | AT163: M | AU163: 2 | AY163: ROZPOCET | BE163: =IF(N163="základná",J163,0) -> 0 | BF163: =IF(N163="znížená",J163,0) -> 0 | BG163: =IF(N163="zákl. prenesená",J163,0) -> 0 | BH163: =IF(N163="zníž. prenesená",J163,0) -> 0 | BI163: =IF(N163="nulová",J163,0) -> 0 | BJ163: 2 | BK163: =ROUND(I163*H163,2) -> 0 | BL163: 4 | BM163: 24
D164: D | E164: 2 | F164: Zakladanie | J164: =BK164 -> 0 | P164: =SUM(P165:P178) -> 0 | R164: =SUM(R165:R178) -> 0 | T164: =SUM(T165:T178) -> 0 | AR164: 1 | AT164: D | AU164: 1 | AY164: ROZPOCET | BK164: =SUM(BK165:BK178) -> 0
...

Sheet D 202 - Schodisko
L2: >> skryté stĺpce << | AT2: {9a0319ae-a538-41ea-995d-b7aea3706a38}
AT3: 0
D4: Výkaz výmer | M4: v --- nižšie sa nachádzajú doplnkové a pomocné údaje k zostavám --- v | AT4: False
D6: Stavba:
E7: ='Rekapitulácia stavby'!K6 -> Oprava pešej lávky nad železničnou stanicou Nitra
D8: Objekt:
E9: SO 202 - Schodisko
D10: Časť:
E11: D 202 - Schodisko
D13: JKSO: | I13: KS:
D14: Miesto: | F14: Nitra | I14: Dátum: | J14: ='Rekapitulácia stavby'!AN8 -> 30. 8. 2021
D16: Objednávateľ: | I16: IČO:
E17: Mesto Nitra | I17: IČ DPH:
D19: Zhotoviteľ: | I19: IČO: | J19: ='Rekapitulácia stavby'!AN13 -> Vyplň údaj
E20: ='Rekapitulácia stavby'!E14 -> Vyplň údaj | I20: IČ DPH: | J20: ='Rekapitulácia stavby'!AN14 -> Vyplň údaj
D22: Projektant: | I22: IČO: | J22: =IF('Rekapitulácia stavby'!AN16="","",'Rekapitulácia stavby'!AN16)
E23: =IF('Rekapitulácia stavby'!E17="","",'Rekapitulácia stavby'!E17) | I23: IČ DPH: | J23: =IF('Rekapitulácia stavby'!AN17="","",'Rekapitulácia stavby'!AN17)
D25: Spracovateľ: | I25: IČO:
E26: Združenie „SHP: Nitra – PD" SHP SK s.r.o. | I26: IČ DPH:
D28: Poznámka:
D32: Cena bez DPH | J32: =ROUND(J129, 2) -> 0
F34: Základ dane | I34: Sadzba dane | J34: Výška dane
D35: DPH | E35: základná | F35: =ROUND((SUM(BE129:BE230)), 2) -> 0 | I35: 0.2 | J35: =ROUND(((SUM(BE129:BE230))*I35), 2) -> 0
E36: znížená | F36: =ROUND((SUM(BF129:BF230)), 2) -> 0 | I36: 0.2 | J36: =ROUND(((SUM(BF129:BF230))*I36), 2) -> 0
E37: zákl. prenesená | F37: =ROUND((SUM(BG129:BG230)), 2) -> 0 | I37: 0.2 | J37: =0 -> 0
E38: zníž. prenesená | F38: =ROUND((SUM(BH129:BH230)), 2) -> 0 | I38: 0.2 | J38: =0 -> 0
E39: nulová | F39: =ROUND((SUM(BI129:BI230)), 2) -> 0 | I39: 0 | J39: =0 -> 0
D41: Cena s DPH | G41: v | H41: EUR | J41: =SUM(J32:J39) -> 0
D50: Projektant | G50: Spracovateľ
D61: Dátum a podpis: | F61: Pečiatka | G61: Dátum a podpis: | J61: Pečiatka
D65: Objednávateľ | G65: Zhotoviteľ
D76: Dátum a podpis: | F76: Pečiatka | G76: Dátum a podpis: | J76: Pečiatka
C82: REKAPITULÁCIA
C84: Stavba:
E85: =E7 -> Oprava pešej lávky nad železničnou stanicou Nitra
C86: Objekt:
E87: SO 202 - Schodisko
C88: Časť:
E89: =E11 -> D 202 - Schodisko
C91: Miesto: | F91: =F14 -> Nitra | I91: Dátum: | J91: =IF(J14="","",J14) -> 30. 8. 2021
C93: Objednávateľ: | F93: =E17 -> Mesto Nitra | I93: Projektant: | J93: =E23
C94: Zhotoviteľ: | F94: =IF(E20="","",E20) -> Vyplň údaj | I94: Spracovateľ: | J94: =E26 -> Združenie „SHP: Nitra – PD" SHP SK s.r.o.
C96: Kód dielu - Popis | J96: Cena celkom [EUR]
C98: Náklady z rozpočtu | J98: =J129 -> 0 | AU98: -1
D99: HSV - Práce a dodávky HSV | J99: =J130 -> 0
D100: 1 - Zemné práce | J100: =J131 -> 0
D101: 2 - Zakladanie | J101: =J146 -> 0
D102: 9 - Ostatné konštrukcie a práce-búranie | J102: =J161 -> 0
D103: 99 - Presun hmôt HSV | J103: =J178 -> 0
D104: PSV - Práce a dodávky PSV | J104: =J180 -> 0
D105: 711 - Izolácie proti vode a vlhkosti | J105: =J181 -> 0
D106: 767 - Konštrukcie doplnkové kovové | J106: =J195 -> 0
D107: 783 - Nátery | J107: =J205 -> 0
C114: ROZPOČET
C116: Stavba:
E117: =E7 -> Oprava pešej lávky nad železničnou stanicou Nitra
C118: Objekt:
E119: SO 202 - Schodisko
C120: Časť:
E121: =E11 -> D 202 - Schodisko
C123: Miesto: | F123: =F14 -> Nitra | I123: Dátum: | J123: =IF(J14="","",J14) -> 30. 8. 2021
C125: Objednávateľ: | F125: =E17 -> Mesto Nitra | I125: Projektant: | J125: =E23
C126: Zhotoviteľ: | F126: =IF(E20="","",E20) -> Vyplň údaj | I126: Spracovateľ: | J126: =E26 -> Združenie „SHP: Nitra – PD" SHP SK s.r.o.
C128: PČ | D128: Typ | E128: Kód | F128: Popis | G128: MJ | H128: Množstvo | I128: J.cena [EUR] | J128: Cena celkom [EUR] | K128: Cenová sústava | N128: DPH | O128: J. Nh [h] | P128: Nh celkom [h] | Q128: J. hmotnosť [t] | R128: Hmotnosť celkom [t] | S128: J. suť [t] | T128: Suť Celkom [t]
C129: Náklady z rozpočtu | J129: =BK129 -> 0 | P129: =P130+P180 -> 0 | R129: =R130+R180 -> 0 | T129: =T130+T180 -> 0 | AT129: D | AU129: -1 | BK129: =BK130+BK180 -> 0
D130: D | E130: HSV | F130: Práce a dodávky HSV | J130: =BK130 -> 0 | P130: =P131+P146+P161+P178 -> 0 | R130: =R131+R146+R161+R178 -> 0 | T130: =T131+T146+T161+T178 -> 0 | AR130: 1 | AT130: D | AU130: 0 | AY130: ROZPOCET | BK130: =BK131+BK146+BK161+BK178 -> 0
D131: D | E131: 1 | F131: Zemné práce | J131: =BK131 -> 0 | P131: =SUM(P132:P145) -> 0 | R131: =SUM(R132:R145) -> 0 | T131: =SUM(T132:T145) -> 0 | AR131: 1 | AT131: D | AU131: 1 | AY131: ROZPOCET | BK131: =SUM(BK132:BK145) -> 0
C132: 1 | D132: K | E132: 113107141 | F132: Odstránenie krytu v ploche do 200 m2 asfaltového, hr. vrstvy do 50 mm, -0,09800t | G132: m2 | H132: 57.41 | J132: =ROUND(I132*H132,2) -> 0 | N132: znížená | P132: =O132*H132 -> 0 | Q132: 0 | R132: =Q132*H132 -> 0 | S132: 0 | T132: =S132*H132 -> 0 | AR132: 4 | AT132: K | AU132: 2 | AY132: ROZPOCET | BE132: =IF(N132="základná",J132,0) -> 0 | BF132: =IF(N132="znížená",J132,0) -> 0 | BG132: =IF(N132="zákl. prenesená",J132,0) -> 0 | BH132: =IF(N132="zníž. prenesená",J132,0) -> 0 | BI132: =IF(N132="nulová",J132,0) -> 0 | BJ132: 2 | BK132: =ROUND(I132*H132,2) -> 0 | BL132: 4 | BM132: 2
D133: VV | F133: "pôvodné schodnice" 57,41 | H133: 57.41 | AT133: VV | AU133: 2 | AV133: 2 | AW133: True | AX133: 0 | AY133: ROZPOCET
D134: VV | F134: Súčet | H134: 57.41 | AT134: VV | AU134: 2 | AV134: 4 | AW134: True | AX134: 1 | AY134: ROZPOCET
C135: 2 | D135: K | E135: 131101101 | F135: Výkop nezapaženej jamy v hornine 1-2, do 100 m3 | G135: m3 | H135: 50.211 | J135: =ROUND(I135*H135,2) -> 0 | N135: znížená | P135: =O135*H135 -> 0 | Q135: 0 | R135: =Q135*H135 -> 0 | S135: 0 | T135: =S135*H135 -> 0 | AR135: 4 | AT135: K | AU135: 2 | AY135: ROZPOCET | BE135: =IF(N135="základná",J135,0) -> 0 | BF135: =IF(N135="znížená",J135,0) -> 0 | BG135: =IF(N135="zákl. prenesená",J135,0) -> 0 | BH135: =IF(N135="zníž. prenesená",J135,0) -> 0 | BI135: =IF(N135="nulová",J135,0) -> 0 | BJ135: 2 | BK135: =ROUND(I135*H135,2) -> 0 | BL135: 4 | BM135: 4
D136: VV | F136: "základy schodiska - cca50% výkopov v zemine"(2*(3,96*1,6)+3*(5,85*5,0))/2"vrátane nakladania na doprav.prostriedok" | H136: 50.211 | AT136: VV | AU136: 2 | AV136: 2 | AW136: True | AX136: 0 | AY136: ROZPOCET
D137: VV | F137: Súčet | H137: 50.211 | AT137: VV | AU137: 2 | AV137: 4 | AW137: True | AX137: 1 | AY137: ROZPOCET
C138: 3 | D138: K | E138: 162501102 | F138: Vodorovné premiestnenie výkopku po spevnenej ceste z horniny tr.1-4, do 100 m3 na vzdialenosť do 3000 m | G138: m3 | H138: 50.211 | J138: =ROUND(I138*H138,2) -> 0 | N138: znížená | P138: =O138*H138 -> 0 | Q138: 0 | R138: =Q138*H138 -> 0 | S138: 0 | T138: =S138*H138 -> 0 | AR138: 4 | AT138: K | AU138: 2 | AY138: ROZPOCET | BE138: =IF(N138="základná",J138,0) -> 0 | BF138: =IF(N138="znížená",J138,0) -> 0 | BG138: =IF(N138="zákl. prenesená",J138,0) -> 0 | BH138: =IF(N138="zníž. prenesená",J138,0) -> 0 | BI138: =IF(N138="nulová",J138,0) -> 0 | BJ138: 2 | BK138: =ROUND(I138*H138,2) -> 0 | BL138: 4 | BM138: 6
C139: 4 | D139: K | E139: 167101100 | F139: Nakladanie výkopku tr.1-4 | G139: m3 | H139: 82.145 | J139: =ROUND(I139*H139,2) -> 0 | N139: znížená | P139: =O139*H139 -> 0 | Q139: 0 | R139: =Q139*H139 -> 0 | S139: 0 | T139: =S139*H139 -> 0 | AR139: 4 | AT139: K | AU139: 2 | AY139: ROZPOCET | BE139: =IF(N139="základná",J139,0) -> 0 | BF139: =IF(N139="znížená",J139,0) -> 0 | BG139: =IF(N139="zákl. prenesená",J139,0) -> 0 | BH139: =IF(N139="zníž. prenesená",J139,0) -> 0 | BI139: =IF(N139="nulová",J139,0) -> 0 | BJ139: 2 | BK139: =ROUND(I139*H139,2) -> 0 | BL139: 4 | BM139: 8
D140: VV | F140: "zemina k zásypom základov schodiska zo skládky" 82,145 | H140: 82.145 | AT140: VV | AU140: 2 | AV140: 2 | AW140: True | AX140: 0 | AY140: ROZPOCET
D141: VV | F141: Súčet | H141: 82.145 | AT141: VV | AU141: 2 | AV141: 4 | AW141: True | AX141: 1 | AY141: ROZPOCET
C142: 5 | D142: K | E142: 171201201 | F142: Uloženie sypaniny na skládky do 100 m3 | G142: m3 | H142: 50.211 | J142: =ROUND(I142*H142,2) -> 0 | N142: znížená | P142: =O142*H142 -> 0 | Q142: 0 | R142: =Q142*H142 -> 0 | S142: 0 | T142: =S142*H142 -> 0 | AR142: 4 | AT142: K | AU142: 2 | AY142: ROZPOCET | BE142: =IF(N142="základná",J142,0) -> 0 | BF142: =IF(N142="znížená",J142,0) -> 0 | BG142: =IF(N142="zákl. prenesená",J142,0) -> 0 | BH142: =IF(N142="zníž. prenesená",J142,0) -> 0 | BI142: =IF(N142="nulová",J142,0) -> 0 | BJ142: 2 | BK142: =ROUND(I142*H142,2) -> 0 | BL142: 4 | BM142: 10
C143: 6 | D143: K | E143: 174101001 | F143: Zásyp sypaninou so zhutnením jám, šachiet, rýh, zárezov alebo okolo objektov do 100 m3 | G143: m3 | H143: 82.145 | J143: =ROUND(I143*H143,2) -> 0 | N143: znížená | P143: =O143*H143 -> 0 | Q143: 0 | R143: =Q143*H143 -> 0 | S143: 0 | T143: =S143*H143 -> 0 | AR143: 4 | AT143: K | AU143: 2 | AY143: ROZPOCET | BE143: =IF(N143="základná",J143,0) -> 0 | BF143: =IF(N143="znížená",J143,0) -> 0 | BG143: =IF(N143="zákl. prenesená",J143,0) -> 0 | BH143: =IF(N143="zníž. prenesená",J143,0) -> 0 | BI143: =IF(N143="nulová",J143,0) -> 0 | BJ143: 2 | BK143: =ROUND(I143*H143,2) -> 0 | BL143: 4 | BM143: 12
D144: VV | F144: "spätný zásyp-základy schodiska-vrátane materiálu"2*(6,336-0,05-(0,216*1,23))+3*(29,25-0,594-5,288) | H144: 82.145 | AT144: VV | AU144: 2 | AV144: 2 | AW144: True | AX144: 0 | AY144: ROZPOCET
D145: VV | F145: Súčet | H145: 82.145 | AT145: VV | AU145: 2 | AV145: 4 | AW145: True | AX145: 1 | AY145: ROZPOCET
D146: D | E146: 2 | F146: Zakladanie | J146: =BK146 -> 0 | P146: =SUM(P147:P160) -> 0 | R146: =SUM(R147:R160) -> 0 | T146: =SUM(T147:T160) -> 0 | AR146: 1 | AT146: D | AU146: 1 | AY146: ROZPOCET | BK146: =SUM(BK147:BK160) -> 0
C147: 7 | D147: K | E147: 275313521 | F147: Betón základových pätiek, prostý tr. C 12/15 | G147: m3 | H147: 1.874 | J147: =ROUND(I147*H147,2) -> 0 | N147: znížená | P147: =O147*H147 -> 0 | Q147: 0 | R147: =Q147*H147 -> 0 | S147: 0 | T147: =S147*H147 -> 0 | AR147: 4 | AT147: K | AU147: 2 | AY147: ROZPOCET | BE147: =IF(N147="základná",J147,0) -> 0 | BF147: =IF(N147="znížená",J147,0) -> 0 | BG147: =IF(N147="zákl. prenesená",J147,0) -> 0 | BH147: =IF(N147="zníž. prenesená",J147,0) -> 0 | BI147: =IF(N147="nulová",J147,0) -> 0 | BJ147: 2 | BK147: =ROUND(I147*H147,2) -> 0 | BL147: 4 | BM147: 14
D148: VV | F148: "základy schodiska-podkladný betón" (2*0,459+3*5,94)*0,1 | H148: 1.874 | AT148: VV | AU148: 2 | AV148: 2 | AW148: True | AX148: 0 | AY148: ROZPOCET
D149: VV | F149: Súčet | H149: 1.874 | AT149: VV | AU149: 2 | AV149: 4 | AW149: True | AX149: 1 | AY149: ROZPOCET
C150: 8 | D150: K | E150: 275321411 | F150: Betón základových pätiek, železový (bez výstuže), tr. C 25/30 | G150: m3 | H150: 17.071 | J150: =ROUND(I150*H150,2) -> 0 | N150: znížená | P150: =O150*H150 -> 0 | Q150: 0 | R150: =Q150*H150 -> 0 | S150: 0 | T150: =S150*H150 -> 0 | AR150: 4 | AT150: K | AU150: 2 | AY150: ROZPOCET | BE150: =IF(N150="základná",J150,0) -> 0 | BF150: =IF(N150="znížená",J150,0) -> 0 | BG150: =IF(N150="zákl. prenesená",J150,0) -> 0 | BH150: =IF(N150="zníž. prenesená",J150,0) -> 0 | BI150: =IF(N150="nulová",J150,0) -> 0 | BJ150: 2 | BK150: =ROUND(I150*H150,2) -> 0 | BL150: 4 | BM150: 16
D151: VV | F151: "základy schodiska" 2*(1,295*0,216)+3*5,504 | H151: 17.071 | AT151: VV | AU151: 2 | AV151: 2 | AW151: True | AX151: 0 | AY151: ROZPOCET
D152: VV | F152: Súčet | H152: 17.071 | AT152: VV | AU152: 2 | AV152: 4 | AW152: True | AX152: 1 | AY152: ROZPOCET
C153: 9 | D153: K | E153: 275351217 | F153: Debnenie stien základových pätiek, zhotovenie-tradičné | G153: m2 | H153: 39.566 | J153: =ROUND(I153*H153,2) -> 0 | N153: znížená | P153: =O153*H153 -> 0 | Q153: 0 | R153: =Q153*H153 -> 0 | S153: 0 | T153: =S153*H153 -> 0 | AR153: 4 | AT153: K | AU153: 2 | AY153: ROZPOCET | BE153: =IF(N153="základná",J153,0) -> 0 | BF153: =IF(N153="znížená",J153,0) -> 0 | BG153: =IF(N153="zákl. prenesená",J153,0) -> 0 | BH153: =IF(N153="zníž. prenesená",J153,0) -> 0 | BI153: =IF(N153="nulová",J153,0) -> 0 | BJ153: 2 | BK153: =ROUND(I153*H153,2) -> 0 | BL153: 4 | BM153: 18
D154: VV | F154: "základy schodiska" 2*(1,295*2,037)+3*(9+(0,35*4,8)) | H154: 37.316 | AT154: VV | AU154: 2 | AV154: 2 | AW154: True | AX154: 0 | AY154: ROZPOCET
D155: VV | F155: "základy schodiska-podkladný betón" ((2*2,85)+(3*5,6))*0,1 | H155: 2.25 | AT155: VV | AU155: 2 | AV155: 2 | AW155: True | AX155: 0 | AY155: ROZPOCET
D156: VV | F156: Súčet | H156: 39.566 | AT156: VV | AU156: 2 | AV156: 4 | AW156: True | AX156: 1 | AY156: ROZPOCET
C157: 10 | D157: K | E157: 275351218 | F157: Debnenie stien základových pätiek, odstránenie-tradičné | G157: m2 | H157: 39.566 | J157: =ROUND(I157*H157,2) -> 0 | N157: znížená | P157: =O157*H157 -> 0 | Q157: 0 | R157: =Q157*H157 -> 0 | S157: 0 | T157: =S157*H157 -> 0 | AR157: 4 | AT157: K | AU157: 2 | AY157: ROZPOCET | BE157: =IF(N157="základná",J157,0) -> 0 | BF157: =IF(N157="znížená",J157,0) -> 0 | BG157: =IF(N157="zákl. prenesená",J157,0) -> 0 | BH157: =IF(N157="zníž. prenesená",J157,0) -> 0 | BI157: =IF(N157="nulová",J157,0) -> 0 | BJ157: 2 | BK157: =ROUND(I157*H157,2) -> 0 | BL157: 4 | BM157: 20
C158: 11 | D158: K | E158: 275361821 | F158: Výstuž základových pätiek z ocele 10505 | G158: t | H158: 1.841 | J158: =ROUND(I158*H158,2) -> 0 | N158: znížená | P158: =O158*H158 -> 0 | Q158: 0 | R158: =Q158*H158 -> 0 | S158: 0 | T158: =S158*H158 -> 0 | AR158: 4 | AT158: K | AU158: 2 | AY158: ROZPOCET | BE158: =IF(N158="základná",J158,0) -> 0 | BF158: =IF(N158="znížená",J158,0) -> 0 | BG158: =IF(N158="zákl. prenesená",J158,0) -> 0 | BH158: =IF(N158="zníž. prenesená",J158,0) -> 0 | BI158: =IF(N158="nulová",J158,0) -> 0 | BJ158: 2 | BK158: =ROUND(I158*H158,2) -> 0 | BL158: 4 | BM158: 22
D159: VV | F159: "základy schodiska" (2*21,8+3*599,2)/1000 | H159: 1.841 | AT159: VV | AU159: 2 | AV159: 2 | AW159: True | AX159: 0 | AY159: ROZPOCET
D160: VV | F160: Súčet | H160: 1.841 | AT160: VV | AU160: 2 | AV160: 4 | AW160: True | AX160: 1 | AY160: ROZPOCET
D161: D | E161: 9 | F161: Ostatné konštrukcie a práce-búranie | J161: =BK161 -> 0 | P161: =SUM(P162:P177) -> 0 | R161: =SUM(R162:R177) -> 0 | T161: =SUM(T162:T177) -> 0 | AR161: 1 | AT161: D | AU161: 1 | AY161: ROZPOCET | BK161: =SUM(BK162:BK177) -> 0
C162: 12 | D162: K | E162: 936942121 | F162: Osadenie mostnej vpusti | G162: ks | H162: 1 | J162: =ROUND(I162*H162,2) -> 0 | N162: znížená | P162: =O162*H162 -> 0 | Q162: 0 | R162: =Q162*H162 -> 0 | S162: 0 | T162: =S162*H162 -> 0 | AR162: 4 | AT162: K | AU162: 2 | AY162: ROZPOCET | BE162: =IF(N162="základná",J162,0) -> 0 | BF162: =IF(N162="znížená",J162,0) -> 0 | BG162: =IF(N162="zákl. prenesená",J162,0) -> 0 | BH162: =IF(N162="zníž. prenesená",J162,0) -> 0 | BI162: =IF(N162="nulová",J162,0) -> 0 | BJ162: 2 | BK162: =ROUND(I162*H162,2) -> 0 | BL162: 4 | BM162: 24
C163: 13 | D163: M | E163: 286630025800 | F163: Podlahový vpust nerez | G163: ks | H163: 1 | J163: =ROUND(I163*H163,2) -> 0 | N163: znížená | P163: =O163*H163 -> 0 | Q163: 0 | R163: =Q163*H163 -> 0 | S163: 0 | T163: =S163*H163 -> 0 | AR163: 8 | AT163: M | AU163: 2 | AY163: ROZPOCET | BE163: =IF(N163="základná",J163,0) -> 0 | BF163: =IF(N163="znížená",J163,0) -> 0 | BG163: =IF(N163="zákl. prenesená",J163,0) -> 0 | BH163: =IF(N163="zníž. prenesená",J163,0) -> 0 | BI163: =IF(N163="nulová",J163,0) -> 0 | BJ163: 2 | BK163: =ROUND(I163*H163,2) -> 0 | BL163: 4 | BM163: 26
C164: 14 | D164: K | E164: 961055111 | F164: Búranie základov alebo vybúranie otvorov plochy nad 4 m2 v základoch železobetónových, -2,40000t | G164: m3 | H164: 50.211 | J164: =ROUND(I164*H164,2) -> 0 | N164: znížená | P164: =O164*H164 -> 0 | Q164: 0 | R164: =Q164*H164 -> 0 | S164: 0 | T164: =S164*H164 -> 0 | AR164: 4 | AT164: K | AU164: 2 | AY164: ROZPOCET | BE164: =IF(N164="základná",J164,0) -> 0 | BF164: =IF(N164="znížená",J164,0) -> 0 | BG164: =IF(N164="zákl. prenesená",J164,0) -> 0 | BH164: =IF(N164="zníž. prenesená",J164,0) -> 0 | BI164: =IF(N164="nulová",J164,0) -> 0 | BJ164: 2 | BK164: =ROUND(I164*H164,2) -> 0 | BL164: 4 | BM164: 28
...

Sheet D 203 - Výťah
L2: >> skryté stĺpce << | AT2: {245cd100-bb97-4ea5-b1c4-e021dc9c2ac9}
AT3: 0
D4: Výkaz výmer | M4: v --- nižšie sa nachádzajú doplnkové a pomocné údaje k zostavám --- v | AT4: False
D6: Stavba:
E7: ='Rekapitulácia stavby'!K6 -> Oprava pešej lávky nad železničnou stanicou Nitra
D8: Objekt:
E9: SO 203 - Výťah
D10: Časť:
E11: D 203 - Výťah
D13: JKSO: | I13: KS:
D14: Miesto: | F14: Nitra | I14: Dátum: | J14: ='Rekapitulácia stavby'!AN8 -> 30. 8. 2021
D16: Objednávateľ: | I16: IČO:
E17: Mesto Nitra | I17: IČ DPH:
D19: Zhotoviteľ: | I19: IČO: | J19: ='Rekapitulácia stavby'!AN13 -> Vyplň údaj
E20: ='Rekapitulácia stavby'!E14 -> Vyplň údaj | I20: IČ DPH: | J20: ='Rekapitulácia stavby'!AN14 -> Vyplň údaj
D22: Projektant: | I22: IČO: | J22: =IF('Rekapitulácia stavby'!AN16="","",'Rekapitulácia stavby'!AN16)
E23: =IF('Rekapitulácia stavby'!E17="","",'Rekapitulácia stavby'!E17) | I23: IČ DPH: | J23: =IF('Rekapitulácia stavby'!AN17="","",'Rekapitulácia stavby'!AN17)
D25: Spracovateľ: | I25: IČO:
E26: Združenie „SHP: Nitra – PD" SHP SK s.r.o. | I26: IČ DPH:
D28: Poznámka:
D32: Cena bez DPH | J32: =ROUND(J136, 2) -> 0
F34: Základ dane | I34: Sadzba dane | J34: Výška dane
D35: DPH | E35: základná | F35: =ROUND((SUM(BE136:BE282)), 2) -> 0 | I35: 0.2 | J35: =ROUND(((SUM(BE136:BE282))*I35), 2) -> 0
E36: znížená | F36: =ROUND((SUM(BF136:BF282)), 2) -> 0 | I36: 0.2 | J36: =ROUND(((SUM(BF136:BF282))*I36), 2) -> 0
E37: zákl. prenesená | F37: =ROUND((SUM(BG136:BG282)), 2) -> 0 | I37: 0.2 | J37: =0 -> 0
E38: zníž. prenesená | F38: =ROUND((SUM(BH136:BH282)), 2) -> 0 | I38: 0.2 | J38: =0 -> 0
E39: nulová | F39: =ROUND((SUM(BI136:BI282)), 2) -> 0 | I39: 0 | J39: =0 -> 0
D41: Cena s DPH | G41: v | H41: EUR | J41: =SUM(J32:J39) -> 0
D50: Projektant | G50: Spracovateľ
D61: Dátum a podpis: | F61: Pečiatka | G61: Dátum a podpis: | J61: Pečiatka
D65: Objednávateľ | G65: Zhotoviteľ
D76: Dátum a podpis: | F76: Pečiatka | G76: Dátum a podpis: | J76: Pečiatka
C82: REKAPITULÁCIA
C84: Stavba:
E85: =E7 -> Oprava pešej lávky nad železničnou stanicou Nitra
C86: Objekt:
E87: SO 203 - Výťah
C88: Časť:
E89: =E11 -> D 203 - Výťah
C91: Miesto: | F91: =F14 -> Nitra | I91: Dátum: | J91: =IF(J14="","",J14) -> 30. 8. 2021
C93: Objednávateľ: | F93: =E17 -> Mesto Nitra | I93: Projektant: | J93: =E23
C94: Zhotoviteľ: | F94: =IF(E20="","",E20) -> Vyplň údaj | I94: Spracovateľ: | J94: =E26 -> Združenie „SHP: Nitra – PD" SHP SK s.r.o.
C96: Kód dielu - Popis | J96: Cena celkom [EUR]
C98: Náklady z rozpočtu | J98: =J136 -> 0 | AU98: -1
D99: HSV - Práce a dodávky HSV | J99: =J137 -> 0
D100: 1 - Zemné práce | J100: =J138 -> 0
D101: 2 - Zakladanie | J101: =J152 -> 0
D102: 3 - Zvislé a kompletné konštrukcie | J102: =J165 -> 0
D103: 4 - Vodorovné konštrukcie | J103: =J172 -> 0
D104: 6 - Úpravy povrchov, podlahy, osadenie | J104: =J185 -> 0
D105: 9 - Ostatné konštrukcie a práce-búranie | J105: =J189 -> 0
D106: 99 - Presun hmôt HSV | J106: =J204 -> 0
D107: PSV - Práce a dodávky PSV | J107: =J206 -> 0
D108: 711 - Izolácie proti vode a vlhkosti | J108: =J207 -> 0
D109: 712 - Izolácie striech, povlakové krytiny | J109: =J221 -> 0
D110: 713 - Izolácie tepelné | J110: =J243 -> 0
D111: 724 - Strojné vybavenie | J111: =J251 -> 0
D112: 727 - Elektroinštalačné práce | J112: =J253 -> 0
D113: 764 - Konštrukcie klampiarske | J113: =J262 -> 0
D114: 783 - Nátery | J114: =J281 -> 0
C121: ROZPOČET
C123: Stavba:
E124: =E7 -> Oprava pešej lávky nad železničnou stanicou Nitra
C125: Objekt:
E126: SO 203 - Výťah
C127: Časť:
E128: =E11 -> D 203 - Výťah
C130: Miesto: | F130: =F14 -> Nitra | I130: Dátum: | J130: =IF(J14="","",J14) -> 30. 8. 2021
C132: Objednávateľ: | F132: =E17 -> Mesto Nitra | I132: Projektant: | J132: =E23
C133: Zhotoviteľ: | F133: =IF(E20="","",E20) -> Vyplň údaj | I133: Spracovateľ: | J133: =E26 -> Združenie „SHP: Nitra – PD" SHP SK s.r.o.
C135: PČ | D135: Typ | E135: Kód | F135: Popis | G135: MJ | H135: Množstvo | I135: J.cena [EUR] | J135: Cena celkom [EUR] | K135: Cenová sústava | N135: DPH | O135: J. Nh [h] | P135: Nh celkom [h] | Q135: J. hmotnosť [t] | R135: Hmotnosť celkom [t] | S135: J. suť [t] | T135: Suť Celkom [t]
C136: Náklady z rozpočtu | J136: =BK136 -> 0 | P136: =P137+P206 -> 0 | R136: =R137+R206 -> 0 | T136: =T137+T206 -> 0 | AT136: D | AU136: -1 | BK136: =BK137+BK206 -> 0
D137: D | E137: HSV | F137: Práce a dodávky HSV | J137: =BK137 -> 0 | P137: =P138+P152+P165+P172+P185+P189+P204 -> 0 | R137: =R138+R152+R165+R172+R185+R189+R204 -> 0 | T137: =T138+T152+T165+T172+T185+T189+T204 -> 0 | AR137: 1 | AT137: D | AU137: 0 | AY137: ROZPOCET | BK137: =BK138+BK152+BK165+BK172+BK185+BK189+BK204 -> 0
D138: D | E138: 1 | F138: Zemné práce | J138: =BK138 -> 0 | P138: =SUM(P139:P151) -> 0 | R138: =SUM(R139:R151) -> 0 | T138: =SUM(T139:T151) -> 0 | AR138: 1 | AT138: D | AU138: 1 | AY138: ROZPOCET | BK138: =SUM(BK139:BK151) -> 0
C139: 1 | D139: K | E139: 131101101 | F139: Výkop nezapaženej jamy v hornine 1-2, do 100 m3 | G139: m3 | H139: 36.024 | J139: =ROUND(I139*H139,2) -> 0 | N139: znížená | P139: =O139*H139 -> 0 | Q139: 0 | R139: =Q139*H139 -> 0 | S139: 0 | T139: =S139*H139 -> 0 | AR139: 4 | AT139: K | AU139: 2 | AY139: ROZPOCET | BE139: =IF(N139="základná",J139,0) -> 0 | BF139: =IF(N139="znížená",J139,0) -> 0 | BG139: =IF(N139="zákl. prenesená",J139,0) -> 0 | BH139: =IF(N139="zníž. prenesená",J139,0) -> 0 | BI139: =IF(N139="nulová",J139,0) -> 0 | BJ139: 2 | BK139: =ROUND(I139*H139,2) -> 0 | BL139: 4 | BM139: 2
D140: VV | F140: "výťahová šachta-cca 50% objemu zemina"(12,64*5,7)/2"vrátane nakladania na doprav.prostriedok" | H140: 36.024 | AT140: VV | AU140: 2 | AV140: 2 | AW140: True | AX140: 0 | AY140: ROZPOCET
D141: VV | F141: Súčet | H141: 36.024 | AT141: VV | AU141: 2 | AV141: 4 | AW141: True | AX141: 1 | AY141: ROZPOCET
C142: 2 | D142: K | E142: 162501102 | F142: Vodorovné premiestnenie výkopku po spevnenej ceste z horniny tr.1-4, do 100 m3 na vzdialenosť do 3000 m | G142: m3 | H142: 36.024 | J142: =ROUND(I142*H142,2) -> 0 | N142: znížená | P142: =O142*H142 -> 0 | Q142: 0 | R142: =Q142*H142 -> 0 | S142: 0 | T142: =S142*H142 -> 0 | AR142: 4 | AT142: K | AU142: 2 | AY142: ROZPOCET | BE142: =IF(N142="základná",J142,0) -> 0 | BF142: =IF(N142="znížená",J142,0) -> 0 | BG142: =IF(N142="zákl. prenesená",J142,0) -> 0 | BH142: =IF(N142="zníž. prenesená",J142,0) -> 0 | BI142: =IF(N142="nulová",J142,0) -> 0 | BJ142: 2 | BK142: =ROUND(I142*H142,2) -> 0 | BL142: 4 | BM142: 4
C143: 3 | D143: K | E143: 167101100 | F143: Nakladanie výkopku tr.1-4 | G143: m3 | H143: 49.408 | J143: =ROUND(I143*H143,2) -> 0 | N143: znížená | P143: =O143*H143 -> 0 | Q143: 0 | R143: =Q143*H143 -> 0 | S143: 0 | T143: =S143*H143 -> 0 | AR143: 4 | AT143: K | AU143: 2 | AY143: ROZPOCET | BE143: =IF(N143="základná",J143,0) -> 0 | BF143: =IF(N143="znížená",J143,0) -> 0 | BG143: =IF(N143="zákl. prenesená",J143,0) -> 0 | BH143: =IF(N143="zníž. prenesená",J143,0) -> 0 | BI143: =IF(N143="nulová",J143,0) -> 0 | BJ143: 2 | BK143: =ROUND(I143*H143,2) -> 0 | BL143: 4 | BM143: 6
C144: 4 | D144: K | E144: 171201201 | F144: Uloženie sypaniny na skládky do 100 m3 | G144: m3 | H144: 36.024 | J144: =ROUND(I144*H144,2) -> 0 | N144: znížená | P144: =O144*H144 -> 0 | Q144: 0 | R144: =Q144*H144 -> 0 | S144: 0 | T144: =S144*H144 -> 0 | AR144: 4 | AT144: K | AU144: 2 | AY144: ROZPOCET | BE144: =IF(N144="základná",J144,0) -> 0 | BF144: =IF(N144="znížená",J144,0) -> 0 | BG144: =IF(N144="zákl. prenesená",J144,0) -> 0 | BH144: =IF(N144="zníž. prenesená",J144,0) -> 0 | BI144: =IF(N144="nulová",J144,0) -> 0 | BJ144: 2 | BK144: =ROUND(I144*H144,2) -> 0 | BL144: 4 | BM144: 8
C145: 5 | D145: K | E145: 174101001 | F145: Zásyp sypaninou so zhutnením jám, šachiet, rýh, zárezov alebo okolo objektov do 100 m3 | G145: m3 | H145: 49.408 | J145: =ROUND(I145*H145,2) -> 0 | N145: znížená | P145: =O145*H145 -> 0 | Q145: 0 | R145: =Q145*H145 -> 0 | S145: 0 | T145: =S145*H145 -> 0 | AR145: 4 | AT145: K | AU145: 2 | AY145: ROZPOCET | BE145: =IF(N145="základná",J145,0) -> 0 | BF145: =IF(N145="znížená",J145,0) -> 0 | BG145: =IF(N145="zákl. prenesená",J145,0) -> 0 | BH145: =IF(N145="zníž. prenesená",J145,0) -> 0 | BI145: =IF(N145="nulová",J145,0) -> 0 | BJ145: 2 | BK145: =ROUND(I145*H145,2) -> 0 | BL145: 4 | BM145: 10
D146: VV | F146: "spätný zásyp-výťahová šachta-vrátane materiálu-pôvodná zemina" 72,048-9,72-10,08-1,34-1,5 | H146: 49.408 | AT146: VV | AU146: 2 | AV146: 2 | AW146: True | AX146: 0 | AY146: ROZPOCET
D147: VV | F147: Súčet | H147: 49.408 | AT147: VV | AU147: 2 | AV147: 4 | AW147: True | AX147: 1 | AY147: ROZPOCET
C148: 6 | D148: K | E148: 174101001 | F148: Zásyp sypaninou so zhutnením jám, šachiet, rýh, zárezov alebo okolo objektov do 100 m3 | G148: m3 | H148: 10.08 | J148: =ROUND(I148*H148,2) -> 0 | N148: znížená | P148: =O148*H148 -> 0 | Q148: 0 | R148: =Q148*H148 -> 0 | S148: 0 | T148: =S148*H148 -> 0 | AR148: 4 | AT148: K | AU148: 2 | AY148: ROZPOCET | BE148: =IF(N148="základná",J148,0) -> 0 | BF148: =IF(N148="znížená",J148,0) -> 0 | BG148: =IF(N148="zákl. prenesená",J148,0) -> 0 | BH148: =IF(N148="zníž. prenesená",J148,0) -> 0 | BI148: =IF(N148="nulová",J148,0) -> 0 | BJ148: 2 | BK148: =ROUND(I148*H148,2) -> 0 | BL148: 4 | BM148: 12
D149: VV | F149: "výmena podložia výťahovej šachty" 4,2*4,8*0,5 | H149: 10.08 | AT149: VV | AU149: 2 | AV149: 2 | AW149: True | AX149: 0 | AY149: ROZPOCET
D150: VV | F150: Súčet | H150: 10.08 | AT150: VV | AU150: 2 | AV150: 4 | AW150: True | AX150: 1 | AY150: ROZPOCET
C151: 7 | D151: M | E151: 583310003700 | F151: Štrkopiesok frakcia 8-16 mm, STN EN 13242 + A1 | G151: t | H151: 17.03 | J151: =ROUND(I151*H151,2) -> 0 | N151: znížená | P151: =O151*H151 -> 0 | Q151: 0 | R151: =Q151*H151 -> 0 | S151: 0 | T151: =S151*H151 -> 0 | AR151: 8 | AT151: M | AU151: 2 | AY151: ROZPOCET | BE151: =IF(N151="základná",J151,0) -> 0 | BF151: =IF(N151="znížená",J151,0) -> 0 | BG151: =IF(N151="zákl. prenesená",J151,0) -> 0 | BH151: =IF(N151="zníž. prenesená",J151,0) -> 0 | BI151: =IF(N151="nulová",J151,0) -> 0 | BJ151: 2 | BK151: =ROUND(I151*H151,2) -> 0 | BL151: 4 | BM151: 14
D152: D | E152: 2 | F152: Zakladanie | J152: =BK152 -> 0 | P152: =SUM(P153:P164) -> 0 | R152: =SUM(R153:R164) -> 0 | T152: =SUM(T153:T164) -> 0 | AR152: 1 | AT152: D | AU152: 1 | AY152: ROZPOCET | BK152: =SUM(BK153:BK164) -> 0
C153: 8 | D153: K | E153: 271521111 | F153: Vankúše zhutnené pod základy z kameniva hrubého drveného, frakcie 16 - 125 mm---výmena podloží | G153: m3 | H153: 10.08 | J153: =ROUND(I153*H153,2) -> 0 | N153: znížená | P153: =O153*H153 -> 0 | Q153: 0 | R153: =Q153*H153 -> 0 | S153: 0 | T153: =S153*H153 -> 0 | AR153: 4 | AT153: K | AU153: 2 | AY153: ROZPOCET | BE153: =IF(N153="základná",J153,0) -> 0 | BF153: =IF(N153="znížená",J153,0) -> 0 | BG153: =IF(N153="zákl. prenesená",J153,0) -> 0 | BH153: =IF(N153="zníž. prenesená",J153,0) -> 0 | BI153: =IF(N153="nulová",J153,0) -> 0 | BJ153: 2 | BK153: =ROUND(I153*H153,2) -> 0 | BL153: 4 | BM153: 16
D154: VV | F154: 4,2*4,8*0,5 "výmena podložia základov" | H154: 10.08 | AT154: VV | AU154: 2 | AV154: 2 | AW154: True | AX154: 0 | AY154: ROZPOCET
D155: VV | F155: Súčet | H155: 10.08 | AT155: VV | AU155: 2 | AV155: 4 | AW155: True | AX155: 1 | AY155: ROZPOCET
C156: 9 | D156: K | E156: 275313521 | F156: Betón základových pätiek, prostý tr. C 12/15 | G156: m3 | H156: 2.489 | J156: =ROUND(I156*H156,2) -> 0 | N156: znížená | P156: =O156*H156 -> 0 | Q156: 0 | R156: =Q156*H156 -> 0 | S156: 0 | T156: =S156*H156 -> 0 | AR156: 4 | AT156: K | AU156: 2 | AY156: ROZPOCET | BE156: =IF(N156="základná",J156,0) -> 0 | BF156: =IF(N156="znížená",J156,0) -> 0 | BG156: =IF(N156="zákl. prenesená",J156,0) -> 0 | BH156: =IF(N156="zníž. prenesená",J156,0) -> 0 | BI156: =IF(N156="nulová",J156,0) -> 0 | BJ156: 2 | BK156: =ROUND(I156*H156,2) -> 0 | BL156: 4 | BM156: 18
D157: VV | F157: "výťahová šachta - podkladový betón" 8,91*0,15 | H157: 1.337 | AT157: VV | AU157: 2 | AV157: 2 | AW157: True | AX157: 0 | AY157: ROZPOCET
D158: VV | F158: "okolo výťahovej šachty"0,09*12,8 | H158: 1.152 | AT158: VV | AU158: 2 | AV158: 2 | AW158: True | AX158: 0 | AY158: ROZPOCET
D159: VV | F159: Súčet | H159: 2.489 | AT159: VV | AU159: 2 | AV159: 4 | AW159: True | AX159: 1 | AY159: ROZPOCET
C160: 10 | D160: K | E160: 275351217 | F160: Debnenie stien základových pätiek, zhotovenie-tradičné | G160: m2 | H160: 16.35 | J160: =ROUND(I160*H160,2) -> 0 | N160: znížená | P160: =O160*H160 -> 0 | Q160: 0 | R160: =Q160*H160 -> 0 | S160: 0 | T160: =S160*H160 -> 0 | AR160: 4 | AT160: K | AU160: 2 | AY160: ROZPOCET | BE160: =IF(N160="základná",J160,0) -> 0 | BF160: =IF(N160="znížená",J160,0) -> 0 | BG160: =IF(N160="zákl. prenesená",J160,0) -> 0 | BH160: =IF(N160="zníž. prenesená",J160,0) -> 0 | BI160: =IF(N160="nulová",J160,0) -> 0 | BJ160: 2 | BK160: =ROUND(I160*H160,2) -> 0 | BL160: 4 | BM160: 20
D161: VV | F161: "výťahová šachta" 12*0,15 | H161: 1.8 | AT161: VV | AU161: 2 | AV161: 2 | AW161: True | AX161: 0 | AY161: ROZPOCET
D162: VV | F162: "obrubník chodník + kolem výťahové šachty" 0,25*29,1*2 | H162: 14.55 | AT162: VV | AU162: 2 | AV162: 2 | AW162: True | AX162: 0 | AY162: ROZPOCET
D163: VV | F163: Súčet | H163: 16.35 | AT163: VV | AU163: 2 | AV163: 4 | AW163: True | AX163: 1 | AY163: ROZPOCET
C164: 11 | D164: K | E164: 275351218 | F164: Debnenie stien základových pätiek, odstránenie-tradičné | G164: m2 | H164: 16.35 | J164: =ROUND(I164*H164,2) -> 0 | N164: znížená | P164: =O164*H164 -> 0 | Q164: 0 | R164: =Q164*H164 -> 0 | S164: 0 | T164: =S164*H164 -> 0 | AR164: 4 | AT164: K | AU164: 2 | AY164: ROZPOCET | BE164: =IF(N164="základná",J164,0) -> 0 | BF164: =IF(N164="znížená",J164,0) -> 0 | BG164: =IF(N164="zákl. prenesená",J164,0) -> 0 | BH164: =IF(N164="zníž. prenesená",J164,0) -> 0 | BI164: =IF(N164="nulová",J164,0) -> 0 | BJ164: 2 | BK164: =ROUND(I164*H164,2) -> 0 | BL164: 4 | BM164: 22
...

Sheet SO 401 - Elektrická prípo...
L2: >> skryté stĺpce << | AT2: {30c5fba4-82d0-4ea5-87ae-d45080f9aa2e}
AT3: 0
D4: Výkaz výmer | M4: v --- nižšie sa nachádzajú doplnkové a pomocné údaje k zostavám --- v | AT4: False
D6: Stavba:
E7: ='Rekapitulácia stavby'!K6 -> Oprava pešej lávky nad železničnou stanicou Nitra
D8: Objekt:
E9: SO 401 - Elektrická prípojka NN a napojenie výťahu
D11: JKSO: | I11: KS:
D12: Miesto: | F12: Nitra | I12: Dátum: | J12: ='Rekapitulácia stavby'!AN8 -> 30. 8. 2021
D14: Objednávateľ: | I14: IČO:
E15: Mesto Nitra | I15: IČ DPH:
D17: Zhotoviteľ: | I17: IČO: | J17: ='Rekapitulácia stavby'!AN13 -> Vyplň údaj
E18: ='Rekapitulácia stavby'!E14 -> Vyplň údaj | I18: IČ DPH: | J18: ='Rekapitulácia stavby'!AN14 -> Vyplň údaj
D20: Projektant: | I20: IČO: | J20: =IF('Rekapitulácia stavby'!AN16="","",'Rekapitulácia stavby'!AN16)
E21: =IF('Rekapitulácia stavby'!E17="","",'Rekapitulácia stavby'!E17) | I21: IČ DPH: | J21: =IF('Rekapitulácia stavby'!AN17="","",'Rekapitulácia stavby'!AN17)
D23: Spracovateľ: | I23: IČO:
E24: Združenie „SHP: Nitra – PD" SHP SK s.r.o. | I24: IČ DPH:
D26: Poznámka:
D30: Cena bez DPH | J30: =ROUND(J119, 2) -> 0
F32: Základ dane | I32: Sadzba dane | J32: Výška dane
D33: DPH | E33: základná | F33: =ROUND((SUM(BE119:BE193)), 2) -> 0 | I33: 0.2 | J33: =ROUND(((SUM(BE119:BE193))*I33), 2) -> 0
E34: znížená | F34: =ROUND((SUM(BF119:BF193)), 2) -> 0 | I34: 0.2 | J34: =ROUND(((SUM(BF119:BF193))*I34), 2) -> 0
E35: zákl. prenesená | F35: =ROUND((SUM(BG119:BG193)), 2) -> 0 | I35: 0.2 | J35: =0 -> 0
E36: zníž. prenesená | F36: =ROUND((SUM(BH119:BH193)), 2) -> 0 | I36: 0.2 | J36: =0 -> 0
E37: nulová | F37: =ROUND((SUM(BI119:BI193)), 2) -> 0 | I37: 0 | J37: =0 -> 0
D39: Cena s DPH | G39: v | H39: EUR | J39: =SUM(J30:J37) -> 0
D50: Projektant | G50: Spracovateľ
D61: Dátum a podpis: | F61: Pečiatka | G61: Dátum a podpis: | J61: Pečiatka
D65: Objednávateľ | G65: Zhotoviteľ
D76: Dátum a podpis: | F76: Pečiatka | G76: Dátum a podpis: | J76: Pečiatka
C82: REKAPITULÁCIA
C84: Stavba:
E85: =E7 -> Oprava pešej lávky nad železničnou stanicou Nitra
C86: Objekt:
E87: =E9 -> SO 401 - Elektrická prípojka NN a napojenie výťahu
C89: Miesto: | F89: =F12 -> Nitra | I89: Dátum: | J89: =IF(J12="","",J12) -> 30. 8. 2021
C91: Objednávateľ: | F91: =E15 -> Mesto Nitra | I91: Projektant: | J91: =E21
C92: Zhotoviteľ: | F92: =IF(E18="","",E18) -> Vyplň údaj | I92: Spracovateľ: | J92: =E24 -> Združenie „SHP: Nitra – PD" SHP SK s.r.o.
C94: Kód dielu - Popis | J94: Cena celkom [EUR]
C96: Náklady z rozpočtu | J96: =J119 -> 0 | AU96: -1
D97: M - Práce a dodávky M | J97: =J120 -> 0
D98: 21-M - Elektromontáže | J98: =J121 -> 0
D99: 46-M - Zemné práce pri extr.mont.prácach | J99: =J165 -> 0
C106: ROZPOČET
C108: Stavba:
E109: =E7 -> Oprava pešej lávky nad železničnou stanicou Nitra
C110: Objekt:
E111: =E9 -> SO 401 - Elektrická prípojka NN a napojenie výťahu
C113: Miesto: | F113: =F12 -> Nitra | I113: Dátum: | J113: =IF(J12="","",J12) -> 30. 8. 2021
C115: Objednávateľ: | F115: =E15 -> Mesto Nitra | I115: Projektant: | J115: =E21
C116: Zhotoviteľ: | F116: =IF(E18="","",E18) -> Vyplň údaj | I116: Spracovateľ: | J116: =E24 -> Združenie „SHP: Nitra – PD" SHP SK s.r.o.
C118: PČ | D118: Typ | E118: Kód | F118: Popis | G118: MJ | H118: Množstvo | I118: J.cena [EUR] | J118: Cena celkom [EUR] | K118: Cenová sústava | N118: DPH | O118: J. Nh [h] | P118: Nh celkom [h] | Q118: J. hmotnosť [t] | R118: Hmotnosť celkom [t] | S118: J. suť [t] | T118: Suť Celkom [t]
C119: Náklady z rozpočtu | J119: =BK119 -> 0 | P119: =P120 -> 0 | R119: =R120 -> 0 | T119: =T120 -> 0 | AT119: D | AU119: -1 | BK119: =BK120 -> 0
D120: D | E120: M | F120: Práce a dodávky M | J120: =BK120 -> 0 | P120: =P121+P165 -> 0 | R120: =R121+R165 -> 0 | T120: =T121+T165 -> 0 | AR120: 3 | AT120: D | AU120: 0 | AY120: ROZPOCET | BK120: =BK121+BK165 -> 0
D121: D | E121: 21-M | F121: Elektromontáže | J121: =BK121 -> 0 | P121: =SUM(P122:P164) -> 0 | R121: =SUM(R122:R164) -> 0 | T121: =SUM(T122:T164) -> 0 | AR121: 3 | AT121: D | AU121: 1 | AY121: ROZPOCET | BK121: =SUM(BK122:BK164) -> 0
C122: 1 | D122: K | E122: 2100100171 | F122: Rúrka plastová DN32 typ 2332-LPE-1 | G122: m | H122: 3 | J122: =ROUND(I122*H122,2) -> 0 | N122: znížená | P122: =O122*H122 -> 0 | Q122: 0 | R122: =Q122*H122 -> 0 | S122: 0 | T122: =S122*H122 -> 0 | AR122: 64 | AT122: K | AU122: 2 | AY122: ROZPOCET | BE122: =IF(N122="základná",J122,0) -> 0 | BF122: =IF(N122="znížená",J122,0) -> 0 | BG122: =IF(N122="zákl. prenesená",J122,0) -> 0 | BH122: =IF(N122="zníž. prenesená",J122,0) -> 0 | BI122: =IF(N122="nulová",J122,0) -> 0 | BJ122: 2 | BK122: =ROUND(I122*H122,2) -> 0 | BL122: 64 | BM122: 2
C123: 2 | D123: K | E123: 2100100172 | F123: Rúrka plastová DN75 | G123: m | H123: 6 | J123: =ROUND(I123*H123,2) -> 0 | N123: znížená | P123: =O123*H123 -> 0 | Q123: 0 | R123: =Q123*H123 -> 0 | S123: 0 | T123: =S123*H123 -> 0 | AR123: 64 | AT123: K | AU123: 2 | AY123: ROZPOCET | BE123: =IF(N123="základná",J123,0) -> 0 | BF123: =IF(N123="znížená",J123,0) -> 0 | BG123: =IF(N123="zákl. prenesená",J123,0) -> 0 | BH123: =IF(N123="zníž. prenesená",J123,0) -> 0 | BI123: =IF(N123="nulová",J123,0) -> 0 | BJ123: 2 | BK123: =ROUND(I123*H123,2) -> 0 | BL123: 64 | BM123: 4
C124: 3 | D124: K | E124: 210010064 | F124: Rúrka elektroinštalačná oceľová, napr. typ 6229, uložená pevne | G124: m | H124: 3 | J124: =ROUND(I124*H124,2) -> 0 | N124: znížená | P124: =O124*H124 -> 0 | Q124: 0 | R124: =Q124*H124 -> 0 | S124: 0 | T124: =S124*H124 -> 0 | AR124: 64 | AT124: K | AU124: 2 | AY124: ROZPOCET | BE124: =IF(N124="základná",J124,0) -> 0 | BF124: =IF(N124="znížená",J124,0) -> 0 | BG124: =IF(N124="zákl. prenesená",J124,0) -> 0 | BH124: =IF(N124="zníž. prenesená",J124,0) -> 0 | BI124: =IF(N124="nulová",J124,0) -> 0 | BJ124: 2 | BK124: =ROUND(I124*H124,2) -> 0 | BL124: 64 | BM124: 6
C125: 4 | D125: K | E125: 210010066 | F125: Rúrka elektroinštalačná oceľová, napr. typ 6042, uložená pevne | G125: m | H125: 85 | J125: =ROUND(I125*H125,2) -> 0 | N125: znížená | P125: =O125*H125 -> 0 | Q125: 0 | R125: =Q125*H125 -> 0 | S125: 0 | T125: =S125*H125 -> 0 | AR125: 64 | AT125: K | AU125: 2 | AY125: ROZPOCET | BE125: =IF(N125="základná",J125,0) -> 0 | BF125: =IF(N125="znížená",J125,0) -> 0 | BG125: =IF(N125="zákl. prenesená",J125,0) -> 0 | BH125: =IF(N125="zníž. prenesená",J125,0) -> 0 | BI125: =IF(N125="nulová",J125,0) -> 0 | BJ125: 2 | BK125: =ROUND(I125*H125,2) -> 0 | BL125: 64 | BM125: 8
C126: 5 | D126: K | E126: 21001006P2 | F126: Násuvné spojky zinkované 342/2 | G126: m | H126: 35 | J126: =ROUND(I126*H126,2) -> 0 | N126: znížená | P126: =O126*H126 -> 0 | Q126: 0 | R126: =Q126*H126 -> 0 | S126: 0 | T126: =S126*H126 -> 0 | AR126: 64 | AT126: K | AU126: 2 | AY126: ROZPOCET | BE126: =IF(N126="základná",J126,0) -> 0 | BF126: =IF(N126="znížená",J126,0) -> 0 | BG126: =IF(N126="zákl. prenesená",J126,0) -> 0 | BH126: =IF(N126="zníž. prenesená",J126,0) -> 0 | BI126: =IF(N126="nulová",J126,0) -> 0 | BJ126: 2 | BK126: =ROUND(I126*H126,2) -> 0 | BL126: 64 | BM126: 10
C127: 6 | D127: K | E127: 21001006P3 | F127: Strmeň pr.10 mm M10x60x100 | G127: m | H127: 65 | J127: =ROUND(I127*H127,2) -> 0 | N127: znížená | P127: =O127*H127 -> 0 | Q127: 0 | R127: =Q127*H127 -> 0 | S127: 0 | T127: =S127*H127 -> 0 | AR127: 64 | AT127: K | AU127: 2 | AY127: ROZPOCET | BE127: =IF(N127="základná",J127,0) -> 0 | BF127: =IF(N127="znížená",J127,0) -> 0 | BG127: =IF(N127="zákl. prenesená",J127,0) -> 0 | BH127: =IF(N127="zníž. prenesená",J127,0) -> 0 | BI127: =IF(N127="nulová",J127,0) -> 0 | BJ127: 2 | BK127: =ROUND(I127*H127,2) -> 0 | BL127: 64 | BM127: 12
C128: 7 | D128: K | E128: 210010233P | F128: Rúrka oceľová ochranná uložená voľne vrátane základného náteru DN54 TR 54/3,5 | G128: m | H128: 6 | J128: =ROUND(I128*H128,2) -> 0 | N128: znížená | P128: =O128*H128 -> 0 | Q128: 0 | R128: =Q128*H128 -> 0 | S128: 0 | T128: =S128*H128 -> 0 | AR128: 64 | AT128: K | AU128: 2 | AY128: ROZPOCET | BE128: =IF(N128="základná",J128,0) -> 0 | BF128: =IF(N128="znížená",J128,0) -> 0 | BG128: =IF(N128="zákl. prenesená",J128,0) -> 0 | BH128: =IF(N128="zníž. prenesená",J128,0) -> 0 | BI128: =IF(N128="nulová",J128,0) -> 0 | BJ128: 2 | BK128: =ROUND(I128*H128,2) -> 0 | BL128: 64 | BM128: 14
C129: 8 | D129: K | E129: 210040142P | F129: Vysekanie drážky v betóne | G129: ks | H129: 1 | J129: =ROUND(I129*H129,2) -> 0 | N129: znížená | P129: =O129*H129 -> 0 | Q129: 0 | R129: =Q129*H129 -> 0 | S129: 0 | T129: =S129*H129 -> 0 | AR129: 64 | AT129: K | AU129: 2 | AY129: ROZPOCET | BE129: =IF(N129="základná",J129,0) -> 0 | BF129: =IF(N129="znížená",J129,0) -> 0 | BG129: =IF(N129="zákl. prenesená",J129,0) -> 0 | BH129: =IF(N129="zníž. prenesená",J129,0) -> 0 | BI129: =IF(N129="nulová",J129,0) -> 0 | BJ129: 2 | BK129: =ROUND(I129*H129,2) -> 0 | BL129: 64 | BM129: 16
C130: 9 | D130: K | E130: 2101006P1 | F130: Rozdelovacia hlava HCZ 4-4/35 | G130: ks | H130: 3 | J130: =ROUND(I130*H130,2) -> 0 | N130: znížená | P130: =O130*H130 -> 0 | Q130: 0 | R130: =Q130*H130 -> 0 | S130: 0 | T130: =S130*H130 -> 0 | AR130: 64 | AT130: K | AU130: 2 | AY130: ROZPOCET | BE130: =IF(N130="základná",J130,0) -> 0 | BF130: =IF(N130="znížená",J130,0) -> 0 | BG130: =IF(N130="zákl. prenesená",J130,0) -> 0 | BH130: =IF(N130="zníž. prenesená",J130,0) -> 0 | BI130: =IF(N130="nulová",J130,0) -> 0 | BJ130: 2 | BK130: =ROUND(I130*H130,2) -> 0 | BL130: 64 | BM130: 18
C131: 10 | D131: K | E131: 2101012S4 | F131: Teplom zmraštiteľná hadica TZH 2 a 4 | G131: kus | H131: 10 | J131: =ROUND(I131*H131,2) -> 0 | N131: znížená | P131: =O131*H131 -> 0 | Q131: 0 | R131: =Q131*H131 -> 0 | S131: 0 | T131: =S131*H131 -> 0 | AR131: 64 | AT131: K | AU131: 2 | AY131: ROZPOCET | BE131: =IF(N131="základná",J131,0) -> 0 | BF131: =IF(N131="znížená",J131,0) -> 0 | BG131: =IF(N131="zákl. prenesená",J131,0) -> 0 | BH131: =IF(N131="zníž. prenesená",J131,0) -> 0 | BI131: =IF(N131="nulová",J131,0) -> 0 | BJ131: 2 | BK131: =ROUND(I131*H131,2) -> 0 | BL131: 64 | BM131: 20
C132: 11 | D132: K | E132: 210120102 | F132: Poistka nožová do 160A 500 V | G132: ks | H132: 3 | J132: =ROUND(I132*H132,2) -> 0 | N132: znížená | P132: =O132*H132 -> 0 | Q132: 0 | R132: =Q132*H132 -> 0 | S132: 0 | T132: =S132*H132 -> 0 | AR132: 64 | AT132: K | AU132: 2 | AY132: ROZPOCET | BE132: =IF(N132="základná",J132,0) -> 0 | BF132: =IF(N132="znížená",J132,0) -> 0 | BG132: =IF(N132="zákl. prenesená",J132,0) -> 0 | BH132: =IF(N132="zníž. prenesená",J132,0) -> 0 | BI132: =IF(N132="nulová",J132,0) -> 0 | BJ132: 2 | BK132: =ROUND(I132*H132,2) -> 0 | BL132: 64 | BM132: 22
C133: 12 | D133: K | E133: 210193053 | F133: Skriňa RE-V plastová, trojfázová, jednotarifná1 odberateľ | G133: ks | H133: 1 | J133: =ROUND(I133*H133,2) -> 0 | N133: znížená | P133: =O133*H133 -> 0 | Q133: 0 | R133: =Q133*H133 -> 0 | S133: 0 | T133: =S133*H133 -> 0 | AR133: 64 | AT133: K | AU133: 2 | AY133: ROZPOCET | BE133: =IF(N133="základná",J133,0) -> 0 | BF133: =IF(N133="znížená",J133,0) -> 0 | BG133: =IF(N133="zákl. prenesená",J133,0) -> 0 | BH133: =IF(N133="zníž. prenesená",J133,0) -> 0 | BI133: =IF(N133="nulová",J133,0) -> 0 | BJ133: 2 | BK133: =ROUND(I133*H133,2) -> 0 | BL133: 64 | BM133: 24
... C162: 41 | D162: K | E162: 210HZS02 | F162: HZS - Plán skutočného vyhotovenia s geodetickým zameraním | G162: hod | H162: 32 | J162: =ROUND(I162*H162,2) -> 0 | N162: znížená | P162: =O162*H162 -> 0 | Q162: 0 | R162: =Q162*H162 -> 0 | S162: 0 | T162: =S162*H162 -> 0 | AR162: 512 | AT162: K | AU162: 2 | AY162: ROZPOCET | BE162: =IF(N162="základná",J162,0) -> 0 | BF162: =IF(N162="znížená",J162,0) -> 0 | BG162: =IF(N162="zákl. prenesená",J162,0) -> 0 | BH162: =IF(N162="zníž. prenesená",J162,0) -> 0 | BI162: =IF(N162="nulová",J162,0) -> 0 | BJ162: 2 | BK162: =ROUND(I162*H162,2) -> 0 | BL162: 512 | BM162: 82
C163: 42 | D163: K | E163: PM | F163: Podružný materiál | G163: % | J163: =ROUND(I163*H163,2) -> 0 | N163: znížená | P163: =O163*H163 -> 0 | Q163: 0 | R163: =Q163*H163 -> 0 | S163: 0 | T163: =S163*H163 -> 0 | AR163: 64 | AT163: K | AU163: 2 | AY163: ROZPOCET | BE163: =IF(N163="základná",J163,0) -> 0 | BF163: =IF(N163="znížená",J163,0) -> 0 | BG163: =IF(N163="zákl. prenesená",J163,0) -> 0 | BH163: =IF(N163="zníž. prenesená",J163,0) -> 0 | BI163: =IF(N163="nulová",J163,0) -> 0 | BJ163: 2 | BK163: =ROUND(I163*H163,2) -> 0 | BL163: 64 | BM163: 84
C164: 43 | D164: K | E164: PPV | F164: Podiel pridružených výkonov | G164: % | J164: =ROUND(I164*H164,2) -> 0 | N164: znížená | P164: =O164*H164 -> 0 | Q164: 0 | R164: =Q164*H164 -> 0 | S164: 0 | T164: =S164*H164 -> 0 | AR164: 64 | AT164: K | AU164: 2 | AY164: ROZPOCET | BE164: =IF(N164="základná",J164,0) -> 0 | BF164: =IF(N164="znížená",J164,0) -> 0 | BG164: =IF(N164="zákl. prenesená",J164,0) -> 0 | BH164: =IF(N164="zníž. prenesená",J164,0) -> 0 | BI164: =IF(N164="nulová",J164,0) -> 0 | BJ164: 2 | BK164: =ROUND(I164*H164,2) -> 0 | BL164: 64 | BM164: 86
D165: D | E165: 46-M | F165: Zemné práce pri extr.mont.prácach | J165: =BK165 -> 0 | P165: =SUM(P166:P193) -> 0 | R165: =SUM(R166:R193) -> 0 | T165: =SUM(T166:T193) -> 0 | AR165: 3 | AT165: D | AU165: 1 | AY165: ROZPOCET | BK165: =SUM(BK166:BK193) -> 0
C166: 44 | D166: K | E166: 460010024 | F166: Vytýčenie trasy káblového vedenia v zastavanom priestore | G166: km | H166: 0.107 | J166: =ROUND(I166*H166,2) -> 0 | N166: znížená | P166: =O166*H166 -> 0 | Q166: 0 | R166: =Q166*H166 -> 0 | S166: 0 | T166: =S166*H166 -> 0 | AR166: 64 | AT166: K | AU166: 2 | AY166: ROZPOCET | BE166: =IF(N166="základná",J166,0) -> 0 | BF166: =IF(N166="znížená",J166,0) -> 0 | BG166: =IF(N166="zákl. prenesená",J166,0) -> 0 | BH166: =IF(N166="zníž. prenesená",J166,0) -> 0 | BI166: =IF(N166="nulová",J166,0) -> 0 | BJ166: 2 | BK166: =ROUND(I166*H166,2) -> 0 | BL166: 64 | BM166: 88
C167: 45 | D167: K | E167: 460030071 | F167: Búranie povrchov z betónu | G167: m2 | H167: 4.2 | J167: =ROUND(I167*H167,2) -> 0 | N167: znížená | P167: =O167*H167 -> 0 | Q167: 0 | R167: =Q167*H167 -> 0 | S167: 0 | T167: =S167*H167 -> 0 | AR167: 64 | AT167: K | AU167: 2 | AY167: ROZPOCET | BE167: =IF(N167="základná",J167,0) -> 0 | BF167: =IF(N167="znížená",J167,0) -> 0 | BG167: =IF(N167="zákl. prenesená",J167,0) -> 0 | BH167: =IF(N167="zníž. prenesená",J167,0) -> 0 | BI167: =IF(N167="nulová",J167,0) -> 0 | BJ167: 2 | BK167: =ROUND(I167*H167,2) -> 0 | BL167: 64 | BM167: 90
C168: 46 | D168: K | E168: 460030072 | F168: Búranie povrchov z asfaltu a asfaltobetónu vrstvy do 10 cm | G168: m2 | H168: 4.2 | J168: =ROUND(I168*H168,2) -> 0 | N168: znížená | P168: =O168*H168 -> 0 | Q168: 0 | R168: =Q168*H168 -> 0 | S168: 0 | T168: =S168*H168 -> 0 | AR168: 64 | AT168: K | AU168: 2 | AY168: ROZPOCET | BE168: =IF(N168="základná",J168,0) -> 0 | BF168: =IF(N168="znížená",J168,0) -> 0 | BG168: =IF(N168="zákl. prenesená",J168,0) -> 0 | BH168: =IF(N168="zníž. prenesená",J168,0) -> 0 | BI168: =IF(N168="nulová",J168,0) -> 0 | BJ168: 2 | BK168: =ROUND(I168*H168,2) -> 0 | BL168: 64 | BM168: 92
C169: 47 | D169: K | E169: 460030081 | F169: Rezanie škáry v asfalte, alebo v betóne zariadením na rezanie škár | G169: m | H169: 24 | J169: =ROUND(I169*H169,2) -> 0 | N169: znížená | P169: =O169*H169 -> 0 | Q169: 0 | R169: =Q169*H169 -> 0 | S169: 0 | T169: =S169*H169 -> 0 | AR169: 64 | AT169: K | AU169: 2 | AY169: ROZPOCET | BE169: =IF(N169="základná",J169,0) -> 0 | BF169: =IF(N169="znížená",J169,0) -> 0 | BG169: =IF(N169="zákl. prenesená",J169,0) -> 0 | BH169: =IF(N169="zníž. prenesená",J169,0) -> 0 | BI169: =IF(N169="nulová",J169,0) -> 0 | BJ169: 2 | BK169: =ROUND(I169*H169,2) -> 0 | BL169: 64 | BM169: 94
C170: 48 | D170: K | E170: 460200163 | F170: Hĺbenie káblovej ryhy ručne 35 cm širokej a 80 cm hlbokej, v zemine triedy 3 | G170: m | H170: 67 | J170: =ROUND(I170*H170,2) -> 0 | N170: znížená | P170: =O170*H170 -> 0 | Q170: 0 | R170: =Q170*H170 -> 0 | S170: 0 | T170: =S170*H170 -> 0 | AR170: 64 | AT170: K | AU170: 2 | AY170: ROZPOCET | BE170: =IF(N170="základná",J170,0) -> 0 | BF170: =IF(N170="znížená",J170,0) -> 0 | BG170: =IF(N170="zákl. prenesená",J170,0) -> 0 | BH170: =IF(N170="zníž. prenesená",J170,0) -> 0 | BI170: =IF(N170="nulová",J170,0) -> 0 | BJ170: 2 | BK170: =ROUND(I170*H170,2) -> 0 | BL170: 64 | BM170: 96
C171: 49 | D171: K | E171: 460200173 | F171: Hĺbenie káblovej ryhy ručne 35 cm širokej a 85 cm hlbokej, v zemine triedy 3 | G171: m | H171: 12 | J171: =ROUND(I171*H171,2) -> 0 | N171: znížená | P171: =O171*H171 -> 0 | Q171: 0 | R171: =Q171*H171 -> 0 | S171: 0 | T171: =S171*H171 -> 0 | AR171: 64 | AT171: K | AU171: 2 | AY171: ROZPOCET | BE171: =IF(N171="základná",J171,0) -> 0 | BF171: =IF(N171="znížená",J171,0) -> 0 | BG171: =IF(N171="zákl. prenesená",J171,0) -> 0 | BH171: =IF(N171="zníž. prenesená",J171,0) -> 0 | BI171: =IF(N171="nulová",J171,0) -> 0 | BJ171: 2 | BK171: =ROUND(I171*H171,2) -> 0 | BL171: 64 | BM171: 98
C172: 50 | D172: K | E172: 4603000061 | F172: Zhutnenie zeminy po vrstvách pri zahrnutí rýh strojom, vrstva zeminy 25 cm | G172: m3 | H172: 27.65 | J172: =ROUND(I172*H172,2) -> 0 | N172: znížená | P172: =O172*H172 -> 0 | Q172: 0 | R172: =Q172*H172 -> 0 | S172: 0 | T172: =S172*H172 -> 0 | AR172: 64 | AT172: K | AU172: 2 | AY172: ROZPOCET | BE172: =IF(N172="základná",J172,0) -> 0 | BF172: =IF(N172="znížená",J172,0) -> 0 | BG172: =IF(N172="zákl. prenesená",J172,0) -> 0 | BH172: =IF(N172="zníž. prenesená",J172,0) -> 0 | BI172: =IF(N172="nulová",J172,0) -> 0 | BJ172: 2 | BK172: =ROUND(I172*H172,2) -> 0 | BL172: 64 | BM172: 100
C173: 51 | D173: K | E173: 4603002P2 | F173: Podtláčanie otvorov strojovo do D 220 mm so zatiahnutím chráničky | G173: m | H173: 24 | J173: =ROUND(I173*H173,2) -> 0 | N173: znížená | P173: =O173*H173 -> 0 | Q173: 0 | R173: =Q173*H173 -> 0 | S173: 0 | T173: =S173*H173 -> 0 | AR173: 64 | AT173: K | AU173: 2 | AY173: ROZPOCET | BE173: =IF(N173="základná",J173,0) -> 0 | BF173: =IF(N173="znížená",J173,0) -> 0 | BG173: =IF(N173="zákl. prenesená",J173,0) -> 0 | BH173: =IF(N173="zníž. prenesená",J173,0) -> 0 | BI173: =IF(N173="nulová",J173,0) -> 0 | BJ173: 2 | BK173: =ROUND(I173*H173,2) -> 0 | BL173: 64 | BM173: 102
C174: 52 | D174: K | E174: 4603002P3 | F174: Montážna jama pre podtláčanie otvorov strojovo | G174: kus | H174: 2 | J174: =ROUND(I174*H174,2) -> 0 | N174: znížená | P174: =O174*H174 -> 0 | Q174: 0 | R174: =Q174*H174 -> 0 | S174: 0 | T174: =S174*H174 -> 0 | AR174: 64 | AT174: K | AU174: 2 | AY174: ROZPOCET | BE174: =IF(N174="základná",J174,0) -> 0 | BF174: =IF(N174="znížená",J174,0) -> 0 | BG174: =IF(N174="zákl. prenesená",J174,0) -> 0 | BH174: =IF(N174="zníž. prenesená",J174,0) -> 0 | BI174: =IF(N174="nulová",J174,0) -> 0 | BJ174: 2 | BK174: =ROUND(I174*H174,2) -> 0 | BL174: 64 | BM174: 104
C175: 53 | D175: K | E175: 460420024 | F175: Zriadenie lôžka z piesku bez zakrytia, v ryhe šír. do 35 cm, hrúbky vrstvy 10 cm | G175: m | H175: 79 | J175: =ROUND(I175*H175,2) -> 0 | N175: znížená | P175: =O175*H175 -> 0 | Q175: 0 | R175: =Q175*H175 -> 0 | S175: 0 | T175: =S175*H175 -> 0 | AR175: 64 | AT175: K | AU175: 2 | AY175: ROZPOCET | BE175: =IF(N175="základná",J175,0) -> 0 | BF175: =IF(N175="znížená",J175,0) -> 0 | BG175: =IF(N175="zákl. prenesená",J175,0) -> 0 | BH175: =IF(N175="zníž. prenesená",J175,0) -> 0 | BI175: =IF(N175="nulová",J175,0) -> 0 | BJ175: 2 | BK175: =ROUND(I175*H175,2) -> 0 | BL175: 64 | BM175: 106
C176: 54 | D176: M | E176: 581533300P1 | F176: Piesok stavebný | G176: t | H176: 4.463 | J176: =ROUND(I176*H176,2) -> 0 | N176: znížená | P176: =O176*H176 -> 0 | Q176: 0 | R176: =Q176*H176 -> 0 | S176: 0 | T176: =S176*H176 -> 0 | AR176: 256 | AT176: M | AU176: 2 | AY176: ROZPOCET | BE176: =IF(N176="základná",J176,0) -> 0 | BF176: =IF(N176="znížená",J176,0) -> 0 | BG176: =IF(N176="zákl. prenesená",J176,0) -> 0 | BH176: =IF(N176="zníž. prenesená",J176,0) -> 0 | BI176: =IF(N176="nulová",J176,0) -> 0 | BJ176: 2 | BK176: =ROUND(I176*H176,2) -> 0 | BL176: 64 | BM176: 108
C177: 55 | D177: K | E177: 4604200P5 | F177: Montáž platní DEKAB | G177: m | H177: 77 | J177: =ROUND(I177*H177,2) -> 0 | N177: znížená | P177: =O177*H177 -> 0 | Q177: 0 | R177: =Q177*H177 -> 0 | S177: 0 | T177: =S177*H177 -> 0 | AR177: 64 | AT177: K | AU177: 2 | AY177: ROZPOCET | BE177: =IF(N177="základná",J177,0) -> 0 | BF177: =IF(N177="znížená",J177,0) -> 0 | BG177: =IF(N177="zákl. prenesená",J177,0) -> 0 | BH177: =IF(N177="zníž. prenesená",J177,0) -> 0 | BI177: =IF(N177="nulová",J177,0) -> 0 | BJ177: 2 | BK177: =ROUND(I177*H177,2) -> 0 | BL177: 64 | BM177: 110
... C193: 71 | D193: K | E193: 46065P009 | F193: Asfaltobetón ABS strednozrnný hr.50 | G193: m2 | H193: 4.2 | J193: =ROUND(I193*H193,2) -> 0 | N193: znížená | P193: =O193*H193 -> 0 | Q193: 0 | R193: =Q193*H193 -> 0 | S193: 0 | T193: =S193*H193 -> 0 | AR193: 64 | AT193: K | AU193: 2 | AY193: ROZPOCET | BE193: =IF(N193="základná",J193,0) -> 0 | BF193: =IF(N193="znížená",J193,0) -> 0 | BG193: =IF(N193="zákl. prenesená",J193,0) -> 0 | BH193: =IF(N193="zníž. prenesená",J193,0) -> 0 | BI193: =IF(N193="nulová",J193,0) -> 0 | BJ193: 2 | BK193: =ROUND(I193*H193,2) -> 0 | BL193: 64 | BM193: 142

Sheet SO 402 - Verejné osvetlen...
L2: >> skryté stĺpce << | AT2: {869e2d83-3862-43b5-9b4e-04c7a5066b18}
AT3: 0
D4: Výkaz výmer | M4: v --- nižšie sa nachádzajú doplnkové a pomocné údaje k zostavám --- v | AT4: False
D6: Stavba:
E7: ='Rekapitulácia stavby'!K6 -> Oprava pešej lávky nad železničnou stanicou Nitra
D8: Objekt:
E9: SO 402 - Verejné osvetlenie lávky
D11: JKSO: | I11: KS:
D12: Miesto: | F12: Nitra | I12: Dátum: | J12: ='Rekapitulácia stavby'!AN8 -> 30. 8. 2021
D14: Objednávateľ: | I14: IČO:
E15: Mesto Nitra | I15: IČ DPH:
D17: Zhotoviteľ: | I17: IČO: | J17: ='Rekapitulácia stavby'!AN13 -> Vyplň údaj
E18: ='Rekapitulácia stavby'!E14 -> Vyplň údaj | I18: IČ DPH: | J18: ='Rekapitulácia stavby'!AN14 -> Vyplň údaj
D20: Projektant: | I20: IČO: | J20: =IF('Rekapitulácia stavby'!AN16="","",'Rekapitulácia stavby'!AN16)
E21: =IF('Rekapitulácia stavby'!E17="","",'Rekapitulácia stavby'!E17) | I21: IČ DPH: | J21: =IF('Rekapitulácia stavby'!AN17="","",'Rekapitulácia stavby'!AN17)
D23: Spracovateľ: | I23: IČO:
E24: Združenie „SHP: Nitra – PD" SHP SK s.r.o. | I24: IČ DPH:
D26: Poznámka:
D30: Cena bez DPH | J30: =ROUND(J119, 2) -> 0
F32: Základ dane | I32: Sadzba dane | J32: Výška dane
D33: DPH | E33: základná | F33: =ROUND((SUM(BE119:BE219)), 2) -> 0 | I33: 0.2 | J33: =ROUND(((SUM(BE119:BE219))*I33), 2) -> 0
E34: znížená | F34: =ROUND((SUM(BF119:BF219)), 2) -> 0 | I34: 0.2 | J34: =ROUND(((SUM(BF119:BF219))*I34), 2) -> 0
E35: zákl. prenesená | F35: =ROUND((SUM(BG119:BG219)), 2) -> 0 | I35: 0.2 | J35: =0 -> 0
E36: zníž. prenesená | F36: =ROUND((SUM(BH119:BH219)), 2) -> 0 | I36: 0.2 | J36: =0 -> 0
E37: nulová | F37: =ROUND((SUM(BI119:BI219)), 2) -> 0 | I37: 0 | J37: =0 -> 0
D39: Cena s DPH | G39: v | H39: EUR | J39: =SUM(J30:J37) -> 0
D50: Projektant | G50: Spracovateľ
D61: Dátum a podpis: | F61: Pečiatka | G61: Dátum a podpis: | J61: Pečiatka
D65: Objednávateľ | G65: Zhotoviteľ
D76: Dátum a podpis: | F76: Pečiatka | G76: Dátum a podpis: | J76: Pečiatka
C82: REKAPITULÁCIA
C84: Stavba:
E85: =E7 -> Oprava pešej lávky nad železničnou stanicou Nitra
C86: Objekt:
E87: =E9 -> SO 402 - Verejné osvetlenie lávky
C89: Miesto: | F89: =F12 -> Nitra | I89: Dátum: | J89: =IF(J12="","",J12) -> 30. 8. 2021
C91: Objednávateľ: | F91: =E15 -> Mesto Nitra | I91: Projektant: | J91: =E21
C92: Zhotoviteľ: | F92: =IF(E18="","",E18) -> Vyplň údaj | I92: Spracovateľ: | J92: =E24 -> Združenie „SHP: Nitra – PD" SHP SK s.r.o.
C94: Kód dielu - Popis | J94: Cena celkom [EUR]
C96: Náklady z rozpočtu | J96: =J119 -> 0 | AU96: -1
D97: M - Práce a dodávky M | J97: =J120 -> 0
D98: 21-M - Elektromontáže | J98: =J121 -> 0
D99: 46-M - Zemné práce pri extr.mont.prácach | J99: =J191 -> 0
C106: ROZPOČET
C108: Stavba:
E109: =E7 -> Oprava pešej lávky nad železničnou stanicou Nitra
C110: Objekt:
E111: =E9 -> SO 402 - Verejné osvetlenie lávky
C113: Miesto: | F113: =F12 -> Nitra | I113: Dátum: | J113: =IF(J12="","",J12) -> 30. 8. 2021
C115: Objednávateľ: | F115: =E15 -> Mesto Nitra | I115: Projektant: | J115: =E21
C116: Zhotoviteľ: | F116: =IF(E18="","",E18) -> Vyplň údaj | I116: Spracovateľ: | J116: =E24 -> Združenie „SHP: Nitra – PD" SHP SK s.r.o.
C118: PČ | D118: Typ | E118: Kód | F118: Popis | G118: MJ | H118: Množstvo | I118: J.cena [EUR] | J118: Cena celkom [EUR] | K118: Cenová sústava | N118: DPH | O118: J. Nh [h] | P118: Nh celkom [h] | Q118: J. hmotnosť [t] | R118: Hmotnosť celkom [t] | S118: J. suť [t] | T118: Suť Celkom [t]
C119: Náklady z rozpočtu | J119: =BK119 -> 0 | P119: =P120 -> 0 | R119: =R120 -> 0 | T119: =T120 -> 0 | AT119: D | AU119: -1 | BK119: =BK120 -> 0
D120: D | E120: M | F120: Práce a dodávky M | J120: =BK120 -> 0 | P120: =P121+P191 -> 0 | R120: =R121+R191 -> 0 | T120: =T121+T191 -> 0 | AR120: 3 | AT120: D | AU120: 0 | AY120: ROZPOCET | BK120: =BK121+BK191 -> 0
D121: D | E121: 21-M | F121: Elektromontáže | J121: =BK121 -> 0 | P121: =SUM(P122:P190) -> 0 | R121: =SUM(R122:R190) -> 0 | T121: =SUM(T122:T190) -> 0 | AR121: 3 | AT121: D | AU121: 1 | AY121: ROZPOCET | BK121: =SUM(BK122:BK190) -> 0
C122: 1 | D122: K | E122: 2100100171 | F122: Rúrka plastová DN32 typ 2332-LPE-1 | G122: m | H122: 20 | J122: =ROUND(I122*H122,2) -> 0 | N122: znížená | P122: =O122*H122 -> 0 | Q122: 0 | R122: =Q122*H122 -> 0 | S122: 0 | T122: =S122*H122 -> 0 | AR122: 64 | AT122: K | AU122: 2 | AY122: ROZPOCET | BE122: =IF(N122="základná",J122,0) -> 0 | BF122: =IF(N122="znížená",J122,0) -> 0 | BG122: =IF(N122="zákl. prenesená",J122,0) -> 0 | BH122: =IF(N122="zníž. prenesená",J122,0) -> 0 | BI122: =IF(N122="nulová",J122,0) -> 0 | BJ122: 2 | BK122: =ROUND(I122*H122,2) -> 0 | BL122: 64 | BM122: 2
C123: 2 | D123: K | E123: 2100100172 | F123: Rúrka plastová DN75 | G123: m | H123: 6 | J123: =ROUND(I123*H123,2) -> 0 | N123: znížená | P123: =O123*H123 -> 0 | Q123: 0 | R123: =Q123*H123 -> 0 | S123: 0 | T123: =S123*H123 -> 0 | AR123: 64 | AT123: K | AU123: 2 | AY123: ROZPOCET | BE123: =IF(N123="základná",J123,0) -> 0 | BF123: =IF(N123="znížená",J123,0) -> 0 | BG123: =IF(N123="zákl. prenesená",J123,0) -> 0 | BH123: =IF(N123="zníž. prenesená",J123,0) -> 0 | BI123: =IF(N123="nulová",J123,0) -> 0 | BJ123: 2 | BK123: =ROUND(I123*H123,2) -> 0 | BL123: 64 | BM123: 4
C124: 3 | D124: K | E124: 210010064 | F124: Rúrka elektroinštalačná oceľová,napr. typ 6229, uložená pevne | G124: m | H124: 3 | J124: =ROUND(I124*H124,2) -> 0 | N124: znížená | P124: =O124*H124 -> 0 | Q124: 0 | R124: =Q124*H124 -> 0 | S124: 0 | T124: =S124*H124 -> 0 | AR124: 64 | AT124: K | AU124: 2 | AY124: ROZPOCET | BE124: =IF(N124="základná",J124,0) -> 0 | BF124: =IF(N124="znížená",J124,0) -> 0 | BG124: =IF(N124="zákl. prenesená",J124,0) -> 0 | BH124: =IF(N124="zníž. prenesená",J124,0) -> 0 | BI124: =IF(N124="nulová",J124,0) -> 0 | BJ124: 2 | BK124: =ROUND(I124*H124,2) -> 0 | BL124: 64 | BM124: 6
C125: 4 | D125: K | E125: 210010066 | F125: Rúrka elektroinštalačná oceľová, napr. typ 6042, uložená pevne | G125: m | H125: 125 | J125: =ROUND(I125*H125,2) -> 0 | N125: znížená | P125: =O125*H125 -> 0 | Q125: 0 | R125: =Q125*H125 -> 0 | S125: 0 | T125: =S125*H125 -> 0 | AR125: 64 | AT125: K | AU125: 2 | AY125: ROZPOCET | BE125: =IF(N125="základná",J125,0) -> 0 | BF125: =IF(N125="znížená",J125,0) -> 0 | BG125: =IF(N125="zákl. prenesená",J125,0) -> 0 | BH125: =IF(N125="zníž. prenesená",J125,0) -> 0 | BI125: =IF(N125="nulová",J125,0) -> 0 | BJ125: 2 | BK125: =ROUND(I125*H125,2) -> 0 | BL125: 64 | BM125: 8
C126: 5 | D126: K | E126: 21001006P1 | F126: Koleno pre oceľovú rúru DN54 | G126: m | H126: 15 | J126: =ROUND(I126*H126,2) -> 0 | N126: znížená | P126: =O126*H126 -> 0 | Q126: 0 | R126: =Q126*H126 -> 0 | S126: 0 | T126: =S126*H126 -> 0 | AR126: 64 | AT126: K | AU126: 2 | AY126: ROZPOCET | BE126: =IF(N126="základná",J126,0) -> 0 | BF126: =IF(N126="znížená",J126,0) -> 0 | BG126: =IF(N126="zákl. prenesená",J126,0) -> 0 | BH126: =IF(N126="zníž. prenesená",J126,0) -> 0 | BI126: =IF(N126="nulová",J126,0) -> 0 | BJ126: 2 | BK126: =ROUND(I126*H126,2) -> 0 | BL126: 64 | BM126: 10
C127: 6 | D127: K | E127: 21001006P2 | F127: Násuvné spojky zinkované 342/2 | G127: m | H127: 70 | J127: =ROUND(I127*H127,2) -> 0 | N127: znížená | P127: =O127*H127 -> 0 | Q127: 0 | R127: =Q127*H127 -> 0 | S127: 0 | T127: =S127*H127 -> 0 | AR127: 64 | AT127: K | AU127: 2 | AY127: ROZPOCET | BE127: =IF(N127="základná",J127,0) -> 0 | BF127: =IF(N127="znížená",J127,0) -> 0 | BG127: =IF(N127="zákl. prenesená",J127,0) -> 0 | BH127: =IF(N127="zníž. prenesená",J127,0) -> 0 | BI127: =IF(N127="nulová",J127,0) -> 0 | BJ127: 2 | BK127: =ROUND(I127*H127,2) -> 0 | BL127: 64 | BM127: 12
C128: 7 | D128: K | E128: 21001006P3 | F128: Strmeň pr.10 mm M10x60x100 | G128: m | H128: 90 | J128: =ROUND(I128*H128,2) -> 0 | N128: znížená | P128: =O128*H128 -> 0 | Q128: 0 | R128: =Q128*H128 -> 0 | S128: 0 | T128: =S128*H128 -> 0 | AR128: 64 | AT128: K | AU128: 2 | AY128: ROZPOCET | BE128: =IF(N128="základná",J128,0) -> 0 | BF128: =IF(N128="znížená",J128,0) -> 0 | BG128: =IF(N128="zákl. prenesená",J128,0) -> 0 | BH128: =IF(N128="zníž. prenesená",J128,0) -> 0 | BI128: =IF(N128="nulová",J128,0) -> 0 | BJ128: 2 | BK128: =ROUND(I128*H128,2) -> 0 | BL128: 64 | BM128: 14
C129: 8 | D129: K | E129: 21001006P4 | F129: Montáž upevňovacieho materiálu (skrutky, matice, podložky) podľa v.č.5 | G129: ks | H129: 32 | J129: =ROUND(I129*H129,2) -> 0 | N129: znížená | P129: =O129*H129 -> 0 | Q129: 0 | R129: =Q129*H129 -> 0 | S129: 0 | T129: =S129*H129 -> 0 | AR129: 64 | AT129: K | AU129: 2 | AY129: ROZPOCET | BE129: =IF(N129="základná",J129,0) -> 0 | BF129: =IF(N129="znížená",J129,0) -> 0 | BG129: =IF(N129="zákl. prenesená",J129,0) -> 0 | BH129: =IF(N129="zníž. prenesená",J129,0) -> 0 | BI129: =IF(N129="nulová",J129,0) -> 0 | BJ129: 2 | BK129: =ROUND(I129*H129,2) -> 0 | BL129: 64 | BM129: 16
C130: 9 | D130: K | E130: 210010233P | F130: Rúrka oceľová ochranná uložená voľne vrátane základného náteru DN54 TR 54/3,5 | G130: m | H130: 5 | J130: =ROUND(I130*H130,2) -> 0 | N130: znížená | P130: =O130*H130 -> 0 | Q130: 0 | R130: =Q130*H130 -> 0 | S130: 0 | T130: =S130*H130 -> 0 | AR130: 64 | AT130: K | AU130: 2 | AY130: ROZPOCET | BE130: =IF(N130="základná",J130,0) -> 0 | BF130: =IF(N130="znížená",J130,0) -> 0 | BG130: =IF(N130="zákl. prenesená",J130,0) -> 0 | BH130: =IF(N130="zníž. prenesená",J130,0) -> 0 | BI130: =IF(N130="nulová",J130,0) -> 0 | BJ130: 2 | BK130: =ROUND(I130*H130,2) -> 0 | BL130: 64 | BM130: 18
C131: 10 | D131: K | E131: 210040142P | F131: Vysekanie drážky v betóne | G131: ks | H131: 1 | J131: =ROUND(I131*H131,2) -> 0 | N131: znížená | P131: =O131*H131 -> 0 | Q131: 0 | R131: =Q131*H131 -> 0 | S131: 0 | T131: =S131*H131 -> 0 | AR131: 64 | AT131: K | AU131: 2 | AY131: ROZPOCET | BE131: =IF(N131="základná",J131,0) -> 0 | BF131: =IF(N131="znížená",J131,0) -> 0 | BG131: =IF(N131="zákl. prenesená",J131,0) -> 0 | BH131: =IF(N131="zníž. prenesená",J131,0) -> 0 | BI131: =IF(N131="nulová",J131,0) -> 0 | BJ131: 2 | BK131: =ROUND(I131*H131,2) -> 0 | BL131: 64 | BM131: 20
C132: 11 | D132: K | E132: 210040562 | F132: Šablóna a prúdový spoj C svorkou do 70 mm2 | G132: ks | H132: 2 | J132: =ROUND(I132*H132,2) -> 0 | N132: znížená | P132: =O132*H132 -> 0 | Q132: 0 | R132: =Q132*H132 -> 0 | S132: 0 | T132: =S132*H132 -> 0 | AR132: 64 | AT132: K | AU132: 2 | AY132: ROZPOCET | BE132: =IF(N132="základná",J132,0) -> 0 | BF132: =IF(N132="znížená",J132,0) -> 0 | BG132: =IF(N132="zákl. prenesená",J132,0) -> 0 | BH132: =IF(N132="zníž. prenesená",J132,0) -> 0 | BI132: =IF(N132="nulová",J132,0) -> 0 | BJ132: 2 | BK132: =ROUND(I132*H132,2) -> 0 | BL132: 64 | BM132: 22
C133: 12 | D133: K | E133: 2101006P1 | F133: Rozdelovacia hlava HCZ 4-4/35 | G133: ks | H133: 6 | J133: =ROUND(I133*H133,2) -> 0 | N133: znížená | P133: =O133*H133 -> 0 | Q133: 0 | R133: =Q133*H133 -> 0 | S133: 0 | T133: =S133*H133 -> 0 | AR133: 64 | AT133: K | AU133: 2 | AY133: ROZPOCET | BE133: =IF(N133="základná",J133,0) -> 0 | BF133: =IF(N133="znížená",J133,0) -> 0 | BG133: =IF(N133="zákl. prenesená",J133,0) -> 0 | BH133: =IF(N133="zníž. prenesená",J133,0) -> 0 | BI133: =IF(N133="nulová",J133,0) -> 0 | BJ133: 2 | BK133: =ROUND(I133*H133,2) -> 0 | BL133: 64 | BM133: 24
... C188: 67 | D188: K | E188: 210HZS02 | F188: HZS - Plán skutočného vyhotovenia s geodetickým zameraním | G188: hod | H188: 40 | J188: =ROUND(I188*H188,2) -> 0 | N188: znížená | P188: =O188*H188 -> 0 | Q188: 0 | R188: =Q188*H188 -> 0 | S188: 0 | T188: =S188*H188 -> 0 | AR188: 512 | AT188: K | AU188: 2 | AY188: ROZPOCET | BE188: =IF(N188="základná",J188,0) -> 0 | BF188: =IF(N188="znížená",J188,0) -> 0 | BG188: =IF(N188="zákl. prenesená",J188,0) -> 0 | BH188: =IF(N188="zníž. prenesená",J188,0) -> 0 | BI188: =IF(N188="nulová",J188,0) -> 0 | BJ188: 2 | BK188: =ROUND(I188*H188,2) -> 0 | BL188: 512 | BM188: 134
C189: 68 | D189: K | E189: PM | F189: Podružný materiál | G189: % | J189: =ROUND(I189*H189,2) -> 0 | N189: znížená | P189: =O189*H189 -> 0 | Q189: 0 | R189: =Q189*H189 -> 0 | S189: 0 | T189: =S189*H189 -> 0 | AR189: 64 | AT189: K | AU189: 2 | AY189: ROZPOCET | BE189: =IF(N189="základná",J189,0) -> 0 | BF189: =IF(N189="znížená",J189,0) -> 0 | BG189: =IF(N189="zákl. prenesená",J189,0) -> 0 | BH189: =IF(N189="zníž. prenesená",J189,0) -> 0 | BI189: =IF(N189="nulová",J189,0) -> 0 | BJ189: 2 | BK189: =ROUND(I189*H189,2) -> 0 | BL189: 64 | BM189: 136
C190: 69 | D190: K | E190: PPV | F190: Podiel pridružených výkonov | G190: % | J190: =ROUND(I190*H190,2) -> 0 | N190: znížená | P190: =O190*H190 -> 0 | Q190: 0 | R190: =Q190*H190 -> 0 | S190: 0 | T190: =S190*H190 -> 0 | AR190: 64 | AT190: K | AU190: 2 | AY190: ROZPOCET | BE190: =IF(N190="základná",J190,0) -> 0 | BF190: =IF(N190="znížená",J190,0) -> 0 | BG190: =IF(N190="zákl. prenesená",J190,0) -> 0 | BH190: =IF(N190="zníž. prenesená",J190,0) -> 0 | BI190: =IF(N190="nulová",J190,0) -> 0 | BJ190: 2 | BK190: =ROUND(I190*H190,2) -> 0 | BL190: 64 | BM190: 138
D191: D | E191: 46-M | F191: Zemné práce pri extr.mont.prácach | J191: =BK191 -> 0 | P191: =SUM(P192:P219) -> 0 | R191: =SUM(R192:R219) -> 0 | T191: =SUM(T192:T219) -> 0 | AR191: 3 | AT191: D | AU191: 1 | AY191: ROZPOCET | BK191: =SUM(BK192:BK219) -> 0
C192: 70 | D192: K | E192: 460010024 | F192: Vytýčenie trasy káblového vedenia v zastavanom priestore | G192: km | H192: 0.106 | J192: =ROUND(I192*H192,2) -> 0 | N192: znížená | P192: =O192*H192 -> 0 | Q192: 0 | R192: =Q192*H192 -> 0 | S192: 0 | T192: =S192*H192 -> 0 | AR192: 64 | AT192: K | AU192: 2 | AY192: ROZPOCET | BE192: =IF(N192="základná",J192,0) -> 0 | BF192: =IF(N192="znížená",J192,0) -> 0 | BG192: =IF(N192="zákl. prenesená",J192,0) -> 0 | BH192: =IF(N192="zníž. prenesená",J192,0) -> 0 | BI192: =IF(N192="nulová",J192,0) -> 0 | BJ192: 2 | BK192: =ROUND(I192*H192,2) -> 0 | BL192: 64 | BM192: 140
C193: 71 | D193: K | E193: 460030071 | F193: Búranie povrchov z betónu | G193: m2 | H193: 4.2 | J193: =ROUND(I193*H193,2) -> 0 | N193: znížená | P193: =O193*H193 -> 0 | Q193: 0 | R193: =Q193*H193 -> 0 | S193: 0 | T193: =S193*H193 -> 0 | AR193: 64 | AT193: K | AU193: 2 | AY193: ROZPOCET | BE193: =IF(N193="základná",J193,0) -> 0 | BF193: =IF(N193="znížená",J193,0) -> 0 | BG193: =IF(N193="zákl. prenesená",J193,0) -> 0 | BH193: =IF(N193="zníž. prenesená",J193,0) -> 0 | BI193: =IF(N193="nulová",J193,0) -> 0 | BJ193: 2 | BK193: =ROUND(I193*H193,2) -> 0 | BL193: 64 | BM193: 142
C194: 72 | D194: K | E194: 460030072 | F194: Búranie povrchov z asfaltu a asfaltobetónu vrstvy do 10 cm | G194: m2 | H194: 4.2 | J194: =ROUND(I194*H194,2) -> 0 | N194: znížená | P194: =O194*H194 -> 0 | Q194: 0 | R194: =Q194*H194 -> 0 | S194: 0 | T194: =S194*H194 -> 0 | AR194: 64 | AT194: K | AU194: 2 | AY194: ROZPOCET | BE194: =IF(N194="základná",J194,0) -> 0 | BF194: =IF(N194="znížená",J194,0) -> 0 | BG194: =IF(N194="zákl. prenesená",J194,0) -> 0 | BH194: =IF(N194="zníž. prenesená",J194,0) -> 0 | BI194: =IF(N194="nulová",J194,0) -> 0 | BJ194: 2 | BK194: =ROUND(I194*H194,2) -> 0 | BL194: 64 | BM194: 144
C195: 73 | D195: K | E195: 460030081 | F195: Rezanie škáry v asfalte, alebo v betóne zariadením na rezanie škár | G195: m | H195: 24 | J195: =ROUND(I195*H195,2) -> 0 | N195: znížená | P195: =O195*H195 -> 0 | Q195: 0 | R195: =Q195*H195 -> 0 | S195: 0 | T195: =S195*H195 -> 0 | AR195: 64 | AT195: K | AU195: 2 | AY195: ROZPOCET | BE195: =IF(N195="základná",J195,0) -> 0 | BF195: =IF(N195="znížená",J195,0) -> 0 | BG195: =IF(N195="zákl. prenesená",J195,0) -> 0 | BH195: =IF(N195="zníž. prenesená",J195,0) -> 0 | BI195: =IF(N195="nulová",J195,0) -> 0 | BJ195: 2 | BK195: =ROUND(I195*H195,2) -> 0 | BL195: 64 | BM195: 146
C196: 74 | D196: K | E196: 460200163 | F196: Hĺbenie káblovej ryhy ručne 35 cm širokej a 80 cm hlbokej, v zemine triedy 3 | G196: m | H196: 70 | J196: =ROUND(I196*H196,2) -> 0 | N196: znížená | P196: =O196*H196 -> 0 | Q196: 0 | R196: =Q196*H196 -> 0 | S196: 0 | T196: =S196*H196 -> 0 | AR196: 64 | AT196: K | AU196: 2 | AY196: ROZPOCET | BE196: =IF(N196="základná",J196,0) -> 0 | BF196: =IF(N196="znížená",J196,0) -> 0 | BG196: =IF(N196="zákl. prenesená",J196,0) -> 0 | BH196: =IF(N196="zníž. prenesená",J196,0) -> 0 | BI196: =IF(N196="nulová",J196,0) -> 0 | BJ196: 2 | BK196: =ROUND(I196*H196,2) -> 0 | BL196: 64 | BM196: 148
C197: 75 | D197: K | E197: 460200173 | F197: Hĺbenie káblovej ryhy ručne 35 cm širokej a 85 cm hlbokej, v zemine triedy 3 | G197: m | H197: 12 | J197: =ROUND(I197*H197,2) -> 0 | N197: znížená | P197: =O197*H197 -> 0 | Q197: 0 | R197: =Q197*H197 -> 0 | S197: 0 | T197: =S197*H197 -> 0 | AR197: 64 | AT197: K | AU197: 2 | AY197: ROZPOCET | BE197: =IF(N197="základná",J197,0) -> 0 | BF197: =IF(N197="znížená",J197,0) -> 0 | BG197: =IF(N197="zákl. prenesená",J197,0) -> 0 | BH197: =IF(N197="zníž. prenesená",J197,0) -> 0 | BI197: =IF(N197="nulová",J197,0) -> 0 | BJ197: 2 | BK197: =ROUND(I197*H197,2) -> 0 | BL197: 64 | BM197: 150
C198: 76 | D198: K | E198: 4603000061 | F198: Zhutnenie zeminy po vrstvách pri zahrnutí rýh strojom, vrstva zeminy 25 cm | G198: m3 | H198: 28.7 | J198: =ROUND(I198*H198,2) -> 0 | N198: znížená | P198: =O198*H198 -> 0 | Q198: 0 | R198: =Q198*H198 -> 0 | S198: 0 | T198: =S198*H198 -> 0 | AR198: 64 | AT198: K | AU198: 2 | AY198: ROZPOCET | BE198: =IF(N198="základná",J198,0) -> 0 | BF198: =IF(N198="znížená",J198,0) -> 0 | BG198: =IF(N198="zákl. prenesená",J198,0) -> 0 | BH198: =IF(N198="zníž. prenesená",J198,0) -> 0 | BI198: =IF(N198="nulová",J198,0) -> 0 | BJ198: 2 | BK198: =ROUND(I198*H198,2) -> 0 | BL198: 64 | BM198: 152
C199: 77 | D199: K | E199: 4603002P2 | F199: Podtláčanie otvorov strojovo do D 220 mm so zatiahnutím chráničky | G199: m | H199: 24 | J199: =ROUND(I199*H199,2) -> 0 | N199: znížená | P199: =O199*H199 -> 0 | Q199: 0 | R199: =Q199*H199 -> 0 | S199: 0 | T199: =S199*H199 -> 0 | AR199: 64 | AT199: K | AU199: 2 | AY199: ROZPOCET | BE199: =IF(N199="základná",J199,0) -> 0 | BF199: =IF(N199="znížená",J199,0) -> 0 | BG199: =IF(N199="zákl. prenesená",J199,0) -> 0 | BH199: =IF(N199="zníž. prenesená",J199,0) -> 0 | BI199: =IF(N199="nulová",J199,0) -> 0 | BJ199: 2 | BK199: =ROUND(I199*H199,2) -> 0 | BL199: 64 | BM199: 154
C200: 78 | D200: K | E200: 4603002P3 | F200: Montážna jama pre podtláčanie otvorov strojovo | G200: kus | H200: 2 | J200: =ROUND(I200*H200,2) -> 0 | N200: znížená | P200: =O200*H200 -> 0 | Q200: 0 | R200: =Q200*H200 -> 0 | S200: 0 | T200: =S200*H200 -> 0 | AR200: 64 | AT200: K | AU200: 2 | AY200: ROZPOCET | BE200: =IF(N200="základná",J200,0) -> 0 | BF200: =IF(N200="znížená",J200,0) -> 0 | BG200: =IF(N200="zákl. prenesená",J200,0) -> 0 | BH200: =IF(N200="zníž. prenesená",J200,0) -> 0 | BI200: =IF(N200="nulová",J200,0) -> 0 | BJ200: 2 | BK200: =ROUND(I200*H200,2) -> 0 | BL200: 64 | BM200: 156
C201: 79 | D201: K | E201: 460420024 | F201: Zriadenie lôžka z piesku bez zakrytia, v ryhe šír. do 35 cm, hrúbky vrstvy 10 cm | G201: m | H201: 82 | J201: =ROUND(I201*H201,2) -> 0 | N201: znížená | P201: =O201*H201 -> 0 | Q201: 0 | R201: =Q201*H201 -> 0 | S201: 0 | T201: =S201*H201 -> 0 | AR201: 64 | AT201: K | AU201: 2 | AY201: ROZPOCET | BE201: =IF(N201="základná",J201,0) -> 0 | BF201: =IF(N201="znížená",J201,0) -> 0 | BG201: =IF(N201="zákl. prenesená",J201,0) -> 0 | BH201: =IF(N201="zníž. prenesená",J201,0) -> 0 | BI201: =IF(N201="nulová",J201,0) -> 0 | BJ201: 2 | BK201: =ROUND(I201*H201,2) -> 0 | BL201: 64 | BM201: 158
C202: 80 | D202: M | E202: 581533300P1 | F202: Piesok stavebný | G202: t | H202: 4.632 | J202: =ROUND(I202*H202,2) -> 0 | N202: znížená | P202: =O202*H202 -> 0 | Q202: 0 | R202: =Q202*H202 -> 0 | S202: 0 | T202: =S202*H202 -> 0 | AR202: 256 | AT202: M | AU202: 2 | AY202: ROZPOCET | BE202: =IF(N202="základná",J202,0) -> 0 | BF202: =IF(N202="znížená",J202,0) -> 0 | BG202: =IF(N202="zákl. prenesená",J202,0) -> 0 | BH202: =IF(N202="zníž. prenesená",J202,0) -> 0 | BI202: =IF(N202="nulová",J202,0) -> 0 | BJ202: 2 | BK202: =ROUND(I202*H202,2) -> 0 | BL202: 64 | BM202: 160
C203: 81 | D203: K | E203: 4604200P5 | F203: Montáž platní DEKAB | G203: m | H203: 80 | J203: =ROUND(I203*H203,2) -> 0 | N203: znížená | P203: =O203*H203 -> 0 | Q203: 0 | R203: =Q203*H203 -> 0 | S203: 0 | T203: =S203*H203 -> 0 | AR203: 64 | AT203: K | AU203: 2 | AY203: ROZPOCET | BE203: =IF(N203="základná",J203,0) -> 0 | BF203: =IF(N203="znížená",J203,0) -> 0 | BG203: =IF(N203="zákl. prenesená",J203,0) -> 0 | BH203: =IF(N203="zníž. prenesená",J203,0) -> 0 | BI203: =IF(N203="nulová",J203,0) -> 0 | BJ203: 2 | BK203: =ROUND(I203*H203,2) -> 0 | BL203: 64 | BM203: 162
... C219: 97 | D219: K | E219: 46065P009 | F219: Asfaltobetón ABS strednozrnný hr.50 | G219: m2 | H219: 4.2 | J219: =ROUND(I219*H219,2) -> 0 | N219: znížená | P219: =O219*H219 -> 0 | Q219: 0 | R219: =Q219*H219 -> 0 | S219: 0 | T219: =S219*H219 -> 0 | AR219: 64 | AT219: K | AU219: 2 | AY219: ROZPOCET | BE219: =IF(N219="základná",J219,0) -> 0 | BF219: =IF(N219="znížená",J219,0) -> 0 | BG219: =IF(N219="zákl. prenesená",J219,0) -> 0 | BH219: =IF(N219="zníž. prenesená",J219,0) -> 0 | BI219: =IF(N219="nulová",J219,0) -> 0 | BJ219: 2 | BK219: =ROUND(I219*H219,2) -> 0 | BL219: 64 | BM219: 194

Sheet 6 - Vedľajšie rozpočtové ...
L2: >> skryté stĺpce << | AT2: {28e62fa5-0411-4578-8f9b-1bc8345e49e1}
AT3: 0
D4: Výkaz výmer | M4: v --- nižšie sa nachádzajú doplnkové a pomocné údaje k zostavám --- v | AT4: False
D6: Stavba:
E7: ='Rekapitulácia stavby'!K6 -> Oprava pešej lávky nad železničnou stanicou Nitra
D8: Objekt:
E9: 6 - Vedľajšie rozpočtové náklady pre všetký stavebné objekty
D11: JKSO: | I11: KS:
D12: Miesto: | F12: Nitra | I12: Dátum: | J12: ='Rekapitulácia stavby'!AN8 -> 30. 8. 2021
D14: Objednávateľ: | I14: IČO:
E15: Mesto Nitra | I15: IČ DPH:
D17: Zhotoviteľ: | I17: IČO: | J17: ='Rekapitulácia stavby'!AN13 -> Vyplň údaj
E18: ='Rekapitulácia stavby'!E14 -> Vyplň údaj | I18: IČ DPH: | J18: ='Rekapitulácia stavby'!AN14 -> Vyplň údaj
D20: Projektant: | I20: IČO: | J20: =IF('Rekapitulácia stavby'!AN16="","",'Rekapitulácia stavby'!AN16)
E21: =IF('Rekapitulácia stavby'!E17="","",'Rekapitulácia stavby'!E17) | I21: IČ DPH: | J21: =IF('Rekapitulácia stavby'!AN17="","",'Rekapitulácia stavby'!AN17)
D23: Spracovateľ: | I23: IČO:
E24: Združenie „SHP: Nitra – PD" SHP SK s.r.o. | I24: IČ DPH:
D26: Poznámka:
D30: Cena bez DPH | J30: =ROUND(J117, 2) -> 0
F32: Základ dane | I32: Sadzba dane | J32: Výška dane
D33: DPH | E33: základná | F33: =ROUND((SUM(BE117:BE130)), 2) -> 0 | I33: 0.2 | J33: =ROUND(((SUM(BE117:BE130))*I33), 2) -> 0
E34: znížená | F34: =ROUND((SUM(BF117:BF130)), 2) -> 0 | I34: 0.2 | J34: =ROUND(((SUM(BF117:BF130))*I34), 2) -> 0
E35: zákl. prenesená | F35: =ROUND((SUM(BG117:BG130)), 2) -> 0 | I35: 0.2 | J35: =0 -> 0
E36: zníž. prenesená | F36: =ROUND((SUM(BH117:BH130)), 2) -> 0 | I36: 0.2 | J36: =0 -> 0
E37: nulová | F37: =ROUND((SUM(BI117:BI130)), 2) -> 0 | I37: 0 | J37: =0 -> 0
D39: Cena s DPH | G39: v | H39: EUR | J39: =SUM(J30:J37) -> 0
D50: Projektant | G50: Spracovateľ
D61: Dátum a podpis: | F61: Pečiatka | G61: Dátum a podpis: | J61: Pečiatka
D65: Objednávateľ | G65: Zhotoviteľ
D76: Dátum a podpis: | F76: Pečiatka | G76: Dátum a podpis: | J76: Pečiatka
C82: REKAPITULÁCIA
C84: Stavba:
E85: =E7 -> Oprava pešej lávky nad železničnou stanicou Nitra
C86: Objekt:
E87: =E9 -> 6 - Vedľajšie rozpočtové náklady pre všetký stavebné objekty
C89: Miesto: | F89: =F12 -> Nitra | I89: Dátum: | J89: =IF(J12="","",J12) -> 30. 8. 2021
C91: Objednávateľ: | F91: =E15 -> Mesto Nitra | I91: Projektant: | J91: =E21
C92: Zhotoviteľ: | F92: =IF(E18="","",E18) -> Vyplň údaj | I92: Spracovateľ: | J92: =E24 -> Združenie „SHP: Nitra – PD" SHP SK s.r.o.
C94: Kód dielu - Popis | J94: Cena celkom [EUR]
C96: Náklady z rozpočtu | J96: =J117 -> 0 | AU96: -1
D97: VRN - Vedľajšie rozpočtové náklady | J97: =J118 -> 0
C104: ROZPOČET
C106: Stavba:
E107: =E7 -> Oprava pešej lávky nad železničnou stanicou Nitra
C108: Objekt:
E109: =E9 -> 6 - Vedľajšie rozpočtové náklady pre všetký stavebné objekty
C111: Miesto: | F111: =F12 -> Nitra | I111: Dátum: | J111: =IF(J12="","",J12) -> 30. 8. 2021
C113: Objednávateľ: | F113: =E15 -> Mesto Nitra | I113: Projektant: | J113: =E21
C114: Zhotoviteľ: | F114: =IF(E18="","",E18) -> Vyplň údaj | I114: Spracovateľ: | J114: =E24 -> Združenie „SHP: Nitra – PD" SHP SK s.r.o.
C116: PČ | D116: Typ | E116: Kód | F116: Popis | G116: MJ | H116: Množstvo | I116: J.cena [EUR] | J116: Cena celkom [EUR] | K116: Cenová sústava | N116: DPH | O116: J. Nh [h] | P116: Nh celkom [h] | Q116: J. hmotnosť [t] | R116: Hmotnosť celkom [t] | S116: J. suť [t] | T116: Suť Celkom [t]
C117: Náklady z rozpočtu | J117: =BK117 -> 0 | P117: =P118 -> 0 | R117: =R118 -> 0 | T117: =T118 -> 0 | AT117: D | AU117: -1 | BK117: =BK118 -> 0
D118: D | E118: VRN | F118: Vedľajšie rozpočtové náklady | J118: =BK118 -> 0 | P118: =SUM(P119:P130) -> 0 | R118: =SUM(R119:R130) -> 0 | T118: =SUM(T119:T130) -> 0 | AR118: 5 | AT118: D | AU118: 0 | AY118: ROZPOCET | BK118: =SUM(BK119:BK130) -> 0
C119: 1 | D119: K | E119: 000300031 | F119: Geodetické práce - vykonávané po výstavbe zameranie skutočného vyhotovenia stavby | G119: súbor | H119: 1 | J119: =ROUND(I119*H119,2) -> 0 | N119: znížená | P119: =O119*H119 -> 0 | Q119: 0 | R119: =Q119*H119 -> 0 | S119: 0 | T119: =S119*H119 -> 0 | AR119: 4 | AT119: K | AU119: 1 | AY119: ROZPOCET | BE119: =IF(N119="základná",J119,0) -> 0 | BF119: =IF(N119="znížená",J119,0) -> 0 | BG119: =IF(N119="zákl. prenesená",J119,0) -> 0 | BH119: =IF(N119="zníž. prenesená",J119,0) -> 0 | BI119: =IF(N119="nulová",J119,0) -> 0 | BJ119: 2 | BK119: =ROUND(I119*H119,2) -> 0 | BL119: 4 | BM119: 205972496
D120: P | F120: Poznámka k položke:_x000D_ v zmysle:_x000D_ technickej správy D 201 Lávka - bod 8.1.1., 8.1.2., 8.2.2., 8.2.2.1., 8.2.2.2._x000D_ technickej správy D 202 Schodisko - bod 7.1.1., 7.1.2_x000D_ technickej správy D 203 Výťah - bod 8.1.1._x000D_ geotetické vytýčenie verejného osvetlenia, elektrickej prípojky NN a napojenie výťahu stavby_x000D_ všetky povinné a geotetické merania počas výstavby vrátane vytýčenia objektov a geodetické porealizačné zameranie | AT120: P | AU120: 1
C121: 2 | D121: K | E121: 000400022 | F121: Projektové práce - stavebná časť (stavebné objekty vrátane ich technického vybavenia). náklady na dokumentáciu skutočného zhotovenia stavby | G121: súbor | H121: 1 | J121: =ROUND(I121*H121,2) -> 0 | N121: znížená | P121: =O121*H121 -> 0 | Q121: 0 | R121: =Q121*H121 -> 0 | S121: 0 | T121: =S121*H121 -> 0 | AR121: 4 | AT121: K | AU121: 1 | AY121: ROZPOCET | BE121: =IF(N121="základná",J121,0) -> 0 | BF121: =IF(N121="znížená",J121,0) -> 0 | BG121: =IF(N121="zákl. prenesená",J121,0) -> 0 | BH121: =IF(N121="zníž. prenesená",J121,0) -> 0 | BI121: =IF(N121="nulová",J121,0) -> 0 | BJ121: 2 | BK121: =ROUND(I121*H121,2) -> 0 | BL121: 4 | BM121: -638942236
D122: P | F122: Poznámka k položke:_x000D_ predložiť harmonogram výstavby a technologický postup výstavby | AT122: P | AU122: 1
C123: 3 | D123: K | E123: 000400041 | F123: Projektové práce - náklady na inžiniersko technickú pomoc bez rozlíšenia | G123: súbor | H123: 1 | J123: =ROUND(I123*H123,2) -> 0 | N123: znížená | P123: =O123*H123 -> 0 | Q123: 0 | R123: =Q123*H123 -> 0 | S123: 0 | T123: =S123*H123 -> 0 | AR123: 4 | AT123: K | AU123: 1 | AY123: ROZPOCET | BE123: =IF(N123="základná",J123,0) -> 0 | BF123: =IF(N123="znížená",J123,0) -> 0 | BG123: =IF(N123="zákl. prenesená",J123,0) -> 0 | BH123: =IF(N123="zníž. prenesená",J123,0) -> 0 | BI123: =IF(N123="nulová",J123,0) -> 0 | BJ123: 2 | BK123: =ROUND(I123*H123,2) -> 0 | BL123: 4 | BM123: -1669892426
D124: P | F124: Poznámka k položke:_x000D_ vypracovať výrobno-technickú dokumentáciu, konštrukčnú dokummentáciu, technologický predpis zvárania, montážnú dokumentáciu, ktorú treba predložiť na schválenie projektantovi a PD dočasného dopravného značenia odsúhlasenú na KDI PZ Nitra | AT124: P | AU124: 1
C125: 4 | D125: K | E125: 000600015 | F125: Zariadenie staveniska - zriadenie, provoz, likvidácia | G125: súbor | H125: 1 | J125: =ROUND(I125*H125,2) -> 0 | N125: znížená | P125: =O125*H125 -> 0 | Q125: 0 | R125: =Q125*H125 -> 0 | S125: 0 | T125: =S125*H125 -> 0 | AR125: 4 | AT125: K | AU125: 1 | AY125: ROZPOCET | BE125: =IF(N125="základná",J125,0) -> 0 | BF125: =IF(N125="znížená",J125,0) -> 0 | BG125: =IF(N125="zákl. prenesená",J125,0) -> 0 | BH125: =IF(N125="zníž. prenesená",J125,0) -> 0 | BI125: =IF(N125="nulová",J125,0) -> 0 | BJ125: 2 | BK125: =ROUND(I125*H125,2) -> 0 | BL125: 4 | BM125: -623553637
D126: P | F126: Poznámka k položke:_x000D_ zariadenie staveniska - je spoločné pre všetkých stavebné objekty | AT126: P | AU126: 1
C127: 5 | D127: K | E127: 001000033 | F127: Inžinierska činnosť - skúšky a revízie - zaťažkávacie skúšky | G127: súbor | H127: 1 | J127: =ROUND(I127*H127,2) -> 0 | N127: znížená | P127: =O127*H127 -> 0 | Q127: 0 | R127: =Q127*H127 -> 0 | S127: 0 | T127: =S127*H127 -> 0 | AR127: 4 | AT127: K | AU127: 1 | AY127: ROZPOCET | BE127: =IF(N127="základná",J127,0) -> 0 | BF127: =IF(N127="znížená",J127,0) -> 0 | BG127: =IF(N127="zákl. prenesená",J127,0) -> 0 | BH127: =IF(N127="zníž. prenesená",J127,0) -> 0 | BI127: =IF(N127="nulová",J127,0) -> 0 | BJ127: 2 | BK127: =ROUND(I127*H127,2) -> 0 | BL127: 4 | BM127: -1508620891
D128: P | F128: Poznámka k položke:_x000D_ súhlasné stanovisko hasičského zachranného zboru, bezpečnostného úradu a hygieny, koordinátora BOZP vrátane plánu BOZP | AT128: P | AU128: 1
C129: 6 | D129: K | E129: 001000034 | F129: Posudky, kontroly, správy - mostná prehliadka | G129: súbor | H129: 1 | J129: =ROUND(I129*H129,2) -> 0 | N129: znížená | P129: =O129*H129 -> 0 | Q129: 0 | R129: =Q129*H129 -> 0 | S129: 0 | T129: =S129*H129 -> 0 | AR129: 4 | AT129: K | AU129: 1 | AY129: ROZPOCET | BE129: =IF(N129="základná",J129,0) -> 0 | BF129: =IF(N129="znížená",J129,0) -> 0 | BG129: =IF(N129="zákl. prenesená",J129,0) -> 0 | BH129: =IF(N129="zníž. prenesená",J129,0) -> 0 | BI129: =IF(N129="nulová",J129,0) -> 0 | BJ129: 2 | BK129: =ROUND(I129*H129,2) -> 0 | BL129: 4 | BM129: -1170171243
D130: P | F130: Poznámka k položke:_x000D_ podrobný postup výstavby výťahu a časový harmonogram vrátane deklarovaní vhodnosti výťahu | AT130: P | AU130: 1
