Workbook

Sheet Rekapitulácia stavby
A1: Export Komplet | BA1: 2.0 | BT1: False | BU1: False | BV1: {c3782493-7a83-4d0a-b605-219cf9361d8d}
AR2: >> skryté stĺpce << | BS2: 0,01 | BT2: 20
BS3: 0,01 | BT3: 20
D4: REKAPITULÁCIA STAVBY | AS4: v --- nižšie sa nachádzajú doplnkové a pomocné údaje k zostavám --- v | BE4: Návod na vyplnenie | BS4: 0,001
D5: Kód: | BE5: Meniť je možné iba bunky so žltým podfarbením!_x000D_ _x000D_ 1) na prvom liste Rekapitulácie stavby vyplňte v zostave_x000D_ _x000D_ a) Rekapitulácia stavby_x000D_ - údaje o Zhotoviteľovi_x000D_ (prenesú sa do ostatných zostáv aj v iných listoch)_x000D_ _x000D_ b) Rekapitulácia objektov stavby_x000D_ - potrebné Ostatné náklady_x000D_ _x000D_ 2) na vybraných listoch vyplňte v zostave_x000D_ _x000D_ a) Krycí list_x000D_ - údaje o Zhotoviteľovi, pokiaľ sa líšia od údajov o Zhotoviteľovi na Rekapitulácii stavby_x000D_ (údaje se prenesú do ostatných zostav v danom liste)_x000D_ _x000D_ b) Rekapitulácia rozpočtu_x000D_ - potrebné Ostatné náklady_x000D_ _x000D_ c) Celkové náklady za stavbu_x000D_ - ceny na položkách_x000D_ - množstvo, pokiaľ má žlté podfarbenie_x000D_ - a v prípade potreby poznámku (tá je v skrytom stĺpci) | BS5: 0,01
D6: Stavba: | K6: Oprava pešej lávky nad železničnou stanicou Nitra | BS6: 0,01
D7: JKSO: | AK7: KS: | BS7: 0,01
D8: Miesto: | K8: Nitra | AK8: Dátum: | AN8: 30. 8. 2021 | BS8: 0,01
BS9: 0,01
D10: Objednávateľ: | AK10: IČO: | BS10: 0,01
E11: Mesto Nitra | AK11: IČ DPH: | BS11: 0,01
BS12: 0,01
D13: Zhotoviteľ: | AK13: IČO: | AN13: Vyplň údaj | BS13: 0,01
E14: Vyplň údaj | AK14: IČ DPH: | AN14: Vyplň údaj | BS14: 0,01
BS15: False
D16: Projektant: | AK16: IČO: | BS16: False
AK17: IČ DPH: | BS17: True
BS18: 0,01
D19: Spracovateľ: | AK19: IČO: | BS19: 0,01
E20: Združenie „SHP: Nitra – PD" SHP SK s.r.o. | AK20: IČ DPH: | BS20: True
D22: Poznámka:
D26: Cena bez DPH | AK26: =ROUND(AG94,2) -> 0
L28: Sadzba dane | W28: Základ dane | AK28: Výška dane
D29: DPH | F29: základná | L29: 0.2 | W29: =ROUND(AZ94, 2) -> 0 | AK29: =ROUND(AV94, 2) -> 0
F30: znížená | L30: 0.2 | W30: =ROUND(BA94, 2) -> 0 | AK30: =ROUND(AW94, 2) -> 0
F31: zákl. prenesená | L31: 0.2 | W31: =ROUND(BB94, 2) -> 0 | AK31: 0
F32: zníž. prenesená | L32: 0.2 | W32: =ROUND(BC94, 2) -> 0 | AK32: 0
F33: nulová | L33: 0 | W33: =ROUND(BD94, 2) -> 0 | AK33: 0
D35: Cena s DPH | T35: v | X35: EUR | AK35: =SUM(AK26:AK33) -> 0
D49: Projektant | AH49: Spracovateľ
D60: Dátum a podpis: | V60: Pečiatka | AH60: Dátum a podpis: | AM60: Pečiatka
D64: Objednávateľ | AH64: Zhotoviteľ
D75: Dátum a podpis: | V75: Pečiatka | AH75: Dátum a podpis: | AM75: Pečiatka
C82: REKAPITULÁCIA OBJEKTOV STAVBY
C84: Kód:
C85: Stavba: | L85: =K6 -> Oprava pešej lávky nad železničnou stanicou Nitra
C87: Miesto: | L87: =IF(K8="","",K8) -> Nitra | AI87: Dátum: | AM87: =IF(AN8= "","",AN8) -> 30. 8. 2021
C89: Objednávateľ: | L89: =IF(E11= "","",E11) -> Mesto Nitra | AI89: Projektant: | AM89: =IF(E17="","",E17) | AS89: Informatívne údaje z listov zákaziek
C90: Zhotoviteľ: | L90: =IF(E14= "Vyplň údaj","",E14) | AI90: Spracovateľ: | AM90: =IF(E20="","",E20) -> Združenie „SHP: Nitra – PD" SHP SK s.r.o.
C92: Kód | I92: Popis | AG92: Cena bez DPH [EUR] | AN92: Cena s DPH [EUR] | AQ92: Typ | AS92: z toho Ostat._x000D_ náklady [EUR] | AT92: DPH [EUR] | AU92: Normohodiny [h] | AV92: DPH základná [EUR] | AW92: DPH znížená [EUR] | AX92: DPH základná prenesená_x000D_ [EUR] | AY92: DPH znížená prenesená_x000D_ [EUR] | AZ92: Základňa_x000D_ DPH základná | BA92: Základňa_x000D_ DPH znížená | BB92: Základňa_x000D_ DPH zákl. prenesená | BC92: Základňa_x000D_ DPH zníž. prenesená | BD92: Základňa_x000D_ DPH nulová
...

Sheet D 201 - Lávka
L2: >> skryté stĺpce << | AT2: {fcb0add3-a592-4b3d-aa63-4815118fd374}
AT3: 0
D4: Výkaz výmer | M4: v --- nižšie sa nachádzajú doplnkové a pomocné údaje k zostavám --- v | AT4: False
D6: Stavba:
E7: ='Rekapitulácia stavby'!K6 -> Oprava pešej lávky nad železničnou stanicou Nitra
D8: Objekt:
E9: SO 201 - Lávka
D10: Časť:
E11: D 201 - Lávka
D13: JKSO: | I13: KS:
D14: Miesto: | F14: Nitra | I14: Dátum: | J14: ='Rekapitulácia stavby'!AN8 -> 30. 8. 2021
D16: Objednávateľ: | I16: IČO:
E17: Mesto Nitra | I17: IČ DPH:
D19: Zhotoviteľ: | I19: IČO: | J19: ='Rekapitulácia stavby'!AN13 -> Vyplň údaj
E20: ='Rekapitulácia stavby'!E14 -> Vyplň údaj | I20: IČ DPH: | J20: ='Rekapitulácia stavby'!AN14 -> Vyplň údaj
D22: Projektant: | I22: IČO: | J22: =IF('Rekapitulácia stavby'!AN16="","",'Rekapitulácia stavby'!AN16)
E23: =IF('Rekapitulácia stavby'!E17="","",'Rekapitulácia stavby'!E17) | I23: IČ DPH: | J23: =IF('Rekapitulácia stavby'!AN17="","",'Rekapitulácia stavby'!AN17)
D25: Spracovateľ: | I25: IČO:
E26: Združenie „SHP: Nitra – PD" SHP SK s.r.o. | I26: IČ DPH:
D28: Poznámka:
D32: Cena bez DPH | J32: =ROUND(J132, 2) -> 0
F34: Základ dane | I34: Sadzba dane | J34: Výška dane
D35: DPH | E35: základná | F35: =ROUND((SUM(BE132:BE335)), 2) -> 0 | I35: 0.2 | J35: =ROUND(((SUM(BE132:BE335))*I35), 2) -> 0
E36: znížená | F36: =ROUND((SUM(BF132:BF335)), 2) -> 0 | I36: 0.2 | J36: =ROUND(((SUM(BF132:BF335))*I36), 2) -> 0
E37: zákl. prenesená | F37: =ROUND((SUM(BG132:BG335)), 2) -> 0 | I37: 0.2 | J37: =0 -> 0
E38: zníž. prenesená | F38: =ROUND((SUM(BH132:BH335)), 2) -> 0 | I38: 0.2 | J38: =0 -> 0
E39: nulová | F39: =ROUND((SUM(BI132:BI335)), 2) -> 0 | I39: 0 | J39: =0 -> 0
D41: Cena s DPH | G41: v | H41: EUR | J41: =SUM(J32:J39) -> 0
D50: Projektant | G50: Spracovateľ
D61: Dátum a podpis: | F61: Pečiatka | G61: Dátum a podpis: | J61: Pečiatka
D65: Objednávateľ | G65: Zhotoviteľ
D76: Dátum a podpis: | F76: Pečiatka | G76: Dátum a podpis: | J76: Pečiatka
C82: REKAPITULÁCIA
C84: Stavba:
E85: =E7 -> Oprava pešej lávky nad železničnou stanicou Nitra
C86: Objekt:
E87: SO 201 - Lávka
C88: Časť:
E89: =E11 -> D 201 - Lávka
C91: Miesto: | F91: =F14 -> Nitra | I91: Dátum: | J91: =IF(J14="","",J14) -> 30. 8. 2021
...

Sheet D 202 - Schodisko
L2: >> skryté stĺpce << | AT2: {9a0319ae-a538-41ea-995d-b7aea3706a38}
AT3: 0
D4: Výkaz výmer | M4: v --- nižšie sa nachádzajú doplnkové a pomocné údaje k zostavám --- v | AT4: False
D6: Stavba:
E7: ='Rekapitulácia stavby'!K6 -> Oprava pešej lávky nad železničnou stanicou Nitra
D8: Objekt:
E9: SO 202 - Schodisko
D10: Časť:
E11: D 202 - Schodisko
D13: JKSO: | I13: KS:
D14: Miesto: | F14: Nitra | I14: Dátum: | J14: ='Rekapitulácia stavby'!AN8 -> 30. 8. 2021
D16: Objednávateľ: | I16: IČO:
E17: Mesto Nitra | I17: IČ DPH:
D19: Zhotoviteľ: | I19: IČO: | J19: ='Rekapitulácia stavby'!AN13 -> Vyplň údaj
E20: ='Rekapitulácia stavby'!E14 -> Vyplň údaj | I20: IČ DPH: | J20: ='Rekapitulácia stavby'!AN14 -> Vyplň údaj
D22: Projektant: | I22: IČO: | J22: =IF('Rekapitulácia stavby'!AN16="","",'Rekapitulácia stavby'!AN16)
E23: =IF('Rekapitulácia stavby'!E17="","",'Rekapitulácia stavby'!E17) | I23: IČ DPH: | J23: =IF('Rekapitulácia stavby'!AN17="","",'Rekapitulácia stavby'!AN17)
D25: Spracovateľ: | I25: IČO:
E26: Združenie „SHP: Nitra – PD" SHP SK s.r.o. | I26: IČ DPH:
D28: Poznámka:
D32: Cena bez DPH | J32: =ROUND(J129, 2) -> 0
F34: Základ dane | I34: Sadzba dane | J34: Výška dane
D35: DPH | E35: základná | F35: =ROUND((SUM(BE129:BE230)), 2) -> 0 | I35: 0.2 | J35: =ROUND(((SUM(BE129:BE230))*I35), 2) -> 0
E36: znížená | F36: =ROUND((SUM(BF129:BF230)), 2) -> 0 | I36: 0.2 | J36: =ROUND(((SUM(BF129:BF230))*I36), 2) -> 0
E37: zákl. prenesená | F37: =ROUND((SUM(BG129:BG230)), 2) -> 0 | I37: 0.2 | J37: =0 -> 0
E38: zníž. prenesená | F38: =ROUND((SUM(BH129:BH230)), 2) -> 0 | I38: 0.2 | J38: =0 -> 0
E39: nulová | F39: =ROUND((SUM(BI129:BI230)), 2) -> 0 | I39: 0 | J39: =0 -> 0
D41: Cena s DPH | G41: v | H41: EUR | J41: =SUM(J32:J39) -> 0
D50: Projektant | G50: Spracovateľ
D61: Dátum a podpis: | F61: Pečiatka | G61: Dátum a podpis: | J61: Pečiatka
D65: Objednávateľ | G65: Zhotoviteľ
D76: Dátum a podpis: | F76: Pečiatka | G76: Dátum a podpis: | J76: Pečiatka
C82: REKAPITULÁCIA
C84: Stavba:
E85: =E7 -> Oprava pešej lávky nad železničnou stanicou Nitra
C86: Objekt:
E87: SO 202 - Schodisko
C88: Časť:
E89: =E11 -> D 202 - Schodisko
C91: Miesto: | F91: =F14 -> Nitra | I91: Dátum: | J91: =IF(J14="","",J14) -> 30. 8. 2021
...

Sheet D 203 - Výťah
L2: >> skryté stĺpce << | AT2: {245cd100-bb97-4ea5-b1c4-e021dc9c2ac9}
AT3: 0
D4: Výkaz výmer | M4: v --- nižšie sa nachádzajú doplnkové a pomocné údaje k zostavám --- v | AT4: False
D6: Stavba:
E7: ='Rekapitulácia stavby'!K6 -> Oprava pešej lávky nad železničnou stanicou Nitra
D8: Objekt:
E9: SO 203 - Výťah
D10: Časť:
E11: D 203 - Výťah
D13: JKSO: | I13: KS:
D14: Miesto: | F14: Nitra | I14: Dátum: | J14: ='Rekapitulácia stavby'!AN8 -> 30. 8. 2021
D16: Objednávateľ: | I16: IČO:
E17: Mesto Nitra | I17: IČ DPH:
D19: Zhotoviteľ: | I19: IČO: | J19: ='Rekapitulácia stavby'!AN13 -> Vyplň údaj
E20: ='Rekapitulácia stavby'!E14 -> Vyplň údaj | I20: IČ DPH: | J20: ='Rekapitulácia stavby'!AN14 -> Vyplň údaj
D22: Projektant: | I22: IČO: | J22: =IF('Rekapitulácia stavby'!AN16="","",'Rekapitulácia stavby'!AN16)
E23: =IF('Rekapitulácia stavby'!E17="","",'Rekapitulácia stavby'!E17) | I23: IČ DPH: | J23: =IF('Rekapitulácia stavby'!AN17="","",'Rekapitulácia stavby'!AN17)
D25: Spracovateľ: | I25: IČO:
E26: Združenie „SHP: Nitra – PD" SHP SK s.r.o. | I26: IČ DPH:
D28: Poznámka:
D32: Cena bez DPH | J32: =ROUND(J136, 2) -> 0
F34: Základ dane | I34: Sadzba dane | J34: Výška dane
D35: DPH | E35: základná | F35: =ROUND((SUM(BE136:BE282)), 2) -> 0 | I35: 0.2 | J35: =ROUND(((SUM(BE136:BE282))*I35), 2) -> 0
E36: znížená | F36: =ROUND((SUM(BF136:BF282)), 2) -> 0 | I36: 0.2 | J36: =ROUND(((SUM(BF136:BF282))*I36), 2) -> 0
E37: zákl. prenesená | F37: =ROUND((SUM(BG136:BG282)), 2) -> 0 | I37: 0.2 | J37: =0 -> 0
E38: zníž. prenesená | F38: =ROUND((SUM(BH136:BH282)), 2) -> 0 | I38: 0.2 | J38: =0 -> 0
E39: nulová | F39: =ROUND((SUM(BI136:BI282)), 2) -> 0 | I39: 0 | J39: =0 -> 0
D41: Cena s DPH | G41: v | H41: EUR | J41: =SUM(J32:J39) -> 0
D50: Projektant | G50: Spracovateľ
D61: Dátum a podpis: | F61: Pečiatka | G61: Dátum a podpis: | J61: Pečiatka
D65: Objednávateľ | G65: Zhotoviteľ
D76: Dátum a podpis: | F76: Pečiatka | G76: Dátum a podpis: | J76: Pečiatka
C82: REKAPITULÁCIA
C84: Stavba:
E85: =E7 -> Oprava pešej lávky nad železničnou stanicou Nitra
C86: Objekt:
E87: SO 203 - Výťah
C88: Časť:
E89: =E11 -> D 203 - Výťah
C91: Miesto: | F91: =F14 -> Nitra | I91: Dátum: | J91: =IF(J14="","",J14) -> 30. 8. 2021
...

Sheet SO 401 - Elektrická prípo...
L2: >> skryté stĺpce << | AT2: {30c5fba4-82d0-4ea5-87ae-d45080f9aa2e}
AT3: 0
D4: Výkaz výmer | M4: v --- nižšie sa nachádzajú doplnkové a pomocné údaje k zostavám --- v | AT4: False
D6: Stavba:
E7: ='Rekapitulácia stavby'!K6 -> Oprava pešej lávky nad železničnou stanicou Nitra
D8: Objekt:
E9: SO 401 - Elektrická prípojka NN a napojenie výťahu
D11: JKSO: | I11: KS:
D12: Miesto: | F12: Nitra | I12: Dátum: | J12: ='Rekapitulácia stavby'!AN8 -> 30. 8. 2021
D14: Objednávateľ: | I14: IČO:
E15: Mesto Nitra | I15: IČ DPH:
D17: Zhotoviteľ: | I17: IČO: | J17: ='Rekapitulácia stavby'!AN13 -> Vyplň údaj
E18: ='Rekapitulácia stavby'!E14 -> Vyplň údaj | I18: IČ DPH: | J18: ='Rekapitulácia stavby'!AN14 -> Vyplň údaj
D20: Projektant: | I20: IČO: | J20: =IF('Rekapitulácia stavby'!AN16="","",'Rekapitulácia stavby'!AN16)
E21: =IF('Rekapitulácia stavby'!E17="","",'Rekapitulácia stavby'!E17) | I21: IČ DPH: | J21: =IF('Rekapitulácia stavby'!AN17="","",'Rekapitulácia stavby'!AN17)
D23: Spracovateľ: | I23: IČO:
E24: Združenie „SHP: Nitra – PD" SHP SK s.r.o. | I24: IČ DPH:
D26: Poznámka:
D30: Cena bez DPH | J30: =ROUND(J119, 2) -> 0
F32: Základ dane | I32: Sadzba dane | J32: Výška dane
D33: DPH | E33: základná | F33: =ROUND((SUM(BE119:BE193)), 2) -> 0 | I33: 0.2 | J33: =ROUND(((SUM(BE119:BE193))*I33), 2) -> 0
E34: znížená | F34: =ROUND((SUM(BF119:BF193)), 2) -> 0 | I34: 0.2 | J34: =ROUND(((SUM(BF119:BF193))*I34), 2) -> 0
E35: zákl. prenesená | F35: =ROUND((SUM(BG119:BG193)), 2) -> 0 | I35: 0.2 | J35: =0 -> 0
E36: zníž. prenesená | F36: =ROUND((SUM(BH119:BH193)), 2) -> 0 | I36: 0.2 | J36: =0 -> 0
E37: nulová | F37: =ROUND((SUM(BI119:BI193)), 2) -> 0 | I37: 0 | J37: =0 -> 0
D39: Cena s DPH | G39: v | H39: EUR | J39: =SUM(J30:J37) -> 0
D50: Projektant | G50: Spracovateľ
D61: Dátum a podpis: | F61: Pečiatka | G61: Dátum a podpis: | J61: Pečiatka
D65: Objednávateľ | G65: Zhotoviteľ
D76: Dátum a podpis: | F76: Pečiatka | G76: Dátum a podpis: | J76: Pečiatka
C82: REKAPITULÁCIA
C84: Stavba:
E85: =E7 -> Oprava pešej lávky nad železničnou stanicou Nitra
C86: Objekt:
E87: =E9 -> SO 401 - Elektrická prípojka NN a napojenie výťahu
C89: Miesto: | F89: =F12 -> Nitra | I89: Dátum: | J89: =IF(J12="","",J12) -> 30. 8. 2021
C91: Objednávateľ: | F91: =E15 -> Mesto Nitra | I91: Projektant: | J91: =E21
C92: Zhotoviteľ: | F92: =IF(E18="","",E18) -> Vyplň údaj | I92: Spracovateľ: | J92: =E24 -> Združenie „SHP: Nitra – PD" SHP SK s.r.o.
C94: Kód dielu - Popis | J94: Cena celkom [EUR]
C96: Náklady z rozpočtu | J96: =J119 -> 0 | AU96: -1
...

Sheet SO 402 - Verejné osvetlen...
L2: >> skryté stĺpce << | AT2: {869e2d83-3862-43b5-9b4e-04c7a5066b18}
AT3: 0
D4: Výkaz výmer | M4: v --- nižšie sa nachádzajú doplnkové a pomocné údaje k zostavám --- v | AT4: False
D6: Stavba:
E7: ='Rekapitulácia stavby'!K6 -> Oprava pešej lávky nad železničnou stanicou Nitra
D8: Objekt:
E9: SO 402 - Verejné osvetlenie lávky
D11: JKSO: | I11: KS:
D12: Miesto: | F12: Nitra | I12: Dátum: | J12: ='Rekapitulácia stavby'!AN8 -> 30. 8. 2021
D14: Objednávateľ: | I14: IČO:
E15: Mesto Nitra | I15: IČ DPH:
D17: Zhotoviteľ: | I17: IČO: | J17: ='Rekapitulácia stavby'!AN13 -> Vyplň údaj
E18: ='Rekapitulácia stavby'!E14 -> Vyplň údaj | I18: IČ DPH: | J18: ='Rekapitulácia stavby'!AN14 -> Vyplň údaj
D20: Projektant: | I20: IČO: | J20: =IF('Rekapitulácia stavby'!AN16="","",'Rekapitulácia stavby'!AN16)
E21: =IF('Rekapitulácia stavby'!E17="","",'Rekapitulácia stavby'!E17) | I21: IČ DPH: | J21: =IF('Rekapitulácia stavby'!AN17="","",'Rekapitulácia stavby'!AN17)
D23: Spracovateľ: | I23: IČO:
E24: Združenie „SHP: Nitra – PD" SHP SK s.r.o. | I24: IČ DPH:
D26: Poznámka:
D30: Cena bez DPH | J30: =ROUND(J119, 2) -> 0
F32: Základ dane | I32: Sadzba dane | J32: Výška dane
D33: DPH | E33: základná | F33: =ROUND((SUM(BE119:BE219)), 2) -> 0 | I33: 0.2 | J33: =ROUND(((SUM(BE119:BE219))*I33), 2) -> 0
E34: znížená | F34: =ROUND((SUM(BF119:BF219)), 2) -> 0 | I34: 0.2 | J34: =ROUND(((SUM(BF119:BF219))*I34), 2) -> 0
E35: zákl. prenesená | F35: =ROUND((SUM(BG119:BG219)), 2) -> 0 | I35: 0.2 | J35: =0 -> 0
E36: zníž. prenesená | F36: =ROUND((SUM(BH119:BH219)), 2) -> 0 | I36: 0.2 | J36: =0 -> 0
E37: nulová | F37: =ROUND((SUM(BI119:BI219)), 2) -> 0 | I37: 0 | J37: =0 -> 0
D39: Cena s DPH | G39: v | H39: EUR | J39: =SUM(J30:J37) -> 0
D50: Projektant | G50: Spracovateľ
D61: Dátum a podpis: | F61: Pečiatka | G61: Dátum a podpis: | J61: Pečiatka
D65: Objednávateľ | G65: Zhotoviteľ
D76: Dátum a podpis: | F76: Pečiatka | G76: Dátum a podpis: | J76: Pečiatka
C82: REKAPITULÁCIA
C84: Stavba:
E85: =E7 -> Oprava pešej lávky nad železničnou stanicou Nitra
C86: Objekt:
E87: =E9 -> SO 402 - Verejné osvetlenie lávky
C89: Miesto: | F89: =F12 -> Nitra | I89: Dátum: | J89: =IF(J12="","",J12) -> 30. 8. 2021
C91: Objednávateľ: | F91: =E15 -> Mesto Nitra | I91: Projektant: | J91: =E21
C92: Zhotoviteľ: | F92: =IF(E18="","",E18) -> Vyplň údaj | I92: Spracovateľ: | J92: =E24 -> Združenie „SHP: Nitra – PD" SHP SK s.r.o.
C94: Kód dielu - Popis | J94: Cena celkom [EUR]
C96: Náklady z rozpočtu | J96: =J119 -> 0 | AU96: -1
...

Sheet 6 - Vedľajšie rozpočtové ...
L2: >> skryté stĺpce << | AT2: {28e62fa5-0411-4578-8f9b-1bc8345e49e1}
AT3: 0
D4: Výkaz výmer | M4: v --- nižšie sa nachádzajú doplnkové a pomocné údaje k zostavám --- v | AT4: False
D6: Stavba:
E7: ='Rekapitulácia stavby'!K6 -> Oprava pešej lávky nad železničnou stanicou Nitra
D8: Objekt:
E9: 6 - Vedľajšie rozpočtové náklady pre všetký stavebné objekty
D11: JKSO: | I11: KS:
D12: Miesto: | F12: Nitra | I12: Dátum: | J12: ='Rekapitulácia stavby'!AN8 -> 30. 8. 2021
D14: Objednávateľ: | I14: IČO:
E15: Mesto Nitra | I15: IČ DPH:
D17: Zhotoviteľ: | I17: IČO: | J17: ='Rekapitulácia stavby'!AN13 -> Vyplň údaj
E18: ='Rekapitulácia stavby'!E14 -> Vyplň údaj | I18: IČ DPH: | J18: ='Rekapitulácia stavby'!AN14 -> Vyplň údaj
D20: Projektant: | I20: IČO: | J20: =IF('Rekapitulácia stavby'!AN16="","",'Rekapitulácia stavby'!AN16)
E21: =IF('Rekapitulácia stavby'!E17="","",'Rekapitulácia stavby'!E17) | I21: IČ DPH: | J21: =IF('Rekapitulácia stavby'!AN17="","",'Rekapitulácia stavby'!AN17)
D23: Spracovateľ: | I23: IČO:
E24: Združenie „SHP: Nitra – PD" SHP SK s.r.o. | I24: IČ DPH:
D26: Poznámka:
D30: Cena bez DPH | J30: =ROUND(J117, 2) -> 0
F32: Základ dane | I32: Sadzba dane | J32: Výška dane
D33: DPH | E33: základná | F33: =ROUND((SUM(BE117:BE130)), 2) -> 0 | I33: 0.2 | J33: =ROUND(((SUM(BE117:BE130))*I33), 2) -> 0
E34: znížená | F34: =ROUND((SUM(BF117:BF130)), 2) -> 0 | I34: 0.2 | J34: =ROUND(((SUM(BF117:BF130))*I34), 2) -> 0
E35: zákl. prenesená | F35: =ROUND((SUM(BG117:BG130)), 2) -> 0 | I35: 0.2 | J35: =0 -> 0
E36: zníž. prenesená | F36: =ROUND((SUM(BH117:BH130)), 2) -> 0 | I36: 0.2 | J36: =0 -> 0
E37: nulová | F37: =ROUND((SUM(BI117:BI130)), 2) -> 0 | I37: 0 | J37: =0 -> 0
D39: Cena s DPH | G39: v | H39: EUR | J39: =SUM(J30:J37) -> 0
D50: Projektant | G50: Spracovateľ
D61: Dátum a podpis: | F61: Pečiatka | G61: Dátum a podpis: | J61: Pečiatka
D65: Objednávateľ | G65: Zhotoviteľ
D76: Dátum a podpis: | F76: Pečiatka | G76: Dátum a podpis: | J76: Pečiatka
C82: REKAPITULÁCIA
C84: Stavba:
E85: =E7 -> Oprava pešej lávky nad železničnou stanicou Nitra
C86: Objekt:
E87: =E9 -> 6 - Vedľajšie rozpočtové náklady pre všetký stavebné objekty
C89: Miesto: | F89: =F12 -> Nitra | I89: Dátum: | J89: =IF(J12="","",J12) -> 30. 8. 2021
C91: Objednávateľ: | F91: =E15 -> Mesto Nitra | I91: Projektant: | J91: =E21
C92: Zhotoviteľ: | F92: =IF(E18="","",E18) -> Vyplň údaj | I92: Spracovateľ: | J92: =E24 -> Združenie „SHP: Nitra – PD" SHP SK s.r.o.
C94: Kód dielu - Popis | J94: Cena celkom [EUR]
C96: Náklady z rozpočtu | J96: =J117 -> 0 | AU96: -1
...
