Workbook

Sheet Rekapitulácia stavby
A1: Export Komplet | BA1: 2.0 | BT1: False | BU1: False | BV1: {69f6395c-cc6c-494c-b71e-fff77577c57d}
AR2: >> skryté stĺpce << | BS2: 0,01 | BT2: 20
BS3: 0,01 | BT3: 20
D4: REKAPITULÁCIA STAVBY | AS4: v --- nižšie sa nachádzajú doplnkové a pomocné údaje k zostavám --- v | BE4: Návod na vyplnenie | BS4: 0,001
D5: Kód: | K5: CS2022 | BE5: Meniť je možné iba bunky so žltým podfarbením!_x000D_ _x000D_ 1) na prvom liste Rekapitulácie stavby vyplňte v zostave_x000D_ _x000D_ a) Rekapitulácia stavby_x000D_ - údaje o Zhotoviteľovi_x000D_ (prenesú sa do ostatných zostáv aj v iných listoch)_x000D_ _x000D_ b) Rekapitulácia objektov stavby_x000D_ - potrebné Ostatné náklady_x000D_ _x000D_ 2) na vybraných listoch vyplňte v zostave_x000D_ _x000D_ a) Krycí list_x000D_ - údaje o Zhotoviteľovi, pokiaľ sa líšia od údajov o Zhotoviteľovi na Rekapitulácii stavby_x000D_ (údaje se prenesú do ostatných zostav v danom liste)_x000D_ _x000D_ b) Rekapitulácia rozpočtu_x000D_ - potrebné Ostatné náklady_x000D_ _x000D_ c) Celkové náklady za stavbu_x000D_ - ceny na položkách_x000D_ - množstvo, pokiaľ má žlté podfarbenie_x000D_ - a v prípade potreby poznámku (tá je v skrytom stĺpci) | BS5: 0,01
D6: Stavba: | K6: Cyklotrasa - podjazd pod Univerzitným mostom TR.A.Hlinku-CS2022 | BS6: 0,01
D7: JKSO: | AK7: KS: | BS7: 0,01
D8: Miesto: | K8: Nitra | AK8: Dátum: | BS8: 0,01
BS9: 0,01
D10: Objednávateľ: | AK10: IČO: | BS10: 0,01
E11: Mesto Nitra | AK11: IČ DPH: | BS11: 0,01
BS12: 0,01
D13: Zhotoviteľ: | AK13: IČO: | AN13: Vyplň údaj | BS13: 0,01
E14: Vyplň údaj | AK14: IČ DPH: | AN14: Vyplň údaj | BS14: 0,01
BS15: False
D16: Projektant: | AK16: IČO: | BS16: False
AK17: IČ DPH: | BS17: True
BS18: 0,01
D19: Spracovateľ: | AK19: IČO: | BS19: 0,01
AK20: IČ DPH: | BS20: True
D22: Poznámka:
D26: Cena bez DPH | AK26: =ROUND(AG94,2) -> 0
L28: Sadzba dane | W28: Základ dane | AK28: Výška dane
D29: DPH | F29: základná | L29: 0.2 | W29: =ROUND(AZ94, 2) -> 0 | AK29: =ROUND(AV94, 2) -> 0
F30: znížená | L30: 0.2 | W30: =ROUND(BA94, 2) -> 0 | AK30: =ROUND(AW94, 2) -> 0
F31: zákl. prenesená | L31: 0.2 | W31: =ROUND(BB94, 2) -> 0 | AK31: 0
F32: zníž. prenesená | L32: 0.2 | W32: =ROUND(BC94, 2) -> 0 | AK32: 0
F33: nulová | L33: 0 | W33: =ROUND(BD94, 2) -> 0 | AK33: 0
D35: Cena s DPH | T35: v | X35: EUR | AK35: =SUM(AK26:AK33) -> 0
D49: Projektant | AH49: Spracovateľ
D60: Dátum a podpis: | V60: Pečiatka | AH60: Dátum a podpis: | AM60: Pečiatka
D64: Objednávateľ | AH64: Zhotoviteľ
D75: Dátum a podpis: | V75: Pečiatka | AH75: Dátum a podpis: | AM75: Pečiatka
C82: REKAPITULÁCIA OBJEKTOV STAVBY
C84: Kód: | L84: =K5 -> CS2022
C85: Stavba: | L85: =K6 -> Cyklotrasa - podjazd pod Univerzitným mostom TR.A.Hlinku-CS2022
C87: Miesto: | L87: =IF(K8="","",K8) -> Nitra | AI87: Dátum: | AM87: =IF(AN8= "","",AN8)
C89: Objednávateľ: | L89: =IF(E11= "","",E11) -> Mesto Nitra | AI89: Projektant: | AM89: =IF(E17="","",E17) | AS89: Informatívne údaje z listov zákaziek
C90: Zhotoviteľ: | L90: =IF(E14= "Vyplň údaj","",E14) | AI90: Spracovateľ: | AM90: =IF(E20="","",E20)
C92: Kód | I92: Popis | AG92: Cena bez DPH [EUR] | AN92: Cena s DPH [EUR] | AQ92: Typ | AS92: z toho Ostat._x000D_ náklady [EUR] | AT92: DPH [EUR] | AU92: Normohodiny [h] | AV92: DPH základná [EUR] | AW92: DPH znížená [EUR] | AX92: DPH základná prenesená_x000D_ [EUR] | AY92: DPH znížená prenesená_x000D_ [EUR] | AZ92: Základňa_x000D_ DPH základná | BA92: Základňa_x000D_ DPH znížená | BB92: Základňa_x000D_ DPH zákl. prenesená | BC92: Základňa_x000D_ DPH zníž. prenesená | BD92: Základňa_x000D_ DPH nulová
C94: Náklady z rozpočtov | AG94: =ROUND(SUM(AG95:AG97),2) -> 0 | AN94: =SUM(AG94,AT94) -> 0 | AS94: =ROUND(SUM(AS95:AS97),2) -> 0 | AT94: =ROUND(SUM(AV94:AW94),2) -> 0 | AU94: =ROUND(SUM(AU95:AU97),5) -> 0 | AV94: =ROUND(AZ94*L29,2) -> 0 | AW94: =ROUND(BA94*L30,2) -> 0 | AX94: =ROUND(BB94*L29,2) -> 0 | AY94: =ROUND(BC94*L30,2) -> 0 | AZ94: =ROUND(SUM(AZ95:AZ97),2) -> 0 | BA94: =ROUND(SUM(BA95:BA97),2) -> 0 | BB94: =ROUND(SUM(BB95:BB97),2) -> 0 | BC94: =ROUND(SUM(BC95:BC97),2) -> 0 | BD94: =ROUND(SUM(BD95:BD97),2) -> 0 | BS94: D | BT94: 0 | BU94: ###NOIMPORT### | BV94: IMPORT | BW94: {69f6395c-cc6c-494c-b71e-fff77577c57d} | BX94: {00000000-0000-0000-0000-000000000000}
A95: / | D95: SO 000 | J95: Vedľajšie rozpočtové náklady-CS2022 | AG95: ='SO 000 - Vedľajšie rozpoč...'!J30 -> 0 | AN95: =SUM(AG95,AT95) -> 0 | AQ95: STA | AS95: 0 | AT95: =ROUND(SUM(AV95:AW95),2) -> 0 | AU95: ='SO 000 - Vedľajšie rozpoč...'!P123 -> 0 | AV95: ='SO 000 - Vedľajšie rozpoč...'!J33 -> 0 | AW95: ='SO 000 - Vedľajšie rozpoč...'!J34 -> 0 | AX95: ='SO 000 - Vedľajšie rozpoč...'!J35 -> 0 | AY95: ='SO 000 - Vedľajšie rozpoč...'!J36 -> 0 | AZ95: ='SO 000 - Vedľajšie rozpoč...'!F33 -> 0 | BA95: ='SO 000 - Vedľajšie rozpoč...'!F34 -> 0 | BB95: ='SO 000 - Vedľajšie rozpoč...'!F35 -> 0 | BC95: ='SO 000 - Vedľajšie rozpoč...'!F36 -> 0 | BD95: ='SO 000 - Vedľajšie rozpoč...'!F37 -> 0 | BT95: 1 | BV95: IMPORT | BW95: {6e603c93-57b8-48af-a735-37a00b67f4e1} | BX95: {69f6395c-cc6c-494c-b71e-fff77577c57d} | CM95: 0
A96: / | D96: SO 101 | J96: Cyklotrasa pri rieke Nitra-CS2022 | AG96: ='SO 101 - Cyklotrasa pri r...'!J30 -> 0 | AN96: =SUM(AG96,AT96) -> 0 | AQ96: STA | AS96: 0 | AT96: =ROUND(SUM(AV96:AW96),2) -> 0 | AU96: ='SO 101 - Cyklotrasa pri r...'!P126 -> 0 | AV96: ='SO 101 - Cyklotrasa pri r...'!J33 -> 0 | AW96: ='SO 101 - Cyklotrasa pri r...'!J34 -> 0 | AX96: ='SO 101 - Cyklotrasa pri r...'!J35 -> 0 | AY96: ='SO 101 - Cyklotrasa pri r...'!J36 -> 0 | AZ96: ='SO 101 - Cyklotrasa pri r...'!F33 -> 0 | BA96: ='SO 101 - Cyklotrasa pri r...'!F34 -> 0 | BB96: ='SO 101 - Cyklotrasa pri r...'!F35 -> 0 | BC96: ='SO 101 - Cyklotrasa pri r...'!F36 -> 0 | BD96: ='SO 101 - Cyklotrasa pri r...'!F37 -> 0 | BT96: 1 | BV96: IMPORT | BW96: {44fa405e-47a7-4db6-8236-c6b50edde2b6} | BX96: {69f6395c-cc6c-494c-b71e-fff77577c57d} | CM96: 0
A97: / | D97: SO 201 | J97: Oporné múry-CS2022 | AG97: ='SO 201 - Oporné múry-CS2022'!J30 -> 0 | AN97: =SUM(AG97,AT97) -> 0 | AQ97: STA | AS97: 0 | AT97: =ROUND(SUM(AV97:AW97),2) -> 0 | AU97: ='SO 201 - Oporné múry-CS2022'!P129 -> 0 | AV97: ='SO 201 - Oporné múry-CS2022'!J33 -> 0 | AW97: ='SO 201 - Oporné múry-CS2022'!J34 -> 0 | AX97: ='SO 201 - Oporné múry-CS2022'!J35 -> 0 | AY97: ='SO 201 - Oporné múry-CS2022'!J36 -> 0 | AZ97: ='SO 201 - Oporné múry-CS2022'!F33 -> 0 | BA97: ='SO 201 - Oporné múry-CS2022'!F34 -> 0 | BB97: ='SO 201 - Oporné múry-CS2022'!F35 -> 0 | BC97: ='SO 201 - Oporné múry-CS2022'!F36 -> 0 | BD97: ='SO 201 - Oporné múry-CS2022'!F37 -> 0 | BT97: 1 | BV97: IMPORT | BW97: {b5ef0969-c1d0-44f1-850d-1a81c0e22b92} | BX97: {69f6395c-cc6c-494c-b71e-fff77577c57d} | CM97: 0

Sheet SO 000 - Vedľajšie rozpoč...
L2: >> skryté stĺpce << | AT2: {6e603c93-57b8-48af-a735-37a00b67f4e1}
AT3: 0
D4: KRYCÍ LIST ROZPOČTU | M4: v --- nižšie sa nachádzajú doplnkové a pomocné údaje k zostavám --- v | AT4: False
D6: Stavba:
E7: ='Rekapitulácia stavby'!K6 -> Cyklotrasa - podjazd pod Univerzitným mostom TR.A.Hlinku-CS2022
D8: Objekt:
E9: SO 000 - Vedľajšie rozpočtové náklady-CS2022
D11: JKSO: | I11: KS:
D12: Miesto: | F12: Nitra | I12: Dátum: | J12: ='Rekapitulácia stavby'!AN8 -> 0
D14: Objednávateľ: | I14: IČO:
E15: Mesto Nitra | I15: IČ DPH:
D17: Zhotoviteľ: | I17: IČO: | J17: ='Rekapitulácia stavby'!AN13 -> Vyplň údaj
E18: ='Rekapitulácia stavby'!E14 -> Vyplň údaj | I18: IČ DPH: | J18: ='Rekapitulácia stavby'!AN14 -> Vyplň údaj
D20: Projektant: | I20: IČO: | J20: =IF('Rekapitulácia stavby'!AN16="","",'Rekapitulácia stavby'!AN16)
E21: =IF('Rekapitulácia stavby'!E17="","",'Rekapitulácia stavby'!E17) | I21: IČ DPH: | J21: =IF('Rekapitulácia stavby'!AN17="","",'Rekapitulácia stavby'!AN17)
D23: Spracovateľ: | I23: IČO: | J23: =IF('Rekapitulácia stavby'!AN19="","",'Rekapitulácia stavby'!AN19)
E24: =IF('Rekapitulácia stavby'!E20="","",'Rekapitulácia stavby'!E20) | I24: IČ DPH: | J24: =IF('Rekapitulácia stavby'!AN20="","",'Rekapitulácia stavby'!AN20)
D26: Poznámka:
D30: Cena bez DPH | J30: =ROUND(J123, 2) -> 0
F32: Základ dane | I32: Sadzba dane | J32: Výška dane
D33: DPH | E33: základná | F33: =ROUND((SUM(BE123:BE148)), 2) -> 0 | I33: 0.2 | J33: =ROUND(((SUM(BE123:BE148))*I33), 2) -> 0
E34: znížená | F34: =ROUND((SUM(BF123:BF148)), 2) -> 0 | I34: 0.2 | J34: =ROUND(((SUM(BF123:BF148))*I34), 2) -> 0
E35: zákl. prenesená | F35: =ROUND((SUM(BG123:BG148)), 2) -> 0 | I35: 0.2 | J35: =0 -> 0
E36: zníž. prenesená | F36: =ROUND((SUM(BH123:BH148)), 2) -> 0 | I36: 0.2 | J36: =0 -> 0
E37: nulová | F37: =ROUND((SUM(BI123:BI148)), 2) -> 0 | I37: 0 | J37: =0 -> 0
D39: Cena s DPH | G39: v | H39: EUR | J39: =SUM(J30:J37) -> 0
D50: Projektant | G50: Spracovateľ
D61: Dátum a podpis: | F61: Pečiatka | G61: Dátum a podpis: | J61: Pečiatka
D65: Objednávateľ | G65: Zhotoviteľ
D76: Dátum a podpis: | F76: Pečiatka | G76: Dátum a podpis: | J76: Pečiatka
C82: REKAPITULÁCIA ROZPOČTU
C84: Stavba:
E85: =E7 -> Cyklotrasa - podjazd pod Univerzitným mostom TR.A.Hlinku-CS2022
C86: Objekt:
E87: =E9 -> SO 000 - Vedľajšie rozpočtové náklady-CS2022
C89: Miesto: | F89: =F12 -> Nitra | I89: Dátum: | J89: =IF(J12="","",J12) -> 0
C91: Objednávateľ: | F91: =E15 -> Mesto Nitra | I91: Projektant: | J91: =E21
C92: Zhotoviteľ: | F92: =IF(E18="","",E18) -> Vyplň údaj | I92: Spracovateľ: | J92: =E24
C94: Kód dielu - Popis | J94: Cena celkom [EUR]
C96: Náklady z rozpočtu | J96: =J123 -> 0 | AU96: -1
D97: VRN02 - Prieskumné práce | J97: =J124 -> 0
D98: VRN03 - Geodetické práce | J98: =J129 -> 0
D99: VRN04 - Projektové práce | J99: =J132 -> 0
D100: VRN06 - Zariadenie staveniska | J100: =J135 -> 0
D101: VRN09 - Vplyv územia | J101: =J137 -> 0
D102: VRN10 - Inžinierska činnosť | J102: =J139 -> 0
D103: VRN12 - Monitoring | J103: =J147 -> 0
C110: ROZPOČET
C112: Stavba:
E113: =E7 -> Cyklotrasa - podjazd pod Univerzitným mostom TR.A.Hlinku-CS2022
C114: Objekt:
E115: =E9 -> SO 000 - Vedľajšie rozpočtové náklady-CS2022
C117: Miesto: | F117: =F12 -> Nitra | I117: Dátum: | J117: =IF(J12="","",J12) -> 0
C119: Objednávateľ: | F119: =E15 -> Mesto Nitra | I119: Projektant: | J119: =E21
C120: Zhotoviteľ: | F120: =IF(E18="","",E18) -> Vyplň údaj | I120: Spracovateľ: | J120: =E24
C122: PČ | D122: Typ | E122: Kód | F122: Popis | G122: MJ | H122: Množstvo | I122: J.cena [EUR] | J122: Cena celkom [EUR] | K122: Cenová sústava | N122: DPH | O122: J. Nh [h] | P122: Nh celkom [h] | Q122: J. hmotnosť [t] | R122: Hmotnosť celkom [t] | S122: J. suť [t] | T122: Suť Celkom [t]
C123: Náklady z rozpočtu | J123: =BK123 -> 0 | P123: =P124+P129+P132+P135+P137+P139+P147 -> 0 | R123: =R124+R129+R132+R135+R137+R139+R147 -> 0 | T123: =T124+T129+T132+T135+T137+T139+T147 -> 0 | AT123: D | AU123: -1 | BK123: =BK124+BK129+BK132+BK135+BK137+BK139+BK147 -> 0
D124: D | E124: VRN02 | F124: Prieskumné práce | J124: =BK124 -> 0 | P124: =SUM(P125:P128) -> 0 | R124: =SUM(R125:R128) -> 0 | T124: =SUM(T125:T128) -> 0 | AR124: 4 | AT124: D | AU124: 0 | AY124: ROZPOCET | BK124: =SUM(BK125:BK128) -> 0
C125: 1 | D125: K | E125: 000200011 | F125: Prieskumné práce - geologický prieskum inžiniersko-geologický a geotechnický | G125: eur | H125: 1 | J125: =ROUND(I125*H125,2) -> 0 | N125: znížená | P125: =O125*H125 -> 0 | Q125: 0 | R125: =Q125*H125 -> 0 | S125: 0 | T125: =S125*H125 -> 0 | AR125: 4 | AT125: K | AU125: 1 | AY125: ROZPOCET | BE125: =IF(N125="základná",J125,0) -> 0 | BF125: =IF(N125="znížená",J125,0) -> 0 | BG125: =IF(N125="zákl. prenesená",J125,0) -> 0 | BH125: =IF(N125="zníž. prenesená",J125,0) -> 0 | BI125: =IF(N125="nulová",J125,0) -> 0 | BJ125: 2 | BK125: =ROUND(I125*H125,2) -> 0 | BL125: 4 | BM125: -768561227
D126: VV | E126: A1 | F126: "2 ks vrtanej sondy IGP dl. 8,0 m+2 ks penetračnej sondy dl. 8,0 m+1 ks kopanej sondy hl. 2,0 m+doprava + vyhodnotenie sond + sprac. záv. správy" 1 | H126: 1 | AT126: VV | AU126: 1 | AV126: 2 | AW126: True | AX126: 0 | AY126: ROZPOCET
D127: VV | E127: B1 | F127: "Celkem: "A1 | H127: 1 | AT127: VV | AU127: 1 | AV127: 2 | AW127: True | AX127: 1 | AY127: ROZPOCET
C128: 2 | D128: K | E128: 000200031 | F128: Prieskumné práce - archeologická činnosť archeologický prieskum | G128: eur | H128: 1 | J128: =ROUND(I128*H128,2) -> 0 | N128: znížená | P128: =O128*H128 -> 0 | Q128: 0 | R128: =Q128*H128 -> 0 | S128: 0 | T128: =S128*H128 -> 0 | AR128: 4 | AT128: K | AU128: 1 | AY128: ROZPOCET | BE128: =IF(N128="základná",J128,0) -> 0 | BF128: =IF(N128="znížená",J128,0) -> 0 | BG128: =IF(N128="zákl. prenesená",J128,0) -> 0 | BH128: =IF(N128="zníž. prenesená",J128,0) -> 0 | BI128: =IF(N128="nulová",J128,0) -> 0 | BJ128: 2 | BK128: =ROUND(I128*H128,2) -> 0 | BL128: 4 | BM128: -83230464
D129: D | E129: VRN03 | F129: Geodetické práce | J129: =BK129 -> 0 | P129: =SUM(P130:P131) -> 0 | R129: =SUM(R130:R131) -> 0 | T129: =SUM(T130:T131) -> 0 | AR129: 4 | AT129: D | AU129: 0 | AY129: ROZPOCET | BK129: =SUM(BK130:BK131) -> 0
C130: 3 | D130: K | E130: 000300021 | F130: Geodetické práce - vykonávané v priebehu výstavby výškové merania | G130: eur | H130: 1 | J130: =ROUND(I130*H130,2) -> 0 | N130: znížená | P130: =O130*H130 -> 0 | Q130: 0 | R130: =Q130*H130 -> 0 | S130: 0 | T130: =S130*H130 -> 0 | AR130: 4 | AT130: K | AU130: 1 | AY130: ROZPOCET | BE130: =IF(N130="základná",J130,0) -> 0 | BF130: =IF(N130="znížená",J130,0) -> 0 | BG130: =IF(N130="zákl. prenesená",J130,0) -> 0 | BH130: =IF(N130="zníž. prenesená",J130,0) -> 0 | BI130: =IF(N130="nulová",J130,0) -> 0 | BJ130: 2 | BK130: =ROUND(I130*H130,2) -> 0 | BL130: 4 | BM130: -506880697
C131: 4 | D131: K | E131: 000300031 | F131: Geodetické práce - vykonávané po výstavbe zameranie skutočného vyhotovenia stavby | G131: eur | H131: 1 | J131: =ROUND(I131*H131,2) -> 0 | N131: znížená | P131: =O131*H131 -> 0 | Q131: 0 | R131: =Q131*H131 -> 0 | S131: 0 | T131: =S131*H131 -> 0 | AR131: 4 | AT131: K | AU131: 1 | AY131: ROZPOCET | BE131: =IF(N131="základná",J131,0) -> 0 | BF131: =IF(N131="znížená",J131,0) -> 0 | BG131: =IF(N131="zákl. prenesená",J131,0) -> 0 | BH131: =IF(N131="zníž. prenesená",J131,0) -> 0 | BI131: =IF(N131="nulová",J131,0) -> 0 | BJ131: 2 | BK131: =ROUND(I131*H131,2) -> 0 | BL131: 4 | BM131: 1932754145
D132: D | E132: VRN04 | F132: Projektové práce | J132: =BK132 -> 0 | P132: =SUM(P133:P134) -> 0 | R132: =SUM(R133:R134) -> 0 | T132: =SUM(T133:T134) -> 0 | AR132: 4 | AT132: D | AU132: 0 | AY132: ROZPOCET | BK132: =SUM(BK133:BK134) -> 0
C133: 5 | D133: K | E133: 000400021 | F133: Projektové práce - stavebná časť (stavebné objekty vrátane ich technického vybavenia). Náklady na vypracovanie výrobno-technickej dokumentácie zhotoviteľa | G133: eur | H133: 1 | J133: =ROUND(I133*H133,2) -> 0 | N133: znížená | P133: =O133*H133 -> 0 | Q133: 0 | R133: =Q133*H133 -> 0 | S133: 0 | T133: =S133*H133 -> 0 | AR133: 4 | AT133: K | AU133: 1 | AY133: ROZPOCET | BE133: =IF(N133="základná",J133,0) -> 0 | BF133: =IF(N133="znížená",J133,0) -> 0 | BG133: =IF(N133="zákl. prenesená",J133,0) -> 0 | BH133: =IF(N133="zníž. prenesená",J133,0) -> 0 | BI133: =IF(N133="nulová",J133,0) -> 0 | BJ133: 2 | BK133: =ROUND(I133*H133,2) -> 0 | BL133: 4 | BM133: 1626686399
C134: 6 | D134: K | E134: 000400022 | F134: Projektové práce - stavebná časť (stavebné objekty vrátane ich technického vybavenia). Náklady na dokumentáciu skutočného zhotovenia stavby | G134: eur | H134: 1 | J134: =ROUND(I134*H134,2) -> 0 | N134: znížená | P134: =O134*H134 -> 0 | Q134: 0 | R134: =Q134*H134 -> 0 | S134: 0 | T134: =S134*H134 -> 0 | AR134: 4 | AT134: K | AU134: 1 | AY134: ROZPOCET | BE134: =IF(N134="základná",J134,0) -> 0 | BF134: =IF(N134="znížená",J134,0) -> 0 | BG134: =IF(N134="zákl. prenesená",J134,0) -> 0 | BH134: =IF(N134="zníž. prenesená",J134,0) -> 0 | BI134: =IF(N134="nulová",J134,0) -> 0 | BJ134: 2 | BK134: =ROUND(I134*H134,2) -> 0 | BL134: 4 | BM134: -2110418270
D135: D | E135: VRN06 | F135: Zariadenie staveniska | J135: =BK135 -> 0 | P135: =P136 -> 0 | R135: =R136 -> 0 | T135: =T136 -> 0 | AR135: 4 | AT135: D | AU135: 0 | AY135: ROZPOCET | BK135: =BK136 -> 0
C136: 7 | D136: K | E136: 000600011 | F136: Zariadenie staveniska | G136: eur | H136: 1 | J136: =ROUND(I136*H136,2) -> 0 | N136: znížená | P136: =O136*H136 -> 0 | Q136: 0 | R136: =Q136*H136 -> 0 | S136: 0 | T136: =S136*H136 -> 0 | AR136: 4 | AT136: K | AU136: 1 | AY136: ROZPOCET | BE136: =IF(N136="základná",J136,0) -> 0 | BF136: =IF(N136="znížená",J136,0) -> 0 | BG136: =IF(N136="zákl. prenesená",J136,0) -> 0 | BH136: =IF(N136="zníž. prenesená",J136,0) -> 0 | BI136: =IF(N136="nulová",J136,0) -> 0 | BJ136: 2 | BK136: =ROUND(I136*H136,2) -> 0 | BL136: 4 | BM136: 1879575896
D137: D | E137: VRN09 | F137: Vplyv územia | J137: =BK137 -> 0 | P137: =P138 -> 0 | R137: =R138 -> 0 | T137: =T138 -> 0 | AR137: 4 | AT137: D | AU137: 0 | AY137: ROZPOCET | BK137: =BK138 -> 0
C138: 8 | D138: K | E138: 000900023 | F138: Vplyv územia - čistenie komunikácií | G138: eur | H138: 1 | J138: =ROUND(I138*H138,2) -> 0 | N138: znížená | P138: =O138*H138 -> 0 | Q138: 0 | R138: =Q138*H138 -> 0 | S138: 0 | T138: =S138*H138 -> 0 | AR138: 4 | AT138: K | AU138: 1 | AY138: ROZPOCET | BE138: =IF(N138="základná",J138,0) -> 0 | BF138: =IF(N138="znížená",J138,0) -> 0 | BG138: =IF(N138="zákl. prenesená",J138,0) -> 0 | BH138: =IF(N138="zníž. prenesená",J138,0) -> 0 | BI138: =IF(N138="nulová",J138,0) -> 0 | BJ138: 2 | BK138: =ROUND(I138*H138,2) -> 0 | BL138: 4 | BM138: 341950582
D139: D | E139: VRN10 | F139: Inžinierska činnosť | J139: =BK139 -> 0 | P139: =SUM(P140:P146) -> 0 | R139: =SUM(R140:R146) -> 0 | T139: =SUM(T140:T146) -> 0 | AR139: 4 | AT139: D | AU139: 0 | AY139: ROZPOCET | BK139: =SUM(BK140:BK146) -> 0
C140: 9 | D140: K | E140: 001000011 | F140: Inžinierska činnosť - dozory autorský dozor projektanta | G140: eur | H140: 1 | J140: =ROUND(I140*H140,2) -> 0 | N140: znížená | P140: =O140*H140 -> 0 | Q140: 0 | R140: =Q140*H140 -> 0 | S140: 0 | T140: =S140*H140 -> 0 | AR140: 4 | AT140: K | AU140: 1 | AY140: ROZPOCET | BE140: =IF(N140="základná",J140,0) -> 0 | BF140: =IF(N140="znížená",J140,0) -> 0 | BG140: =IF(N140="zákl. prenesená",J140,0) -> 0 | BH140: =IF(N140="zníž. prenesená",J140,0) -> 0 | BI140: =IF(N140="nulová",J140,0) -> 0 | BJ140: 2 | BK140: =ROUND(I140*H140,2) -> 0 | BL140: 4 | BM140: 1516952885
C141: 10 | D141: K | E141: 001000012 | F141: Inžinierska činnosť - dozory technický dozor investora | G141: eur | H141: 1 | J141: =ROUND(I141*H141,2) -> 0 | N141: znížená | P141: =O141*H141 -> 0 | Q141: 0 | R141: =Q141*H141 -> 0 | S141: 0 | T141: =S141*H141 -> 0 | AR141: 4 | AT141: K | AU141: 1 | AY141: ROZPOCET | BE141: =IF(N141="základná",J141,0) -> 0 | BF141: =IF(N141="znížená",J141,0) -> 0 | BG141: =IF(N141="zákl. prenesená",J141,0) -> 0 | BH141: =IF(N141="zníž. prenesená",J141,0) -> 0 | BI141: =IF(N141="nulová",J141,0) -> 0 | BJ141: 2 | BK141: =ROUND(I141*H141,2) -> 0 | BL141: 4 | BM141: -704283665
C142: 11 | D142: K | E142: 001000014 | F142: Inžinierska činnosť - dozory koordinátor BOZP na stavenisku | G142: eur | H142: 1 | J142: =ROUND(I142*H142,2) -> 0 | N142: znížená | P142: =O142*H142 -> 0 | Q142: 0 | R142: =Q142*H142 -> 0 | S142: 0 | T142: =S142*H142 -> 0 | AR142: 4 | AT142: K | AU142: 1 | AY142: ROZPOCET | BE142: =IF(N142="základná",J142,0) -> 0 | BF142: =IF(N142="znížená",J142,0) -> 0 | BG142: =IF(N142="zákl. prenesená",J142,0) -> 0 | BH142: =IF(N142="zníž. prenesená",J142,0) -> 0 | BI142: =IF(N142="nulová",J142,0) -> 0 | BJ142: 2 | BK142: =ROUND(I142*H142,2) -> 0 | BL142: 4 | BM142: -1260673539
C143: 12 | D143: K | E143: 001000021 | F143: Inžinierska činnosť - vypracovanie protipovodňového plánu | G143: eur | H143: 1 | J143: =ROUND(I143*H143,2) -> 0 | N143: znížená | P143: =O143*H143 -> 0 | Q143: 0 | R143: =Q143*H143 -> 0 | S143: 0 | T143: =S143*H143 -> 0 | AR143: 4 | AT143: K | AU143: 1 | AY143: ROZPOCET | BE143: =IF(N143="základná",J143,0) -> 0 | BF143: =IF(N143="znížená",J143,0) -> 0 | BG143: =IF(N143="zákl. prenesená",J143,0) -> 0 | BH143: =IF(N143="zníž. prenesená",J143,0) -> 0 | BI143: =IF(N143="nulová",J143,0) -> 0 | BJ143: 2 | BK143: =ROUND(I143*H143,2) -> 0 | BL143: 4 | BM143: -455817931
C144: 13 | D144: K | E144: 001000024 | F144: Ochrana životného prostredia | G144: eur | H144: 1 | J144: =ROUND(I144*H144,2) -> 0 | N144: znížená | P144: =O144*H144 -> 0 | Q144: 0 | R144: =Q144*H144 -> 0 | S144: 0 | T144: =S144*H144 -> 0 | AR144: 4 | AT144: K | AU144: 1 | AY144: ROZPOCET | BE144: =IF(N144="základná",J144,0) -> 0 | BF144: =IF(N144="znížená",J144,0) -> 0 | BG144: =IF(N144="zákl. prenesená",J144,0) -> 0 | BH144: =IF(N144="zníž. prenesená",J144,0) -> 0 | BI144: =IF(N144="nulová",J144,0) -> 0 | BJ144: 2 | BK144: =ROUND(I144*H144,2) -> 0 | BL144: 4 | BM144: -1054328533
C145: 14 | D145: K | E145: 001000034 | F145: Inžinierska činnosť - prvá hlavná prehliadka | G145: eur | H145: 1 | J145: =ROUND(I145*H145,2) -> 0 | N145: znížená | P145: =O145*H145 -> 0 | Q145: 0 | R145: =Q145*H145 -> 0 | S145: 0 | T145: =S145*H145 -> 0 | AR145: 4 | AT145: K | AU145: 1 | AY145: ROZPOCET | BE145: =IF(N145="základná",J145,0) -> 0 | BF145: =IF(N145="znížená",J145,0) -> 0 | BG145: =IF(N145="zákl. prenesená",J145,0) -> 0 | BH145: =IF(N145="zníž. prenesená",J145,0) -> 0 | BI145: =IF(N145="nulová",J145,0) -> 0 | BJ145: 2 | BK145: =ROUND(I145*H145,2) -> 0 | BL145: 4 | BM145: 968172090
C146: 15 | D146: K | E146: 001000034a | F146: Inžinierska činnosť - skúšky a revízie ostatné skúšky | G146: eur | H146: 1 | J146: =ROUND(I146*H146,2) -> 0 | N146: znížená | P146: =O146*H146 -> 0 | Q146: 0 | R146: =Q146*H146 -> 0 | S146: 0 | T146: =S146*H146 -> 0 | AR146: 4 | AT146: K | AU146: 1 | AY146: ROZPOCET | BE146: =IF(N146="základná",J146,0) -> 0 | BF146: =IF(N146="znížená",J146,0) -> 0 | BG146: =IF(N146="zákl. prenesená",J146,0) -> 0 | BH146: =IF(N146="zníž. prenesená",J146,0) -> 0 | BI146: =IF(N146="nulová",J146,0) -> 0 | BJ146: 2 | BK146: =ROUND(I146*H146,2) -> 0 | BL146: 4 | BM146: 1788627709
D147: D | E147: VRN12 | F147: Monitoring | J147: =BK147 -> 0 | P147: =P148 -> 0 | R147: =R148 -> 0 | T147: =T148 -> 0 | AR147: 4 | AT147: D | AU147: 0 | AY147: ROZPOCET | BK147: =BK148 -> 0
C148: 16 | D148: K | E148: 001200001 | F148: Monitoring - pasportizácia a fotodokumentácia priľahlých komunikácií a stavieb pred začatím výstavby | G148: eur | H148: 1 | J148: =ROUND(I148*H148,2) -> 0 | N148: znížená | P148: =O148*H148 -> 0 | Q148: 0 | R148: =Q148*H148 -> 0 | S148: 0 | T148: =S148*H148 -> 0 | AR148: 4 | AT148: K | AU148: 1 | AY148: ROZPOCET | BE148: =IF(N148="základná",J148,0) -> 0 | BF148: =IF(N148="znížená",J148,0) -> 0 | BG148: =IF(N148="zákl. prenesená",J148,0) -> 0 | BH148: =IF(N148="zníž. prenesená",J148,0) -> 0 | BI148: =IF(N148="nulová",J148,0) -> 0 | BJ148: 2 | BK148: =ROUND(I148*H148,2) -> 0 | BL148: 4 | BM148: 1852099221

Sheet SO 101 - Cyklotrasa pri r...
L2: >> skryté stĺpce << | AT2: {44fa405e-47a7-4db6-8236-c6b50edde2b6} | AZ2: B24 | BA2: B24 | BC2: 110 | BD2: 2
AT3: 0
D4: KRYCÍ LIST ROZPOČTU | M4: v --- nižšie sa nachádzajú doplnkové a pomocné údaje k zostavám --- v | AT4: False
D6: Stavba:
E7: ='Rekapitulácia stavby'!K6 -> Cyklotrasa - podjazd pod Univerzitným mostom TR.A.Hlinku-CS2022
D8: Objekt:
E9: SO 101 - Cyklotrasa pri rieke Nitra-CS2022
D11: JKSO: | I11: KS:
D12: Miesto: | F12: Nitra | I12: Dátum: | J12: ='Rekapitulácia stavby'!AN8 -> 0
D14: Objednávateľ: | I14: IČO:
E15: Mesto Nitra | I15: IČ DPH:
D17: Zhotoviteľ: | I17: IČO: | J17: ='Rekapitulácia stavby'!AN13 -> Vyplň údaj
E18: ='Rekapitulácia stavby'!E14 -> Vyplň údaj | I18: IČ DPH: | J18: ='Rekapitulácia stavby'!AN14 -> Vyplň údaj
D20: Projektant: | I20: IČO: | J20: =IF('Rekapitulácia stavby'!AN16="","",'Rekapitulácia stavby'!AN16)
E21: =IF('Rekapitulácia stavby'!E17="","",'Rekapitulácia stavby'!E17) | I21: IČ DPH: | J21: =IF('Rekapitulácia stavby'!AN17="","",'Rekapitulácia stavby'!AN17)
D23: Spracovateľ: | I23: IČO: | J23: =IF('Rekapitulácia stavby'!AN19="","",'Rekapitulácia stavby'!AN19)
E24: =IF('Rekapitulácia stavby'!E20="","",'Rekapitulácia stavby'!E20) | I24: IČ DPH: | J24: =IF('Rekapitulácia stavby'!AN20="","",'Rekapitulácia stavby'!AN20)
D26: Poznámka:
D30: Cena bez DPH | J30: =ROUND(J126, 2) -> 0
F32: Základ dane | I32: Sadzba dane | J32: Výška dane
D33: DPH | E33: základná | F33: =ROUND((SUM(BE126:BE221)), 2) -> 0 | I33: 0.2 | J33: =ROUND(((SUM(BE126:BE221))*I33), 2) -> 0
E34: znížená | F34: =ROUND((SUM(BF126:BF221)), 2) -> 0 | I34: 0.2 | J34: =ROUND(((SUM(BF126:BF221))*I34), 2) -> 0
E35: zákl. prenesená | F35: =ROUND((SUM(BG126:BG221)), 2) -> 0 | I35: 0.2 | J35: =0 -> 0
E36: zníž. prenesená | F36: =ROUND((SUM(BH126:BH221)), 2) -> 0 | I36: 0.2 | J36: =0 -> 0
E37: nulová | F37: =ROUND((SUM(BI126:BI221)), 2) -> 0 | I37: 0 | J37: =0 -> 0
D39: Cena s DPH | G39: v | H39: EUR | J39: =SUM(J30:J37) -> 0
D50: Projektant | G50: Spracovateľ
D61: Dátum a podpis: | F61: Pečiatka | G61: Dátum a podpis: | J61: Pečiatka
D65: Objednávateľ | G65: Zhotoviteľ
D76: Dátum a podpis: | F76: Pečiatka | G76: Dátum a podpis: | J76: Pečiatka
C82: REKAPITULÁCIA ROZPOČTU
C84: Stavba:
E85: =E7 -> Cyklotrasa - podjazd pod Univerzitným mostom TR.A.Hlinku-CS2022
C86: Objekt:
E87: =E9 -> SO 101 - Cyklotrasa pri rieke Nitra-CS2022
C89: Miesto: | F89: =F12 -> Nitra | I89: Dátum: | J89: =IF(J12="","",J12) -> 0
C91: Objednávateľ: | F91: =E15 -> Mesto Nitra | I91: Projektant: | J91: =E21
C92: Zhotoviteľ: | F92: =IF(E18="","",E18) -> Vyplň údaj | I92: Spracovateľ: | J92: =E24
C94: Kód dielu - Popis | J94: Cena celkom [EUR]
C96: Náklady z rozpočtu | J96: =J126 -> 0 | AU96: -1
D97: HSV - Práce a dodávky HSV | J97: =J127 -> 0
D98: 1 - Zemné práce | J98: =J128 -> 0
D99: 2 - Zakladanie | J99: =J143 -> 0
D100: 3 - Zvislé a kompletné konštrukcie | J100: =J150 -> 0
D101: 4 - Vodorovné konštrukcie | J101: =J157 -> 0
D102: 5 - Komunikácie | J102: =J163 -> 0
D103: 9 - Ostatné konštrukcie a práce-búranie | J103: =J189 -> 0
D104: 99 - Presun hmôt HSV | J104: =J214 -> 0
D105: PSV - Práce a dodávky PSV | J105: =J216 -> 0
D106: 711 - Izolácie proti vode a vlhkosti | J106: =J217 -> 0
C113: ROZPOČET
C115: Stavba:
E116: =E7 -> Cyklotrasa - podjazd pod Univerzitným mostom TR.A.Hlinku-CS2022
C117: Objekt:
E118: =E9 -> SO 101 - Cyklotrasa pri rieke Nitra-CS2022
C120: Miesto: | F120: =F12 -> Nitra | I120: Dátum: | J120: =IF(J12="","",J12) -> 0
C122: Objednávateľ: | F122: =E15 -> Mesto Nitra | I122: Projektant: | J122: =E21
C123: Zhotoviteľ: | F123: =IF(E18="","",E18) -> Vyplň údaj | I123: Spracovateľ: | J123: =E24
C125: PČ | D125: Typ | E125: Kód | F125: Popis | G125: MJ | H125: Množstvo | I125: J.cena [EUR] | J125: Cena celkom [EUR] | K125: Cenová sústava | N125: DPH | O125: J. Nh [h] | P125: Nh celkom [h] | Q125: J. hmotnosť [t] | R125: Hmotnosť celkom [t] | S125: J. suť [t] | T125: Suť Celkom [t]
C126: Náklady z rozpočtu | J126: =BK126 -> 0 | P126: =P127+P216 -> 0 | R126: =R127+R216 -> 803.08468 | T126: =T127+T216 -> 0 | AT126: D | AU126: -1 | BK126: =BK127+BK216 -> 0
D127: D | E127: HSV | F127: Práce a dodávky HSV | J127: =BK127 -> 0 | P127: =P128+P143+P150+P157+P163+P189+P214 -> 0 | R127: =R128+R143+R150+R157+R163+R189+R214 -> 802.80308 | T127: =T128+T143+T150+T157+T163+T189+T214 -> 0 | AR127: 1 | AT127: D | AU127: 0 | AY127: ROZPOCET | BK127: =BK128+BK143+BK150+BK157+BK163+BK189+BK214 -> 0
D128: D | E128: 1 | F128: Zemné práce | J128: =BK128 -> 0 | P128: =SUM(P129:P142) -> 0 | R128: =SUM(R129:R142) -> 0.48108 | T128: =SUM(T129:T142) -> 0 | AR128: 1 | AT128: D | AU128: 1 | AY128: ROZPOCET | BK128: =SUM(BK129:BK142) -> 0
C129: 1 | D129: K | E129: 171101101.S | F129: Uloženie sypaniny do násypu súdržnej horniny s mierou zhutnenia podľa Proctor-Standard na 95 % | G129: m3 | H129: 372.3 | J129: =ROUND(I129*H129,2) -> 0 | N129: znížená | P129: =O129*H129 -> 0 | Q129: 0 | R129: =Q129*H129 -> 0 | S129: 0 | T129: =S129*H129 -> 0 | AR129: 4 | AT129: K | AU129: 2 | AY129: ROZPOCET | BE129: =IF(N129="základná",J129,0) -> 0 | BF129: =IF(N129="znížená",J129,0) -> 0 | BG129: =IF(N129="zákl. prenesená",J129,0) -> 0 | BH129: =IF(N129="zníž. prenesená",J129,0) -> 0 | BI129: =IF(N129="nulová",J129,0) -> 0 | BJ129: 2 | BK129: =ROUND(I129*H129,2) -> 0 | BL129: 4 | BM129: 501356643
D130: VV | E130: A1 | F130: "násypy z výkopov" 372.3 | H130: 372.3 | AT130: VV | AU130: 2 | AV130: 2 | AW130: True | AX130: 0 | AY130: ROZPOCET
D131: VV | E131: B1 | F131: "Celkem: "A1 | H131: 372.3 | AT131: VV | AU131: 2 | AV131: 2 | AW131: True | AX131: 1 | AY131: ROZPOCET
C132: 2 | D132: K | E132: 181201101.S | F132: Úprava pláne v násypoch v hornine 1-4 bez zhutnenia | G132: m2 | H132: 38.2 | J132: =ROUND(I132*H132,2) -> 0 | N132: znížená | P132: =O132*H132 -> 0 | Q132: 0 | R132: =Q132*H132 -> 0 | S132: 0 | T132: =S132*H132 -> 0 | AR132: 4 | AT132: K | AU132: 2 | AY132: ROZPOCET | BE132: =IF(N132="základná",J132,0) -> 0 | BF132: =IF(N132="znížená",J132,0) -> 0 | BG132: =IF(N132="zákl. prenesená",J132,0) -> 0 | BH132: =IF(N132="zníž. prenesená",J132,0) -> 0 | BI132: =IF(N132="nulová",J132,0) -> 0 | BJ132: 2 | BK132: =ROUND(I132*H132,2) -> 0 | BL132: 4 | BM132: 1601475839
C133: 3 | D133: K | E133: 181201102.S | F133: Úprava pláne v násypoch v hornine 1-4 so zhutnením | G133: m2 | H133: 490 | J133: =ROUND(I133*H133,2) -> 0 | N133: znížená | P133: =O133*H133 -> 0 | Q133: 0 | R133: =Q133*H133 -> 0 | S133: 0 | T133: =S133*H133 -> 0 | AR133: 4 | AT133: K | AU133: 2 | AY133: ROZPOCET | BE133: =IF(N133="základná",J133,0) -> 0 | BF133: =IF(N133="znížená",J133,0) -> 0 | BG133: =IF(N133="zákl. prenesená",J133,0) -> 0 | BH133: =IF(N133="zníž. prenesená",J133,0) -> 0 | BI133: =IF(N133="nulová",J133,0) -> 0 | BJ133: 2 | BK133: =ROUND(I133*H133,2) -> 0 | BL133: 4 | BM133: 1758765736
C134: 4 | D134: K | E134: 182301122.S | F134: Rozprestretie ornice na svahu so sklonom nad 1:5, plocha do 500 m2, hr.nad 100 do 150 mm | G134: m2 | H134: 456 | J134: =ROUND(I134*H134,2) -> 0 | N134: znížená | P134: =O134*H134 -> 0 | Q134: 0 | R134: =Q134*H134 -> 0 | S134: 0 | T134: =S134*H134 -> 0 | AR134: 4 | AT134: K | AU134: 2 | AY134: ROZPOCET | BE134: =IF(N134="základná",J134,0) -> 0 | BF134: =IF(N134="znížená",J134,0) -> 0 | BG134: =IF(N134="zákl. prenesená",J134,0) -> 0 | BH134: =IF(N134="zníž. prenesená",J134,0) -> 0 | BI134: =IF(N134="nulová",J134,0) -> 0 | BJ134: 2 | BK134: =ROUND(I134*H134,2) -> 0 | BL134: 4 | BM134: 1782950733
D135: VV | E135: A4 | F135: 39.0+37.0+20.0+56.0+119.0+14.0+10.0+92.0+69.0 | H135: 456 | AT135: VV | AU135: 2 | AV135: 2 | AW135: True | AX135: 0 | AY135: ROZPOCET
D136: VV | E136: B4 | F136: "Celkem: "A4 | H136: 456 | AT136: VV | AU136: 2 | AV136: 2 | AW136: True | AX136: 1 | AY136: ROZPOCET
C137: 5 | D137: M | E137: 6936656053 | F137: protierózna geomatrac (georohož) | G137: M2 | H137: 501.6 | J137: =ROUND(I137*H137,2) -> 0 | N137: znížená | P137: =O137*H137 -> 0 | Q137: 0.00035 | R137: =Q137*H137 -> 0.17556 | S137: 0 | T137: =S137*H137 -> 0 | AR137: 8 | AT137: M | AU137: 2 | AY137: ROZPOCET | BE137: =IF(N137="základná",J137,0) -> 0 | BF137: =IF(N137="znížená",J137,0) -> 0 | BG137: =IF(N137="zákl. prenesená",J137,0) -> 0 | BH137: =IF(N137="zníž. prenesená",J137,0) -> 0 | BI137: =IF(N137="nulová",J137,0) -> 0 | BJ137: 2 | BK137: =ROUND(I137*H137,2) -> 0 | BL137: 4 | BM137: -1304555288
C138: 6 | D138: K | E138: 183405211.S | F138: Výsev trávniku hydroosevom na ornicu | G138: m2 | H138: 456 | J138: =ROUND(I138*H138,2) -> 0 | N138: znížená | P138: =O138*H138 -> 0 | Q138: 0.00064 | R138: =Q138*H138 -> 0.29184 | S138: 0 | T138: =S138*H138 -> 0 | AR138: 4 | AT138: K | AU138: 2 | AY138: ROZPOCET | BE138: =IF(N138="základná",J138,0) -> 0 | BF138: =IF(N138="znížená",J138,0) -> 0 | BG138: =IF(N138="zákl. prenesená",J138,0) -> 0 | BH138: =IF(N138="zníž. prenesená",J138,0) -> 0 | BI138: =IF(N138="nulová",J138,0) -> 0 | BJ138: 2 | BK138: =ROUND(I138*H138,2) -> 0 | BL138: 4 | BM138: -36213773
C139: 7 | D139: M | E139: 0057211100 | F139: Tráva - Trávové semeno | G139: KG | H139: 13.68 | J139: =ROUND(I139*H139,2) -> 0 | N139: znížená | P139: =O139*H139 -> 0 | Q139: 0.001 | R139: =Q139*H139 -> 0.01368 | S139: 0 | T139: =S139*H139 -> 0 | AR139: 8 | AT139: M | AU139: 2 | AY139: ROZPOCET | BE139: =IF(N139="základná",J139,0) -> 0 | BF139: =IF(N139="znížená",J139,0) -> 0 | BG139: =IF(N139="zákl. prenesená",J139,0) -> 0 | BH139: =IF(N139="zníž. prenesená",J139,0) -> 0 | BI139: =IF(N139="nulová",J139,0) -> 0 | BJ139: 2 | BK139: =ROUND(I139*H139,2) -> 0 | BL139: 4 | BM139: -81279999
D140: VV | E140: A7 | F140: 456.0*0.03 | H140: 13.68 | AT140: VV | AU140: 2 | AV140: 2 | AW140: True | AX140: 0 | AY140: ROZPOCET
D141: VV | E141: B7 | F141: "Celkem: "A7 | H141: 13.68 | AT141: VV | AU141: 2 | AV141: 2 | AW141: True | AX141: 1 | AY141: ROZPOCET
C142: 8 | D142: K | E142: 185803113.S | F142: Ošetrenie trávnika na svahu nad 1:2 do 1:1 | G142: m2 | H142: 456 | J142: =ROUND(I142*H142,2) -> 0 | N142: znížená | P142: =O142*H142 -> 0 | Q142: 0 | R142: =Q142*H142 -> 0 | S142: 0 | T142: =S142*H142 -> 0 | AR142: 4 | AT142: K | AU142: 2 | AY142: ROZPOCET | BE142: =IF(N142="základná",J142,0) -> 0 | BF142: =IF(N142="znížená",J142,0) -> 0 | BG142: =IF(N142="zákl. prenesená",J142,0) -> 0 | BH142: =IF(N142="zníž. prenesená",J142,0) -> 0 | BI142: =IF(N142="nulová",J142,0) -> 0 | BJ142: 2 | BK142: =ROUND(I142*H142,2) -> 0 | BL142: 4 | BM142: -944282693
D143: D | E143: 2 | F143: Zakladanie | J143: =BK143 -> 0 | P143: =SUM(P144:P149) -> 0 | R143: =SUM(R144:R149) -> 11.21934 | T143: =SUM(T144:T149) -> 0 | AR143: 1 | AT143: D | AU143: 1 | AY143: ROZPOCET | BK143: =SUM(BK144:BK149) -> 0
C144: 9 | D144: K | E144: 274311117.S | F144: Základové pásy, prahy, vence mostných konštrukcií z betónu prostého tr. C 25/30 | G144: m3 | H144: 2.5 | J144: =ROUND(I144*H144,2) -> 0 | N144: znížená | P144: =O144*H144 -> 0 | Q144: 2.49744 | R144: =Q144*H144 -> 6.2436 | S144: 0 | T144: =S144*H144 -> 0 | AR144: 4 | AT144: K | AU144: 2 | AY144: ROZPOCET | BE144: =IF(N144="základná",J144,0) -> 0 | BF144: =IF(N144="znížená",J144,0) -> 0 | BG144: =IF(N144="zákl. prenesená",J144,0) -> 0 | BH144: =IF(N144="zníž. prenesená",J144,0) -> 0 | BI144: =IF(N144="nulová",J144,0) -> 0 | BJ144: 2 | BK144: =ROUND(I144*H144,2) -> 0 | BL144: 4 | BM144: 1283312706
D145: VV | E145: A9 | F145: "priečne prahy z vodostavebného betónu" 2.5 | H145: 2.5 | AT145: VV | AU145: 2 | AV145: 2 | AW145: True | AX145: 0 | AY145: ROZPOCET
D146: VV | E146: B9 | F146: "Celkem: "A9 | H146: 2.5 | AT146: VV | AU146: 2 | AV146: 2 | AW146: True | AX146: 1 | AY146: ROZPOCET
C147: 10 | D147: K | E147: 275321117.S | F147: Základové pätky a bloky mostných konštrukcií z betónu železového tr. C 25/30 | G147: m3 | H147: 2 | J147: =ROUND(I147*H147,2) -> 0 | N147: znížená | P147: =O147*H147 -> 0 | Q147: 2.48787 | R147: =Q147*H147 -> 4.97574 | S147: 0 | T147: =S147*H147 -> 0 | AR147: 4 | AT147: K | AU147: 2 | AY147: ROZPOCET | BE147: =IF(N147="základná",J147,0) -> 0 | BF147: =IF(N147="znížená",J147,0) -> 0 | BG147: =IF(N147="zákl. prenesená",J147,0) -> 0 | BH147: =IF(N147="zníž. prenesená",J147,0) -> 0 | BI147: =IF(N147="nulová",J147,0) -> 0 | BJ147: 2 | BK147: =ROUND(I147*H147,2) -> 0 | BL147: 4 | BM147: -26261339
D148: VV | E148: A10 | F148: "bet.patky pre kotvenie zábradlia" 2.0 | H148: 2 | AT148: VV | AU148: 2 | AV148: 2 | AW148: True | AX148: 0 | AY148: ROZPOCET
D149: VV | E149: B10 | F149: "Celkem: "A10 | H149: 2 | AT149: VV | AU149: 2 | AV149: 2 | AW149: True | AX149: 1 | AY149: ROZPOCET
D150: D | E150: 3 | F150: Zvislé a kompletné konštrukcie | J150: =BK150 -> 0 | P150: =SUM(P151:P156) -> 0 | R150: =SUM(R151:R156) -> 5.1648168 | T150: =SUM(T151:T156) -> 0 | AR150: 1 | AT150: D | AU150: 1 | AY150: ROZPOCET | BK150: =SUM(BK151:BK156) -> 0
C151: 11 | D151: K | E151: 348171111 | F151: Osadenie mostného oceľového zábradlia vrátane spojenia dielcov hmotnosti do 100 kg/m | G151: m | H151: 154.96 | J151: =ROUND(I151*H151,2) -> 0 | N151: znížená | P151: =O151*H151 -> 0 | Q151: 0.00033 | R151: =Q151*H151 -> 0.0511368 | S151: 0 | T151: =S151*H151 -> 0 | AR151: 4 | AT151: K | AU151: 2 | AY151: ROZPOCET | BE151: =IF(N151="základná",J151,0) -> 0 | BF151: =IF(N151="znížená",J151,0) -> 0 | BG151: =IF(N151="zákl. prenesená",J151,0) -> 0 | BH151: =IF(N151="zníž. prenesená",J151,0) -> 0 | BI151: =IF(N151="nulová",J151,0) -> 0 | BJ151: 2 | BK151: =ROUND(I151*H151,2) -> 0 | BL151: 4 | BM151: 1151600776
D152: VV | E152: A11 | F152: "Celkem: "154.96 | H152: 154.96 | AT152: VV | AU152: 2 | AV152: 2 | AW152: True | AX152: 0 | AY152: ROZPOCET
D153: VV | E153: B11 | F153: "Celkem: "A11 | H153: 154.96 | AT153: VV | AU153: 2 | AV153: 2 | AW153: True | AX153: 1 | AY153: ROZPOCET
C154: 12 | D154: M | E154: 5534666000 | F154: Zábradlie trojmadlové, rozobieratelné | G154: M | H154: 154.96 | J154: =ROUND(I154*H154,2) -> 0 | N154: znížená | P154: =O154*H154 -> 0 | Q154: 0.033 | R154: =Q154*H154 -> 5.11368 | S154: 0 | T154: =S154*H154 -> 0 | AR154: 8 | AT154: M | AU154: 2 | AY154: ROZPOCET | BE154: =IF(N154="základná",J154,0) -> 0 | BF154: =IF(N154="znížená",J154,0) -> 0 | BG154: =IF(N154="zákl. prenesená",J154,0) -> 0 | BH154: =IF(N154="zníž. prenesená",J154,0) -> 0 | BI154: =IF(N154="nulová",J154,0) -> 0 | BJ154: 2 | BK154: =ROUND(I154*H154,2) -> 0 | BL154: 4 | BM154: -1433632408
D155: VV | E155: A12 | F155: "vrátanie kotvenia do rímsy" 154.96 | H155: 154.96 | AT155: VV | AU155: 2 | AV155: 2 | AW155: True | AX155: 0 | AY155: ROZPOCET
D156: VV | E156: B12 | F156: "Celkem: "A12 | H156: 154.96 | AT156: VV | AU156: 2 | AV156: 2 | AW156: True | AX156: 1 | AY156: ROZPOCET
D157: D | E157: 4 | F157: Vodorovné konštrukcie | J157: =BK157 -> 0 | P157: =SUM(P158:P162) -> 0 | R157: =SUM(R158:R162) -> 168.1146 | T157: =SUM(T158:T162) -> 0 | AR157: 1 | AT157: D | AU157: 1 | AY157: ROZPOCET | BK157: =SUM(BK158:BK162) -> 0
C158: 13 | D158: K | E158: 451311621R | F158: Podklad pod dlažbu z betónu prostého vodostavebného V4-C 20/25 hr. nad 100 do 150 mm | G158: m2 | H158: 180 | J158: =ROUND(I158*H158,2) -> 0 | N158: znížená | P158: =O158*H158 -> 0 | Q158: 0.31894 | R158: =Q158*H158 -> 57.4092 | S158: 0 | T158: =S158*H158 -> 0 | AR158: 4 | AT158: K | AU158: 2 | AY158: ROZPOCET | BE158: =IF(N158="základná",J158,0) -> 0 | BF158: =IF(N158="znížená",J158,0) -> 0 | BG158: =IF(N158="zákl. prenesená",J158,0) -> 0 | BH158: =IF(N158="zníž. prenesená",J158,0) -> 0 | BI158: =IF(N158="nulová",J158,0) -> 0 | BJ158: 2 | BK158: =ROUND(I158*H158,2) -> 0 | BL158: 4 | BM158: -1390207527
D159: VV | E159: A13 | F159: 30*6 | H159: 180 | AT159: VV | AU159: 2 | AV159: 2 | AW159: True | AX159: 1 | AY159: ROZPOCET
C160: 14 | D160: K | E160: 465513428.S | F160: Dlažba z lomového kameňa na maltu z 400 kg cementu na m3 malty, s vyškárovaním maltou MCs hr. 400 mm | G160: m2 | H160: 180 | J160: =ROUND(I160*H160,2) -> 0 | N160: znížená | P160: =O160*H160 -> 0 | Q160: 0.61503 | R160: =Q160*H160 -> 110.7054 | S160: 0 | T160: =S160*H160 -> 0 | AR160: 4 | AT160: K | AU160: 2 | AY160: ROZPOCET | BE160: =IF(N160="základná",J160,0) -> 0 | BF160: =IF(N160="znížená",J160,0) -> 0 | BG160: =IF(N160="zákl. prenesená",J160,0) -> 0 | BH160: =IF(N160="zníž. prenesená",J160,0) -> 0 | BI160: =IF(N160="nulová",J160,0) -> 0 | BJ160: 2 | BK160: =ROUND(I160*H160,2) -> 0 | BL160: 4 | BM160: -733612063
D161: VV | E161: A14 | F161: 30.0*6.0 | H161: 180 | AT161: VV | AU161: 2 | AV161: 2 | AW161: True | AX161: 0 | AY161: ROZPOCET
D162: VV | E162: B14 | F162: "Celkem: "A14 | H162: 180 | AT162: VV | AU162: 2 | AV162: 2 | AW162: True | AX162: 1 | AY162: ROZPOCET
D163: D | E163: 5 | F163: Komunikácie | J163: =BK163 -> 0 | P163: =SUM(P164:P188) -> 0 | R163: =SUM(R164:R188) -> 575.05102 | T163: =SUM(T164:T188) -> 0 | AR163: 1 | AT163: D | AU163: 1 | AY163: ROZPOCET | BK163: =SUM(BK164:BK188) -> 0
C164: 15 | D164: K | E164: 564651114.S | F164: Podklad z kameniva hrubého drveného veľ. 63-125 mm s rozprestretím a zhutnením, po zhutnení hr. 180 mm | G164: m2 | H164: 490 | J164: =ROUND(I164*H164,2) -> 0 | N164: znížená | P164: =O164*H164 -> 0 | Q164: 0.34839 | R164: =Q164*H164 -> 170.7111 | S164: 0 | T164: =S164*H164 -> 0 | AR164: 4 | AT164: K | AU164: 2 | AY164: ROZPOCET | BE164: =IF(N164="základná",J164,0) -> 0 | BF164: =IF(N164="znížená",J164,0) -> 0 | BG164: =IF(N164="zákl. prenesená",J164,0) -> 0 | BH164: =IF(N164="zníž. prenesená",J164,0) -> 0 | BI164: =IF(N164="nulová",J164,0) -> 0 | BJ164: 2 | BK164: =ROUND(I164*H164,2) -> 0 | BL164: 4 | BM164: 1058394623
C165: 16 | D165: K | E165: 564752111.S | F165: Podklad alebo kryt z kameniva hrubého drveného veľ. 32-63 mm (vibr.štrk) po zhut.hr. 150 mm | G165: m2 | H165: 108 | J165: =ROUND(I165*H165,2) -> 0 | N165: znížená | P165: =O165*H165 -> 0 | Q165: 0.36834 | R165: =Q165*H165 -> 39.78072 | S165: 0 | T165: =S165*H165 -> 0 | AR165: 4 | AT165: K | AU165: 2 | AY165: ROZPOCET | BE165: =IF(N165="základná",J165,0) -> 0 | BF165: =IF(N165="znížená",J165,0) -> 0 | BG165: =IF(N165="zákl. prenesená",J165,0) -> 0 | BH165: =IF(N165="zníž. prenesená",J165,0) -> 0 | BI165: =IF(N165="nulová",J165,0) -> 0 | BJ165: 2 | BK165: =ROUND(I165*H165,2) -> 0 | BL165: 4 | BM165: -2122150859
C166: 17 | D166: K | E166: 564801112.S | F166: Podklad zo štrkodrviny s rozprestretím a zhutnením, po zhutnení hr. 40 mm | G166: m2 | H166: 110 | J166: =ROUND(I166*H166,2) -> 0 | N166: znížená | P166: =O166*H166 -> 0 | Q166: 0.08003 | R166: =Q166*H166 -> 8.8033 | S166: 0 | T166: =S166*H166 -> 0 | AR166: 4 | AT166: K | AU166: 2 | AY166: ROZPOCET | BE166: =IF(N166="základná",J166,0) -> 0 | BF166: =IF(N166="znížená",J166,0) -> 0 | BG166: =IF(N166="zákl. prenesená",J166,0) -> 0 | BH166: =IF(N166="zníž. prenesená",J166,0) -> 0 | BI166: =IF(N166="nulová",J166,0) -> 0 | BJ166: 2 | BK166: =ROUND(I166*H166,2) -> 0 | BL166: 4 | BM166: 1844336240
...

Sheet SO 201 - Oporné múry-CS2022
L2: >> skryté stĺpce << | AT2: {b5ef0969-c1d0-44f1-850d-1a81c0e22b92} | AZ2: A30 | BA2: A30 | BC2: 30,48 | BD2: 2
AT3: 0 | AZ3: A97 | BA3: A97 | BC3: 18,45 | BD3: 2
D4: KRYCÍ LIST ROZPOČTU | M4: v --- nižšie sa nachádzajú doplnkové a pomocné údaje k zostavám --- v | AT4: False | AZ4: B103 | BA4: B103 | BC4: 4,08 | BD4: 2
AZ5: B107 | BA5: B107 | BC5: 484 | BD5: 2
D6: Stavba: | AZ6: B109 | BA6: B109 | BC6: 36,6 | BD6: 2
E7: ='Rekapitulácia stavby'!K6 -> Cyklotrasa - podjazd pod Univerzitným mostom TR.A.Hlinku-CS2022 | AZ7: B112 | BA7: B112 | BC7: 120 | BD7: 2
D8: Objekt: | AZ8: B26 | BA8: B26 | BC8: 82,88 | BD8: 2
E9: SO 201 - Oporné múry-CS2022 | AZ9: B32 | BA9: B32 | BC9: 138,75 | BD9: 2
AZ10: B34 | BA10: B34 | BC10: 0,358 | BD10: 2
D11: JKSO: | I11: KS: | AZ11: B36 | BA11: B36 | BC11: 0,49 | BD11: 2
D12: Miesto: | F12: Nitra | I12: Dátum: | J12: ='Rekapitulácia stavby'!AN8 -> 0 | AZ12: B47 | BA12: B47 | BC12: 7,557 | BD12: 2
AZ13: B49 | BA13: B49 | BC13: 28,388 | BD13: 2
D14: Objednávateľ: | I14: IČO: | AZ14: B53 | BA14: B53 | BC14: 4,39 | BD14: 2
E15: Mesto Nitra | I15: IČ DPH: | AZ15: B54 | BA15: B54 | BC15: 0,8 | BD15: 2
AZ16: B66 | BA16: B66 | BC16: 2,8 | BD16: 2
D17: Zhotoviteľ: | I17: IČO: | J17: ='Rekapitulácia stavby'!AN13 -> Vyplň údaj | AZ17: B68 | BA17: B68 | BC17: 6 | BD17: 2
E18: ='Rekapitulácia stavby'!E14 -> Vyplň údaj | I18: IČ DPH: | J18: ='Rekapitulácia stavby'!AN14 -> Vyplň údaj | AZ18: B69 | BA18: B69 | BC18: 18 | BD18: 2
AZ19: B71 | BA19: B71 | BC19: 1,75 | BD19: 2
D20: Projektant: | I20: IČO: | J20: =IF('Rekapitulácia stavby'!AN16="","",'Rekapitulácia stavby'!AN16) | AZ20: B74 | BA20: B74 | BC20: 4,2 | BD20: 2
E21: =IF('Rekapitulácia stavby'!E17="","",'Rekapitulácia stavby'!E17) | I21: IČ DPH: | J21: =IF('Rekapitulácia stavby'!AN17="","",'Rekapitulácia stavby'!AN17) | AZ21: B81 | BA21: B81 | BC21: 0,9 | BD21: 2
AZ22: B82 | BA22: B82 | BC22: 4,92 | BD22: 2
D23: Spracovateľ: | I23: IČO: | J23: =IF('Rekapitulácia stavby'!AN19="","",'Rekapitulácia stavby'!AN19) | AZ23: B92 | BA23: B92 | BC23: 2,16 | BD23: 2
E24: =IF('Rekapitulácia stavby'!E20="","",'Rekapitulácia stavby'!E20) | I24: IČ DPH: | J24: =IF('Rekapitulácia stavby'!AN20="","",'Rekapitulácia stavby'!AN20) | AZ24: B95 | BA24: B95 | BC24: 99 | BD24: 2
AZ25: B97 | BA25: B97 | BC25: 45 | BD25: 2
D26: Poznámka: | AZ26: C103 | BA26: C103 | BC26: 18,2 | BD26: 2
AZ27: C109 | BA27: C109 | BC27: 198 | BD27: 2
AZ28: C112 | BA28: C112 | BC28: 37 | BD28: 2
AZ29: C26 | BA29: C26 | BC29: 10,8 | BD29: 2
D30: Cena bez DPH | J30: =ROUND(J129, 2) -> 0 | AZ30: C34 | BA30: C34 | BC30: 0,06 | BD30: 2
AZ31: C36 | BA31: C36 | BC31: 0,079 | BD31: 2
F32: Základ dane | I32: Sadzba dane | J32: Výška dane | AZ32: C68 | BA32: C68 | BC32: 21 | BD32: 2
D33: DPH | E33: základná | F33: =ROUND((SUM(BE129:BE567)), 2) -> 0 | I33: 0.2 | J33: =ROUND(((SUM(BE129:BE567))*I33), 2) -> 0 | AZ33: C69 | BA33: C69 | BC33: 4,2 | BD33: 2
E34: znížená | F34: =ROUND((SUM(BF129:BF567)), 2) -> 0 | I34: 0.2 | J34: =ROUND(((SUM(BF129:BF567))*I34), 2) -> 0 | AZ34: C71 | BA34: C71 | BC34: 87 | BD34: 2
E35: zákl. prenesená | F35: =ROUND((SUM(BG129:BG567)), 2) -> 0 | I35: 0.2 | J35: =0 -> 0 | AZ35: C81 | BA35: C81 | BC35: 5,13 | BD35: 2
E36: zníž. prenesená | F36: =ROUND((SUM(BH129:BH567)), 2) -> 0 | I36: 0.2 | J36: =0 -> 0 | AZ36: C82 | BA36: C82 | BC36: 27 | BD36: 2
E37: nulová | F37: =ROUND((SUM(BI129:BI567)), 2) -> 0 | I37: 0 | J37: =0 -> 0 | AZ37: C92 | BA37: C92 | BC37: 5,5 | BD37: 2
AZ38: C95 | BA38: C95 | BC38: 175,56 | BD38: 2
D39: Cena s DPH | G39: v | H39: EUR | J39: =SUM(J30:J37) -> 0 | AZ39: C97 | BA39: C97 | BC39: 132,5 | BD39: 2
AZ40: D103 | BA40: D103 | BC40: 23,55 | BD40: 2
AZ41: D109 | BA41: D109 | BC41: 103,4 | BD41: 2
AZ42: D112 | BA42: D112 | BC42: 83,25 | BD42: 2
AZ43: D26 | BA43: D26 | BC43: 17,2 | BD43: 2
AZ44: D34 | BA44: D34 | BC44: 0,133 | BD44: 2
AZ45: D71 | BA45: D71 | BC45: 225 | BD45: 2
AZ46: D81 | BA46: D81 | BC46: 45 | BD46: 2
AZ47: D82 | BA47: D82 | BC47: 18,2 | BD47: 2
AZ48: D92 | BA48: D92 | BC48: 0,966 | BD48: 2
AZ49: D95 | BA49: D95 | BC49: 36,72 | BD49: 2
D50: Projektant | G50: Spracovateľ | AZ50: D97 | BA50: D97 | BC50: 68,08 | BD50: 2
AZ51: E26 | BA51: E26 | BC51: 6,3 | BD51: 2
AZ52: E82 | BA52: E82 | BC52: 29,2 | BD52: 2
AZ53: E97 | BA53: E97 | BC53: 179,5 | BD53: 2
AZ54: F26 | BA54: F26 | BC54: 1,72 | BD54: 2
AZ55: F82 | BA55: F82 | BC55: 6,65 | BD55: 2
AZ56: F97 | BA56: F97 | BC56: 94,28 | BD56: 2
AZ57: G97 | BA57: G97 | BC57: 15 | BD57: 2
D61: Dátum a podpis: | F61: Pečiatka | G61: Dátum a podpis: | J61: Pečiatka
D65: Objednávateľ | G65: Zhotoviteľ
D76: Dátum a podpis: | F76: Pečiatka | G76: Dátum a podpis: | J76: Pečiatka
C82: REKAPITULÁCIA ROZPOČTU
C84: Stavba:
E85: =E7 -> Cyklotrasa - podjazd pod Univerzitným mostom TR.A.Hlinku-CS2022
C86: Objekt:
E87: =E9 -> SO 201 - Oporné múry-CS2022
C89: Miesto: | F89: =F12 -> Nitra | I89: Dátum: | J89: =IF(J12="","",J12) -> 0
C91: Objednávateľ: | F91: =E15 -> Mesto Nitra | I91: Projektant: | J91: =E21
C92: Zhotoviteľ: | F92: =IF(E18="","",E18) -> Vyplň údaj | I92: Spracovateľ: | J92: =E24
C94: Kód dielu - Popis | J94: Cena celkom [EUR]
C96: Náklady z rozpočtu | J96: =J129 -> 0 | AU96: -1
D97: HSV - Práce a dodávky HSV | J97: =J130 -> 0
D98: 1 - Zemné práce | J98: =J131 -> 0
D99: 2 - Zakladanie | J99: =J166 -> 0
D100: 3 - Zvislé a kompletné konštrukcie | J100: =J317 -> 0
D101: 4 - Vodorovné konštrukcie | J101: =J364 -> 0
D102: 5 - Komunikácie | J102: =J386 -> 0
D103: 6 - Úpravy povrchov, podlahy, osadenie | J103: =J395 -> 0
D104: 8 - Rúrové vedenie | J104: =J431 -> 0
D105: 9 - Ostatné konštrukcie a práce-búranie | J105: =J438 -> 0
D106: 99 - Presun hmôt HSV | J106: =J491 -> 0
D107: PSV - Práce a dodávky PSV | J107: =J493 -> 0
D108: 711 - Izolácie proti vode a vlhkosti | J108: =J494 -> 0
D109: 783 - Nátery | J109: =J553 -> 0
C116: ROZPOČET
C118: Stavba:
E119: =E7 -> Cyklotrasa - podjazd pod Univerzitným mostom TR.A.Hlinku-CS2022
C120: Objekt:
E121: =E9 -> SO 201 - Oporné múry-CS2022
C123: Miesto: | F123: =F12 -> Nitra | I123: Dátum: | J123: =IF(J12="","",J12) -> 0
C125: Objednávateľ: | F125: =E15 -> Mesto Nitra | I125: Projektant: | J125: =E21
C126: Zhotoviteľ: | F126: =IF(E18="","",E18) -> Vyplň údaj | I126: Spracovateľ: | J126: =E24
C128: PČ | D128: Typ | E128: Kód | F128: Popis | G128: MJ | H128: Množstvo | I128: J.cena [EUR] | J128: Cena celkom [EUR] | K128: Cenová sústava | N128: DPH | O128: J. Nh [h] | P128: Nh celkom [h] | Q128: J. hmotnosť [t] | R128: Hmotnosť celkom [t] | S128: J. suť [t] | T128: Suť Celkom [t]
C129: Náklady z rozpočtu | J129: =BK129 -> 0 | P129: =P130+P493 -> 0 | R129: =R130+R493 -> 2115.1001 | T129: =T130+T493 -> 575.39016 | AT129: D | AU129: -1 | BK129: =BK130+BK493 -> 0
D130: D | E130: HSV | F130: Práce a dodávky HSV | J130: =BK130 -> 0 | P130: =P131+P166+P317+P364+P386+P395+P431+P438+P491 -> 0 | R130: =R131+R166+R317+R364+R386+R395+R431+R438+R491 -> 2110.4435 | T130: =T131+T166+T317+T364+T386+T395+T431+T438+T491 -> 575.39016 | AR130: 1 | AT130: D | AU130: 0 | AY130: ROZPOCET | BK130: =BK131+BK166+BK317+BK364+BK386+BK395+BK431+BK438+BK491 -> 0
D131: D | E131: 1 | F131: Zemné práce | J131: =BK131 -> 0 | P131: =SUM(P132:P165) -> 0 | R131: =SUM(R132:R165) -> 5.65388 | T131: =SUM(T132:T165) -> 278.353 | AR131: 1 | AT131: D | AU131: 1 | AY131: ROZPOCET | BK131: =SUM(BK132:BK165) -> 0
C132: 1 | D132: K | E132: 113105113.S | F132: Rozoberanie dlažby z lomového kameňa, kladených do malty so škárami zaliatymi cem.maltou, -0,58600t | G132: m2 | H132: 234 | J132: =ROUND(I132*H132,2) -> 0 | N132: znížená | P132: =O132*H132 -> 0 | Q132: 0 | R132: =Q132*H132 -> 0 | S132: 0.586 | T132: =S132*H132 -> 137.124 | AR132: 4 | AT132: K | AU132: 2 | AY132: ROZPOCET | BE132: =IF(N132="základná",J132,0) -> 0 | BF132: =IF(N132="znížená",J132,0) -> 0 | BG132: =IF(N132="zákl. prenesená",J132,0) -> 0 | BH132: =IF(N132="zníž. prenesená",J132,0) -> 0 | BI132: =IF(N132="nulová",J132,0) -> 0 | BJ132: 2 | BK132: =ROUND(I132*H132,2) -> 0 | BL132: 4 | BM132: 1910860875
D133: VV | F133: "u opory P4 mosta" 9.0*26 | H133: 234 | AT133: VV | AU133: 2 | AV133: 2 | AW133: True | AX133: 1 | AY133: ROZPOCET
C134: 2 | D134: K | E134: 113106612.S | F134: Rozoberanie zámkovej dlažby všetkých druhov v ploche nad 20 m2, -0,26000t | G134: m2 | H134: 112.89 | J134: =ROUND(I134*H134,2) -> 0 | N134: znížená | P134: =O134*H134 -> 0 | Q134: 0 | R134: =Q134*H134 -> 0 | S134: 0.26 | T134: =S134*H134 -> 29.3514 | AR134: 4 | AT134: K | AU134: 2 | AY134: ROZPOCET | BE134: =IF(N134="základná",J134,0) -> 0 | BF134: =IF(N134="znížená",J134,0) -> 0 | BG134: =IF(N134="zákl. prenesená",J134,0) -> 0 | BH134: =IF(N134="zníž. prenesená",J134,0) -> 0 | BI134: =IF(N134="nulová",J134,0) -> 0 | BJ134: 2 | BK134: =ROUND(I134*H134,2) -> 0 | BL134: 4 | BM134: -1285650424
D135: VV | F135: 1.59*71.0 | H135: 112.89 | AT135: VV | AU135: 2 | AV135: 2 | AW135: True | AX135: 1 | AY135: ROZPOCET
C136: 3 | D136: K | E136: 113107242.S | F136: Odstránenie krytu asfaltového v ploche nad 200 m2, hr. nad 50 do 100 mm, -0,18100t | G136: m2 | H136: 113.6 | J136: =ROUND(I136*H136,2) -> 0 | N136: znížená | P136: =O136*H136 -> 0 | Q136: 0 | R136: =Q136*H136 -> 0 | S136: 0.181 | T136: =S136*H136 -> 20.5616 | AR136: 4 | AT136: K | AU136: 2 | AY136: ROZPOCET | BE136: =IF(N136="základná",J136,0) -> 0 | BF136: =IF(N136="znížená",J136,0) -> 0 | BG136: =IF(N136="zákl. prenesená",J136,0) -> 0 | BH136: =IF(N136="zníž. prenesená",J136,0) -> 0 | BI136: =IF(N136="nulová",J136,0) -> 0 | BJ136: 2 | BK136: =ROUND(I136*H136,2) -> 0 | BL136: 4 | BM136: 843142649
D137: VV | F137: 1,6*71,0 | H137: 113.6 | AT137: VV | AU137: 2 | AV137: 2 | AW137: True | AX137: 1 | AY137: ROZPOCET
...

Sheet Zoznam figúr
C4: ZOZNAM FIGÚR
C5: Kód: | D5: CS2022
C6: Stavba: | D6: Cyklotrasa - podjazd pod Univerzitným mostom TR.A.Hlinku-CS2022
C7: Dátum: | D7: ='Rekapitulácia stavby'!AN8 -> 0
C9: Kód | D9: Popis | E9: MJ | F9: Výmera
C10: SO 000 | D10: Vedľajšie rozpočtové náklady-CS2022
C11: A1 | D11: A1 | F11: 1
C12: A1 | D12: "2 ks vrtanej sondy IGP dl. 8,0 m+2 ks penetračnej sondy dl. 8,0 m+1 ks kopanej sondy hl. 2,0 m+doprava + vyhodnotenie sond + sprac. záv. správy" 1 | F12: 1
C13: Použitie figúry:
C14: 000200011 | D14: Prieskumné práce - geologický prieskum inžiniersko-geologický a geotechnický | E14: eur | F14: 1
C15: B1 | D15: B1 | F15: 1
C16: B1 | D16: "Celkem: "A1 | F16: 1
C17: SO 101 | D17: Cyklotrasa pri rieke Nitra-CS2022
C18: A1 | D18: A1 | F18: 372.3
C19: A1 | D19: "násypy z výkopov" 372.3 | F19: 372.3
C20: Použitie figúry:
C21: 171101101.S | D21: Uloženie sypaniny do násypu súdržnej horniny s mierou zhutnenia podľa Proctor-Standard na 95 % | E21: m3 | F21: 372.3
C22: A10 | D22: A10 | F22: 2
C23: A10 | D23: "bet.patky pre kotvenie zábradlia" 2.0 | F23: 2
C24: Použitie figúry:
C25: 275321117.S | D25: Základové pätky a bloky mostných konštrukcií z betónu železového tr. C 25/30 | E25: m3 | F25: 2
C26: A11 | D26: A11 | F26: 154.96
C27: A11 | D27: "Celkem: "154.96 | F27: 154.96
C28: Použitie figúry:
C29: 348171111 | D29: Osadenie mostného oceľového zábradlia vrátane spojenia dielcov hmotnosti do 100 kg/m | E29: m | F29: 154.96
C30: A12 | D30: A12 | F30: 154.96
C31: A12 | D31: "vrátanie kotvenia do rímsy" 154.96 | F31: 154.96
C32: Použitie figúry:
C33: 5534666000 | D33: Zábradlie trojmadlové, rozobieratelné | E33: M | F33: 154.96
C34: A13 | D34: A13 | F34: 180
C35: A13 | D35: 30*6 | F35: 180
C36: A14 | D36: A14 | F36: 180
C37: A14 | D37: 30.0*6.0 | F37: 180
C38: Použitie figúry:
C39: 465513428.S | D39: Dlažba z lomového kameňa na maltu z 400 kg cementu na m3 malty, s vyškárovaním maltou MCs hr. 400 mm | E39: m2 | F39: 180
C40: A16 | D40: A16 | F40: 110
C41: A17 | D41: A17 | F41: 110
C42: A17 | D42: "podklad pre ZD" 110 | F42: 110
C43: Použitie figúry:
C44: 564851111.S | D44: Podklad zo štrkodrviny s rozprestretím a zhutnením, po zhutnení hr. 150 mm | E44: m2 | F44: 110
C45: A18 | D45: A18 | F45: 490
C46: A19 | D46: A19 | F46: 108
C47: A19 | D47: "infiltračný postrek PI 0,9kg/m2" 108.0 | F47: 108
C48: Použitie figúry:
C49: 573191111.S | D49: Náter asfaltový infiltračný katiónaktívnou emulziou v množstve 1,00 kg/m2 | E49: m2 | F49: 108
C50: A20 | D50: A20 | F50: 108
C51: A20 | D51: "spojovací postrek emulzný PSE 0,7 kg/m2" 108.0 | F51: 108
C52: Použitie figúry:
C53: 573231111.S | D53: Postrek asfaltový spojovací bez posypu kamenivom z cestnej emulzie v množstve 0,80 kg/m2 | E53: m2 | F53: 108
C54: A23 | D54: A23 | F54: 490
C55: A24 | D55: A24 | F55: 110
C56: A24 | D56: 110 | F56: 110
C57: Použitie figúry:
C58: 59245600087 | D58: Dlažba zámková hr. 80mm SIVÁ | E58: M2 | F58: 115.5
C59: A25 | D59: A25 | F59: 3
C60: A25 | D60: "osadenie nových DZ" 3 | F60: 3
C61: Použitie figúry:
C62: 914001111.S | D62: Osadenie a montáž cestnej zvislej dopravnej značky na stĺpik, stĺp, konzolu alebo objekt | E62: ks | F62: 3
C63: A26 | D63: A26 | F63: 137.5
C64: A27 | D64: A27 | F64: 12
C65: A27 | D65: "smerová šipka 630 doplnená symbolom bicykla "4*3.0 | F65: 12
C66: Použitie figúry:
C67: 915721211.S | D67: Vodorovné dopravné značenie striekané farbou prechodov pre chodcov, šípky, symboly a pod. | E67: m2 | F67: 12
C68: A31 | D68: A31 | F68: 7.8
C69: A31 | D69: 0.06*(60+70) | F69: 7.8
C70: A32 | D70: A32 | F70: 3
C71: A32 | D71: "demontáž stávajúcich DZ , ich náhrada novými DZ" 1+1+1 | F71: 3
C72: Použitie figúry:
C73: 966812211.S | D73: Demontáž dopravnej značky kompletnej základnej | E73: ks | F73: 3
C74: A34 | D74: A34 | F74: 110
C75: A34 | D75: "fólia proti prerastaniu vegetáciou" 110 | F75: 110
C76: Použitie figúry:
C77: 711133001.S | D77: Zhotovenie izolácie proti zemnej vlhkosti PVC fóliou položenou voľne na vodorovnej ploche so zvarením spoju | E77: m2 | F77: 110
C78: A4 | D78: A4 | F78: 456
C79: A4 | D79: 39.0+37.0+20.0+56.0+119.0+14.0+10.0+92.0+69.0 | F79: 456
C80: Použitie figúry:
C81: 182301122.S | D81: Rozprestretie ornice na svahu so sklonom nad 1:5, plocha do 500 m2, hr.nad 100 do 150 mm | E81: m2 | F81: 456
C82: A7 | D82: A7 | F82: 13.68
C83: A7 | D83: 456.0*0.03 | F83: 13.68
C84: Použitie figúry:
C85: 0057211100 | D85: Tráva - Trávové semeno | E85: KG | F85: 13.68
C86: A9 | D86: A9 | F86: 2.5
C87: A9 | D87: "priečne prahy z vodostavebného betónu" 2.5 | F87: 2.5
C88: Použitie figúry:
C89: 274311117.S | D89: Základové pásy, prahy, vence mostných konštrukcií z betónu prostého tr. C 25/30 | E89: m3 | F89: 2.5
C90: B1 | D90: B1 | F90: 372.3
C91: B1 | D91: "Celkem: "A1 | F91: 372.3
C92: B10 | D92: B10 | F92: 2
C93: B10 | D93: "Celkem: "A10 | F93: 2
C94: B11 | D94: B11 | F94: 154.96
C95: B11 | D95: "Celkem: "A11 | F95: 154.96
C96: B12 | D96: B12 | F96: 154.96
C97: B12 | D97: "Celkem: "A12 | F97: 154.96
C98: B14 | D98: B14 | F98: 180
C99: B14 | D99: "Celkem: "A14 | F99: 180
C100: B16 | D100: B16 | F100: 490
C101: B17 | D101: B17 | F101: 110
... C110: B24 | D110: "Celkem: "A24 | F110: 110
C111: Použitie figúry:
C112: 59245600087 | D112: Dlažba zámková hr. 80mm SIVÁ | E112: M2 | F112: 115.5
...
