Workbook

Sheet Rekapitulácia stavby
A1: Export Komplet | BA1: 2.0 | BT1: False | BU1: False | BV1: {69f6395c-cc6c-494c-b71e-fff77577c57d}
AR2: >> skryté stĺpce << | BS2: 0,01 | BT2: 20
BS3: 0,01 | BT3: 20
D4: REKAPITULÁCIA STAVBY | AS4: v --- nižšie sa nachádzajú doplnkové a pomocné údaje k zostavám --- v | BE4: Návod na vyplnenie | BS4: 0,001
D5: Kód: | K5: CS2022 | BE5: Meniť je možné iba bunky so žltým podfarbením!_x000D_ _x000D_ 1) na prvom liste Rekapitulácie stavby vyplňte v zostave_x000D_ _x000D_ a) Rekapitulácia stavby_x000D_ - údaje o Zhotoviteľovi_x000D_ (prenesú sa do ostatných zostáv aj v iných listoch)_x000D_ _x000D_ b) Rekapitulácia objektov stavby_x000D_ - potrebné Ostatné náklady_x000D_ _x000D_ 2) na vybraných listoch vyplňte v zostave_x000D_ _x000D_ a) Krycí list_x000D_ - údaje o Zhotoviteľovi, pokiaľ sa líšia od údajov o Zhotoviteľovi na Rekapitulácii stavby_x000D_ (údaje se prenesú do ostatných zostav v danom liste)_x000D_ _x000D_ b) Rekapitulácia rozpočtu_x000D_ - potrebné Ostatné náklady_x000D_ _x000D_ c) Celkové náklady za stavbu_x000D_ - ceny na položkách_x000D_ - množstvo, pokiaľ má žlté podfarbenie_x000D_ - a v prípade potreby poznámku (tá je v skrytom stĺpci) | BS5: 0,01
D6: Stavba: | K6: Cyklotrasa - podjazd pod Univerzitným mostom TR.A.Hlinku-CS2022 | BS6: 0,01
D7: JKSO: | AK7: KS: | BS7: 0,01
D8: Miesto: | K8: Nitra | AK8: Dátum: | BS8: 0,01
BS9: 0,01
D10: Objednávateľ: | AK10: IČO: | BS10: 0,01
E11: Mesto Nitra | AK11: IČ DPH: | BS11: 0,01
BS12: 0,01
D13: Zhotoviteľ: | AK13: IČO: | AN13: Vyplň údaj | BS13: 0,01
E14: Vyplň údaj | AK14: IČ DPH: | AN14: Vyplň údaj | BS14: 0,01
BS15: False
D16: Projektant: | AK16: IČO: | BS16: False
AK17: IČ DPH: | BS17: True
BS18: 0,01
D19: Spracovateľ: | AK19: IČO: | BS19: 0,01
AK20: IČ DPH: | BS20: True
D22: Poznámka:
D26: Cena bez DPH | AK26: =ROUND(AG94,2) -> 0
L28: Sadzba dane | W28: Základ dane | AK28: Výška dane
D29: DPH | F29: základná | L29: 0.2 | W29: =ROUND(AZ94, 2) -> 0 | AK29: =ROUND(AV94, 2) -> 0
F30: znížená | L30: 0.2 | W30: =ROUND(BA94, 2) -> 0 | AK30: =ROUND(AW94, 2) -> 0
F31: zákl. prenesená | L31: 0.2 | W31: =ROUND(BB94, 2) -> 0 | AK31: 0
F32: zníž. prenesená | L32: 0.2 | W32: =ROUND(BC94, 2) -> 0 | AK32: 0
F33: nulová | L33: 0 | W33: =ROUND(BD94, 2) -> 0 | AK33: 0
D35: Cena s DPH | T35: v | X35: EUR | AK35: =SUM(AK26:AK33) -> 0
D49: Projektant | AH49: Spracovateľ
D60: Dátum a podpis: | V60: Pečiatka | AH60: Dátum a podpis: | AM60: Pečiatka
D64: Objednávateľ | AH64: Zhotoviteľ
D75: Dátum a podpis: | V75: Pečiatka | AH75: Dátum a podpis: | AM75: Pečiatka
C82: REKAPITULÁCIA OBJEKTOV STAVBY
C84: Kód: | L84: =K5 -> CS2022
C85: Stavba: | L85: =K6 -> Cyklotrasa - podjazd pod Univerzitným mostom TR.A.Hlinku-CS2022
C87: Miesto: | L87: =IF(K8="","",K8) -> Nitra | AI87: Dátum: | AM87: =IF(AN8= "","",AN8)
C89: Objednávateľ: | L89: =IF(E11= "","",E11) -> Mesto Nitra | AI89: Projektant: | AM89: =IF(E17="","",E17) | AS89: Informatívne údaje z listov zákaziek
C90: Zhotoviteľ: | L90: =IF(E14= "Vyplň údaj","",E14) | AI90: Spracovateľ: | AM90: =IF(E20="","",E20)
C92: Kód | I92: Popis | AG92: Cena bez DPH [EUR] | AN92: Cena s DPH [EUR] | AQ92: Typ | AS92: z toho Ostat._x000D_ náklady [EUR] | AT92: DPH [EUR] | AU92: Normohodiny [h] | AV92: DPH základná [EUR] | AW92: DPH znížená [EUR] | AX92: DPH základná prenesená_x000D_ [EUR] | AY92: DPH znížená prenesená_x000D_ [EUR] | AZ92: Základňa_x000D_ DPH základná | BA92: Základňa_x000D_ DPH znížená | BB92: Základňa_x000D_ DPH zákl. prenesená | BC92: Základňa_x000D_ DPH zníž. prenesená | BD92: Základňa_x000D_ DPH nulová
...

Sheet SO 000 - Vedľajšie rozpoč...
L2: >> skryté stĺpce << | AT2: {6e603c93-57b8-48af-a735-37a00b67f4e1}
AT3: 0
D4: KRYCÍ LIST ROZPOČTU | M4: v --- nižšie sa nachádzajú doplnkové a pomocné údaje k zostavám --- v | AT4: False
D6: Stavba:
E7: ='Rekapitulácia stavby'!K6 -> Cyklotrasa - podjazd pod Univerzitným mostom TR.A.Hlinku-CS2022
D8: Objekt:
E9: SO 000 - Vedľajšie rozpočtové náklady-CS2022
D11: JKSO: | I11: KS:
D12: Miesto: | F12: Nitra | I12: Dátum: | J12: ='Rekapitulácia stavby'!AN8 -> 0
D14: Objednávateľ: | I14: IČO:
E15: Mesto Nitra | I15: IČ DPH:
D17: Zhotoviteľ: | I17: IČO: | J17: ='Rekapitulácia stavby'!AN13 -> Vyplň údaj
E18: ='Rekapitulácia stavby'!E14 -> Vyplň údaj | I18: IČ DPH: | J18: ='Rekapitulácia stavby'!AN14 -> Vyplň údaj
D20: Projektant: | I20: IČO: | J20: =IF('Rekapitulácia stavby'!AN16="","",'Rekapitulácia stavby'!AN16)
E21: =IF('Rekapitulácia stavby'!E17="","",'Rekapitulácia stavby'!E17) | I21: IČ DPH: | J21: =IF('Rekapitulácia stavby'!AN17="","",'Rekapitulácia stavby'!AN17)
D23: Spracovateľ: | I23: IČO: | J23: =IF('Rekapitulácia stavby'!AN19="","",'Rekapitulácia stavby'!AN19)
E24: =IF('Rekapitulácia stavby'!E20="","",'Rekapitulácia stavby'!E20) | I24: IČ DPH: | J24: =IF('Rekapitulácia stavby'!AN20="","",'Rekapitulácia stavby'!AN20)
D26: Poznámka:
D30: Cena bez DPH | J30: =ROUND(J123, 2) -> 0
F32: Základ dane | I32: Sadzba dane | J32: Výška dane
D33: DPH | E33: základná | F33: =ROUND((SUM(BE123:BE148)), 2) -> 0 | I33: 0.2 | J33: =ROUND(((SUM(BE123:BE148))*I33), 2) -> 0
E34: znížená | F34: =ROUND((SUM(BF123:BF148)), 2) -> 0 | I34: 0.2 | J34: =ROUND(((SUM(BF123:BF148))*I34), 2) -> 0
E35: zákl. prenesená | F35: =ROUND((SUM(BG123:BG148)), 2) -> 0 | I35: 0.2 | J35: =0 -> 0
E36: zníž. prenesená | F36: =ROUND((SUM(BH123:BH148)), 2) -> 0 | I36: 0.2 | J36: =0 -> 0
E37: nulová | F37: =ROUND((SUM(BI123:BI148)), 2) -> 0 | I37: 0 | J37: =0 -> 0
D39: Cena s DPH | G39: v | H39: EUR | J39: =SUM(J30:J37) -> 0
D50: Projektant | G50: Spracovateľ
D61: Dátum a podpis: | F61: Pečiatka | G61: Dátum a podpis: | J61: Pečiatka
D65: Objednávateľ | G65: Zhotoviteľ
D76: Dátum a podpis: | F76: Pečiatka | G76: Dátum a podpis: | J76: Pečiatka
C82: REKAPITULÁCIA ROZPOČTU
C84: Stavba:
E85: =E7 -> Cyklotrasa - podjazd pod Univerzitným mostom TR.A.Hlinku-CS2022
C86: Objekt:
E87: =E9 -> SO 000 - Vedľajšie rozpočtové náklady-CS2022
C89: Miesto: | F89: =F12 -> Nitra | I89: Dátum: | J89: =IF(J12="","",J12) -> 0
C91: Objednávateľ: | F91: =E15 -> Mesto Nitra | I91: Projektant: | J91: =E21
C92: Zhotoviteľ: | F92: =IF(E18="","",E18) -> Vyplň údaj | I92: Spracovateľ: | J92: =E24
C94: Kód dielu - Popis | J94: Cena celkom [EUR]
C96: Náklady z rozpočtu | J96: =J123 -> 0 | AU96: -1
...

Sheet SO 101 - Cyklotrasa pri r...
L2: >> skryté stĺpce << | AT2: {44fa405e-47a7-4db6-8236-c6b50edde2b6} | AZ2: B24 | BA2: B24 | BC2: 110 | BD2: 2
AT3: 0
D4: KRYCÍ LIST ROZPOČTU | M4: v --- nižšie sa nachádzajú doplnkové a pomocné údaje k zostavám --- v | AT4: False
D6: Stavba:
E7: ='Rekapitulácia stavby'!K6 -> Cyklotrasa - podjazd pod Univerzitným mostom TR.A.Hlinku-CS2022
D8: Objekt:
E9: SO 101 - Cyklotrasa pri rieke Nitra-CS2022
D11: JKSO: | I11: KS:
D12: Miesto: | F12: Nitra | I12: Dátum: | J12: ='Rekapitulácia stavby'!AN8 -> 0
D14: Objednávateľ: | I14: IČO:
E15: Mesto Nitra | I15: IČ DPH:
D17: Zhotoviteľ: | I17: IČO: | J17: ='Rekapitulácia stavby'!AN13 -> Vyplň údaj
E18: ='Rekapitulácia stavby'!E14 -> Vyplň údaj | I18: IČ DPH: | J18: ='Rekapitulácia stavby'!AN14 -> Vyplň údaj
D20: Projektant: | I20: IČO: | J20: =IF('Rekapitulácia stavby'!AN16="","",'Rekapitulácia stavby'!AN16)
E21: =IF('Rekapitulácia stavby'!E17="","",'Rekapitulácia stavby'!E17) | I21: IČ DPH: | J21: =IF('Rekapitulácia stavby'!AN17="","",'Rekapitulácia stavby'!AN17)
D23: Spracovateľ: | I23: IČO: | J23: =IF('Rekapitulácia stavby'!AN19="","",'Rekapitulácia stavby'!AN19)
E24: =IF('Rekapitulácia stavby'!E20="","",'Rekapitulácia stavby'!E20) | I24: IČ DPH: | J24: =IF('Rekapitulácia stavby'!AN20="","",'Rekapitulácia stavby'!AN20)
D26: Poznámka:
D30: Cena bez DPH | J30: =ROUND(J126, 2) -> 0
F32: Základ dane | I32: Sadzba dane | J32: Výška dane
D33: DPH | E33: základná | F33: =ROUND((SUM(BE126:BE221)), 2) -> 0 | I33: 0.2 | J33: =ROUND(((SUM(BE126:BE221))*I33), 2) -> 0
E34: znížená | F34: =ROUND((SUM(BF126:BF221)), 2) -> 0 | I34: 0.2 | J34: =ROUND(((SUM(BF126:BF221))*I34), 2) -> 0
E35: zákl. prenesená | F35: =ROUND((SUM(BG126:BG221)), 2) -> 0 | I35: 0.2 | J35: =0 -> 0
E36: zníž. prenesená | F36: =ROUND((SUM(BH126:BH221)), 2) -> 0 | I36: 0.2 | J36: =0 -> 0
E37: nulová | F37: =ROUND((SUM(BI126:BI221)), 2) -> 0 | I37: 0 | J37: =0 -> 0
D39: Cena s DPH | G39: v | H39: EUR | J39: =SUM(J30:J37) -> 0
D50: Projektant | G50: Spracovateľ
D61: Dátum a podpis: | F61: Pečiatka | G61: Dátum a podpis: | J61: Pečiatka
D65: Objednávateľ | G65: Zhotoviteľ
D76: Dátum a podpis: | F76: Pečiatka | G76: Dátum a podpis: | J76: Pečiatka
C82: REKAPITULÁCIA ROZPOČTU
C84: Stavba:
E85: =E7 -> Cyklotrasa - podjazd pod Univerzitným mostom TR.A.Hlinku-CS2022
C86: Objekt:
E87: =E9 -> SO 101 - Cyklotrasa pri rieke Nitra-CS2022
C89: Miesto: | F89: =F12 -> Nitra | I89: Dátum: | J89: =IF(J12="","",J12) -> 0
C91: Objednávateľ: | F91: =E15 -> Mesto Nitra | I91: Projektant: | J91: =E21
C92: Zhotoviteľ: | F92: =IF(E18="","",E18) -> Vyplň údaj | I92: Spracovateľ: | J92: =E24
C94: Kód dielu - Popis | J94: Cena celkom [EUR]
C96: Náklady z rozpočtu | J96: =J126 -> 0 | AU96: -1
...

Sheet SO 201 - Oporné múry-CS2022
L2: >> skryté stĺpce << | AT2: {b5ef0969-c1d0-44f1-850d-1a81c0e22b92} | AZ2: A30 | BA2: A30 | BC2: 30,48 | BD2: 2
AT3: 0 | AZ3: A97 | BA3: A97 | BC3: 18,45 | BD3: 2
D4: KRYCÍ LIST ROZPOČTU | M4: v --- nižšie sa nachádzajú doplnkové a pomocné údaje k zostavám --- v | AT4: False | AZ4: B103 | BA4: B103 | BC4: 4,08 | BD4: 2
AZ5: B107 | BA5: B107 | BC5: 484 | BD5: 2
D6: Stavba: | AZ6: B109 | BA6: B109 | BC6: 36,6 | BD6: 2
E7: ='Rekapitulácia stavby'!K6 -> Cyklotrasa - podjazd pod Univerzitným mostom TR.A.Hlinku-CS2022 | AZ7: B112 | BA7: B112 | BC7: 120 | BD7: 2
D8: Objekt: | AZ8: B26 | BA8: B26 | BC8: 82,88 | BD8: 2
E9: SO 201 - Oporné múry-CS2022 | AZ9: B32 | BA9: B32 | BC9: 138,75 | BD9: 2
AZ10: B34 | BA10: B34 | BC10: 0,358 | BD10: 2
D11: JKSO: | I11: KS: | AZ11: B36 | BA11: B36 | BC11: 0,49 | BD11: 2
D12: Miesto: | F12: Nitra | I12: Dátum: | J12: ='Rekapitulácia stavby'!AN8 -> 0 | AZ12: B47 | BA12: B47 | BC12: 7,557 | BD12: 2
AZ13: B49 | BA13: B49 | BC13: 28,388 | BD13: 2
D14: Objednávateľ: | I14: IČO: | AZ14: B53 | BA14: B53 | BC14: 4,39 | BD14: 2
E15: Mesto Nitra | I15: IČ DPH: | AZ15: B54 | BA15: B54 | BC15: 0,8 | BD15: 2
AZ16: B66 | BA16: B66 | BC16: 2,8 | BD16: 2
D17: Zhotoviteľ: | I17: IČO: | J17: ='Rekapitulácia stavby'!AN13 -> Vyplň údaj | AZ17: B68 | BA17: B68 | BC17: 6 | BD17: 2
E18: ='Rekapitulácia stavby'!E14 -> Vyplň údaj | I18: IČ DPH: | J18: ='Rekapitulácia stavby'!AN14 -> Vyplň údaj | AZ18: B69 | BA18: B69 | BC18: 18 | BD18: 2
AZ19: B71 | BA19: B71 | BC19: 1,75 | BD19: 2
D20: Projektant: | I20: IČO: | J20: =IF('Rekapitulácia stavby'!AN16="","",'Rekapitulácia stavby'!AN16) | AZ20: B74 | BA20: B74 | BC20: 4,2 | BD20: 2
E21: =IF('Rekapitulácia stavby'!E17="","",'Rekapitulácia stavby'!E17) | I21: IČ DPH: | J21: =IF('Rekapitulácia stavby'!AN17="","",'Rekapitulácia stavby'!AN17) | AZ21: B81 | BA21: B81 | BC21: 0,9 | BD21: 2
AZ22: B82 | BA22: B82 | BC22: 4,92 | BD22: 2
D23: Spracovateľ: | I23: IČO: | J23: =IF('Rekapitulácia stavby'!AN19="","",'Rekapitulácia stavby'!AN19) | AZ23: B92 | BA23: B92 | BC23: 2,16 | BD23: 2
E24: =IF('Rekapitulácia stavby'!E20="","",'Rekapitulácia stavby'!E20) | I24: IČ DPH: | J24: =IF('Rekapitulácia stavby'!AN20="","",'Rekapitulácia stavby'!AN20) | AZ24: B95 | BA24: B95 | BC24: 99 | BD24: 2
AZ25: B97 | BA25: B97 | BC25: 45 | BD25: 2
D26: Poznámka: | AZ26: C103 | BA26: C103 | BC26: 18,2 | BD26: 2
AZ27: C109 | BA27: C109 | BC27: 198 | BD27: 2
AZ28: C112 | BA28: C112 | BC28: 37 | BD28: 2
AZ29: C26 | BA29: C26 | BC29: 10,8 | BD29: 2
D30: Cena bez DPH | J30: =ROUND(J129, 2) -> 0 | AZ30: C34 | BA30: C34 | BC30: 0,06 | BD30: 2
AZ31: C36 | BA31: C36 | BC31: 0,079 | BD31: 2
F32: Základ dane | I32: Sadzba dane | J32: Výška dane | AZ32: C68 | BA32: C68 | BC32: 21 | BD32: 2
D33: DPH | E33: základná | F33: =ROUND((SUM(BE129:BE567)), 2) -> 0 | I33: 0.2 | J33: =ROUND(((SUM(BE129:BE567))*I33), 2) -> 0 | AZ33: C69 | BA33: C69 | BC33: 4,2 | BD33: 2
E34: znížená | F34: =ROUND((SUM(BF129:BF567)), 2) -> 0 | I34: 0.2 | J34: =ROUND(((SUM(BF129:BF567))*I34), 2) -> 0 | AZ34: C71 | BA34: C71 | BC34: 87 | BD34: 2
E35: zákl. prenesená | F35: =ROUND((SUM(BG129:BG567)), 2) -> 0 | I35: 0.2 | J35: =0 -> 0 | AZ35: C81 | BA35: C81 | BC35: 5,13 | BD35: 2
E36: zníž. prenesená | F36: =ROUND((SUM(BH129:BH567)), 2) -> 0 | I36: 0.2 | J36: =0 -> 0 | AZ36: C82 | BA36: C82 | BC36: 27 | BD36: 2
E37: nulová | F37: =ROUND((SUM(BI129:BI567)), 2) -> 0 | I37: 0 | J37: =0 -> 0 | AZ37: C92 | BA37: C92 | BC37: 5,5 | BD37: 2
AZ38: C95 | BA38: C95 | BC38: 175,56 | BD38: 2
D39: Cena s DPH | G39: v | H39: EUR | J39: =SUM(J30:J37) -> 0 | AZ39: C97 | BA39: C97 | BC39: 132,5 | BD39: 2
AZ40: D103 | BA40: D103 | BC40: 23,55 | BD40: 2
AZ41: D109 | BA41: D109 | BC41: 103,4 | BD41: 2
...

Sheet Zoznam figúr
C4: ZOZNAM FIGÚR
C5: Kód: | D5: CS2022
C6: Stavba: | D6: Cyklotrasa - podjazd pod Univerzitným mostom TR.A.Hlinku-CS2022
C7: Dátum: | D7: ='Rekapitulácia stavby'!AN8 -> 0
C9: Kód | D9: Popis | E9: MJ | F9: Výmera
C10: SO 000 | D10: Vedľajšie rozpočtové náklady-CS2022
C11: A1 | D11: A1 | F11: 1
C12: A1 | D12: "2 ks vrtanej sondy IGP dl. 8,0 m+2 ks penetračnej sondy dl. 8,0 m+1 ks kopanej sondy hl. 2,0 m+doprava + vyhodnotenie sond + sprac. záv. správy" 1 | F12: 1
C13: Použitie figúry:
C14: 000200011 | D14: Prieskumné práce - geologický prieskum inžiniersko-geologický a geotechnický | E14: eur | F14: 1
C15: B1 | D15: B1 | F15: 1
C16: B1 | D16: "Celkem: "A1 | F16: 1
C17: SO 101 | D17: Cyklotrasa pri rieke Nitra-CS2022
C18: A1 | D18: A1 | F18: 372.3
C19: A1 | D19: "násypy z výkopov" 372.3 | F19: 372.3
C20: Použitie figúry:
C21: 171101101.S | D21: Uloženie sypaniny do násypu súdržnej horniny s mierou zhutnenia podľa Proctor-Standard na 95 % | E21: m3 | F21: 372.3
C22: A10 | D22: A10 | F22: 2
C23: A10 | D23: "bet.patky pre kotvenie zábradlia" 2.0 | F23: 2
C24: Použitie figúry:
C25: 275321117.S | D25: Základové pätky a bloky mostných konštrukcií z betónu železového tr. C 25/30 | E25: m3 | F25: 2
C26: A11 | D26: A11 | F26: 154.96
C27: A11 | D27: "Celkem: "154.96 | F27: 154.96
C28: Použitie figúry:
C29: 348171111 | D29: Osadenie mostného oceľového zábradlia vrátane spojenia dielcov hmotnosti do 100 kg/m | E29: m | F29: 154.96
C30: A12 | D30: A12 | F30: 154.96
C31: A12 | D31: "vrátanie kotvenia do rímsy" 154.96 | F31: 154.96
C32: Použitie figúry:
C33: 5534666000 | D33: Zábradlie trojmadlové, rozobieratelné | E33: M | F33: 154.96
C34: A13 | D34: A13 | F34: 180
C35: A13 | D35: 30*6 | F35: 180
C36: A14 | D36: A14 | F36: 180
C37: A14 | D37: 30.0*6.0 | F37: 180
C38: Použitie figúry:
C39: 465513428.S | D39: Dlažba z lomového kameňa na maltu z 400 kg cementu na m3 malty, s vyškárovaním maltou MCs hr. 400 mm | E39: m2 | F39: 180
C40: A16 | D40: A16 | F40: 110
C41: A17 | D41: A17 | F41: 110
C42: A17 | D42: "podklad pre ZD" 110 | F42: 110
C43: Použitie figúry:
C44: 564851111.S | D44: Podklad zo štrkodrviny s rozprestretím a zhutnením, po zhutnení hr. 150 mm | E44: m2 | F44: 110
...
