Workbook

Sheet Rekapitulácia stavby
A1: Export Komplet | BA1: 2.0 | BT1: False | BU1: False | BV1: {09752911-efd2-44d3-9ba7-3ed229ee76b5}
AR2: >> skryté stĺpce << | BS2: 0,001 | BT2: 20
BS3: 0,001 | BT3: 20
D4: REKAPITULÁCIA STAVBY | AS4: v --- nižšie sa nachádzajú doplnkové a pomocné údaje k zostavám --- v | BE4: Návod na vyplnenie | BS4: 0,001
D5: Kód: | K5: fnk2102 | BE5: Meniť je možné iba bunky so žltým podfarbením!_x000D_ _x000D_ 1) na prvom liste Rekapitulácie stavby vyplňte v zostave_x000D_ _x000D_ a) Rekapitulácia stavby_x000D_ - údaje o Zhotoviteľovi_x000D_ (prenesú sa do ostatných zostáv aj v iných listoch)_x000D_ _x000D_ b) Rekapitulácia objektov stavby_x000D_ - potrebné Ostatné náklady_x000D_ _x000D_ 2) na vybraných listoch vyplňte v zostave_x000D_ _x000D_ a) Krycí list_x000D_ - údaje o Zhotoviteľovi, pokiaľ sa líšia od údajov o Zhotoviteľovi na Rekapitulácii stavby_x000D_ (údaje se prenesú do ostatných zostav v danom liste)_x000D_ _x000D_ b) Rekapitulácia rozpočtu_x000D_ - potrebné Ostatné náklady_x000D_ _x000D_ c) Celkové náklady za stavbu_x000D_ - ceny na položkách_x000D_ - množstvo, pokiaľ má žlté podfarbenie_x000D_ - a v prípade potreby poznámku (tá je v skrytom stĺpci) | BS5: 0,001
D6: Stavba: | K6: ZŠ Škultétyho-Oprava havarijného stavu kuchyne - 2.časť | BS6: 0,001
D7: JKSO: | AK7: KS: | BS7: 0,001
D8: Miesto: | K8: Škultétyho 1, Nitra | AK8: Dátum: | AN8: 6. 9. 2021 | BS8: 0,001
BS9: 0,001
D10: Objednávateľ: | AK10: IČO: | BS10: 0,001
E11: Mesto Nitra | AK11: IČ DPH: | BS11: 0,001
BS12: 0,001
D13: Zhotoviteľ: | AK13: IČO: | AN13: Vyplň údaj | BS13: 0,001
E14: Vyplň údaj | AK14: IČ DPH: | AN14: Vyplň údaj | BS14: 0,001
BS15: False
D16: Projektant: | AK16: IČO: | BS16: False
E17: Ing.arch.Igor Feník | AK17: IČ DPH: | BS17: True
BS18: 0,01
D19: Spracovateľ: | AK19: IČO: | BS19: 0,01
E20: Ing.Igor Janečka | AK20: IČ DPH: | BS20: True
D22: Poznámka:
D26: Cena bez DPH | AK26: =ROUND(AG94,2) -> 0
L28: Sadzba dane | W28: Základ dane | AK28: Výška dane
D29: DPH | F29: základná | L29: 0.2 | W29: =ROUND(AZ94, 2) -> 0 | AK29: =ROUND(AV94, 2) -> 0
F30: znížená | L30: 0.2 | W30: =ROUND(BA94, 2) -> 0 | AK30: =ROUND(AW94, 2) -> 0
F31: zákl. prenesená | L31: 0.2 | W31: =ROUND(BB94, 2) -> 0 | AK31: 0
F32: zníž. prenesená | L32: 0.2 | W32: =ROUND(BC94, 2) -> 0 | AK32: 0
F33: nulová | L33: 0 | W33: =ROUND(BD94, 2) -> 0 | AK33: 0
D35: Cena s DPH | T35: v | X35: EUR | AK35: =SUM(AK26:AK33) -> 0
D49: Projektant | AH49: Spracovateľ
D60: Dátum a podpis: | V60: Pečiatka | AH60: Dátum a podpis: | AM60: Pečiatka
D64: Objednávateľ | AH64: Zhotoviteľ
D75: Dátum a podpis: | V75: Pečiatka | AH75: Dátum a podpis: | AM75: Pečiatka
C82: REKAPITULÁCIA OBJEKTOV STAVBY
C84: Kód: | L84: =K5 -> fnk2102
C85: Stavba: | L85: =K6 -> ZŠ Škultétyho-Oprava havarijného stavu kuchyne - 2.časť
C87: Miesto: | L87: =IF(K8="","",K8) -> Škultétyho 1, Nitra | AI87: Dátum: | AM87: =IF(AN8= "","",AN8) -> 6. 9. 2021
C89: Objednávateľ: | L89: =IF(E11= "","",E11) -> Mesto Nitra | AI89: Projektant: | AM89: =IF(E17="","",E17) -> Ing.arch.Igor Feník | AS89: Informatívne údaje z listov zákaziek
C90: Zhotoviteľ: | L90: =IF(E14= "Vyplň údaj","",E14) | AI90: Spracovateľ: | AM90: =IF(E20="","",E20) -> Ing.Igor Janečka
C92: Kód | I92: Popis | AG92: Cena bez DPH [EUR] | AN92: Cena s DPH [EUR] | AQ92: Typ | AS92: z toho Ostat._x000D_ náklady [EUR] | AT92: DPH [EUR] | AU92: Normohodiny [h] | AV92: DPH základná [EUR] | AW92: DPH znížená [EUR] | AX92: DPH základná prenesená_x000D_ [EUR] | AY92: DPH znížená prenesená_x000D_ [EUR] | AZ92: Základňa_x000D_ DPH základná | BA92: Základňa_x000D_ DPH znížená | BB92: Základňa_x000D_ DPH zákl. prenesená | BC92: Základňa_x000D_ DPH zníž. prenesená | BD92: Základňa_x000D_ DPH nulová
...

Sheet 101 - Blok 01 – Kuchyňa  ...
L2: >> skryté stĺpce << | AT2: {c22cb877-b72c-4a7e-b30e-6e239e92c78e}
AT3: 0
D4: KRYCÍ LIST ROZPOČTU | M4: v --- nižšie sa nachádzajú doplnkové a pomocné údaje k zostavám --- v | AT4: False
D6: Stavba:
E7: ='Rekapitulácia stavby'!K6 -> ZŠ Škultétyho-Oprava havarijného stavu kuchyne - 2.časť
D8: Objekt:
E9: 100 - Architektúra, stavebná časť a statika
D10: Časť:
E11: 101 - Blok 01 – Kuchyňa (1. NP)
D13: JKSO: | I13: KS:
D14: Miesto: | F14: Škultétyho 1, Nitra | I14: Dátum: | J14: ='Rekapitulácia stavby'!AN8 -> 6. 9. 2021
D16: Objednávateľ: | I16: IČO:
E17: Mesto Nitra | I17: IČ DPH:
D19: Zhotoviteľ: | I19: IČO: | J19: ='Rekapitulácia stavby'!AN13 -> Vyplň údaj
E20: ='Rekapitulácia stavby'!E14 -> Vyplň údaj | I20: IČ DPH: | J20: ='Rekapitulácia stavby'!AN14 -> Vyplň údaj
D22: Projektant: | I22: IČO:
E23: Ing.arch.Igor Feník | I23: IČ DPH:
D25: Spracovateľ: | I25: IČO:
E26: Ing.Igor Janečka | I26: IČ DPH:
D28: Poznámka:
D32: Cena bez DPH | J32: =ROUND(J143, 2) -> 0
F34: Základ dane | I34: Sadzba dane | J34: Výška dane
D35: DPH | E35: základná | F35: =ROUND((SUM(BE143:BE288)), 2) -> 0 | I35: 0.2 | J35: =ROUND(((SUM(BE143:BE288))*I35), 2) -> 0
E36: znížená | F36: =ROUND((SUM(BF143:BF288)), 2) -> 0 | I36: 0.2 | J36: =ROUND(((SUM(BF143:BF288))*I36), 2) -> 0
E37: zákl. prenesená | F37: =ROUND((SUM(BG143:BG288)), 2) -> 0 | I37: 0.2 | J37: =0 -> 0
E38: zníž. prenesená | F38: =ROUND((SUM(BH143:BH288)), 2) -> 0 | I38: 0.2 | J38: =0 -> 0
E39: nulová | F39: =ROUND((SUM(BI143:BI288)), 2) -> 0 | I39: 0 | J39: =0 -> 0
D41: Cena s DPH | G41: v | H41: EUR | J41: =SUM(J32:J39) -> 0
D50: Projektant | G50: Spracovateľ
D61: Dátum a podpis: | F61: Pečiatka | G61: Dátum a podpis: | J61: Pečiatka
D65: Objednávateľ | G65: Zhotoviteľ
D76: Dátum a podpis: | F76: Pečiatka | G76: Dátum a podpis: | J76: Pečiatka
C82: REKAPITULÁCIA ROZPOČTU
C84: Stavba:
E85: =E7 -> ZŠ Škultétyho-Oprava havarijného stavu kuchyne - 2.časť
C86: Objekt:
E87: 100 - Architektúra, stavebná časť a statika
C88: Časť:
E89: =E11 -> 101 - Blok 01 – Kuchyňa (1. NP)
C91: Miesto: | F91: =F14 -> Škultétyho 1, Nitra | I91: Dátum: | J91: =IF(J14="","",J14) -> 6. 9. 2021
...

Sheet 102 - Blok 02 – Jedáleň a...
L2: >> skryté stĺpce << | AT2: {ee2d2fca-6ff5-44cb-b879-f2066e21deb0}
AT3: 0
D4: KRYCÍ LIST ROZPOČTU | M4: v --- nižšie sa nachádzajú doplnkové a pomocné údaje k zostavám --- v | AT4: False
D6: Stavba:
E7: ='Rekapitulácia stavby'!K6 -> ZŠ Škultétyho-Oprava havarijného stavu kuchyne - 2.časť
D8: Objekt:
E9: 100 - Architektúra, stavebná časť a statika
D10: Časť:
E11: 102 - Blok 02 – Jedáleň a výdajňa jedál (2. NP)
D13: JKSO: | I13: KS:
D14: Miesto: | F14: Škultétyho 1, Nitra | I14: Dátum: | J14: ='Rekapitulácia stavby'!AN8 -> 6. 9. 2021
D16: Objednávateľ: | I16: IČO:
E17: Mesto Nitra | I17: IČ DPH:
D19: Zhotoviteľ: | I19: IČO: | J19: ='Rekapitulácia stavby'!AN13 -> Vyplň údaj
E20: ='Rekapitulácia stavby'!E14 -> Vyplň údaj | I20: IČ DPH: | J20: ='Rekapitulácia stavby'!AN14 -> Vyplň údaj
D22: Projektant: | I22: IČO:
E23: Ing.arch.Igor Feník | I23: IČ DPH:
D25: Spracovateľ: | I25: IČO:
E26: Ing.Igor Janečka | I26: IČ DPH:
D28: Poznámka:
D32: Cena bez DPH | J32: =ROUND(J133, 2) -> 0
F34: Základ dane | I34: Sadzba dane | J34: Výška dane
D35: DPH | E35: základná | F35: =ROUND((SUM(BE133:BE173)), 2) -> 0 | I35: 0.2 | J35: =ROUND(((SUM(BE133:BE173))*I35), 2) -> 0
E36: znížená | F36: =ROUND((SUM(BF133:BF173)), 2) -> 0 | I36: 0.2 | J36: =ROUND(((SUM(BF133:BF173))*I36), 2) -> 0
E37: zákl. prenesená | F37: =ROUND((SUM(BG133:BG173)), 2) -> 0 | I37: 0.2 | J37: =0 -> 0
E38: zníž. prenesená | F38: =ROUND((SUM(BH133:BH173)), 2) -> 0 | I38: 0.2 | J38: =0 -> 0
E39: nulová | F39: =ROUND((SUM(BI133:BI173)), 2) -> 0 | I39: 0 | J39: =0 -> 0
D41: Cena s DPH | G41: v | H41: EUR | J41: =SUM(J32:J39) -> 0
D50: Projektant | G50: Spracovateľ
D61: Dátum a podpis: | F61: Pečiatka | G61: Dátum a podpis: | J61: Pečiatka
D65: Objednávateľ | G65: Zhotoviteľ
D76: Dátum a podpis: | F76: Pečiatka | G76: Dátum a podpis: | J76: Pečiatka
C82: REKAPITULÁCIA ROZPOČTU
C84: Stavba:
E85: =E7 -> ZŠ Škultétyho-Oprava havarijného stavu kuchyne - 2.časť
C86: Objekt:
E87: 100 - Architektúra, stavebná časť a statika
C88: Časť:
E89: =E11 -> 102 - Blok 02 – Jedáleň a výdajňa jedál (2. NP)
C91: Miesto: | F91: =F14 -> Škultétyho 1, Nitra | I91: Dátum: | J91: =IF(J14="","",J14) -> 6. 9. 2021
...

Sheet 200 - Kuchynský stolový v...
L2: >> skryté stĺpce << | AT2: {0e24ebf2-46e8-4541-b4f2-ddb409b8bc6a}
AT3: 0
D4: KRYCÍ LIST ROZPOČTU | M4: v --- nižšie sa nachádzajú doplnkové a pomocné údaje k zostavám --- v | AT4: False
D6: Stavba:
E7: ='Rekapitulácia stavby'!K6 -> ZŠ Škultétyho-Oprava havarijného stavu kuchyne - 2.časť
D8: Objekt:
E9: 200 - Kuchynský stolový výťah
D11: JKSO: | I11: KS:
D12: Miesto: | F12: Škultétyho 1, Nitra | I12: Dátum: | J12: ='Rekapitulácia stavby'!AN8 -> 6. 9. 2021
D14: Objednávateľ: | I14: IČO:
E15: Mesto Nitra | I15: IČ DPH:
D17: Zhotoviteľ: | I17: IČO: | J17: ='Rekapitulácia stavby'!AN13 -> Vyplň údaj
E18: ='Rekapitulácia stavby'!E14 -> Vyplň údaj | I18: IČ DPH: | J18: ='Rekapitulácia stavby'!AN14 -> Vyplň údaj
D20: Projektant: | I20: IČO:
E21: Ing.arch.Igor Feník | I21: IČ DPH:
D23: Spracovateľ: | I23: IČO:
E24: Ing.Igor Janečka | I24: IČ DPH:
D26: Poznámka:
D30: Cena bez DPH | J30: =ROUND(J135, 2) -> 0
F32: Základ dane | I32: Sadzba dane | J32: Výška dane
D33: DPH | E33: základná | F33: =ROUND((SUM(BE135:BE226)), 2) -> 0 | I33: 0.2 | J33: =ROUND(((SUM(BE135:BE226))*I33), 2) -> 0
E34: znížená | F34: =ROUND((SUM(BF135:BF226)), 2) -> 0 | I34: 0.2 | J34: =ROUND(((SUM(BF135:BF226))*I34), 2) -> 0
E35: zákl. prenesená | F35: =ROUND((SUM(BG135:BG226)), 2) -> 0 | I35: 0.2 | J35: =0 -> 0
E36: zníž. prenesená | F36: =ROUND((SUM(BH135:BH226)), 2) -> 0 | I36: 0.2 | J36: =0 -> 0
E37: nulová | F37: =ROUND((SUM(BI135:BI226)), 2) -> 0 | I37: 0 | J37: =0 -> 0
D39: Cena s DPH | G39: v | H39: EUR | J39: =SUM(J30:J37) -> 0
D50: Projektant | G50: Spracovateľ
D61: Dátum a podpis: | F61: Pečiatka | G61: Dátum a podpis: | J61: Pečiatka
D65: Objednávateľ | G65: Zhotoviteľ
D76: Dátum a podpis: | F76: Pečiatka | G76: Dátum a podpis: | J76: Pečiatka
C82: REKAPITULÁCIA ROZPOČTU
C84: Stavba:
E85: =E7 -> ZŠ Škultétyho-Oprava havarijného stavu kuchyne - 2.časť
C86: Objekt:
E87: =E9 -> 200 - Kuchynský stolový výťah
C89: Miesto: | F89: =F12 -> Škultétyho 1, Nitra | I89: Dátum: | J89: =IF(J12="","",J12) -> 6. 9. 2021
C91: Objednávateľ: | F91: =E15 -> Mesto Nitra | I91: Projektant: | J91: =E21 -> Ing.arch.Igor Feník
C92: Zhotoviteľ: | F92: =IF(E18="","",E18) -> Vyplň údaj | I92: Spracovateľ: | J92: =E24 -> Ing.Igor Janečka
C94: Kód dielu - Popis | J94: Cena celkom [EUR]
C96: Náklady z rozpočtu | J96: =J135 -> 0 | AU96: -1
...

Sheet 300 - Silnoprúdová elektr...
L2: >> skryté stĺpce << | AT2: {249dad72-b595-416b-8143-07ed50245f24}
AT3: 0
D4: KRYCÍ LIST ROZPOČTU | M4: v --- nižšie sa nachádzajú doplnkové a pomocné údaje k zostavám --- v | AT4: False
D6: Stavba:
E7: ='Rekapitulácia stavby'!K6 -> ZŠ Škultétyho-Oprava havarijného stavu kuchyne - 2.časť
D8: Objekt:
E9: 300 - Silnoprúdová elektroinštalácia
D11: JKSO: | I11: KS:
D12: Miesto: | F12: Škultétyho 1, Nitra | I12: Dátum: | J12: ='Rekapitulácia stavby'!AN8 -> 6. 9. 2021
D14: Objednávateľ: | I14: IČO:
E15: Mesto Nitra | I15: IČ DPH:
D17: Zhotoviteľ: | I17: IČO: | J17: ='Rekapitulácia stavby'!AN13 -> Vyplň údaj
E18: ='Rekapitulácia stavby'!E14 -> Vyplň údaj | I18: IČ DPH: | J18: ='Rekapitulácia stavby'!AN14 -> Vyplň údaj
D20: Projektant: | I20: IČO:
E21: Ing.arch.Igor Feník | I21: IČ DPH:
D23: Spracovateľ: | I23: IČO:
E24: Repka | I24: IČ DPH:
D26: Poznámka:
D30: Cena bez DPH | J30: =ROUND(J119, 2) -> 0
F32: Základ dane | I32: Sadzba dane | J32: Výška dane
D33: DPH | E33: základná | F33: =ROUND((SUM(BE119:BE175)), 2) -> 0 | I33: 0.2 | J33: =ROUND(((SUM(BE119:BE175))*I33), 2) -> 0
E34: znížená | F34: =ROUND((SUM(BF119:BF175)), 2) -> 0 | I34: 0.2 | J34: =ROUND(((SUM(BF119:BF175))*I34), 2) -> 0
E35: zákl. prenesená | F35: =ROUND((SUM(BG119:BG175)), 2) -> 0 | I35: 0.2 | J35: =0 -> 0
E36: zníž. prenesená | F36: =ROUND((SUM(BH119:BH175)), 2) -> 0 | I36: 0.2 | J36: =0 -> 0
E37: nulová | F37: =ROUND((SUM(BI119:BI175)), 2) -> 0 | I37: 0 | J37: =0 -> 0
D39: Cena s DPH | G39: v | H39: EUR | J39: =SUM(J30:J37) -> 0
D50: Projektant | G50: Spracovateľ
D61: Dátum a podpis: | F61: Pečiatka | G61: Dátum a podpis: | J61: Pečiatka
D65: Objednávateľ | G65: Zhotoviteľ
D76: Dátum a podpis: | F76: Pečiatka | G76: Dátum a podpis: | J76: Pečiatka
C82: REKAPITULÁCIA ROZPOČTU
C84: Stavba:
E85: =E7 -> ZŠ Škultétyho-Oprava havarijného stavu kuchyne - 2.časť
C86: Objekt:
E87: =E9 -> 300 - Silnoprúdová elektroinštalácia
C89: Miesto: | F89: =F12 -> Škultétyho 1, Nitra | I89: Dátum: | J89: =IF(J12="","",J12) -> 6. 9. 2021
C91: Objednávateľ: | F91: =E15 -> Mesto Nitra | I91: Projektant: | J91: =E21 -> Ing.arch.Igor Feník
C92: Zhotoviteľ: | F92: =IF(E18="","",E18) -> Vyplň údaj | I92: Spracovateľ: | J92: =E24 -> Repka
C94: Kód dielu - Popis | J94: Cena celkom [EUR]
C96: Náklady z rozpočtu | J96: =J119 -> 0 | AU96: -1
...

Sheet 401 - Blok 01  – Kuchyňa ...
L2: >> skryté stĺpce << | AT2: {fd7394b2-19e0-4a6f-b79f-e26cd473510b}
AT3: 0
D4: KRYCÍ LIST ROZPOČTU | M4: v --- nižšie sa nachádzajú doplnkové a pomocné údaje k zostavám --- v | AT4: False
D6: Stavba:
E7: ='Rekapitulácia stavby'!K6 -> ZŠ Škultétyho-Oprava havarijného stavu kuchyne - 2.časť
D8: Objekt:
E9: 400 - Vzduchotechnika a vetranie
D10: Časť:
E11: 401 - Blok 01 – Kuchyňa (1. NP)
D13: JKSO: | I13: KS:
D14: Miesto: | F14: Škultétyho 1, Nitra | I14: Dátum: | J14: ='Rekapitulácia stavby'!AN8 -> 6. 9. 2021
D16: Objednávateľ: | I16: IČO:
E17: Mesto Nitra | I17: IČ DPH:
D19: Zhotoviteľ: | I19: IČO: | J19: ='Rekapitulácia stavby'!AN13 -> Vyplň údaj
E20: ='Rekapitulácia stavby'!E14 -> Vyplň údaj | I20: IČ DPH: | J20: ='Rekapitulácia stavby'!AN14 -> Vyplň údaj
D22: Projektant: | I22: IČO:
E23: Ing.arch.Igor Feník | I23: IČ DPH:
D25: Spracovateľ: | I25: IČO:
E26: Ing.Marcin | I26: IČ DPH:
D28: Poznámka:
D32: Cena bez DPH | J32: =ROUND(J124, 2) -> 0
F34: Základ dane | I34: Sadzba dane | J34: Výška dane
D35: DPH | E35: základná | F35: =ROUND((SUM(BE124:BE172)), 2) -> 0 | I35: 0.2 | J35: =ROUND(((SUM(BE124:BE172))*I35), 2) -> 0
E36: znížená | F36: =ROUND((SUM(BF124:BF172)), 2) -> 0 | I36: 0.2 | J36: =ROUND(((SUM(BF124:BF172))*I36), 2) -> 0
E37: zákl. prenesená | F37: =ROUND((SUM(BG124:BG172)), 2) -> 0 | I37: 0.2 | J37: =0 -> 0
E38: zníž. prenesená | F38: =ROUND((SUM(BH124:BH172)), 2) -> 0 | I38: 0.2 | J38: =0 -> 0
E39: nulová | F39: =ROUND((SUM(BI124:BI172)), 2) -> 0 | I39: 0 | J39: =0 -> 0
D41: Cena s DPH | G41: v | H41: EUR | J41: =SUM(J32:J39) -> 0
D50: Projektant | G50: Spracovateľ
D61: Dátum a podpis: | F61: Pečiatka | G61: Dátum a podpis: | J61: Pečiatka
D65: Objednávateľ | G65: Zhotoviteľ
D76: Dátum a podpis: | F76: Pečiatka | G76: Dátum a podpis: | J76: Pečiatka
C82: REKAPITULÁCIA ROZPOČTU
C84: Stavba:
E85: =E7 -> ZŠ Škultétyho-Oprava havarijného stavu kuchyne - 2.časť
C86: Objekt:
E87: 400 - Vzduchotechnika a vetranie
C88: Časť:
E89: =E11 -> 401 - Blok 01 – Kuchyňa (1. NP)
C91: Miesto: | F91: =F14 -> Škultétyho 1, Nitra | I91: Dátum: | J91: =IF(J14="","",J14) -> 6. 9. 2021
...

Sheet 402 - Blok 02  – Jedáleň ...
L2: >> skryté stĺpce << | AT2: {ab0b6526-db9f-4804-85a1-f8afd86edf29}
AT3: 0
D4: KRYCÍ LIST ROZPOČTU | M4: v --- nižšie sa nachádzajú doplnkové a pomocné údaje k zostavám --- v | AT4: False
D6: Stavba:
E7: ='Rekapitulácia stavby'!K6 -> ZŠ Škultétyho-Oprava havarijného stavu kuchyne - 2.časť
D8: Objekt:
E9: 400 - Vzduchotechnika a vetranie
D10: Časť:
E11: 402 - Blok 02 – Jedáleň a výdajňa jedál (2.NP)
D13: JKSO: | I13: KS:
D14: Miesto: | F14: Škultétyho 1, Nitra | I14: Dátum: | J14: ='Rekapitulácia stavby'!AN8 -> 6. 9. 2021
D16: Objednávateľ: | I16: IČO:
E17: Mesto Nitra | I17: IČ DPH:
D19: Zhotoviteľ: | I19: IČO: | J19: ='Rekapitulácia stavby'!AN13 -> Vyplň údaj
E20: ='Rekapitulácia stavby'!E14 -> Vyplň údaj | I20: IČ DPH: | J20: ='Rekapitulácia stavby'!AN14 -> Vyplň údaj
D22: Projektant: | I22: IČO:
E23: Ing.arch.Igor Feník | I23: IČ DPH:
D25: Spracovateľ: | I25: IČO:
E26: Ing.Marcin | I26: IČ DPH:
D28: Poznámka:
D32: Cena bez DPH | J32: =ROUND(J124, 2) -> 0
F34: Základ dane | I34: Sadzba dane | J34: Výška dane
D35: DPH | E35: základná | F35: =ROUND((SUM(BE124:BE163)), 2) -> 0 | I35: 0.2 | J35: =ROUND(((SUM(BE124:BE163))*I35), 2) -> 0
E36: znížená | F36: =ROUND((SUM(BF124:BF163)), 2) -> 0 | I36: 0.2 | J36: =ROUND(((SUM(BF124:BF163))*I36), 2) -> 0
E37: zákl. prenesená | F37: =ROUND((SUM(BG124:BG163)), 2) -> 0 | I37: 0.2 | J37: =0 -> 0
E38: zníž. prenesená | F38: =ROUND((SUM(BH124:BH163)), 2) -> 0 | I38: 0.2 | J38: =0 -> 0
E39: nulová | F39: =ROUND((SUM(BI124:BI163)), 2) -> 0 | I39: 0 | J39: =0 -> 0
D41: Cena s DPH | G41: v | H41: EUR | J41: =SUM(J32:J39) -> 0
D50: Projektant | G50: Spracovateľ
D61: Dátum a podpis: | F61: Pečiatka | G61: Dátum a podpis: | J61: Pečiatka
D65: Objednávateľ | G65: Zhotoviteľ
D76: Dátum a podpis: | F76: Pečiatka | G76: Dátum a podpis: | J76: Pečiatka
C82: REKAPITULÁCIA ROZPOČTU
C84: Stavba:
E85: =E7 -> ZŠ Škultétyho-Oprava havarijného stavu kuchyne - 2.časť
C86: Objekt:
E87: 400 - Vzduchotechnika a vetranie
C88: Časť:
E89: =E11 -> 402 - Blok 02 – Jedáleň a výdajňa jedál (2.NP)
C91: Miesto: | F91: =F14 -> Škultétyho 1, Nitra | I91: Dátum: | J91: =IF(J14="","",J14) -> 6. 9. 2021
...

Sheet 500 - Ústredné vykurovanie
L2: >> skryté stĺpce << | AT2: {13ff8b7b-ce21-4fd9-900d-dc4dbdd28fe4}
AT3: 0
D4: KRYCÍ LIST ROZPOČTU | M4: v --- nižšie sa nachádzajú doplnkové a pomocné údaje k zostavám --- v | AT4: False
D6: Stavba:
E7: ='Rekapitulácia stavby'!K6 -> ZŠ Škultétyho-Oprava havarijného stavu kuchyne - 2.časť
D8: Objekt:
E9: 500 - Ústredné vykurovanie
D11: JKSO: | I11: KS:
D12: Miesto: | F12: Škultétyho 1, Nitra | I12: Dátum: | J12: ='Rekapitulácia stavby'!AN8 -> 6. 9. 2021
D14: Objednávateľ: | I14: IČO:
E15: Mesto Nitra | I15: IČ DPH:
D17: Zhotoviteľ: | I17: IČO: | J17: ='Rekapitulácia stavby'!AN13 -> Vyplň údaj
E18: ='Rekapitulácia stavby'!E14 -> Vyplň údaj | I18: IČ DPH: | J18: ='Rekapitulácia stavby'!AN14 -> Vyplň údaj
D20: Projektant: | I20: IČO:
E21: Ing.arch.Igor Feník | I21: IČ DPH:
D23: Spracovateľ: | I23: IČO:
E24: Ing.Valent | I24: IČ DPH:
D26: Poznámka:
D30: Cena bez DPH | J30: =ROUND(J125, 2) -> 0
F32: Základ dane | I32: Sadzba dane | J32: Výška dane
D33: DPH | E33: základná | F33: =ROUND((SUM(BE125:BE195)), 2) -> 0 | I33: 0.2 | J33: =ROUND(((SUM(BE125:BE195))*I33), 2) -> 0
E34: znížená | F34: =ROUND((SUM(BF125:BF195)), 2) -> 0 | I34: 0.2 | J34: =ROUND(((SUM(BF125:BF195))*I34), 2) -> 0
E35: zákl. prenesená | F35: =ROUND((SUM(BG125:BG195)), 2) -> 0 | I35: 0.2 | J35: =0 -> 0
E36: zníž. prenesená | F36: =ROUND((SUM(BH125:BH195)), 2) -> 0 | I36: 0.2 | J36: =0 -> 0
E37: nulová | F37: =ROUND((SUM(BI125:BI195)), 2) -> 0 | I37: 0 | J37: =0 -> 0
D39: Cena s DPH | G39: v | H39: EUR | J39: =SUM(J30:J37) -> 0
D50: Projektant | G50: Spracovateľ
D61: Dátum a podpis: | F61: Pečiatka | G61: Dátum a podpis: | J61: Pečiatka
D65: Objednávateľ | G65: Zhotoviteľ
D76: Dátum a podpis: | F76: Pečiatka | G76: Dátum a podpis: | J76: Pečiatka
C82: REKAPITULÁCIA ROZPOČTU
C84: Stavba:
E85: =E7 -> ZŠ Škultétyho-Oprava havarijného stavu kuchyne - 2.časť
C86: Objekt:
E87: =E9 -> 500 - Ústredné vykurovanie
C89: Miesto: | F89: =F12 -> Škultétyho 1, Nitra | I89: Dátum: | J89: =IF(J12="","",J12) -> 6. 9. 2021
C91: Objednávateľ: | F91: =E15 -> Mesto Nitra | I91: Projektant: | J91: =E21 -> Ing.arch.Igor Feník
C92: Zhotoviteľ: | F92: =IF(E18="","",E18) -> Vyplň údaj | I92: Spracovateľ: | J92: =E24 -> Ing.Valent
C94: Kód dielu - Popis | J94: Cena celkom [EUR]
C96: Náklady z rozpočtu | J96: =J125 -> 0 | AU96: -1
...
