Workbook

Sheet Rekapitulácia stavby
A1: Export Komplet | BA1: 2.0 | BT1: False | BU1: False | BV1: {09752911-efd2-44d3-9ba7-3ed229ee76b5}
AR2: >> skryté stĺpce << | BS2: 0,001 | BT2: 20
BS3: 0,001 | BT3: 20
D4: REKAPITULÁCIA STAVBY | AS4: v --- nižšie sa nachádzajú doplnkové a pomocné údaje k zostavám --- v | BE4: Návod na vyplnenie | BS4: 0,001
D5: Kód: | K5: fnk2102 | BE5: Meniť je možné iba bunky so žltým podfarbením!_x000D_ _x000D_ 1) na prvom liste Rekapitulácie stavby vyplňte v zostave_x000D_ _x000D_ a) Rekapitulácia stavby_x000D_ - údaje o Zhotoviteľovi_x000D_ (prenesú sa do ostatných zostáv aj v iných listoch)_x000D_ _x000D_ b) Rekapitulácia objektov stavby_x000D_ - potrebné Ostatné náklady_x000D_ _x000D_ 2) na vybraných listoch vyplňte v zostave_x000D_ _x000D_ a) Krycí list_x000D_ - údaje o Zhotoviteľovi, pokiaľ sa líšia od údajov o Zhotoviteľovi na Rekapitulácii stavby_x000D_ (údaje se prenesú do ostatných zostav v danom liste)_x000D_ _x000D_ b) Rekapitulácia rozpočtu_x000D_ - potrebné Ostatné náklady_x000D_ _x000D_ c) Celkové náklady za stavbu_x000D_ - ceny na položkách_x000D_ - množstvo, pokiaľ má žlté podfarbenie_x000D_ - a v prípade potreby poznámku (tá je v skrytom stĺpci) | BS5: 0,001
D6: Stavba: | K6: ZŠ Škultétyho-Oprava havarijného stavu kuchyne - 2.časť | BS6: 0,001
D7: JKSO: | AK7: KS: | BS7: 0,001
D8: Miesto: | K8: Škultétyho 1, Nitra | AK8: Dátum: | AN8: 6. 9. 2021 | BS8: 0,001
BS9: 0,001
D10: Objednávateľ: | AK10: IČO: | BS10: 0,001
E11: Mesto Nitra | AK11: IČ DPH: | BS11: 0,001
BS12: 0,001
D13: Zhotoviteľ: | AK13: IČO: | AN13: Vyplň údaj | BS13: 0,001
E14: Vyplň údaj | AK14: IČ DPH: | AN14: Vyplň údaj | BS14: 0,001
BS15: False
D16: Projektant: | AK16: IČO: | BS16: False
E17: Ing.arch.Igor Feník | AK17: IČ DPH: | BS17: True
BS18: 0,01
D19: Spracovateľ: | AK19: IČO: | BS19: 0,01
E20: Ing.Igor Janečka | AK20: IČ DPH: | BS20: True
D22: Poznámka:
D26: Cena bez DPH | AK26: =ROUND(AG94,2) -> 0
L28: Sadzba dane | W28: Základ dane | AK28: Výška dane
D29: DPH | F29: základná | L29: 0.2 | W29: =ROUND(AZ94, 2) -> 0 | AK29: =ROUND(AV94, 2) -> 0
F30: znížená | L30: 0.2 | W30: =ROUND(BA94, 2) -> 0 | AK30: =ROUND(AW94, 2) -> 0
F31: zákl. prenesená | L31: 0.2 | W31: =ROUND(BB94, 2) -> 0 | AK31: 0
F32: zníž. prenesená | L32: 0.2 | W32: =ROUND(BC94, 2) -> 0 | AK32: 0
F33: nulová | L33: 0 | W33: =ROUND(BD94, 2) -> 0 | AK33: 0
D35: Cena s DPH | T35: v | X35: EUR | AK35: =SUM(AK26:AK33) -> 0
D49: Projektant | AH49: Spracovateľ
D60: Dátum a podpis: | V60: Pečiatka | AH60: Dátum a podpis: | AM60: Pečiatka
D64: Objednávateľ | AH64: Zhotoviteľ
D75: Dátum a podpis: | V75: Pečiatka | AH75: Dátum a podpis: | AM75: Pečiatka
C82: REKAPITULÁCIA OBJEKTOV STAVBY
C84: Kód: | L84: =K5 -> fnk2102
C85: Stavba: | L85: =K6 -> ZŠ Škultétyho-Oprava havarijného stavu kuchyne - 2.časť
C87: Miesto: | L87: =IF(K8="","",K8) -> Škultétyho 1, Nitra | AI87: Dátum: | AM87: =IF(AN8= "","",AN8) -> 6. 9. 2021
C89: Objednávateľ: | L89: =IF(E11= "","",E11) -> Mesto Nitra | AI89: Projektant: | AM89: =IF(E17="","",E17) -> Ing.arch.Igor Feník | AS89: Informatívne údaje z listov zákaziek
C90: Zhotoviteľ: | L90: =IF(E14= "Vyplň údaj","",E14) | AI90: Spracovateľ: | AM90: =IF(E20="","",E20) -> Ing.Igor Janečka
C92: Kód | I92: Popis | AG92: Cena bez DPH [EUR] | AN92: Cena s DPH [EUR] | AQ92: Typ | AS92: z toho Ostat._x000D_ náklady [EUR] | AT92: DPH [EUR] | AU92: Normohodiny [h] | AV92: DPH základná [EUR] | AW92: DPH znížená [EUR] | AX92: DPH základná prenesená_x000D_ [EUR] | AY92: DPH znížená prenesená_x000D_ [EUR] | AZ92: Základňa_x000D_ DPH základná | BA92: Základňa_x000D_ DPH znížená | BB92: Základňa_x000D_ DPH zákl. prenesená | BC92: Základňa_x000D_ DPH zníž. prenesená | BD92: Základňa_x000D_ DPH nulová
C94: Náklady z rozpočtov | AG94: =ROUND(AG95+SUM(AG98:AG100)+AG103,2) -> 0 | AN94: =SUM(AG94,AT94) -> 0 | AS94: =ROUND(AS95+SUM(AS98:AS100)+AS103,2) -> 0 | AT94: =ROUND(SUM(AV94:AW94),2) -> 0 | AU94: =ROUND(AU95+SUM(AU98:AU100)+AU103,5) -> 0 | AV94: =ROUND(AZ94*L29,2) -> 0 | AW94: =ROUND(BA94*L30,2) -> 0 | AX94: =ROUND(BB94*L29,2) -> 0 | AY94: =ROUND(BC94*L30,2) -> 0 | AZ94: =ROUND(AZ95+SUM(AZ98:AZ100)+AZ103,2) -> 0 | BA94: =ROUND(BA95+SUM(BA98:BA100)+BA103,2) -> 0 | BB94: =ROUND(BB95+SUM(BB98:BB100)+BB103,2) -> 0 | BC94: =ROUND(BC95+SUM(BC98:BC100)+BC103,2) -> 0 | BD94: =ROUND(BD95+SUM(BD98:BD100)+BD103,2) -> 0 | BS94: D | BT94: 0 | BU94: ###NOIMPORT### | BV94: IMPORT | BW94: {09752911-efd2-44d3-9ba7-3ed229ee76b5} | BX94: {00000000-0000-0000-0000-000000000000}
D95: 100 | J95: Architektúra, stavebná časť a statika | AG95: =ROUND(SUM(AG96:AG97),2) -> 0 | AN95: =SUM(AG95,AT95) -> 0 | AQ95: STA | AS95: =ROUND(SUM(AS96:AS97),2) -> 0 | AT95: =ROUND(SUM(AV95:AW95),2) -> 0 | AU95: =ROUND(SUM(AU96:AU97),5) -> 0 | AV95: =ROUND(AZ95*L29,2) -> 0 | AW95: =ROUND(BA95*L30,2) -> 0 | AX95: =ROUND(BB95*L29,2) -> 0 | AY95: =ROUND(BC95*L30,2) -> 0 | AZ95: =ROUND(SUM(AZ96:AZ97),2) -> 0 | BA95: =ROUND(SUM(BA96:BA97),2) -> 0 | BB95: =ROUND(SUM(BB96:BB97),2) -> 0 | BC95: =ROUND(SUM(BC96:BC97),2) -> 0 | BD95: =ROUND(SUM(BD96:BD97),2) -> 0 | BS95: D | BT95: 1 | BU95: ###NOIMPORT### | BV95: IMPORT | BW95: {bac1c709-0bed-4b6e-91e2-fec77a0ba26d} | BX95: {09752911-efd2-44d3-9ba7-3ed229ee76b5} | CM95: 0
A96: / | E96: 101 | K96: Blok 01 – Kuchyňa (1. NP) | AG96: ='101 - Blok 01 – Kuchyňa ...'!J32 -> 0 | AN96: =SUM(AG96,AT96) -> 0 | AQ96: Časť | AS96: 0 | AT96: =ROUND(SUM(AV96:AW96),2) -> 0 | AU96: ='101 - Blok 01 – Kuchyňa ...'!P143 -> 0 | AV96: ='101 - Blok 01 – Kuchyňa ...'!J35 -> 0 | AW96: ='101 - Blok 01 – Kuchyňa ...'!J36 -> 0 | AX96: ='101 - Blok 01 – Kuchyňa ...'!J37 -> 0 | AY96: ='101 - Blok 01 – Kuchyňa ...'!J38 -> 0 | AZ96: ='101 - Blok 01 – Kuchyňa ...'!F35 -> 0 | BA96: ='101 - Blok 01 – Kuchyňa ...'!F36 -> 0 | BB96: ='101 - Blok 01 – Kuchyňa ...'!F37 -> 0 | BC96: ='101 - Blok 01 – Kuchyňa ...'!F38 -> 0 | BD96: ='101 - Blok 01 – Kuchyňa ...'!F39 -> 0 | BT96: 2 | BV96: IMPORT | BW96: {c22cb877-b72c-4a7e-b30e-6e239e92c78e} | BX96: {bac1c709-0bed-4b6e-91e2-fec77a0ba26d}
A97: / | E97: 102 | K97: Blok 02 – Jedáleň a výdajňa jedál (2. NP) | AG97: ='102 - Blok 02 – Jedáleň a...'!J32 -> 0 | AN97: =SUM(AG97,AT97) -> 0 | AQ97: Časť | AS97: 0 | AT97: =ROUND(SUM(AV97:AW97),2) -> 0 | AU97: ='102 - Blok 02 – Jedáleň a...'!P133 -> 0 | AV97: ='102 - Blok 02 – Jedáleň a...'!J35 -> 0 | AW97: ='102 - Blok 02 – Jedáleň a...'!J36 -> 0 | AX97: ='102 - Blok 02 – Jedáleň a...'!J37 -> 0 | AY97: ='102 - Blok 02 – Jedáleň a...'!J38 -> 0 | AZ97: ='102 - Blok 02 – Jedáleň a...'!F35 -> 0 | BA97: ='102 - Blok 02 – Jedáleň a...'!F36 -> 0 | BB97: ='102 - Blok 02 – Jedáleň a...'!F37 -> 0 | BC97: ='102 - Blok 02 – Jedáleň a...'!F38 -> 0 | BD97: ='102 - Blok 02 – Jedáleň a...'!F39 -> 0 | BT97: 2 | BV97: IMPORT | BW97: {ee2d2fca-6ff5-44cb-b879-f2066e21deb0} | BX97: {bac1c709-0bed-4b6e-91e2-fec77a0ba26d}
A98: / | D98: 200 | J98: Kuchynský stolový výťah | AG98: ='200 - Kuchynský stolový v...'!J30 -> 0 | AN98: =SUM(AG98,AT98) -> 0 | AQ98: STA | AS98: 0 | AT98: =ROUND(SUM(AV98:AW98),2) -> 0 | AU98: ='200 - Kuchynský stolový v...'!P135 -> 0 | AV98: ='200 - Kuchynský stolový v...'!J33 -> 0 | AW98: ='200 - Kuchynský stolový v...'!J34 -> 0 | AX98: ='200 - Kuchynský stolový v...'!J35 -> 0 | AY98: ='200 - Kuchynský stolový v...'!J36 -> 0 | AZ98: ='200 - Kuchynský stolový v...'!F33 -> 0 | BA98: ='200 - Kuchynský stolový v...'!F34 -> 0 | BB98: ='200 - Kuchynský stolový v...'!F35 -> 0 | BC98: ='200 - Kuchynský stolový v...'!F36 -> 0 | BD98: ='200 - Kuchynský stolový v...'!F37 -> 0 | BT98: 1 | BV98: IMPORT | BW98: {0e24ebf2-46e8-4541-b4f2-ddb409b8bc6a} | BX98: {09752911-efd2-44d3-9ba7-3ed229ee76b5} | CM98: 0
A99: / | D99: 300 | J99: Silnoprúdová elektroinštalácia | AG99: ='300 - Silnoprúdová elektr...'!J30 -> 0 | AN99: =SUM(AG99,AT99) -> 0 | AQ99: STA | AS99: 0 | AT99: =ROUND(SUM(AV99:AW99),2) -> 0 | AU99: ='300 - Silnoprúdová elektr...'!P119 -> 0 | AV99: ='300 - Silnoprúdová elektr...'!J33 -> 0 | AW99: ='300 - Silnoprúdová elektr...'!J34 -> 0 | AX99: ='300 - Silnoprúdová elektr...'!J35 -> 0 | AY99: ='300 - Silnoprúdová elektr...'!J36 -> 0 | AZ99: ='300 - Silnoprúdová elektr...'!F33 -> 0 | BA99: ='300 - Silnoprúdová elektr...'!F34 -> 0 | BB99: ='300 - Silnoprúdová elektr...'!F35 -> 0 | BC99: ='300 - Silnoprúdová elektr...'!F36 -> 0 | BD99: ='300 - Silnoprúdová elektr...'!F37 -> 0 | BT99: 1 | BV99: IMPORT | BW99: {249dad72-b595-416b-8143-07ed50245f24} | BX99: {09752911-efd2-44d3-9ba7-3ed229ee76b5} | CM99: 0
D100: 400 | J100: Vzduchotechnika a vetranie | AG100: =ROUND(SUM(AG101:AG102),2) -> 0 | AN100: =SUM(AG100,AT100) -> 0 | AQ100: STA | AS100: =ROUND(SUM(AS101:AS102),2) -> 0 | AT100: =ROUND(SUM(AV100:AW100),2) -> 0 | AU100: =ROUND(SUM(AU101:AU102),5) -> 0 | AV100: =ROUND(AZ100*L29,2) -> 0 | AW100: =ROUND(BA100*L30,2) -> 0 | AX100: =ROUND(BB100*L29,2) -> 0 | AY100: =ROUND(BC100*L30,2) -> 0 | AZ100: =ROUND(SUM(AZ101:AZ102),2) -> 0 | BA100: =ROUND(SUM(BA101:BA102),2) -> 0 | BB100: =ROUND(SUM(BB101:BB102),2) -> 0 | BC100: =ROUND(SUM(BC101:BC102),2) -> 0 | BD100: =ROUND(SUM(BD101:BD102),2) -> 0 | BS100: D | BT100: 1 | BU100: ###NOIMPORT### | BV100: IMPORT | BW100: {c878903b-90e3-44ad-b886-cc69df70ab71} | BX100: {09752911-efd2-44d3-9ba7-3ed229ee76b5} | CM100: 0
A101: / | E101: 401 | K101: Blok 01 – Kuchyňa (1. NP) | AG101: ='401 - Blok 01 – Kuchyňa ...'!J32 -> 0 | AN101: =SUM(AG101,AT101) -> 0 | AQ101: Časť | AS101: 0 | AT101: =ROUND(SUM(AV101:AW101),2) -> 0 | AU101: ='401 - Blok 01 – Kuchyňa ...'!P124 -> 0 | AV101: ='401 - Blok 01 – Kuchyňa ...'!J35 -> 0 | AW101: ='401 - Blok 01 – Kuchyňa ...'!J36 -> 0 | AX101: ='401 - Blok 01 – Kuchyňa ...'!J37 -> 0 | AY101: ='401 - Blok 01 – Kuchyňa ...'!J38 -> 0 | AZ101: ='401 - Blok 01 – Kuchyňa ...'!F35 -> 0 | BA101: ='401 - Blok 01 – Kuchyňa ...'!F36 -> 0 | BB101: ='401 - Blok 01 – Kuchyňa ...'!F37 -> 0 | BC101: ='401 - Blok 01 – Kuchyňa ...'!F38 -> 0 | BD101: ='401 - Blok 01 – Kuchyňa ...'!F39 -> 0 | BT101: 2 | BV101: IMPORT | BW101: {fd7394b2-19e0-4a6f-b79f-e26cd473510b} | BX101: {c878903b-90e3-44ad-b886-cc69df70ab71}
A102: / | E102: 402 | K102: Blok 02 – Jedáleň a výdajňa jedál (2.NP) | AG102: ='402 - Blok 02 – Jedáleň ...'!J32 -> 0 | AN102: =SUM(AG102,AT102) -> 0 | AQ102: Časť | AS102: 0 | AT102: =ROUND(SUM(AV102:AW102),2) -> 0 | AU102: ='402 - Blok 02 – Jedáleň ...'!P124 -> 0 | AV102: ='402 - Blok 02 – Jedáleň ...'!J35 -> 0 | AW102: ='402 - Blok 02 – Jedáleň ...'!J36 -> 0 | AX102: ='402 - Blok 02 – Jedáleň ...'!J37 -> 0 | AY102: ='402 - Blok 02 – Jedáleň ...'!J38 -> 0 | AZ102: ='402 - Blok 02 – Jedáleň ...'!F35 -> 0 | BA102: ='402 - Blok 02 – Jedáleň ...'!F36 -> 0 | BB102: ='402 - Blok 02 – Jedáleň ...'!F37 -> 0 | BC102: ='402 - Blok 02 – Jedáleň ...'!F38 -> 0 | BD102: ='402 - Blok 02 – Jedáleň ...'!F39 -> 0 | BT102: 2 | BV102: IMPORT | BW102: {ab0b6526-db9f-4804-85a1-f8afd86edf29} | BX102: {c878903b-90e3-44ad-b886-cc69df70ab71}
A103: / | D103: 500 | J103: Ústredné vykurovanie | AG103: ='500 - Ústredné vykurovanie'!J30 -> 0 | AN103: =SUM(AG103,AT103) -> 0 | AQ103: STA | AS103: 0 | AT103: =ROUND(SUM(AV103:AW103),2) -> 0 | AU103: ='500 - Ústredné vykurovanie'!P125 -> 0 | AV103: ='500 - Ústredné vykurovanie'!J33 -> 0 | AW103: ='500 - Ústredné vykurovanie'!J34 -> 0 | AX103: ='500 - Ústredné vykurovanie'!J35 -> 0 | AY103: ='500 - Ústredné vykurovanie'!J36 -> 0 | AZ103: ='500 - Ústredné vykurovanie'!F33 -> 0 | BA103: ='500 - Ústredné vykurovanie'!F34 -> 0 | BB103: ='500 - Ústredné vykurovanie'!F35 -> 0 | BC103: ='500 - Ústredné vykurovanie'!F36 -> 0 | BD103: ='500 - Ústredné vykurovanie'!F37 -> 0 | BT103: 1 | BV103: IMPORT | BW103: {13ff8b7b-ce21-4fd9-900d-dc4dbdd28fe4} | BX103: {09752911-efd2-44d3-9ba7-3ed229ee76b5} | CM103: 0

Sheet 101 - Blok 01 – Kuchyňa  ...
L2: >> skryté stĺpce << | AT2: {c22cb877-b72c-4a7e-b30e-6e239e92c78e}
AT3: 0
D4: KRYCÍ LIST ROZPOČTU | M4: v --- nižšie sa nachádzajú doplnkové a pomocné údaje k zostavám --- v | AT4: False
D6: Stavba:
E7: ='Rekapitulácia stavby'!K6 -> ZŠ Škultétyho-Oprava havarijného stavu kuchyne - 2.časť
D8: Objekt:
E9: 100 - Architektúra, stavebná časť a statika
D10: Časť:
E11: 101 - Blok 01 – Kuchyňa (1. NP)
D13: JKSO: | I13: KS:
D14: Miesto: | F14: Škultétyho 1, Nitra | I14: Dátum: | J14: ='Rekapitulácia stavby'!AN8 -> 6. 9. 2021
D16: Objednávateľ: | I16: IČO:
E17: Mesto Nitra | I17: IČ DPH:
D19: Zhotoviteľ: | I19: IČO: | J19: ='Rekapitulácia stavby'!AN13 -> Vyplň údaj
E20: ='Rekapitulácia stavby'!E14 -> Vyplň údaj | I20: IČ DPH: | J20: ='Rekapitulácia stavby'!AN14 -> Vyplň údaj
D22: Projektant: | I22: IČO:
E23: Ing.arch.Igor Feník | I23: IČ DPH:
D25: Spracovateľ: | I25: IČO:
E26: Ing.Igor Janečka | I26: IČ DPH:
D28: Poznámka:
D32: Cena bez DPH | J32: =ROUND(J143, 2) -> 0
F34: Základ dane | I34: Sadzba dane | J34: Výška dane
D35: DPH | E35: základná | F35: =ROUND((SUM(BE143:BE288)), 2) -> 0 | I35: 0.2 | J35: =ROUND(((SUM(BE143:BE288))*I35), 2) -> 0
E36: znížená | F36: =ROUND((SUM(BF143:BF288)), 2) -> 0 | I36: 0.2 | J36: =ROUND(((SUM(BF143:BF288))*I36), 2) -> 0
E37: zákl. prenesená | F37: =ROUND((SUM(BG143:BG288)), 2) -> 0 | I37: 0.2 | J37: =0 -> 0
E38: zníž. prenesená | F38: =ROUND((SUM(BH143:BH288)), 2) -> 0 | I38: 0.2 | J38: =0 -> 0
E39: nulová | F39: =ROUND((SUM(BI143:BI288)), 2) -> 0 | I39: 0 | J39: =0 -> 0
D41: Cena s DPH | G41: v | H41: EUR | J41: =SUM(J32:J39) -> 0
D50: Projektant | G50: Spracovateľ
D61: Dátum a podpis: | F61: Pečiatka | G61: Dátum a podpis: | J61: Pečiatka
D65: Objednávateľ | G65: Zhotoviteľ
D76: Dátum a podpis: | F76: Pečiatka | G76: Dátum a podpis: | J76: Pečiatka
C82: REKAPITULÁCIA ROZPOČTU
C84: Stavba:
E85: =E7 -> ZŠ Škultétyho-Oprava havarijného stavu kuchyne - 2.časť
C86: Objekt:
E87: 100 - Architektúra, stavebná časť a statika
C88: Časť:
E89: =E11 -> 101 - Blok 01 – Kuchyňa (1. NP)
C91: Miesto: | F91: =F14 -> Škultétyho 1, Nitra | I91: Dátum: | J91: =IF(J14="","",J14) -> 6. 9. 2021
C93: Objednávateľ: | F93: =E17 -> Mesto Nitra | I93: Projektant: | J93: =E23 -> Ing.arch.Igor Feník
C94: Zhotoviteľ: | F94: =IF(E20="","",E20) -> Vyplň údaj | I94: Spracovateľ: | J94: =E26 -> Ing.Igor Janečka
C96: Kód dielu - Popis | J96: Cena celkom [EUR]
C98: Náklady z rozpočtu | J98: =J143 -> 0 | AU98: -1
D99: HSV - Práce a dodávky HSV | J99: =J144 -> 0
D100: 1 - Zemné práce | J100: =J145 -> 0
D101: 3 - Zvislé a kompletné konštrukcie | J101: =J154 -> 0
D102: 4 - Vodorovné konštrukcie | J102: =J156 -> 0
D103: 6 - Úpravy povrchov, podlahy, osadenie | J103: =J158 -> 0
D104: 9 - Ostatné konštrukcie a práce-búranie | J104: =J183 -> 0
D105: 99 - Presun hmôt HSV | J105: =J208 -> 0
D106: PSV - Práce a dodávky PSV | J106: =J210 -> 0
D107: 711 - Izolácie proti vode a vlhkosti | J107: =J211 -> 0
D108: 712 - Izolácie striech, povlakové krytiny | J108: =J217 -> 0
D109: 713 - Izolácie tepelné | J109: =J219 -> 0
D110: 721 - Zdravotechnika - vnútorná kanalizácia | J110: =J225 -> 0
D111: 763 - Konštrukcie - drevostavby | J111: =J231 -> 0
D112: 764 - Konštrukcie klampiarske | J112: =J235 -> 0
D113: 766 - Konštrukcie stolárske | J113: =J242 -> 0
D114: 767 - Konštrukcie doplnkové kovové | J114: =J260 -> 0
D115: 771 - Podlahy z dlaždíc | J115: =J264 -> 0
D116: 777 - Podlahy syntetické | J116: =J270 -> 0
D117: 783 - Nátery | J117: =J273 -> 0
D118: 784 - Maľby | J118: =J278 -> 0
D119: HZS - Hodinové zúčtovacie sadzby | J119: =J284 -> 0
D120: VRN - Vedľajšie rozpočtové náklady | J120: =J286 -> 0
D121: VRN06 - Zariadenie staveniska | J121: =J287 -> 0
C128: ROZPOČET
C130: Stavba:
E131: =E7 -> ZŠ Škultétyho-Oprava havarijného stavu kuchyne - 2.časť
C132: Objekt:
E133: 100 - Architektúra, stavebná časť a statika
C134: Časť:
E135: =E11 -> 101 - Blok 01 – Kuchyňa (1. NP)
C137: Miesto: | F137: =F14 -> Škultétyho 1, Nitra | I137: Dátum: | J137: =IF(J14="","",J14) -> 6. 9. 2021
C139: Objednávateľ: | F139: =E17 -> Mesto Nitra | I139: Projektant: | J139: =E23 -> Ing.arch.Igor Feník
C140: Zhotoviteľ: | F140: =IF(E20="","",E20) -> Vyplň údaj | I140: Spracovateľ: | J140: =E26 -> Ing.Igor Janečka
C142: PČ | D142: Typ | E142: Kód | F142: Popis | G142: MJ | H142: Množstvo | I142: J.cena [EUR] | J142: Cena celkom [EUR] | K142: Cenová sústava | N142: DPH | O142: J. Nh [h] | P142: Nh celkom [h] | Q142: J. hmotnosť [t] | R142: Hmotnosť celkom [t] | S142: J. suť [t] | T142: Suť Celkom [t]
C143: Náklady z rozpočtu | J143: =BK143 -> 0 | P143: =P144+P210+P284+P286 -> 0 | R143: =R144+R210+R284+R286 -> 44.094325 | T143: =T144+T210+T284+T286 -> 37.799352 | AT143: D | AU143: -1 | BK143: =BK144+BK210+BK284+BK286 -> 0
D144: D | E144: HSV | F144: Práce a dodávky HSV | J144: =BK144 -> 0 | P144: =P145+P154+P156+P158+P183+P208 -> 0 | R144: =R145+R154+R156+R158+R183+R208 -> 39.640016 | T144: =T145+T154+T156+T158+T183+T208 -> 36.43698 | AR144: 1 | AT144: D | AU144: 0 | AY144: ROZPOCET | BK144: =BK145+BK154+BK156+BK158+BK183+BK208 -> 0
D145: D | E145: 1 | F145: Zemné práce | J145: =BK145 -> 0 | P145: =SUM(P146:P153) -> 0 | R145: =SUM(R146:R153) -> 0 | T145: =SUM(T146:T153) -> 0 | AR145: 1 | AT145: D | AU145: 1 | AY145: ROZPOCET | BK145: =SUM(BK146:BK153) -> 0
C146: 1 | D146: K | E146: 132211101.S | F146: Hĺbenie rýh šírky do 600 mm v hornine tr.3 súdržných - ručným náradím | G146: m3 | H146: 1.888 | J146: =ROUND(I146*H146,3) -> 0 | N146: znížená | P146: =O146*H146 -> 0 | Q146: 0 | R146: =Q146*H146 -> 0 | S146: 0 | T146: =S146*H146 -> 0 | AR146: 4 | AT146: K | AU146: 2 | AY146: ROZPOCET | BE146: =IF(N146="základná",J146,0) -> 0 | BF146: =IF(N146="znížená",J146,0) -> 0 | BG146: =IF(N146="zákl. prenesená",J146,0) -> 0 | BH146: =IF(N146="zníž. prenesená",J146,0) -> 0 | BI146: =IF(N146="nulová",J146,0) -> 0 | BJ146: 2 | BK146: =ROUND(I146*H146,3) -> 0 | BL146: 4 | BM146: -2124233161
C147: 2 | D147: K | E147: 162201211.S | F147: Vodorovné premiestnenie výkopku horniny tr. 1 až 4 stavebným fúrikom do 10 m v rovine alebo vo svahu do 1:5 | G147: m3 | H147: 0.459 | J147: =ROUND(I147*H147,3) -> 0 | N147: znížená | P147: =O147*H147 -> 0 | Q147: 0 | R147: =Q147*H147 -> 0 | S147: 0 | T147: =S147*H147 -> 0 | AR147: 4 | AT147: K | AU147: 2 | AY147: ROZPOCET | BE147: =IF(N147="základná",J147,0) -> 0 | BF147: =IF(N147="znížená",J147,0) -> 0 | BG147: =IF(N147="zákl. prenesená",J147,0) -> 0 | BH147: =IF(N147="zníž. prenesená",J147,0) -> 0 | BI147: =IF(N147="nulová",J147,0) -> 0 | BJ147: 2 | BK147: =ROUND(I147*H147,3) -> 0 | BL147: 4 | BM147: -876278707
C148: 3 | D148: K | E148: 162201219.S | F148: Príplatok za k.ď. 10m v rovine alebo vo svahu do 1:5 k vodorov. premiestneniu výkopku stavebným fúrikom horn. tr.1 až 4 (2x) | G148: m3 | H148: 0.918 | J148: =ROUND(I148*H148,3) -> 0 | N148: znížená | P148: =O148*H148 -> 0 | Q148: 0 | R148: =Q148*H148 -> 0 | S148: 0 | T148: =S148*H148 -> 0 | AR148: 4 | AT148: K | AU148: 2 | AY148: ROZPOCET | BE148: =IF(N148="základná",J148,0) -> 0 | BF148: =IF(N148="znížená",J148,0) -> 0 | BG148: =IF(N148="zákl. prenesená",J148,0) -> 0 | BH148: =IF(N148="zníž. prenesená",J148,0) -> 0 | BI148: =IF(N148="nulová",J148,0) -> 0 | BJ148: 2 | BK148: =ROUND(I148*H148,3) -> 0 | BL148: 4 | BM148: -2086459106
C149: 4 | D149: K | E149: 162501102.S | F149: Vodorovné premiestnenie výkopku po spevnenej ceste z horniny tr.1-4, do 100 m3 na vzdialenosť do 3000 m | G149: m3 | H149: 0.459 | J149: =ROUND(I149*H149,3) -> 0 | N149: znížená | P149: =O149*H149 -> 0 | Q149: 0 | R149: =Q149*H149 -> 0 | S149: 0 | T149: =S149*H149 -> 0 | AR149: 4 | AT149: K | AU149: 2 | AY149: ROZPOCET | BE149: =IF(N149="základná",J149,0) -> 0 | BF149: =IF(N149="znížená",J149,0) -> 0 | BG149: =IF(N149="zákl. prenesená",J149,0) -> 0 | BH149: =IF(N149="zníž. prenesená",J149,0) -> 0 | BI149: =IF(N149="nulová",J149,0) -> 0 | BJ149: 2 | BK149: =ROUND(I149*H149,3) -> 0 | BL149: 4 | BM149: -1631206434
C150: 5 | D150: K | E150: 162501105.S | F150: Vodorovné premiestnenie výkopku po spevnenej ceste z horniny tr.1-4, do 100 m3, príplatok k cene za každých ďalšich a začatých 1000 m(2x) | G150: m3 | H150: 0.918 | J150: =ROUND(I150*H150,3) -> 0 | N150: znížená | P150: =O150*H150 -> 0 | Q150: 0 | R150: =Q150*H150 -> 0 | S150: 0 | T150: =S150*H150 -> 0 | AR150: 4 | AT150: K | AU150: 2 | AY150: ROZPOCET | BE150: =IF(N150="základná",J150,0) -> 0 | BF150: =IF(N150="znížená",J150,0) -> 0 | BG150: =IF(N150="zákl. prenesená",J150,0) -> 0 | BH150: =IF(N150="zníž. prenesená",J150,0) -> 0 | BI150: =IF(N150="nulová",J150,0) -> 0 | BJ150: 2 | BK150: =ROUND(I150*H150,3) -> 0 | BL150: 4 | BM150: -1558552179
C151: 6 | D151: K | E151: 167101100.S | F151: Nakladanie výkopku tr.1-4 ručne | G151: m3 | H151: 0.459 | J151: =ROUND(I151*H151,3) -> 0 | N151: znížená | P151: =O151*H151 -> 0 | Q151: 0 | R151: =Q151*H151 -> 0 | S151: 0 | T151: =S151*H151 -> 0 | AR151: 4 | AT151: K | AU151: 2 | AY151: ROZPOCET | BE151: =IF(N151="základná",J151,0) -> 0 | BF151: =IF(N151="znížená",J151,0) -> 0 | BG151: =IF(N151="zákl. prenesená",J151,0) -> 0 | BH151: =IF(N151="zníž. prenesená",J151,0) -> 0 | BI151: =IF(N151="nulová",J151,0) -> 0 | BJ151: 2 | BK151: =ROUND(I151*H151,3) -> 0 | BL151: 4 | BM151: -376377182
C152: 7 | D152: K | E152: 171209002.S | F152: Poplatok za skladovanie - zemina a kamenivo (17 05) ostatné | G152: t | H152: 0.757 | J152: =ROUND(I152*H152,3) -> 0 | N152: znížená | P152: =O152*H152 -> 0 | Q152: 0 | R152: =Q152*H152 -> 0 | S152: 0 | T152: =S152*H152 -> 0 | AR152: 4 | AT152: K | AU152: 2 | AY152: ROZPOCET | BE152: =IF(N152="základná",J152,0) -> 0 | BF152: =IF(N152="znížená",J152,0) -> 0 | BG152: =IF(N152="zákl. prenesená",J152,0) -> 0 | BH152: =IF(N152="zníž. prenesená",J152,0) -> 0 | BI152: =IF(N152="nulová",J152,0) -> 0 | BJ152: 2 | BK152: =ROUND(I152*H152,3) -> 0 | BL152: 4 | BM152: 1275941092
C153: 8 | D153: K | E153: 175101102.S | F153: Obsyp potrubia sypaninou z vhodných hornín 1 až 4 s prehodením sypaniny | G153: m3 | H153: 1.429 | J153: =ROUND(I153*H153,3) -> 0 | N153: znížená | P153: =O153*H153 -> 0 | Q153: 0 | R153: =Q153*H153 -> 0 | S153: 0 | T153: =S153*H153 -> 0 | AR153: 4 | AT153: K | AU153: 2 | AY153: ROZPOCET | BE153: =IF(N153="základná",J153,0) -> 0 | BF153: =IF(N153="znížená",J153,0) -> 0 | BG153: =IF(N153="zákl. prenesená",J153,0) -> 0 | BH153: =IF(N153="zníž. prenesená",J153,0) -> 0 | BI153: =IF(N153="nulová",J153,0) -> 0 | BJ153: 2 | BK153: =ROUND(I153*H153,3) -> 0 | BL153: 4 | BM153: -836681574
D154: D | E154: 3 | F154: Zvislé a kompletné konštrukcie | J154: =BK154 -> 0 | P154: =P155 -> 0 | R154: =R155 -> 0.28753725 | T154: =T155 -> 0 | AR154: 1 | AT154: D | AU154: 1 | AY154: ROZPOCET | BK154: =BK155 -> 0
C155: 10 | D155: K | E155: 340239226.S | F155: Zamurovanie otvorov plochy nad 1 do 4 m2 z tehál pálených dierovaných nebrúsených hrúbky 140 mm | G155: m2 | H155: 2.145 | J155: =ROUND(I155*H155,3) -> 0 | N155: znížená | P155: =O155*H155 -> 0 | Q155: 0.13405 | R155: =Q155*H155 -> 0.28753725 | S155: 0 | T155: =S155*H155 -> 0 | AR155: 4 | AT155: K | AU155: 2 | AY155: ROZPOCET | BE155: =IF(N155="základná",J155,0) -> 0 | BF155: =IF(N155="znížená",J155,0) -> 0 | BG155: =IF(N155="zákl. prenesená",J155,0) -> 0 | BH155: =IF(N155="zníž. prenesená",J155,0) -> 0 | BI155: =IF(N155="nulová",J155,0) -> 0 | BJ155: 2 | BK155: =ROUND(I155*H155,3) -> 0 | BL155: 4 | BM155: 687135019
D156: D | E156: 4 | F156: Vodorovné konštrukcie | J156: =BK156 -> 0 | P156: =P157 -> 0 | R156: =R157 -> 1.0701758 | T156: =T157 -> 0 | AR156: 1 | AT156: D | AU156: 1 | AY156: ROZPOCET | BK156: =BK157 -> 0
C157: 11 | D157: K | E157: 451572111.S | F157: Lôžko pod potrubie, stoky a drobné objekty, v otvorenom výkope z kameniva drobného ťaženého 0-4 mm | G157: m3 | H157: 0.566 | J157: =ROUND(I157*H157,3) -> 0 | N157: znížená | P157: =O157*H157 -> 0 | Q157: 1.89077 | R157: =Q157*H157 -> 1.0701758 | S157: 0 | T157: =S157*H157 -> 0 | AR157: 4 | AT157: K | AU157: 2 | AY157: ROZPOCET | BE157: =IF(N157="základná",J157,0) -> 0 | BF157: =IF(N157="znížená",J157,0) -> 0 | BG157: =IF(N157="zákl. prenesená",J157,0) -> 0 | BH157: =IF(N157="zníž. prenesená",J157,0) -> 0 | BI157: =IF(N157="nulová",J157,0) -> 0 | BJ157: 2 | BK157: =ROUND(I157*H157,3) -> 0 | BL157: 4 | BM157: 188981065
D158: D | E158: 6 | F158: Úpravy povrchov, podlahy, osadenie | J158: =BK158 -> 0 | P158: =SUM(P159:P182) -> 0 | R158: =SUM(R159:R182) -> 37.683795 | T158: =SUM(T159:T182) -> 0 | AR158: 1 | AT158: D | AU158: 1 | AY158: ROZPOCET | BK158: =SUM(BK159:BK182) -> 0
C159: 12 | D159: K | E159: 611460111.S | F159: Príprava vnútorného podkladu stropov na silno a nerovnomerne nasiakavé podklady regulátorom nasiakavosti | G159: m2 | H159: 43.272 | J159: =ROUND(I159*H159,3) -> 0 | N159: znížená | P159: =O159*H159 -> 0 | Q159: 0.00015 | R159: =Q159*H159 -> 0.0064908 | S159: 0 | T159: =S159*H159 -> 0 | AR159: 4 | AT159: K | AU159: 2 | AY159: ROZPOCET | BE159: =IF(N159="základná",J159,0) -> 0 | BF159: =IF(N159="znížená",J159,0) -> 0 | BG159: =IF(N159="zákl. prenesená",J159,0) -> 0 | BH159: =IF(N159="zníž. prenesená",J159,0) -> 0 | BI159: =IF(N159="nulová",J159,0) -> 0 | BJ159: 2 | BK159: =ROUND(I159*H159,3) -> 0 | BL159: 4 | BM159: -965144003
C160: 13 | D160: K | E160: 611460372.S | F160: Vnútorná omietka stropov vápennocementová tenkovrstvová, hr. 6 mm | G160: m2 | H160: 43.272 | J160: =ROUND(I160*H160,3) -> 0 | N160: znížená | P160: =O160*H160 -> 0 | Q160: 0.00935 | R160: =Q160*H160 -> 0.4045932 | S160: 0 | T160: =S160*H160 -> 0 | AR160: 4 | AT160: K | AU160: 2 | AY160: ROZPOCET | BE160: =IF(N160="základná",J160,0) -> 0 | BF160: =IF(N160="znížená",J160,0) -> 0 | BG160: =IF(N160="zákl. prenesená",J160,0) -> 0 | BH160: =IF(N160="zníž. prenesená",J160,0) -> 0 | BI160: =IF(N160="nulová",J160,0) -> 0 | BJ160: 2 | BK160: =ROUND(I160*H160,3) -> 0 | BL160: 4 | BM160: 556362971
C161: 14 | D161: K | E161: 611421331.S | F161: Oprava vnútorných vápenných omietok stropov železobetónových rovných tvárnicových a klenieb, opravovaná plocha nad 10 do 30 % štukových | G161: m2 | H161: 43.272 | J161: =ROUND(I161*H161,3) -> 0 | N161: znížená | P161: =O161*H161 -> 0 | Q161: 0.01261 | R161: =Q161*H161 -> 0.54565992 | S161: 0 | T161: =S161*H161 -> 0 | AR161: 4 | AT161: K | AU161: 2 | AY161: ROZPOCET | BE161: =IF(N161="základná",J161,0) -> 0 | BF161: =IF(N161="znížená",J161,0) -> 0 | BG161: =IF(N161="zákl. prenesená",J161,0) -> 0 | BH161: =IF(N161="zníž. prenesená",J161,0) -> 0 | BI161: =IF(N161="nulová",J161,0) -> 0 | BJ161: 2 | BK161: =ROUND(I161*H161,3) -> 0 | BL161: 4 | BM161: 1015524670
C162: 15 | D162: K | E162: 612421331.S | F162: Oprava vnútorných vápenných omietok stien, v množstve opravenej plochy nad 10 do 30 % štukových | G162: m2 | H162: 137.033 | J162: =ROUND(I162*H162,3) -> 0 | N162: znížená | P162: =O162*H162 -> 0 | Q162: 0.01119 | R162: =Q162*H162 -> 1.5333993 | S162: 0 | T162: =S162*H162 -> 0 | AR162: 4 | AT162: K | AU162: 2 | AY162: ROZPOCET | BE162: =IF(N162="základná",J162,0) -> 0 | BF162: =IF(N162="znížená",J162,0) -> 0 | BG162: =IF(N162="zákl. prenesená",J162,0) -> 0 | BH162: =IF(N162="zníž. prenesená",J162,0) -> 0 | BI162: =IF(N162="nulová",J162,0) -> 0 | BJ162: 2 | BK162: =ROUND(I162*H162,3) -> 0 | BL162: 4 | BM162: 1593950853
C163: 16 | D163: K | E163: 612460111.S | F163: Príprava vnútorného podkladu stien na silno a nerovnomerne nasiakavé podklady regulátorom nasiakavosti | G163: m2 | H163: 141.323 | J163: =ROUND(I163*H163,3) -> 0 | N163: znížená | P163: =O163*H163 -> 0 | Q163: 0.00015 | R163: =Q163*H163 -> 0.02119845 | S163: 0 | T163: =S163*H163 -> 0 | AR163: 4 | AT163: K | AU163: 2 | AY163: ROZPOCET | BE163: =IF(N163="základná",J163,0) -> 0 | BF163: =IF(N163="znížená",J163,0) -> 0 | BG163: =IF(N163="zákl. prenesená",J163,0) -> 0 | BH163: =IF(N163="zníž. prenesená",J163,0) -> 0 | BI163: =IF(N163="nulová",J163,0) -> 0 | BJ163: 2 | BK163: =ROUND(I163*H163,3) -> 0 | BL163: 4 | BM163: -1606500510
C164: 17 | D164: K | E164: 612460151.S | F164: Príprava vnútorného podkladu stien cementovým prednástrekom, hr. 3 mm | G164: m2 | H164: 4.29 | J164: =ROUND(I164*H164,3) -> 0 | N164: znížená | P164: =O164*H164 -> 0 | Q164: 0.00493 | R164: =Q164*H164 -> 0.0211497 | S164: 0 | T164: =S164*H164 -> 0 | AR164: 4 | AT164: K | AU164: 2 | AY164: ROZPOCET | BE164: =IF(N164="základná",J164,0) -> 0 | BF164: =IF(N164="znížená",J164,0) -> 0 | BG164: =IF(N164="zákl. prenesená",J164,0) -> 0 | BH164: =IF(N164="zníž. prenesená",J164,0) -> 0 | BI164: =IF(N164="nulová",J164,0) -> 0 | BJ164: 2 | BK164: =ROUND(I164*H164,3) -> 0 | BL164: 4 | BM164: 1677831587
...

Sheet 102 - Blok 02 – Jedáleň a...
L2: >> skryté stĺpce << | AT2: {ee2d2fca-6ff5-44cb-b879-f2066e21deb0}
AT3: 0
D4: KRYCÍ LIST ROZPOČTU | M4: v --- nižšie sa nachádzajú doplnkové a pomocné údaje k zostavám --- v | AT4: False
D6: Stavba:
E7: ='Rekapitulácia stavby'!K6 -> ZŠ Škultétyho-Oprava havarijného stavu kuchyne - 2.časť
D8: Objekt:
E9: 100 - Architektúra, stavebná časť a statika
D10: Časť:
E11: 102 - Blok 02 – Jedáleň a výdajňa jedál (2. NP)
D13: JKSO: | I13: KS:
D14: Miesto: | F14: Škultétyho 1, Nitra | I14: Dátum: | J14: ='Rekapitulácia stavby'!AN8 -> 6. 9. 2021
D16: Objednávateľ: | I16: IČO:
E17: Mesto Nitra | I17: IČ DPH:
D19: Zhotoviteľ: | I19: IČO: | J19: ='Rekapitulácia stavby'!AN13 -> Vyplň údaj
E20: ='Rekapitulácia stavby'!E14 -> Vyplň údaj | I20: IČ DPH: | J20: ='Rekapitulácia stavby'!AN14 -> Vyplň údaj
D22: Projektant: | I22: IČO:
E23: Ing.arch.Igor Feník | I23: IČ DPH:
D25: Spracovateľ: | I25: IČO:
E26: Ing.Igor Janečka | I26: IČ DPH:
D28: Poznámka:
D32: Cena bez DPH | J32: =ROUND(J133, 2) -> 0
F34: Základ dane | I34: Sadzba dane | J34: Výška dane
D35: DPH | E35: základná | F35: =ROUND((SUM(BE133:BE173)), 2) -> 0 | I35: 0.2 | J35: =ROUND(((SUM(BE133:BE173))*I35), 2) -> 0
E36: znížená | F36: =ROUND((SUM(BF133:BF173)), 2) -> 0 | I36: 0.2 | J36: =ROUND(((SUM(BF133:BF173))*I36), 2) -> 0
E37: zákl. prenesená | F37: =ROUND((SUM(BG133:BG173)), 2) -> 0 | I37: 0.2 | J37: =0 -> 0
E38: zníž. prenesená | F38: =ROUND((SUM(BH133:BH173)), 2) -> 0 | I38: 0.2 | J38: =0 -> 0
E39: nulová | F39: =ROUND((SUM(BI133:BI173)), 2) -> 0 | I39: 0 | J39: =0 -> 0
D41: Cena s DPH | G41: v | H41: EUR | J41: =SUM(J32:J39) -> 0
D50: Projektant | G50: Spracovateľ
D61: Dátum a podpis: | F61: Pečiatka | G61: Dátum a podpis: | J61: Pečiatka
D65: Objednávateľ | G65: Zhotoviteľ
D76: Dátum a podpis: | F76: Pečiatka | G76: Dátum a podpis: | J76: Pečiatka
C82: REKAPITULÁCIA ROZPOČTU
C84: Stavba:
E85: =E7 -> ZŠ Škultétyho-Oprava havarijného stavu kuchyne - 2.časť
C86: Objekt:
E87: 100 - Architektúra, stavebná časť a statika
C88: Časť:
E89: =E11 -> 102 - Blok 02 – Jedáleň a výdajňa jedál (2. NP)
C91: Miesto: | F91: =F14 -> Škultétyho 1, Nitra | I91: Dátum: | J91: =IF(J14="","",J14) -> 6. 9. 2021
C93: Objednávateľ: | F93: =E17 -> Mesto Nitra | I93: Projektant: | J93: =E23 -> Ing.arch.Igor Feník
C94: Zhotoviteľ: | F94: =IF(E20="","",E20) -> Vyplň údaj | I94: Spracovateľ: | J94: =E26 -> Ing.Igor Janečka
C96: Kód dielu - Popis | J96: Cena celkom [EUR]
C98: Náklady z rozpočtu | J98: =J133 -> 0 | AU98: -1
D99: HSV - Práce a dodávky HSV | J99: =J134 -> 0
D100: 3 - Zvislé a kompletné konštrukcie | J100: =J135 -> 0
D101: 6 - Úpravy povrchov, podlahy, osadenie | J101: =J138 -> 0
D102: 9 - Ostatné konštrukcie a práce-búranie | J102: =J143 -> 0
D103: 99 - Presun hmôt HSV | J103: =J153 -> 0
D104: PSV - Práce a dodávky PSV | J104: =J155 -> 0
D105: 763 - Konštrukcie - drevostavby | J105: =J156 -> 0
D106: 767 - Konštrukcie doplnkové kovové | J106: =J159 -> 0
D107: 783 - Nátery | J107: =J162 -> 0
D108: 784 - Maľby | J108: =J164 -> 0
D109: HZS - Hodinové zúčtovacie sadzby | J109: =J169 -> 0
D110: VRN - Vedľajšie rozpočtové náklady | J110: =J171 -> 0
D111: VRN06 - Zariadenie staveniska | J111: =J172 -> 0
C118: ROZPOČET
C120: Stavba:
E121: =E7 -> ZŠ Škultétyho-Oprava havarijného stavu kuchyne - 2.časť
C122: Objekt:
E123: 100 - Architektúra, stavebná časť a statika
C124: Časť:
E125: =E11 -> 102 - Blok 02 – Jedáleň a výdajňa jedál (2. NP)
C127: Miesto: | F127: =F14 -> Škultétyho 1, Nitra | I127: Dátum: | J127: =IF(J14="","",J14) -> 6. 9. 2021
C129: Objednávateľ: | F129: =E17 -> Mesto Nitra | I129: Projektant: | J129: =E23 -> Ing.arch.Igor Feník
C130: Zhotoviteľ: | F130: =IF(E20="","",E20) -> Vyplň údaj | I130: Spracovateľ: | J130: =E26 -> Ing.Igor Janečka
C132: PČ | D132: Typ | E132: Kód | F132: Popis | G132: MJ | H132: Množstvo | I132: J.cena [EUR] | J132: Cena celkom [EUR] | K132: Cenová sústava | N132: DPH | O132: J. Nh [h] | P132: Nh celkom [h] | Q132: J. hmotnosť [t] | R132: Hmotnosť celkom [t] | S132: J. suť [t] | T132: Suť Celkom [t]
C133: Náklady z rozpočtu | J133: =BK133 -> 0 | P133: =P134+P155+P169+P171 -> 0 | R133: =R134+R155+R169+R171 -> 3.3998657 | T133: =T134+T155+T169+T171 -> 1.952758 | AT133: D | AU133: -1 | BK133: =BK134+BK155+BK169+BK171 -> 0
D134: D | E134: HSV | F134: Práce a dodávky HSV | J134: =BK134 -> 0 | P134: =P135+P138+P143+P153 -> 0 | R134: =R135+R138+R143+R153 -> 2.1213151 | T134: =T135+T138+T143+T153 -> 1.753612 | AR134: 1 | AT134: D | AU134: 0 | AY134: ROZPOCET | BK134: =BK135+BK138+BK143+BK153 -> 0
D135: D | E135: 3 | F135: Zvislé a kompletné konštrukcie | J135: =BK135 -> 0 | P135: =SUM(P136:P137) -> 0 | R135: =SUM(R136:R137) -> 1.3294176 | T135: =SUM(T136:T137) -> 0 | AR135: 1 | AT135: D | AU135: 1 | AY135: ROZPOCET | BK135: =SUM(BK136:BK137) -> 0
C136: 1 | D136: K | E136: 340238222.S | F136: Zamurovanie otvorov plochy od 0,25 do 1 m2 z tehál pálených dierovaných nebrúsených hrúbky 115 mm | G136: m2 | H136: 5 | J136: =ROUND(I136*H136,3) -> 0 | N136: znížená | P136: =O136*H136 -> 0 | Q136: 0.09787 | R136: =Q136*H136 -> 0.48935 | S136: 0 | T136: =S136*H136 -> 0 | AR136: 4 | AT136: K | AU136: 2 | AY136: ROZPOCET | BE136: =IF(N136="základná",J136,0) -> 0 | BF136: =IF(N136="znížená",J136,0) -> 0 | BG136: =IF(N136="zákl. prenesená",J136,0) -> 0 | BH136: =IF(N136="zníž. prenesená",J136,0) -> 0 | BI136: =IF(N136="nulová",J136,0) -> 0 | BJ136: 2 | BK136: =ROUND(I136*H136,3) -> 0 | BL136: 4 | BM136: 1551598819
C137: 2 | D137: K | E137: 342240041.S | F137: Priečky z tehál pálených dierovaných nebrúsených na pero a drážku hrúbky 115 mm, na klasickú maltu | G137: m2 | H137: 8.566 | J137: =ROUND(I137*H137,3) -> 0 | N137: znížená | P137: =O137*H137 -> 0 | Q137: 0.09807 | R137: =Q137*H137 -> 0.84006762 | S137: 0 | T137: =S137*H137 -> 0 | AR137: 4 | AT137: K | AU137: 2 | AY137: ROZPOCET | BE137: =IF(N137="základná",J137,0) -> 0 | BF137: =IF(N137="znížená",J137,0) -> 0 | BG137: =IF(N137="zákl. prenesená",J137,0) -> 0 | BH137: =IF(N137="zníž. prenesená",J137,0) -> 0 | BI137: =IF(N137="nulová",J137,0) -> 0 | BJ137: 2 | BK137: =ROUND(I137*H137,3) -> 0 | BL137: 4 | BM137: 1342773146
D138: D | E138: 6 | F138: Úpravy povrchov, podlahy, osadenie | J138: =BK138 -> 0 | P138: =SUM(P139:P142) -> 0 | R138: =SUM(R139:R142) -> 0.58893388 | T138: =SUM(T139:T142) -> 0 | AR138: 1 | AT138: D | AU138: 1 | AY138: ROZPOCET | BK138: =SUM(BK139:BK142) -> 0
C139: 3 | D139: K | E139: 611460111.S | F139: Príprava vnútorného podkladu stropov na silno a nerovnomerne nasiakavé podklady regulátorom nasiakavosti | G139: m2 | H139: 32.462 | J139: =ROUND(I139*H139,3) -> 0 | N139: znížená | P139: =O139*H139 -> 0 | Q139: 0.00015 | R139: =Q139*H139 -> 0.0048693 | S139: 0 | T139: =S139*H139 -> 0 | AR139: 4 | AT139: K | AU139: 2 | AY139: ROZPOCET | BE139: =IF(N139="základná",J139,0) -> 0 | BF139: =IF(N139="znížená",J139,0) -> 0 | BG139: =IF(N139="zákl. prenesená",J139,0) -> 0 | BH139: =IF(N139="zníž. prenesená",J139,0) -> 0 | BI139: =IF(N139="nulová",J139,0) -> 0 | BJ139: 2 | BK139: =ROUND(I139*H139,3) -> 0 | BL139: 4 | BM139: -687398089
C140: 4 | D140: K | E140: 611460372.S | F140: Vnútorná omietka stropov vápennocementová tenkovrstvová, hr. 6 mm | G140: m2 | H140: 32.462 | J140: =ROUND(I140*H140,3) -> 0 | N140: znížená | P140: =O140*H140 -> 0 | Q140: 0.00935 | R140: =Q140*H140 -> 0.3035197 | S140: 0 | T140: =S140*H140 -> 0 | AR140: 4 | AT140: K | AU140: 2 | AY140: ROZPOCET | BE140: =IF(N140="základná",J140,0) -> 0 | BF140: =IF(N140="znížená",J140,0) -> 0 | BG140: =IF(N140="zákl. prenesená",J140,0) -> 0 | BH140: =IF(N140="zníž. prenesená",J140,0) -> 0 | BI140: =IF(N140="nulová",J140,0) -> 0 | BJ140: 2 | BK140: =ROUND(I140*H140,3) -> 0 | BL140: 4 | BM140: 544061563
C141: 5 | D141: K | E141: 612460151.S | F141: Príprava vnútorného podkladu stien cementovým prednástrekom, hr. 3 mm | G141: m2 | H141: 13.566 | J141: =ROUND(I141*H141,3) -> 0 | N141: znížená | P141: =O141*H141 -> 0 | Q141: 0.00493 | R141: =Q141*H141 -> 0.06688038 | S141: 0 | T141: =S141*H141 -> 0 | AR141: 4 | AT141: K | AU141: 2 | AY141: ROZPOCET | BE141: =IF(N141="základná",J141,0) -> 0 | BF141: =IF(N141="znížená",J141,0) -> 0 | BG141: =IF(N141="zákl. prenesená",J141,0) -> 0 | BH141: =IF(N141="zníž. prenesená",J141,0) -> 0 | BI141: =IF(N141="nulová",J141,0) -> 0 | BJ141: 2 | BK141: =ROUND(I141*H141,3) -> 0 | BL141: 4 | BM141: -409902906
C142: 6 | D142: K | E142: 612460241.S | F142: Vnútorná omietka stien vápennocementová jadrová (hrubá), hr. 10 mm | G142: m2 | H142: 13.566 | J142: =ROUND(I142*H142,3) -> 0 | N142: znížená | P142: =O142*H142 -> 0 | Q142: 0.01575 | R142: =Q142*H142 -> 0.2136645 | S142: 0 | T142: =S142*H142 -> 0 | AR142: 4 | AT142: K | AU142: 2 | AY142: ROZPOCET | BE142: =IF(N142="základná",J142,0) -> 0 | BF142: =IF(N142="znížená",J142,0) -> 0 | BG142: =IF(N142="zákl. prenesená",J142,0) -> 0 | BH142: =IF(N142="zníž. prenesená",J142,0) -> 0 | BI142: =IF(N142="nulová",J142,0) -> 0 | BJ142: 2 | BK142: =ROUND(I142*H142,3) -> 0 | BL142: 4 | BM142: 933949065
D143: D | E143: 9 | F143: Ostatné konštrukcie a práce-búranie | J143: =BK143 -> 0 | P143: =SUM(P144:P152) -> 0 | R143: =SUM(R144:R152) -> 0.20296364 | T143: =SUM(T144:T152) -> 1.753612 | AR143: 1 | AT143: D | AU143: 1 | AY143: ROZPOCET | BK143: =SUM(BK144:BK152) -> 0
C144: 7 | D144: K | E144: 941955001.S | F144: Lešenie ľahké pracovné pomocné, s výškou lešeňovej podlahy do 1,20 m | G144: m2 | H144: 128.458 | J144: =ROUND(I144*H144,3) -> 0 | N144: znížená | P144: =O144*H144 -> 0 | Q144: 0.00153 | R144: =Q144*H144 -> 0.19654074 | S144: 0 | T144: =S144*H144 -> 0 | AR144: 4 | AT144: K | AU144: 2 | AY144: ROZPOCET | BE144: =IF(N144="základná",J144,0) -> 0 | BF144: =IF(N144="znížená",J144,0) -> 0 | BG144: =IF(N144="zákl. prenesená",J144,0) -> 0 | BH144: =IF(N144="zníž. prenesená",J144,0) -> 0 | BI144: =IF(N144="nulová",J144,0) -> 0 | BJ144: 2 | BK144: =ROUND(I144*H144,3) -> 0 | BL144: 4 | BM144: 437325505
C145: 8 | D145: K | E145: 952901111.S | F145: Vyčistenie budov pri výške podlaží do 4 m | G145: m2 | H145: 128.458 | J145: =ROUND(I145*H145,3) -> 0 | N145: znížená | P145: =O145*H145 -> 0 | Q145: 5e-05 | R145: =Q145*H145 -> 0.0064229 | S145: 0 | T145: =S145*H145 -> 0 | AR145: 4 | AT145: K | AU145: 2 | AY145: ROZPOCET | BE145: =IF(N145="základná",J145,0) -> 0 | BF145: =IF(N145="znížená",J145,0) -> 0 | BG145: =IF(N145="zákl. prenesená",J145,0) -> 0 | BH145: =IF(N145="zníž. prenesená",J145,0) -> 0 | BI145: =IF(N145="nulová",J145,0) -> 0 | BJ145: 2 | BK145: =ROUND(I145*H145,3) -> 0 | BL145: 4 | BM145: -127508685
C146: 9 | D146: K | E146: 962031132.S | F146: Búranie priečok alebo vybúranie otvorov plochy nad 4 m2 z tehál pálených, plných alebo dutých hr. do 150 mm, -0,19600t | G146: m2 | H146: 8.947 | J146: =ROUND(I146*H146,3) -> 0 | N146: znížená | P146: =O146*H146 -> 0 | Q146: 0 | R146: =Q146*H146 -> 0 | S146: 0.196 | T146: =S146*H146 -> 1.753612 | AR146: 4 | AT146: K | AU146: 2 | AY146: ROZPOCET | BE146: =IF(N146="základná",J146,0) -> 0 | BF146: =IF(N146="znížená",J146,0) -> 0 | BG146: =IF(N146="zákl. prenesená",J146,0) -> 0 | BH146: =IF(N146="zníž. prenesená",J146,0) -> 0 | BI146: =IF(N146="nulová",J146,0) -> 0 | BJ146: 2 | BK146: =ROUND(I146*H146,3) -> 0 | BL146: 4 | BM146: 1843988972
C147: 10 | D147: K | E147: 979011111.S | F147: Zvislá doprava sutiny a vybúraných hmôt za prvé podlažie nad alebo pod základným podlažím | G147: t | H147: 1.953 | J147: =ROUND(I147*H147,3) -> 0 | N147: znížená | P147: =O147*H147 -> 0 | Q147: 0 | R147: =Q147*H147 -> 0 | S147: 0 | T147: =S147*H147 -> 0 | AR147: 4 | AT147: K | AU147: 2 | AY147: ROZPOCET | BE147: =IF(N147="základná",J147,0) -> 0 | BF147: =IF(N147="znížená",J147,0) -> 0 | BG147: =IF(N147="zákl. prenesená",J147,0) -> 0 | BH147: =IF(N147="zníž. prenesená",J147,0) -> 0 | BI147: =IF(N147="nulová",J147,0) -> 0 | BJ147: 2 | BK147: =ROUND(I147*H147,3) -> 0 | BL147: 4 | BM147: 311010536
C148: 11 | D148: K | E148: 979081111.S | F148: Odvoz sutiny a vybúraných hmôt na skládku do 1 km | G148: t | H148: 1.953 | J148: =ROUND(I148*H148,3) -> 0 | N148: znížená | P148: =O148*H148 -> 0 | Q148: 0 | R148: =Q148*H148 -> 0 | S148: 0 | T148: =S148*H148 -> 0 | AR148: 4 | AT148: K | AU148: 2 | AY148: ROZPOCET | BE148: =IF(N148="základná",J148,0) -> 0 | BF148: =IF(N148="znížená",J148,0) -> 0 | BG148: =IF(N148="zákl. prenesená",J148,0) -> 0 | BH148: =IF(N148="zníž. prenesená",J148,0) -> 0 | BI148: =IF(N148="nulová",J148,0) -> 0 | BJ148: 2 | BK148: =ROUND(I148*H148,3) -> 0 | BL148: 4 | BM148: -247701047
C149: 12 | D149: K | E149: 979081121.S | F149: Odvoz sutiny a vybúraných hmôt na skládku za každý ďalší 1 km (4x) | G149: t | H149: 7.812 | J149: =ROUND(I149*H149,3) -> 0 | N149: znížená | P149: =O149*H149 -> 0 | Q149: 0 | R149: =Q149*H149 -> 0 | S149: 0 | T149: =S149*H149 -> 0 | AR149: 4 | AT149: K | AU149: 2 | AY149: ROZPOCET | BE149: =IF(N149="základná",J149,0) -> 0 | BF149: =IF(N149="znížená",J149,0) -> 0 | BG149: =IF(N149="zákl. prenesená",J149,0) -> 0 | BH149: =IF(N149="zníž. prenesená",J149,0) -> 0 | BI149: =IF(N149="nulová",J149,0) -> 0 | BJ149: 2 | BK149: =ROUND(I149*H149,3) -> 0 | BL149: 4 | BM149: 1222966705
C150: 13 | D150: K | E150: 979082111.S | F150: Vnútrostavenisková doprava sutiny a vybúraných hmôt do 10 m | G150: t | H150: 1.953 | J150: =ROUND(I150*H150,3) -> 0 | N150: znížená | P150: =O150*H150 -> 0 | Q150: 0 | R150: =Q150*H150 -> 0 | S150: 0 | T150: =S150*H150 -> 0 | AR150: 4 | AT150: K | AU150: 2 | AY150: ROZPOCET | BE150: =IF(N150="základná",J150,0) -> 0 | BF150: =IF(N150="znížená",J150,0) -> 0 | BG150: =IF(N150="zákl. prenesená",J150,0) -> 0 | BH150: =IF(N150="zníž. prenesená",J150,0) -> 0 | BI150: =IF(N150="nulová",J150,0) -> 0 | BJ150: 2 | BK150: =ROUND(I150*H150,3) -> 0 | BL150: 4 | BM150: -905443945
C151: 14 | D151: K | E151: 979082121.S | F151: Vnútrostavenisková doprava sutiny a vybúraných hmôt za každých ďalších 5 m (8x) | G151: t | H151: 15.624 | J151: =ROUND(I151*H151,3) -> 0 | N151: znížená | P151: =O151*H151 -> 0 | Q151: 0 | R151: =Q151*H151 -> 0 | S151: 0 | T151: =S151*H151 -> 0 | AR151: 4 | AT151: K | AU151: 2 | AY151: ROZPOCET | BE151: =IF(N151="základná",J151,0) -> 0 | BF151: =IF(N151="znížená",J151,0) -> 0 | BG151: =IF(N151="zákl. prenesená",J151,0) -> 0 | BH151: =IF(N151="zníž. prenesená",J151,0) -> 0 | BI151: =IF(N151="nulová",J151,0) -> 0 | BJ151: 2 | BK151: =ROUND(I151*H151,3) -> 0 | BL151: 4 | BM151: -1832193000
C152: 15 | D152: K | E152: 979089012.R | F152: Poplatok za skladovanie vybúraných hmôt a suti | G152: t | H152: 1.953 | J152: =ROUND(I152*H152,3) -> 0 | N152: znížená | P152: =O152*H152 -> 0 | Q152: 0 | R152: =Q152*H152 -> 0 | S152: 0 | T152: =S152*H152 -> 0 | AR152: 4 | AT152: K | AU152: 2 | AY152: ROZPOCET | BE152: =IF(N152="základná",J152,0) -> 0 | BF152: =IF(N152="znížená",J152,0) -> 0 | BG152: =IF(N152="zákl. prenesená",J152,0) -> 0 | BH152: =IF(N152="zníž. prenesená",J152,0) -> 0 | BI152: =IF(N152="nulová",J152,0) -> 0 | BJ152: 2 | BK152: =ROUND(I152*H152,3) -> 0 | BL152: 4 | BM152: -1549113000
D153: D | E153: 99 | F153: Presun hmôt HSV | J153: =BK153 -> 0 | P153: =P154 -> 0 | R153: =R154 -> 0 | T153: =T154 -> 0 | AR153: 1 | AT153: D | AU153: 1 | AY153: ROZPOCET | BK153: =BK154 -> 0
C154: 16 | D154: K | E154: 999281111.S | F154: Presun hmôt pre opravy a údržbu objektov vrátane vonkajších plášťov výšky do 25 m | G154: t | H154: 2.121 | J154: =ROUND(I154*H154,3) -> 0 | N154: znížená | P154: =O154*H154 -> 0 | Q154: 0 | R154: =Q154*H154 -> 0 | S154: 0 | T154: =S154*H154 -> 0 | AR154: 4 | AT154: K | AU154: 2 | AY154: ROZPOCET | BE154: =IF(N154="základná",J154,0) -> 0 | BF154: =IF(N154="znížená",J154,0) -> 0 | BG154: =IF(N154="zákl. prenesená",J154,0) -> 0 | BH154: =IF(N154="zníž. prenesená",J154,0) -> 0 | BI154: =IF(N154="nulová",J154,0) -> 0 | BJ154: 2 | BK154: =ROUND(I154*H154,3) -> 0 | BL154: 4 | BM154: 1751427874
D155: D | E155: PSV | F155: Práce a dodávky PSV | J155: =BK155 -> 0 | P155: =P156+P159+P162+P164 -> 0 | R155: =R156+R159+R162+R164 -> 1.2785506 | T155: =T156+T159+T162+T164 -> 0.199146 | AR155: 2 | AT155: D | AU155: 0 | AY155: ROZPOCET | BK155: =BK156+BK159+BK162+BK164 -> 0
D156: D | E156: 763 | F156: Konštrukcie - drevostavby | J156: =BK156 -> 0 | P156: =SUM(P157:P158) -> 0 | R156: =SUM(R157:R158) -> 1.1682713 | T156: =SUM(T157:T158) -> 0 | AR156: 2 | AT156: D | AU156: 1 | AY156: ROZPOCET | BK156: =SUM(BK157:BK158) -> 0
C157: 17 | D157: K | E157: 763138222.S | F157: Podhľad SDK závesný na dvojúrovňovej oceľovej podkonštrukcií CD+UD, doska impregnovaná H2 12.5 mm | G157: m2 | H157: 95.996 | J157: =ROUND(I157*H157,3) -> 0 | N157: znížená | P157: =O157*H157 -> 0 | Q157: 0.01217 | R157: =Q157*H157 -> 1.1682713 | S157: 0 | T157: =S157*H157 -> 0 | AR157: 16 | AT157: K | AU157: 2 | AY157: ROZPOCET | BE157: =IF(N157="základná",J157,0) -> 0 | BF157: =IF(N157="znížená",J157,0) -> 0 | BG157: =IF(N157="zákl. prenesená",J157,0) -> 0 | BH157: =IF(N157="zníž. prenesená",J157,0) -> 0 | BI157: =IF(N157="nulová",J157,0) -> 0 | BJ157: 2 | BK157: =ROUND(I157*H157,3) -> 0 | BL157: 16 | BM157: -2035439764
C158: 18 | D158: K | E158: 998763401.S | F158: Presun hmôt pre sádrokartónové konštrukcie v stavbách (objektoch) výšky do 7 m | G158: % | J158: =ROUND(I158*H158,3) -> 0 | N158: znížená | P158: =O158*H158 -> 0 | Q158: 0 | R158: =Q158*H158 -> 0 | S158: 0 | T158: =S158*H158 -> 0 | AR158: 4 | AT158: K | AU158: 2 | AY158: ROZPOCET | BE158: =IF(N158="základná",J158,0) -> 0 | BF158: =IF(N158="znížená",J158,0) -> 0 | BG158: =IF(N158="zákl. prenesená",J158,0) -> 0 | BH158: =IF(N158="zníž. prenesená",J158,0) -> 0 | BI158: =IF(N158="nulová",J158,0) -> 0 | BJ158: 2 | BK158: =ROUND(I158*H158,3) -> 0 | BL158: 4 | BM158: 247521817
D159: D | E159: 767 | F159: Konštrukcie doplnkové kovové | J159: =BK159 -> 0 | P159: =SUM(P160:P161) -> 0 | R159: =SUM(R160:R161) -> 0 | T159: =SUM(T160:T161) -> 0.199146 | AR159: 2 | AT159: D | AU159: 1 | AY159: ROZPOCET | BK159: =SUM(BK160:BK161) -> 0
C160: 19 | D160: K | E160: 767581802.S | F160: Demontáž podhľadov lamiel, -0,00400t | G160: m2 | H160: 33.191 | J160: =ROUND(I160*H160,3) -> 0 | N160: znížená | P160: =O160*H160 -> 0 | Q160: 0 | R160: =Q160*H160 -> 0 | S160: 0.004 | T160: =S160*H160 -> 0.132764 | AR160: 16 | AT160: K | AU160: 2 | AY160: ROZPOCET | BE160: =IF(N160="základná",J160,0) -> 0 | BF160: =IF(N160="znížená",J160,0) -> 0 | BG160: =IF(N160="zákl. prenesená",J160,0) -> 0 | BH160: =IF(N160="zníž. prenesená",J160,0) -> 0 | BI160: =IF(N160="nulová",J160,0) -> 0 | BJ160: 2 | BK160: =ROUND(I160*H160,3) -> 0 | BL160: 16 | BM160: -1522320863
C161: 20 | D161: K | E161: 767582800.S | F161: Demontáž podhľadov roštov, -0,00200t | G161: m2 | H161: 33.191 | J161: =ROUND(I161*H161,3) -> 0 | N161: znížená | P161: =O161*H161 -> 0 | Q161: 0 | R161: =Q161*H161 -> 0 | S161: 0.002 | T161: =S161*H161 -> 0.066382 | AR161: 16 | AT161: K | AU161: 2 | AY161: ROZPOCET | BE161: =IF(N161="základná",J161,0) -> 0 | BF161: =IF(N161="znížená",J161,0) -> 0 | BG161: =IF(N161="zákl. prenesená",J161,0) -> 0 | BH161: =IF(N161="zníž. prenesená",J161,0) -> 0 | BI161: =IF(N161="nulová",J161,0) -> 0 | BJ161: 2 | BK161: =ROUND(I161*H161,3) -> 0 | BL161: 16 | BM161: 564362857
D162: D | E162: 783 | F162: Nátery | J162: =BK162 -> 0 | P162: =P163 -> 0 | R162: =R163 -> 0.0111144 | T162: =T163 -> 0 | AR162: 2 | AT162: D | AU162: 1 | AY162: ROZPOCET | BK162: =BK163 -> 0
C163: 21 | D163: K | E163: 783812100.S | F163: Nátery olejové farby bielej omietok stien dvojnásobné 1x s emailovaním | G163: m2 | H163: 27.786 | J163: =ROUND(I163*H163,3) -> 0 | N163: znížená | P163: =O163*H163 -> 0 | Q163: 0.0004 | R163: =Q163*H163 -> 0.0111144 | S163: 0 | T163: =S163*H163 -> 0 | AR163: 16 | AT163: K | AU163: 2 | AY163: ROZPOCET | BE163: =IF(N163="základná",J163,0) -> 0 | BF163: =IF(N163="znížená",J163,0) -> 0 | BG163: =IF(N163="zákl. prenesená",J163,0) -> 0 | BH163: =IF(N163="zníž. prenesená",J163,0) -> 0 | BI163: =IF(N163="nulová",J163,0) -> 0 | BJ163: 2 | BK163: =ROUND(I163*H163,3) -> 0 | BL163: 16 | BM163: -1170379637
D164: D | E164: 784 | F164: Maľby | J164: =BK164 -> 0 | P164: =SUM(P165:P168) -> 0 | R164: =SUM(R165:R168) -> 0.09916485 | T164: =SUM(T165:T168) -> 0 | AR164: 2 | AT164: D | AU164: 1 | AY164: ROZPOCET | BK164: =SUM(BK165:BK168) -> 0
...

Sheet 200 - Kuchynský stolový v...
L2: >> skryté stĺpce << | AT2: {0e24ebf2-46e8-4541-b4f2-ddb409b8bc6a}
AT3: 0
D4: KRYCÍ LIST ROZPOČTU | M4: v --- nižšie sa nachádzajú doplnkové a pomocné údaje k zostavám --- v | AT4: False
D6: Stavba:
E7: ='Rekapitulácia stavby'!K6 -> ZŠ Škultétyho-Oprava havarijného stavu kuchyne - 2.časť
D8: Objekt:
E9: 200 - Kuchynský stolový výťah
D11: JKSO: | I11: KS:
D12: Miesto: | F12: Škultétyho 1, Nitra | I12: Dátum: | J12: ='Rekapitulácia stavby'!AN8 -> 6. 9. 2021
D14: Objednávateľ: | I14: IČO:
E15: Mesto Nitra | I15: IČ DPH:
D17: Zhotoviteľ: | I17: IČO: | J17: ='Rekapitulácia stavby'!AN13 -> Vyplň údaj
E18: ='Rekapitulácia stavby'!E14 -> Vyplň údaj | I18: IČ DPH: | J18: ='Rekapitulácia stavby'!AN14 -> Vyplň údaj
D20: Projektant: | I20: IČO:
E21: Ing.arch.Igor Feník | I21: IČ DPH:
D23: Spracovateľ: | I23: IČO:
E24: Ing.Igor Janečka | I24: IČ DPH:
D26: Poznámka:
D30: Cena bez DPH | J30: =ROUND(J135, 2) -> 0
F32: Základ dane | I32: Sadzba dane | J32: Výška dane
D33: DPH | E33: základná | F33: =ROUND((SUM(BE135:BE226)), 2) -> 0 | I33: 0.2 | J33: =ROUND(((SUM(BE135:BE226))*I33), 2) -> 0
E34: znížená | F34: =ROUND((SUM(BF135:BF226)), 2) -> 0 | I34: 0.2 | J34: =ROUND(((SUM(BF135:BF226))*I34), 2) -> 0
E35: zákl. prenesená | F35: =ROUND((SUM(BG135:BG226)), 2) -> 0 | I35: 0.2 | J35: =0 -> 0
E36: zníž. prenesená | F36: =ROUND((SUM(BH135:BH226)), 2) -> 0 | I36: 0.2 | J36: =0 -> 0
E37: nulová | F37: =ROUND((SUM(BI135:BI226)), 2) -> 0 | I37: 0 | J37: =0 -> 0
D39: Cena s DPH | G39: v | H39: EUR | J39: =SUM(J30:J37) -> 0
D50: Projektant | G50: Spracovateľ
D61: Dátum a podpis: | F61: Pečiatka | G61: Dátum a podpis: | J61: Pečiatka
D65: Objednávateľ | G65: Zhotoviteľ
D76: Dátum a podpis: | F76: Pečiatka | G76: Dátum a podpis: | J76: Pečiatka
C82: REKAPITULÁCIA ROZPOČTU
C84: Stavba:
E85: =E7 -> ZŠ Škultétyho-Oprava havarijného stavu kuchyne - 2.časť
C86: Objekt:
E87: =E9 -> 200 - Kuchynský stolový výťah
C89: Miesto: | F89: =F12 -> Škultétyho 1, Nitra | I89: Dátum: | J89: =IF(J12="","",J12) -> 6. 9. 2021
C91: Objednávateľ: | F91: =E15 -> Mesto Nitra | I91: Projektant: | J91: =E21 -> Ing.arch.Igor Feník
C92: Zhotoviteľ: | F92: =IF(E18="","",E18) -> Vyplň údaj | I92: Spracovateľ: | J92: =E24 -> Ing.Igor Janečka
C94: Kód dielu - Popis | J94: Cena celkom [EUR]
C96: Náklady z rozpočtu | J96: =J135 -> 0 | AU96: -1
D97: HSV - Práce a dodávky HSV | J97: =J136 -> 0
D98: 3 - Zvislé a kompletné konštrukcie | J98: =J137 -> 0
D99: 6 - Úpravy povrchov, podlahy, osadenie | J99: =J140 -> 0
D100: 9 - Ostatné konštrukcie a práce-búranie | J100: =J154 -> 0
D101: 99 - Presun hmôt HSV | J101: =J170 -> 0
D102: PSV - Práce a dodávky PSV | J102: =J172 -> 0
D103: 711 - Izolácie proti vode a vlhkosti | J103: =J173 -> 0
D104: 763 - Konštrukcie - drevostavby | J104: =J182 -> 0
D105: 766 - Konštrukcie stolárske | J105: =J185 -> 0
D106: 767 - Konštrukcie doplnkové kovové | J106: =J199 -> 0
D107: 777 - Podlahy syntetické | J107: =J202 -> 0
D108: 781 - Obklady | J108: =J206 -> 0
D109: 783 - Nátery | J109: =J211 -> 0
D110: M - Práce a dodávky M | J110: =J216 -> 0
D111: 22-M - Montáže oznamovacích a zabezpečovacích zariadení | J111: =J217 -> 0
D112: 33-M - Montáže dopravných zariadení, skladových zariadení a váh | J112: =J219 -> 0
D113: HZS - Hodinové zúčtovacie sadzby | J113: =J222 -> 0
D114: VRN - Vedľajšie rozpočtové náklady | J114: =J224 -> 0
D115: VRN06 - Zariadenie staveniska | J115: =J225 -> 0
C122: ROZPOČET
C124: Stavba:
E125: =E7 -> ZŠ Škultétyho-Oprava havarijného stavu kuchyne - 2.časť
C126: Objekt:
E127: =E9 -> 200 - Kuchynský stolový výťah
C129: Miesto: | F129: =F12 -> Škultétyho 1, Nitra | I129: Dátum: | J129: =IF(J12="","",J12) -> 6. 9. 2021
C131: Objednávateľ: | F131: =E15 -> Mesto Nitra | I131: Projektant: | J131: =E21 -> Ing.arch.Igor Feník
C132: Zhotoviteľ: | F132: =IF(E18="","",E18) -> Vyplň údaj | I132: Spracovateľ: | J132: =E24 -> Ing.Igor Janečka
C134: PČ | D134: Typ | E134: Kód | F134: Popis | G134: MJ | H134: Množstvo | I134: J.cena [EUR] | J134: Cena celkom [EUR] | K134: Cenová sústava | N134: DPH | O134: J. Nh [h] | P134: Nh celkom [h] | Q134: J. hmotnosť [t] | R134: Hmotnosť celkom [t] | S134: J. suť [t] | T134: Suť Celkom [t]
C135: Náklady z rozpočtu | J135: =BK135 -> 0 | P135: =P136+P172+P216+P222+P224 -> 0 | R135: =R136+R172+R216+R222+R224 -> 2.466791 | T135: =T136+T172+T216+T222+T224 -> 4.307856 | AT135: D | AU135: -1 | BK135: =BK136+BK172+BK216+BK222+BK224 -> 0
D136: D | E136: HSV | F136: Práce a dodávky HSV | J136: =BK136 -> 0 | P136: =P137+P140+P154+P170 -> 0 | R136: =R137+R140+R154+R170 -> 1.5275254 | T136: =T137+T140+T154+T170 -> 4.301856 | AR136: 1 | AT136: D | AU136: 0 | AY136: ROZPOCET | BK136: =BK137+BK140+BK154+BK170 -> 0
D137: D | E137: 3 | F137: Zvislé a kompletné konštrukcie | J137: =BK137 -> 0 | P137: =SUM(P138:P139) -> 0 | R137: =SUM(R138:R139) -> 0.12922561 | T137: =SUM(T138:T139) -> 0 | AR137: 1 | AT137: D | AU137: 1 | AY137: ROZPOCET | BK137: =SUM(BK138:BK139) -> 0
C138: 1 | D138: K | E138: 317160132.S | F138: Keramický preklad nenosný šírky 120 mm, výšky 65 mm, dĺžky 1000 mm | G138: ks | H138: 2 | J138: =ROUND(I138*H138,3) -> 0 | N138: znížená | P138: =O138*H138 -> 0 | Q138: 0.01492 | R138: =Q138*H138 -> 0.02984 | S138: 0 | T138: =S138*H138 -> 0 | AR138: 4 | AT138: K | AU138: 2 | AY138: ROZPOCET | BE138: =IF(N138="základná",J138,0) -> 0 | BF138: =IF(N138="znížená",J138,0) -> 0 | BG138: =IF(N138="zákl. prenesená",J138,0) -> 0 | BH138: =IF(N138="zníž. prenesená",J138,0) -> 0 | BI138: =IF(N138="nulová",J138,0) -> 0 | BJ138: 2 | BK138: =ROUND(I138*H138,3) -> 0 | BL138: 4 | BM138: -474885157
C139: 2 | D139: K | E139: 349231811.S | F139: Primurovka ostenia s ozubom z tehál vo vybúraných otvoroch nad 80 do 150 mm | G139: m2 | H139: 0.389 | J139: =ROUND(I139*H139,3) -> 0 | N139: znížená | P139: =O139*H139 -> 0 | Q139: 0.25549 | R139: =Q139*H139 -> 0.09938561 | S139: 0 | T139: =S139*H139 -> 0 | AR139: 4 | AT139: K | AU139: 2 | AY139: ROZPOCET | BE139: =IF(N139="základná",J139,0) -> 0 | BF139: =IF(N139="znížená",J139,0) -> 0 | BG139: =IF(N139="zákl. prenesená",J139,0) -> 0 | BH139: =IF(N139="zníž. prenesená",J139,0) -> 0 | BI139: =IF(N139="nulová",J139,0) -> 0 | BJ139: 2 | BK139: =ROUND(I139*H139,3) -> 0 | BL139: 4 | BM139: 1181937779
D140: D | E140: 6 | F140: Úpravy povrchov, podlahy, osadenie | J140: =BK140 -> 0 | P140: =SUM(P141:P153) -> 0 | R140: =SUM(R141:R153) -> 1.3835842 | T140: =SUM(T141:T153) -> 0 | AR140: 1 | AT140: D | AU140: 1 | AY140: ROZPOCET | BK140: =SUM(BK141:BK153) -> 0
C141: 3 | D141: K | E141: 611451231.S | F141: Oprava vnútorných cementových omietok stropov, štuková oceľou hladená,opravovaná plocha nad 5 do 10 % | G141: m2 | H141: 3.798 | J141: =ROUND(I141*H141,3) -> 0 | N141: znížená | P141: =O141*H141 -> 0 | Q141: 0.00461 | R141: =Q141*H141 -> 0.01750878 | S141: 0 | T141: =S141*H141 -> 0 | AR141: 4 | AT141: K | AU141: 2 | AY141: ROZPOCET | BE141: =IF(N141="základná",J141,0) -> 0 | BF141: =IF(N141="znížená",J141,0) -> 0 | BG141: =IF(N141="zákl. prenesená",J141,0) -> 0 | BH141: =IF(N141="zníž. prenesená",J141,0) -> 0 | BI141: =IF(N141="nulová",J141,0) -> 0 | BJ141: 2 | BK141: =ROUND(I141*H141,3) -> 0 | BL141: 4 | BM141: -2068501361
C142: 4 | D142: K | E142: 612425921.S | F142: Omietka vápenná vnútorného ostenia okenného alebo dverného hladká | G142: m2 | H142: 5.075 | J142: =ROUND(I142*H142,3) -> 0 | N142: znížená | P142: =O142*H142 -> 0 | Q142: 0.03587 | R142: =Q142*H142 -> 0.18204025 | S142: 0 | T142: =S142*H142 -> 0 | AR142: 4 | AT142: K | AU142: 2 | AY142: ROZPOCET | BE142: =IF(N142="základná",J142,0) -> 0 | BF142: =IF(N142="znížená",J142,0) -> 0 | BG142: =IF(N142="zákl. prenesená",J142,0) -> 0 | BH142: =IF(N142="zníž. prenesená",J142,0) -> 0 | BI142: =IF(N142="nulová",J142,0) -> 0 | BJ142: 2 | BK142: =ROUND(I142*H142,3) -> 0 | BL142: 4 | BM142: 357353515
C143: 5 | D143: K | E143: 612451251.S | F143: Oprava vnútorných cementových omietok, opravená plocha nad 5 do 10 %,oceľou hladená | G143: m2 | H143: 48.862 | J143: =ROUND(I143*H143,3) -> 0 | N143: znížená | P143: =O143*H143 -> 0 | Q143: 0.00457 | R143: =Q143*H143 -> 0.22329934 | S143: 0 | T143: =S143*H143 -> 0 | AR143: 4 | AT143: K | AU143: 2 | AY143: ROZPOCET | BE143: =IF(N143="základná",J143,0) -> 0 | BF143: =IF(N143="znížená",J143,0) -> 0 | BG143: =IF(N143="zákl. prenesená",J143,0) -> 0 | BH143: =IF(N143="zníž. prenesená",J143,0) -> 0 | BI143: =IF(N143="nulová",J143,0) -> 0 | BJ143: 2 | BK143: =ROUND(I143*H143,3) -> 0 | BL143: 4 | BM143: 1537458282
C144: 6 | D144: K | E144: 612460111.S | F144: Príprava vnútorného podkladu stien na silno a nerovnomerne nasiakavé podklady regulátorom nasiakavosti | G144: m2 | H144: 19.137 | J144: =ROUND(I144*H144,3) -> 0 | N144: znížená | P144: =O144*H144 -> 0 | Q144: 0.00015 | R144: =Q144*H144 -> 0.00287055 | S144: 0 | T144: =S144*H144 -> 0 | AR144: 4 | AT144: K | AU144: 2 | AY144: ROZPOCET | BE144: =IF(N144="základná",J144,0) -> 0 | BF144: =IF(N144="znížená",J144,0) -> 0 | BG144: =IF(N144="zákl. prenesená",J144,0) -> 0 | BH144: =IF(N144="zníž. prenesená",J144,0) -> 0 | BI144: =IF(N144="nulová",J144,0) -> 0 | BJ144: 2 | BK144: =ROUND(I144*H144,3) -> 0 | BL144: 4 | BM144: 252552094
C145: 7 | D145: K | E145: 612460151.S | F145: Príprava vnútorného podkladu stien cementovým prednástrekom, hr. 3 mm | G145: m2 | H145: 0.389 | J145: =ROUND(I145*H145,3) -> 0 | N145: znížená | P145: =O145*H145 -> 0 | Q145: 0.00493 | R145: =Q145*H145 -> 0.00191777 | S145: 0 | T145: =S145*H145 -> 0 | AR145: 4 | AT145: K | AU145: 2 | AY145: ROZPOCET | BE145: =IF(N145="základná",J145,0) -> 0 | BF145: =IF(N145="znížená",J145,0) -> 0 | BG145: =IF(N145="zákl. prenesená",J145,0) -> 0 | BH145: =IF(N145="zníž. prenesená",J145,0) -> 0 | BI145: =IF(N145="nulová",J145,0) -> 0 | BJ145: 2 | BK145: =ROUND(I145*H145,3) -> 0 | BL145: 4 | BM145: 964909280
C146: 8 | D146: K | E146: 612460372.S | F146: Vnútorná omietka stien vápennocementová tenkovrstvová, hr. 6 mm | G146: m2 | H146: 1.44 | J146: =ROUND(I146*H146,3) -> 0 | N146: znížená | P146: =O146*H146 -> 0 | Q146: 0.00893 | R146: =Q146*H146 -> 0.0128592 | S146: 0 | T146: =S146*H146 -> 0 | AR146: 4 | AT146: K | AU146: 2 | AY146: ROZPOCET | BE146: =IF(N146="základná",J146,0) -> 0 | BF146: =IF(N146="znížená",J146,0) -> 0 | BG146: =IF(N146="zákl. prenesená",J146,0) -> 0 | BH146: =IF(N146="zníž. prenesená",J146,0) -> 0 | BI146: =IF(N146="nulová",J146,0) -> 0 | BJ146: 2 | BK146: =ROUND(I146*H146,3) -> 0 | BL146: 4 | BM146: -1790996397
C147: 9 | D147: K | E147: 612481119.S | F147: Potiahnutie vnútorných stien sklotextílnou mriežkou s celoplošným prilepením | G147: m2 | H147: 14.062 | J147: =ROUND(I147*H147,3) -> 0 | N147: znížená | P147: =O147*H147 -> 0 | Q147: 0.00415 | R147: =Q147*H147 -> 0.0583573 | S147: 0 | T147: =S147*H147 -> 0 | AR147: 4 | AT147: K | AU147: 2 | AY147: ROZPOCET | BE147: =IF(N147="základná",J147,0) -> 0 | BF147: =IF(N147="znížená",J147,0) -> 0 | BG147: =IF(N147="zákl. prenesená",J147,0) -> 0 | BH147: =IF(N147="zníž. prenesená",J147,0) -> 0 | BI147: =IF(N147="nulová",J147,0) -> 0 | BJ147: 2 | BK147: =ROUND(I147*H147,3) -> 0 | BL147: 4 | BM147: -2073363805
C148: 10 | D148: K | E148: 631315711.S | F148: Mazanina z betónu prostého (m3) tr. C 25/30 hr.nad 120 do 240 mm | G148: m3 | H148: 0.324 | J148: =ROUND(I148*H148,3) -> 0 | N148: znížená | P148: =O148*H148 -> 0 | Q148: 2.41572 | R148: =Q148*H148 -> 0.78269328 | S148: 0 | T148: =S148*H148 -> 0 | AR148: 4 | AT148: K | AU148: 2 | AY148: ROZPOCET | BE148: =IF(N148="základná",J148,0) -> 0 | BF148: =IF(N148="znížená",J148,0) -> 0 | BG148: =IF(N148="zákl. prenesená",J148,0) -> 0 | BH148: =IF(N148="zníž. prenesená",J148,0) -> 0 | BI148: =IF(N148="nulová",J148,0) -> 0 | BJ148: 2 | BK148: =ROUND(I148*H148,3) -> 0 | BL148: 4 | BM148: 1938794137
C149: 11 | D149: K | E149: 631319155.S | F149: Príplatok za prehlad. povrchu betónovej mazaniny min. tr.C 8/10 oceľ. hlad. hr. 120-240 mm | G149: m3 | H149: 0.324 | J149: =ROUND(I149*H149,3) -> 0 | N149: znížená | P149: =O149*H149 -> 0 | Q149: 0 | R149: =Q149*H149 -> 0 | S149: 0 | T149: =S149*H149 -> 0 | AR149: 4 | AT149: K | AU149: 2 | AY149: ROZPOCET | BE149: =IF(N149="základná",J149,0) -> 0 | BF149: =IF(N149="znížená",J149,0) -> 0 | BG149: =IF(N149="zákl. prenesená",J149,0) -> 0 | BH149: =IF(N149="zníž. prenesená",J149,0) -> 0 | BI149: =IF(N149="nulová",J149,0) -> 0 | BJ149: 2 | BK149: =ROUND(I149*H149,3) -> 0 | BL149: 4 | BM149: -1219768665
C150: 12 | D150: K | E150: 631319175.S | F150: Príplatok za strhnutie povrchu mazaniny latou pre hr. obidvoch vrstiev mazaniny nad 120 do 240 mm | G150: m3 | H150: 0.324 | J150: =ROUND(I150*H150,3) -> 0 | N150: znížená | P150: =O150*H150 -> 0 | Q150: 0 | R150: =Q150*H150 -> 0 | S150: 0 | T150: =S150*H150 -> 0 | AR150: 4 | AT150: K | AU150: 2 | AY150: ROZPOCET | BE150: =IF(N150="základná",J150,0) -> 0 | BF150: =IF(N150="znížená",J150,0) -> 0 | BG150: =IF(N150="zákl. prenesená",J150,0) -> 0 | BH150: =IF(N150="zníž. prenesená",J150,0) -> 0 | BI150: =IF(N150="nulová",J150,0) -> 0 | BJ150: 2 | BK150: =ROUND(I150*H150,3) -> 0 | BL150: 4 | BM150: 629179037
C151: 13 | D151: K | E151: 631362441.S | F151: Výstuž mazanín z betónov (z kameniva) a z ľahkých betónov zo sietí KARI, priemer drôtu 8/8 mm, veľkosť oka 100x100 mm | G151: m2 | H151: 2.592 | J151: =ROUND(I151*H151,3) -> 0 | N151: znížená | P151: =O151*H151 -> 0 | Q151: 0.00878 | R151: =Q151*H151 -> 0.02275776 | S151: 0 | T151: =S151*H151 -> 0 | AR151: 4 | AT151: K | AU151: 2 | AY151: ROZPOCET | BE151: =IF(N151="základná",J151,0) -> 0 | BF151: =IF(N151="znížená",J151,0) -> 0 | BG151: =IF(N151="zákl. prenesená",J151,0) -> 0 | BH151: =IF(N151="zníž. prenesená",J151,0) -> 0 | BI151: =IF(N151="nulová",J151,0) -> 0 | BJ151: 2 | BK151: =ROUND(I151*H151,3) -> 0 | BL151: 4 | BM151: 1865028955
C152: 14 | D152: K | E152: 642944121.S | F152: Dodatočná montáž oceľovej dverovej zárubne, plochy otvoru do 2,5 m2 | G152: ks | H152: 2 | J152: =ROUND(I152*H152,3) -> 0 | N152: znížená | P152: =O152*H152 -> 0 | Q152: 0.03964 | R152: =Q152*H152 -> 0.07928 | S152: 0 | T152: =S152*H152 -> 0 | AR152: 4 | AT152: K | AU152: 2 | AY152: ROZPOCET | BE152: =IF(N152="základná",J152,0) -> 0 | BF152: =IF(N152="znížená",J152,0) -> 0 | BG152: =IF(N152="zákl. prenesená",J152,0) -> 0 | BH152: =IF(N152="zníž. prenesená",J152,0) -> 0 | BI152: =IF(N152="nulová",J152,0) -> 0 | BJ152: 2 | BK152: =ROUND(I152*H152,3) -> 0 | BL152: 4 | BM152: -1056505962
C153: 15 | D153: M | E153: 553310010301 | F153: Zárubňa požiarna oceľová, šxvxhr 600x1970x150 mm, bez povrchovej úpravy , s prahovou spojkou, EI30 EW30, | G153: ks | H153: 2 | J153: =ROUND(I153*H153,3) -> 0 | N153: znížená | P153: =O153*H153 -> 0 | Q153: 0 | R153: =Q153*H153 -> 0 | S153: 0 | T153: =S153*H153 -> 0 | AR153: 8 | AT153: M | AU153: 2 | AY153: ROZPOCET | BE153: =IF(N153="základná",J153,0) -> 0 | BF153: =IF(N153="znížená",J153,0) -> 0 | BG153: =IF(N153="zákl. prenesená",J153,0) -> 0 | BH153: =IF(N153="zníž. prenesená",J153,0) -> 0 | BI153: =IF(N153="nulová",J153,0) -> 0 | BJ153: 2 | BK153: =ROUND(I153*H153,3) -> 0 | BL153: 4 | BM153: -669966186
D154: D | E154: 9 | F154: Ostatné konštrukcie a práce-búranie | J154: =BK154 -> 0 | P154: =SUM(P155:P169) -> 0 | R154: =SUM(R155:R169) -> 0.0147156 | T154: =SUM(T155:T169) -> 4.301856 | AR154: 1 | AT154: D | AU154: 1 | AY154: ROZPOCET | BK154: =SUM(BK155:BK169) -> 0
C155: 16 | D155: K | E155: 938902071.S | F155: Očistenie povrchu betónových konštrukcií tlakovou vodou | G155: m2 | H155: 2.16 | J155: =ROUND(I155*H155,3) -> 0 | N155: znížená | P155: =O155*H155 -> 0 | Q155: 0 | R155: =Q155*H155 -> 0 | S155: 0 | T155: =S155*H155 -> 0 | AR155: 4 | AT155: K | AU155: 2 | AY155: ROZPOCET | BE155: =IF(N155="základná",J155,0) -> 0 | BF155: =IF(N155="znížená",J155,0) -> 0 | BG155: =IF(N155="zákl. prenesená",J155,0) -> 0 | BH155: =IF(N155="zníž. prenesená",J155,0) -> 0 | BI155: =IF(N155="nulová",J155,0) -> 0 | BJ155: 2 | BK155: =ROUND(I155*H155,3) -> 0 | BL155: 4 | BM155: 1485784416
C156: 17 | D156: K | E156: 941955202.S | F156: Lešenie ľahké pracovné vo svetlíku alebo šachte plochy do 6 m2, s výškou podlahy nad 1,50 do 3,50 m | G156: m2 | H156: 6.03 | J156: =ROUND(I156*H156,3) -> 0 | N156: znížená | P156: =O156*H156 -> 0 | Q156: 0.00244 | R156: =Q156*H156 -> 0.0147132 | S156: 0 | T156: =S156*H156 -> 0 | AR156: 4 | AT156: K | AU156: 2 | AY156: ROZPOCET | BE156: =IF(N156="základná",J156,0) -> 0 | BF156: =IF(N156="znížená",J156,0) -> 0 | BG156: =IF(N156="zákl. prenesená",J156,0) -> 0 | BH156: =IF(N156="zníž. prenesená",J156,0) -> 0 | BI156: =IF(N156="nulová",J156,0) -> 0 | BJ156: 2 | BK156: =ROUND(I156*H156,3) -> 0 | BL156: 4 | BM156: 1860741639
C157: 18 | D157: K | E157: 962031132.S | F157: Búranie priečok alebo vybúranie otvorov plochy nad 4 m2 z tehál pálených, plných alebo dutých hr. do 150 mm, -0,19600t | G157: m2 | H157: 14.613 | J157: =ROUND(I157*H157,3) -> 0 | N157: znížená | P157: =O157*H157 -> 0 | Q157: 0 | R157: =Q157*H157 -> 0 | S157: 0.196 | T157: =S157*H157 -> 2.864148 | AR157: 4 | AT157: K | AU157: 2 | AY157: ROZPOCET | BE157: =IF(N157="základná",J157,0) -> 0 | BF157: =IF(N157="znížená",J157,0) -> 0 | BG157: =IF(N157="zákl. prenesená",J157,0) -> 0 | BH157: =IF(N157="zníž. prenesená",J157,0) -> 0 | BI157: =IF(N157="nulová",J157,0) -> 0 | BJ157: 2 | BK157: =ROUND(I157*H157,3) -> 0 | BL157: 4 | BM157: -345902046
C158: 19 | D158: K | E158: 964072221.S | F158: Vybúranie valcovaných nosníkov uložených v murive zmiešanom, kamennom, tehl. hm. do 20 kg/m, -1,25800t | G158: t | H158: 0.15 | J158: =ROUND(I158*H158,3) -> 0 | N158: znížená | P158: =O158*H158 -> 0 | Q158: 0 | R158: =Q158*H158 -> 0 | S158: 1.258 | T158: =S158*H158 -> 0.1887 | AR158: 4 | AT158: K | AU158: 2 | AY158: ROZPOCET | BE158: =IF(N158="základná",J158,0) -> 0 | BF158: =IF(N158="znížená",J158,0) -> 0 | BG158: =IF(N158="zákl. prenesená",J158,0) -> 0 | BH158: =IF(N158="zníž. prenesená",J158,0) -> 0 | BI158: =IF(N158="nulová",J158,0) -> 0 | BJ158: 2 | BK158: =ROUND(I158*H158,3) -> 0 | BL158: 4 | BM158: -2028724404
C159: 20 | D159: K | E159: 965043431.S | F159: Búranie podkladov pod dlažby, liatych dlažieb a mazanín,betón s poterom,teracom hr.do 150 mm, plochy do 4 m2 -2,20000t | G159: m3 | H159: 0.324 | J159: =ROUND(I159*H159,3) -> 0 | N159: znížená | P159: =O159*H159 -> 0 | Q159: 0 | R159: =Q159*H159 -> 0 | S159: 2.2 | T159: =S159*H159 -> 0.7128 | AR159: 4 | AT159: K | AU159: 2 | AY159: ROZPOCET | BE159: =IF(N159="základná",J159,0) -> 0 | BF159: =IF(N159="znížená",J159,0) -> 0 | BG159: =IF(N159="zákl. prenesená",J159,0) -> 0 | BH159: =IF(N159="zníž. prenesená",J159,0) -> 0 | BI159: =IF(N159="nulová",J159,0) -> 0 | BJ159: 2 | BK159: =ROUND(I159*H159,3) -> 0 | BL159: 4 | BM159: 213320303
C160: 21 | D160: K | E160: 968061125.S | F160: Vyvesenie dreveného dverného krídla do suti plochy do 2 m2, -0,02400t | G160: ks | H160: 2 | J160: =ROUND(I160*H160,3) -> 0 | N160: znížená | P160: =O160*H160 -> 0 | Q160: 0 | R160: =Q160*H160 -> 0 | S160: 0.024 | T160: =S160*H160 -> 0.048 | AR160: 4 | AT160: K | AU160: 2 | AY160: ROZPOCET | BE160: =IF(N160="základná",J160,0) -> 0 | BF160: =IF(N160="znížená",J160,0) -> 0 | BG160: =IF(N160="zákl. prenesená",J160,0) -> 0 | BH160: =IF(N160="zníž. prenesená",J160,0) -> 0 | BI160: =IF(N160="nulová",J160,0) -> 0 | BJ160: 2 | BK160: =ROUND(I160*H160,3) -> 0 | BL160: 4 | BM160: -48303239
C161: 22 | D161: K | E161: 968071125.S | F161: Vyvesenie kovového dverného krídla do suti plochy do 2 m2 | G161: ks | H161: 2 | J161: =ROUND(I161*H161,3) -> 0 | N161: znížená | P161: =O161*H161 -> 0 | Q161: 0 | R161: =Q161*H161 -> 0 | S161: 0.03 | T161: =S161*H161 -> 0.06 | AR161: 4 | AT161: K | AU161: 2 | AY161: ROZPOCET | BE161: =IF(N161="základná",J161,0) -> 0 | BF161: =IF(N161="znížená",J161,0) -> 0 | BG161: =IF(N161="zákl. prenesená",J161,0) -> 0 | BH161: =IF(N161="zníž. prenesená",J161,0) -> 0 | BI161: =IF(N161="nulová",J161,0) -> 0 | BJ161: 2 | BK161: =ROUND(I161*H161,3) -> 0 | BL161: 4 | BM161: 1974351064
C162: 23 | D162: K | E162: 968072455.S | F162: Vybúranie kovových dverových zárubní plochy do 2 m2, -0,07600t | G162: m2 | H162: 5.604 | J162: =ROUND(I162*H162,3) -> 0 | N162: znížená | P162: =O162*H162 -> 0 | Q162: 0 | R162: =Q162*H162 -> 0 | S162: 0.076 | T162: =S162*H162 -> 0.425904 | AR162: 4 | AT162: K | AU162: 2 | AY162: ROZPOCET | BE162: =IF(N162="základná",J162,0) -> 0 | BF162: =IF(N162="znížená",J162,0) -> 0 | BG162: =IF(N162="zákl. prenesená",J162,0) -> 0 | BH162: =IF(N162="zníž. prenesená",J162,0) -> 0 | BI162: =IF(N162="nulová",J162,0) -> 0 | BJ162: 2 | BK162: =ROUND(I162*H162,3) -> 0 | BL162: 4 | BM162: -1023496227
C163: 24 | D163: K | E163: 971055001.S | F163: Rezanie konštrukcií zo železobetónu hr. panelu 80 mm stenovou pílou -0,00960t | G163: m | H163: 0.24 | J163: =ROUND(I163*H163,3) -> 0 | N163: znížená | P163: =O163*H163 -> 0 | Q163: 1e-05 | R163: =Q163*H163 -> 2.4e-06 | S163: 0.0096 | T163: =S163*H163 -> 0.002304 | AR163: 4 | AT163: K | AU163: 2 | AY163: ROZPOCET | BE163: =IF(N163="základná",J163,0) -> 0 | BF163: =IF(N163="znížená",J163,0) -> 0 | BG163: =IF(N163="zákl. prenesená",J163,0) -> 0 | BH163: =IF(N163="zníž. prenesená",J163,0) -> 0 | BI163: =IF(N163="nulová",J163,0) -> 0 | BJ163: 2 | BK163: =ROUND(I163*H163,3) -> 0 | BL163: 4 | BM163: -688705076
C164: 25 | D164: K | E164: 979011111.S | F164: Zvislá doprava sutiny a vybúraných hmôt za prvé podlažie nad alebo pod základným podlažím | G164: t | H164: 4.308 | J164: =ROUND(I164*H164,3) -> 0 | N164: znížená | P164: =O164*H164 -> 0 | Q164: 0 | R164: =Q164*H164 -> 0 | S164: 0 | T164: =S164*H164 -> 0 | AR164: 4 | AT164: K | AU164: 2 | AY164: ROZPOCET | BE164: =IF(N164="základná",J164,0) -> 0 | BF164: =IF(N164="znížená",J164,0) -> 0 | BG164: =IF(N164="zákl. prenesená",J164,0) -> 0 | BH164: =IF(N164="zníž. prenesená",J164,0) -> 0 | BI164: =IF(N164="nulová",J164,0) -> 0 | BJ164: 2 | BK164: =ROUND(I164*H164,3) -> 0 | BL164: 4 | BM164: -1564743297
C165: 26 | D165: K | E165: 979081111.S | F165: Odvoz sutiny a vybúraných hmôt na skládku do 1 km | G165: t | H165: 4.308 | J165: =ROUND(I165*H165,3) -> 0 | N165: znížená | P165: =O165*H165 -> 0 | Q165: 0 | R165: =Q165*H165 -> 0 | S165: 0 | T165: =S165*H165 -> 0 | AR165: 4 | AT165: K | AU165: 2 | AY165: ROZPOCET | BE165: =IF(N165="základná",J165,0) -> 0 | BF165: =IF(N165="znížená",J165,0) -> 0 | BG165: =IF(N165="zákl. prenesená",J165,0) -> 0 | BH165: =IF(N165="zníž. prenesená",J165,0) -> 0 | BI165: =IF(N165="nulová",J165,0) -> 0 | BJ165: 2 | BK165: =ROUND(I165*H165,3) -> 0 | BL165: 4 | BM165: 1873462772
C166: 27 | D166: K | E166: 979081121.S | F166: Odvoz sutiny a vybúraných hmôt na skládku za každý ďalší 1 km (4x) | G166: t | H166: 17.232 | J166: =ROUND(I166*H166,3) -> 0 | N166: znížená | P166: =O166*H166 -> 0 | Q166: 0 | R166: =Q166*H166 -> 0 | S166: 0 | T166: =S166*H166 -> 0 | AR166: 4 | AT166: K | AU166: 2 | AY166: ROZPOCET | BE166: =IF(N166="základná",J166,0) -> 0 | BF166: =IF(N166="znížená",J166,0) -> 0 | BG166: =IF(N166="zákl. prenesená",J166,0) -> 0 | BH166: =IF(N166="zníž. prenesená",J166,0) -> 0 | BI166: =IF(N166="nulová",J166,0) -> 0 | BJ166: 2 | BK166: =ROUND(I166*H166,3) -> 0 | BL166: 4 | BM166: 599713926
...

Sheet 300 - Silnoprúdová elektr...
L2: >> skryté stĺpce << | AT2: {249dad72-b595-416b-8143-07ed50245f24}
AT3: 0
D4: KRYCÍ LIST ROZPOČTU | M4: v --- nižšie sa nachádzajú doplnkové a pomocné údaje k zostavám --- v | AT4: False
D6: Stavba:
E7: ='Rekapitulácia stavby'!K6 -> ZŠ Škultétyho-Oprava havarijného stavu kuchyne - 2.časť
D8: Objekt:
E9: 300 - Silnoprúdová elektroinštalácia
D11: JKSO: | I11: KS:
D12: Miesto: | F12: Škultétyho 1, Nitra | I12: Dátum: | J12: ='Rekapitulácia stavby'!AN8 -> 6. 9. 2021
D14: Objednávateľ: | I14: IČO:
E15: Mesto Nitra | I15: IČ DPH:
D17: Zhotoviteľ: | I17: IČO: | J17: ='Rekapitulácia stavby'!AN13 -> Vyplň údaj
E18: ='Rekapitulácia stavby'!E14 -> Vyplň údaj | I18: IČ DPH: | J18: ='Rekapitulácia stavby'!AN14 -> Vyplň údaj
D20: Projektant: | I20: IČO:
E21: Ing.arch.Igor Feník | I21: IČ DPH:
D23: Spracovateľ: | I23: IČO:
E24: Repka | I24: IČ DPH:
D26: Poznámka:
D30: Cena bez DPH | J30: =ROUND(J119, 2) -> 0
F32: Základ dane | I32: Sadzba dane | J32: Výška dane
D33: DPH | E33: základná | F33: =ROUND((SUM(BE119:BE175)), 2) -> 0 | I33: 0.2 | J33: =ROUND(((SUM(BE119:BE175))*I33), 2) -> 0
E34: znížená | F34: =ROUND((SUM(BF119:BF175)), 2) -> 0 | I34: 0.2 | J34: =ROUND(((SUM(BF119:BF175))*I34), 2) -> 0
E35: zákl. prenesená | F35: =ROUND((SUM(BG119:BG175)), 2) -> 0 | I35: 0.2 | J35: =0 -> 0
E36: zníž. prenesená | F36: =ROUND((SUM(BH119:BH175)), 2) -> 0 | I36: 0.2 | J36: =0 -> 0
E37: nulová | F37: =ROUND((SUM(BI119:BI175)), 2) -> 0 | I37: 0 | J37: =0 -> 0
D39: Cena s DPH | G39: v | H39: EUR | J39: =SUM(J30:J37) -> 0
D50: Projektant | G50: Spracovateľ
D61: Dátum a podpis: | F61: Pečiatka | G61: Dátum a podpis: | J61: Pečiatka
D65: Objednávateľ | G65: Zhotoviteľ
D76: Dátum a podpis: | F76: Pečiatka | G76: Dátum a podpis: | J76: Pečiatka
C82: REKAPITULÁCIA ROZPOČTU
C84: Stavba:
E85: =E7 -> ZŠ Škultétyho-Oprava havarijného stavu kuchyne - 2.časť
C86: Objekt:
E87: =E9 -> 300 - Silnoprúdová elektroinštalácia
C89: Miesto: | F89: =F12 -> Škultétyho 1, Nitra | I89: Dátum: | J89: =IF(J12="","",J12) -> 6. 9. 2021
C91: Objednávateľ: | F91: =E15 -> Mesto Nitra | I91: Projektant: | J91: =E21 -> Ing.arch.Igor Feník
C92: Zhotoviteľ: | F92: =IF(E18="","",E18) -> Vyplň údaj | I92: Spracovateľ: | J92: =E24 -> Repka
C94: Kód dielu - Popis | J94: Cena celkom [EUR]
C96: Náklady z rozpočtu | J96: =J119 -> 0 | AU96: -1
D97: M - Práce a dodávky M | J97: =J120 -> 0
D98: 21-M - Elektromontáže | J98: =J121 -> 0
D99: 21-D - Dodávka materialu | J99: =J152 -> 0
C106: ROZPOČET
C108: Stavba:
E109: =E7 -> ZŠ Škultétyho-Oprava havarijného stavu kuchyne - 2.časť
C110: Objekt:
E111: =E9 -> 300 - Silnoprúdová elektroinštalácia
C113: Miesto: | F113: =F12 -> Škultétyho 1, Nitra | I113: Dátum: | J113: =IF(J12="","",J12) -> 6. 9. 2021
C115: Objednávateľ: | F115: =E15 -> Mesto Nitra | I115: Projektant: | J115: =E21 -> Ing.arch.Igor Feník
C116: Zhotoviteľ: | F116: =IF(E18="","",E18) -> Vyplň údaj | I116: Spracovateľ: | J116: =E24 -> Repka
C118: PČ | D118: Typ | E118: Kód | F118: Popis | G118: MJ | H118: Množstvo | I118: J.cena [EUR] | J118: Cena celkom [EUR] | K118: Cenová sústava | N118: DPH | O118: J. Nh [h] | P118: Nh celkom [h] | Q118: J. hmotnosť [t] | R118: Hmotnosť celkom [t] | S118: J. suť [t] | T118: Suť Celkom [t]
C119: Náklady z rozpočtu | J119: =BK119 -> 0 | P119: =P120 -> 0 | R119: =R120 -> 0 | T119: =T120 -> 0 | AT119: D | AU119: -1 | BK119: =BK120 -> 0
D120: D | E120: M | F120: Práce a dodávky M | J120: =BK120 -> 0 | P120: =P121+P152 -> 0 | R120: =R121+R152 -> 0 | T120: =T121+T152 -> 0 | AR120: 3 | AT120: D | AU120: 0 | AY120: ROZPOCET | BK120: =BK121+BK152 -> 0
D121: D | E121: 21-M | F121: Elektromontáže | J121: =BK121 -> 0 | P121: =SUM(P122:P151) -> 0 | R121: =SUM(R122:R151) -> 0 | T121: =SUM(T122:T151) -> 0 | AR121: 3 | AT121: D | AU121: 1 | AY121: ROZPOCET | BK121: =SUM(BK122:BK151) -> 0
C122: 1 | D122: K | E122: 210020008 | F122: Trubka HFIRM 25 vrátane prislušenstva | G122: ks | H122: 45 | J122: =ROUND(I122*H122,3) -> 0 | N122: znížená | P122: =O122*H122 -> 0 | Q122: 0 | R122: =Q122*H122 -> 0 | S122: 0 | T122: =S122*H122 -> 0 | AR122: 64 | AT122: K | AU122: 2 | AY122: ROZPOCET | BE122: =IF(N122="základná",J122,0) -> 0 | BF122: =IF(N122="znížená",J122,0) -> 0 | BG122: =IF(N122="zákl. prenesená",J122,0) -> 0 | BH122: =IF(N122="zníž. prenesená",J122,0) -> 0 | BI122: =IF(N122="nulová",J122,0) -> 0 | BJ122: 2 | BK122: =ROUND(I122*H122,3) -> 0 | BL122: 64 | BM122: 771882472
C123: 2 | D123: K | E123: 210020351 | F123: Škatula rozbočovacia bezhalogénová | G123: ks | H123: 7 | J123: =ROUND(I123*H123,3) -> 0 | N123: znížená | P123: =O123*H123 -> 0 | Q123: 0 | R123: =Q123*H123 -> 0 | S123: 0 | T123: =S123*H123 -> 0 | AR123: 64 | AT123: K | AU123: 2 | AY123: ROZPOCET | BE123: =IF(N123="základná",J123,0) -> 0 | BF123: =IF(N123="znížená",J123,0) -> 0 | BG123: =IF(N123="zákl. prenesená",J123,0) -> 0 | BH123: =IF(N123="zníž. prenesená",J123,0) -> 0 | BI123: =IF(N123="nulová",J123,0) -> 0 | BJ123: 2 | BK123: =ROUND(I123*H123,3) -> 0 | BL123: 64 | BM123: 1421788416
C124: 3 | D124: K | E124: 210020137 | F124: Káblová príchytka | G124: ks | H124: 50 | J124: =ROUND(I124*H124,3) -> 0 | N124: znížená | P124: =O124*H124 -> 0 | Q124: 0 | R124: =Q124*H124 -> 0 | S124: 0 | T124: =S124*H124 -> 0 | AR124: 64 | AT124: K | AU124: 2 | AY124: ROZPOCET | BE124: =IF(N124="základná",J124,0) -> 0 | BF124: =IF(N124="znížená",J124,0) -> 0 | BG124: =IF(N124="zákl. prenesená",J124,0) -> 0 | BH124: =IF(N124="zníž. prenesená",J124,0) -> 0 | BI124: =IF(N124="nulová",J124,0) -> 0 | BJ124: 2 | BK124: =ROUND(I124*H124,3) -> 0 | BL124: 64 | BM124: -1430711649
C125: 4 | D125: K | E125: 210832514 | F125: Montáž Káblového žlabu | G125: m | H125: 6 | J125: =ROUND(I125*H125,3) -> 0 | N125: znížená | P125: =O125*H125 -> 0 | Q125: 0 | R125: =Q125*H125 -> 0 | S125: 0 | T125: =S125*H125 -> 0 | AR125: 64 | AT125: K | AU125: 2 | AY125: ROZPOCET | BE125: =IF(N125="základná",J125,0) -> 0 | BF125: =IF(N125="znížená",J125,0) -> 0 | BG125: =IF(N125="zákl. prenesená",J125,0) -> 0 | BH125: =IF(N125="zníž. prenesená",J125,0) -> 0 | BI125: =IF(N125="nulová",J125,0) -> 0 | BJ125: 2 | BK125: =ROUND(I125*H125,3) -> 0 | BL125: 64 | BM125: 1986989538
C126: 5 | D126: K | E126: 210100001 | F126: Ukončenie vodičov v rozvádzači vrátane zapojenia a vodičovej koncovky do 2,5mm2 | G126: ks | H126: 10 | J126: =ROUND(I126*H126,3) -> 0 | N126: znížená | P126: =O126*H126 -> 0 | Q126: 0 | R126: =Q126*H126 -> 0 | S126: 0 | T126: =S126*H126 -> 0 | AR126: 64 | AT126: K | AU126: 2 | AY126: ROZPOCET | BE126: =IF(N126="základná",J126,0) -> 0 | BF126: =IF(N126="znížená",J126,0) -> 0 | BG126: =IF(N126="zákl. prenesená",J126,0) -> 0 | BH126: =IF(N126="zníž. prenesená",J126,0) -> 0 | BI126: =IF(N126="nulová",J126,0) -> 0 | BJ126: 2 | BK126: =ROUND(I126*H126,3) -> 0 | BL126: 64 | BM126: 2116320571
C127: 6 | D127: K | E127: 210100002 | F127: Ukončenie vodičov v rozvádzači vrátane zapojenia a vodičovej koncovky do 6mm2 | G127: ks | H127: 20 | J127: =ROUND(I127*H127,3) -> 0 | N127: znížená | P127: =O127*H127 -> 0 | Q127: 0 | R127: =Q127*H127 -> 0 | S127: 0 | T127: =S127*H127 -> 0 | AR127: 64 | AT127: K | AU127: 2 | AY127: ROZPOCET | BE127: =IF(N127="základná",J127,0) -> 0 | BF127: =IF(N127="znížená",J127,0) -> 0 | BG127: =IF(N127="zákl. prenesená",J127,0) -> 0 | BH127: =IF(N127="zníž. prenesená",J127,0) -> 0 | BI127: =IF(N127="nulová",J127,0) -> 0 | BJ127: 2 | BK127: =ROUND(I127*H127,3) -> 0 | BL127: 64 | BM127: -1523116249
C128: 7 | D128: K | E128: 210100004 | F128: Ukončenie vodičov v rozvádzači vrátane zapojenia a vodičovej koncovky do 25 mm2 | G128: ks | H128: 10 | J128: =ROUND(I128*H128,3) -> 0 | N128: znížená | P128: =O128*H128 -> 0 | Q128: 0 | R128: =Q128*H128 -> 0 | S128: 0 | T128: =S128*H128 -> 0 | AR128: 64 | AT128: K | AU128: 2 | AY128: ROZPOCET | BE128: =IF(N128="základná",J128,0) -> 0 | BF128: =IF(N128="znížená",J128,0) -> 0 | BG128: =IF(N128="zákl. prenesená",J128,0) -> 0 | BH128: =IF(N128="zníž. prenesená",J128,0) -> 0 | BI128: =IF(N128="nulová",J128,0) -> 0 | BJ128: 2 | BK128: =ROUND(I128*H128,3) -> 0 | BL128: 64 | BM128: -692259956
C129: 8 | D129: K | E129: 210056871 | F129: Označovaci štitok | G129: ks | H129: 7 | J129: =ROUND(I129*H129,3) -> 0 | N129: znížená | P129: =O129*H129 -> 0 | Q129: 0 | R129: =Q129*H129 -> 0 | S129: 0 | T129: =S129*H129 -> 0 | AR129: 64 | AT129: K | AU129: 2 | AY129: ROZPOCET | BE129: =IF(N129="základná",J129,0) -> 0 | BF129: =IF(N129="znížená",J129,0) -> 0 | BG129: =IF(N129="zákl. prenesená",J129,0) -> 0 | BH129: =IF(N129="zníž. prenesená",J129,0) -> 0 | BI129: =IF(N129="nulová",J129,0) -> 0 | BJ129: 2 | BK129: =ROUND(I129*H129,3) -> 0 | BL129: 64 | BM129: 330124088
C130: 9 | D130: K | E130: 210201001 | F130: Montáž svietidla | G130: ks | H130: 10 | J130: =ROUND(I130*H130,3) -> 0 | N130: znížená | P130: =O130*H130 -> 0 | Q130: 0 | R130: =Q130*H130 -> 0 | S130: 0 | T130: =S130*H130 -> 0 | AR130: 64 | AT130: K | AU130: 2 | AY130: ROZPOCET | BE130: =IF(N130="základná",J130,0) -> 0 | BF130: =IF(N130="znížená",J130,0) -> 0 | BG130: =IF(N130="zákl. prenesená",J130,0) -> 0 | BH130: =IF(N130="zníž. prenesená",J130,0) -> 0 | BI130: =IF(N130="nulová",J130,0) -> 0 | BJ130: 2 | BK130: =ROUND(I130*H130,3) -> 0 | BL130: 64 | BM130: -594761038
C131: 10 | D131: K | E131: 210111251 | F131: Spínač č.1 IP55 | G131: ks | H131: 2 | J131: =ROUND(I131*H131,3) -> 0 | N131: znížená | P131: =O131*H131 -> 0 | Q131: 0 | R131: =Q131*H131 -> 0 | S131: 0 | T131: =S131*H131 -> 0 | AR131: 64 | AT131: K | AU131: 2 | AY131: ROZPOCET | BE131: =IF(N131="základná",J131,0) -> 0 | BF131: =IF(N131="znížená",J131,0) -> 0 | BG131: =IF(N131="zákl. prenesená",J131,0) -> 0 | BH131: =IF(N131="zníž. prenesená",J131,0) -> 0 | BI131: =IF(N131="nulová",J131,0) -> 0 | BJ131: 2 | BK131: =ROUND(I131*H131,3) -> 0 | BL131: 64 | BM131: 1568887288
C132: 11 | D132: K | E132: 210113212 | F132: Zásuvka jednoduchá L+N+PE 16A 250V IP55 | G132: ks | H132: 2 | J132: =ROUND(I132*H132,3) -> 0 | N132: znížená | P132: =O132*H132 -> 0 | Q132: 0 | R132: =Q132*H132 -> 0 | S132: 0 | T132: =S132*H132 -> 0 | AR132: 64 | AT132: K | AU132: 2 | AY132: ROZPOCET | BE132: =IF(N132="základná",J132,0) -> 0 | BF132: =IF(N132="znížená",J132,0) -> 0 | BG132: =IF(N132="zákl. prenesená",J132,0) -> 0 | BH132: =IF(N132="zníž. prenesená",J132,0) -> 0 | BI132: =IF(N132="nulová",J132,0) -> 0 | BJ132: 2 | BK132: =ROUND(I132*H132,3) -> 0 | BL132: 64 | BM132: 461698188
C133: 12 | D133: K | E133: 210800987 | F133: Kábel CHKE-R-J 5x25 B2cas1d1a1 | G133: m | H133: 25 | J133: =ROUND(I133*H133,3) -> 0 | N133: znížená | P133: =O133*H133 -> 0 | Q133: 0 | R133: =Q133*H133 -> 0 | S133: 0 | T133: =S133*H133 -> 0 | AR133: 64 | AT133: K | AU133: 2 | AY133: ROZPOCET | BE133: =IF(N133="základná",J133,0) -> 0 | BF133: =IF(N133="znížená",J133,0) -> 0 | BG133: =IF(N133="zákl. prenesená",J133,0) -> 0 | BH133: =IF(N133="zníž. prenesená",J133,0) -> 0 | BI133: =IF(N133="nulová",J133,0) -> 0 | BJ133: 2 | BK133: =ROUND(I133*H133,3) -> 0 | BL133: 64 | BM133: 1667533035
... C150: 29 | D150: K | E150: OST-5 | F150: Demontáž | G150: hod | H150: 8 | J150: =ROUND(I150*H150,3) -> 0 | N150: znížená | P150: =O150*H150 -> 0 | Q150: 0 | R150: =Q150*H150 -> 0 | S150: 0 | T150: =S150*H150 -> 0 | AR150: 64 | AT150: K | AU150: 2 | AY150: ROZPOCET | BE150: =IF(N150="základná",J150,0) -> 0 | BF150: =IF(N150="znížená",J150,0) -> 0 | BG150: =IF(N150="zákl. prenesená",J150,0) -> 0 | BH150: =IF(N150="zníž. prenesená",J150,0) -> 0 | BI150: =IF(N150="nulová",J150,0) -> 0 | BJ150: 2 | BK150: =ROUND(I150*H150,3) -> 0 | BL150: 64 | BM150: -378498893
C151: 30 | D151: K | E151: PPV | F151: Podiel pridružených výkonov | G151: % | J151: =ROUND(I151*H151,3) -> 0 | N151: znížená | P151: =O151*H151 -> 0 | Q151: 0 | R151: =Q151*H151 -> 0 | S151: 0 | T151: =S151*H151 -> 0 | AR151: 64 | AT151: K | AU151: 2 | AY151: ROZPOCET | BE151: =IF(N151="základná",J151,0) -> 0 | BF151: =IF(N151="znížená",J151,0) -> 0 | BG151: =IF(N151="zákl. prenesená",J151,0) -> 0 | BH151: =IF(N151="zníž. prenesená",J151,0) -> 0 | BI151: =IF(N151="nulová",J151,0) -> 0 | BJ151: 2 | BK151: =ROUND(I151*H151,3) -> 0 | BL151: 64 | BM151: 694891747
D152: D | E152: 21-D | F152: Dodávka materialu | J152: =BK152 -> 0 | P152: =SUM(P153:P175) -> 0 | R152: =SUM(R153:R175) -> 0 | T152: =SUM(T153:T175) -> 0 | AR152: 1 | AT152: D | AU152: 1 | AY152: ROZPOCET | BK152: =SUM(BK153:BK175) -> 0
C153: 31 | D153: M | E153: EKR000000202 | F153: Krabica rozbočovacia bezhalogénová | G153: ks | H153: 7 | J153: =ROUND(I153*H153,3) -> 0 | N153: znížená | P153: =O153*H153 -> 0 | Q153: 0 | R153: =Q153*H153 -> 0 | S153: 0 | T153: =S153*H153 -> 0 | AR153: 8 | AT153: M | AU153: 2 | AY153: ROZPOCET | BE153: =IF(N153="základná",J153,0) -> 0 | BF153: =IF(N153="znížená",J153,0) -> 0 | BG153: =IF(N153="zákl. prenesená",J153,0) -> 0 | BH153: =IF(N153="zníž. prenesená",J153,0) -> 0 | BI153: =IF(N153="nulová",J153,0) -> 0 | BJ153: 2 | BK153: =ROUND(I153*H153,3) -> 0 | BL153: 4 | BM153: 1400230650
C154: 32 | D154: M | E154: KTR000001777 | F154: Trubka HFIRM 25 vrátane prislušenstva | G154: m | H154: 40 | J154: =ROUND(I154*H154,3) -> 0 | N154: znížená | P154: =O154*H154 -> 0 | Q154: 0 | R154: =Q154*H154 -> 0 | S154: 0 | T154: =S154*H154 -> 0 | AR154: 8 | AT154: M | AU154: 2 | AY154: ROZPOCET | BE154: =IF(N154="základná",J154,0) -> 0 | BF154: =IF(N154="znížená",J154,0) -> 0 | BG154: =IF(N154="zákl. prenesená",J154,0) -> 0 | BH154: =IF(N154="zníž. prenesená",J154,0) -> 0 | BI154: =IF(N154="nulová",J154,0) -> 0 | BJ154: 2 | BK154: =ROUND(I154*H154,3) -> 0 | BL154: 4 | BM154: 1763568526
C155: 33 | D155: M | E155: 345874531 | F155: Označovací štítok | G155: ks | H155: 7 | J155: =ROUND(I155*H155,3) -> 0 | N155: znížená | P155: =O155*H155 -> 0 | Q155: 0 | R155: =Q155*H155 -> 0 | S155: 0 | T155: =S155*H155 -> 0 | AR155: 8 | AT155: M | AU155: 2 | AY155: ROZPOCET | BE155: =IF(N155="základná",J155,0) -> 0 | BF155: =IF(N155="znížená",J155,0) -> 0 | BG155: =IF(N155="zákl. prenesená",J155,0) -> 0 | BH155: =IF(N155="zníž. prenesená",J155,0) -> 0 | BI155: =IF(N155="nulová",J155,0) -> 0 | BJ155: 2 | BK155: =ROUND(I155*H155,3) -> 0 | BL155: 4 | BM155: -118937624
C156: 34 | D156: M | E156: 100200500 | F156: Nerezový Káblový žlab 100x50 napr.: Strader BAKS KCJ 100H50 vrátane upevnovacieho systému | G156: m | H156: 6 | J156: =ROUND(I156*H156,3) -> 0 | N156: znížená | P156: =O156*H156 -> 0 | Q156: 0 | R156: =Q156*H156 -> 0 | S156: 0 | T156: =S156*H156 -> 0 | AR156: 8 | AT156: M | AU156: 2 | AY156: ROZPOCET | BE156: =IF(N156="základná",J156,0) -> 0 | BF156: =IF(N156="znížená",J156,0) -> 0 | BG156: =IF(N156="zákl. prenesená",J156,0) -> 0 | BH156: =IF(N156="zníž. prenesená",J156,0) -> 0 | BI156: =IF(N156="nulová",J156,0) -> 0 | BJ156: 2 | BK156: =ROUND(I156*H156,3) -> 0 | BL156: 4 | BM156: -1556772945
C157: 35 | D157: M | E157: KTR000001142 | F157: Káblová príchytka | G157: ks | H157: 50 | J157: =ROUND(I157*H157,3) -> 0 | N157: znížená | P157: =O157*H157 -> 0 | Q157: 0 | R157: =Q157*H157 -> 0 | S157: 0 | T157: =S157*H157 -> 0 | AR157: 8 | AT157: M | AU157: 2 | AY157: ROZPOCET | BE157: =IF(N157="základná",J157,0) -> 0 | BF157: =IF(N157="znížená",J157,0) -> 0 | BG157: =IF(N157="zákl. prenesená",J157,0) -> 0 | BH157: =IF(N157="zníž. prenesená",J157,0) -> 0 | BI157: =IF(N157="nulová",J157,0) -> 0 | BJ157: 2 | BK157: =ROUND(I157*H157,3) -> 0 | BL157: 4 | BM157: -423028963
C158: 36 | D158: M | E158: 100 | F158: C - prisadené LED svietidlo - priemyselné, 30W 4000lm, 230V 50 Hz, IP65 napr.: Philips WT120C G2 PSU L1200 1xLED40S/840 | G158: ks | H158: 8 | J158: =ROUND(I158*H158,3) -> 0 | N158: znížená | P158: =O158*H158 -> 0 | Q158: 0 | R158: =Q158*H158 -> 0 | S158: 0 | T158: =S158*H158 -> 0 | AR158: 8 | AT158: M | AU158: 2 | AY158: ROZPOCET | BE158: =IF(N158="základná",J158,0) -> 0 | BF158: =IF(N158="znížená",J158,0) -> 0 | BG158: =IF(N158="zákl. prenesená",J158,0) -> 0 | BH158: =IF(N158="zníž. prenesená",J158,0) -> 0 | BI158: =IF(N158="nulová",J158,0) -> 0 | BJ158: 2 | BK158: =ROUND(I158*H158,3) -> 0 | BL158: 4 | BM158: 737511664
C159: 37 | D159: M | E159: 200 | F159: N - núdzové LED svietidlo s autonómnym zdrojom 1. hod + piktogram, 1,5W 120lm, 230V 50 Hz, IP65 napr.: HELPLUX SIRIOS LED | G159: ks | H159: 2 | J159: =ROUND(I159*H159,3) -> 0 | N159: znížená | P159: =O159*H159 -> 0 | Q159: 0 | R159: =Q159*H159 -> 0 | S159: 0 | T159: =S159*H159 -> 0 | AR159: 8 | AT159: M | AU159: 2 | AY159: ROZPOCET | BE159: =IF(N159="základná",J159,0) -> 0 | BF159: =IF(N159="znížená",J159,0) -> 0 | BG159: =IF(N159="zákl. prenesená",J159,0) -> 0 | BH159: =IF(N159="zníž. prenesená",J159,0) -> 0 | BI159: =IF(N159="nulová",J159,0) -> 0 | BJ159: 2 | BK159: =ROUND(I159*H159,3) -> 0 | BL159: 4 | BM159: -871544498
C160: 38 | D160: M | E160: ESP000000006 | F160: Spínač osvetlenia-striedavý, 10A 250V, montáž na povrchm IP 55 napr.: Legrand Plexo( 0 697 11) | G160: ks | H160: 2 | J160: =ROUND(I160*H160,3) -> 0 | N160: znížená | P160: =O160*H160 -> 0 | Q160: 0 | R160: =Q160*H160 -> 0 | S160: 0 | T160: =S160*H160 -> 0 | AR160: 8 | AT160: M | AU160: 2 | AY160: ROZPOCET | BE160: =IF(N160="základná",J160,0) -> 0 | BF160: =IF(N160="znížená",J160,0) -> 0 | BG160: =IF(N160="zákl. prenesená",J160,0) -> 0 | BH160: =IF(N160="zníž. prenesená",J160,0) -> 0 | BI160: =IF(N160="nulová",J160,0) -> 0 | BJ160: 2 | BK160: =ROUND(I160*H160,3) -> 0 | BL160: 4 | BM160: -1081955759
C161: 39 | D161: M | E161: EZA000000014 | F161: Zásuvka jednoduchá L+N+PE do vonk.prostredia, 16A 250 V, montáž na povrch, IP55, napr.: Legrand Plexo ( 0 697 31) | G161: ks | H161: 2 | J161: =ROUND(I161*H161,3) -> 0 | N161: znížená | P161: =O161*H161 -> 0 | Q161: 0 | R161: =Q161*H161 -> 0 | S161: 0 | T161: =S161*H161 -> 0 | AR161: 8 | AT161: M | AU161: 2 | AY161: ROZPOCET | BE161: =IF(N161="základná",J161,0) -> 0 | BF161: =IF(N161="znížená",J161,0) -> 0 | BG161: =IF(N161="zákl. prenesená",J161,0) -> 0 | BH161: =IF(N161="zníž. prenesená",J161,0) -> 0 | BI161: =IF(N161="nulová",J161,0) -> 0 | BJ161: 2 | BK161: =ROUND(I161*H161,3) -> 0 | BL161: 4 | BM161: -859265825
C162: 40 | D162: M | E162: KPE000002048 | F162: Kábel CHKE-R-J 5x25 B2cas1d1a1 | G162: m | H162: 25 | J162: =ROUND(I162*H162,3) -> 0 | N162: znížená | P162: =O162*H162 -> 0 | Q162: 0 | R162: =Q162*H162 -> 0 | S162: 0 | T162: =S162*H162 -> 0 | AR162: 8 | AT162: M | AU162: 2 | AY162: ROZPOCET | BE162: =IF(N162="základná",J162,0) -> 0 | BF162: =IF(N162="znížená",J162,0) -> 0 | BG162: =IF(N162="zákl. prenesená",J162,0) -> 0 | BH162: =IF(N162="zníž. prenesená",J162,0) -> 0 | BI162: =IF(N162="nulová",J162,0) -> 0 | BJ162: 2 | BK162: =ROUND(I162*H162,3) -> 0 | BL162: 4 | BM162: 860801252
C163: 41 | D163: M | E163: KPE000002849 | F163: Kábel CHKE-R-J 5x4 B2cas1d1a1 | G163: m | H163: 60 | J163: =ROUND(I163*H163,3) -> 0 | N163: znížená | P163: =O163*H163 -> 0 | Q163: 0 | R163: =Q163*H163 -> 0 | S163: 0 | T163: =S163*H163 -> 0 | AR163: 8 | AT163: M | AU163: 2 | AY163: ROZPOCET | BE163: =IF(N163="základná",J163,0) -> 0 | BF163: =IF(N163="znížená",J163,0) -> 0 | BG163: =IF(N163="zákl. prenesená",J163,0) -> 0 | BH163: =IF(N163="zníž. prenesená",J163,0) -> 0 | BI163: =IF(N163="nulová",J163,0) -> 0 | BJ163: 2 | BK163: =ROUND(I163*H163,3) -> 0 | BL163: 4 | BM163: 1827537363
C164: 42 | D164: M | E164: KPE000000966 | F164: Kábel CHKE-R-J 3x2,5 B2cas1d1a1 | G164: m | H164: 50 | J164: =ROUND(I164*H164,3) -> 0 | N164: znížená | P164: =O164*H164 -> 0 | Q164: 0 | R164: =Q164*H164 -> 0 | S164: 0 | T164: =S164*H164 -> 0 | AR164: 8 | AT164: M | AU164: 2 | AY164: ROZPOCET | BE164: =IF(N164="základná",J164,0) -> 0 | BF164: =IF(N164="znížená",J164,0) -> 0 | BG164: =IF(N164="zákl. prenesená",J164,0) -> 0 | BH164: =IF(N164="zníž. prenesená",J164,0) -> 0 | BI164: =IF(N164="nulová",J164,0) -> 0 | BJ164: 2 | BK164: =ROUND(I164*H164,3) -> 0 | BL164: 4 | BM164: 2075702363
... C170: 48 | D170: M | E170: ESV000000041 | F170: Svorka Bečov ZSA-16+CU pásik a vodičom CY6zž | G170: ks | H170: 4 | J170: =ROUND(I170*H170,3) -> 0 | N170: znížená | P170: =O170*H170 -> 0 | Q170: 0 | R170: =Q170*H170 -> 0 | S170: 0 | T170: =S170*H170 -> 0 | AR170: 8 | AT170: M | AU170: 2 | AY170: ROZPOCET | BE170: =IF(N170="základná",J170,0) -> 0 | BF170: =IF(N170="znížená",J170,0) -> 0 | BG170: =IF(N170="zákl. prenesená",J170,0) -> 0 | BH170: =IF(N170="zníž. prenesená",J170,0) -> 0 | BI170: =IF(N170="nulová",J170,0) -> 0 | BJ170: 2 | BK170: =ROUND(I170*H170,3) -> 0 | BL170: 4 | BM170: 554836265
C171: 49 | D171: M | E171: ESV000000041.1 | F171: Svorka Bečov ZS-4 a vodičom 1-CH-R 4zž(batérie kúpelne - doplnkové miestne) | H171: 4 | J171: =ROUND(I171*H171,3) -> 0 | N171: znížená | P171: =O171*H171 -> 0 | Q171: 0 | R171: =Q171*H171 -> 0 | S171: 0 | T171: =S171*H171 -> 0 | AR171: 8 | AT171: M | AU171: 2 | AY171: ROZPOCET | BE171: =IF(N171="základná",J171,0) -> 0 | BF171: =IF(N171="znížená",J171,0) -> 0 | BG171: =IF(N171="zákl. prenesená",J171,0) -> 0 | BH171: =IF(N171="zníž. prenesená",J171,0) -> 0 | BI171: =IF(N171="nulová",J171,0) -> 0 | BJ171: 2 | BK171: =ROUND(I171*H171,3) -> 0 | BL171: 4 | BM171: -748648626
C172: 50 | D172: M | E172: 10001 | F172: Doplnenie do rozvádzača R1.5 (1 B63/3 vráatane príslušenstva) | G172: kpl | H172: 1 | J172: =ROUND(I172*H172,3) -> 0 | N172: znížená | P172: =O172*H172 -> 0 | Q172: 0 | R172: =Q172*H172 -> 0 | S172: 0 | T172: =S172*H172 -> 0 | AR172: 8 | AT172: M | AU172: 2 | AY172: ROZPOCET | BE172: =IF(N172="základná",J172,0) -> 0 | BF172: =IF(N172="znížená",J172,0) -> 0 | BG172: =IF(N172="zákl. prenesená",J172,0) -> 0 | BH172: =IF(N172="zníž. prenesená",J172,0) -> 0 | BI172: =IF(N172="nulová",J172,0) -> 0 | BJ172: 2 | BK172: =ROUND(I172*H172,3) -> 0 | BL172: 4 | BM172: 404677559
C173: 51 | D173: M | E173: 10002 | F173: Rozvádzač R-VZT | G173: ks | H173: 1 | J173: =ROUND(I173*H173,3) -> 0 | N173: znížená | P173: =O173*H173 -> 0 | Q173: 0 | R173: =Q173*H173 -> 0 | S173: 0 | T173: =S173*H173 -> 0 | AR173: 8 | AT173: M | AU173: 2 | AY173: ROZPOCET | BE173: =IF(N173="základná",J173,0) -> 0 | BF173: =IF(N173="znížená",J173,0) -> 0 | BG173: =IF(N173="zákl. prenesená",J173,0) -> 0 | BH173: =IF(N173="zníž. prenesená",J173,0) -> 0 | BI173: =IF(N173="nulová",J173,0) -> 0 | BJ173: 2 | BK173: =ROUND(I173*H173,3) -> 0 | BL173: 4 | BM173: -1652477689
C174: 52 | D174: M | E174: ESV000001919 | F174: EPP-svorkovnica | G174: ks | H174: 1 | J174: =ROUND(I174*H174,3) -> 0 | N174: znížená | P174: =O174*H174 -> 0 | Q174: 0 | R174: =Q174*H174 -> 0 | S174: 0 | T174: =S174*H174 -> 0 | AR174: 8 | AT174: M | AU174: 2 | AY174: ROZPOCET | BE174: =IF(N174="základná",J174,0) -> 0 | BF174: =IF(N174="znížená",J174,0) -> 0 | BG174: =IF(N174="zákl. prenesená",J174,0) -> 0 | BH174: =IF(N174="zníž. prenesená",J174,0) -> 0 | BI174: =IF(N174="nulová",J174,0) -> 0 | BJ174: 2 | BK174: =ROUND(I174*H174,3) -> 0 | BL174: 4 | BM174: -250139477
C175: 53 | D175: M | E175: PV | F175: Podružný material | G175: % | J175: =ROUND(I175*H175,3) -> 0 | N175: znížená | P175: =O175*H175 -> 0 | Q175: 0 | R175: =Q175*H175 -> 0 | S175: 0 | T175: =S175*H175 -> 0 | AR175: 8 | AT175: M | AU175: 2 | AY175: ROZPOCET | BE175: =IF(N175="základná",J175,0) -> 0 | BF175: =IF(N175="znížená",J175,0) -> 0 | BG175: =IF(N175="zákl. prenesená",J175,0) -> 0 | BH175: =IF(N175="zníž. prenesená",J175,0) -> 0 | BI175: =IF(N175="nulová",J175,0) -> 0 | BJ175: 2 | BK175: =ROUND(I175*H175,3) -> 0 | BL175: 4 | BM175: 1773223395

Sheet 401 - Blok 01  – Kuchyňa ...
L2: >> skryté stĺpce << | AT2: {fd7394b2-19e0-4a6f-b79f-e26cd473510b}
AT3: 0
D4: KRYCÍ LIST ROZPOČTU | M4: v --- nižšie sa nachádzajú doplnkové a pomocné údaje k zostavám --- v | AT4: False
D6: Stavba:
E7: ='Rekapitulácia stavby'!K6 -> ZŠ Škultétyho-Oprava havarijného stavu kuchyne - 2.časť
D8: Objekt:
E9: 400 - Vzduchotechnika a vetranie
D10: Časť:
E11: 401 - Blok 01 – Kuchyňa (1. NP)
D13: JKSO: | I13: KS:
D14: Miesto: | F14: Škultétyho 1, Nitra | I14: Dátum: | J14: ='Rekapitulácia stavby'!AN8 -> 6. 9. 2021
D16: Objednávateľ: | I16: IČO:
E17: Mesto Nitra | I17: IČ DPH:
D19: Zhotoviteľ: | I19: IČO: | J19: ='Rekapitulácia stavby'!AN13 -> Vyplň údaj
E20: ='Rekapitulácia stavby'!E14 -> Vyplň údaj | I20: IČ DPH: | J20: ='Rekapitulácia stavby'!AN14 -> Vyplň údaj
D22: Projektant: | I22: IČO:
E23: Ing.arch.Igor Feník | I23: IČ DPH:
D25: Spracovateľ: | I25: IČO:
E26: Ing.Marcin | I26: IČ DPH:
D28: Poznámka:
D32: Cena bez DPH | J32: =ROUND(J124, 2) -> 0
F34: Základ dane | I34: Sadzba dane | J34: Výška dane
D35: DPH | E35: základná | F35: =ROUND((SUM(BE124:BE172)), 2) -> 0 | I35: 0.2 | J35: =ROUND(((SUM(BE124:BE172))*I35), 2) -> 0
E36: znížená | F36: =ROUND((SUM(BF124:BF172)), 2) -> 0 | I36: 0.2 | J36: =ROUND(((SUM(BF124:BF172))*I36), 2) -> 0
E37: zákl. prenesená | F37: =ROUND((SUM(BG124:BG172)), 2) -> 0 | I37: 0.2 | J37: =0 -> 0
E38: zníž. prenesená | F38: =ROUND((SUM(BH124:BH172)), 2) -> 0 | I38: 0.2 | J38: =0 -> 0
E39: nulová | F39: =ROUND((SUM(BI124:BI172)), 2) -> 0 | I39: 0 | J39: =0 -> 0
D41: Cena s DPH | G41: v | H41: EUR | J41: =SUM(J32:J39) -> 0
D50: Projektant | G50: Spracovateľ
D61: Dátum a podpis: | F61: Pečiatka | G61: Dátum a podpis: | J61: Pečiatka
D65: Objednávateľ | G65: Zhotoviteľ
D76: Dátum a podpis: | F76: Pečiatka | G76: Dátum a podpis: | J76: Pečiatka
C82: REKAPITULÁCIA ROZPOČTU
C84: Stavba:
E85: =E7 -> ZŠ Škultétyho-Oprava havarijného stavu kuchyne - 2.časť
C86: Objekt:
E87: 400 - Vzduchotechnika a vetranie
C88: Časť:
E89: =E11 -> 401 - Blok 01 – Kuchyňa (1. NP)
C91: Miesto: | F91: =F14 -> Škultétyho 1, Nitra | I91: Dátum: | J91: =IF(J14="","",J14) -> 6. 9. 2021
C93: Objednávateľ: | F93: =E17 -> Mesto Nitra | I93: Projektant: | J93: =E23 -> Ing.arch.Igor Feník
C94: Zhotoviteľ: | F94: =IF(E20="","",E20) -> Vyplň údaj | I94: Spracovateľ: | J94: =E26 -> Ing.Marcin
C96: Kód dielu - Popis | J96: Cena celkom [EUR]
C98: Náklady z rozpočtu | J98: =J124 -> 0 | AU98: -1
D99: D1 - Práce a dodávky M | J99: =J125 -> 0
D100: D2 - Zariadenie č.1 | J100: =J126 -> 0
D101: D3 - Demontáž existujúcej strojovne VZT potrubia VZT pre časť kuchyňa - I. ETAPA | J101: =J162 -> 0
D102: D4 - Príslušenstvo pre montáž zariadenia | J102: =J170 -> 0
C109: ROZPOČET
C111: Stavba:
E112: =E7 -> ZŠ Škultétyho-Oprava havarijného stavu kuchyne - 2.časť
C113: Objekt:
E114: 400 - Vzduchotechnika a vetranie
C115: Časť:
E116: =E11 -> 401 - Blok 01 – Kuchyňa (1. NP)
C118: Miesto: | F118: =F14 -> Škultétyho 1, Nitra | I118: Dátum: | J118: =IF(J14="","",J14) -> 6. 9. 2021
C120: Objednávateľ: | F120: =E17 -> Mesto Nitra | I120: Projektant: | J120: =E23 -> Ing.arch.Igor Feník
C121: Zhotoviteľ: | F121: =IF(E20="","",E20) -> Vyplň údaj | I121: Spracovateľ: | J121: =E26 -> Ing.Marcin
C123: PČ | D123: Typ | E123: Kód | F123: Popis | G123: MJ | H123: Množstvo | I123: J.cena [EUR] | J123: Cena celkom [EUR] | K123: Cenová sústava | N123: DPH | O123: J. Nh [h] | P123: Nh celkom [h] | Q123: J. hmotnosť [t] | R123: Hmotnosť celkom [t] | S123: J. suť [t] | T123: Suť Celkom [t]
C124: Náklady z rozpočtu | J124: =BK124 -> 0 | P124: =P125 -> 0 | R124: =R125 -> 0 | T124: =T125 -> 0 | AT124: D | AU124: -1 | BK124: =BK125 -> 0
D125: D | E125: D1 | F125: Práce a dodávky M | J125: =BK125 -> 0 | P125: =P126+P162+P170 -> 0 | R125: =R126+R162+R170 -> 0 | T125: =T126+T162+T170 -> 0 | AR125: 1 | AT125: D | AU125: 0 | AY125: ROZPOCET | BK125: =BK126+BK162+BK170 -> 0
D126: D | E126: D2 | F126: Zariadenie č.1 | J126: =BK126 -> 0 | P126: =SUM(P127:P161) -> 0 | R126: =SUM(R127:R161) -> 0 | T126: =SUM(T127:T161) -> 0 | AR126: 1 | AT126: D | AU126: 1 | AY126: ROZPOCET | BK126: =SUM(BK127:BK161) -> 0
C127: 1 | D127: K | E127: Pol1 | F127: Rekuperačná jednotka (napr. DUPLEX 10100 Basic) | G127: kpl | H127: 1 | J127: =ROUND(I127*H127,3) -> 0 | N127: znížená | P127: =O127*H127 -> 0 | Q127: 0 | R127: =Q127*H127 -> 0 | S127: 0 | T127: =S127*H127 -> 0 | AR127: 64 | AT127: K | AU127: 2 | AY127: ROZPOCET | BE127: =IF(N127="základná",J127,0) -> 0 | BF127: =IF(N127="znížená",J127,0) -> 0 | BG127: =IF(N127="zákl. prenesená",J127,0) -> 0 | BH127: =IF(N127="zníž. prenesená",J127,0) -> 0 | BI127: =IF(N127="nulová",J127,0) -> 0 | BJ127: 2 | BK127: =ROUND(I127*H127,3) -> 0 | BL127: 64 | BM127: 104222207
C128: 2 | D128: K | E128: Pol2 | F128: Izolačné gumy pod nosným rámom VZT jednotky | G128: kpl | H128: 1 | J128: =ROUND(I128*H128,3) -> 0 | N128: znížená | P128: =O128*H128 -> 0 | Q128: 0 | R128: =Q128*H128 -> 0 | S128: 0 | T128: =S128*H128 -> 0 | AR128: 64 | AT128: K | AU128: 2 | AY128: ROZPOCET | BE128: =IF(N128="základná",J128,0) -> 0 | BF128: =IF(N128="znížená",J128,0) -> 0 | BG128: =IF(N128="zákl. prenesená",J128,0) -> 0 | BH128: =IF(N128="zníž. prenesená",J128,0) -> 0 | BI128: =IF(N128="nulová",J128,0) -> 0 | BJ128: 2 | BK128: =ROUND(I128*H128,3) -> 0 | BL128: 64 | BM128: -293008811
C129: 3 | D129: K | E129: Pol3 | F129: odvod kondenzátu dopojiť na prípravu od ZTI cez protizápachový uzáver | G129: kpl | H129: 1 | J129: =ROUND(I129*H129,3) -> 0 | N129: znížená | P129: =O129*H129 -> 0 | Q129: 0 | R129: =Q129*H129 -> 0 | S129: 0 | T129: =S129*H129 -> 0 | AR129: 64 | AT129: K | AU129: 2 | AY129: ROZPOCET | BE129: =IF(N129="základná",J129,0) -> 0 | BF129: =IF(N129="znížená",J129,0) -> 0 | BG129: =IF(N129="zákl. prenesená",J129,0) -> 0 | BH129: =IF(N129="zníž. prenesená",J129,0) -> 0 | BI129: =IF(N129="nulová",J129,0) -> 0 | BJ129: 2 | BK129: =ROUND(I129*H129,3) -> 0 | BL129: 64 | BM129: -341392842
C130: 4 | D130: K | E130: Pol4 | F130: Systém MaR | G130: kpl | H130: 1 | J130: =ROUND(I130*H130,3) -> 0 | N130: znížená | P130: =O130*H130 -> 0 | Q130: 0 | R130: =Q130*H130 -> 0 | S130: 0 | T130: =S130*H130 -> 0 | AR130: 64 | AT130: K | AU130: 2 | AY130: ROZPOCET | BE130: =IF(N130="základná",J130,0) -> 0 | BF130: =IF(N130="znížená",J130,0) -> 0 | BG130: =IF(N130="zákl. prenesená",J130,0) -> 0 | BH130: =IF(N130="zníž. prenesená",J130,0) -> 0 | BI130: =IF(N130="nulová",J130,0) -> 0 | BJ130: 2 | BK130: =ROUND(I130*H130,3) -> 0 | BL130: 64 | BM130: 1061291488
C131: 5 | D131: K | E131: Pol5 | F131: Prekáblovanie vzdialeného ovládača | G131: bm | H131: 30 | J131: =ROUND(I131*H131,3) -> 0 | N131: znížená | P131: =O131*H131 -> 0 | Q131: 0 | R131: =Q131*H131 -> 0 | S131: 0 | T131: =S131*H131 -> 0 | AR131: 64 | AT131: K | AU131: 2 | AY131: ROZPOCET | BE131: =IF(N131="základná",J131,0) -> 0 | BF131: =IF(N131="znížená",J131,0) -> 0 | BG131: =IF(N131="zákl. prenesená",J131,0) -> 0 | BH131: =IF(N131="zníž. prenesená",J131,0) -> 0 | BI131: =IF(N131="nulová",J131,0) -> 0 | BJ131: 2 | BK131: =ROUND(I131*H131,3) -> 0 | BL131: 64 | BM131: 1749494876
C132: 6 | D132: K | E132: Pol6 | F132: Protipožiarna klapka PKIS-EI90S-800x400-ZV | G132: kpl | H132: 2 | J132: =ROUND(I132*H132,3) -> 0 | N132: znížená | P132: =O132*H132 -> 0 | Q132: 0 | R132: =Q132*H132 -> 0 | S132: 0 | T132: =S132*H132 -> 0 | AR132: 64 | AT132: K | AU132: 2 | AY132: ROZPOCET | BE132: =IF(N132="základná",J132,0) -> 0 | BF132: =IF(N132="znížená",J132,0) -> 0 | BG132: =IF(N132="zákl. prenesená",J132,0) -> 0 | BH132: =IF(N132="zníž. prenesená",J132,0) -> 0 | BI132: =IF(N132="nulová",J132,0) -> 0 | BJ132: 2 | BK132: =ROUND(I132*H132,3) -> 0 | BL132: 64 | BM132: -1577178102
C133: 7 | D133: K | E133: Pol7 | F133: Protipožiarna klapka PKIS-EI90S-800x630-ZV | G133: kpl | H133: 1 | J133: =ROUND(I133*H133,3) -> 0 | N133: znížená | P133: =O133*H133 -> 0 | Q133: 0 | R133: =Q133*H133 -> 0 | S133: 0 | T133: =S133*H133 -> 0 | AR133: 64 | AT133: K | AU133: 2 | AY133: ROZPOCET | BE133: =IF(N133="základná",J133,0) -> 0 | BF133: =IF(N133="znížená",J133,0) -> 0 | BG133: =IF(N133="zákl. prenesená",J133,0) -> 0 | BH133: =IF(N133="zníž. prenesená",J133,0) -> 0 | BI133: =IF(N133="nulová",J133,0) -> 0 | BJ133: 2 | BK133: =ROUND(I133*H133,3) -> 0 | BL133: 64 | BM133: 766429084
C134: 8 | D134: K | E134: Pol8 | F134: Protipožiarna klapka PKIS-EI90S-630x630-ZV | G134: kpl | H134: 1 | J134: =ROUND(I134*H134,3) -> 0 | N134: znížená | P134: =O134*H134 -> 0 | Q134: 0 | R134: =Q134*H134 -> 0 | S134: 0 | T134: =S134*H134 -> 0 | AR134: 64 | AT134: K | AU134: 2 | AY134: ROZPOCET | BE134: =IF(N134="základná",J134,0) -> 0 | BF134: =IF(N134="znížená",J134,0) -> 0 | BG134: =IF(N134="zákl. prenesená",J134,0) -> 0 | BH134: =IF(N134="zníž. prenesená",J134,0) -> 0 | BI134: =IF(N134="nulová",J134,0) -> 0 | BJ134: 2 | BK134: =ROUND(I134*H134,3) -> 0 | BL134: 64 | BM134: 623114028
C135: 9 | D135: K | E135: Pol9 | F135: Tlmič hluku THP-20-1200x630-1500-3 | G135: kpl | H135: 2 | J135: =ROUND(I135*H135,3) -> 0 | N135: znížená | P135: =O135*H135 -> 0 | Q135: 0 | R135: =Q135*H135 -> 0 | S135: 0 | T135: =S135*H135 -> 0 | AR135: 64 | AT135: K | AU135: 2 | AY135: ROZPOCET | BE135: =IF(N135="základná",J135,0) -> 0 | BF135: =IF(N135="znížená",J135,0) -> 0 | BG135: =IF(N135="zákl. prenesená",J135,0) -> 0 | BH135: =IF(N135="zníž. prenesená",J135,0) -> 0 | BI135: =IF(N135="nulová",J135,0) -> 0 | BJ135: 2 | BK135: =ROUND(I135*H135,3) -> 0 | BL135: 64 | BM135: -215334931
C136: 10 | D136: K | E136: Pol10 | F136: Tlmič hluku THP-20-800x630-1500-2 | G136: kpl | H136: 3 | J136: =ROUND(I136*H136,3) -> 0 | N136: znížená | P136: =O136*H136 -> 0 | Q136: 0 | R136: =Q136*H136 -> 0 | S136: 0 | T136: =S136*H136 -> 0 | AR136: 64 | AT136: K | AU136: 2 | AY136: ROZPOCET | BE136: =IF(N136="základná",J136,0) -> 0 | BF136: =IF(N136="znížená",J136,0) -> 0 | BG136: =IF(N136="zákl. prenesená",J136,0) -> 0 | BH136: =IF(N136="zníž. prenesená",J136,0) -> 0 | BI136: =IF(N136="nulová",J136,0) -> 0 | BJ136: 2 | BK136: =ROUND(I136*H136,3) -> 0 | BL136: 64 | BM136: 490269661
C137: 11 | D137: K | E137: Pol11 | F137: Tlmič hluku THP-20-800x630-1000-2 | G137: kpl | H137: 1 | J137: =ROUND(I137*H137,3) -> 0 | N137: znížená | P137: =O137*H137 -> 0 | Q137: 0 | R137: =Q137*H137 -> 0 | S137: 0 | T137: =S137*H137 -> 0 | AR137: 64 | AT137: K | AU137: 2 | AY137: ROZPOCET | BE137: =IF(N137="základná",J137,0) -> 0 | BF137: =IF(N137="znížená",J137,0) -> 0 | BG137: =IF(N137="zákl. prenesená",J137,0) -> 0 | BH137: =IF(N137="zníž. prenesená",J137,0) -> 0 | BI137: =IF(N137="nulová",J137,0) -> 0 | BJ137: 2 | BK137: =ROUND(I137*H137,3) -> 0 | BL137: 64 | BM137: -1796587647
C138: 12 | D138: K | E138: Pol12 | F138: Tlmič hluku THP-20-1200x630-2000-3 | G138: kpl | H138: 1 | J138: =ROUND(I138*H138,3) -> 0 | N138: znížená | P138: =O138*H138 -> 0 | Q138: 0 | R138: =Q138*H138 -> 0 | S138: 0 | T138: =S138*H138 -> 0 | AR138: 64 | AT138: K | AU138: 2 | AY138: ROZPOCET | BE138: =IF(N138="základná",J138,0) -> 0 | BF138: =IF(N138="znížená",J138,0) -> 0 | BG138: =IF(N138="zákl. prenesená",J138,0) -> 0 | BH138: =IF(N138="zníž. prenesená",J138,0) -> 0 | BI138: =IF(N138="nulová",J138,0) -> 0 | BJ138: 2 | BK138: =ROUND(I138*H138,3) -> 0 | BL138: 64 | BM138: -1071631380
... C161: 35 | D161: K | E161: Pol35 | F161: Tepelná izolácia sania vzduchu v strojovni VZT (30mm) | G161: m2 | H161: 42 | J161: =ROUND(I161*H161,3) -> 0 | N161: znížená | P161: =O161*H161 -> 0 | Q161: 0 | R161: =Q161*H161 -> 0 | S161: 0 | T161: =S161*H161 -> 0 | AR161: 64 | AT161: K | AU161: 2 | AY161: ROZPOCET | BE161: =IF(N161="základná",J161,0) -> 0 | BF161: =IF(N161="znížená",J161,0) -> 0 | BG161: =IF(N161="zákl. prenesená",J161,0) -> 0 | BH161: =IF(N161="zníž. prenesená",J161,0) -> 0 | BI161: =IF(N161="nulová",J161,0) -> 0 | BJ161: 2 | BK161: =ROUND(I161*H161,3) -> 0 | BL161: 64 | BM161: 1079784819
D162: D | E162: D3 | F162: Demontáž existujúcej strojovne VZT potrubia VZT pre časť kuchyňa - I. ETAPA | J162: =BK162 -> 0 | P162: =SUM(P163:P169) -> 0 | R162: =SUM(R163:R169) -> 0 | T162: =SUM(T163:T169) -> 0 | AR162: 1 | AT162: D | AU162: 1 | AY162: ROZPOCET | BK162: =SUM(BK163:BK169) -> 0
C163: 36 | D163: K | E163: Pol36 | F163: VZT Zariadenia | G163: kpl | H163: 3 | J163: =ROUND(I163*H163,3) -> 0 | N163: znížená | P163: =O163*H163 -> 0 | Q163: 0 | R163: =Q163*H163 -> 0 | S163: 0 | T163: =S163*H163 -> 0 | AR163: 64 | AT163: K | AU163: 2 | AY163: ROZPOCET | BE163: =IF(N163="základná",J163,0) -> 0 | BF163: =IF(N163="znížená",J163,0) -> 0 | BG163: =IF(N163="zákl. prenesená",J163,0) -> 0 | BH163: =IF(N163="zníž. prenesená",J163,0) -> 0 | BI163: =IF(N163="nulová",J163,0) -> 0 | BJ163: 2 | BK163: =ROUND(I163*H163,3) -> 0 | BL163: 64 | BM163: 94627213
C164: 37 | D164: K | E164: Pol37 | F164: VZT Zariadenia - ventilátory | G164: kpl | H164: 4 | J164: =ROUND(I164*H164,3) -> 0 | N164: znížená | P164: =O164*H164 -> 0 | Q164: 0 | R164: =Q164*H164 -> 0 | S164: 0 | T164: =S164*H164 -> 0 | AR164: 64 | AT164: K | AU164: 2 | AY164: ROZPOCET | BE164: =IF(N164="základná",J164,0) -> 0 | BF164: =IF(N164="znížená",J164,0) -> 0 | BG164: =IF(N164="zákl. prenesená",J164,0) -> 0 | BH164: =IF(N164="zníž. prenesená",J164,0) -> 0 | BI164: =IF(N164="nulová",J164,0) -> 0 | BJ164: 2 | BK164: =ROUND(I164*H164,3) -> 0 | BL164: 64 | BM164: 930146642
C165: 38 | D165: K | E165: Pol38 | F165: Potrubie do obvodu 2400 | G165: bm | H165: 42 | J165: =ROUND(I165*H165,3) -> 0 | N165: znížená | P165: =O165*H165 -> 0 | Q165: 0 | R165: =Q165*H165 -> 0 | S165: 0 | T165: =S165*H165 -> 0 | AR165: 64 | AT165: K | AU165: 2 | AY165: ROZPOCET | BE165: =IF(N165="základná",J165,0) -> 0 | BF165: =IF(N165="znížená",J165,0) -> 0 | BG165: =IF(N165="zákl. prenesená",J165,0) -> 0 | BH165: =IF(N165="zníž. prenesená",J165,0) -> 0 | BI165: =IF(N165="nulová",J165,0) -> 0 | BJ165: 2 | BK165: =ROUND(I165*H165,3) -> 0 | BL165: 64 | BM165: -1239595720
C166: 39 | D166: K | E166: Pol39 | F166: Potrubie do obvodu 1920 | G166: bm | H166: 15 | J166: =ROUND(I166*H166,3) -> 0 | N166: znížená | P166: =O166*H166 -> 0 | Q166: 0 | R166: =Q166*H166 -> 0 | S166: 0 | T166: =S166*H166 -> 0 | AR166: 64 | AT166: K | AU166: 2 | AY166: ROZPOCET | BE166: =IF(N166="základná",J166,0) -> 0 | BF166: =IF(N166="znížená",J166,0) -> 0 | BG166: =IF(N166="zákl. prenesená",J166,0) -> 0 | BH166: =IF(N166="zníž. prenesená",J166,0) -> 0 | BI166: =IF(N166="nulová",J166,0) -> 0 | BJ166: 2 | BK166: =ROUND(I166*H166,3) -> 0 | BL166: 64 | BM166: 1644559857
C167: 40 | D167: K | E167: Pol40 | F167: Potrubie do obvodu 1600 | G167: bm | H167: 72 | J167: =ROUND(I167*H167,3) -> 0 | N167: znížená | P167: =O167*H167 -> 0 | Q167: 0 | R167: =Q167*H167 -> 0 | S167: 0 | T167: =S167*H167 -> 0 | AR167: 64 | AT167: K | AU167: 2 | AY167: ROZPOCET | BE167: =IF(N167="základná",J167,0) -> 0 | BF167: =IF(N167="znížená",J167,0) -> 0 | BG167: =IF(N167="zákl. prenesená",J167,0) -> 0 | BH167: =IF(N167="zníž. prenesená",J167,0) -> 0 | BI167: =IF(N167="nulová",J167,0) -> 0 | BJ167: 2 | BK167: =ROUND(I167*H167,3) -> 0 | BL167: 64 | BM167: 1762803171
C168: 41 | D168: K | E168: Pol41 | F168: Demontáž existujúcich žalúzii sania a výfuku | G168: kpl | H168: 4 | J168: =ROUND(I168*H168,3) -> 0 | N168: znížená | P168: =O168*H168 -> 0 | Q168: 0 | R168: =Q168*H168 -> 0 | S168: 0 | T168: =S168*H168 -> 0 | AR168: 64 | AT168: K | AU168: 2 | AY168: ROZPOCET | BE168: =IF(N168="základná",J168,0) -> 0 | BF168: =IF(N168="znížená",J168,0) -> 0 | BG168: =IF(N168="zákl. prenesená",J168,0) -> 0 | BH168: =IF(N168="zníž. prenesená",J168,0) -> 0 | BI168: =IF(N168="nulová",J168,0) -> 0 | BJ168: 2 | BK168: =ROUND(I168*H168,3) -> 0 | BL168: 64 | BM168: 1161951644
C169: 42 | D169: K | E169: Pol42 | F169: Likvidácia odpadu | G169: kg | H169: 7500 | J169: =ROUND(I169*H169,3) -> 0 | N169: znížená | P169: =O169*H169 -> 0 | Q169: 0 | R169: =Q169*H169 -> 0 | S169: 0 | T169: =S169*H169 -> 0 | AR169: 64 | AT169: K | AU169: 2 | AY169: ROZPOCET | BE169: =IF(N169="základná",J169,0) -> 0 | BF169: =IF(N169="znížená",J169,0) -> 0 | BG169: =IF(N169="zákl. prenesená",J169,0) -> 0 | BH169: =IF(N169="zníž. prenesená",J169,0) -> 0 | BI169: =IF(N169="nulová",J169,0) -> 0 | BJ169: 2 | BK169: =ROUND(I169*H169,3) -> 0 | BL169: 64 | BM169: 1323322771
D170: D | E170: D4 | F170: Príslušenstvo pre montáž zariadenia | J170: =BK170 -> 0 | P170: =SUM(P171:P172) -> 0 | R170: =SUM(R171:R172) -> 0 | T170: =SUM(T171:T172) -> 0 | AR170: 1 | AT170: D | AU170: 1 | AY170: ROZPOCET | BK170: =SUM(BK171:BK172) -> 0
C171: 43 | D171: K | E171: Pol43 | F171: Montážny spojovací a tesniaci materiál | G171: kpl | H171: 1 | J171: =ROUND(I171*H171,3) -> 0 | N171: znížená | P171: =O171*H171 -> 0 | Q171: 0 | R171: =Q171*H171 -> 0 | S171: 0 | T171: =S171*H171 -> 0 | AR171: 64 | AT171: K | AU171: 2 | AY171: ROZPOCET | BE171: =IF(N171="základná",J171,0) -> 0 | BF171: =IF(N171="znížená",J171,0) -> 0 | BG171: =IF(N171="zákl. prenesená",J171,0) -> 0 | BH171: =IF(N171="zníž. prenesená",J171,0) -> 0 | BI171: =IF(N171="nulová",J171,0) -> 0 | BJ171: 2 | BK171: =ROUND(I171*H171,3) -> 0 | BL171: 64 | BM171: 1335405722
C172: 44 | D172: K | E172: Pol44 | F172: Skúšky a zaregulovanie | G172: hod | H172: 32 | J172: =ROUND(I172*H172,3) -> 0 | N172: znížená | P172: =O172*H172 -> 0 | Q172: 0 | R172: =Q172*H172 -> 0 | S172: 0 | T172: =S172*H172 -> 0 | AR172: 64 | AT172: K | AU172: 2 | AY172: ROZPOCET | BE172: =IF(N172="základná",J172,0) -> 0 | BF172: =IF(N172="znížená",J172,0) -> 0 | BG172: =IF(N172="zákl. prenesená",J172,0) -> 0 | BH172: =IF(N172="zníž. prenesená",J172,0) -> 0 | BI172: =IF(N172="nulová",J172,0) -> 0 | BJ172: 2 | BK172: =ROUND(I172*H172,3) -> 0 | BL172: 64 | BM172: 679157272

Sheet 402 - Blok 02  – Jedáleň ...
L2: >> skryté stĺpce << | AT2: {ab0b6526-db9f-4804-85a1-f8afd86edf29}
AT3: 0
D4: KRYCÍ LIST ROZPOČTU | M4: v --- nižšie sa nachádzajú doplnkové a pomocné údaje k zostavám --- v | AT4: False
D6: Stavba:
E7: ='Rekapitulácia stavby'!K6 -> ZŠ Škultétyho-Oprava havarijného stavu kuchyne - 2.časť
D8: Objekt:
E9: 400 - Vzduchotechnika a vetranie
D10: Časť:
E11: 402 - Blok 02 – Jedáleň a výdajňa jedál (2.NP)
D13: JKSO: | I13: KS:
D14: Miesto: | F14: Škultétyho 1, Nitra | I14: Dátum: | J14: ='Rekapitulácia stavby'!AN8 -> 6. 9. 2021
D16: Objednávateľ: | I16: IČO:
E17: Mesto Nitra | I17: IČ DPH:
D19: Zhotoviteľ: | I19: IČO: | J19: ='Rekapitulácia stavby'!AN13 -> Vyplň údaj
E20: ='Rekapitulácia stavby'!E14 -> Vyplň údaj | I20: IČ DPH: | J20: ='Rekapitulácia stavby'!AN14 -> Vyplň údaj
D22: Projektant: | I22: IČO:
E23: Ing.arch.Igor Feník | I23: IČ DPH:
D25: Spracovateľ: | I25: IČO:
E26: Ing.Marcin | I26: IČ DPH:
D28: Poznámka:
D32: Cena bez DPH | J32: =ROUND(J124, 2) -> 0
F34: Základ dane | I34: Sadzba dane | J34: Výška dane
D35: DPH | E35: základná | F35: =ROUND((SUM(BE124:BE163)), 2) -> 0 | I35: 0.2 | J35: =ROUND(((SUM(BE124:BE163))*I35), 2) -> 0
E36: znížená | F36: =ROUND((SUM(BF124:BF163)), 2) -> 0 | I36: 0.2 | J36: =ROUND(((SUM(BF124:BF163))*I36), 2) -> 0
E37: zákl. prenesená | F37: =ROUND((SUM(BG124:BG163)), 2) -> 0 | I37: 0.2 | J37: =0 -> 0
E38: zníž. prenesená | F38: =ROUND((SUM(BH124:BH163)), 2) -> 0 | I38: 0.2 | J38: =0 -> 0
E39: nulová | F39: =ROUND((SUM(BI124:BI163)), 2) -> 0 | I39: 0 | J39: =0 -> 0
D41: Cena s DPH | G41: v | H41: EUR | J41: =SUM(J32:J39) -> 0
D50: Projektant | G50: Spracovateľ
D61: Dátum a podpis: | F61: Pečiatka | G61: Dátum a podpis: | J61: Pečiatka
D65: Objednávateľ | G65: Zhotoviteľ
D76: Dátum a podpis: | F76: Pečiatka | G76: Dátum a podpis: | J76: Pečiatka
C82: REKAPITULÁCIA ROZPOČTU
C84: Stavba:
E85: =E7 -> ZŠ Škultétyho-Oprava havarijného stavu kuchyne - 2.časť
C86: Objekt:
E87: 400 - Vzduchotechnika a vetranie
C88: Časť:
E89: =E11 -> 402 - Blok 02 – Jedáleň a výdajňa jedál (2.NP)
C91: Miesto: | F91: =F14 -> Škultétyho 1, Nitra | I91: Dátum: | J91: =IF(J14="","",J14) -> 6. 9. 2021
C93: Objednávateľ: | F93: =E17 -> Mesto Nitra | I93: Projektant: | J93: =E23 -> Ing.arch.Igor Feník
C94: Zhotoviteľ: | F94: =IF(E20="","",E20) -> Vyplň údaj | I94: Spracovateľ: | J94: =E26 -> Ing.Marcin
C96: Kód dielu - Popis | J96: Cena celkom [EUR]
C98: Náklady z rozpočtu | J98: =J124 -> 0 | AU98: -1
D99: D1 - Práce a dodávky M | J99: =J125 -> 0
D100: D2 - Zariadenie č.2 | J100: =J126 -> 0
D101: D3 - Demontáž potrubia VZT pre časť jedáleň - II. ETAPA | J101: =J155 -> 0
D102: D4 - Príslušenstvo pre montáž zariadenia | J102: =J161 -> 0
C109: ROZPOČET
C111: Stavba:
E112: =E7 -> ZŠ Škultétyho-Oprava havarijného stavu kuchyne - 2.časť
C113: Objekt:
E114: 400 - Vzduchotechnika a vetranie
C115: Časť:
E116: =E11 -> 402 - Blok 02 – Jedáleň a výdajňa jedál (2.NP)
C118: Miesto: | F118: =F14 -> Škultétyho 1, Nitra | I118: Dátum: | J118: =IF(J14="","",J14) -> 6. 9. 2021
C120: Objednávateľ: | F120: =E17 -> Mesto Nitra | I120: Projektant: | J120: =E23 -> Ing.arch.Igor Feník
C121: Zhotoviteľ: | F121: =IF(E20="","",E20) -> Vyplň údaj | I121: Spracovateľ: | J121: =E26 -> Ing.Marcin
C123: PČ | D123: Typ | E123: Kód | F123: Popis | G123: MJ | H123: Množstvo | I123: J.cena [EUR] | J123: Cena celkom [EUR] | K123: Cenová sústava | N123: DPH | O123: J. Nh [h] | P123: Nh celkom [h] | Q123: J. hmotnosť [t] | R123: Hmotnosť celkom [t] | S123: J. suť [t] | T123: Suť Celkom [t]
C124: Náklady z rozpočtu | J124: =BK124 -> 0 | P124: =P125 -> 0 | R124: =R125 -> 0 | T124: =T125 -> 0 | AT124: D | AU124: -1 | BK124: =BK125 -> 0
D125: D | E125: D1 | F125: Práce a dodávky M | J125: =BK125 -> 0 | P125: =P126+P155+P161 -> 0 | R125: =R126+R155+R161 -> 0 | T125: =T126+T155+T161 -> 0 | AR125: 1 | AT125: D | AU125: 0 | AY125: ROZPOCET | BK125: =BK126+BK155+BK161 -> 0
D126: D | E126: D2 | F126: Zariadenie č.2 | J126: =BK126 -> 0 | P126: =SUM(P127:P154) -> 0 | R126: =SUM(R127:R154) -> 0 | T126: =SUM(T127:T154) -> 0 | AR126: 1 | AT126: D | AU126: 1 | AY126: ROZPOCET | BK126: =SUM(BK127:BK154) -> 0
C127: 1 | D127: K | E127: Pol45 | F127: Rekuperačná jednotka (napr. DUPLEX 6500 Multi, spĺňa ERP 2018) | G127: kpl | H127: 1 | J127: =ROUND(I127*H127,3) -> 0 | N127: znížená | P127: =O127*H127 -> 0 | Q127: 0 | R127: =Q127*H127 -> 0 | S127: 0 | T127: =S127*H127 -> 0 | AR127: 64 | AT127: K | AU127: 2 | AY127: ROZPOCET | BE127: =IF(N127="základná",J127,0) -> 0 | BF127: =IF(N127="znížená",J127,0) -> 0 | BG127: =IF(N127="zákl. prenesená",J127,0) -> 0 | BH127: =IF(N127="zníž. prenesená",J127,0) -> 0 | BI127: =IF(N127="nulová",J127,0) -> 0 | BJ127: 2 | BK127: =ROUND(I127*H127,3) -> 0 | BL127: 64 | BM127: 397362219
C128: 2 | D128: K | E128: Pol2 | F128: Izolačné gumy pod nosným rámom VZT jednotky | G128: kpl | H128: 1 | J128: =ROUND(I128*H128,3) -> 0 | N128: znížená | P128: =O128*H128 -> 0 | Q128: 0 | R128: =Q128*H128 -> 0 | S128: 0 | T128: =S128*H128 -> 0 | AR128: 64 | AT128: K | AU128: 2 | AY128: ROZPOCET | BE128: =IF(N128="základná",J128,0) -> 0 | BF128: =IF(N128="znížená",J128,0) -> 0 | BG128: =IF(N128="zákl. prenesená",J128,0) -> 0 | BH128: =IF(N128="zníž. prenesená",J128,0) -> 0 | BI128: =IF(N128="nulová",J128,0) -> 0 | BJ128: 2 | BK128: =ROUND(I128*H128,3) -> 0 | BL128: 64 | BM128: -1164372983
C129: 3 | D129: K | E129: Pol3 | F129: odvod kondenzátu dopojiť na prípravu od ZTI cez protizápachový uzáver | G129: kpl | H129: 1 | J129: =ROUND(I129*H129,3) -> 0 | N129: znížená | P129: =O129*H129 -> 0 | Q129: 0 | R129: =Q129*H129 -> 0 | S129: 0 | T129: =S129*H129 -> 0 | AR129: 64 | AT129: K | AU129: 2 | AY129: ROZPOCET | BE129: =IF(N129="základná",J129,0) -> 0 | BF129: =IF(N129="znížená",J129,0) -> 0 | BG129: =IF(N129="zákl. prenesená",J129,0) -> 0 | BH129: =IF(N129="zníž. prenesená",J129,0) -> 0 | BI129: =IF(N129="nulová",J129,0) -> 0 | BJ129: 2 | BK129: =ROUND(I129*H129,3) -> 0 | BL129: 64 | BM129: -1130831212
C130: 4 | D130: K | E130: Pol46 | F130: Systém MaR | G130: kpl | H130: 1 | J130: =ROUND(I130*H130,3) -> 0 | N130: znížená | P130: =O130*H130 -> 0 | Q130: 0 | R130: =Q130*H130 -> 0 | S130: 0 | T130: =S130*H130 -> 0 | AR130: 64 | AT130: K | AU130: 2 | AY130: ROZPOCET | BE130: =IF(N130="základná",J130,0) -> 0 | BF130: =IF(N130="znížená",J130,0) -> 0 | BG130: =IF(N130="zákl. prenesená",J130,0) -> 0 | BH130: =IF(N130="zníž. prenesená",J130,0) -> 0 | BI130: =IF(N130="nulová",J130,0) -> 0 | BJ130: 2 | BK130: =ROUND(I130*H130,3) -> 0 | BL130: 64 | BM130: 1174641523
C131: 5 | D131: K | E131: Pol5 | F131: Prekáblovanie vzdialeného ovládača | G131: bm | H131: 30 | J131: =ROUND(I131*H131,3) -> 0 | N131: znížená | P131: =O131*H131 -> 0 | Q131: 0 | R131: =Q131*H131 -> 0 | S131: 0 | T131: =S131*H131 -> 0 | AR131: 64 | AT131: K | AU131: 2 | AY131: ROZPOCET | BE131: =IF(N131="základná",J131,0) -> 0 | BF131: =IF(N131="znížená",J131,0) -> 0 | BG131: =IF(N131="zákl. prenesená",J131,0) -> 0 | BH131: =IF(N131="zníž. prenesená",J131,0) -> 0 | BI131: =IF(N131="nulová",J131,0) -> 0 | BJ131: 2 | BK131: =ROUND(I131*H131,3) -> 0 | BL131: 64 | BM131: -1025519014
C132: 6 | D132: K | E132: Pol47 | F132: Kondenzačná jednotka - tepelné čerpadlo (napr. AOYG90LRLA) + komunikačný modul | G132: kpl | H132: 1 | J132: =ROUND(I132*H132,3) -> 0 | N132: znížená | P132: =O132*H132 -> 0 | Q132: 0 | R132: =Q132*H132 -> 0 | S132: 0 | T132: =S132*H132 -> 0 | AR132: 64 | AT132: K | AU132: 2 | AY132: ROZPOCET | BE132: =IF(N132="základná",J132,0) -> 0 | BF132: =IF(N132="znížená",J132,0) -> 0 | BG132: =IF(N132="zákl. prenesená",J132,0) -> 0 | BH132: =IF(N132="zníž. prenesená",J132,0) -> 0 | BI132: =IF(N132="nulová",J132,0) -> 0 | BJ132: 2 | BK132: =ROUND(I132*H132,3) -> 0 | BL132: 64 | BM132: 1848953484
C133: 35 | D133: K | E133: Pol47a | F133: Komunikačný modul (napr. UTI-INV-U) | G133: kpl | H133: 1 | J133: =ROUND(I133*H133,3) -> 0 | N133: znížená | P133: =O133*H133 -> 0 | Q133: 0 | R133: =Q133*H133 -> 0 | S133: 0 | T133: =S133*H133 -> 0 | AR133: 64 | AT133: K | AU133: 2 | AY133: ROZPOCET | BE133: =IF(N133="základná",J133,0) -> 0 | BF133: =IF(N133="znížená",J133,0) -> 0 | BG133: =IF(N133="zákl. prenesená",J133,0) -> 0 | BH133: =IF(N133="zníž. prenesená",J133,0) -> 0 | BI133: =IF(N133="nulová",J133,0) -> 0 | BJ133: 2 | BK133: =ROUND(I133*H133,3) -> 0 | BL133: 64 | BM133: 1396226545
C134: 7 | D134: K | E134: Pol48 | F134: Konzola pre nástennú montáž | G134: kpl | H134: 1 | J134: =ROUND(I134*H134,3) -> 0 | N134: znížená | P134: =O134*H134 -> 0 | Q134: 0 | R134: =Q134*H134 -> 0 | S134: 0 | T134: =S134*H134 -> 0 | AR134: 64 | AT134: K | AU134: 2 | AY134: ROZPOCET | BE134: =IF(N134="základná",J134,0) -> 0 | BF134: =IF(N134="znížená",J134,0) -> 0 | BG134: =IF(N134="zákl. prenesená",J134,0) -> 0 | BH134: =IF(N134="zníž. prenesená",J134,0) -> 0 | BI134: =IF(N134="nulová",J134,0) -> 0 | BJ134: 2 | BK134: =ROUND(I134*H134,3) -> 0 | BL134: 64 | BM134: 1722191128
C135: 8 | D135: K | E135: Pol49 | F135: Cu prepojovacie potrubie | G135: bm | H135: 20 | J135: =ROUND(I135*H135,3) -> 0 | N135: znížená | P135: =O135*H135 -> 0 | Q135: 0 | R135: =Q135*H135 -> 0 | S135: 0 | T135: =S135*H135 -> 0 | AR135: 64 | AT135: K | AU135: 2 | AY135: ROZPOCET | BE135: =IF(N135="základná",J135,0) -> 0 | BF135: =IF(N135="znížená",J135,0) -> 0 | BG135: =IF(N135="zákl. prenesená",J135,0) -> 0 | BH135: =IF(N135="zníž. prenesená",J135,0) -> 0 | BI135: =IF(N135="nulová",J135,0) -> 0 | BJ135: 2 | BK135: =ROUND(I135*H135,3) -> 0 | BL135: 64 | BM135: 70174971
C136: 9 | D136: K | E136: Pol50 | F136: Protipožiarna klapka PKIS-EI90S-630x400-ZV | G136: kpl | H136: 6 | J136: =ROUND(I136*H136,3) -> 0 | N136: znížená | P136: =O136*H136 -> 0 | Q136: 0 | R136: =Q136*H136 -> 0 | S136: 0 | T136: =S136*H136 -> 0 | AR136: 64 | AT136: K | AU136: 2 | AY136: ROZPOCET | BE136: =IF(N136="základná",J136,0) -> 0 | BF136: =IF(N136="znížená",J136,0) -> 0 | BG136: =IF(N136="zákl. prenesená",J136,0) -> 0 | BH136: =IF(N136="zníž. prenesená",J136,0) -> 0 | BI136: =IF(N136="nulová",J136,0) -> 0 | BJ136: 2 | BK136: =ROUND(I136*H136,3) -> 0 | BL136: 64 | BM136: 2040926195
C137: 10 | D137: K | E137: Pol51 | F137: Protipožiarna klapka PKIS-EI90S-400x630-ZV | G137: kpl | H137: 1 | J137: =ROUND(I137*H137,3) -> 0 | N137: znížená | P137: =O137*H137 -> 0 | Q137: 0 | R137: =Q137*H137 -> 0 | S137: 0 | T137: =S137*H137 -> 0 | AR137: 64 | AT137: K | AU137: 2 | AY137: ROZPOCET | BE137: =IF(N137="základná",J137,0) -> 0 | BF137: =IF(N137="znížená",J137,0) -> 0 | BG137: =IF(N137="zákl. prenesená",J137,0) -> 0 | BH137: =IF(N137="zníž. prenesená",J137,0) -> 0 | BI137: =IF(N137="nulová",J137,0) -> 0 | BJ137: 2 | BK137: =ROUND(I137*H137,3) -> 0 | BL137: 64 | BM137: 133626934
C138: 11 | D138: K | E138: Pol52 | F138: Protipožiarna klapka PKIS-EI90S-800x500-ZV | G138: kpl | H138: 1 | J138: =ROUND(I138*H138,3) -> 0 | N138: znížená | P138: =O138*H138 -> 0 | Q138: 0 | R138: =Q138*H138 -> 0 | S138: 0 | T138: =S138*H138 -> 0 | AR138: 64 | AT138: K | AU138: 2 | AY138: ROZPOCET | BE138: =IF(N138="základná",J138,0) -> 0 | BF138: =IF(N138="znížená",J138,0) -> 0 | BG138: =IF(N138="zákl. prenesená",J138,0) -> 0 | BH138: =IF(N138="zníž. prenesená",J138,0) -> 0 | BI138: =IF(N138="nulová",J138,0) -> 0 | BJ138: 2 | BK138: =ROUND(I138*H138,3) -> 0 | BL138: 64 | BM138: 155964997
... C154: 27 | D154: K | E154: Pol35 | F154: Tepelná izolácia sania vzduchu v strojovni VZT (30mm) | G154: m2 | H154: 35 | J154: =ROUND(I154*H154,3) -> 0 | N154: znížená | P154: =O154*H154 -> 0 | Q154: 0 | R154: =Q154*H154 -> 0 | S154: 0 | T154: =S154*H154 -> 0 | AR154: 64 | AT154: K | AU154: 2 | AY154: ROZPOCET | BE154: =IF(N154="základná",J154,0) -> 0 | BF154: =IF(N154="znížená",J154,0) -> 0 | BG154: =IF(N154="zákl. prenesená",J154,0) -> 0 | BH154: =IF(N154="zníž. prenesená",J154,0) -> 0 | BI154: =IF(N154="nulová",J154,0) -> 0 | BJ154: 2 | BK154: =ROUND(I154*H154,3) -> 0 | BL154: 64 | BM154: -1622800312
D155: D | E155: D3 | F155: Demontáž potrubia VZT pre časť jedáleň - II. ETAPA | J155: =BK155 -> 0 | P155: =SUM(P156:P160) -> 0 | R155: =SUM(R156:R160) -> 0 | T155: =SUM(T156:T160) -> 0 | AR155: 1 | AT155: D | AU155: 1 | AY155: ROZPOCET | BK155: =SUM(BK156:BK160) -> 0
C156: 28 | D156: K | E156: Pol67 | F156: VZT potrubie - v časti od strojovne celé zariadenie v jedálni Do obvodu 2060mm (40% tv.) | G156: bm | H156: 78 | J156: =ROUND(I156*H156,3) -> 0 | N156: znížená | P156: =O156*H156 -> 0 | Q156: 0 | R156: =Q156*H156 -> 0 | S156: 0 | T156: =S156*H156 -> 0 | AR156: 64 | AT156: K | AU156: 2 | AY156: ROZPOCET | BE156: =IF(N156="základná",J156,0) -> 0 | BF156: =IF(N156="znížená",J156,0) -> 0 | BG156: =IF(N156="zákl. prenesená",J156,0) -> 0 | BH156: =IF(N156="zníž. prenesená",J156,0) -> 0 | BI156: =IF(N156="nulová",J156,0) -> 0 | BJ156: 2 | BK156: =ROUND(I156*H156,3) -> 0 | BL156: 64 | BM156: -2106170356
C157: 29 | D157: K | E157: Pol68 | F157: VZT potrubie - v časti od strojovne celé zariadenie v jedálni Do obvodu 1920mm (40% tv.) | G157: bm | H157: 21 | J157: =ROUND(I157*H157,3) -> 0 | N157: znížená | P157: =O157*H157 -> 0 | Q157: 0 | R157: =Q157*H157 -> 0 | S157: 0 | T157: =S157*H157 -> 0 | AR157: 64 | AT157: K | AU157: 2 | AY157: ROZPOCET | BE157: =IF(N157="základná",J157,0) -> 0 | BF157: =IF(N157="znížená",J157,0) -> 0 | BG157: =IF(N157="zákl. prenesená",J157,0) -> 0 | BH157: =IF(N157="zníž. prenesená",J157,0) -> 0 | BI157: =IF(N157="nulová",J157,0) -> 0 | BJ157: 2 | BK157: =ROUND(I157*H157,3) -> 0 | BL157: 64 | BM157: -1604303789
C158: 30 | D158: K | E158: Pol69 | F158: VZT potrubie - v časti od strojovne celé zariadenie v jedálni Do obvodu 1520mm (40% tv.) | G158: bm | H158: 56 | J158: =ROUND(I158*H158,3) -> 0 | N158: znížená | P158: =O158*H158 -> 0 | Q158: 0 | R158: =Q158*H158 -> 0 | S158: 0 | T158: =S158*H158 -> 0 | AR158: 64 | AT158: K | AU158: 2 | AY158: ROZPOCET | BE158: =IF(N158="základná",J158,0) -> 0 | BF158: =IF(N158="znížená",J158,0) -> 0 | BG158: =IF(N158="zákl. prenesená",J158,0) -> 0 | BH158: =IF(N158="zníž. prenesená",J158,0) -> 0 | BI158: =IF(N158="nulová",J158,0) -> 0 | BJ158: 2 | BK158: =ROUND(I158*H158,3) -> 0 | BL158: 64 | BM158: -689424168
C159: 31 | D159: K | E159: Pol42 | F159: Likvidácia odpadu | G159: kg | H159: 3600 | J159: =ROUND(I159*H159,3) -> 0 | N159: znížená | P159: =O159*H159 -> 0 | Q159: 0 | R159: =Q159*H159 -> 0 | S159: 0 | T159: =S159*H159 -> 0 | AR159: 64 | AT159: K | AU159: 2 | AY159: ROZPOCET | BE159: =IF(N159="základná",J159,0) -> 0 | BF159: =IF(N159="znížená",J159,0) -> 0 | BG159: =IF(N159="zákl. prenesená",J159,0) -> 0 | BH159: =IF(N159="zníž. prenesená",J159,0) -> 0 | BI159: =IF(N159="nulová",J159,0) -> 0 | BJ159: 2 | BK159: =ROUND(I159*H159,3) -> 0 | BL159: 64 | BM159: -1635288405
C160: 32 | D160: K | E160: Pol70 | F160: Vyčistenie existujúceho potrubia VZT (m2 rozvinutého potrubia) | G160: m2 | H160: 150 | J160: =ROUND(I160*H160,3) -> 0 | N160: znížená | P160: =O160*H160 -> 0 | Q160: 0 | R160: =Q160*H160 -> 0 | S160: 0 | T160: =S160*H160 -> 0 | AR160: 64 | AT160: K | AU160: 2 | AY160: ROZPOCET | BE160: =IF(N160="základná",J160,0) -> 0 | BF160: =IF(N160="znížená",J160,0) -> 0 | BG160: =IF(N160="zákl. prenesená",J160,0) -> 0 | BH160: =IF(N160="zníž. prenesená",J160,0) -> 0 | BI160: =IF(N160="nulová",J160,0) -> 0 | BJ160: 2 | BK160: =ROUND(I160*H160,3) -> 0 | BL160: 64 | BM160: 1205373166
D161: D | E161: D4 | F161: Príslušenstvo pre montáž zariadenia | J161: =BK161 -> 0 | P161: =SUM(P162:P163) -> 0 | R161: =SUM(R162:R163) -> 0 | T161: =SUM(T162:T163) -> 0 | AR161: 1 | AT161: D | AU161: 1 | AY161: ROZPOCET | BK161: =SUM(BK162:BK163) -> 0
C162: 33 | D162: K | E162: Pol71 | F162: Montážny spojovací a tesniaci materiál | G162: kpl | H162: 1 | J162: =ROUND(I162*H162,3) -> 0 | N162: znížená | P162: =O162*H162 -> 0 | Q162: 0 | R162: =Q162*H162 -> 0 | S162: 0 | T162: =S162*H162 -> 0 | AR162: 64 | AT162: K | AU162: 2 | AY162: ROZPOCET | BE162: =IF(N162="základná",J162,0) -> 0 | BF162: =IF(N162="znížená",J162,0) -> 0 | BG162: =IF(N162="zákl. prenesená",J162,0) -> 0 | BH162: =IF(N162="zníž. prenesená",J162,0) -> 0 | BI162: =IF(N162="nulová",J162,0) -> 0 | BJ162: 2 | BK162: =ROUND(I162*H162,3) -> 0 | BL162: 64 | BM162: -1424408328
C163: 34 | D163: K | E163: Pol44 | F163: Skúšky a zaregulovanie | G163: hod | H163: 32 | J163: =ROUND(I163*H163,3) -> 0 | N163: znížená | P163: =O163*H163 -> 0 | Q163: 0 | R163: =Q163*H163 -> 0 | S163: 0 | T163: =S163*H163 -> 0 | AR163: 64 | AT163: K | AU163: 2 | AY163: ROZPOCET | BE163: =IF(N163="základná",J163,0) -> 0 | BF163: =IF(N163="znížená",J163,0) -> 0 | BG163: =IF(N163="zákl. prenesená",J163,0) -> 0 | BH163: =IF(N163="zníž. prenesená",J163,0) -> 0 | BI163: =IF(N163="nulová",J163,0) -> 0 | BJ163: 2 | BK163: =ROUND(I163*H163,3) -> 0 | BL163: 64 | BM163: 487216269

Sheet 500 - Ústredné vykurovanie
L2: >> skryté stĺpce << | AT2: {13ff8b7b-ce21-4fd9-900d-dc4dbdd28fe4}
AT3: 0
D4: KRYCÍ LIST ROZPOČTU | M4: v --- nižšie sa nachádzajú doplnkové a pomocné údaje k zostavám --- v | AT4: False
D6: Stavba:
E7: ='Rekapitulácia stavby'!K6 -> ZŠ Škultétyho-Oprava havarijného stavu kuchyne - 2.časť
D8: Objekt:
E9: 500 - Ústredné vykurovanie
D11: JKSO: | I11: KS:
D12: Miesto: | F12: Škultétyho 1, Nitra | I12: Dátum: | J12: ='Rekapitulácia stavby'!AN8 -> 6. 9. 2021
D14: Objednávateľ: | I14: IČO:
E15: Mesto Nitra | I15: IČ DPH:
D17: Zhotoviteľ: | I17: IČO: | J17: ='Rekapitulácia stavby'!AN13 -> Vyplň údaj
E18: ='Rekapitulácia stavby'!E14 -> Vyplň údaj | I18: IČ DPH: | J18: ='Rekapitulácia stavby'!AN14 -> Vyplň údaj
D20: Projektant: | I20: IČO:
E21: Ing.arch.Igor Feník | I21: IČ DPH:
D23: Spracovateľ: | I23: IČO:
E24: Ing.Valent | I24: IČ DPH:
D26: Poznámka:
D30: Cena bez DPH | J30: =ROUND(J125, 2) -> 0
F32: Základ dane | I32: Sadzba dane | J32: Výška dane
D33: DPH | E33: základná | F33: =ROUND((SUM(BE125:BE195)), 2) -> 0 | I33: 0.2 | J33: =ROUND(((SUM(BE125:BE195))*I33), 2) -> 0
E34: znížená | F34: =ROUND((SUM(BF125:BF195)), 2) -> 0 | I34: 0.2 | J34: =ROUND(((SUM(BF125:BF195))*I34), 2) -> 0
E35: zákl. prenesená | F35: =ROUND((SUM(BG125:BG195)), 2) -> 0 | I35: 0.2 | J35: =0 -> 0
E36: zníž. prenesená | F36: =ROUND((SUM(BH125:BH195)), 2) -> 0 | I36: 0.2 | J36: =0 -> 0
E37: nulová | F37: =ROUND((SUM(BI125:BI195)), 2) -> 0 | I37: 0 | J37: =0 -> 0
D39: Cena s DPH | G39: v | H39: EUR | J39: =SUM(J30:J37) -> 0
D50: Projektant | G50: Spracovateľ
D61: Dátum a podpis: | F61: Pečiatka | G61: Dátum a podpis: | J61: Pečiatka
D65: Objednávateľ | G65: Zhotoviteľ
D76: Dátum a podpis: | F76: Pečiatka | G76: Dátum a podpis: | J76: Pečiatka
C82: REKAPITULÁCIA ROZPOČTU
C84: Stavba:
E85: =E7 -> ZŠ Škultétyho-Oprava havarijného stavu kuchyne - 2.časť
C86: Objekt:
E87: =E9 -> 500 - Ústredné vykurovanie
C89: Miesto: | F89: =F12 -> Škultétyho 1, Nitra | I89: Dátum: | J89: =IF(J12="","",J12) -> 6. 9. 2021
C91: Objednávateľ: | F91: =E15 -> Mesto Nitra | I91: Projektant: | J91: =E21 -> Ing.arch.Igor Feník
C92: Zhotoviteľ: | F92: =IF(E18="","",E18) -> Vyplň údaj | I92: Spracovateľ: | J92: =E24 -> Ing.Valent
C94: Kód dielu - Popis | J94: Cena celkom [EUR]
C96: Náklady z rozpočtu | J96: =J125 -> 0 | AU96: -1
D97: PSV - Práce a dodávky PSV | J97: =J126 -> 0
D98: 713 - Izolácie tepelné | J98: =J127 -> 0
D99: 733 - Ústredné kúrenie - rozvodné potrubie | J99: =J135 -> 0
D100: 734 - Ústredné kúrenie - armatúry | J100: =J145 -> 0
D101: 767 - Konštrukcie doplnkové kovové | J101: =J163 -> 0
D102: 783 - Nátery | J102: =J167 -> 0
D103: OST - Demontáž | J103: =J171 -> 0
D104: Ostatné - Ostatné | J104: =J190 -> 0
D105: HZS - HZS | J105: =J191 -> 0
C112: ROZPOČET
C114: Stavba:
E115: =E7 -> ZŠ Škultétyho-Oprava havarijného stavu kuchyne - 2.časť
C116: Objekt:
E117: =E9 -> 500 - Ústredné vykurovanie
C119: Miesto: | F119: =F12 -> Škultétyho 1, Nitra | I119: Dátum: | J119: =IF(J12="","",J12) -> 6. 9. 2021
C121: Objednávateľ: | F121: =E15 -> Mesto Nitra | I121: Projektant: | J121: =E21 -> Ing.arch.Igor Feník
C122: Zhotoviteľ: | F122: =IF(E18="","",E18) -> Vyplň údaj | I122: Spracovateľ: | J122: =E24 -> Ing.Valent
C124: PČ | D124: Typ | E124: Kód | F124: Popis | G124: MJ | H124: Množstvo | I124: J.cena [EUR] | J124: Cena celkom [EUR] | K124: Cenová sústava | N124: DPH | O124: J. Nh [h] | P124: Nh celkom [h] | Q124: J. hmotnosť [t] | R124: Hmotnosť celkom [t] | S124: J. suť [t] | T124: Suť Celkom [t]
C125: Náklady z rozpočtu | J125: =BK125 -> 0 | P125: =P126+P171+P190 -> 0 | R125: =R126+R171+R190 -> 0.5195 | T125: =T126+T171+T190 -> 0 | AT125: D | AU125: -1 | BK125: =BK126+BK171+BK190 -> 0
D126: D | E126: PSV | F126: Práce a dodávky PSV | J126: =BK126 -> 0 | P126: =P127+P135+P145+P163+P167 -> 0 | R126: =R127+R135+R145+R163+R167 -> 0.50954 | T126: =T127+T135+T145+T163+T167 -> 0 | AR126: 2 | AT126: D | AU126: 0 | AY126: ROZPOCET | BK126: =BK127+BK135+BK145+BK163+BK167 -> 0
D127: D | E127: 713 | F127: Izolácie tepelné | J127: =BK127 -> 0 | P127: =SUM(P128:P134) -> 0 | R127: =SUM(R128:R134) -> 0.01502 | T127: =SUM(T128:T134) -> 0 | AR127: 2 | AT127: D | AU127: 1 | AY127: ROZPOCET | BK127: =SUM(BK128:BK134) -> 0
C128: 32 | D128: K | E128: 713482132 | F128: Montáž trubíc z PE, hr.30 mm,vnút.priemer 39-70 mm | G128: m | H128: 75 | J128: =ROUND(I128*H128,3) -> 0 | N128: znížená | P128: =O128*H128 -> 0 | Q128: 4e-05 | R128: =Q128*H128 -> 0.003 | S128: 0 | T128: =S128*H128 -> 0 | AR128: 16 | AT128: K | AU128: 2 | AY128: ROZPOCET | BE128: =IF(N128="základná",J128,0) -> 0 | BF128: =IF(N128="znížená",J128,0) -> 0 | BG128: =IF(N128="zákl. prenesená",J128,0) -> 0 | BH128: =IF(N128="zníž. prenesená",J128,0) -> 0 | BI128: =IF(N128="nulová",J128,0) -> 0 | BJ128: 2 | BK128: =ROUND(I128*H128,3) -> 0 | BL128: 16 | BM128: 1303347537
C129: 35 | D129: M | E129: p-tbl-pe-50-15-3 | F129: Páska TUBOLIT PE -50mm/15m/3mm | G129: ks | H129: 3 | J129: =ROUND(I129*H129,3) -> 0 | N129: znížená | P129: =O129*H129 -> 0 | Q129: 0 | R129: =Q129*H129 -> 0 | S129: 0 | T129: =S129*H129 -> 0 | AR129: 32 | AT129: M | AU129: 2 | AY129: ROZPOCET | BE129: =IF(N129="základná",J129,0) -> 0 | BF129: =IF(N129="znížená",J129,0) -> 0 | BG129: =IF(N129="zákl. prenesená",J129,0) -> 0 | BH129: =IF(N129="zníž. prenesená",J129,0) -> 0 | BI129: =IF(N129="nulová",J129,0) -> 0 | BJ129: 2 | BK129: =ROUND(I129*H129,3) -> 0 | BL129: 16 | BM129: 1054354584
C130: 37 | D130: M | E130: 2837741583 | F130: TUBOLIT izolácia - trubica 42/30-DG (24) ARC-0067 Armacell AZ FLEX | G130: m | H130: 31 | J130: =ROUND(I130*H130,3) -> 0 | N130: znížená | P130: =O130*H130 -> 0 | Q130: 0.00017806452 | R130: =Q130*H130 -> 0.00552 | S130: 0 | T130: =S130*H130 -> 0 | AR130: 32 | AT130: M | AU130: 2 | AY130: ROZPOCET | BE130: =IF(N130="základná",J130,0) -> 0 | BF130: =IF(N130="znížená",J130,0) -> 0 | BG130: =IF(N130="zákl. prenesená",J130,0) -> 0 | BH130: =IF(N130="zníž. prenesená",J130,0) -> 0 | BI130: =IF(N130="nulová",J130,0) -> 0 | BJ130: 2 | BK130: =ROUND(I130*H130,3) -> 0 | BL130: 16 | BM130: 2138915241
C131: 38 | D131: M | E131: 2837741599 | F131: TUBOLIT izolácia - trubica 54/30-DG (22) ARC-0069 Armacell AZ FLEX | G131: m | H131: 6 | J131: =ROUND(I131*H131,3) -> 0 | N131: znížená | P131: =O131*H131 -> 0 | Q131: 0.000255 | R131: =Q131*H131 -> 0.00153 | S131: 0 | T131: =S131*H131 -> 0 | AR131: 32 | AT131: M | AU131: 2 | AY131: ROZPOCET | BE131: =IF(N131="základná",J131,0) -> 0 | BF131: =IF(N131="znížená",J131,0) -> 0 | BG131: =IF(N131="zákl. prenesená",J131,0) -> 0 | BH131: =IF(N131="zníž. prenesená",J131,0) -> 0 | BI131: =IF(N131="nulová",J131,0) -> 0 | BJ131: 2 | BK131: =ROUND(I131*H131,3) -> 0 | BL131: 16 | BM131: -870269575
C132: 39 | D132: M | E132: 2837741607 | F132: TUBOLIT izolácia - trubica 60/30-DG (18) ARC-0062 Armacell AZ FLEX | G132: m | H132: 38 | J132: =ROUND(I132*H132,3) -> 0 | N132: znížená | P132: =O132*H132 -> 0 | Q132: 0.00013078947 | R132: =Q132*H132 -> 0.00497 | S132: 0 | T132: =S132*H132 -> 0 | AR132: 32 | AT132: M | AU132: 2 | AY132: ROZPOCET | BE132: =IF(N132="základná",J132,0) -> 0 | BF132: =IF(N132="znížená",J132,0) -> 0 | BG132: =IF(N132="zákl. prenesená",J132,0) -> 0 | BH132: =IF(N132="zníž. prenesená",J132,0) -> 0 | BI132: =IF(N132="nulová",J132,0) -> 0 | BJ132: 2 | BK132: =ROUND(I132*H132,3) -> 0 | BL132: 16 | BM132: 1570132744
C133: 36 | D133: M | E133: l-520/1,0 | F133: Lepidlo 520-1,0 l | G133: ks | H133: 1 | J133: =ROUND(I133*H133,3) -> 0 | N133: znížená | P133: =O133*H133 -> 0 | Q133: 0 | R133: =Q133*H133 -> 0 | S133: 0 | T133: =S133*H133 -> 0 | AR133: 32 | AT133: M | AU133: 2 | AY133: ROZPOCET | BE133: =IF(N133="základná",J133,0) -> 0 | BF133: =IF(N133="znížená",J133,0) -> 0 | BG133: =IF(N133="zákl. prenesená",J133,0) -> 0 | BH133: =IF(N133="zníž. prenesená",J133,0) -> 0 | BI133: =IF(N133="nulová",J133,0) -> 0 | BJ133: 2 | BK133: =ROUND(I133*H133,3) -> 0 | BL133: 16 | BM133: -1271938921
C134: 33 | D134: K | E134: 998713202 | F134: Presun hmôt pre izolácie tepelné v objektoch výšky nad 6 m do 12 m | G134: % | J134: =ROUND(I134*H134,3) -> 0 | N134: znížená | P134: =O134*H134 -> 0 | Q134: 0 | R134: =Q134*H134 -> 0 | S134: 0 | T134: =S134*H134 -> 0 | AR134: 16 | AT134: K | AU134: 2 | AY134: ROZPOCET | BE134: =IF(N134="základná",J134,0) -> 0 | BF134: =IF(N134="znížená",J134,0) -> 0 | BG134: =IF(N134="zákl. prenesená",J134,0) -> 0 | BH134: =IF(N134="zníž. prenesená",J134,0) -> 0 | BI134: =IF(N134="nulová",J134,0) -> 0 | BJ134: 2 | BK134: =ROUND(I134*H134,3) -> 0 | BL134: 16 | BM134: -417730375
D135: D | E135: 733 | F135: Ústredné kúrenie - rozvodné potrubie | J135: =BK135 -> 0 | P135: =SUM(P136:P144) -> 0 | R135: =SUM(R136:R144) -> 0.38815 | T135: =SUM(T136:T144) -> 0 | AR135: 2 | AT135: D | AU135: 1 | AY135: ROZPOCET | BK135: =SUM(BK136:BK144) -> 0
C136: 1 | D136: K | E136: 733111106 | F136: Potrubie z rúrok závitových oceľových bezšvových bežných nízkotlakových DN 32 | G136: m | H136: 31 | J136: =ROUND(I136*H136,3) -> 0 | N136: znížená | P136: =O136*H136 -> 0 | Q136: 0.00381 | R136: =Q136*H136 -> 0.11811 | S136: 0 | T136: =S136*H136 -> 0 | AR136: 16 | AT136: K | AU136: 2 | AY136: ROZPOCET | BE136: =IF(N136="základná",J136,0) -> 0 | BF136: =IF(N136="znížená",J136,0) -> 0 | BG136: =IF(N136="zákl. prenesená",J136,0) -> 0 | BH136: =IF(N136="zníž. prenesená",J136,0) -> 0 | BI136: =IF(N136="nulová",J136,0) -> 0 | BJ136: 2 | BK136: =ROUND(I136*H136,3) -> 0 | BL136: 16 | BM136: 731448226
C137: 2 | D137: K | E137: 733111107 | F137: Potrubie z rúrok závitových oceľových bezšvových bežných nízkotlakových DN 40 | G137: m | H137: 6 | J137: =ROUND(I137*H137,3) -> 0 | N137: znížená | P137: =O137*H137 -> 0 | Q137: 0.00454 | R137: =Q137*H137 -> 0.02724 | S137: 0 | T137: =S137*H137 -> 0 | AR137: 16 | AT137: K | AU137: 2 | AY137: ROZPOCET | BE137: =IF(N137="základná",J137,0) -> 0 | BF137: =IF(N137="znížená",J137,0) -> 0 | BG137: =IF(N137="zákl. prenesená",J137,0) -> 0 | BH137: =IF(N137="zníž. prenesená",J137,0) -> 0 | BI137: =IF(N137="nulová",J137,0) -> 0 | BJ137: 2 | BK137: =ROUND(I137*H137,3) -> 0 | BL137: 16 | BM137: 401222215
C138: 3 | D138: K | E138: 733111108 | F138: Potrubie z rúrok závitových oceľových bezšvových bežných nízkotlakových DN 50 | G138: m | H138: 38 | J138: =ROUND(I138*H138,3) -> 0 | N138: znížená | P138: =O138*H138 -> 0 | Q138: 0.00628 | R138: =Q138*H138 -> 0.23864 | S138: 0 | T138: =S138*H138 -> 0 | AR138: 16 | AT138: K | AU138: 2 | AY138: ROZPOCET | BE138: =IF(N138="základná",J138,0) -> 0 | BF138: =IF(N138="znížená",J138,0) -> 0 | BG138: =IF(N138="zákl. prenesená",J138,0) -> 0 | BH138: =IF(N138="zníž. prenesená",J138,0) -> 0 | BI138: =IF(N138="nulová",J138,0) -> 0 | BJ138: 2 | BK138: =ROUND(I138*H138,3) -> 0 | BL138: 16 | BM138: 1858801891
C139: 4 | D139: K | E139: 733113116 | F139: Potrubie z rúrok závitových Príplatok k cene za zhotovenie prípojky z oceľ. rúrok závitových DN 32 | G139: ks | H139: 4 | J139: =ROUND(I139*H139,3) -> 0 | N139: znížená | P139: =O139*H139 -> 0 | Q139: 0 | R139: =Q139*H139 -> 0 | S139: 0 | T139: =S139*H139 -> 0 | AR139: 16 | AT139: K | AU139: 2 | AY139: ROZPOCET | BE139: =IF(N139="základná",J139,0) -> 0 | BF139: =IF(N139="znížená",J139,0) -> 0 | BG139: =IF(N139="zákl. prenesená",J139,0) -> 0 | BH139: =IF(N139="zníž. prenesená",J139,0) -> 0 | BI139: =IF(N139="nulová",J139,0) -> 0 | BJ139: 2 | BK139: =ROUND(I139*H139,3) -> 0 | BL139: 16 | BM139: -386805138
C140: 5 | D140: K | E140: 733113117 | F140: Potrubie z rúrok závitových Príplatok k cene za zhotovenie prípojky z oceľ. rúrok závitových DN 40 | G140: ks | H140: 2 | J140: =ROUND(I140*H140,3) -> 0 | N140: znížená | P140: =O140*H140 -> 0 | Q140: 0 | R140: =Q140*H140 -> 0 | S140: 0 | T140: =S140*H140 -> 0 | AR140: 16 | AT140: K | AU140: 2 | AY140: ROZPOCET | BE140: =IF(N140="základná",J140,0) -> 0 | BF140: =IF(N140="znížená",J140,0) -> 0 | BG140: =IF(N140="zákl. prenesená",J140,0) -> 0 | BH140: =IF(N140="zníž. prenesená",J140,0) -> 0 | BI140: =IF(N140="nulová",J140,0) -> 0 | BJ140: 2 | BK140: =ROUND(I140*H140,3) -> 0 | BL140: 16 | BM140: -1777200102
C141: 6 | D141: K | E141: 733113118 | F141: Potrubie z rúrok závitových Príplatok k cene za zhotovenie prípojky z oceľ. rúrok závitových DN 50 | G141: ks | H141: 2 | J141: =ROUND(I141*H141,3) -> 0 | N141: znížená | P141: =O141*H141 -> 0 | Q141: 0 | R141: =Q141*H141 -> 0 | S141: 0 | T141: =S141*H141 -> 0 | AR141: 16 | AT141: K | AU141: 2 | AY141: ROZPOCET | BE141: =IF(N141="základná",J141,0) -> 0 | BF141: =IF(N141="znížená",J141,0) -> 0 | BG141: =IF(N141="zákl. prenesená",J141,0) -> 0 | BH141: =IF(N141="zníž. prenesená",J141,0) -> 0 | BI141: =IF(N141="nulová",J141,0) -> 0 | BJ141: 2 | BK141: =ROUND(I141*H141,3) -> 0 | BL141: 16 | BM141: -252517552
C142: 7 | D142: K | E142: 733190107 | F142: Tlaková skúška potrubia z oceľových rúrok závitových | G142: m | H142: 75 | J142: =ROUND(I142*H142,3) -> 0 | N142: znížená | P142: =O142*H142 -> 0 | Q142: 0 | R142: =Q142*H142 -> 0 | S142: 0 | T142: =S142*H142 -> 0 | AR142: 16 | AT142: K | AU142: 2 | AY142: ROZPOCET | BE142: =IF(N142="základná",J142,0) -> 0 | BF142: =IF(N142="znížená",J142,0) -> 0 | BG142: =IF(N142="zákl. prenesená",J142,0) -> 0 | BH142: =IF(N142="zníž. prenesená",J142,0) -> 0 | BI142: =IF(N142="nulová",J142,0) -> 0 | BJ142: 2 | BK142: =ROUND(I142*H142,3) -> 0 | BL142: 16 | BM142: -1887417682
C143: 8 | D143: K | E143: 733191114 | F143: Manžeta priestupová pre rúrky nad 50 do DN 60 | G143: ks | H143: 2 | J143: =ROUND(I143*H143,3) -> 0 | N143: znížená | P143: =O143*H143 -> 0 | Q143: 0.00208 | R143: =Q143*H143 -> 0.00416 | S143: 0 | T143: =S143*H143 -> 0 | AR143: 16 | AT143: K | AU143: 2 | AY143: ROZPOCET | BE143: =IF(N143="základná",J143,0) -> 0 | BF143: =IF(N143="znížená",J143,0) -> 0 | BG143: =IF(N143="zákl. prenesená",J143,0) -> 0 | BH143: =IF(N143="zníž. prenesená",J143,0) -> 0 | BI143: =IF(N143="nulová",J143,0) -> 0 | BJ143: 2 | BK143: =ROUND(I143*H143,3) -> 0 | BL143: 16 | BM143: -1761831219
C144: 9 | D144: K | E144: 998733203 | F144: Presun hmôt pre rozvody potrubia v objektoch výšky nad 6 do 24 m | G144: % | J144: =ROUND(I144*H144,3) -> 0 | N144: znížená | P144: =O144*H144 -> 0 | Q144: 0 | R144: =Q144*H144 -> 0 | S144: 0 | T144: =S144*H144 -> 0 | AR144: 16 | AT144: K | AU144: 2 | AY144: ROZPOCET | BE144: =IF(N144="základná",J144,0) -> 0 | BF144: =IF(N144="znížená",J144,0) -> 0 | BG144: =IF(N144="zákl. prenesená",J144,0) -> 0 | BH144: =IF(N144="zníž. prenesená",J144,0) -> 0 | BI144: =IF(N144="nulová",J144,0) -> 0 | BJ144: 2 | BK144: =ROUND(I144*H144,3) -> 0 | BL144: 16 | BM144: -546110466
D145: D | E145: 734 | F145: Ústredné kúrenie - armatúry | J145: =BK145 -> 0 | P145: =SUM(P146:P162) -> 0 | R145: =SUM(R146:R162) -> 0.09527 | T145: =SUM(T146:T162) -> 0 | AR145: 2 | AT145: D | AU145: 1 | AY145: ROZPOCET | BK145: =SUM(BK146:BK162) -> 0
C146: 10 | D146: K | E146: 734109114 | F146: Montáž armatúry prírubovej s dvomi prírubami PN 0, 6 DN 50 | G146: súb. | H146: 2 | J146: =ROUND(I146*H146,3) -> 0 | N146: znížená | P146: =O146*H146 -> 0 | Q146: 0.00408 | R146: =Q146*H146 -> 0.00816 | S146: 0 | T146: =S146*H146 -> 0 | AR146: 16 | AT146: K | AU146: 2 | AY146: ROZPOCET | BE146: =IF(N146="základná",J146,0) -> 0 | BF146: =IF(N146="znížená",J146,0) -> 0 | BG146: =IF(N146="zákl. prenesená",J146,0) -> 0 | BH146: =IF(N146="zníž. prenesená",J146,0) -> 0 | BI146: =IF(N146="nulová",J146,0) -> 0 | BJ146: 2 | BK146: =ROUND(I146*H146,3) -> 0 | BL146: 16 | BM146: -1810522641
C147: 11 | D147: K | E147: 734109214 | F147: Montáž armatúry prírubovej s dvomi prírubami PN 1, 6 DN 50 | G147: súb. | H147: 2 | J147: =ROUND(I147*H147,3) -> 0 | N147: znížená | P147: =O147*H147 -> 0 | Q147: 0.00669 | R147: =Q147*H147 -> 0.01338 | S147: 0 | T147: =S147*H147 -> 0 | AR147: 16 | AT147: K | AU147: 2 | AY147: ROZPOCET | BE147: =IF(N147="základná",J147,0) -> 0 | BF147: =IF(N147="znížená",J147,0) -> 0 | BG147: =IF(N147="zákl. prenesená",J147,0) -> 0 | BH147: =IF(N147="zníž. prenesená",J147,0) -> 0 | BI147: =IF(N147="nulová",J147,0) -> 0 | BJ147: 2 | BK147: =ROUND(I147*H147,3) -> 0 | BL147: 16 | BM147: -590453816
C148: 20 | D148: M | E148: 4228461364 | F148: Herz klapka medziprírubová DN 50 obj.č.1421911 | G148: ks | H148: 2 | J148: =ROUND(I148*H148,3) -> 0 | N148: znížená | P148: =O148*H148 -> 0 | Q148: 0.00084 | R148: =Q148*H148 -> 0.00168 | S148: 0 | T148: =S148*H148 -> 0 | AR148: 32 | AT148: M | AU148: 2 | AY148: ROZPOCET | BE148: =IF(N148="základná",J148,0) -> 0 | BF148: =IF(N148="znížená",J148,0) -> 0 | BG148: =IF(N148="zákl. prenesená",J148,0) -> 0 | BH148: =IF(N148="zníž. prenesená",J148,0) -> 0 | BI148: =IF(N148="nulová",J148,0) -> 0 | BJ148: 2 | BK148: =ROUND(I148*H148,3) -> 0 | BL148: 16 | BM148: -1980425001
C149: 24 | D149: M | E149: 422d-iwka50 | F149: Tlmič chvenia IWKA Dn 50/16 | G149: ks | H149: 2 | J149: =ROUND(I149*H149,3) -> 0 | N149: znížená | P149: =O149*H149 -> 0 | Q149: 0.0012 | R149: =Q149*H149 -> 0.0024 | S149: 0 | T149: =S149*H149 -> 0 | AR149: 32 | AT149: M | AU149: 2 | AY149: ROZPOCET | BE149: =IF(N149="základná",J149,0) -> 0 | BF149: =IF(N149="znížená",J149,0) -> 0 | BG149: =IF(N149="zákl. prenesená",J149,0) -> 0 | BH149: =IF(N149="zníž. prenesená",J149,0) -> 0 | BI149: =IF(N149="nulová",J149,0) -> 0 | BJ149: 2 | BK149: =ROUND(I149*H149,3) -> 0 | BL149: 16 | BM149: -65279860
C150: 12 | D150: K | E150: 734173216 | F150: Prírubový spoj PN 0, 6/I, 200st. C DN 65 | G150: súb. | H150: 2 | J150: =ROUND(I150*H150,3) -> 0 | N150: znížená | P150: =O150*H150 -> 0 | Q150: 0.00452 | R150: =Q150*H150 -> 0.00904 | S150: 0 | T150: =S150*H150 -> 0 | AR150: 16 | AT150: K | AU150: 2 | AY150: ROZPOCET | BE150: =IF(N150="základná",J150,0) -> 0 | BF150: =IF(N150="znížená",J150,0) -> 0 | BG150: =IF(N150="zákl. prenesená",J150,0) -> 0 | BH150: =IF(N150="zníž. prenesená",J150,0) -> 0 | BI150: =IF(N150="nulová",J150,0) -> 0 | BJ150: 2 | BK150: =ROUND(I150*H150,3) -> 0 | BL150: 16 | BM150: 1819778611
C151: 26 | D151: M | E151: 319440028400-65 | F151: Príruba zaslepovacia DN 65, PN16, oceľová | G151: ks | H151: 2 | J151: =ROUND(I151*H151,3) -> 0 | N151: znížená | P151: =O151*H151 -> 0 | Q151: 0.00263 | R151: =Q151*H151 -> 0.00526 | S151: 0 | T151: =S151*H151 -> 0 | AR151: 32 | AT151: M | AU151: 2 | AY151: ROZPOCET | BE151: =IF(N151="základná",J151,0) -> 0 | BF151: =IF(N151="znížená",J151,0) -> 0 | BG151: =IF(N151="zákl. prenesená",J151,0) -> 0 | BH151: =IF(N151="zníž. prenesená",J151,0) -> 0 | BI151: =IF(N151="nulová",J151,0) -> 0 | BJ151: 2 | BK151: =ROUND(I151*H151,3) -> 0 | BL151: 16 | BM151: 1350496677
C152: 13 | D152: K | E152: 734173214 | F152: Prírubový spoj PN 0, 6/I, 200st. C DN 50 | G152: súb. | H152: 4 | J152: =ROUND(I152*H152,3) -> 0 | N152: znížená | P152: =O152*H152 -> 0 | Q152: 0.0037 | R152: =Q152*H152 -> 0.0148 | S152: 0 | T152: =S152*H152 -> 0 | AR152: 16 | AT152: K | AU152: 2 | AY152: ROZPOCET | BE152: =IF(N152="základná",J152,0) -> 0 | BF152: =IF(N152="znížená",J152,0) -> 0 | BG152: =IF(N152="zákl. prenesená",J152,0) -> 0 | BH152: =IF(N152="zníž. prenesená",J152,0) -> 0 | BI152: =IF(N152="nulová",J152,0) -> 0 | BJ152: 2 | BK152: =ROUND(I152*H152,3) -> 0 | BL152: 16 | BM152: -2014306895
C153: 14 | D153: K | E153: 734173414 | F153: Prírubový spoj PN 1, 6/I, 200st. C DN 50 | G153: súb. | H153: 4 | J153: =ROUND(I153*H153,3) -> 0 | N153: znížená | P153: =O153*H153 -> 0 | Q153: 0.00597 | R153: =Q153*H153 -> 0.02388 | S153: 0 | T153: =S153*H153 -> 0 | AR153: 16 | AT153: K | AU153: 2 | AY153: ROZPOCET | BE153: =IF(N153="základná",J153,0) -> 0 | BF153: =IF(N153="znížená",J153,0) -> 0 | BG153: =IF(N153="zákl. prenesená",J153,0) -> 0 | BH153: =IF(N153="zníž. prenesená",J153,0) -> 0 | BI153: =IF(N153="nulová",J153,0) -> 0 | BJ153: 2 | BK153: =ROUND(I153*H153,3) -> 0 | BL153: 16 | BM153: -296066323
C154: 15 | D154: K | E154: 734209112 | F154: Montáž závitovej armatúry s 2 závitmi do G 1/2 | G154: ks | H154: 4 | J154: =ROUND(I154*H154,3) -> 0 | N154: znížená | P154: =O154*H154 -> 0 | Q154: 2e-05 | R154: =Q154*H154 -> 8e-05 | S154: 0 | T154: =S154*H154 -> 0 | AR154: 16 | AT154: K | AU154: 2 | AY154: ROZPOCET | BE154: =IF(N154="základná",J154,0) -> 0 | BF154: =IF(N154="znížená",J154,0) -> 0 | BG154: =IF(N154="zákl. prenesená",J154,0) -> 0 | BH154: =IF(N154="zníž. prenesená",J154,0) -> 0 | BI154: =IF(N154="nulová",J154,0) -> 0 | BJ154: 2 | BK154: =ROUND(I154*H154,3) -> 0 | BL154: 16 | BM154: -1659108326
C155: 19 | D155: M | E155: 4225700300 | F155: Guľový ventil ARCO FF,PN 25 1/2",s páčkou | G155: ks | H155: 2 | J155: =ROUND(I155*H155,3) -> 0 | N155: znížená | P155: =O155*H155 -> 0 | Q155: 0.0001 | R155: =Q155*H155 -> 0.0002 | S155: 0 | T155: =S155*H155 -> 0 | AR155: 32 | AT155: M | AU155: 2 | AY155: ROZPOCET | BE155: =IF(N155="základná",J155,0) -> 0 | BF155: =IF(N155="znížená",J155,0) -> 0 | BG155: =IF(N155="zákl. prenesená",J155,0) -> 0 | BH155: =IF(N155="zníž. prenesená",J155,0) -> 0 | BI155: =IF(N155="nulová",J155,0) -> 0 | BJ155: 2 | BK155: =ROUND(I155*H155,3) -> 0 | BL155: 16 | BM155: -1650934215
C156: 25 | D156: M | E156: 484AOV10 | F156: Automatický odvzdušňovací ventil Flexvent Dn10 | G156: ks | H156: 2 | J156: =ROUND(I156*H156,3) -> 0 | N156: znížená | P156: =O156*H156 -> 0 | Q156: 0.0001 | R156: =Q156*H156 -> 0.0002 | S156: 0 | T156: =S156*H156 -> 0 | AR156: 32 | AT156: M | AU156: 2 | AY156: ROZPOCET | BE156: =IF(N156="základná",J156,0) -> 0 | BF156: =IF(N156="znížená",J156,0) -> 0 | BG156: =IF(N156="zákl. prenesená",J156,0) -> 0 | BH156: =IF(N156="zníž. prenesená",J156,0) -> 0 | BI156: =IF(N156="nulová",J156,0) -> 0 | BJ156: 2 | BK156: =ROUND(I156*H156,3) -> 0 | BL156: 16 | BM156: -889539957
C157: 16 | D157: K | E157: 734209116 | F157: Montáž závitovej armatúry s 2 závitmi G 5/4 | G157: ks | H157: 2 | J157: =ROUND(I157*H157,3) -> 0 | N157: znížená | P157: =O157*H157 -> 0 | Q157: 3e-05 | R157: =Q157*H157 -> 6e-05 | S157: 0 | T157: =S157*H157 -> 0 | AR157: 16 | AT157: K | AU157: 2 | AY157: ROZPOCET | BE157: =IF(N157="základná",J157,0) -> 0 | BF157: =IF(N157="znížená",J157,0) -> 0 | BG157: =IF(N157="zákl. prenesená",J157,0) -> 0 | BH157: =IF(N157="zníž. prenesená",J157,0) -> 0 | BI157: =IF(N157="nulová",J157,0) -> 0 | BJ157: 2 | BK157: =ROUND(I157*H157,3) -> 0 | BL157: 16 | BM157: -2125894326
... C161: 23 | D161: K | E161: m-ru | F161: Montáž regulačného uzla VZT jednotky | G161: ks | H161: 3 | J161: =ROUND(I161*H161,3) -> 0 | N161: znížená | P161: =O161*H161 -> 0 | Q161: 0.00115 | R161: =Q161*H161 -> 0.00345 | S161: 0 | T161: =S161*H161 -> 0 | AR161: 16 | AT161: K | AU161: 2 | AY161: ROZPOCET | BE161: =IF(N161="základná",J161,0) -> 0 | BF161: =IF(N161="znížená",J161,0) -> 0 | BG161: =IF(N161="zákl. prenesená",J161,0) -> 0 | BH161: =IF(N161="zníž. prenesená",J161,0) -> 0 | BI161: =IF(N161="nulová",J161,0) -> 0 | BJ161: 2 | BK161: =ROUND(I161*H161,3) -> 0 | BL161: 16 | BM161: 1332253675
C162: 18 | D162: K | E162: 998734203 | F162: Presun hmôt pre armatúry v objektoch výšky nad 6 do 24 m | G162: % | J162: =ROUND(I162*H162,3) -> 0 | N162: znížená | P162: =O162*H162 -> 0 | Q162: 0 | R162: =Q162*H162 -> 0 | S162: 0 | T162: =S162*H162 -> 0 | AR162: 16 | AT162: K | AU162: 2 | AY162: ROZPOCET | BE162: =IF(N162="základná",J162,0) -> 0 | BF162: =IF(N162="znížená",J162,0) -> 0 | BG162: =IF(N162="zákl. prenesená",J162,0) -> 0 | BH162: =IF(N162="zníž. prenesená",J162,0) -> 0 | BI162: =IF(N162="nulová",J162,0) -> 0 | BJ162: 2 | BK162: =ROUND(I162*H162,3) -> 0 | BL162: 16 | BM162: -464351728
D163: D | E163: 767 | F163: Konštrukcie doplnkové kovové | J163: =BK163 -> 0 | P163: =SUM(P164:P166) -> 0 | R163: =SUM(R164:R166) -> 0.008 | T163: =SUM(T164:T166) -> 0 | AR163: 2 | AT163: D | AU163: 1 | AY163: ROZPOCET | BK163: =SUM(BK164:BK166) -> 0
C164: 27 | D164: K | E164: 767995101 | F164: Montáž ostatných atypických kovových stavebných doplnkových konštrukcií do 5 kg | G164: kg | H164: 100 | J164: =ROUND(I164*H164,3) -> 0 | N164: znížená | P164: =O164*H164 -> 0 | Q164: 8e-05 | R164: =Q164*H164 -> 0.008 | S164: 0 | T164: =S164*H164 -> 0 | AR164: 16 | AT164: K | AU164: 2 | AY164: ROZPOCET | BE164: =IF(N164="základná",J164,0) -> 0 | BF164: =IF(N164="znížená",J164,0) -> 0 | BG164: =IF(N164="zákl. prenesená",J164,0) -> 0 | BH164: =IF(N164="zníž. prenesená",J164,0) -> 0 | BI164: =IF(N164="nulová",J164,0) -> 0 | BJ164: 2 | BK164: =ROUND(I164*H164,3) -> 0 | BL164: 16 | BM164: -609482717
C165: 40 | D165: M | E165: m-4 | F165: Atypické konštrukcie -doplnkové kovové | G165: t | H165: 0.1 | J165: =ROUND(I165*H165,3) -> 0 | N165: znížená | P165: =O165*H165 -> 0 | Q165: 0 | R165: =Q165*H165 -> 0 | S165: 0 | T165: =S165*H165 -> 0 | AR165: 32 | AT165: M | AU165: 2 | AY165: ROZPOCET | BE165: =IF(N165="základná",J165,0) -> 0 | BF165: =IF(N165="znížená",J165,0) -> 0 | BG165: =IF(N165="zákl. prenesená",J165,0) -> 0 | BH165: =IF(N165="zníž. prenesená",J165,0) -> 0 | BI165: =IF(N165="nulová",J165,0) -> 0 | BJ165: 2 | BK165: =ROUND(I165*H165,3) -> 0 | BL165: 16 | BM165: 1634163450
C166: 28 | D166: K | E166: 998767202 | F166: Presun hmôt pre kovové stavebné doplnkové konštrukcie v objektoch výšky nad 6 do 12 m | G166: % | J166: =ROUND(I166*H166,3) -> 0 | N166: znížená | P166: =O166*H166 -> 0 | Q166: 0 | R166: =Q166*H166 -> 0 | S166: 0 | T166: =S166*H166 -> 0 | AR166: 16 | AT166: K | AU166: 2 | AY166: ROZPOCET | BE166: =IF(N166="základná",J166,0) -> 0 | BF166: =IF(N166="znížená",J166,0) -> 0 | BG166: =IF(N166="zákl. prenesená",J166,0) -> 0 | BH166: =IF(N166="zníž. prenesená",J166,0) -> 0 | BI166: =IF(N166="nulová",J166,0) -> 0 | BJ166: 2 | BK166: =ROUND(I166*H166,3) -> 0 | BL166: 16 | BM166: 1512803987
D167: D | E167: 783 | F167: Nátery | J167: =BK167 -> 0 | P167: =SUM(P168:P170) -> 0 | R167: =SUM(R168:R170) -> 0.0031 | T167: =SUM(T168:T170) -> 0 | AR167: 2 | AT167: D | AU167: 1 | AY167: ROZPOCET | BK167: =SUM(BK168:BK170) -> 0
C168: 29 | D168: K | E168: 783225100 | F168: Nátery kov.stav.doplnk.konštr. syntetické na vzduchu schnúce dvojnás. 1x s emailov. - 105µm | G168: m2 | H168: 5 | J168: =ROUND(I168*H168,3) -> 0 | N168: znížená | P168: =O168*H168 -> 0 | Q168: 0.00024 | R168: =Q168*H168 -> 0.0012 | S168: 0 | T168: =S168*H168 -> 0 | AR168: 16 | AT168: K | AU168: 2 | AY168: ROZPOCET | BE168: =IF(N168="základná",J168,0) -> 0 | BF168: =IF(N168="znížená",J168,0) -> 0 | BG168: =IF(N168="zákl. prenesená",J168,0) -> 0 | BH168: =IF(N168="zníž. prenesená",J168,0) -> 0 | BI168: =IF(N168="nulová",J168,0) -> 0 | BJ168: 2 | BK168: =ROUND(I168*H168,3) -> 0 | BL168: 16 | BM168: 2073345587
C169: 30 | D169: K | E169: 783226100 | F169: Nátery kov.stav.doplnk.konštr. syntetické na vzduchu schnúce základný - 35µm | G169: m2 | H169: 5 | J169: =ROUND(I169*H169,3) -> 0 | N169: znížená | P169: =O169*H169 -> 0 | Q169: 8e-05 | R169: =Q169*H169 -> 0.0004 | S169: 0 | T169: =S169*H169 -> 0 | AR169: 16 | AT169: K | AU169: 2 | AY169: ROZPOCET | BE169: =IF(N169="základná",J169,0) -> 0 | BF169: =IF(N169="znížená",J169,0) -> 0 | BG169: =IF(N169="zákl. prenesená",J169,0) -> 0 | BH169: =IF(N169="zníž. prenesená",J169,0) -> 0 | BI169: =IF(N169="nulová",J169,0) -> 0 | BJ169: 2 | BK169: =ROUND(I169*H169,3) -> 0 | BL169: 16 | BM169: -1420535409
...
