Workbook

Sheet Rekapitulácia stavby
A1: Export Komplet | BA1: 2.0 | BT1: False | BU1: False | BV1: {533cf93e-7e1d-4d8e-b9e6-fe2c790262ce}
AR2: >> skryté stĺpce << | BS2: 0,01 | BT2: 20
BS3: 0,01 | BT3: 20
D4: REKAPITULÁCIA STAVBY | AS4: v --- nižšie sa nachádzajú doplnkové a pomocné údaje k zostavám --- v | BE4: Návod na vyplnenie | BS4: 0,001
D5: Kód: | BE5: Meniť je možné iba bunky so žltým podfarbením!_x000D_ _x000D_ 1) na prvom liste Rekapitulácie stavby vyplňte v zostave_x000D_ _x000D_ a) Rekapitulácia stavby_x000D_ - údaje o Zhotoviteľovi_x000D_ (prenesú sa do ostatných zostáv aj v iných listoch)_x000D_ _x000D_ b) Rekapitulácia objektov stavby_x000D_ - potrebné Ostatné náklady_x000D_ _x000D_ 2) na vybraných listoch vyplňte v zostave_x000D_ _x000D_ a) Krycí list_x000D_ - údaje o Zhotoviteľovi, pokiaľ sa líšia od údajov o Zhotoviteľovi na Rekapitulácii stavby_x000D_ (údaje se prenesú do ostatných zostav v danom liste)_x000D_ _x000D_ b) Rekapitulácia rozpočtu_x000D_ - potrebné Ostatné náklady_x000D_ _x000D_ c) Celkové náklady za stavbu_x000D_ - ceny na položkách_x000D_ - množstvo, pokiaľ má žlté podfarbenie_x000D_ - a v prípade potreby poznámku (tá je v skrytom stĺpci) | BS5: 0,01
D6: Stavba: | K6: Parkovisko Na Hôrke | BS6: 0,01
D7: JKSO: | AK7: KS: | BS7: 0,01
D8: Miesto: | K8: Na Hôrke, Nitra | AK8: Dátum: | AN8: 27. 11. 2019 | BS8: 0,01
BS9: 0,01
D10: Objednávateľ: | AK10: IČO: | BS10: 0,01
E11: Mesto Nitra | AK11: IČ DPH: | BS11: 0,01
BS12: 0,01
D13: Zhotoviteľ: | AK13: IČO: | AN13: Vyplň údaj | BS13: 0,01
E14: Vyplň údaj | AK14: IČ DPH: | AN14: Vyplň údaj | BS14: 0,01
BS15: False
D16: Projektant: | AK16: IČO: | BS16: False
E17: Ing. Martin Kollár | AK17: IČ DPH: | BS17: True
BS18: 0,01
D19: Spracovateľ: | AK19: IČO: | BS19: 0,01
E20: Ing. Martin Hrnčiar | AK20: IČ DPH: | BS20: True
D22: Poznámka:
D26: Cena bez DPH | AK26: =ROUND(AG94,2) -> 0
L28: Sadzba dane | W28: Základ dane | AK28: Výška dane
D29: DPH | F29: základná | L29: 0.2 | W29: =ROUND(AZ94, 2) -> 0 | AK29: =ROUND(AV94, 2) -> 0
F30: znížená | L30: 0.2 | W30: =ROUND(BA94, 2) -> 0 | AK30: =ROUND(AW94, 2) -> 0
F31: zákl. prenesená | L31: 0.2 | W31: =ROUND(BB94, 2) -> 0 | AK31: 0
F32: zníž. prenesená | L32: 0.2 | W32: =ROUND(BC94, 2) -> 0 | AK32: 0
F33: nulová | L33: 0 | W33: =ROUND(BD94, 2) -> 0 | AK33: 0
D35: Cena s DPH | T35: v | X35: EUR | AK35: =SUM(AK26:AK33) -> 0
D49: Projektant | AH49: Spracovateľ
D60: Dátum a podpis: | V60: Pečiatka | AH60: Dátum a podpis: | AM60: Pečiatka
D64: Objednávateľ | AH64: Zhotoviteľ
D75: Dátum a podpis: | V75: Pečiatka | AH75: Dátum a podpis: | AM75: Pečiatka
C82: REKAPITULÁCIA OBJEKTOV STAVBY
C84: Kód:
C85: Stavba: | L85: =K6 -> Parkovisko Na Hôrke
C87: Miesto: | L87: =IF(K8="","",K8) -> Na Hôrke, Nitra | AI87: Dátum: | AM87: =IF(AN8= "","",AN8) -> 27. 11. 2019
C89: Objednávateľ: | L89: =IF(E11= "","",E11) -> Mesto Nitra | AI89: Projektant: | AM89: =IF(E17="","",E17) -> Ing. Martin Kollár | AS89: Informatívne údaje z listov zákaziek
C90: Zhotoviteľ: | L90: =IF(E14= "Vyplň údaj","",E14) | AI90: Spracovateľ: | AM90: =IF(E20="","",E20) -> Ing. Martin Hrnčiar
C92: Kód | I92: Popis | AG92: Cena bez DPH [EUR] | AN92: Cena s DPH [EUR] | AQ92: Typ | AS92: z toho Ostat._x000D_ náklady [EUR] | AT92: DPH [EUR] | AU92: Normohodiny [h] | AV92: DPH základná [EUR] | AW92: DPH znížená [EUR] | AX92: DPH základná prenesená_x000D_ [EUR] | AY92: DPH znížená prenesená_x000D_ [EUR] | AZ92: Základňa_x000D_ DPH základná | BA92: Základňa_x000D_ DPH znížená | BB92: Základňa_x000D_ DPH zákl. prenesená | BC92: Základňa_x000D_ DPH zníž. prenesená | BD92: Základňa_x000D_ DPH nulová
C94: Náklady z rozpočtov | AG94: =ROUND(SUM(AG95:AG96),2) -> 0 | AN94: =SUM(AG94,AT94) -> 0 | AS94: =ROUND(SUM(AS95:AS96),2) -> 0 | AT94: =ROUND(SUM(AV94:AW94),2) -> 0 | AU94: =ROUND(SUM(AU95:AU96),5) -> 0 | AV94: =ROUND(AZ94*L29,2) -> 0 | AW94: =ROUND(BA94*L30,2) -> 0 | AX94: =ROUND(BB94*L29,2) -> 0 | AY94: =ROUND(BC94*L30,2) -> 0 | AZ94: =ROUND(SUM(AZ95:AZ96),2) -> 0 | BA94: =ROUND(SUM(BA95:BA96),2) -> 0 | BB94: =ROUND(SUM(BB95:BB96),2) -> 0 | BC94: =ROUND(SUM(BC95:BC96),2) -> 0 | BD94: =ROUND(SUM(BD95:BD96),2) -> 0 | BS94: D | BT94: 0 | BU94: ###NOIMPORT### | BV94: IMPORT | BW94: {533cf93e-7e1d-4d8e-b9e6-fe2c790262ce} | BX94: {00000000-0000-0000-0000-000000000000}
A95: / | D95: 01 | J95: Parkovisko | AG95: ='01 - Parkovisko'!J30 -> 0 | AN95: =SUM(AG95,AT95) -> 0 | AQ95: STA | AS95: 0 | AT95: =ROUND(SUM(AV95:AW95),2) -> 0 | AU95: ='01 - Parkovisko'!P123 -> 0 | AV95: ='01 - Parkovisko'!J33 -> 0 | AW95: ='01 - Parkovisko'!J34 -> 0 | AX95: ='01 - Parkovisko'!J35 -> 0 | AY95: ='01 - Parkovisko'!J36 -> 0 | AZ95: ='01 - Parkovisko'!F33 -> 0 | BA95: ='01 - Parkovisko'!F34 -> 0 | BB95: ='01 - Parkovisko'!F35 -> 0 | BC95: ='01 - Parkovisko'!F36 -> 0 | BD95: ='01 - Parkovisko'!F37 -> 0 | BT95: 1 | BV95: IMPORT | BW95: {642ffd73-e629-4b3f-abb3-b6ddc900b0ca} | BX95: {533cf93e-7e1d-4d8e-b9e6-fe2c790262ce} | CM95: 0
A96: / | D96: 02 | J96: Dažďová kanalizácia | AG96: ='02 - Dažďová kanalizácia'!J30 -> 0 | AN96: =SUM(AG96,AT96) -> 0 | AQ96: STA | AS96: 0 | AT96: =ROUND(SUM(AV96:AW96),2) -> 0 | AU96: ='02 - Dažďová kanalizácia'!P122 -> 0 | AV96: ='02 - Dažďová kanalizácia'!J33 -> 0 | AW96: ='02 - Dažďová kanalizácia'!J34 -> 0 | AX96: ='02 - Dažďová kanalizácia'!J35 -> 0 | AY96: ='02 - Dažďová kanalizácia'!J36 -> 0 | AZ96: ='02 - Dažďová kanalizácia'!F33 -> 0 | BA96: ='02 - Dažďová kanalizácia'!F34 -> 0 | BB96: ='02 - Dažďová kanalizácia'!F35 -> 0 | BC96: ='02 - Dažďová kanalizácia'!F36 -> 0 | BD96: ='02 - Dažďová kanalizácia'!F37 -> 0 | BT96: 1 | BV96: IMPORT | BW96: {6e196025-67ad-4a9d-9071-23c534fdaff5} | BX96: {533cf93e-7e1d-4d8e-b9e6-fe2c790262ce} | CM96: 0

Sheet 01 - Parkovisko
L2: >> skryté stĺpce << | AT2: {642ffd73-e629-4b3f-abb3-b6ddc900b0ca}
AT3: 0
D4: KRYCÍ LIST ROZPOČTU | M4: v --- nižšie sa nachádzajú doplnkové a pomocné údaje k zostavám --- v | AT4: False
D6: Stavba:
E7: ='Rekapitulácia stavby'!K6 -> Parkovisko Na Hôrke
D8: Objekt:
E9: 01 - Parkovisko
D11: JKSO: | I11: KS:
D12: Miesto: | F12: Na Hôrke, Nitra | I12: Dátum: | J12: ='Rekapitulácia stavby'!AN8 -> 27. 11. 2019
D14: Objednávateľ: | I14: IČO:
E15: Mesto Nitra | I15: IČ DPH:
D17: Zhotoviteľ: | I17: IČO: | J17: ='Rekapitulácia stavby'!AN13 -> Vyplň údaj
E18: ='Rekapitulácia stavby'!E14 -> Vyplň údaj | I18: IČ DPH: | J18: ='Rekapitulácia stavby'!AN14 -> Vyplň údaj
D20: Projektant: | I20: IČO:
E21: Ing. Martin Kollár | I21: IČ DPH:
D23: Spracovateľ: | I23: IČO:
E24: Ing. Martin Hrnčiar | I24: IČ DPH:
D26: Poznámka:
D30: Cena bez DPH | J30: =ROUND(J123, 2) -> 0
F32: Základ dane | I32: Sadzba dane | J32: Výška dane
D33: DPH | E33: základná | F33: =ROUND((SUM(BE123:BE178)), 2) -> 0 | I33: 0.2 | J33: =ROUND(((SUM(BE123:BE178))*I33), 2) -> 0
E34: znížená | F34: =ROUND((SUM(BF123:BF178)), 2) -> 0 | I34: 0.2 | J34: =ROUND(((SUM(BF123:BF178))*I34), 2) -> 0
E35: zákl. prenesená | F35: =ROUND((SUM(BG123:BG178)), 2) -> 0 | I35: 0.2 | J35: =0 -> 0
E36: zníž. prenesená | F36: =ROUND((SUM(BH123:BH178)), 2) -> 0 | I36: 0.2 | J36: =0 -> 0
E37: nulová | F37: =ROUND((SUM(BI123:BI178)), 2) -> 0 | I37: 0 | J37: =0 -> 0
D39: Cena s DPH | G39: v | H39: EUR | J39: =SUM(J30:J37) -> 0
D50: Projektant | G50: Spracovateľ
D61: Dátum a podpis: | F61: Pečiatka | G61: Dátum a podpis: | J61: Pečiatka
D65: Objednávateľ | G65: Zhotoviteľ
D76: Dátum a podpis: | F76: Pečiatka | G76: Dátum a podpis: | J76: Pečiatka
C82: REKAPITULÁCIA ROZPOČTU
C84: Stavba:
E85: =E7 -> Parkovisko Na Hôrke
C86: Objekt:
E87: =E9 -> 01 - Parkovisko
C89: Miesto: | F89: =F12 -> Na Hôrke, Nitra | I89: Dátum: | J89: =IF(J12="","",J12) -> 27. 11. 2019
C91: Objednávateľ: | F91: =E15 -> Mesto Nitra | I91: Projektant: | J91: =E21 -> Ing. Martin Kollár
C92: Zhotoviteľ: | F92: =IF(E18="","",E18) -> Vyplň údaj | I92: Spracovateľ: | J92: =E24 -> Ing. Martin Hrnčiar
C94: Kód dielu - Popis | J94: Cena celkom [EUR]
C96: Náklady z rozpočtu | J96: =J123 -> 0 | AU96: -1
D97: HSV - Práce a dodávky HSV | J97: =J124 -> 0
D98: 1 - Zemné práce | J98: =J125 -> 0
D99: 5 - Komunikácie | J99: =J138 -> 0
D100: 9 - Ostatné konštrukcie a práce-búranie | J100: =J152 -> 0
D101: 99 - Presun hmôt HSV | J101: =J172 -> 0
D102: VRN - Vedľajšie rozpočtové náklady | J102: =J174 -> 0
D103: VRN03 - Geodetické práce | J103: =J175 -> 0
C110: ROZPOČET
C112: Stavba:
E113: =E7 -> Parkovisko Na Hôrke
C114: Objekt:
E115: =E9 -> 01 - Parkovisko
C117: Miesto: | F117: =F12 -> Na Hôrke, Nitra | I117: Dátum: | J117: =IF(J12="","",J12) -> 27. 11. 2019
C119: Objednávateľ: | F119: =E15 -> Mesto Nitra | I119: Projektant: | J119: =E21 -> Ing. Martin Kollár
C120: Zhotoviteľ: | F120: =IF(E18="","",E18) -> Vyplň údaj | I120: Spracovateľ: | J120: =E24 -> Ing. Martin Hrnčiar
C122: PČ | D122: Typ | E122: Kód | F122: Popis | G122: MJ | H122: Množstvo | I122: J.cena [EUR] | J122: Cena celkom [EUR] | K122: Cenová sústava | N122: DPH | O122: J. Nh [h] | P122: Nh celkom [h] | Q122: J. hmotnosť [t] | R122: Hmotnosť celkom [t] | S122: J. suť [t] | T122: Suť Celkom [t]
C123: Náklady z rozpočtu | J123: =BK123 -> 0 | P123: =P124+P174 -> 0 | R123: =R124+R174 -> 1001.6506 | T123: =T124+T174 -> 0 | AT123: D | AU123: -1 | BK123: =BK124+BK174 -> 0
D124: D | E124: HSV | F124: Práce a dodávky HSV | J124: =BK124 -> 0 | P124: =P125+P138+P152+P172 -> 0 | R124: =R125+R138+R152+R172 -> 1001.6506 | T124: =T125+T138+T152+T172 -> 0 | AR124: 1 | AT124: D | AU124: 0 | AY124: ROZPOCET | BK124: =BK125+BK138+BK152+BK172 -> 0
D125: D | E125: 1 | F125: Zemné práce | J125: =BK125 -> 0 | P125: =SUM(P126:P137) -> 0 | R125: =SUM(R126:R137) -> 0 | T125: =SUM(T126:T137) -> 0 | AR125: 1 | AT125: D | AU125: 1 | AY125: ROZPOCET | BK125: =SUM(BK126:BK137) -> 0
C126: 1 | D126: K | E126: 111101101 | F126: Odstránenie travín a tŕstia s príp. nutným premiestnením a s uložením na hromady do 50 m, pri celkovej ploche do 1000m2 | G126: m2 | H126: 870 | J126: =ROUND(I126*H126,2) -> 0 | N126: znížená | P126: =O126*H126 -> 0 | Q126: 0 | R126: =Q126*H126 -> 0 | S126: 0 | T126: =S126*H126 -> 0 | AR126: 4 | AT126: K | AU126: 2 | AY126: ROZPOCET | BE126: =IF(N126="základná",J126,0) -> 0 | BF126: =IF(N126="znížená",J126,0) -> 0 | BG126: =IF(N126="zákl. prenesená",J126,0) -> 0 | BH126: =IF(N126="zníž. prenesená",J126,0) -> 0 | BI126: =IF(N126="nulová",J126,0) -> 0 | BJ126: 2 | BK126: =ROUND(I126*H126,2) -> 0 | BL126: 4 | BM126: 2
C127: 61 | D127: K | E127: 113107112 | F127: Odstránenie krytu v ploche do 200m2 z kameniva ťaženého, hr.100 do 200mm, -0,24000t | G127: m2 | H127: 37 | J127: =ROUND(I127*H127,2) -> 0 | N127: znížená | P127: =O127*H127 -> 0 | Q127: 0 | R127: =Q127*H127 -> 0 | S127: 0 | T127: =S127*H127 -> 0 | AR127: 4 | AT127: K | AU127: 2 | AY127: ROZPOCET | BE127: =IF(N127="základná",J127,0) -> 0 | BF127: =IF(N127="znížená",J127,0) -> 0 | BG127: =IF(N127="zákl. prenesená",J127,0) -> 0 | BH127: =IF(N127="zníž. prenesená",J127,0) -> 0 | BI127: =IF(N127="nulová",J127,0) -> 0 | BJ127: 2 | BK127: =ROUND(I127*H127,2) -> 0 | BL127: 4 | BM127: 4
C128: 2 | D128: K | E128: 113152130 | F128: Frézovanie asf. podkladu alebo krytu bez prek., plochy do 500 m2, pruh š. do 0,5 m, hr. 50 mm 0,127 t | G128: m2 | H128: 22 | J128: =ROUND(I128*H128,2) -> 0 | N128: znížená | P128: =O128*H128 -> 0 | Q128: 0 | R128: =Q128*H128 -> 0 | S128: 0 | T128: =S128*H128 -> 0 | AR128: 4 | AT128: K | AU128: 2 | AY128: ROZPOCET | BE128: =IF(N128="základná",J128,0) -> 0 | BF128: =IF(N128="znížená",J128,0) -> 0 | BG128: =IF(N128="zákl. prenesená",J128,0) -> 0 | BH128: =IF(N128="zníž. prenesená",J128,0) -> 0 | BI128: =IF(N128="nulová",J128,0) -> 0 | BJ128: 2 | BK128: =ROUND(I128*H128,2) -> 0 | BL128: 4 | BM128: 6
C129: 3 | D129: K | E129: 113205111 | F129: Vytrhanie obrúb betónových, chodníkových ležatých, -0,23000t | G129: m | H129: 23 | J129: =ROUND(I129*H129,2) -> 0 | N129: znížená | P129: =O129*H129 -> 0 | Q129: 0 | R129: =Q129*H129 -> 0 | S129: 0 | T129: =S129*H129 -> 0 | AR129: 4 | AT129: K | AU129: 2 | AY129: ROZPOCET | BE129: =IF(N129="základná",J129,0) -> 0 | BF129: =IF(N129="znížená",J129,0) -> 0 | BG129: =IF(N129="zákl. prenesená",J129,0) -> 0 | BH129: =IF(N129="zníž. prenesená",J129,0) -> 0 | BI129: =IF(N129="nulová",J129,0) -> 0 | BJ129: 2 | BK129: =ROUND(I129*H129,2) -> 0 | BL129: 4 | BM129: 8
C130: 4 | D130: K | E130: 121101111 | F130: Odstránenie ornice s vodor. premiestn. na hromady, so zložením na vzdialenosť do 100 m a do 100m3 | G130: m3 | H130: 217.5 | J130: =ROUND(I130*H130,2) -> 0 | N130: znížená | P130: =O130*H130 -> 0 | Q130: 0 | R130: =Q130*H130 -> 0 | S130: 0 | T130: =S130*H130 -> 0 | AR130: 4 | AT130: K | AU130: 2 | AY130: ROZPOCET | BE130: =IF(N130="základná",J130,0) -> 0 | BF130: =IF(N130="znížená",J130,0) -> 0 | BG130: =IF(N130="zákl. prenesená",J130,0) -> 0 | BH130: =IF(N130="zníž. prenesená",J130,0) -> 0 | BI130: =IF(N130="nulová",J130,0) -> 0 | BJ130: 2 | BK130: =ROUND(I130*H130,2) -> 0 | BL130: 4 | BM130: 10
C131: 5 | D131: K | E131: 122202202 | F131: Odkopávka a prekopávka nezapažená pre cesty, v hornine 3 nad 100 do 1000 m3 | G131: m3 | H131: 423.493 | J131: =ROUND(I131*H131,2) -> 0 | N131: znížená | P131: =O131*H131 -> 0 | Q131: 0 | R131: =Q131*H131 -> 0 | S131: 0 | T131: =S131*H131 -> 0 | AR131: 4 | AT131: K | AU131: 2 | AY131: ROZPOCET | BE131: =IF(N131="základná",J131,0) -> 0 | BF131: =IF(N131="znížená",J131,0) -> 0 | BG131: =IF(N131="zákl. prenesená",J131,0) -> 0 | BH131: =IF(N131="zníž. prenesená",J131,0) -> 0 | BI131: =IF(N131="nulová",J131,0) -> 0 | BJ131: 2 | BK131: =ROUND(I131*H131,2) -> 0 | BL131: 4 | BM131: 12
C132: 51 | D132: K | E132: 132211101 | F132: Hĺbenie rýh šírky do 600 mm v hornine tr.3 súdržných - ručným náradím obnaženie vedení | G132: m3 | H132: 24.6 | J132: =ROUND(I132*H132,2) -> 0 | N132: znížená | P132: =O132*H132 -> 0 | Q132: 0 | R132: =Q132*H132 -> 0 | S132: 0 | T132: =S132*H132 -> 0 | AR132: 4 | AT132: K | AU132: 2 | AY132: ROZPOCET | BE132: =IF(N132="základná",J132,0) -> 0 | BF132: =IF(N132="znížená",J132,0) -> 0 | BG132: =IF(N132="zákl. prenesená",J132,0) -> 0 | BH132: =IF(N132="zníž. prenesená",J132,0) -> 0 | BI132: =IF(N132="nulová",J132,0) -> 0 | BJ132: 2 | BK132: =ROUND(I132*H132,2) -> 0 | BL132: 4 | BM132: 14
C133: 52 | D133: K | E133: 132211119 | F133: Príplatok za lepivosť pri hĺbení rýh š do 600 mm ručným náradím v hornine tr. 3 | G133: m3 | H133: 24.6 | J133: =ROUND(I133*H133,2) -> 0 | N133: znížená | P133: =O133*H133 -> 0 | Q133: 0 | R133: =Q133*H133 -> 0 | S133: 0 | T133: =S133*H133 -> 0 | AR133: 4 | AT133: K | AU133: 2 | AY133: ROZPOCET | BE133: =IF(N133="základná",J133,0) -> 0 | BF133: =IF(N133="znížená",J133,0) -> 0 | BG133: =IF(N133="zákl. prenesená",J133,0) -> 0 | BH133: =IF(N133="zníž. prenesená",J133,0) -> 0 | BI133: =IF(N133="nulová",J133,0) -> 0 | BJ133: 2 | BK133: =ROUND(I133*H133,2) -> 0 | BL133: 4 | BM133: 16
C134: 6 | D134: K | E134: 162501122 | F134: Vodorovné premiestnenie výkopku po spevnenej ceste z horniny tr.1-4, nad 100 do 1000 m3 na vzdialenosť do 3000 m | G134: m3 | H134: 769.192 | J134: =ROUND(I134*H134,2) -> 0 | N134: znížená | P134: =O134*H134 -> 0 | Q134: 0 | R134: =Q134*H134 -> 0 | S134: 0 | T134: =S134*H134 -> 0 | AR134: 4 | AT134: K | AU134: 2 | AY134: ROZPOCET | BE134: =IF(N134="základná",J134,0) -> 0 | BF134: =IF(N134="znížená",J134,0) -> 0 | BG134: =IF(N134="zákl. prenesená",J134,0) -> 0 | BH134: =IF(N134="zníž. prenesená",J134,0) -> 0 | BI134: =IF(N134="nulová",J134,0) -> 0 | BJ134: 2 | BK134: =ROUND(I134*H134,2) -> 0 | BL134: 4 | BM134: 18
C135: 7 | D135: K | E135: 162501123 | F135: Vodorovné premiestnenie výkopku po spevnenej ceste z horniny tr.1-4, nad 100 do 1000 m3, príplatok k cene za každých ďalšich a začatých 1000 m | G135: m3 | H135: 769.192 | J135: =ROUND(I135*H135,2) -> 0 | N135: znížená | P135: =O135*H135 -> 0 | Q135: 0 | R135: =Q135*H135 -> 0 | S135: 0 | T135: =S135*H135 -> 0 | AR135: 4 | AT135: K | AU135: 2 | AY135: ROZPOCET | BE135: =IF(N135="základná",J135,0) -> 0 | BF135: =IF(N135="znížená",J135,0) -> 0 | BG135: =IF(N135="zákl. prenesená",J135,0) -> 0 | BH135: =IF(N135="zníž. prenesená",J135,0) -> 0 | BI135: =IF(N135="nulová",J135,0) -> 0 | BJ135: 2 | BK135: =ROUND(I135*H135,2) -> 0 | BL135: 4 | BM135: 20
C136: 8 | D136: K | E136: 171209002 | F136: Poplatok za skladovanie - zemina a kamenivo (17 05) ostatné | G136: t | H136: 1025.589 | J136: =ROUND(I136*H136,2) -> 0 | N136: znížená | P136: =O136*H136 -> 0 | Q136: 0 | R136: =Q136*H136 -> 0 | S136: 0 | T136: =S136*H136 -> 0 | AR136: 4 | AT136: K | AU136: 2 | AY136: ROZPOCET | BE136: =IF(N136="základná",J136,0) -> 0 | BF136: =IF(N136="znížená",J136,0) -> 0 | BG136: =IF(N136="zákl. prenesená",J136,0) -> 0 | BH136: =IF(N136="zníž. prenesená",J136,0) -> 0 | BI136: =IF(N136="nulová",J136,0) -> 0 | BJ136: 2 | BK136: =ROUND(I136*H136,2) -> 0 | BL136: 4 | BM136: 22
C137: 9 | D137: K | E137: 181101102 | F137: Úprava pláne v zárezoch v hornine 1-4 so zhutnením | G137: m2 | H137: 870 | J137: =ROUND(I137*H137,2) -> 0 | N137: znížená | P137: =O137*H137 -> 0 | Q137: 0 | R137: =Q137*H137 -> 0 | S137: 0 | T137: =S137*H137 -> 0 | AR137: 4 | AT137: K | AU137: 2 | AY137: ROZPOCET | BE137: =IF(N137="základná",J137,0) -> 0 | BF137: =IF(N137="znížená",J137,0) -> 0 | BG137: =IF(N137="zákl. prenesená",J137,0) -> 0 | BH137: =IF(N137="zníž. prenesená",J137,0) -> 0 | BI137: =IF(N137="nulová",J137,0) -> 0 | BJ137: 2 | BK137: =ROUND(I137*H137,2) -> 0 | BL137: 4 | BM137: 24
D138: D | E138: 5 | F138: Komunikácie | J138: =BK138 -> 0 | P138: =SUM(P139:P151) -> 0 | R138: =SUM(R139:R151) -> 928.06582 | T138: =SUM(T139:T151) -> 0 | AR138: 1 | AT138: D | AU138: 1 | AY138: ROZPOCET | BK138: =SUM(BK139:BK151) -> 0
C139: 10 | D139: K | E139: 564752111 | F139: Podklad alebo kryt z kameniva hrubého drveného veľ. 32-63mm(vibr.štrk) po zhut.hr. 150 mm | G139: m2 | H139: 870 | J139: =ROUND(I139*H139,2) -> 0 | N139: znížená | P139: =O139*H139 -> 0 | Q139: 0.36834 | R139: =Q139*H139 -> 320.4558 | S139: 0 | T139: =S139*H139 -> 0 | AR139: 4 | AT139: K | AU139: 2 | AY139: ROZPOCET | BE139: =IF(N139="základná",J139,0) -> 0 | BF139: =IF(N139="znížená",J139,0) -> 0 | BG139: =IF(N139="zákl. prenesená",J139,0) -> 0 | BH139: =IF(N139="zníž. prenesená",J139,0) -> 0 | BI139: =IF(N139="nulová",J139,0) -> 0 | BJ139: 2 | BK139: =ROUND(I139*H139,2) -> 0 | BL139: 4 | BM139: 26
C140: 65 | D140: K | E140: 564851111 | F140: Vybudovanie dočastneho vjazdu zo štrkodrviny s rozprestretím a zhutnením, po zhutnení hr. 150 mm | G140: m2 | H140: 30 | J140: =ROUND(I140*H140,2) -> 0 | N140: znížená | P140: =O140*H140 -> 0 | Q140: 0.27994 | R140: =Q140*H140 -> 8.3982 | S140: 0 | T140: =S140*H140 -> 0 | AR140: 4 | AT140: K | AU140: 2 | AY140: ROZPOCET | BE140: =IF(N140="základná",J140,0) -> 0 | BF140: =IF(N140="znížená",J140,0) -> 0 | BG140: =IF(N140="zákl. prenesená",J140,0) -> 0 | BH140: =IF(N140="zníž. prenesená",J140,0) -> 0 | BI140: =IF(N140="nulová",J140,0) -> 0 | BJ140: 2 | BK140: =ROUND(I140*H140,2) -> 0 | BL140: 4 | BM140: 28
C141: 11 | D141: K | E141: 564861111 | F141: Podklad zo štrkodrviny s rozprestretím a zhutnením, po zhutnení hr. 200 mm | G141: m2 | H141: 870 | J141: =ROUND(I141*H141,2) -> 0 | N141: znížená | P141: =O141*H141 -> 0 | Q141: 0.3708 | R141: =Q141*H141 -> 322.596 | S141: 0 | T141: =S141*H141 -> 0 | AR141: 4 | AT141: K | AU141: 2 | AY141: ROZPOCET | BE141: =IF(N141="základná",J141,0) -> 0 | BF141: =IF(N141="znížená",J141,0) -> 0 | BG141: =IF(N141="zákl. prenesená",J141,0) -> 0 | BH141: =IF(N141="zníž. prenesená",J141,0) -> 0 | BI141: =IF(N141="nulová",J141,0) -> 0 | BJ141: 2 | BK141: =ROUND(I141*H141,2) -> 0 | BL141: 4 | BM141: 30
C142: 12 | D142: K | E142: 577134221 | F142: Asfaltový betón vrstva obrusná AC 11 O v pruhu š. nad 3 m z nemodifik. asfaltu tr. I, po zhutnení hr. 40 mm | G142: m2 | H142: 407.5 | J142: =ROUND(I142*H142,2) -> 0 | N142: znížená | P142: =O142*H142 -> 0 | Q142: 0.10373001 | R142: =Q142*H142 -> 42.26998 | S142: 0 | T142: =S142*H142 -> 0 | AR142: 4 | AT142: K | AU142: 2 | AY142: ROZPOCET | BE142: =IF(N142="základná",J142,0) -> 0 | BF142: =IF(N142="znížená",J142,0) -> 0 | BG142: =IF(N142="zákl. prenesená",J142,0) -> 0 | BH142: =IF(N142="zníž. prenesená",J142,0) -> 0 | BI142: =IF(N142="nulová",J142,0) -> 0 | BJ142: 2 | BK142: =ROUND(I142*H142,2) -> 0 | BL142: 4 | BM142: 32
C143: 13 | D143: K | E143: 577144421 | F143: Asfaltový betón vrstva ložná AC 22 L v pruhu š. nad 3 m z nemodifik. asfaltu tr. I, po zhutnení hr. 50 mm | G143: m2 | H143: 407.5 | J143: =ROUND(I143*H143,2) -> 0 | N143: znížená | P143: =O143*H143 -> 0 | Q143: 0.12966 | R143: =Q143*H143 -> 52.83645 | S143: 0 | T143: =S143*H143 -> 0 | AR143: 4 | AT143: K | AU143: 2 | AY143: ROZPOCET | BE143: =IF(N143="základná",J143,0) -> 0 | BF143: =IF(N143="znížená",J143,0) -> 0 | BG143: =IF(N143="zákl. prenesená",J143,0) -> 0 | BH143: =IF(N143="zníž. prenesená",J143,0) -> 0 | BI143: =IF(N143="nulová",J143,0) -> 0 | BJ143: 2 | BK143: =ROUND(I143*H143,2) -> 0 | BL143: 4 | BM143: 34
C144: 14 | D144: K | E144: 596911212 | F144: Kladenie zámkovej dlažby hr. 8 cm pre peších nad 20 m2 | G144: m2 | H144: 455.25 | J144: =ROUND(I144*H144,2) -> 0 | N144: znížená | P144: =O144*H144 -> 0 | Q144: 0.112 | R144: =Q144*H144 -> 50.988 | S144: 0 | T144: =S144*H144 -> 0 | AR144: 4 | AT144: K | AU144: 2 | AY144: ROZPOCET | BE144: =IF(N144="základná",J144,0) -> 0 | BF144: =IF(N144="znížená",J144,0) -> 0 | BG144: =IF(N144="zákl. prenesená",J144,0) -> 0 | BH144: =IF(N144="zníž. prenesená",J144,0) -> 0 | BI144: =IF(N144="nulová",J144,0) -> 0 | BJ144: 2 | BK144: =ROUND(I144*H144,2) -> 0 | BL144: 4 | BM144: 36
C145: 15 | D145: M | E145: 5922902010 | F145: SEMMELROCK CITYTOP dlažba s fázou 8 cm, sivá (10/10, 10/20, 20/20, 30/20, 30/30) | G145: m2 | H145: 37 | J145: =ROUND(I145*H145,2) -> 0 | N145: znížená | P145: =O145*H145 -> 0 | Q145: 0.18 | R145: =Q145*H145 -> 6.66 | S145: 0 | T145: =S145*H145 -> 0 | AR145: 8 | AT145: M | AU145: 2 | AY145: ROZPOCET | BE145: =IF(N145="základná",J145,0) -> 0 | BF145: =IF(N145="znížená",J145,0) -> 0 | BG145: =IF(N145="zákl. prenesená",J145,0) -> 0 | BH145: =IF(N145="zníž. prenesená",J145,0) -> 0 | BI145: =IF(N145="nulová",J145,0) -> 0 | BJ145: 2 | BK145: =ROUND(I145*H145,2) -> 0 | BL145: 4 | BM145: 38
C146: 16 | D146: M | E146: 5922902020 | F146: SEMMELROCK CITYTOP dlažba s fázou 8 cm, červená (10/10, 10/20, 20/20, 30/20, 30/30) | G146: m2 | H146: 500.5 | J146: =ROUND(I146*H146,2) -> 0 | N146: znížená | P146: =O146*H146 -> 0 | Q146: 0.18 | R146: =Q146*H146 -> 90.09 | S146: 0 | T146: =S146*H146 -> 0 | AR146: 8 | AT146: M | AU146: 2 | AY146: ROZPOCET | BE146: =IF(N146="základná",J146,0) -> 0 | BF146: =IF(N146="znížená",J146,0) -> 0 | BG146: =IF(N146="zákl. prenesená",J146,0) -> 0 | BH146: =IF(N146="zníž. prenesená",J146,0) -> 0 | BI146: =IF(N146="nulová",J146,0) -> 0 | BJ146: 2 | BK146: =ROUND(I146*H146,2) -> 0 | BL146: 4 | BM146: 40
C147: 47 | D147: K | E147: 597962123 | F147: Montáž uzavretého žľabu BG TK1, do lôžka z betónu prostého tr.C 20/25 | G147: m | H147: 41 | J147: =ROUND(I147*H147,2) -> 0 | N147: znížená | P147: =O147*H147 -> 0 | Q147: 0.20289 | R147: =Q147*H147 -> 8.31849 | S147: 0 | T147: =S147*H147 -> 0 | AR147: 4 | AT147: K | AU147: 2 | AY147: ROZPOCET | BE147: =IF(N147="základná",J147,0) -> 0 | BF147: =IF(N147="znížená",J147,0) -> 0 | BG147: =IF(N147="zákl. prenesená",J147,0) -> 0 | BH147: =IF(N147="zníž. prenesená",J147,0) -> 0 | BI147: =IF(N147="nulová",J147,0) -> 0 | BJ147: 2 | BK147: =ROUND(I147*H147,2) -> 0 | BL147: 4 | BM147: 42
C148: 49 | D148: M | E148: 5923001717 | F148: Poklop na kabelový žlab BG TK1 | G148: ks | H148: 41 | J148: =ROUND(I148*H148,2) -> 0 | N148: znížená | P148: =O148*H148 -> 0 | Q148: 0.03 | R148: =Q148*H148 -> 1.23 | S148: 0 | T148: =S148*H148 -> 0 | AR148: 8 | AT148: M | AU148: 2 | AY148: ROZPOCET | BE148: =IF(N148="základná",J148,0) -> 0 | BF148: =IF(N148="znížená",J148,0) -> 0 | BG148: =IF(N148="zákl. prenesená",J148,0) -> 0 | BH148: =IF(N148="zníž. prenesená",J148,0) -> 0 | BI148: =IF(N148="nulová",J148,0) -> 0 | BJ148: 2 | BK148: =ROUND(I148*H148,2) -> 0 | BL148: 4 | BM148: 44
C149: 50 | D149: M | E149: 5923002413 | F149: Kabelový žlab BG TK1 | G149: ks | H149: 41 | J149: =ROUND(I149*H149,2) -> 0 | N149: znížená | P149: =O149*H149 -> 0 | Q149: 0.01 | R149: =Q149*H149 -> 0.41 | S149: 0 | T149: =S149*H149 -> 0 | AR149: 8 | AT149: M | AU149: 2 | AY149: ROZPOCET | BE149: =IF(N149="základná",J149,0) -> 0 | BF149: =IF(N149="znížená",J149,0) -> 0 | BG149: =IF(N149="zákl. prenesená",J149,0) -> 0 | BH149: =IF(N149="zníž. prenesená",J149,0) -> 0 | BI149: =IF(N149="nulová",J149,0) -> 0 | BJ149: 2 | BK149: =ROUND(I149*H149,2) -> 0 | BL149: 4 | BM149: 46
C150: 64 | D150: K | E150: 564951211 | F150: Vybudovanie nového vjazdu z asfaltového recyklátu s rozprestretím, vlhčením a zhutnením, po zhutnení hr. 150 mm | G150: m2 | H150: 85 | J150: =ROUND(I150*H150,2) -> 0 | N150: znížená | P150: =O150*H150 -> 0 | Q150: 0.27994 | R150: =Q150*H150 -> 23.7949 | S150: 0 | T150: =S150*H150 -> 0 | AR150: 4 | AT150: K | AU150: 2 | AY150: ROZPOCET | BE150: =IF(N150="základná",J150,0) -> 0 | BF150: =IF(N150="znížená",J150,0) -> 0 | BG150: =IF(N150="zákl. prenesená",J150,0) -> 0 | BH150: =IF(N150="zníž. prenesená",J150,0) -> 0 | BI150: =IF(N150="nulová",J150,0) -> 0 | BJ150: 2 | BK150: =ROUND(I150*H150,2) -> 0 | BL150: 4 | BM150: 48
C151: 17 | D151: K | E151: 599141111 | F151: Vyplnenie škár asfaltovou zálievkou | G151: m | H151: 5 | J151: =ROUND(I151*H151,2) -> 0 | N151: znížená | P151: =O151*H151 -> 0 | Q151: 0.0036 | R151: =Q151*H151 -> 0.018 | S151: 0 | T151: =S151*H151 -> 0 | AR151: 4 | AT151: K | AU151: 2 | AY151: ROZPOCET | BE151: =IF(N151="základná",J151,0) -> 0 | BF151: =IF(N151="znížená",J151,0) -> 0 | BG151: =IF(N151="zákl. prenesená",J151,0) -> 0 | BH151: =IF(N151="zníž. prenesená",J151,0) -> 0 | BI151: =IF(N151="nulová",J151,0) -> 0 | BJ151: 2 | BK151: =ROUND(I151*H151,2) -> 0 | BL151: 4 | BM151: 50
D152: D | E152: 9 | F152: Ostatné konštrukcie a práce-búranie | J152: =BK152 -> 0 | P152: =SUM(P153:P171) -> 0 | R152: =SUM(R153:R171) -> 73.58478 | T152: =SUM(T153:T171) -> 0 | AR152: 1 | AT152: D | AU152: 1 | AY152: ROZPOCET | BK152: =SUM(BK153:BK171) -> 0
C153: 18 | D153: K | E153: 914001111 | F153: Osadenie a montáž cestnej zvislej dopravnej značky na stľpik, stľp, konzolu alebo objekt | G153: ks | H153: 2 | J153: =ROUND(I153*H153,2) -> 0 | N153: znížená | P153: =O153*H153 -> 0 | Q153: 0.22684 | R153: =Q153*H153 -> 0.45368 | S153: 0 | T153: =S153*H153 -> 0 | AR153: 4 | AT153: K | AU153: 2 | AY153: ROZPOCET | BE153: =IF(N153="základná",J153,0) -> 0 | BF153: =IF(N153="znížená",J153,0) -> 0 | BG153: =IF(N153="zákl. prenesená",J153,0) -> 0 | BH153: =IF(N153="zníž. prenesená",J153,0) -> 0 | BI153: =IF(N153="nulová",J153,0) -> 0 | BJ153: 2 | BK153: =ROUND(I153*H153,2) -> 0 | BL153: 4 | BM153: 52
C154: 20 | D154: M | E154: 4044789650 | F154: 272 „Parkovisko“,pozink.dopr.značka, zväčšený rozmer 750x1000 mm, fólia RA1 | G154: ks | H154: 2 | J154: =ROUND(I154*H154,2) -> 0 | N154: znížená | P154: =O154*H154 -> 0 | Q154: 0 | R154: =Q154*H154 -> 0 | S154: 0 | T154: =S154*H154 -> 0 | AR154: 8 | AT154: M | AU154: 2 | AY154: ROZPOCET | BE154: =IF(N154="základná",J154,0) -> 0 | BF154: =IF(N154="znížená",J154,0) -> 0 | BG154: =IF(N154="zákl. prenesená",J154,0) -> 0 | BH154: =IF(N154="zníž. prenesená",J154,0) -> 0 | BI154: =IF(N154="nulová",J154,0) -> 0 | BJ154: 2 | BK154: =ROUND(I154*H154,2) -> 0 | BL154: 4 | BM154: 54
C155: 22 | D155: M | E155: 4044799683 | F155: 506-82 „Označenie vyhrad. parkovacieho miesta pre osobu s teles.postihnutím“ zákl.500x500,dodatk.tabuľky I.tr.,EG,7 rokov,plech so zahnutým lisov.okrajom | G155: ks | H155: 1 | J155: =ROUND(I155*H155,2) -> 0 | N155: znížená | P155: =O155*H155 -> 0 | Q155: 0 | R155: =Q155*H155 -> 0 | S155: 0 | T155: =S155*H155 -> 0 | AR155: 8 | AT155: M | AU155: 2 | AY155: ROZPOCET | BE155: =IF(N155="základná",J155,0) -> 0 | BF155: =IF(N155="znížená",J155,0) -> 0 | BG155: =IF(N155="zákl. prenesená",J155,0) -> 0 | BH155: =IF(N155="zníž. prenesená",J155,0) -> 0 | BI155: =IF(N155="nulová",J155,0) -> 0 | BJ155: 2 | BK155: =ROUND(I155*H155,2) -> 0 | BL155: 4 | BM155: 56
C156: 24 | D156: M | E156: 4044778690 | F156: A19 „Práca“,pozink.dopr.značka, základný rozmer 900 mm, fólia RA1 | G156: ks | H156: 1 | J156: =ROUND(I156*H156,2) -> 0 | N156: znížená | P156: =O156*H156 -> 0 | Q156: 0 | R156: =Q156*H156 -> 0 | S156: 0 | T156: =S156*H156 -> 0 | AR156: 8 | AT156: M | AU156: 2 | AY156: ROZPOCET | BE156: =IF(N156="základná",J156,0) -> 0 | BF156: =IF(N156="znížená",J156,0) -> 0 | BG156: =IF(N156="zákl. prenesená",J156,0) -> 0 | BH156: =IF(N156="zníž. prenesená",J156,0) -> 0 | BI156: =IF(N156="nulová",J156,0) -> 0 | BJ156: 2 | BK156: =ROUND(I156*H156,2) -> 0 | BL156: 4 | BM156: 58
C157: 30 | D157: K | E157: 914812112 | F157: Montáž dočasnej dopravnej značky samostatnej zväčšenej | G157: ks | H157: 2 | J157: =ROUND(I157*H157,2) -> 0 | N157: znížená | P157: =O157*H157 -> 0 | Q157: 0 | R157: =Q157*H157 -> 0 | S157: 0 | T157: =S157*H157 -> 0 | AR157: 4 | AT157: K | AU157: 2 | AY157: ROZPOCET | BE157: =IF(N157="základná",J157,0) -> 0 | BF157: =IF(N157="znížená",J157,0) -> 0 | BG157: =IF(N157="zákl. prenesená",J157,0) -> 0 | BH157: =IF(N157="zníž. prenesená",J157,0) -> 0 | BI157: =IF(N157="nulová",J157,0) -> 0 | BJ157: 2 | BK157: =ROUND(I157*H157,2) -> 0 | BL157: 4 | BM157: 60
C158: 31 | D158: K | E158: 915912211 | F158: Montáž dočasnej dopravnej smerovej dosky základnej Z4 | G158: ks | H158: 2 | J158: =ROUND(I158*H158,2) -> 0 | N158: znížená | P158: =O158*H158 -> 0 | Q158: 0 | R158: =Q158*H158 -> 0 | S158: 0 | T158: =S158*H158 -> 0 | AR158: 4 | AT158: K | AU158: 2 | AY158: ROZPOCET | BE158: =IF(N158="základná",J158,0) -> 0 | BF158: =IF(N158="znížená",J158,0) -> 0 | BG158: =IF(N158="zákl. prenesená",J158,0) -> 0 | BH158: =IF(N158="zníž. prenesená",J158,0) -> 0 | BI158: =IF(N158="nulová",J158,0) -> 0 | BJ158: 2 | BK158: =ROUND(I158*H158,2) -> 0 | BL158: 4 | BM158: 62
C159: 32 | D159: M | E159: 4044799480 | F159: Z4c „Smerovacia doska stredová “, obojstranná, plastová, iné dopravné zariadenia | G159: ks | H159: 2 | J159: =ROUND(I159*H159,2) -> 0 | N159: znížená | P159: =O159*H159 -> 0 | Q159: 0 | R159: =Q159*H159 -> 0 | S159: 0 | T159: =S159*H159 -> 0 | AR159: 8 | AT159: M | AU159: 2 | AY159: ROZPOCET | BE159: =IF(N159="základná",J159,0) -> 0 | BF159: =IF(N159="znížená",J159,0) -> 0 | BG159: =IF(N159="zákl. prenesená",J159,0) -> 0 | BH159: =IF(N159="zníž. prenesená",J159,0) -> 0 | BI159: =IF(N159="nulová",J159,0) -> 0 | BJ159: 2 | BK159: =ROUND(I159*H159,2) -> 0 | BL159: 4 | BM159: 64
C160: 66 | D160: K | E160: 915950001_1 | F160: Osadenie lemovania schodiska dopravné značenie 707 dodávka a montáž | G160: ks | H160: 1 | J160: =ROUND(I160*H160,2) -> 0 | N160: znížená | P160: =O160*H160 -> 0 | Q160: 0 | R160: =Q160*H160 -> 0 | S160: 0 | T160: =S160*H160 -> 0 | AR160: 4 | AT160: K | AU160: 2 | AY160: ROZPOCET | BE160: =IF(N160="základná",J160,0) -> 0 | BF160: =IF(N160="znížená",J160,0) -> 0 | BG160: =IF(N160="zákl. prenesená",J160,0) -> 0 | BH160: =IF(N160="zníž. prenesená",J160,0) -> 0 | BI160: =IF(N160="nulová",J160,0) -> 0 | BJ160: 2 | BK160: =ROUND(I160*H160,2) -> 0 | BL160: 4 | BM160: 66
C161: 36 | D161: K | E161: 917762111 | F161: Osadenie chodník. obrubníka betónového ležatého do lôžka z betónu prosteho tr. C 12/15 s bočnou oporou | G161: m | H161: 299.5 | J161: =ROUND(I161*H161,2) -> 0 | N161: znížená | P161: =O161*H161 -> 0 | Q161: 0.16401002 | R161: =Q161*H161 -> 49.121 | S161: 0 | T161: =S161*H161 -> 0 | AR161: 4 | AT161: K | AU161: 2 | AY161: ROZPOCET | BE161: =IF(N161="základná",J161,0) -> 0 | BF161: =IF(N161="znížená",J161,0) -> 0 | BG161: =IF(N161="zákl. prenesená",J161,0) -> 0 | BH161: =IF(N161="zníž. prenesená",J161,0) -> 0 | BI161: =IF(N161="nulová",J161,0) -> 0 | BJ161: 2 | BK161: =ROUND(I161*H161,2) -> 0 | BL161: 4 | BM161: 68
C162: 37 | D162: M | E162: 5921954390 | F162: OBRUBNÍK CESTNÝ so skosením 100x26x15 cm | G162: ks | H162: 175 | J162: =ROUND(I162*H162,2) -> 0 | N162: znížená | P162: =O162*H162 -> 0 | Q162: 0.085 | R162: =Q162*H162 -> 14.875 | S162: 0 | T162: =S162*H162 -> 0 | AR162: 8 | AT162: M | AU162: 2 | AY162: ROZPOCET | BE162: =IF(N162="základná",J162,0) -> 0 | BF162: =IF(N162="znížená",J162,0) -> 0 | BG162: =IF(N162="zákl. prenesená",J162,0) -> 0 | BH162: =IF(N162="zníž. prenesená",J162,0) -> 0 | BI162: =IF(N162="nulová",J162,0) -> 0 | BJ162: 2 | BK162: =ROUND(I162*H162,2) -> 0 | BL162: 4 | BM162: 70
C163: 38 | D163: M | E163: 5921954520 | F163: OBRUBNÍK CESTNÝ BEZ SKOSENIA ROVNÝ 100x26x15 cm | G163: ks | H163: 98 | J163: =ROUND(I163*H163,2) -> 0 | N163: znížená | P163: =O163*H163 -> 0 | Q163: 0.09 | R163: =Q163*H163 -> 8.82 | S163: 0 | T163: =S163*H163 -> 0 | AR163: 8 | AT163: M | AU163: 2 | AY163: ROZPOCET | BE163: =IF(N163="základná",J163,0) -> 0 | BF163: =IF(N163="znížená",J163,0) -> 0 | BG163: =IF(N163="zákl. prenesená",J163,0) -> 0 | BH163: =IF(N163="zníž. prenesená",J163,0) -> 0 | BI163: =IF(N163="nulová",J163,0) -> 0 | BJ163: 2 | BK163: =ROUND(I163*H163,2) -> 0 | BL163: 4 | BM163: 72
C164: 43 | D164: M | E164: 592R1954540 | F164: OBRUBNÍK CESTNÝ nábehový | G164: ks | H164: 3.5 | J164: =ROUND(I164*H164,2) -> 0 | N164: znížená | P164: =O164*H164 -> 0 | Q164: 0.085 | R164: =Q164*H164 -> 0.2975 | S164: 0 | T164: =S164*H164 -> 0 | AR164: 8 | AT164: M | AU164: 2 | AY164: ROZPOCET | BE164: =IF(N164="základná",J164,0) -> 0 | BF164: =IF(N164="znížená",J164,0) -> 0 | BG164: =IF(N164="zákl. prenesená",J164,0) -> 0 | BH164: =IF(N164="zníž. prenesená",J164,0) -> 0 | BI164: =IF(N164="nulová",J164,0) -> 0 | BJ164: 2 | BK164: =ROUND(I164*H164,2) -> 0 | BL164: 4 | BM164: 74
... C171: 41 | D171: K | E171: 979089012 | F171: Poplatok za skladovanie - betón, tehly, dlaždice (17 01 ), ostatné | G171: t | H171: 7.83 | J171: =ROUND(I171*H171,2) -> 0 | N171: znížená | P171: =O171*H171 -> 0 | Q171: 0 | R171: =Q171*H171 -> 0 | S171: 0 | T171: =S171*H171 -> 0 | AR171: 4 | AT171: K | AU171: 2 | AY171: ROZPOCET | BE171: =IF(N171="základná",J171,0) -> 0 | BF171: =IF(N171="znížená",J171,0) -> 0 | BG171: =IF(N171="zákl. prenesená",J171,0) -> 0 | BH171: =IF(N171="zníž. prenesená",J171,0) -> 0 | BI171: =IF(N171="nulová",J171,0) -> 0 | BJ171: 2 | BK171: =ROUND(I171*H171,2) -> 0 | BL171: 4 | BM171: 88
D172: D | E172: 99 | F172: Presun hmôt HSV | J172: =BK172 -> 0 | P172: =P173 -> 0 | R172: =R173 -> 0 | T172: =T173 -> 0 | AR172: 1 | AT172: D | AU172: 1 | AY172: ROZPOCET | BK172: =BK173 -> 0
...

Sheet 02 - Dažďová kanalizácia
L2: >> skryté stĺpce << | AT2: {6e196025-67ad-4a9d-9071-23c534fdaff5}
AT3: 0
D4: KRYCÍ LIST ROZPOČTU | M4: v --- nižšie sa nachádzajú doplnkové a pomocné údaje k zostavám --- v | AT4: False
D6: Stavba:
E7: ='Rekapitulácia stavby'!K6 -> Parkovisko Na Hôrke
D8: Objekt:
E9: 02 - Dažďová kanalizácia
D11: JKSO: | I11: KS:
D12: Miesto: | F12: Na Hôrke, Nitra | I12: Dátum: | J12: ='Rekapitulácia stavby'!AN8 -> 27. 11. 2019
D14: Objednávateľ: | I14: IČO:
E15: Mesto Nitra | I15: IČ DPH:
D17: Zhotoviteľ: | I17: IČO: | J17: ='Rekapitulácia stavby'!AN13 -> Vyplň údaj
E18: ='Rekapitulácia stavby'!E14 -> Vyplň údaj | I18: IČ DPH: | J18: ='Rekapitulácia stavby'!AN14 -> Vyplň údaj
D20: Projektant: | I20: IČO:
E21: Ing. Martin Kollár | I21: IČ DPH:
D23: Spracovateľ: | I23: IČO:
E24: Ing. Martin Hrnčiar | I24: IČ DPH:
D26: Poznámka:
D30: Cena bez DPH | J30: =ROUND(J122, 2) -> 0
F32: Základ dane | I32: Sadzba dane | J32: Výška dane
D33: DPH | E33: základná | F33: =ROUND((SUM(BE122:BE177)), 2) -> 0 | I33: 0.2 | J33: =ROUND(((SUM(BE122:BE177))*I33), 2) -> 0
E34: znížená | F34: =ROUND((SUM(BF122:BF177)), 2) -> 0 | I34: 0.2 | J34: =ROUND(((SUM(BF122:BF177))*I34), 2) -> 0
E35: zákl. prenesená | F35: =ROUND((SUM(BG122:BG177)), 2) -> 0 | I35: 0.2 | J35: =0 -> 0
E36: zníž. prenesená | F36: =ROUND((SUM(BH122:BH177)), 2) -> 0 | I36: 0.2 | J36: =0 -> 0
E37: nulová | F37: =ROUND((SUM(BI122:BI177)), 2) -> 0 | I37: 0 | J37: =0 -> 0
D39: Cena s DPH | G39: v | H39: EUR | J39: =SUM(J30:J37) -> 0
D50: Projektant | G50: Spracovateľ
D61: Dátum a podpis: | F61: Pečiatka | G61: Dátum a podpis: | J61: Pečiatka
D65: Objednávateľ | G65: Zhotoviteľ
D76: Dátum a podpis: | F76: Pečiatka | G76: Dátum a podpis: | J76: Pečiatka
C82: REKAPITULÁCIA ROZPOČTU
C84: Stavba:
E85: =E7 -> Parkovisko Na Hôrke
C86: Objekt:
E87: =E9 -> 02 - Dažďová kanalizácia
C89: Miesto: | F89: =F12 -> Na Hôrke, Nitra | I89: Dátum: | J89: =IF(J12="","",J12) -> 27. 11. 2019
C91: Objednávateľ: | F91: =E15 -> Mesto Nitra | I91: Projektant: | J91: =E21 -> Ing. Martin Kollár
C92: Zhotoviteľ: | F92: =IF(E18="","",E18) -> Vyplň údaj | I92: Spracovateľ: | J92: =E24 -> Ing. Martin Hrnčiar
C94: Kód dielu - Popis | J94: Cena celkom [EUR]
C96: Náklady z rozpočtu | J96: =J122 -> 0 | AU96: -1
D97: HSV - Práce a dodávky HSV | J97: =J123 -> 0
D98: 1 - Zemné práce | J98: =J124 -> 0
D99: 3 - Zvislé a kompletné konštrukcie | J99: =J138 -> 0
D100: 4 - Vodorovné konštrukcie | J100: =J142 -> 0
D101: 8 - Rúrové vedenie | J101: =J149 -> 0
D102: 99 - Presun hmôt HSV | J102: =J176 -> 0
C109: ROZPOČET
C111: Stavba:
E112: =E7 -> Parkovisko Na Hôrke
C113: Objekt:
E114: =E9 -> 02 - Dažďová kanalizácia
C116: Miesto: | F116: =F12 -> Na Hôrke, Nitra | I116: Dátum: | J116: =IF(J12="","",J12) -> 27. 11. 2019
C118: Objednávateľ: | F118: =E15 -> Mesto Nitra | I118: Projektant: | J118: =E21 -> Ing. Martin Kollár
C119: Zhotoviteľ: | F119: =IF(E18="","",E18) -> Vyplň údaj | I119: Spracovateľ: | J119: =E24 -> Ing. Martin Hrnčiar
C121: PČ | D121: Typ | E121: Kód | F121: Popis | G121: MJ | H121: Množstvo | I121: J.cena [EUR] | J121: Cena celkom [EUR] | K121: Cenová sústava | N121: DPH | O121: J. Nh [h] | P121: Nh celkom [h] | Q121: J. hmotnosť [t] | R121: Hmotnosť celkom [t] | S121: J. suť [t] | T121: Suť Celkom [t]
C122: Náklady z rozpočtu | J122: =BK122 -> 0 | P122: =P123 -> 0 | R122: =R123 -> 64.91711 | T122: =T123 -> 0 | AT122: D | AU122: -1 | BK122: =BK123 -> 0
D123: D | E123: HSV | F123: Práce a dodávky HSV | J123: =BK123 -> 0 | P123: =P124+P138+P142+P149+P176 -> 0 | R123: =R124+R138+R142+R149+R176 -> 64.91711 | T123: =T124+T138+T142+T149+T176 -> 0 | AR123: 1 | AT123: D | AU123: 0 | AY123: ROZPOCET | BK123: =BK124+BK138+BK142+BK149+BK176 -> 0
D124: D | E124: 1 | F124: Zemné práce | J124: =BK124 -> 0 | P124: =SUM(P125:P137) -> 0 | R124: =SUM(R125:R137) -> 40.181 | T124: =SUM(T125:T137) -> 0 | AR124: 1 | AT124: D | AU124: 1 | AY124: ROZPOCET | BK124: =SUM(BK125:BK137) -> 0
C125: 1 | D125: K | E125: 131201101 | F125: Výkop nezapaženej jamy v hornine 3, do 100 m3 | G125: m3 | H125: 86.59 | J125: =ROUND(I125*H125,2) -> 0 | N125: znížená | P125: =O125*H125 -> 0 | Q125: 0 | R125: =Q125*H125 -> 0 | S125: 0 | T125: =S125*H125 -> 0 | AR125: 4 | AT125: K | AU125: 2 | AY125: ROZPOCET | BE125: =IF(N125="základná",J125,0) -> 0 | BF125: =IF(N125="znížená",J125,0) -> 0 | BG125: =IF(N125="zákl. prenesená",J125,0) -> 0 | BH125: =IF(N125="zníž. prenesená",J125,0) -> 0 | BI125: =IF(N125="nulová",J125,0) -> 0 | BJ125: 2 | BK125: =ROUND(I125*H125,2) -> 0 | BL125: 4 | BM125: 2
C126: 2 | D126: K | E126: 131201109 | F126: Hĺbenie nezapažených jám a zárezov. Príplatok za lepivosť horniny 3 | G126: m3 | H126: 86.59 | J126: =ROUND(I126*H126,2) -> 0 | N126: znížená | P126: =O126*H126 -> 0 | Q126: 0 | R126: =Q126*H126 -> 0 | S126: 0 | T126: =S126*H126 -> 0 | AR126: 4 | AT126: K | AU126: 2 | AY126: ROZPOCET | BE126: =IF(N126="základná",J126,0) -> 0 | BF126: =IF(N126="znížená",J126,0) -> 0 | BG126: =IF(N126="zákl. prenesená",J126,0) -> 0 | BH126: =IF(N126="zníž. prenesená",J126,0) -> 0 | BI126: =IF(N126="nulová",J126,0) -> 0 | BJ126: 2 | BK126: =ROUND(I126*H126,2) -> 0 | BL126: 4 | BM126: 4
C127: 3 | D127: K | E127: 132201202 | F127: Výkop ryhy šírky 600-2000mm horn.3 od 100 do 1000 m3 | G127: m3 | H127: 44.64 | J127: =ROUND(I127*H127,2) -> 0 | N127: znížená | P127: =O127*H127 -> 0 | Q127: 0 | R127: =Q127*H127 -> 0 | S127: 0 | T127: =S127*H127 -> 0 | AR127: 4 | AT127: K | AU127: 2 | AY127: ROZPOCET | BE127: =IF(N127="základná",J127,0) -> 0 | BF127: =IF(N127="znížená",J127,0) -> 0 | BG127: =IF(N127="zákl. prenesená",J127,0) -> 0 | BH127: =IF(N127="zníž. prenesená",J127,0) -> 0 | BI127: =IF(N127="nulová",J127,0) -> 0 | BJ127: 2 | BK127: =ROUND(I127*H127,2) -> 0 | BL127: 4 | BM127: 6
C128: 4 | D128: K | E128: 132201209 | F128: Príplatok k cenám za lepivosť pri hĺbení rýh š. nad 600 do 2 000 mm zapaž. i nezapažených, s urovnaním dna v hornine 3 | G128: m3 | H128: 44.64 | J128: =ROUND(I128*H128,2) -> 0 | N128: znížená | P128: =O128*H128 -> 0 | Q128: 0 | R128: =Q128*H128 -> 0 | S128: 0 | T128: =S128*H128 -> 0 | AR128: 4 | AT128: K | AU128: 2 | AY128: ROZPOCET | BE128: =IF(N128="základná",J128,0) -> 0 | BF128: =IF(N128="znížená",J128,0) -> 0 | BG128: =IF(N128="zákl. prenesená",J128,0) -> 0 | BH128: =IF(N128="zníž. prenesená",J128,0) -> 0 | BI128: =IF(N128="nulová",J128,0) -> 0 | BJ128: 2 | BK128: =ROUND(I128*H128,2) -> 0 | BL128: 4 | BM128: 8
C129: 5 | D129: K | E129: 151101101 | F129: Paženie a rozopretie stien rýh pre podzemné vedenie, príložné do 2 m | G129: m2 | H129: 26.8 | J129: =ROUND(I129*H129,2) -> 0 | N129: znížená | P129: =O129*H129 -> 0 | Q129: 0.00097014925 | R129: =Q129*H129 -> 0.026 | S129: 0 | T129: =S129*H129 -> 0 | AR129: 4 | AT129: K | AU129: 2 | AY129: ROZPOCET | BE129: =IF(N129="základná",J129,0) -> 0 | BF129: =IF(N129="znížená",J129,0) -> 0 | BG129: =IF(N129="zákl. prenesená",J129,0) -> 0 | BH129: =IF(N129="zníž. prenesená",J129,0) -> 0 | BI129: =IF(N129="nulová",J129,0) -> 0 | BJ129: 2 | BK129: =ROUND(I129*H129,2) -> 0 | BL129: 4 | BM129: 10
C130: 6 | D130: K | E130: 151101111 | F130: Odstránenie paženia rýh pre podzemné vedenie, príložné hĺbky do 2 m | G130: m2 | H130: 26.8 | J130: =ROUND(I130*H130,2) -> 0 | N130: znížená | P130: =O130*H130 -> 0 | Q130: 0 | R130: =Q130*H130 -> 0 | S130: 0 | T130: =S130*H130 -> 0 | AR130: 4 | AT130: K | AU130: 2 | AY130: ROZPOCET | BE130: =IF(N130="základná",J130,0) -> 0 | BF130: =IF(N130="znížená",J130,0) -> 0 | BG130: =IF(N130="zákl. prenesená",J130,0) -> 0 | BH130: =IF(N130="zníž. prenesená",J130,0) -> 0 | BI130: =IF(N130="nulová",J130,0) -> 0 | BJ130: 2 | BK130: =ROUND(I130*H130,2) -> 0 | BL130: 4 | BM130: 12
C131: 7 | D131: K | E131: 162501102 | F131: Vodorovné premiestnenie výkopku po spevnenej ceste z horniny tr.1-4, do 100 m3 na vzdialenosť do 3000 m | G131: m3 | H131: 157.476 | J131: =ROUND(I131*H131,2) -> 0 | N131: znížená | P131: =O131*H131 -> 0 | Q131: 0 | R131: =Q131*H131 -> 0 | S131: 0 | T131: =S131*H131 -> 0 | AR131: 4 | AT131: K | AU131: 2 | AY131: ROZPOCET | BE131: =IF(N131="základná",J131,0) -> 0 | BF131: =IF(N131="znížená",J131,0) -> 0 | BG131: =IF(N131="zákl. prenesená",J131,0) -> 0 | BH131: =IF(N131="zníž. prenesená",J131,0) -> 0 | BI131: =IF(N131="nulová",J131,0) -> 0 | BJ131: 2 | BK131: =ROUND(I131*H131,2) -> 0 | BL131: 4 | BM131: 14
C132: 8 | D132: K | E132: 162501105 | F132: Vodorovné premiestnenie výkopku po spevnenej ceste z horniny tr.1-4, do 100 m3, príplatok k cene za každých ďalšich a začatých 1000 m | G132: m3 | H132: 157.476 | J132: =ROUND(I132*H132,2) -> 0 | N132: znížená | P132: =O132*H132 -> 0 | Q132: 0 | R132: =Q132*H132 -> 0 | S132: 0 | T132: =S132*H132 -> 0 | AR132: 4 | AT132: K | AU132: 2 | AY132: ROZPOCET | BE132: =IF(N132="základná",J132,0) -> 0 | BF132: =IF(N132="znížená",J132,0) -> 0 | BG132: =IF(N132="zákl. prenesená",J132,0) -> 0 | BH132: =IF(N132="zníž. prenesená",J132,0) -> 0 | BI132: =IF(N132="nulová",J132,0) -> 0 | BJ132: 2 | BK132: =ROUND(I132*H132,2) -> 0 | BL132: 4 | BM132: 16
C133: 9 | D133: K | E133: 171209002 | F133: Poplatok za skladovanie - zemina a kamenivo (17 05) ostatné | G133: t | H133: 251.962 | J133: =ROUND(I133*H133,2) -> 0 | N133: znížená | P133: =O133*H133 -> 0 | Q133: 0 | R133: =Q133*H133 -> 0 | S133: 0 | T133: =S133*H133 -> 0 | AR133: 4 | AT133: K | AU133: 2 | AY133: ROZPOCET | BE133: =IF(N133="základná",J133,0) -> 0 | BF133: =IF(N133="znížená",J133,0) -> 0 | BG133: =IF(N133="zákl. prenesená",J133,0) -> 0 | BH133: =IF(N133="zníž. prenesená",J133,0) -> 0 | BI133: =IF(N133="nulová",J133,0) -> 0 | BJ133: 2 | BK133: =ROUND(I133*H133,2) -> 0 | BL133: 4 | BM133: 18
C134: 10 | D134: K | E134: 174101002 | F134: Zásyp sypaninou so zhutnením jám, šachiet, rýh, zárezov alebo okolo objektov nad 100 do 1000 m3 | G134: m3 | H134: 38.4 | J134: =ROUND(I134*H134,2) -> 0 | N134: znížená | P134: =O134*H134 -> 0 | Q134: 0 | R134: =Q134*H134 -> 0 | S134: 0 | T134: =S134*H134 -> 0 | AR134: 4 | AT134: K | AU134: 2 | AY134: ROZPOCET | BE134: =IF(N134="základná",J134,0) -> 0 | BF134: =IF(N134="znížená",J134,0) -> 0 | BG134: =IF(N134="zákl. prenesená",J134,0) -> 0 | BH134: =IF(N134="zníž. prenesená",J134,0) -> 0 | BI134: =IF(N134="nulová",J134,0) -> 0 | BJ134: 2 | BK134: =ROUND(I134*H134,2) -> 0 | BL134: 4 | BM134: 20
C135: 11 | D135: M | E135: 5833720000 | F135: Štrkopiesok 0-32 n | G135: t | H135: 20.067 | J135: =ROUND(I135*H135,2) -> 0 | N135: znížená | P135: =O135*H135 -> 0 | Q135: 1 | R135: =Q135*H135 -> 20.067 | S135: 0 | T135: =S135*H135 -> 0 | AR135: 8 | AT135: M | AU135: 2 | AY135: ROZPOCET | BE135: =IF(N135="základná",J135,0) -> 0 | BF135: =IF(N135="znížená",J135,0) -> 0 | BG135: =IF(N135="zákl. prenesená",J135,0) -> 0 | BH135: =IF(N135="zníž. prenesená",J135,0) -> 0 | BI135: =IF(N135="nulová",J135,0) -> 0 | BJ135: 2 | BK135: =ROUND(I135*H135,2) -> 0 | BL135: 4 | BM135: 22
C136: 12 | D136: K | E136: 175101101 | F136: Obsyp potrubia sypaninou z vhodných hornín 1 až 4 bez prehodenia sypaniny | G136: m3 | H136: 11.16 | J136: =ROUND(I136*H136,2) -> 0 | N136: znížená | P136: =O136*H136 -> 0 | Q136: 0 | R136: =Q136*H136 -> 0 | S136: 0 | T136: =S136*H136 -> 0 | AR136: 4 | AT136: K | AU136: 2 | AY136: ROZPOCET | BE136: =IF(N136="základná",J136,0) -> 0 | BF136: =IF(N136="znížená",J136,0) -> 0 | BG136: =IF(N136="zákl. prenesená",J136,0) -> 0 | BH136: =IF(N136="zníž. prenesená",J136,0) -> 0 | BI136: =IF(N136="nulová",J136,0) -> 0 | BJ136: 2 | BK136: =ROUND(I136*H136,2) -> 0 | BL136: 4 | BM136: 24
C137: 13 | D137: M | E137: 5833711000 | F137: Štrkopiesok 0- 8 n | G137: t | H137: 20.088 | J137: =ROUND(I137*H137,2) -> 0 | N137: znížená | P137: =O137*H137 -> 0 | Q137: 1 | R137: =Q137*H137 -> 20.088 | S137: 0 | T137: =S137*H137 -> 0 | AR137: 8 | AT137: M | AU137: 2 | AY137: ROZPOCET | BE137: =IF(N137="základná",J137,0) -> 0 | BF137: =IF(N137="znížená",J137,0) -> 0 | BG137: =IF(N137="zákl. prenesená",J137,0) -> 0 | BH137: =IF(N137="zníž. prenesená",J137,0) -> 0 | BI137: =IF(N137="nulová",J137,0) -> 0 | BJ137: 2 | BK137: =ROUND(I137*H137,2) -> 0 | BL137: 4 | BM137: 26
D138: D | E138: 3 | F138: Zvislé a kompletné konštrukcie | J138: =BK138 -> 0 | P138: =SUM(P139:P141) -> 0 | R138: =SUM(R139:R141) -> 0.62597 | T138: =SUM(T139:T141) -> 0 | AR138: 1 | AT138: D | AU138: 1 | AY138: ROZPOCET | BK138: =SUM(BK139:BK141) -> 0
C139: 14 | D139: K | E139: 388129330 | F139: Montáž dielca prefabrikovaného kanála zo železobetónu, uzavretý profil hm.do 6.5t | G139: ks | H139: 1 | J139: =ROUND(I139*H139,2) -> 0 | N139: znížená | P139: =O139*H139 -> 0 | Q139: 0.39512 | R139: =Q139*H139 -> 0.39512 | S139: 0 | T139: =S139*H139 -> 0 | AR139: 4 | AT139: K | AU139: 2 | AY139: ROZPOCET | BE139: =IF(N139="základná",J139,0) -> 0 | BF139: =IF(N139="znížená",J139,0) -> 0 | BG139: =IF(N139="zákl. prenesená",J139,0) -> 0 | BH139: =IF(N139="zníž. prenesená",J139,0) -> 0 | BI139: =IF(N139="nulová",J139,0) -> 0 | BJ139: 2 | BK139: =ROUND(I139*H139,2) -> 0 | BL139: 4 | BM139: 28
C140: 15 | D140: K | E140: 388129730 | F140: Montáž dielca prefabrikovaného kanála zo železobetónu, krycia doska hm. do 2 t. | G140: ks | H140: 1 | J140: =ROUND(I140*H140,2) -> 0 | N140: znížená | P140: =O140*H140 -> 0 | Q140: 0.08785 | R140: =Q140*H140 -> 0.08785 | S140: 0 | T140: =S140*H140 -> 0 | AR140: 4 | AT140: K | AU140: 2 | AY140: ROZPOCET | BE140: =IF(N140="základná",J140,0) -> 0 | BF140: =IF(N140="znížená",J140,0) -> 0 | BG140: =IF(N140="zákl. prenesená",J140,0) -> 0 | BH140: =IF(N140="zníž. prenesená",J140,0) -> 0 | BI140: =IF(N140="nulová",J140,0) -> 0 | BJ140: 2 | BK140: =ROUND(I140*H140,2) -> 0 | BL140: 4 | BM140: 30
C141: 16 | D141: M | E141: 593PC03 | F141: Odlučovač ropných látok Klartec KL Kompakt 15 s dopravou | G141: ks | H141: 1 | J141: =ROUND(I141*H141,2) -> 0 | N141: znížená | P141: =O141*H141 -> 0 | Q141: 0.143 | R141: =Q141*H141 -> 0.143 | S141: 0 | T141: =S141*H141 -> 0 | AR141: 8 | AT141: M | AU141: 2 | AY141: ROZPOCET | BE141: =IF(N141="základná",J141,0) -> 0 | BF141: =IF(N141="znížená",J141,0) -> 0 | BG141: =IF(N141="zákl. prenesená",J141,0) -> 0 | BH141: =IF(N141="zníž. prenesená",J141,0) -> 0 | BI141: =IF(N141="nulová",J141,0) -> 0 | BJ141: 2 | BK141: =ROUND(I141*H141,2) -> 0 | BL141: 4 | BM141: 32
D142: D | E142: 4 | F142: Vodorovné konštrukcie | J142: =BK142 -> 0 | P142: =SUM(P143:P148) -> 0 | R142: =SUM(R143:R148) -> 18.53144 | T142: =SUM(T143:T148) -> 0 | AR142: 1 | AT142: D | AU142: 1 | AY142: ROZPOCET | BK142: =SUM(BK143:BK148) -> 0
C143: 17 | D143: K | E143: 4515411113 | F143: Štrkový násyp pod ORL | G143: m3 | H143: 0.72 | J143: =ROUND(I143*H143,2) -> 0 | N143: znížená | P143: =O143*H143 -> 0 | Q143: 1.7034028 | R143: =Q143*H143 -> 1.22645 | S143: 0 | T143: =S143*H143 -> 0 | AR143: 4 | AT143: K | AU143: 2 | AY143: ROZPOCET | BE143: =IF(N143="základná",J143,0) -> 0 | BF143: =IF(N143="znížená",J143,0) -> 0 | BG143: =IF(N143="zákl. prenesená",J143,0) -> 0 | BH143: =IF(N143="zníž. prenesená",J143,0) -> 0 | BI143: =IF(N143="nulová",J143,0) -> 0 | BJ143: 2 | BK143: =ROUND(I143*H143,2) -> 0 | BL143: 4 | BM143: 34
C144: 18 | D144: K | E144: 451573111 | F144: Lôžko pod potrubie, stoky a drobné objekty, v otvorenom výkope z piesku a štrkopiesku do 63 mm | G144: m3 | H144: 5.4 | J144: =ROUND(I144*H144,2) -> 0 | N144: znížená | P144: =O144*H144 -> 0 | Q144: 1.8907704 | R144: =Q144*H144 -> 10.21016 | S144: 0 | T144: =S144*H144 -> 0 | AR144: 4 | AT144: K | AU144: 2 | AY144: ROZPOCET | BE144: =IF(N144="základná",J144,0) -> 0 | BF144: =IF(N144="znížená",J144,0) -> 0 | BG144: =IF(N144="zákl. prenesená",J144,0) -> 0 | BH144: =IF(N144="zníž. prenesená",J144,0) -> 0 | BI144: =IF(N144="nulová",J144,0) -> 0 | BJ144: 2 | BK144: =ROUND(I144*H144,2) -> 0 | BL144: 4 | BM144: 36
C145: 19 | D145: K | E145: 4515731112 | F145: Lôžko pod šachty z piesku a štrkopiesku do 63 mm | G145: m3 | H145: 2.4 | J145: =ROUND(I145*H145,2) -> 0 | N145: znížená | P145: =O145*H145 -> 0 | Q145: 1.8907708 | R145: =Q145*H145 -> 4.53785 | S145: 0 | T145: =S145*H145 -> 0 | AR145: 4 | AT145: K | AU145: 2 | AY145: ROZPOCET | BE145: =IF(N145="základná",J145,0) -> 0 | BF145: =IF(N145="znížená",J145,0) -> 0 | BG145: =IF(N145="zákl. prenesená",J145,0) -> 0 | BH145: =IF(N145="zníž. prenesená",J145,0) -> 0 | BI145: =IF(N145="nulová",J145,0) -> 0 | BJ145: 2 | BK145: =ROUND(I145*H145,2) -> 0 | BL145: 4 | BM145: 38
C146: 20 | D146: K | E146: 451573111R | F146: Lôžko pod ORL vo výkope z piesku a štrkopiesku do 63 mm | G146: m3 | H146: 0.3 | J146: =ROUND(I146*H146,2) -> 0 | N146: znížená | P146: =O146*H146 -> 0 | Q146: 1.8907667 | R146: =Q146*H146 -> 0.56723 | S146: 0 | T146: =S146*H146 -> 0 | AR146: 4 | AT146: K | AU146: 2 | AY146: ROZPOCET | BE146: =IF(N146="základná",J146,0) -> 0 | BF146: =IF(N146="znížená",J146,0) -> 0 | BG146: =IF(N146="zákl. prenesená",J146,0) -> 0 | BH146: =IF(N146="zníž. prenesená",J146,0) -> 0 | BI146: =IF(N146="nulová",J146,0) -> 0 | BJ146: 2 | BK146: =ROUND(I146*H146,2) -> 0 | BL146: 4 | BM146: 40
C147: 21 | D147: K | E147: 452311146 | F147: Dosky, bloky, sedlá z betónu v otvorenom výkope tr.C 20/25 | G147: m3 | H147: 0.9 | J147: =ROUND(I147*H147,2) -> 0 | N147: znížená | P147: =O147*H147 -> 0 | Q147: 2.2031444 | R147: =Q147*H147 -> 1.98283 | S147: 0 | T147: =S147*H147 -> 0 | AR147: 4 | AT147: K | AU147: 2 | AY147: ROZPOCET | BE147: =IF(N147="základná",J147,0) -> 0 | BF147: =IF(N147="znížená",J147,0) -> 0 | BG147: =IF(N147="zákl. prenesená",J147,0) -> 0 | BH147: =IF(N147="zníž. prenesená",J147,0) -> 0 | BI147: =IF(N147="nulová",J147,0) -> 0 | BJ147: 2 | BK147: =ROUND(I147*H147,2) -> 0 | BL147: 4 | BM147: 42
C148: 22 | D148: K | E148: 452351101 | F148: Debnenie v otvorenom výkope dosiek, sedlových lôžok a blokov pod potrubie,stoky a drobné objekty | G148: m2 | H148: 1.5 | J148: =ROUND(I148*H148,2) -> 0 | N148: znížená | P148: =O148*H148 -> 0 | Q148: 0.0046133333 | R148: =Q148*H148 -> 0.00692 | S148: 0 | T148: =S148*H148 -> 0 | AR148: 4 | AT148: K | AU148: 2 | AY148: ROZPOCET | BE148: =IF(N148="základná",J148,0) -> 0 | BF148: =IF(N148="znížená",J148,0) -> 0 | BG148: =IF(N148="zákl. prenesená",J148,0) -> 0 | BH148: =IF(N148="zníž. prenesená",J148,0) -> 0 | BI148: =IF(N148="nulová",J148,0) -> 0 | BJ148: 2 | BK148: =ROUND(I148*H148,2) -> 0 | BL148: 4 | BM148: 44
D149: D | E149: 8 | F149: Rúrové vedenie | J149: =BK149 -> 0 | P149: =SUM(P150:P175) -> 0 | R149: =SUM(R150:R175) -> 5.5787 | T149: =SUM(T150:T175) -> 0 | AR149: 1 | AT149: D | AU149: 1 | AY149: ROZPOCET | BK149: =SUM(BK150:BK175) -> 0
C150: 23 | D150: K | E150: 871353121 | F150: Montáž potrubia z kanalizačných rúr z tvrdého PVC tesn. gumovým krúžkom v skl. do 20% DN 200 | G150: m | H150: 65 | J150: =ROUND(I150*H150,2) -> 0 | N150: znížená | P150: =O150*H150 -> 0 | Q150: 1e-05 | R150: =Q150*H150 -> 0.00065 | S150: 0 | T150: =S150*H150 -> 0 | AR150: 4 | AT150: K | AU150: 2 | AY150: ROZPOCET | BE150: =IF(N150="základná",J150,0) -> 0 | BF150: =IF(N150="znížená",J150,0) -> 0 | BG150: =IF(N150="zákl. prenesená",J150,0) -> 0 | BH150: =IF(N150="zníž. prenesená",J150,0) -> 0 | BI150: =IF(N150="nulová",J150,0) -> 0 | BJ150: 2 | BK150: =ROUND(I150*H150,2) -> 0 | BL150: 4 | BM150: 46
C151: 24 | D151: M | E151: 2861103000 | F151: Kanalizačné rúry PVC-U hladké s hrdlom 200x 4.5x5000mm | G151: ks | H151: 10 | J151: =ROUND(I151*H151,2) -> 0 | N151: znížená | P151: =O151*H151 -> 0 | Q151: 0.02248 | R151: =Q151*H151 -> 0.2248 | S151: 0 | T151: =S151*H151 -> 0 | AR151: 8 | AT151: M | AU151: 2 | AY151: ROZPOCET | BE151: =IF(N151="základná",J151,0) -> 0 | BF151: =IF(N151="znížená",J151,0) -> 0 | BG151: =IF(N151="zákl. prenesená",J151,0) -> 0 | BH151: =IF(N151="zníž. prenesená",J151,0) -> 0 | BI151: =IF(N151="nulová",J151,0) -> 0 | BJ151: 2 | BK151: =ROUND(I151*H151,2) -> 0 | BL151: 4 | BM151: 48
C152: 25 | D152: M | E152: 2861102800 | F152: Kanalizačné rúry PVC-U hladké s hrdlom 200x 4.5x2000mm | G152: ks | H152: 2 | J152: =ROUND(I152*H152,2) -> 0 | N152: znížená | P152: =O152*H152 -> 0 | Q152: 0.00915 | R152: =Q152*H152 -> 0.0183 | S152: 0 | T152: =S152*H152 -> 0 | AR152: 8 | AT152: M | AU152: 2 | AY152: ROZPOCET | BE152: =IF(N152="základná",J152,0) -> 0 | BF152: =IF(N152="znížená",J152,0) -> 0 | BG152: =IF(N152="zákl. prenesená",J152,0) -> 0 | BH152: =IF(N152="zníž. prenesená",J152,0) -> 0 | BI152: =IF(N152="nulová",J152,0) -> 0 | BJ152: 2 | BK152: =ROUND(I152*H152,2) -> 0 | BL152: 4 | BM152: 50
C153: 26 | D153: M | E153: 2861102600 | F153: Kanalizačné rúry PVC-U hladké s hrdlom 200x 4.5x 500mm | G153: ks | H153: 3 | J153: =ROUND(I153*H153,2) -> 0 | N153: znížená | P153: =O153*H153 -> 0 | Q153: 0.00269 | R153: =Q153*H153 -> 0.00807 | S153: 0 | T153: =S153*H153 -> 0 | AR153: 8 | AT153: M | AU153: 2 | AY153: ROZPOCET | BE153: =IF(N153="základná",J153,0) -> 0 | BF153: =IF(N153="znížená",J153,0) -> 0 | BG153: =IF(N153="zákl. prenesená",J153,0) -> 0 | BH153: =IF(N153="zníž. prenesená",J153,0) -> 0 | BI153: =IF(N153="nulová",J153,0) -> 0 | BJ153: 2 | BK153: =ROUND(I153*H153,2) -> 0 | BL153: 4 | BM153: 52
C154: 27 | D154: K | E154: 877353121 | F154: Montáž tvarovky na potrubí z rúr z tvrdého PVC tesnených gumovým krúžkom, odbočná DN 200 | G154: ks | H154: 4 | J154: =ROUND(I154*H154,2) -> 0 | N154: znížená | P154: =O154*H154 -> 0 | Q154: 3e-05 | R154: =Q154*H154 -> 0.00012 | S154: 0 | T154: =S154*H154 -> 0 | AR154: 4 | AT154: K | AU154: 2 | AY154: ROZPOCET | BE154: =IF(N154="základná",J154,0) -> 0 | BF154: =IF(N154="znížená",J154,0) -> 0 | BG154: =IF(N154="zákl. prenesená",J154,0) -> 0 | BH154: =IF(N154="zníž. prenesená",J154,0) -> 0 | BI154: =IF(N154="nulová",J154,0) -> 0 | BJ154: 2 | BK154: =ROUND(I154*H154,2) -> 0 | BL154: 4 | BM154: 54
C155: 28 | D155: M | E155: 2862103800 | F155: PVC-U odbočka kanalizačná pre rúry hladké 200/200 45° | G155: ks | H155: 3 | J155: =ROUND(I155*H155,2) -> 0 | N155: znížená | P155: =O155*H155 -> 0 | Q155: 0.00264 | R155: =Q155*H155 -> 0.00792 | S155: 0 | T155: =S155*H155 -> 0 | AR155: 8 | AT155: M | AU155: 2 | AY155: ROZPOCET | BE155: =IF(N155="základná",J155,0) -> 0 | BF155: =IF(N155="znížená",J155,0) -> 0 | BG155: =IF(N155="zákl. prenesená",J155,0) -> 0 | BH155: =IF(N155="zníž. prenesená",J155,0) -> 0 | BI155: =IF(N155="nulová",J155,0) -> 0 | BJ155: 2 | BK155: =ROUND(I155*H155,2) -> 0 | BL155: 4 | BM155: 56
C156: 49 | D156: M | E156: 2862103900 | F156: PVC-U odbočka kanalizačná pre rúry hladké Y kus 200/200/200° | G156: ks | H156: 1 | J156: =ROUND(I156*H156,2) -> 0 | N156: znížená | P156: =O156*H156 -> 0 | Q156: 0.00205 | R156: =Q156*H156 -> 0.00205 | S156: 0 | T156: =S156*H156 -> 0 | AR156: 8 | AT156: M | AU156: 2 | AY156: ROZPOCET | BE156: =IF(N156="základná",J156,0) -> 0 | BF156: =IF(N156="znížená",J156,0) -> 0 | BG156: =IF(N156="zákl. prenesená",J156,0) -> 0 | BH156: =IF(N156="zníž. prenesená",J156,0) -> 0 | BI156: =IF(N156="nulová",J156,0) -> 0 | BJ156: 2 | BK156: =ROUND(I156*H156,2) -> 0 | BL156: 4 | BM156: 58
C157: 29 | D157: K | E157: 892351000 | F157: Skúška tesnosti kanalizácie D 200 | G157: m | H157: 65 | J157: =ROUND(I157*H157,2) -> 0 | N157: znížená | P157: =O157*H157 -> 0 | Q157: 0 | R157: =Q157*H157 -> 0 | S157: 0 | T157: =S157*H157 -> 0 | AR157: 4 | AT157: K | AU157: 2 | AY157: ROZPOCET | BE157: =IF(N157="základná",J157,0) -> 0 | BF157: =IF(N157="znížená",J157,0) -> 0 | BG157: =IF(N157="zákl. prenesená",J157,0) -> 0 | BH157: =IF(N157="zníž. prenesená",J157,0) -> 0 | BI157: =IF(N157="nulová",J157,0) -> 0 | BJ157: 2 | BK157: =ROUND(I157*H157,2) -> 0 | BL157: 4 | BM157: 60
C158: 30 | D158: K | E158: 894170001 | F158: Montáž vsakovacích blokov | G158: m3 | H158: 15 | J158: =ROUND(I158*H158,2) -> 0 | N158: znížená | P158: =O158*H158 -> 0 | Q158: 0 | R158: =Q158*H158 -> 0 | S158: 0 | T158: =S158*H158 -> 0 | AR158: 4 | AT158: K | AU158: 2 | AY158: ROZPOCET | BE158: =IF(N158="základná",J158,0) -> 0 | BF158: =IF(N158="znížená",J158,0) -> 0 | BG158: =IF(N158="zákl. prenesená",J158,0) -> 0 | BH158: =IF(N158="zníž. prenesená",J158,0) -> 0 | BI158: =IF(N158="nulová",J158,0) -> 0 | BJ158: 2 | BK158: =ROUND(I158*H158,2) -> 0 | BL158: 4 | BM158: 62
C159: 31 | D159: M | E159: 562R01 | F159: Vsakovací blok WAVIN AZURA, 500x400x1000mm | G159: ks | H159: 75 | J159: =ROUND(I159*H159,2) -> 0 | N159: znížená | P159: =O159*H159 -> 0 | Q159: 0.0112 | R159: =Q159*H159 -> 0.84 | S159: 0 | T159: =S159*H159 -> 0 | AR159: 8 | AT159: M | AU159: 2 | AY159: ROZPOCET | BE159: =IF(N159="základná",J159,0) -> 0 | BF159: =IF(N159="znížená",J159,0) -> 0 | BG159: =IF(N159="zákl. prenesená",J159,0) -> 0 | BH159: =IF(N159="zníž. prenesená",J159,0) -> 0 | BI159: =IF(N159="nulová",J159,0) -> 0 | BJ159: 2 | BK159: =ROUND(I159*H159,2) -> 0 | BL159: 4 | BM159: 64
C160: 32 | D160: K | E160: 894170033 | F160: Montáž filtračno-usadzovacej šachty AFS200, DN600, výška 2000 mm | G160: ks | H160: 1 | J160: =ROUND(I160*H160,2) -> 0 | N160: znížená | P160: =O160*H160 -> 0 | Q160: 0 | R160: =Q160*H160 -> 0 | S160: 0 | T160: =S160*H160 -> 0 | AR160: 4 | AT160: K | AU160: 2 | AY160: ROZPOCET | BE160: =IF(N160="základná",J160,0) -> 0 | BF160: =IF(N160="znížená",J160,0) -> 0 | BG160: =IF(N160="zákl. prenesená",J160,0) -> 0 | BH160: =IF(N160="zníž. prenesená",J160,0) -> 0 | BI160: =IF(N160="nulová",J160,0) -> 0 | BJ160: 2 | BK160: =ROUND(I160*H160,2) -> 0 | BL160: 4 | BM160: 66
C161: 33 | D161: M | E161: 5624505060 | F161: Filtračno-usadzovacia šachta AFS200, rozmer: DN600, H=2000mm, | G161: ks | H161: 1 | J161: =ROUND(I161*H161,2) -> 0 | N161: znížená | P161: =O161*H161 -> 0 | Q161: 0.025 | R161: =Q161*H161 -> 0.025 | S161: 0 | T161: =S161*H161 -> 0 | AR161: 8 | AT161: M | AU161: 2 | AY161: ROZPOCET | BE161: =IF(N161="základná",J161,0) -> 0 | BF161: =IF(N161="znížená",J161,0) -> 0 | BG161: =IF(N161="zákl. prenesená",J161,0) -> 0 | BH161: =IF(N161="zníž. prenesená",J161,0) -> 0 | BI161: =IF(N161="nulová",J161,0) -> 0 | BJ161: 2 | BK161: =ROUND(I161*H161,2) -> 0 | BL161: 4 | BM161: 68
... C175: 45 | D175: M | E175: 5524251000 | F175: Mreža pre vozovku s nálevkou | G175: ks | H175: 4 | J175: =ROUND(I175*H175,2) -> 0 | N175: znížená | P175: =O175*H175 -> 0 | Q175: 0.17 | R175: =Q175*H175 -> 0.68 | S175: 0 | T175: =S175*H175 -> 0 | AR175: 8 | AT175: M | AU175: 2 | AY175: ROZPOCET | BE175: =IF(N175="základná",J175,0) -> 0 | BF175: =IF(N175="znížená",J175,0) -> 0 | BG175: =IF(N175="zákl. prenesená",J175,0) -> 0 | BH175: =IF(N175="zníž. prenesená",J175,0) -> 0 | BI175: =IF(N175="nulová",J175,0) -> 0 | BJ175: 2 | BK175: =ROUND(I175*H175,2) -> 0 | BL175: 4 | BM175: 96
D176: D | E176: 99 | F176: Presun hmôt HSV | J176: =BK176 -> 0 | P176: =P177 -> 0 | R176: =R177 -> 0 | T176: =T177 -> 0 | AR176: 1 | AT176: D | AU176: 1 | AY176: ROZPOCET | BK176: =BK177 -> 0
C177: 50 | D177: K | E177: 998276101 | F177: Presun hmôt pre rúrové vedenie hĺbené z rúr z plast., hmôt alebo sklolamin. v otvorenom výkope | G177: t | H177: 64.917 | J177: =ROUND(I177*H177,2) -> 0 | N177: znížená | P177: =O177*H177 -> 0 | Q177: 0 | R177: =Q177*H177 -> 0 | S177: 0 | T177: =S177*H177 -> 0 | AR177: 4 | AT177: K | AU177: 2 | AY177: ROZPOCET | BE177: =IF(N177="základná",J177,0) -> 0 | BF177: =IF(N177="znížená",J177,0) -> 0 | BG177: =IF(N177="zákl. prenesená",J177,0) -> 0 | BH177: =IF(N177="zníž. prenesená",J177,0) -> 0 | BI177: =IF(N177="nulová",J177,0) -> 0 | BJ177: 2 | BK177: =ROUND(I177*H177,2) -> 0 | BL177: 4 | BM177: 98
