Workbook

Sheet Rekapitulácia stavby
A1: Export Komplet | BA1: 2.0 | BT1: False | BU1: False | BV1: {cc77e064-40bb-4b4e-964b-41fda299cdc0}
AR2: >> skryté stĺpce << | BS2: 0,01 | BT2: 20
BS3: 0,01 | BT3: 20
D4: REKAPITULÁCIA STAVBY | AS4: v --- nižšie sa nachádzajú doplnkové a pomocné údaje k zostavám --- v | BE4: Návod na vyplnenie | BS4: 0,001
D5: Kód: | K5: Súťažné podklady - Zadanie stavby s VV | BE5: Meniť je možné iba bunky so žltým podfarbením!_x000D_ _x000D_ 1) na prvom liste Rekapitulácie stavby vyplňte v zostave_x000D_ _x000D_ a) Rekapitulácia stavby_x000D_ - údaje o Zhotoviteľovi_x000D_ (prenesú sa do ostatných zostáv aj v iných listoch)_x000D_ _x000D_ b) Rekapitulácia objektov stavby_x000D_ - potrebné Ostatné náklady_x000D_ _x000D_ 2) na vybraných listoch vyplňte v zostave_x000D_ _x000D_ a) Krycí list_x000D_ - údaje o Zhotoviteľovi, pokiaľ sa líšia od údajov o Zhotoviteľovi na Rekapitulácii stavby_x000D_ (údaje se prenesú do ostatných zostav v danom liste)_x000D_ _x000D_ b) Rekapitulácia rozpočtu_x000D_ - potrebné Ostatné náklady_x000D_ _x000D_ c) Celkové náklady za stavbu_x000D_ - ceny na položkách_x000D_ - množstvo, pokiaľ má žlté podfarbenie_x000D_ - a v prípade potreby poznámku (tá je v skrytom stĺpci) | BS5: 0,01
D6: Stavba: | K6: OPORNÝ MÚR na ul.Stračia v Nitre | BS6: 0,01
D7: JKSO: | AK7: KS: | BS7: 0,01
D8: Miesto: | K8: Stračia ulica NITRA | AK8: Dátum: | BS8: 0,01
BS9: 0,01
D10: Objednávateľ: | AK10: IČO: | BS10: 0,01
E11: Mesto Nitra Štefánikova tr.80/60, 95006 Nitra | AK11: IČ DPH: | BS11: 0,01
BS12: 0,01
D13: Zhotoviteľ: | AK13: IČO: | AN13: Vyplň údaj | BS13: 0,01
E14: Vyplň údaj | AK14: IČ DPH: | AN14: Vyplň údaj | BS14: 0,01
BS15: False
D16: Projektant: | AK16: IČO: | BS16: False
E17: IPROS spol.s.r.o.Kasalova 22,94901 Nitra | AK17: IČ DPH: | BS17: True
BS18: 0,01
D19: Spracovateľ: | AK19: IČO: | BS19: 0,01
AK20: IČ DPH: | BS20: True
D22: Poznámka:
D26: Cena bez DPH | AK26: =ROUND(AG94,2) -> 0
L28: Sadzba dane | W28: Základ dane | AK28: Výška dane
D29: DPH | F29: základná | L29: 0.2 | W29: =ROUND(AZ94, 2) -> 0 | AK29: =ROUND(AV94, 2) -> 0
F30: znížená | L30: 0.2 | W30: =ROUND(BA94, 2) -> 0 | AK30: =ROUND(AW94, 2) -> 0
F31: zákl. prenesená | L31: 0.2 | W31: =ROUND(BB94, 2) -> 0 | AK31: 0
F32: zníž. prenesená | L32: 0.2 | W32: =ROUND(BC94, 2) -> 0 | AK32: 0
F33: nulová | L33: 0 | W33: =ROUND(BD94, 2) -> 0 | AK33: 0
D35: Cena s DPH | T35: v | X35: EUR | AK35: =SUM(AK26:AK33) -> 0
D49: Projektant | AH49: Spracovateľ
D60: Dátum a podpis: | V60: Pečiatka | AH60: Dátum a podpis: | AM60: Pečiatka
D64: Objednávateľ | AH64: Zhotoviteľ
D75: Dátum a podpis: | V75: Pečiatka | AH75: Dátum a podpis: | AM75: Pečiatka
C82: REKAPITULÁCIA OBJEKTOV STAVBY
C84: Kód: | L84: =K5 -> Súťažné podklady - Zadanie stavby s VV
C85: Stavba: | L85: =K6 -> OPORNÝ MÚR na ul.Stračia v Nitre
C87: Miesto: | L87: =IF(K8="","",K8) -> Stračia ulica NITRA | AI87: Dátum: | AM87: =IF(AN8= "","",AN8)
C89: Objednávateľ: | L89: =IF(E11= "","",E11) -> Mesto Nitra Štefánikova tr.80/60, 95006 Nitra | AI89: Projektant: | AM89: =IF(E17="","",E17) -> IPROS spol.s.r.o.Kasalova 22,94901 Nitra | AS89: Informatívne údaje z listov zákaziek
C90: Zhotoviteľ: | L90: =IF(E14= "Vyplň údaj","",E14) | AI90: Spracovateľ: | AM90: =IF(E20="","",E20)
C92: Kód | I92: Popis | AG92: Cena bez DPH [EUR] | AN92: Cena s DPH [EUR] | AQ92: Typ | AS92: z toho Ostat._x000D_ náklady [EUR] | AT92: DPH [EUR] | AU92: Normohodiny [h] | AV92: DPH základná [EUR] | AW92: DPH znížená [EUR] | AX92: DPH základná prenesená_x000D_ [EUR] | AY92: DPH znížená prenesená_x000D_ [EUR] | AZ92: Základňa_x000D_ DPH základná | BA92: Základňa_x000D_ DPH znížená | BB92: Základňa_x000D_ DPH zákl. prenesená | BC92: Základňa_x000D_ DPH zníž. prenesená | BD92: Základňa_x000D_ DPH nulová
C94: Náklady z rozpočtov | AG94: =ROUND(AG95+AG98,2) -> 0 | AN94: =SUM(AG94,AT94) -> 0 | AS94: =ROUND(AS95+AS98,2) -> 0 | AT94: =ROUND(SUM(AV94:AW94),2) -> 0 | AU94: =ROUND(AU95+AU98,5) -> 0 | AV94: =ROUND(AZ94*L29,2) -> 0 | AW94: =ROUND(BA94*L30,2) -> 0 | AX94: =ROUND(BB94*L29,2) -> 0 | AY94: =ROUND(BC94*L30,2) -> 0 | AZ94: =ROUND(AZ95+AZ98,2) -> 0 | BA94: =ROUND(BA95+BA98,2) -> 0 | BB94: =ROUND(BB95+BB98,2) -> 0 | BC94: =ROUND(BC95+BC98,2) -> 0 | BD94: =ROUND(BD95+BD98,2) -> 0 | BS94: D | BT94: 0 | BU94: ###NOIMPORT### | BV94: IMPORT | BW94: {cc77e064-40bb-4b4e-964b-41fda299cdc0} | BX94: {00000000-0000-0000-0000-000000000000}
D95: SO01 | J95: SO01 MIESTNA KOMUNIKÁCIA | AG95: =ROUND(SUM(AG96:AG97),2) -> 0 | AN95: =SUM(AG95,AT95) -> 0 | AQ95: STA | AS95: =ROUND(SUM(AS96:AS97),2) -> 0 | AT95: =ROUND(SUM(AV95:AW95),2) -> 0 | AU95: =ROUND(SUM(AU96:AU97),5) -> 0 | AV95: =ROUND(AZ95*L29,2) -> 0 | AW95: =ROUND(BA95*L30,2) -> 0 | AX95: =ROUND(BB95*L29,2) -> 0 | AY95: =ROUND(BC95*L30,2) -> 0 | AZ95: =ROUND(SUM(AZ96:AZ97),2) -> 0 | BA95: =ROUND(SUM(BA96:BA97),2) -> 0 | BB95: =ROUND(SUM(BB96:BB97),2) -> 0 | BC95: =ROUND(SUM(BC96:BC97),2) -> 0 | BD95: =ROUND(SUM(BD96:BD97),2) -> 0 | BS95: D | BT95: 1 | BU95: ###NOIMPORT### | BV95: IMPORT | BW95: {03cc63ec-e8d6-48e2-b2ce-99283e722aec} | BX95: {cc77e064-40bb-4b4e-964b-41fda299cdc0} | CM95: 0
A96: / | E96: SO01.1A | K96: SO01.1A Búracie práce | AG96: ='SO01.1A - SO01.1A Búracie...'!J32 -> 0 | AN96: =SUM(AG96,AT96) -> 0 | AQ96: Časť | AS96: 0 | AT96: =ROUND(SUM(AV96:AW96),2) -> 0 | AU96: ='SO01.1A - SO01.1A Búracie...'!P127 -> 0 | AV96: ='SO01.1A - SO01.1A Búracie...'!J35 -> 0 | AW96: ='SO01.1A - SO01.1A Búracie...'!J36 -> 0 | AX96: ='SO01.1A - SO01.1A Búracie...'!J37 -> 0 | AY96: ='SO01.1A - SO01.1A Búracie...'!J38 -> 0 | AZ96: ='SO01.1A - SO01.1A Búracie...'!F35 -> 0 | BA96: ='SO01.1A - SO01.1A Búracie...'!F36 -> 0 | BB96: ='SO01.1A - SO01.1A Búracie...'!F37 -> 0 | BC96: ='SO01.1A - SO01.1A Búracie...'!F38 -> 0 | BD96: ='SO01.1A - SO01.1A Búracie...'!F39 -> 0 | BT96: 2 | BV96: IMPORT | BW96: {e3db2627-7149-4075-8adc-8d211f6cc44d} | BX96: {03cc63ec-e8d6-48e2-b2ce-99283e722aec}
A97: / | E97: SO01.1B | K97: SO01.1B Miestna komunikácia dl.69m - nové konštrukcie | AG97: ='SO01.1B - SO01.1B Miestn...'!J32 -> 0 | AN97: =SUM(AG97,AT97) -> 0 | AQ97: Časť | AS97: 0 | AT97: =ROUND(SUM(AV97:AW97),2) -> 0 | AU97: ='SO01.1B - SO01.1B Miestn...'!P132 -> 0 | AV97: ='SO01.1B - SO01.1B Miestn...'!J35 -> 0 | AW97: ='SO01.1B - SO01.1B Miestn...'!J36 -> 0 | AX97: ='SO01.1B - SO01.1B Miestn...'!J37 -> 0 | AY97: ='SO01.1B - SO01.1B Miestn...'!J38 -> 0 | AZ97: ='SO01.1B - SO01.1B Miestn...'!F35 -> 0 | BA97: ='SO01.1B - SO01.1B Miestn...'!F36 -> 0 | BB97: ='SO01.1B - SO01.1B Miestn...'!F37 -> 0 | BC97: ='SO01.1B - SO01.1B Miestn...'!F38 -> 0 | BD97: ='SO01.1B - SO01.1B Miestn...'!F39 -> 0 | BT97: 2 | BV97: IMPORT | BW97: {2c5d2d97-eddd-4b6b-9d5f-63bde1a5fb96} | BX97: {03cc63ec-e8d6-48e2-b2ce-99283e722aec}
D98: SO02 | J98: SO02 OPORNÝ MÚR | AG98: =ROUND(SUM(AG99:AG100),2) -> 0 | AN98: =SUM(AG98,AT98) -> 0 | AQ98: STA | AS98: =ROUND(SUM(AS99:AS100),2) -> 0 | AT98: =ROUND(SUM(AV98:AW98),2) -> 0 | AU98: =ROUND(SUM(AU99:AU100),5) -> 0 | AV98: =ROUND(AZ98*L29,2) -> 0 | AW98: =ROUND(BA98*L30,2) -> 0 | AX98: =ROUND(BB98*L29,2) -> 0 | AY98: =ROUND(BC98*L30,2) -> 0 | AZ98: =ROUND(SUM(AZ99:AZ100),2) -> 0 | BA98: =ROUND(SUM(BA99:BA100),2) -> 0 | BB98: =ROUND(SUM(BB99:BB100),2) -> 0 | BC98: =ROUND(SUM(BC99:BC100),2) -> 0 | BD98: =ROUND(SUM(BD99:BD100),2) -> 0 | BS98: D | BT98: 1 | BU98: ###NOIMPORT### | BV98: IMPORT | BW98: {7dd03343-dace-4bec-bf6c-a2754badeb50} | BX98: {cc77e064-40bb-4b4e-964b-41fda299cdc0} | CM98: 0
A99: / | E99: SO02.1 | K99: SO02.1 Buracie práce oporný múr | AG99: ='SO02.1 - SO02.1 Buracie p...'!J32 -> 0 | AN99: =SUM(AG99,AT99) -> 0 | AQ99: Časť | AS99: 0 | AT99: =ROUND(SUM(AV99:AW99),2) -> 0 | AU99: ='SO02.1 - SO02.1 Buracie p...'!P125 -> 0 | AV99: ='SO02.1 - SO02.1 Buracie p...'!J35 -> 0 | AW99: ='SO02.1 - SO02.1 Buracie p...'!J36 -> 0 | AX99: ='SO02.1 - SO02.1 Buracie p...'!J37 -> 0 | AY99: ='SO02.1 - SO02.1 Buracie p...'!J38 -> 0 | AZ99: ='SO02.1 - SO02.1 Buracie p...'!F35 -> 0 | BA99: ='SO02.1 - SO02.1 Buracie p...'!F36 -> 0 | BB99: ='SO02.1 - SO02.1 Buracie p...'!F37 -> 0 | BC99: ='SO02.1 - SO02.1 Buracie p...'!F38 -> 0 | BD99: ='SO02.1 - SO02.1 Buracie p...'!F39 -> 0 | BT99: 2 | BV99: IMPORT | BW99: {45905dd1-5108-451e-a476-c79e9f5d9626} | BX99: {7dd03343-dace-4bec-bf6c-a2754badeb50}
A100: / | E100: SO02.2 | K100: SO02.2 Oporný múr nové konštrukcie | AG100: ='SO02.2 - SO02.2 Oporný m...'!J32 -> 0 | AN100: =SUM(AG100,AT100) -> 0 | AQ100: Časť | AS100: 0 | AT100: =ROUND(SUM(AV100:AW100),2) -> 0 | AU100: ='SO02.2 - SO02.2 Oporný m...'!P131 -> 0 | AV100: ='SO02.2 - SO02.2 Oporný m...'!J35 -> 0 | AW100: ='SO02.2 - SO02.2 Oporný m...'!J36 -> 0 | AX100: ='SO02.2 - SO02.2 Oporný m...'!J37 -> 0 | AY100: ='SO02.2 - SO02.2 Oporný m...'!J38 -> 0 | AZ100: ='SO02.2 - SO02.2 Oporný m...'!F35 -> 0 | BA100: ='SO02.2 - SO02.2 Oporný m...'!F36 -> 0 | BB100: ='SO02.2 - SO02.2 Oporný m...'!F37 -> 0 | BC100: ='SO02.2 - SO02.2 Oporný m...'!F38 -> 0 | BD100: ='SO02.2 - SO02.2 Oporný m...'!F39 -> 0 | BT100: 2 | BV100: IMPORT | BW100: {c609cd31-ac21-415c-a71e-db43913f52f0} | BX100: {7dd03343-dace-4bec-bf6c-a2754badeb50}

Sheet SO01.1A - SO01.1A Búracie...
L2: >> skryté stĺpce << | AT2: {e3db2627-7149-4075-8adc-8d211f6cc44d} | AZ2: sutASF1 | BA2: sute asf.1 | BB2: m2 | BC2: 267 | BD2: 2
AT3: 0
D4: KRYCÍ LIST ROZPOČTU | M4: v --- nižšie sa nachádzajú doplnkové a pomocné údaje k zostavám --- v | AT4: False
D6: Stavba:
E7: ='Rekapitulácia stavby'!K6 -> OPORNÝ MÚR na ul.Stračia v Nitre
D8: Objekt:
E9: SO01 - SO01 MIESTNA KOMUNIKÁCIA
D10: Časť:
E11: SO01.1A - SO01.1A Búracie práce
D13: JKSO: | I13: KS:
D14: Miesto: | F14: Stračia ulica | I14: Dátum: | J14: ='Rekapitulácia stavby'!AN8
D16: Objednávateľ: | I16: IČO:
E17: Mesto Nitra Štefánikova tr.80/60, 95006 Nitra | I17: IČ DPH:
D19: Zhotoviteľ: | I19: IČO: | J19: ='Rekapitulácia stavby'!AN13 -> Vyplň údaj
E20: ='Rekapitulácia stavby'!E14 -> Vyplň údaj | I20: IČ DPH: | J20: ='Rekapitulácia stavby'!AN14 -> Vyplň údaj
D22: Projektant: | I22: IČO:
E23: Ing.Ján Výboch | I23: IČ DPH:
D25: Spracovateľ: | I25: IČO:
E26: Katarína Šinská | I26: IČ DPH:
D28: Poznámka:
D32: Cena bez DPH | J32: =ROUND(J127, 2) -> 0
F34: Základ dane | I34: Sadzba dane | J34: Výška dane
D35: DPH | E35: základná | F35: =ROUND((SUM(BE127:BE206)), 2) -> 0 | I35: 0.2 | J35: =ROUND(((SUM(BE127:BE206))*I35), 2) -> 0
E36: znížená | F36: =ROUND((SUM(BF127:BF206)), 2) -> 0 | I36: 0.2 | J36: =ROUND(((SUM(BF127:BF206))*I36), 2) -> 0
E37: zákl. prenesená | F37: =ROUND((SUM(BG127:BG206)), 2) -> 0 | I37: 0.2 | J37: =0 -> 0
E38: zníž. prenesená | F38: =ROUND((SUM(BH127:BH206)), 2) -> 0 | I38: 0.2 | J38: =0 -> 0
E39: nulová | F39: =ROUND((SUM(BI127:BI206)), 2) -> 0 | I39: 0 | J39: =0 -> 0
D41: Cena s DPH | G41: v | H41: EUR | J41: =SUM(J32:J39) -> 0
D50: Projektant | G50: Spracovateľ
D61: Dátum a podpis: | F61: Pečiatka | G61: Dátum a podpis: | J61: Pečiatka
D65: Objednávateľ | G65: Zhotoviteľ
D76: Dátum a podpis: | F76: Pečiatka | G76: Dátum a podpis: | J76: Pečiatka
C82: REKAPITULÁCIA ROZPOČTU
C84: Stavba:
E85: =E7 -> OPORNÝ MÚR na ul.Stračia v Nitre
C86: Objekt:
E87: SO01 - SO01 MIESTNA KOMUNIKÁCIA
C88: Časť:
E89: =E11 -> SO01.1A - SO01.1A Búracie práce
C91: Miesto: | F91: =F14 -> Stračia ulica | I91: Dátum: | J91: =IF(J14="","",J14)
C93: Objednávateľ: | F93: =E17 -> Mesto Nitra Štefánikova tr.80/60, 95006 Nitra | I93: Projektant: | J93: =E23 -> Ing.Ján Výboch
C94: Zhotoviteľ: | F94: =IF(E20="","",E20) -> Vyplň údaj | I94: Spracovateľ: | J94: =E26 -> Katarína Šinská
C96: Kód dielu - Popis | J96: Cena celkom [EUR]
C98: Náklady z rozpočtu | J98: =J127 -> 0 | AU98: -1
D99: HSV - Práce a dodávky HSV | J99: =J128 -> 0
D100: 1 - Zemné práce | J100: =J129 -> 0
D101: 11B - Búracie práce | J101: =J139 -> 0
D102: 5 - Komunikácie | J102: =J165 -> 0
D103: 9 - Ostatné konštrukcie a práce-búranie | J103: =J173 -> 0
D104: 97S - Sute | J104: =J180 -> 0
D105: 97P - POPLATOK SUTE | J105: =J186 -> 0
C112: ROZPOČET
C114: Stavba:
E115: =E7 -> OPORNÝ MÚR na ul.Stračia v Nitre
C116: Objekt:
E117: SO01 - SO01 MIESTNA KOMUNIKÁCIA
C118: Časť:
E119: =E11 -> SO01.1A - SO01.1A Búracie práce
C121: Miesto: | F121: =F14 -> Stračia ulica | I121: Dátum: | J121: =IF(J14="","",J14)
C123: Objednávateľ: | F123: =E17 -> Mesto Nitra Štefánikova tr.80/60, 95006 Nitra | I123: Projektant: | J123: =E23 -> Ing.Ján Výboch
C124: Zhotoviteľ: | F124: =IF(E20="","",E20) -> Vyplň údaj | I124: Spracovateľ: | J124: =E26 -> Katarína Šinská
C126: PČ | D126: Typ | E126: Kód | F126: Popis | G126: MJ | H126: Množstvo | I126: J.cena [EUR] | J126: Cena celkom [EUR] | K126: Cenová sústava | N126: DPH | O126: J. Nh [h] | P126: Nh celkom [h] | Q126: J. hmotnosť [t] | R126: Hmotnosť celkom [t] | S126: J. suť [t] | T126: Suť Celkom [t]
C127: Náklady z rozpočtu | J127: =BK127 -> 0 | P127: =P128 -> 0 | R127: =R128 -> 0.0800877 | T127: =T128 -> 264.031 | AT127: D | AU127: -1 | BK127: =BK128 -> 0
D128: D | E128: HSV | F128: Práce a dodávky HSV | J128: =BK128 -> 0 | P128: =P129+P139+P165+P173+P180+P186 -> 0 | R128: =R129+R139+R165+R173+R180+R186 -> 0.0800877 | T128: =T129+T139+T165+T173+T180+T186 -> 264.031 | AR128: 1 | AT128: D | AU128: 0 | AY128: ROZPOCET | BK128: =BK129+BK139+BK165+BK173+BK180+BK186 -> 0
D129: D | E129: 1 | F129: Zemné práce | J129: =BK129 -> 0 | P129: =SUM(P130:P138) -> 0 | R129: =SUM(R130:R138) -> 0 | T129: =SUM(T130:T138) -> 67.79 | AR129: 1 | AT129: D | AU129: 1 | AY129: ROZPOCET | BK129: =SUM(BK130:BK138) -> 0
C130: 1 | D130: K | E130: 113201111.S | F130: Vytrhanie obrúb chodníkových ležatých, -0,23000t | G130: m | H130: 13 | J130: =ROUND(I130*H130,2) -> 0 | N130: znížená | P130: =O130*H130 -> 0 | Q130: 0 | R130: =Q130*H130 -> 0 | S130: 0.23 | T130: =S130*H130 -> 2.99 | AR130: 4 | AT130: K | AU130: 2 | AY130: ROZPOCET | BE130: =IF(N130="základná",J130,0) -> 0 | BF130: =IF(N130="znížená",J130,0) -> 0 | BG130: =IF(N130="zákl. prenesená",J130,0) -> 0 | BH130: =IF(N130="zníž. prenesená",J130,0) -> 0 | BI130: =IF(N130="nulová",J130,0) -> 0 | BJ130: 2 | BK130: =ROUND(I130*H130,2) -> 0 | BL130: 4 | BM130: 1924832491
D131: VV | F131: 13 | H131: 13 | AT131: VV | AU131: 2 | AV131: 2 | AW131: True | AX131: 0 | AY131: ROZPOCET
D132: VV | F132: Súčet | H132: 13 | AT132: VV | AU132: 2 | AV132: 4 | AW132: True | AX132: 1 | AY132: ROZPOCET
C133: 2 | D133: K | E133: 113208111.S | F133: Vytrhanie obrúb betonových, s vybúraním lôžka, záhonových, -0,04000t | G133: m | H133: 3 | J133: =ROUND(I133*H133,2) -> 0 | N133: znížená | P133: =O133*H133 -> 0 | Q133: 0 | R133: =Q133*H133 -> 0 | S133: 0.04 | T133: =S133*H133 -> 0.12 | AR133: 4 | AT133: K | AU133: 2 | AY133: ROZPOCET | BE133: =IF(N133="základná",J133,0) -> 0 | BF133: =IF(N133="znížená",J133,0) -> 0 | BG133: =IF(N133="zákl. prenesená",J133,0) -> 0 | BH133: =IF(N133="zníž. prenesená",J133,0) -> 0 | BI133: =IF(N133="nulová",J133,0) -> 0 | BJ133: 2 | BK133: =ROUND(I133*H133,2) -> 0 | BL133: 4 | BM133: -1847647703
D134: VV | F134: 3 " pri smetníkoch | H134: 3 | AT134: VV | AU134: 2 | AV134: 2 | AW134: True | AX134: 0 | AY134: ROZPOCET
D135: VV | F135: Súčet | H135: 3 | AT135: VV | AU135: 2 | AV135: 4 | AW135: True | AX135: 1 | AY135: ROZPOCET
C136: 3 | D136: K | E136: 9660081R1 | F136: Búranie líniového žlabu DN do 300mm s bet. základom - presun podla konynov investora na ďaľšie ožitie | G136: m | H136: 66 | J136: =ROUND(I136*H136,2) -> 0 | N136: znížená | P136: =O136*H136 -> 0 | Q136: 0 | R136: =Q136*H136 -> 0 | S136: 0.98 | T136: =S136*H136 -> 64.68 | AR136: 4 | AT136: K | AU136: 2 | AY136: ROZPOCET | BE136: =IF(N136="základná",J136,0) -> 0 | BF136: =IF(N136="znížená",J136,0) -> 0 | BG136: =IF(N136="zákl. prenesená",J136,0) -> 0 | BH136: =IF(N136="zníž. prenesená",J136,0) -> 0 | BI136: =IF(N136="nulová",J136,0) -> 0 | BJ136: 2 | BK136: =ROUND(I136*H136,2) -> 0 | BL136: 4 | BM136: 2013760161
D137: VV | F137: 66 | H137: 66 | AT137: VV | AU137: 2 | AV137: 2 | AW137: True | AX137: 0 | AY137: ROZPOCET
D138: VV | F138: Súčet | H138: 66 | AT138: VV | AU138: 2 | AV138: 4 | AW138: True | AX138: 1 | AY138: ROZPOCET
D139: D | E139: 11B | F139: Búracie práce | J139: =BK139 -> 0 | P139: =SUM(P140:P164) -> 0 | R139: =SUM(R140:R164) -> 0.0008877 | T139: =SUM(T140:T164) -> 156.247 | AR139: 1 | AT139: D | AU139: 1 | AY139: ROZPOCET | BK139: =SUM(BK140:BK164) -> 0
C140: 4 | D140: K | E140: 91973-5112 | F140: Rezanie stávajúceho živičného krytu alebo podkladu hr. 50-100 mm | G140: m | H140: 29.59 | J140: =ROUND(I140*H140,2) -> 0 | N140: znížená | P140: =O140*H140 -> 0 | Q140: 3e-05 | R140: =Q140*H140 -> 0.0008877 | S140: 0 | T140: =S140*H140 -> 0 | AR140: 4 | AT140: K | AU140: 2 | AY140: ROZPOCET | BE140: =IF(N140="základná",J140,0) -> 0 | BF140: =IF(N140="znížená",J140,0) -> 0 | BG140: =IF(N140="zákl. prenesená",J140,0) -> 0 | BH140: =IF(N140="zníž. prenesená",J140,0) -> 0 | BI140: =IF(N140="nulová",J140,0) -> 0 | BJ140: 2 | BK140: =ROUND(I140*H140,2) -> 0 | BL140: 4 | BM140: -745678198
D141: VV | F141: 10,8 | H141: 10.8 | AT141: VV | AU141: 2 | AV141: 2 | AW141: True | AX141: 0 | AY141: ROZPOCET
D142: VV | F142: 1,95+2+1,84 | H142: 5.79 | AT142: VV | AU142: 2 | AV142: 2 | AW142: True | AX142: 0 | AY142: ROZPOCET
D143: VV | F143: 3,3+3 | H143: 6.3 | AT143: VV | AU143: 2 | AV143: 2 | AW143: True | AX143: 0 | AY143: ROZPOCET
D144: VV | F144: 6,7 | H144: 6.7 | AT144: VV | AU144: 2 | AV144: 2 | AW144: True | AX144: 0 | AY144: ROZPOCET
D145: VV | F145: Súčet | H145: 29.59 | AT145: VV | AU145: 2 | AV145: 4 | AW145: True | AX145: 1 | AY145: ROZPOCET
C146: 5 | D146: K | E146: 113107243.S | F146: Odstránenie krytu asfaltového v ploche nad 200 m2, hr. nad 100 do 150 mm, -0,31600t | G146: m2 | H146: 267 | J146: =ROUND(I146*H146,2) -> 0 | N146: znížená | P146: =O146*H146 -> 0 | Q146: 0 | R146: =Q146*H146 -> 0 | S146: 0.316 | T146: =S146*H146 -> 84.372 | AR146: 4 | AT146: K | AU146: 2 | AY146: ROZPOCET | BE146: =IF(N146="základná",J146,0) -> 0 | BF146: =IF(N146="znížená",J146,0) -> 0 | BG146: =IF(N146="zákl. prenesená",J146,0) -> 0 | BH146: =IF(N146="zníž. prenesená",J146,0) -> 0 | BI146: =IF(N146="nulová",J146,0) -> 0 | BJ146: 2 | BK146: =ROUND(I146*H146,2) -> 0 | BL146: 4 | BM146: 1587413800
D147: VV | F147: " jestv. komunikácia odstránenie | AT147: VV | AU147: 2 | AV147: 1 | AW147: True | AX147: 0 | AY147: ROZPOCET
D148: VV | F148: " asfalt 50+70mm | AT148: VV | AU148: 2 | AV148: 1 | AW148: True | AX148: 0 | AY148: ROZPOCET
D149: VV | F149: 267 | H149: 267 | AT149: VV | AU149: 2 | AV149: 2 | AW149: True | AX149: 0 | AY149: ROZPOCET
D150: VV | E150: sutASF1 | F150: Súčet | H150: 267 | AT150: VV | AU150: 2 | AV150: 4 | AW150: True | AX150: 1 | AY150: ROZPOCET
C151: 6 | D151: K | E151: 113107131.S | F151: Odstránenie krytu v ploche do 200 m2 z betónu prostého, hr. vrstvy do 150 mm, -0,22500t | G151: m2 | H151: 115 | J151: =ROUND(I151*H151,2) -> 0 | N151: znížená | P151: =O151*H151 -> 0 | Q151: 0 | R151: =Q151*H151 -> 0 | S151: 0.225 | T151: =S151*H151 -> 25.875 | AR151: 4 | AT151: K | AU151: 2 | AY151: ROZPOCET | BE151: =IF(N151="základná",J151,0) -> 0 | BF151: =IF(N151="znížená",J151,0) -> 0 | BG151: =IF(N151="zákl. prenesená",J151,0) -> 0 | BH151: =IF(N151="zníž. prenesená",J151,0) -> 0 | BI151: =IF(N151="nulová",J151,0) -> 0 | BJ151: 2 | BK151: =ROUND(I151*H151,2) -> 0 | BL151: 4 | BM151: -1066491420
D152: VV | F152: " betoh hr. cca 100mm | AT152: VV | AU152: 2 | AV152: 1 | AW152: True | AX152: 0 | AY152: ROZPOCET
D153: VV | F153: 102 | H153: 102 | AT153: VV | AU153: 2 | AV153: 2 | AW153: True | AX153: 0 | AY153: ROZPOCET
D154: VV | F154: Medzisúčet komunikácia | H154: 102 | AT154: VV | AU154: 2 | AV154: 3 | AW154: True | AX154: 0 | AY154: ROZPOCET
D155: VV | F155: 13 | H155: 13 | AT155: VV | AU155: 2 | AV155: 2 | AW155: True | AX155: 0 | AY155: ROZPOCET
D156: VV | F156: Medzisúčet bet. kryt smetniky | H156: 13 | AT156: VV | AU156: 2 | AV156: 3 | AW156: True | AX156: 0 | AY156: ROZPOCET
D157: VV | F157: Súčet | H157: 115 | AT157: VV | AU157: 2 | AV157: 4 | AW157: True | AX157: 1 | AY157: ROZPOCET
C158: 7 | D158: K | E158: 113107223.S | F158: Odstránenie krytu v ploche nad 200 m2 z kameniva hrubého drveného, hr. 200 do 300 mm, -0,40000t | G158: m2 | H158: 115 | J158: =ROUND(I158*H158,2) -> 0 | N158: znížená | P158: =O158*H158 -> 0 | Q158: 0 | R158: =Q158*H158 -> 0 | S158: 0.4 | T158: =S158*H158 -> 46 | AR158: 4 | AT158: K | AU158: 2 | AY158: ROZPOCET | BE158: =IF(N158="základná",J158,0) -> 0 | BF158: =IF(N158="znížená",J158,0) -> 0 | BG158: =IF(N158="zákl. prenesená",J158,0) -> 0 | BH158: =IF(N158="zníž. prenesená",J158,0) -> 0 | BI158: =IF(N158="nulová",J158,0) -> 0 | BJ158: 2 | BK158: =ROUND(I158*H158,2) -> 0 | BL158: 4 | BM158: 1948505854
D159: VV | F159: " kamenivo hr. 180mm | AT159: VV | AU159: 2 | AV159: 1 | AW159: True | AX159: 0 | AY159: ROZPOCET
D160: VV | F160: 102 | H160: 102 | AT160: VV | AU160: 2 | AV160: 2 | AW160: True | AX160: 0 | AY160: ROZPOCET
D161: VV | F161: Medzisúčet | H161: 102 | AT161: VV | AU161: 2 | AV161: 3 | AW161: True | AX161: 0 | AY161: ROZPOCET
D162: VV | F162: 13 | H162: 13 | AT162: VV | AU162: 2 | AV162: 2 | AW162: True | AX162: 0 | AY162: ROZPOCET
D163: VV | F163: Medzisúčet bet. kryt smetniky | H163: 13 | AT163: VV | AU163: 2 | AV163: 3 | AW163: True | AX163: 0 | AY163: ROZPOCET
D164: VV | F164: Súčet | H164: 115 | AT164: VV | AU164: 2 | AV164: 4 | AW164: True | AX164: 1 | AY164: ROZPOCET
...

Sheet SO01.1B - SO01.1B  Miestn...
L2: >> skryté stĺpce << | AT2: {2c5d2d97-eddd-4b6b-9d5f-63bde1a5fb96} | AZ2: dlažbasmetniky | BA2: dlažba smetniíky | BB2: m2 | BC2: 13 | BD2: 2
AT3: 0 | AZ3: komunikacia | BA3: komunikácia | BB3: m2 | BC3: 267 | BD3: 2
D4: KRYCÍ LIST ROZPOČTU | M4: v --- nižšie sa nachádzajú doplnkové a pomocné údaje k zostavám --- v | AT4: False
D6: Stavba:
E7: ='Rekapitulácia stavby'!K6 -> OPORNÝ MÚR na ul.Stračia v Nitre
D8: Objekt:
E9: SO01 - SO01 MIESTNA KOMUNIKÁCIA
D10: Časť:
E11: SO01.1B - SO01.1B Miestna komunikácia dl.69m - nové konštrukcie
D13: JKSO: | I13: KS:
D14: Miesto: | F14: Stračia ulica | I14: Dátum: | J14: ='Rekapitulácia stavby'!AN8
D16: Objednávateľ: | I16: IČO:
E17: Mesto Nitra Štefánikova tr.80/60, 95006 Nitra | I17: IČ DPH:
D19: Zhotoviteľ: | I19: IČO: | J19: ='Rekapitulácia stavby'!AN13 -> Vyplň údaj
E20: ='Rekapitulácia stavby'!E14 -> Vyplň údaj | I20: IČ DPH: | J20: ='Rekapitulácia stavby'!AN14 -> Vyplň údaj
D22: Projektant: | I22: IČO:
E23: Ing.Ján Výboch | I23: IČ DPH:
D25: Spracovateľ: | I25: IČO:
E26: Katarína Šinská | I26: IČ DPH:
D28: Poznámka:
D32: Cena bez DPH | J32: =ROUND(J132, 2) -> 0
F34: Základ dane | I34: Sadzba dane | J34: Výška dane
D35: DPH | E35: základná | F35: =ROUND((SUM(BE132:BE262)), 2) -> 0 | I35: 0.2 | J35: =ROUND(((SUM(BE132:BE262))*I35), 2) -> 0
E36: znížená | F36: =ROUND((SUM(BF132:BF262)), 2) -> 0 | I36: 0.2 | J36: =ROUND(((SUM(BF132:BF262))*I36), 2) -> 0
E37: zákl. prenesená | F37: =ROUND((SUM(BG132:BG262)), 2) -> 0 | I37: 0.2 | J37: =0 -> 0
E38: zníž. prenesená | F38: =ROUND((SUM(BH132:BH262)), 2) -> 0 | I38: 0.2 | J38: =0 -> 0
E39: nulová | F39: =ROUND((SUM(BI132:BI262)), 2) -> 0 | I39: 0 | J39: =0 -> 0
D41: Cena s DPH | G41: v | H41: EUR | J41: =SUM(J32:J39) -> 0
D50: Projektant | G50: Spracovateľ
D61: Dátum a podpis: | F61: Pečiatka | G61: Dátum a podpis: | J61: Pečiatka
D65: Objednávateľ | G65: Zhotoviteľ
D76: Dátum a podpis: | F76: Pečiatka | G76: Dátum a podpis: | J76: Pečiatka
C82: REKAPITULÁCIA ROZPOČTU
C84: Stavba:
E85: =E7 -> OPORNÝ MÚR na ul.Stračia v Nitre
C86: Objekt:
E87: SO01 - SO01 MIESTNA KOMUNIKÁCIA
C88: Časť:
E89: =E11 -> SO01.1B - SO01.1B Miestna komunikácia dl.69m - nové konštrukcie
C91: Miesto: | F91: =F14 -> Stračia ulica | I91: Dátum: | J91: =IF(J14="","",J14)
C93: Objednávateľ: | F93: =E17 -> Mesto Nitra Štefánikova tr.80/60, 95006 Nitra | I93: Projektant: | J93: =E23 -> Ing.Ján Výboch
C94: Zhotoviteľ: | F94: =IF(E20="","",E20) -> Vyplň údaj | I94: Spracovateľ: | J94: =E26 -> Katarína Šinská
C96: Kód dielu - Popis | J96: Cena celkom [EUR]
C98: Náklady z rozpočtu | J98: =J132 -> 0 | AU98: -1
D99: HSV - Práce a dodávky HSV | J99: =J133 -> 0
D100: 0.1 - Geodet. a projektové práce | J100: =J135 -> 0
D101: 1 - Zemné práce | J101: =J145 -> 0
D102: 2 - Zakladanie | J102: =J156 -> 0
D103: 3 - Zvislé a kompletné konštrukcie | J103: =J163 -> 0
D104: 4 - Vodorovné konštrukcie | J104: =J167 -> 0
D105: 5 - Komunikácie | J105: =J175 -> 0
D106: 5.A - Miestna komunikácia | J106: =J188 -> 0
D107: 5.B - Smetiaky dlažba | J107: =J215 -> 0
D108: 9 - Ostatné konštrukcie a práce-búranie | J108: =J236 -> 0
D109: 91D - Dočasné dopravené značenie | J109: =J258 -> 0
D110: 99 - Presun hmôt HSV | J110: =J261 -> 0
C117: ROZPOČET
C119: Stavba:
E120: =E7 -> OPORNÝ MÚR na ul.Stračia v Nitre
C121: Objekt:
E122: SO01 - SO01 MIESTNA KOMUNIKÁCIA
C123: Časť:
E124: =E11 -> SO01.1B - SO01.1B Miestna komunikácia dl.69m - nové konštrukcie
C126: Miesto: | F126: =F14 -> Stračia ulica | I126: Dátum: | J126: =IF(J14="","",J14)
C128: Objednávateľ: | F128: =E17 -> Mesto Nitra Štefánikova tr.80/60, 95006 Nitra | I128: Projektant: | J128: =E23 -> Ing.Ján Výboch
C129: Zhotoviteľ: | F129: =IF(E20="","",E20) -> Vyplň údaj | I129: Spracovateľ: | J129: =E26 -> Katarína Šinská
C131: PČ | D131: Typ | E131: Kód | F131: Popis | G131: MJ | H131: Množstvo | I131: J.cena [EUR] | J131: Cena celkom [EUR] | K131: Cenová sústava | N131: DPH | O131: J. Nh [h] | P131: Nh celkom [h] | Q131: J. hmotnosť [t] | R131: Hmotnosť celkom [t] | S131: J. suť [t] | T131: Suť Celkom [t]
C132: Náklady z rozpočtu | J132: =BK132 -> 0 | P132: =P133 -> 0 | R132: =R133 -> 309.25001 | T132: =T133 -> 0 | AT132: D | AU132: -1 | BK132: =BK133 -> 0
D133: D | E133: HSV | F133: Práce a dodávky HSV | J133: =BK133 -> 0 | P133: =P134+P135+P145+P156+P163+P167+P175+P188+P215+P236+P258+P261 -> 0 | R133: =R134+R135+R145+R156+R163+R167+R175+R188+R215+R236+R258+R261 -> 309.25001 | T133: =T134+T135+T145+T156+T163+T167+T175+T188+T215+T236+T258+T261 -> 0 | AR133: 1 | AT133: D | AU133: 0 | AY133: ROZPOCET | BK133: =BK134+BK135+BK145+BK156+BK163+BK167+BK175+BK188+BK215+BK236+BK258+BK261 -> 0
C134: 1 | D134: M | E134: Poz1POZN. | F134: V prípade výskytu obchodných názvov výrobkov a technoloógií, tieto majú informatívny charakter a slúžia ako minimálny štandart.Sú uvedené ako referenčná kvalita a môžu byťnahradené ekvival. výrobkom, ktorý má rovnaké alebo lepšie vlastnosti a parametre. | H134: 0 | J134: =ROUND(I134*H134,2) -> 0 | N134: znížená | P134: =O134*H134 -> 0 | Q134: 0 | R134: =Q134*H134 -> 0 | S134: 0 | T134: =S134*H134 -> 0 | AR134: 256 | AT134: M | AU134: 1 | AY134: ROZPOCET | BE134: =IF(N134="základná",J134,0) -> 0 | BF134: =IF(N134="znížená",J134,0) -> 0 | BG134: =IF(N134="zákl. prenesená",J134,0) -> 0 | BH134: =IF(N134="zníž. prenesená",J134,0) -> 0 | BI134: =IF(N134="nulová",J134,0) -> 0 | BJ134: 2 | BK134: =ROUND(I134*H134,2) -> 0 | BL134: 64 | BM134: 632701829
D135: D | E135: 0.1 | F135: Geodet. a projektové práce | J135: =BK135 -> 0 | P135: =SUM(P136:P144) -> 0 | R135: =SUM(R136:R144) -> 0 | T135: =SUM(T136:T144) -> 0 | AR135: 1 | AT135: D | AU135: 1 | AY135: ROZPOCET | BK135: =SUM(BK136:BK144) -> 0
C136: 2 | D136: K | E136: 000300013 | F136: Geodetické práce - vykonávané pred výstavbou, zameranie sietí | G136: eur | H136: 1 | J136: =ROUND(I136*H136,2) -> 0 | N136: znížená | P136: =O136*H136 -> 0 | Q136: 0 | R136: =Q136*H136 -> 0 | S136: 0 | T136: =S136*H136 -> 0 | AR136: 4 | AT136: K | AU136: 2 | AY136: ROZPOCET | BE136: =IF(N136="základná",J136,0) -> 0 | BF136: =IF(N136="znížená",J136,0) -> 0 | BG136: =IF(N136="zákl. prenesená",J136,0) -> 0 | BH136: =IF(N136="zníž. prenesená",J136,0) -> 0 | BI136: =IF(N136="nulová",J136,0) -> 0 | BJ136: 2 | BK136: =ROUND(I136*H136,2) -> 0 | BL136: 4 | BM136: -1953239191
D137: VV | F137: 1 | H137: 1 | AT137: VV | AU137: 2 | AV137: 2 | AW137: True | AX137: 0 | AY137: ROZPOCET
D138: VV | F138: Súčet | H138: 1 | AT138: VV | AU138: 2 | AV138: 4 | AW138: True | AX138: 1 | AY138: ROZPOCET
C139: 3 | D139: K | E139: 000300021 | F139: Geodetické práce - skutočné zameranie stavby | G139: eur | H139: 1 | J139: =ROUND(I139*H139,2) -> 0 | N139: znížená | P139: =O139*H139 -> 0 | Q139: 0 | R139: =Q139*H139 -> 0 | S139: 0 | T139: =S139*H139 -> 0 | AR139: 4 | AT139: K | AU139: 2 | AY139: ROZPOCET | BE139: =IF(N139="základná",J139,0) -> 0 | BF139: =IF(N139="znížená",J139,0) -> 0 | BG139: =IF(N139="zákl. prenesená",J139,0) -> 0 | BH139: =IF(N139="zníž. prenesená",J139,0) -> 0 | BI139: =IF(N139="nulová",J139,0) -> 0 | BJ139: 2 | BK139: =ROUND(I139*H139,2) -> 0 | BL139: 4 | BM139: -160765158
D140: VV | F140: 1 | H140: 1 | AT140: VV | AU140: 2 | AV140: 2 | AW140: True | AX140: 0 | AY140: ROZPOCET
D141: VV | F141: Súčet | H141: 1 | AT141: VV | AU141: 2 | AV141: 4 | AW141: True | AX141: 1 | AY141: ROZPOCET
C142: 4 | D142: K | E142: 000400022 | F142: Projektové práce - náklady na dokumentáciu skutočného zhotovenia stavby | G142: eur | H142: 1 | J142: =ROUND(I142*H142,2) -> 0 | N142: znížená | P142: =O142*H142 -> 0 | Q142: 0 | R142: =Q142*H142 -> 0 | S142: 0 | T142: =S142*H142 -> 0 | AR142: 4 | AT142: K | AU142: 2 | AY142: ROZPOCET | BE142: =IF(N142="základná",J142,0) -> 0 | BF142: =IF(N142="znížená",J142,0) -> 0 | BG142: =IF(N142="zákl. prenesená",J142,0) -> 0 | BH142: =IF(N142="zníž. prenesená",J142,0) -> 0 | BI142: =IF(N142="nulová",J142,0) -> 0 | BJ142: 2 | BK142: =ROUND(I142*H142,2) -> 0 | BL142: 4 | BM142: -1671364934
D143: VV | F143: 1 | H143: 1 | AT143: VV | AU143: 2 | AV143: 2 | AW143: True | AX143: 0 | AY143: ROZPOCET
D144: VV | F144: Súčet | H144: 1 | AT144: VV | AU144: 2 | AV144: 4 | AW144: True | AX144: 1 | AY144: ROZPOCET
D145: D | E145: 1 | F145: Zemné práce | J145: =BK145 -> 0 | P145: =SUM(P146:P155) -> 0 | R145: =SUM(R146:R155) -> 0.693 | T145: =SUM(T146:T155) -> 0 | AR145: 1 | AT145: D | AU145: 1 | AY145: ROZPOCET | BK145: =SUM(BK146:BK155) -> 0
C146: 5 | D146: K | E146: 175101202.S | F146: Obsyp objektov sypaninou z vhodných hornín 1 až 4 s prehodením sypaniny | G146: m3 | H146: 0.3 | J146: =ROUND(I146*H146,2) -> 0 | N146: znížená | P146: =O146*H146 -> 0 | Q146: 0 | R146: =Q146*H146 -> 0 | S146: 0 | T146: =S146*H146 -> 0 | AR146: 4 | AT146: K | AU146: 2 | AY146: ROZPOCET | BE146: =IF(N146="základná",J146,0) -> 0 | BF146: =IF(N146="znížená",J146,0) -> 0 | BG146: =IF(N146="zákl. prenesená",J146,0) -> 0 | BH146: =IF(N146="zníž. prenesená",J146,0) -> 0 | BI146: =IF(N146="nulová",J146,0) -> 0 | BJ146: 2 | BK146: =ROUND(I146*H146,2) -> 0 | BL146: 4 | BM146: -1147087626
D147: VV | F147: 2*0,15 "štrkový zásyp | H147: 0.3 | AT147: VV | AU147: 2 | AV147: 2 | AW147: True | AX147: 0 | AY147: ROZPOCET
D148: VV | F148: Súčet v.č.2 | H148: 0.3 | AT148: VV | AU148: 2 | AV148: 4 | AW148: True | AX148: 1 | AY148: ROZPOCET
C149: 6 | D149: M | E149: 583310002900.S | F149: Štrkopiesok frakcia 0-16 mm | G149: t | H149: 0.693 | J149: =ROUND(I149*H149,2) -> 0 | N149: znížená | P149: =O149*H149 -> 0 | Q149: 1 | R149: =Q149*H149 -> 0.693 | S149: 0 | T149: =S149*H149 -> 0 | AR149: 8 | AT149: M | AU149: 2 | AY149: ROZPOCET | BE149: =IF(N149="základná",J149,0) -> 0 | BF149: =IF(N149="znížená",J149,0) -> 0 | BG149: =IF(N149="zákl. prenesená",J149,0) -> 0 | BH149: =IF(N149="zníž. prenesená",J149,0) -> 0 | BI149: =IF(N149="nulová",J149,0) -> 0 | BJ149: 2 | BK149: =ROUND(I149*H149,2) -> 0 | BL149: 4 | BM149: 1423648805
D150: VV | F150: 2*0,15*2,1*1,1 "štrkový zásyp | H150: 0.693 | AT150: VV | AU150: 2 | AV150: 2 | AW150: True | AX150: 0 | AY150: ROZPOCET
D151: VV | F151: Súčet v.č.2 | H151: 0.693 | AT151: VV | AU151: 2 | AV151: 4 | AW151: True | AX151: 1 | AY151: ROZPOCET
C152: 7 | D152: K | E152: 181101101.S | F152: Úprava pláne v zárezoch v hornine 1-4 bez zhutnenia | G152: m2 | H152: 280 | J152: =ROUND(I152*H152,2) -> 0 | N152: znížená | P152: =O152*H152 -> 0 | Q152: 0 | R152: =Q152*H152 -> 0 | S152: 0 | T152: =S152*H152 -> 0 | AR152: 4 | AT152: K | AU152: 2 | AY152: ROZPOCET | BE152: =IF(N152="základná",J152,0) -> 0 | BF152: =IF(N152="znížená",J152,0) -> 0 | BG152: =IF(N152="zákl. prenesená",J152,0) -> 0 | BH152: =IF(N152="zníž. prenesená",J152,0) -> 0 | BI152: =IF(N152="nulová",J152,0) -> 0 | BJ152: 2 | BK152: =ROUND(I152*H152,2) -> 0 | BL152: 4 | BM152: -1547617635
D153: VV | F153: komunikacia | H153: 267 | AT153: VV | AU153: 2 | AV153: 2 | AW153: True | AX153: 0 | AY153: ROZPOCET
D154: VV | F154: dlažbasmetniky | H154: 13 | AT154: VV | AU154: 2 | AV154: 2 | AW154: True | AX154: 0 | AY154: ROZPOCET
D155: VV | F155: Súčet | H155: 280 | AT155: VV | AU155: 2 | AV155: 4 | AW155: True | AX155: 1 | AY155: ROZPOCET
D156: D | E156: 2 | F156: Zakladanie | J156: =BK156 -> 0 | P156: =SUM(P157:P162) -> 0 | R156: =SUM(R157:R162) -> 0.06325 | T156: =SUM(T157:T162) -> 0 | AR156: 1 | AT156: D | AU156: 1 | AY156: ROZPOCET | BK156: =SUM(BK157:BK162) -> 0
C157: 8 | D157: K | E157: 289971211.S | F157: Zhotovenie vrstvy z geotextílie na upravenom povrchu sklon do 1 : 5 , šírky od 0 do 3 m | G157: m2 | H157: 115 | J157: =ROUND(I157*H157,2) -> 0 | N157: znížená | P157: =O157*H157 -> 0 | Q157: 0 | R157: =Q157*H157 -> 0 | S157: 0 | T157: =S157*H157 -> 0 | AR157: 4 | AT157: K | AU157: 2 | AY157: ROZPOCET | BE157: =IF(N157="základná",J157,0) -> 0 | BF157: =IF(N157="znížená",J157,0) -> 0 | BG157: =IF(N157="zákl. prenesená",J157,0) -> 0 | BH157: =IF(N157="zníž. prenesená",J157,0) -> 0 | BI157: =IF(N157="nulová",J157,0) -> 0 | BJ157: 2 | BK157: =ROUND(I157*H157,2) -> 0 | BL157: 4 | BM157: 601571974
D158: VV | F158: 102 | H158: 102 | AT158: VV | AU158: 2 | AV158: 2 | AW158: True | AX158: 0 | AY158: ROZPOCET
D159: VV | F159: dlažbasmetniky | H159: 13 | AT159: VV | AU159: 2 | AV159: 2 | AW159: True | AX159: 0 | AY159: ROZPOCET
D160: VV | F160: Súčet | H160: 115 | AT160: VV | AU160: 2 | AV160: 4 | AW160: True | AX160: 1 | AY160: ROZPOCET
C161: 9 | D161: M | E161: 693110003200.S | F161: Geotextília polypropylénová netkaná 500 g/m2 | G161: m2 | H161: 126.5 | J161: =ROUND(I161*H161,2) -> 0 | N161: znížená | P161: =O161*H161 -> 0 | Q161: 0.0005 | R161: =Q161*H161 -> 0.06325 | S161: 0 | T161: =S161*H161 -> 0 | AR161: 8 | AT161: M | AU161: 2 | AY161: ROZPOCET | BE161: =IF(N161="základná",J161,0) -> 0 | BF161: =IF(N161="znížená",J161,0) -> 0 | BG161: =IF(N161="zákl. prenesená",J161,0) -> 0 | BH161: =IF(N161="zníž. prenesená",J161,0) -> 0 | BI161: =IF(N161="nulová",J161,0) -> 0 | BJ161: 2 | BK161: =ROUND(I161*H161,2) -> 0 | BL161: 4 | BM161: 574078534
D162: VV | F162: 115*1,1 'Prepočítané koeficientom množstva | H162: 126.5 | AT162: VV | AU162: 2 | AV162: 2 | AW162: False | AX162: 1 | AY162: ROZPOCET
D163: D | E163: 3 | F163: Zvislé a kompletné konštrukcie | J163: =BK163 -> 0 | P163: =SUM(P164:P166) -> 0 | R163: =SUM(R164:R166) -> 0.0281 | T163: =SUM(T164:T166) -> 0 | AR163: 1 | AT163: D | AU163: 1 | AY163: ROZPOCET | BK163: =SUM(BK164:BK166) -> 0
C164: 10 | D164: K | E164: 3481712R1 | F164: Osadzovanie zábradlia oceľového pri smetiakoch / pôvodné | G164: m | H164: 10 | J164: =ROUND(I164*H164,2) -> 0 | N164: znížená | P164: =O164*H164 -> 0 | Q164: 0.00281 | R164: =Q164*H164 -> 0.0281 | S164: 0 | T164: =S164*H164 -> 0 | AR164: 4 | AT164: K | AU164: 2 | AY164: ROZPOCET | BE164: =IF(N164="základná",J164,0) -> 0 | BF164: =IF(N164="znížená",J164,0) -> 0 | BG164: =IF(N164="zákl. prenesená",J164,0) -> 0 | BH164: =IF(N164="zníž. prenesená",J164,0) -> 0 | BI164: =IF(N164="nulová",J164,0) -> 0 | BJ164: 2 | BK164: =ROUND(I164*H164,2) -> 0 | BL164: 4 | BM164: -443887393
...

Sheet SO02.1 - SO02.1 Buracie p...
L2: >> skryté stĺpce << | AT2: {45905dd1-5108-451e-a476-c79e9f5d9626} | AZ2: betonsuť | BA2: beton suť | BB2: m3 | BC2: 405,624 | BD2: 2
AT3: 0 | AZ3: odkop | BA3: odkop | BB3: m3 | BC3: 33,507 | BD3: 2
D4: KRYCÍ LIST ROZPOČTU | M4: v --- nižšie sa nachádzajú doplnkové a pomocné údaje k zostavám --- v | AT4: False | AZ4: odkopzemina | BA4: výkop | BB4: m3 | BC4: 420,475 | BD4: 2
AZ5: prebzemina | BA5: preb. zemina odvoz | BB5: m3 | BC5: 390,475 | BD5: 2
D6: Stavba:
E7: ='Rekapitulácia stavby'!K6 -> OPORNÝ MÚR na ul.Stračia v Nitre
D8: Objekt:
E9: SO02 - SO02 OPORNÝ MÚR
D10: Časť:
E11: SO02.1 - SO02.1 Buracie práce oporný múr
D13: JKSO: | I13: KS:
D14: Miesto: | F14: Stračia ulica | I14: Dátum: | J14: ='Rekapitulácia stavby'!AN8
D16: Objednávateľ: | I16: IČO:
E17: Mesto Nitra Štefánikova tr.80/60, 95006 Nitra | I17: IČ DPH:
D19: Zhotoviteľ: | I19: IČO: | J19: ='Rekapitulácia stavby'!AN13 -> Vyplň údaj
E20: ='Rekapitulácia stavby'!E14 -> Vyplň údaj | I20: IČ DPH: | J20: ='Rekapitulácia stavby'!AN14 -> Vyplň údaj
D22: Projektant: | I22: IČO:
E23: IPROS s.r.o.Ing.Drobena | I23: IČ DPH:
D25: Spracovateľ: | I25: IČO:
E26: Katarína Šinská | I26: IČ DPH:
D28: Poznámka:
D32: Cena bez DPH | J32: =ROUND(J125, 2) -> 0
F34: Základ dane | I34: Sadzba dane | J34: Výška dane
D35: DPH | E35: základná | F35: =ROUND((SUM(BE125:BE184)), 2) -> 0 | I35: 0.2 | J35: =ROUND(((SUM(BE125:BE184))*I35), 2) -> 0
E36: znížená | F36: =ROUND((SUM(BF125:BF184)), 2) -> 0 | I36: 0.2 | J36: =ROUND(((SUM(BF125:BF184))*I36), 2) -> 0
E37: zákl. prenesená | F37: =ROUND((SUM(BG125:BG184)), 2) -> 0 | I37: 0.2 | J37: =0 -> 0
E38: zníž. prenesená | F38: =ROUND((SUM(BH125:BH184)), 2) -> 0 | I38: 0.2 | J38: =0 -> 0
E39: nulová | F39: =ROUND((SUM(BI125:BI184)), 2) -> 0 | I39: 0 | J39: =0 -> 0
D41: Cena s DPH | G41: v | H41: EUR | J41: =SUM(J32:J39) -> 0
D50: Projektant | G50: Spracovateľ
D61: Dátum a podpis: | F61: Pečiatka | G61: Dátum a podpis: | J61: Pečiatka
D65: Objednávateľ | G65: Zhotoviteľ
D76: Dátum a podpis: | F76: Pečiatka | G76: Dátum a podpis: | J76: Pečiatka
C82: REKAPITULÁCIA ROZPOČTU
C84: Stavba:
E85: =E7 -> OPORNÝ MÚR na ul.Stračia v Nitre
C86: Objekt:
E87: SO02 - SO02 OPORNÝ MÚR
C88: Časť:
E89: =E11 -> SO02.1 - SO02.1 Buracie práce oporný múr
C91: Miesto: | F91: =F14 -> Stračia ulica | I91: Dátum: | J91: =IF(J14="","",J14)
C93: Objednávateľ: | F93: =E17 -> Mesto Nitra Štefánikova tr.80/60, 95006 Nitra | I93: Projektant: | J93: =E23 -> IPROS s.r.o.Ing.Drobena
C94: Zhotoviteľ: | F94: =IF(E20="","",E20) -> Vyplň údaj | I94: Spracovateľ: | J94: =E26 -> Katarína Šinská
C96: Kód dielu - Popis | J96: Cena celkom [EUR]
C98: Náklady z rozpočtu | J98: =J125 -> 0 | AU98: -1
D99: HSV - Práce a dodávky HSV | J99: =J126 -> 0
D100: 1 - Zemné práce | J100: =J127 -> 0
D101: 9 - Ostatné konštrukcie a práce-búranie | J101: =J151 -> 0
D102: PSV - Práce a dodávky PSV | J102: =J169 -> 0
D103: 767 - Konštrukcie doplnkové kovové | J103: =J170 -> 0
C110: ROZPOČET
C112: Stavba:
E113: =E7 -> OPORNÝ MÚR na ul.Stračia v Nitre
C114: Objekt:
E115: SO02 - SO02 OPORNÝ MÚR
C116: Časť:
E117: =E11 -> SO02.1 - SO02.1 Buracie práce oporný múr
C119: Miesto: | F119: =F14 -> Stračia ulica | I119: Dátum: | J119: =IF(J14="","",J14)
C121: Objednávateľ: | F121: =E17 -> Mesto Nitra Štefánikova tr.80/60, 95006 Nitra | I121: Projektant: | J121: =E23 -> IPROS s.r.o.Ing.Drobena
C122: Zhotoviteľ: | F122: =IF(E20="","",E20) -> Vyplň údaj | I122: Spracovateľ: | J122: =E26 -> Katarína Šinská
C124: PČ | D124: Typ | E124: Kód | F124: Popis | G124: MJ | H124: Množstvo | I124: J.cena [EUR] | J124: Cena celkom [EUR] | K124: Cenová sústava | N124: DPH | O124: J. Nh [h] | P124: Nh celkom [h] | Q124: J. hmotnosť [t] | R124: Hmotnosť celkom [t] | S124: J. suť [t] | T124: Suť Celkom [t]
C125: Náklady z rozpočtu | J125: =BK125 -> 0 | P125: =P126+P169 -> 0 | R125: =R126+R169 -> 0 | T125: =T126+T169 -> 406.2387 | AT125: D | AU125: -1 | BK125: =BK126+BK169 -> 0
D126: D | E126: HSV | F126: Práce a dodávky HSV | J126: =BK126 -> 0 | P126: =P127+P151 -> 0 | R126: =R127+R151 -> 0 | T126: =T127+T151 -> 405.624 | AR126: 1 | AT126: D | AU126: 0 | AY126: ROZPOCET | BK126: =BK127+BK151 -> 0
D127: D | E127: 1 | F127: Zemné práce | J127: =BK127 -> 0 | P127: =SUM(P128:P150) -> 0 | R127: =SUM(R128:R150) -> 0 | T127: =SUM(T128:T150) -> 0 | AR127: 1 | AT127: D | AU127: 1 | AY127: ROZPOCET | BK127: =SUM(BK128:BK150) -> 0
C128: 1 | D128: K | E128: 120001101.S | F128: Príplatok k cenám výkopov za sťaženie výkopu v blízkosti podzemného vedenia / budovy garaží | G128: m3 | H128: 126.143 | J128: =ROUND(I128*H128,2) -> 0 | N128: znížená | P128: =O128*H128 -> 0 | Q128: 0 | R128: =Q128*H128 -> 0 | S128: 0 | T128: =S128*H128 -> 0 | AR128: 4 | AT128: K | AU128: 2 | AY128: ROZPOCET | BE128: =IF(N128="základná",J128,0) -> 0 | BF128: =IF(N128="znížená",J128,0) -> 0 | BG128: =IF(N128="zákl. prenesená",J128,0) -> 0 | BH128: =IF(N128="zníž. prenesená",J128,0) -> 0 | BI128: =IF(N128="nulová",J128,0) -> 0 | BJ128: 2 | BK128: =ROUND(I128*H128,2) -> 0 | BL128: 4 | BM128: -443817956
D129: VV | F129: odkopzemina*0,3 | H129: 126.143 | AT129: VV | AU129: 2 | AV129: 2 | AW129: True | AX129: 0 | AY129: ROZPOCET
D130: VV | F130: Súčet | H130: 126.143 | AT130: VV | AU130: 2 | AV130: 4 | AW130: True | AX130: 1 | AY130: ROZPOCET
C131: 2 | D131: K | E131: 122302202.S | F131: Odkopávka a prekopávka nezapazená pre cesty, v hornine 4 nad 100 do 1000 m3 | G131: m3 | H131: 420.475 | J131: =ROUND(I131*H131,2) -> 0 | N131: znížená | P131: =O131*H131 -> 0 | Q131: 0 | R131: =Q131*H131 -> 0 | S131: 0 | T131: =S131*H131 -> 0 | AR131: 4 | AT131: K | AU131: 2 | AY131: ROZPOCET | BE131: =IF(N131="základná",J131,0) -> 0 | BF131: =IF(N131="znížená",J131,0) -> 0 | BG131: =IF(N131="zákl. prenesená",J131,0) -> 0 | BH131: =IF(N131="zníž. prenesená",J131,0) -> 0 | BI131: =IF(N131="nulová",J131,0) -> 0 | BJ131: 2 | BK131: =ROUND(I131*H131,2) -> 0 | BL131: 4 | BM131: 860660771
D132: VV | F132: " odkop priu jestv. múre po odstránení komunikácie SO01 Buracie práce | AT132: VV | AU132: 2 | AV132: 1 | AW132: True | AX132: 0 | AY132: ROZPOCET
D133: VV | F133: (4+1,5)/2*2,2*69,5 | H133: 420.475 | AT133: VV | AU133: 2 | AV133: 2 | AW133: True | AX133: 0 | AY133: ROZPOCET
D134: VV | E134: odkopzemina | F134: Súčet | H134: 420.475 | AT134: VV | AU134: 2 | AV134: 4 | AW134: True | AX134: 1 | AY134: ROZPOCET
C135: 3 | D135: K | E135: 122302209.S | F135: Odkopávky a prekopávky nezapažené pre cesty. Príplatok za lepivosť horniny 4 | G135: m3 | H135: 126.143 | J135: =ROUND(I135*H135,2) -> 0 | N135: znížená | P135: =O135*H135 -> 0 | Q135: 0 | R135: =Q135*H135 -> 0 | S135: 0 | T135: =S135*H135 -> 0 | AR135: 4 | AT135: K | AU135: 2 | AY135: ROZPOCET | BE135: =IF(N135="základná",J135,0) -> 0 | BF135: =IF(N135="znížená",J135,0) -> 0 | BG135: =IF(N135="zákl. prenesená",J135,0) -> 0 | BH135: =IF(N135="zníž. prenesená",J135,0) -> 0 | BI135: =IF(N135="nulová",J135,0) -> 0 | BJ135: 2 | BK135: =ROUND(I135*H135,2) -> 0 | BL135: 4 | BM135: 1491037510
D136: VV | F136: odkopzemina*0,3 | H136: 126.143 | AT136: VV | AU136: 2 | AV136: 2 | AW136: True | AX136: 0 | AY136: ROZPOCET
D137: VV | F137: Súčet | H137: 126.143 | AT137: VV | AU137: 2 | AV137: 4 | AW137: True | AX137: 1 | AY137: ROZPOCET
C138: 4 | D138: K | E138: 167101102.S | F138: Nakladanie neuľahnutého výkopku z hornín tr.1-4 nad 100 do 1000 m3 | G138: m3 | H138: 390.475 | J138: =ROUND(I138*H138,2) -> 0 | N138: znížená | P138: =O138*H138 -> 0 | Q138: 0 | R138: =Q138*H138 -> 0 | S138: 0 | T138: =S138*H138 -> 0 | AR138: 4 | AT138: K | AU138: 2 | AY138: ROZPOCET | BE138: =IF(N138="základná",J138,0) -> 0 | BF138: =IF(N138="znížená",J138,0) -> 0 | BG138: =IF(N138="zákl. prenesená",J138,0) -> 0 | BH138: =IF(N138="zníž. prenesená",J138,0) -> 0 | BI138: =IF(N138="nulová",J138,0) -> 0 | BJ138: 2 | BK138: =ROUND(I138*H138,2) -> 0 | BL138: 4 | BM138: -1412895893
D139: VV | F139: prebzemina | H139: 390.475 | AT139: VV | AU139: 2 | AV139: 2 | AW139: True | AX139: 0 | AY139: ROZPOCET
D140: VV | F140: Súčet | H140: 390.475 | AT140: VV | AU140: 2 | AV140: 4 | AW140: True | AX140: 1 | AY140: ROZPOCET
C141: 5 | D141: K | E141: 162501122.S | F141: Vodorovné premiestnenie výkopku po spevnenej ceste z horniny tr.1-4, nad 100 do 1000 m3 na vzdialenosť do 3000 m | G141: m3 | H141: 390.475 | J141: =ROUND(I141*H141,2) -> 0 | N141: znížená | P141: =O141*H141 -> 0 | Q141: 0 | R141: =Q141*H141 -> 0 | S141: 0 | T141: =S141*H141 -> 0 | AR141: 4 | AT141: K | AU141: 2 | AY141: ROZPOCET | BE141: =IF(N141="základná",J141,0) -> 0 | BF141: =IF(N141="znížená",J141,0) -> 0 | BG141: =IF(N141="zákl. prenesená",J141,0) -> 0 | BH141: =IF(N141="zníž. prenesená",J141,0) -> 0 | BI141: =IF(N141="nulová",J141,0) -> 0 | BJ141: 2 | BK141: =ROUND(I141*H141,2) -> 0 | BL141: 4 | BM141: 1788899796
D142: VV | F142: odkopzemina | H142: 420.475 | AT142: VV | AU142: 2 | AV142: 2 | AW142: True | AX142: 0 | AY142: ROZPOCET
D143: VV | F143: -30 " zostava na mieste stavby , spätný zásyp zeminou vid rezy | H143: -30 | AT143: VV | AU143: 2 | AV143: 2 | AW143: True | AX143: 0 | AY143: ROZPOCET
D144: VV | E144: prebzemina | F144: Súčet | H144: 390.475 | AT144: VV | AU144: 2 | AV144: 4 | AW144: True | AX144: 1 | AY144: ROZPOCET
C145: 6 | D145: K | E145: 162501123.S | F145: Vodorovné premiestnenie výkopku po spevnenej ceste z horniny tr.1-4, nad 100 do 1000 m3, príplatok k cene za každých ďalšich a začatých 1000 m | G145: m3 | H145: 1171.425 | J145: =ROUND(I145*H145,2) -> 0 | N145: znížená | P145: =O145*H145 -> 0 | Q145: 0 | R145: =Q145*H145 -> 0 | S145: 0 | T145: =S145*H145 -> 0 | AR145: 4 | AT145: K | AU145: 2 | AY145: ROZPOCET | BE145: =IF(N145="základná",J145,0) -> 0 | BF145: =IF(N145="znížená",J145,0) -> 0 | BG145: =IF(N145="zákl. prenesená",J145,0) -> 0 | BH145: =IF(N145="zníž. prenesená",J145,0) -> 0 | BI145: =IF(N145="nulová",J145,0) -> 0 | BJ145: 2 | BK145: =ROUND(I145*H145,2) -> 0 | BL145: 4 | BM145: 683238429
D146: VV | F146: prebzemina*3 | H146: 1171.425 | AT146: VV | AU146: 2 | AV146: 2 | AW146: True | AX146: 0 | AY146: ROZPOCET
D147: VV | F147: Súčet | H147: 1171.425 | AT147: VV | AU147: 2 | AV147: 4 | AW147: True | AX147: 1 | AY147: ROZPOCET
C148: 7 | D148: K | E148: 979089012.N | F148: Poplatok za skladovanie - (17 01 07) ostatné - zemina | G148: t | H148: 702.855 | J148: =ROUND(I148*H148,2) -> 0 | N148: znížená | P148: =O148*H148 -> 0 | Q148: 0 | R148: =Q148*H148 -> 0 | S148: 0 | T148: =S148*H148 -> 0 | AR148: 4 | AT148: K | AU148: 2 | AY148: ROZPOCET | BE148: =IF(N148="základná",J148,0) -> 0 | BF148: =IF(N148="znížená",J148,0) -> 0 | BG148: =IF(N148="zákl. prenesená",J148,0) -> 0 | BH148: =IF(N148="zníž. prenesená",J148,0) -> 0 | BI148: =IF(N148="nulová",J148,0) -> 0 | BJ148: 2 | BK148: =ROUND(I148*H148,2) -> 0 | BL148: 4 | BM148: 380945862
D149: VV | F149: prebzemina*1,8 | H149: 702.855 | AT149: VV | AU149: 2 | AV149: 2 | AW149: True | AX149: 0 | AY149: ROZPOCET
D150: VV | F150: Súčet | H150: 702.855 | AT150: VV | AU150: 2 | AV150: 4 | AW150: True | AX150: 1 | AY150: ROZPOCET
D151: D | E151: 9 | F151: Ostatné konštrukcie a práce-búranie | J151: =BK151 -> 0 | P151: =SUM(P152:P168) -> 0 | R151: =SUM(R152:R168) -> 0 | T151: =SUM(T152:T168) -> 405.624 | AR151: 1 | AT151: D | AU151: 1 | AY151: ROZPOCET | BK151: =SUM(BK152:BK168) -> 0
C152: 8 | D152: K | E152: 962052211.S | F152: Búranie muriva železobetonového nadzákladného, -2,40000t /oporných múrov | G152: m3 | H152: 169.01 | J152: =ROUND(I152*H152,2) -> 0 | N152: znížená | P152: =O152*H152 -> 0 | Q152: 0 | R152: =Q152*H152 -> 0 | S152: 2.4 | T152: =S152*H152 -> 405.624 | AR152: 4 | AT152: K | AU152: 2 | AY152: ROZPOCET | BE152: =IF(N152="základná",J152,0) -> 0 | BF152: =IF(N152="znížená",J152,0) -> 0 | BG152: =IF(N152="zákl. prenesená",J152,0) -> 0 | BH152: =IF(N152="zníž. prenesená",J152,0) -> 0 | BI152: =IF(N152="nulová",J152,0) -> 0 | BJ152: 2 | BK152: =ROUND(I152*H152,2) -> 0 | BL152: 4 | BM152: 647411491
D153: VV | F153: " buranie oporného mura | AT153: VV | AU153: 2 | AV153: 1 | AW153: True | AX153: 0 | AY153: ROZPOCET
D154: VV | F154: 169,01 | H154: 169.01 | AT154: VV | AU154: 2 | AV154: 2 | AW154: True | AX154: 0 | AY154: ROZPOCET
D155: VV | F155: Súčet v.č.BK-05 Pôvodný oporný múr | H155: 169.01 | AT155: VV | AU155: 2 | AV155: 4 | AW155: True | AX155: 1 | AY155: ROZPOCET
C156: 9 | D156: K | E156: 979087212.S | F156: Nakladanie na dopravné prostriedky pre vodorovnú dopravu sutiny | G156: t | H156: 405.624 | J156: =ROUND(I156*H156,2) -> 0 | N156: znížená | P156: =O156*H156 -> 0 | Q156: 0 | R156: =Q156*H156 -> 0 | S156: 0 | T156: =S156*H156 -> 0 | AR156: 4 | AT156: K | AU156: 2 | AY156: ROZPOCET | BE156: =IF(N156="základná",J156,0) -> 0 | BF156: =IF(N156="znížená",J156,0) -> 0 | BG156: =IF(N156="zákl. prenesená",J156,0) -> 0 | BH156: =IF(N156="zníž. prenesená",J156,0) -> 0 | BI156: =IF(N156="nulová",J156,0) -> 0 | BJ156: 2 | BK156: =ROUND(I156*H156,2) -> 0 | BL156: 4 | BM156: -469379582
D157: VV | F157: " buranie oporného mura 1m3/2,4t suť | AT157: VV | AU157: 2 | AV157: 1 | AW157: True | AX157: 0 | AY157: ROZPOCET
D158: VV | F158: 169,01*2,4 | H158: 405.624 | AT158: VV | AU158: 2 | AV158: 2 | AW158: True | AX158: 0 | AY158: ROZPOCET
D159: VV | E159: betonsuť | F159: Súčet v.č.BK-05 Pôvodný oporný múr | H159: 405.624 | AT159: VV | AU159: 2 | AV159: 4 | AW159: True | AX159: 1 | AY159: ROZPOCET
C160: 10 | D160: K | E160: 979081111.S | F160: Odvoz sutiny a vybúraných hmôt na skládku do 1 km | G160: t | H160: 405.624 | J160: =ROUND(I160*H160,2) -> 0 | N160: znížená | P160: =O160*H160 -> 0 | Q160: 0 | R160: =Q160*H160 -> 0 | S160: 0 | T160: =S160*H160 -> 0 | AR160: 4 | AT160: K | AU160: 2 | AY160: ROZPOCET | BE160: =IF(N160="základná",J160,0) -> 0 | BF160: =IF(N160="znížená",J160,0) -> 0 | BG160: =IF(N160="zákl. prenesená",J160,0) -> 0 | BH160: =IF(N160="zníž. prenesená",J160,0) -> 0 | BI160: =IF(N160="nulová",J160,0) -> 0 | BJ160: 2 | BK160: =ROUND(I160*H160,2) -> 0 | BL160: 4 | BM160: 1207252390
D161: VV | F161: betonsuť | H161: 405.624 | AT161: VV | AU161: 2 | AV161: 2 | AW161: True | AX161: 0 | AY161: ROZPOCET
D162: VV | F162: Súčet | H162: 405.624 | AT162: VV | AU162: 2 | AV162: 4 | AW162: True | AX162: 1 | AY162: ROZPOCET
C163: 11 | D163: K | E163: 979082219.S | F163: Príplatok k cene za každý ďalší aj začatý 1 km nad 1 km pre vodorovnú dopravu sutiny (6x) | G163: t | H163: 405.624 | J163: =ROUND(I163*H163,2) -> 0 | N163: znížená | P163: =O163*H163 -> 0 | Q163: 0 | R163: =Q163*H163 -> 0 | S163: 0 | T163: =S163*H163 -> 0 | AR163: 4 | AT163: K | AU163: 2 | AY163: ROZPOCET | BE163: =IF(N163="základná",J163,0) -> 0 | BF163: =IF(N163="znížená",J163,0) -> 0 | BG163: =IF(N163="zákl. prenesená",J163,0) -> 0 | BH163: =IF(N163="zníž. prenesená",J163,0) -> 0 | BI163: =IF(N163="nulová",J163,0) -> 0 | BJ163: 2 | BK163: =ROUND(I163*H163,2) -> 0 | BL163: 4 | BM163: -387564055
...

Sheet SO02.2 - SO02.2 Oporný  m...
L2: >> skryté stĺpce << | AT2: {c609cd31-ac21-415c-a71e-db43913f52f0} | AZ2: zásypštrkdrva | BA2: zásyp štrkodrva | BB2: m3 | BC2: 420,475 | BD2: 2
AT3: 0
D4: KRYCÍ LIST ROZPOČTU | M4: v --- nižšie sa nachádzajú doplnkové a pomocné údaje k zostavám --- v | AT4: False
D6: Stavba:
E7: ='Rekapitulácia stavby'!K6 -> OPORNÝ MÚR na ul.Stračia v Nitre
D8: Objekt:
E9: SO02 - SO02 OPORNÝ MÚR
D10: Časť:
E11: SO02.2 - SO02.2 Oporný múr nové konštrukcie
D13: JKSO: | I13: KS:
D14: Miesto: | F14: Stračia ulica | I14: Dátum: | J14: ='Rekapitulácia stavby'!AN8
D16: Objednávateľ: | I16: IČO:
E17: Mesto Nitra Štefánikova tr.80/60, 95006 Nitra | I17: IČ DPH:
D19: Zhotoviteľ: | I19: IČO: | J19: ='Rekapitulácia stavby'!AN13 -> Vyplň údaj
E20: ='Rekapitulácia stavby'!E14 -> Vyplň údaj | I20: IČ DPH: | J20: ='Rekapitulácia stavby'!AN14 -> Vyplň údaj
D22: Projektant: | I22: IČO:
E23: IPROS s.r.o.Ing.Drobena | I23: IČ DPH:
D25: Spracovateľ: | I25: IČO:
E26: Katarína Šinská | I26: IČ DPH:
D28: Poznámka:
D32: Cena bez DPH | J32: =ROUND(J131, 2) -> 0
F34: Základ dane | I34: Sadzba dane | J34: Výška dane
D35: DPH | E35: základná | F35: =ROUND((SUM(BE131:BE282)), 2) -> 0 | I35: 0.2 | J35: =ROUND(((SUM(BE131:BE282))*I35), 2) -> 0
E36: znížená | F36: =ROUND((SUM(BF131:BF282)), 2) -> 0 | I36: 0.2 | J36: =ROUND(((SUM(BF131:BF282))*I36), 2) -> 0
E37: zákl. prenesená | F37: =ROUND((SUM(BG131:BG282)), 2) -> 0 | I37: 0.2 | J37: =0 -> 0
E38: zníž. prenesená | F38: =ROUND((SUM(BH131:BH282)), 2) -> 0 | I38: 0.2 | J38: =0 -> 0
E39: nulová | F39: =ROUND((SUM(BI131:BI282)), 2) -> 0 | I39: 0 | J39: =0 -> 0
D41: Cena s DPH | G41: v | H41: EUR | J41: =SUM(J32:J39) -> 0
D50: Projektant | G50: Spracovateľ
D61: Dátum a podpis: | F61: Pečiatka | G61: Dátum a podpis: | J61: Pečiatka
D65: Objednávateľ | G65: Zhotoviteľ
D76: Dátum a podpis: | F76: Pečiatka | G76: Dátum a podpis: | J76: Pečiatka
C82: REKAPITULÁCIA ROZPOČTU
C84: Stavba:
E85: =E7 -> OPORNÝ MÚR na ul.Stračia v Nitre
C86: Objekt:
E87: SO02 - SO02 OPORNÝ MÚR
C88: Časť:
E89: =E11 -> SO02.2 - SO02.2 Oporný múr nové konštrukcie
C91: Miesto: | F91: =F14 -> Stračia ulica | I91: Dátum: | J91: =IF(J14="","",J14)
C93: Objednávateľ: | F93: =E17 -> Mesto Nitra Štefánikova tr.80/60, 95006 Nitra | I93: Projektant: | J93: =E23 -> IPROS s.r.o.Ing.Drobena
C94: Zhotoviteľ: | F94: =IF(E20="","",E20) -> Vyplň údaj | I94: Spracovateľ: | J94: =E26 -> Katarína Šinská
C96: Kód dielu - Popis | J96: Cena celkom [EUR]
C98: Náklady z rozpočtu | J98: =J131 -> 0 | AU98: -1
D99: HSV - HSV | J99: =J132 -> 0
D100: 0003 - Geodetické práce | J100: =J133 -> 0
D101: 1 - Zemné práce | J101: =J137 -> 0
D102: 2 - Zakladanie | J102: =J153 -> 0
D103: 89A - Rúrové vedenie-stav.časť | J103: =J189 -> 0
D104: 3 - Zvislé a kompletné konštrukcie | J104: =J205 -> 0
D105: 9 - Ostatné konštrukcie a práce-búranie | J105: =J216 -> 0
D106: 99 - Presun hmôt HSV | J106: =J234 -> 0
D107: PSV - Práce a dodávky PSV | J107: =J236 -> 0
D108: 711 - Izolácie proti vode a vlhkosti | J108: =J237 -> 0
D109: 767 - Konštrukcie doplnkové kovové | J109: =J245 -> 0
C116: ROZPOČET
C118: Stavba:
E119: =E7 -> OPORNÝ MÚR na ul.Stračia v Nitre
C120: Objekt:
E121: SO02 - SO02 OPORNÝ MÚR
C122: Časť:
E123: =E11 -> SO02.2 - SO02.2 Oporný múr nové konštrukcie
C125: Miesto: | F125: =F14 -> Stračia ulica | I125: Dátum: | J125: =IF(J14="","",J14)
C127: Objednávateľ: | F127: =E17 -> Mesto Nitra Štefánikova tr.80/60, 95006 Nitra | I127: Projektant: | J127: =E23 -> IPROS s.r.o.Ing.Drobena
C128: Zhotoviteľ: | F128: =IF(E20="","",E20) -> Vyplň údaj | I128: Spracovateľ: | J128: =E26 -> Katarína Šinská
C130: PČ | D130: Typ | E130: Kód | F130: Popis | G130: MJ | H130: Množstvo | I130: J.cena [EUR] | J130: Cena celkom [EUR] | K130: Cenová sústava | N130: DPH | O130: J. Nh [h] | P130: Nh celkom [h] | Q130: J. hmotnosť [t] | R130: Hmotnosť celkom [t] | S130: J. suť [t] | T130: Suť Celkom [t]
C131: Náklady z rozpočtu | J131: =BK131 -> 0 | P131: =P132+P236 -> 0 | R131: =R132+R236 -> 1331.9256 | T131: =T132+T236 -> 0 | AT131: D | AU131: -1 | BK131: =BK132+BK236 -> 0
D132: D | E132: HSV | F132: HSV | J132: =BK132 -> 0 | P132: =P133+P137+P153+P189+P205+P216+P234 -> 0 | R132: =R133+R137+R153+R189+R205+R216+R234 -> 1328.2987 | T132: =T133+T137+T153+T189+T205+T216+T234 -> 0 | AR132: 1 | AT132: D | AU132: 0 | AY132: ROZPOCET | BK132: =BK133+BK137+BK153+BK189+BK205+BK216+BK234 -> 0
D133: D | E133: 0003 | F133: Geodetické práce | J133: =BK133 -> 0 | P133: =SUM(P134:P136) -> 0 | R133: =SUM(R134:R136) -> 0 | T133: =SUM(T134:T136) -> 0 | AR133: 4 | AT133: D | AU133: 1 | AY133: ROZPOCET | BK133: =SUM(BK134:BK136) -> 0
C134: 1 | D134: K | E134: 000300031 | F134: Geodetické práce - vykonávané po výstavbe zameranie skutočného vyhotovenia stavby | G134: eur | H134: 1 | J134: =ROUND(I134*H134,2) -> 0 | N134: znížená | P134: =O134*H134 -> 0 | Q134: 0 | R134: =Q134*H134 -> 0 | S134: 0 | T134: =S134*H134 -> 0 | AR134: 4 | AT134: K | AU134: 2 | AY134: ROZPOCET | BE134: =IF(N134="základná",J134,0) -> 0 | BF134: =IF(N134="znížená",J134,0) -> 0 | BG134: =IF(N134="zákl. prenesená",J134,0) -> 0 | BH134: =IF(N134="zníž. prenesená",J134,0) -> 0 | BI134: =IF(N134="nulová",J134,0) -> 0 | BJ134: 2 | BK134: =ROUND(I134*H134,2) -> 0 | BL134: 4 | BM134: -2147184110
D135: VV | F135: 1 | H135: 1 | AT135: VV | AU135: 2 | AV135: 2 | AW135: True | AX135: 0 | AY135: ROZPOCET
D136: VV | F136: Súčet | H136: 1 | AT136: VV | AU136: 2 | AV136: 4 | AW136: True | AX136: 1 | AY136: ROZPOCET
D137: D | E137: 1 | F137: Zemné práce | J137: =BK137 -> 0 | P137: =SUM(P138:P152) -> 0 | R137: =SUM(R138:R152) -> 971.297 | T137: =SUM(T138:T152) -> 0 | AR137: 1 | AT137: D | AU137: 1 | AY137: ROZPOCET | BK137: =SUM(BK138:BK152) -> 0
C138: 2 | D138: K | E138: 174101102.S | F138: Zásyp sypaninou v uzavretých priestoroch s urovnaním povrchu zásypu s hutnením ID =0,85 po vrstvách v.č.BK-02 | G138: m3 | H138: 420.475 | J138: =ROUND(I138*H138,2) -> 0 | N138: znížená | P138: =O138*H138 -> 0 | Q138: 0 | R138: =Q138*H138 -> 0 | S138: 0 | T138: =S138*H138 -> 0 | AR138: 4 | AT138: K | AU138: 2 | AY138: ROZPOCET | BE138: =IF(N138="základná",J138,0) -> 0 | BF138: =IF(N138="znížená",J138,0) -> 0 | BG138: =IF(N138="zákl. prenesená",J138,0) -> 0 | BH138: =IF(N138="zníž. prenesená",J138,0) -> 0 | BI138: =IF(N138="nulová",J138,0) -> 0 | BJ138: 2 | BK138: =ROUND(I138*H138,2) -> 0 | BL138: 4 | BM138: 1401519770
D139: VV | F139: " zásyp štrkodrvou 0-63mm , uhutnenie ID0,85 za oporným murom pod komunikáciou | AT139: VV | AU139: 2 | AV139: 1 | AW139: True | AX139: 0 | AY139: ROZPOCET
D140: VV | F140: (4+1,5)/2*2,2*69,5 | H140: 420.475 | AT140: VV | AU140: 2 | AV140: 2 | AW140: True | AX140: 0 | AY140: ROZPOCET
D141: VV | E141: zásypštrkdrva | F141: Súčet v.č. BK02, 03 rezy oporný múr | H141: 420.475 | AT141: VV | AU141: 2 | AV141: 4 | AW141: True | AX141: 1 | AY141: ROZPOCET
C142: 3 | D142: M | E142: 583410003500.S | F142: Kamenivo drvené hrubé frakcia 0-63 mm | G142: t | H142: 971.297 | J142: =ROUND(I142*H142,2) -> 0 | N142: znížená | P142: =O142*H142 -> 0 | Q142: 1 | R142: =Q142*H142 -> 971.297 | S142: 0 | T142: =S142*H142 -> 0 | AR142: 8 | AT142: M | AU142: 2 | AY142: ROZPOCET | BE142: =IF(N142="základná",J142,0) -> 0 | BF142: =IF(N142="znížená",J142,0) -> 0 | BG142: =IF(N142="zákl. prenesená",J142,0) -> 0 | BH142: =IF(N142="zníž. prenesená",J142,0) -> 0 | BI142: =IF(N142="nulová",J142,0) -> 0 | BJ142: 2 | BK142: =ROUND(I142*H142,2) -> 0 | BL142: 4 | BM142: -791474787
D143: VV | F143: zásypštrkdrva*2,1*1,1 " váha kameniva na1m3/ 2,1t, +10% hutnenie | H143: 971.297 | AT143: VV | AU143: 2 | AV143: 2 | AW143: True | AX143: 0 | AY143: ROZPOCET
D144: VV | F144: Súčet | H144: 971.297 | AT144: VV | AU144: 2 | AV144: 4 | AW144: True | AX144: 1 | AY144: ROZPOCET
C145: 4 | D145: K | E145: 171101104.S | F145: Uloženie sypaniny do násypu súdržnej horniny s mierou zhutnenia nad 100 do 102 % podľa Proctor-Standard | G145: m3 | H145: 26.063 | J145: =ROUND(I145*H145,2) -> 0 | N145: znížená | P145: =O145*H145 -> 0 | Q145: 0 | R145: =Q145*H145 -> 0 | S145: 0 | T145: =S145*H145 -> 0 | AR145: 4 | AT145: K | AU145: 2 | AY145: ROZPOCET | BE145: =IF(N145="základná",J145,0) -> 0 | BF145: =IF(N145="znížená",J145,0) -> 0 | BG145: =IF(N145="zákl. prenesená",J145,0) -> 0 | BH145: =IF(N145="zníž. prenesená",J145,0) -> 0 | BI145: =IF(N145="nulová",J145,0) -> 0 | BJ145: 2 | BK145: =ROUND(I145*H145,2) -> 0 | BL145: 4 | BM145: -1734980366
D146: VV | F146: " spätný zásyp zeminou so zhutnením vid rezy v.č.-BK-02 | AT146: VV | AU146: 2 | AV146: 1 | AW146: True | AX146: 0 | AY146: ROZPOCET
D147: VV | F147: (1+0,5)/2*0,5*69,5 | H147: 26.063 | AT147: VV | AU147: 2 | AV147: 2 | AW147: True | AX147: 0 | AY147: ROZPOCET
D148: VV | F148: Súčet | H148: 26.063 | AT148: VV | AU148: 2 | AV148: 4 | AW148: True | AX148: 1 | AY148: ROZPOCET
C149: 5 | D149: K | E149: 181101102.S | F149: Úprava pláne v zárezoch v hornine 1-4 so zhutnením | G149: m2 | H149: 15.9 | J149: =ROUND(I149*H149,2) -> 0 | N149: znížená | P149: =O149*H149 -> 0 | Q149: 0 | R149: =Q149*H149 -> 0 | S149: 0 | T149: =S149*H149 -> 0 | AR149: 4 | AT149: K | AU149: 2 | AY149: ROZPOCET | BE149: =IF(N149="základná",J149,0) -> 0 | BF149: =IF(N149="znížená",J149,0) -> 0 | BG149: =IF(N149="zákl. prenesená",J149,0) -> 0 | BH149: =IF(N149="zníž. prenesená",J149,0) -> 0 | BI149: =IF(N149="nulová",J149,0) -> 0 | BJ149: 2 | BK149: =ROUND(I149*H149,2) -> 0 | BL149: 4 | BM149: 1197742002
D150: VV | F150: " drenážna rura op | AT150: VV | AU150: 2 | AV150: 1 | AW150: True | AX150: 0 | AY150: ROZPOCET
D151: VV | F151: 0,2*(69,5+10) | H151: 15.9 | AT151: VV | AU151: 2 | AV151: 2 | AW151: True | AX151: 0 | AY151: ROZPOCET
D152: VV | F152: Súčet v.č.BK-01 | H152: 15.9 | AT152: VV | AU152: 2 | AV152: 4 | AW152: True | AX152: 1 | AY152: ROZPOCET
D153: D | E153: 2 | F153: Zakladanie | J153: =BK153 -> 0 | P153: =SUM(P154:P188) -> 0 | R153: =SUM(R154:R188) -> 80.563809 | T153: =SUM(T154:T188) -> 0 | AR153: 1 | AT153: D | AU153: 1 | AY153: ROZPOCET | BK153: =SUM(BK154:BK188) -> 0
C154: 6 | D154: K | E154: 211971110.S | F154: Zhotovenie opláštenia výplne z geotextílie, v ryhe alebo v záreze so stenami šikmými o skl. do 1:2,5 | G154: m2 | H154: 218.75 | J154: =ROUND(I154*H154,2) -> 0 | N154: znížená | P154: =O154*H154 -> 0 | Q154: 0.00018 | R154: =Q154*H154 -> 0.039375 | S154: 0 | T154: =S154*H154 -> 0 | AR154: 4 | AT154: K | AU154: 2 | AY154: ROZPOCET | BE154: =IF(N154="základná",J154,0) -> 0 | BF154: =IF(N154="znížená",J154,0) -> 0 | BG154: =IF(N154="zákl. prenesená",J154,0) -> 0 | BH154: =IF(N154="zníž. prenesená",J154,0) -> 0 | BI154: =IF(N154="nulová",J154,0) -> 0 | BJ154: 2 | BK154: =ROUND(I154*H154,2) -> 0 | BL154: 4 | BM154: -303695248
D155: VV | F155: " drenážna rura op | AT155: VV | AU155: 2 | AV155: 1 | AW155: True | AX155: 0 | AY155: ROZPOCET
D156: VV | F156: 80*0,5 " obalenie drenážnej rury | H156: 40 | AT156: VV | AU156: 2 | AV156: 2 | AW156: True | AX156: 0 | AY156: ROZPOCET
D157: VV | F157: Medzisúčet | H157: 40 | AT157: VV | AU157: 2 | AV157: 3 | AW157: True | AX157: 0 | AY157: ROZPOCET
D158: VV | F158: " separačná geotextília filtračná pri gabionov. muroch vid rez | AT158: VV | AU158: 2 | AV158: 1 | AW158: True | AX158: 0 | AY158: ROZPOCET
D159: VV | F159: 2,5*69,5 | H159: 173.75 | AT159: VV | AU159: 2 | AV159: 2 | AW159: True | AX159: 0 | AY159: ROZPOCET
D160: VV | F160: 1*2,5*2 | H160: 5 | AT160: VV | AU160: 2 | AV160: 2 | AW160: True | AX160: 0 | AY160: ROZPOCET
D161: VV | F161: Medzisúčet | H161: 178.75 | AT161: VV | AU161: 2 | AV161: 3 | AW161: True | AX161: 0 | AY161: ROZPOCET
D162: VV | F162: Súčet | H162: 218.75 | AT162: VV | AU162: 2 | AV162: 4 | AW162: True | AX162: 1 | AY162: ROZPOCET
C163: 7 | D163: M | E163: 693110004500 | F163: Geotextília polypropylénová 300 g/m2, netkaná separačno-filtračná geotextília | G163: m2 | H163: 229.688 | J163: =ROUND(I163*H163,2) -> 0 | N163: znížená | P163: =O163*H163 -> 0 | Q163: 0.0003 | R163: =Q163*H163 -> 0.0689064 | S163: 0 | T163: =S163*H163 -> 0 | AR163: 8 | AT163: M | AU163: 2 | AY163: ROZPOCET | BE163: =IF(N163="základná",J163,0) -> 0 | BF163: =IF(N163="znížená",J163,0) -> 0 | BG163: =IF(N163="zákl. prenesená",J163,0) -> 0 | BH163: =IF(N163="zníž. prenesená",J163,0) -> 0 | BI163: =IF(N163="nulová",J163,0) -> 0 | BJ163: 2 | BK163: =ROUND(I163*H163,2) -> 0 | BL163: 4 | BM163: -1233295717
D164: VV | F164: 218,75*1,05 'Prepočítané koeficientom množstva | H164: 229.688 | AT164: VV | AU164: 2 | AV164: 2 | AW164: False | AX164: 1 | AY164: ROZPOCET
...
