Workbook

Sheet Rekapitulácia stavby
A1: Export Komplet | BA1: 2.0 | BT1: False | BU1: False | BV1: {cc77e064-40bb-4b4e-964b-41fda299cdc0}
AR2: >> skryté stĺpce << | BS2: 0,01 | BT2: 20
BS3: 0,01 | BT3: 20
D4: REKAPITULÁCIA STAVBY | AS4: v --- nižšie sa nachádzajú doplnkové a pomocné údaje k zostavám --- v | BE4: Návod na vyplnenie | BS4: 0,001
D5: Kód: | K5: Súťažné podklady - Zadanie stavby s VV | BE5: Meniť je možné iba bunky so žltým podfarbením!_x000D_ _x000D_ 1) na prvom liste Rekapitulácie stavby vyplňte v zostave_x000D_ _x000D_ a) Rekapitulácia stavby_x000D_ - údaje o Zhotoviteľovi_x000D_ (prenesú sa do ostatných zostáv aj v iných listoch)_x000D_ _x000D_ b) Rekapitulácia objektov stavby_x000D_ - potrebné Ostatné náklady_x000D_ _x000D_ 2) na vybraných listoch vyplňte v zostave_x000D_ _x000D_ a) Krycí list_x000D_ - údaje o Zhotoviteľovi, pokiaľ sa líšia od údajov o Zhotoviteľovi na Rekapitulácii stavby_x000D_ (údaje se prenesú do ostatných zostav v danom liste)_x000D_ _x000D_ b) Rekapitulácia rozpočtu_x000D_ - potrebné Ostatné náklady_x000D_ _x000D_ c) Celkové náklady za stavbu_x000D_ - ceny na položkách_x000D_ - množstvo, pokiaľ má žlté podfarbenie_x000D_ - a v prípade potreby poznámku (tá je v skrytom stĺpci) | BS5: 0,01
D6: Stavba: | K6: OPORNÝ MÚR na ul.Stračia v Nitre | BS6: 0,01
D7: JKSO: | AK7: KS: | BS7: 0,01
D8: Miesto: | K8: Stračia ulica NITRA | AK8: Dátum: | BS8: 0,01
BS9: 0,01
D10: Objednávateľ: | AK10: IČO: | BS10: 0,01
E11: Mesto Nitra Štefánikova tr.80/60, 95006 Nitra | AK11: IČ DPH: | BS11: 0,01
BS12: 0,01
D13: Zhotoviteľ: | AK13: IČO: | AN13: Vyplň údaj | BS13: 0,01
E14: Vyplň údaj | AK14: IČ DPH: | AN14: Vyplň údaj | BS14: 0,01
BS15: False
D16: Projektant: | AK16: IČO: | BS16: False
E17: IPROS spol.s.r.o.Kasalova 22,94901 Nitra | AK17: IČ DPH: | BS17: True
BS18: 0,01
D19: Spracovateľ: | AK19: IČO: | BS19: 0,01
AK20: IČ DPH: | BS20: True
D22: Poznámka:
D26: Cena bez DPH | AK26: =ROUND(AG94,2) -> 0
L28: Sadzba dane | W28: Základ dane | AK28: Výška dane
D29: DPH | F29: základná | L29: 0.2 | W29: =ROUND(AZ94, 2) -> 0 | AK29: =ROUND(AV94, 2) -> 0
F30: znížená | L30: 0.2 | W30: =ROUND(BA94, 2) -> 0 | AK30: =ROUND(AW94, 2) -> 0
F31: zákl. prenesená | L31: 0.2 | W31: =ROUND(BB94, 2) -> 0 | AK31: 0
F32: zníž. prenesená | L32: 0.2 | W32: =ROUND(BC94, 2) -> 0 | AK32: 0
F33: nulová | L33: 0 | W33: =ROUND(BD94, 2) -> 0 | AK33: 0
D35: Cena s DPH | T35: v | X35: EUR | AK35: =SUM(AK26:AK33) -> 0
D49: Projektant | AH49: Spracovateľ
D60: Dátum a podpis: | V60: Pečiatka | AH60: Dátum a podpis: | AM60: Pečiatka
D64: Objednávateľ | AH64: Zhotoviteľ
D75: Dátum a podpis: | V75: Pečiatka | AH75: Dátum a podpis: | AM75: Pečiatka
C82: REKAPITULÁCIA OBJEKTOV STAVBY
C84: Kód: | L84: =K5 -> Súťažné podklady - Zadanie stavby s VV
C85: Stavba: | L85: =K6 -> OPORNÝ MÚR na ul.Stračia v Nitre
C87: Miesto: | L87: =IF(K8="","",K8) -> Stračia ulica NITRA | AI87: Dátum: | AM87: =IF(AN8= "","",AN8)
C89: Objednávateľ: | L89: =IF(E11= "","",E11) -> Mesto Nitra Štefánikova tr.80/60, 95006 Nitra | AI89: Projektant: | AM89: =IF(E17="","",E17) -> IPROS spol.s.r.o.Kasalova 22,94901 Nitra | AS89: Informatívne údaje z listov zákaziek
C90: Zhotoviteľ: | L90: =IF(E14= "Vyplň údaj","",E14) | AI90: Spracovateľ: | AM90: =IF(E20="","",E20)
C92: Kód | I92: Popis | AG92: Cena bez DPH [EUR] | AN92: Cena s DPH [EUR] | AQ92: Typ | AS92: z toho Ostat._x000D_ náklady [EUR] | AT92: DPH [EUR] | AU92: Normohodiny [h] | AV92: DPH základná [EUR] | AW92: DPH znížená [EUR] | AX92: DPH základná prenesená_x000D_ [EUR] | AY92: DPH znížená prenesená_x000D_ [EUR] | AZ92: Základňa_x000D_ DPH základná | BA92: Základňa_x000D_ DPH znížená | BB92: Základňa_x000D_ DPH zákl. prenesená | BC92: Základňa_x000D_ DPH zníž. prenesená | BD92: Základňa_x000D_ DPH nulová
...

Sheet SO01.1A - SO01.1A Búracie...
L2: >> skryté stĺpce << | AT2: {e3db2627-7149-4075-8adc-8d211f6cc44d} | AZ2: sutASF1 | BA2: sute asf.1 | BB2: m2 | BC2: 267 | BD2: 2
AT3: 0
D4: KRYCÍ LIST ROZPOČTU | M4: v --- nižšie sa nachádzajú doplnkové a pomocné údaje k zostavám --- v | AT4: False
D6: Stavba:
E7: ='Rekapitulácia stavby'!K6 -> OPORNÝ MÚR na ul.Stračia v Nitre
D8: Objekt:
E9: SO01 - SO01 MIESTNA KOMUNIKÁCIA
D10: Časť:
E11: SO01.1A - SO01.1A Búracie práce
D13: JKSO: | I13: KS:
D14: Miesto: | F14: Stračia ulica | I14: Dátum: | J14: ='Rekapitulácia stavby'!AN8
D16: Objednávateľ: | I16: IČO:
E17: Mesto Nitra Štefánikova tr.80/60, 95006 Nitra | I17: IČ DPH:
D19: Zhotoviteľ: | I19: IČO: | J19: ='Rekapitulácia stavby'!AN13 -> Vyplň údaj
E20: ='Rekapitulácia stavby'!E14 -> Vyplň údaj | I20: IČ DPH: | J20: ='Rekapitulácia stavby'!AN14 -> Vyplň údaj
D22: Projektant: | I22: IČO:
E23: Ing.Ján Výboch | I23: IČ DPH:
D25: Spracovateľ: | I25: IČO:
E26: Katarína Šinská | I26: IČ DPH:
D28: Poznámka:
D32: Cena bez DPH | J32: =ROUND(J127, 2) -> 0
F34: Základ dane | I34: Sadzba dane | J34: Výška dane
D35: DPH | E35: základná | F35: =ROUND((SUM(BE127:BE206)), 2) -> 0 | I35: 0.2 | J35: =ROUND(((SUM(BE127:BE206))*I35), 2) -> 0
E36: znížená | F36: =ROUND((SUM(BF127:BF206)), 2) -> 0 | I36: 0.2 | J36: =ROUND(((SUM(BF127:BF206))*I36), 2) -> 0
E37: zákl. prenesená | F37: =ROUND((SUM(BG127:BG206)), 2) -> 0 | I37: 0.2 | J37: =0 -> 0
E38: zníž. prenesená | F38: =ROUND((SUM(BH127:BH206)), 2) -> 0 | I38: 0.2 | J38: =0 -> 0
E39: nulová | F39: =ROUND((SUM(BI127:BI206)), 2) -> 0 | I39: 0 | J39: =0 -> 0
D41: Cena s DPH | G41: v | H41: EUR | J41: =SUM(J32:J39) -> 0
D50: Projektant | G50: Spracovateľ
D61: Dátum a podpis: | F61: Pečiatka | G61: Dátum a podpis: | J61: Pečiatka
D65: Objednávateľ | G65: Zhotoviteľ
D76: Dátum a podpis: | F76: Pečiatka | G76: Dátum a podpis: | J76: Pečiatka
C82: REKAPITULÁCIA ROZPOČTU
C84: Stavba:
E85: =E7 -> OPORNÝ MÚR na ul.Stračia v Nitre
C86: Objekt:
E87: SO01 - SO01 MIESTNA KOMUNIKÁCIA
C88: Časť:
E89: =E11 -> SO01.1A - SO01.1A Búracie práce
C91: Miesto: | F91: =F14 -> Stračia ulica | I91: Dátum: | J91: =IF(J14="","",J14)
...

Sheet SO01.1B - SO01.1B  Miestn...
L2: >> skryté stĺpce << | AT2: {2c5d2d97-eddd-4b6b-9d5f-63bde1a5fb96} | AZ2: dlažbasmetniky | BA2: dlažba smetniíky | BB2: m2 | BC2: 13 | BD2: 2
AT3: 0 | AZ3: komunikacia | BA3: komunikácia | BB3: m2 | BC3: 267 | BD3: 2
D4: KRYCÍ LIST ROZPOČTU | M4: v --- nižšie sa nachádzajú doplnkové a pomocné údaje k zostavám --- v | AT4: False
D6: Stavba:
E7: ='Rekapitulácia stavby'!K6 -> OPORNÝ MÚR na ul.Stračia v Nitre
D8: Objekt:
E9: SO01 - SO01 MIESTNA KOMUNIKÁCIA
D10: Časť:
E11: SO01.1B - SO01.1B Miestna komunikácia dl.69m - nové konštrukcie
D13: JKSO: | I13: KS:
D14: Miesto: | F14: Stračia ulica | I14: Dátum: | J14: ='Rekapitulácia stavby'!AN8
D16: Objednávateľ: | I16: IČO:
E17: Mesto Nitra Štefánikova tr.80/60, 95006 Nitra | I17: IČ DPH:
D19: Zhotoviteľ: | I19: IČO: | J19: ='Rekapitulácia stavby'!AN13 -> Vyplň údaj
E20: ='Rekapitulácia stavby'!E14 -> Vyplň údaj | I20: IČ DPH: | J20: ='Rekapitulácia stavby'!AN14 -> Vyplň údaj
D22: Projektant: | I22: IČO:
E23: Ing.Ján Výboch | I23: IČ DPH:
D25: Spracovateľ: | I25: IČO:
E26: Katarína Šinská | I26: IČ DPH:
D28: Poznámka:
D32: Cena bez DPH | J32: =ROUND(J132, 2) -> 0
F34: Základ dane | I34: Sadzba dane | J34: Výška dane
D35: DPH | E35: základná | F35: =ROUND((SUM(BE132:BE262)), 2) -> 0 | I35: 0.2 | J35: =ROUND(((SUM(BE132:BE262))*I35), 2) -> 0
E36: znížená | F36: =ROUND((SUM(BF132:BF262)), 2) -> 0 | I36: 0.2 | J36: =ROUND(((SUM(BF132:BF262))*I36), 2) -> 0
E37: zákl. prenesená | F37: =ROUND((SUM(BG132:BG262)), 2) -> 0 | I37: 0.2 | J37: =0 -> 0
E38: zníž. prenesená | F38: =ROUND((SUM(BH132:BH262)), 2) -> 0 | I38: 0.2 | J38: =0 -> 0
E39: nulová | F39: =ROUND((SUM(BI132:BI262)), 2) -> 0 | I39: 0 | J39: =0 -> 0
D41: Cena s DPH | G41: v | H41: EUR | J41: =SUM(J32:J39) -> 0
D50: Projektant | G50: Spracovateľ
D61: Dátum a podpis: | F61: Pečiatka | G61: Dátum a podpis: | J61: Pečiatka
D65: Objednávateľ | G65: Zhotoviteľ
D76: Dátum a podpis: | F76: Pečiatka | G76: Dátum a podpis: | J76: Pečiatka
C82: REKAPITULÁCIA ROZPOČTU
C84: Stavba:
E85: =E7 -> OPORNÝ MÚR na ul.Stračia v Nitre
C86: Objekt:
E87: SO01 - SO01 MIESTNA KOMUNIKÁCIA
C88: Časť:
E89: =E11 -> SO01.1B - SO01.1B Miestna komunikácia dl.69m - nové konštrukcie
C91: Miesto: | F91: =F14 -> Stračia ulica | I91: Dátum: | J91: =IF(J14="","",J14)
...

Sheet SO02.1 - SO02.1 Buracie p...
L2: >> skryté stĺpce << | AT2: {45905dd1-5108-451e-a476-c79e9f5d9626} | AZ2: betonsuť | BA2: beton suť | BB2: m3 | BC2: 405,624 | BD2: 2
AT3: 0 | AZ3: odkop | BA3: odkop | BB3: m3 | BC3: 33,507 | BD3: 2
D4: KRYCÍ LIST ROZPOČTU | M4: v --- nižšie sa nachádzajú doplnkové a pomocné údaje k zostavám --- v | AT4: False | AZ4: odkopzemina | BA4: výkop | BB4: m3 | BC4: 420,475 | BD4: 2
AZ5: prebzemina | BA5: preb. zemina odvoz | BB5: m3 | BC5: 390,475 | BD5: 2
D6: Stavba:
E7: ='Rekapitulácia stavby'!K6 -> OPORNÝ MÚR na ul.Stračia v Nitre
D8: Objekt:
E9: SO02 - SO02 OPORNÝ MÚR
D10: Časť:
E11: SO02.1 - SO02.1 Buracie práce oporný múr
D13: JKSO: | I13: KS:
D14: Miesto: | F14: Stračia ulica | I14: Dátum: | J14: ='Rekapitulácia stavby'!AN8
D16: Objednávateľ: | I16: IČO:
E17: Mesto Nitra Štefánikova tr.80/60, 95006 Nitra | I17: IČ DPH:
D19: Zhotoviteľ: | I19: IČO: | J19: ='Rekapitulácia stavby'!AN13 -> Vyplň údaj
E20: ='Rekapitulácia stavby'!E14 -> Vyplň údaj | I20: IČ DPH: | J20: ='Rekapitulácia stavby'!AN14 -> Vyplň údaj
D22: Projektant: | I22: IČO:
E23: IPROS s.r.o.Ing.Drobena | I23: IČ DPH:
D25: Spracovateľ: | I25: IČO:
E26: Katarína Šinská | I26: IČ DPH:
D28: Poznámka:
D32: Cena bez DPH | J32: =ROUND(J125, 2) -> 0
F34: Základ dane | I34: Sadzba dane | J34: Výška dane
D35: DPH | E35: základná | F35: =ROUND((SUM(BE125:BE184)), 2) -> 0 | I35: 0.2 | J35: =ROUND(((SUM(BE125:BE184))*I35), 2) -> 0
E36: znížená | F36: =ROUND((SUM(BF125:BF184)), 2) -> 0 | I36: 0.2 | J36: =ROUND(((SUM(BF125:BF184))*I36), 2) -> 0
E37: zákl. prenesená | F37: =ROUND((SUM(BG125:BG184)), 2) -> 0 | I37: 0.2 | J37: =0 -> 0
E38: zníž. prenesená | F38: =ROUND((SUM(BH125:BH184)), 2) -> 0 | I38: 0.2 | J38: =0 -> 0
E39: nulová | F39: =ROUND((SUM(BI125:BI184)), 2) -> 0 | I39: 0 | J39: =0 -> 0
D41: Cena s DPH | G41: v | H41: EUR | J41: =SUM(J32:J39) -> 0
D50: Projektant | G50: Spracovateľ
D61: Dátum a podpis: | F61: Pečiatka | G61: Dátum a podpis: | J61: Pečiatka
D65: Objednávateľ | G65: Zhotoviteľ
D76: Dátum a podpis: | F76: Pečiatka | G76: Dátum a podpis: | J76: Pečiatka
C82: REKAPITULÁCIA ROZPOČTU
C84: Stavba:
E85: =E7 -> OPORNÝ MÚR na ul.Stračia v Nitre
C86: Objekt:
E87: SO02 - SO02 OPORNÝ MÚR
C88: Časť:
E89: =E11 -> SO02.1 - SO02.1 Buracie práce oporný múr
...

Sheet SO02.2 - SO02.2 Oporný  m...
L2: >> skryté stĺpce << | AT2: {c609cd31-ac21-415c-a71e-db43913f52f0} | AZ2: zásypštrkdrva | BA2: zásyp štrkodrva | BB2: m3 | BC2: 420,475 | BD2: 2
AT3: 0
D4: KRYCÍ LIST ROZPOČTU | M4: v --- nižšie sa nachádzajú doplnkové a pomocné údaje k zostavám --- v | AT4: False
D6: Stavba:
E7: ='Rekapitulácia stavby'!K6 -> OPORNÝ MÚR na ul.Stračia v Nitre
D8: Objekt:
E9: SO02 - SO02 OPORNÝ MÚR
D10: Časť:
E11: SO02.2 - SO02.2 Oporný múr nové konštrukcie
D13: JKSO: | I13: KS:
D14: Miesto: | F14: Stračia ulica | I14: Dátum: | J14: ='Rekapitulácia stavby'!AN8
D16: Objednávateľ: | I16: IČO:
E17: Mesto Nitra Štefánikova tr.80/60, 95006 Nitra | I17: IČ DPH:
D19: Zhotoviteľ: | I19: IČO: | J19: ='Rekapitulácia stavby'!AN13 -> Vyplň údaj
E20: ='Rekapitulácia stavby'!E14 -> Vyplň údaj | I20: IČ DPH: | J20: ='Rekapitulácia stavby'!AN14 -> Vyplň údaj
D22: Projektant: | I22: IČO:
E23: IPROS s.r.o.Ing.Drobena | I23: IČ DPH:
D25: Spracovateľ: | I25: IČO:
E26: Katarína Šinská | I26: IČ DPH:
D28: Poznámka:
D32: Cena bez DPH | J32: =ROUND(J131, 2) -> 0
F34: Základ dane | I34: Sadzba dane | J34: Výška dane
D35: DPH | E35: základná | F35: =ROUND((SUM(BE131:BE282)), 2) -> 0 | I35: 0.2 | J35: =ROUND(((SUM(BE131:BE282))*I35), 2) -> 0
E36: znížená | F36: =ROUND((SUM(BF131:BF282)), 2) -> 0 | I36: 0.2 | J36: =ROUND(((SUM(BF131:BF282))*I36), 2) -> 0
E37: zákl. prenesená | F37: =ROUND((SUM(BG131:BG282)), 2) -> 0 | I37: 0.2 | J37: =0 -> 0
E38: zníž. prenesená | F38: =ROUND((SUM(BH131:BH282)), 2) -> 0 | I38: 0.2 | J38: =0 -> 0
E39: nulová | F39: =ROUND((SUM(BI131:BI282)), 2) -> 0 | I39: 0 | J39: =0 -> 0
D41: Cena s DPH | G41: v | H41: EUR | J41: =SUM(J32:J39) -> 0
D50: Projektant | G50: Spracovateľ
D61: Dátum a podpis: | F61: Pečiatka | G61: Dátum a podpis: | J61: Pečiatka
D65: Objednávateľ | G65: Zhotoviteľ
D76: Dátum a podpis: | F76: Pečiatka | G76: Dátum a podpis: | J76: Pečiatka
C82: REKAPITULÁCIA ROZPOČTU
C84: Stavba:
E85: =E7 -> OPORNÝ MÚR na ul.Stračia v Nitre
C86: Objekt:
E87: SO02 - SO02 OPORNÝ MÚR
C88: Časť:
E89: =E11 -> SO02.2 - SO02.2 Oporný múr nové konštrukcie
C91: Miesto: | F91: =F14 -> Stračia ulica | I91: Dátum: | J91: =IF(J14="","",J14)
...
