Workbook

Sheet Rekapitulácia stavby
A1: Export Komplet | BA1: 2.0 | BB1: ZAMOK | BT1: False | BU1: False | BV1: {da229d52-ddf9-4ab0-80e9-4f7358cf689f}
BS2: 0,001 | BT2: 20
BS3: 0,001 | BT3: 20
D4: REKAPITULÁCIA STAVBY | AS4: v --- nižšie sa nachádzajú doplnkové a pomocné údaje k zostavám --- v | BE4: Návod na vyplnenie | BS4: 0,001
D5: Kód: | K5: fnk1701 | BE5: Meniť je možné iba bunky so žltým podfarbením!_x000D_ _x000D_ 1) na prvom liste Rekapitulácie stavby vyplňte v zostave_x000D_ _x000D_ a) Rekapitulácia stavby_x000D_ - údaje o Zhotoviteľovi_x000D_ (prenesú sa do ostatných zostáv aj v iných listoch)_x000D_ _x000D_ b) Rekapitulácia objektov stavby_x000D_ - potrebné Ostatné náklady_x000D_ _x000D_ 2) na vybraných listoch vyplňte v zostave_x000D_ _x000D_ a) Krycí list_x000D_ - údaje o Zhotoviteľovi, pokiaľ sa líšia od údajov o Zhotoviteľovi na Rekapitulácii stavby_x000D_ (údaje se prenesú do ostatných zostav v danom liste)_x000D_ _x000D_ b) Rekapitulácia rozpočtu_x000D_ - potrebné Ostatné náklady_x000D_ _x000D_ c) Celkové náklady za stavbu_x000D_ - ceny na položkách_x000D_ - množstvo, pokiaľ má žlté podfarbenie_x000D_ - a v prípade potreby poznámku (tá je v skrytom stĺpci) | BS5: 0,001
D6: Stavba: | K6: Materská škola Na Hôrke 30, Nitra | BS6: 0,001
D7: JKSO: | AK7: KS: | BS7: 0,001
D8: Miesto: | K8: Na Hôrke 30, Nitra | AK8: Dátum: | AN8: 24. 2. 2017 | BS8: 0,001
BS9: 0,001
D10: Objednávateľ: | AK10: IČO: | BS10: 0,001
E11: Mesto NITRA, Štefánikova 60, 950 06 Nitra | AK11: IČ DPH: | BS11: 0,001
BS12: 0,001
D13: Zhotoviteľ: | AK13: IČO: | AN13: Vyplň údaj | BS13: 0,001
E14: Vyplň údaj | AK14: IČ DPH: | AN14: Vyplň údaj | BS14: 0,001
BS15: False
D16: Projektant: | AK16: IČO: | BS16: False
E17: Ing.arch.Igor Feník | AK17: IČ DPH: | BS17: True
BS18: 0,01
D19: Spracovateľ: | AK19: IČO: | BS19: 0,01
E20: Ing.Janečka | AK20: IČ DPH: | BS20: False
D22: Poznámka:
D26: Cena bez DPH | AK26: =ROUND(AG54,2) -> 0
L28: Sadzba dane | W28: Základ dane | AK28: Výška dane
D29: DPH | F29: základná | L29: 0.2 | W29: =ROUND(AZ54, 2) -> 0 | AK29: =ROUND(AV54, 2) -> 0
F30: znížená | L30: 0.2 | W30: =ROUND(BA54, 2) -> 0 | AK30: =ROUND(AW54, 2) -> 0
F31: zákl. prenesená | L31: 0.2 | W31: =ROUND(BB54, 2) -> 0 | AK31: 0
F32: zníž. prenesená | L32: 0.2 | W32: =ROUND(BC54, 2) -> 0 | AK32: 0
F33: nulová | L33: 0 | W33: =ROUND(BD54, 2) -> 0 | AK33: 0
D35: Cena s DPH | T35: v | X35: EUR | AK35: =SUM(AK26:AK33) -> 0
C42: REKAPITULÁCIA OBJEKTOV STAVBY
C44: Kód: | L44: =K5 -> fnk1701
C45: Stavba: | L45: =K6 -> Materská škola Na Hôrke 30, Nitra
C47: Miesto: | L47: =IF(K8="","",K8) -> Na Hôrke 30, Nitra | AI47: Dátum: | AM47: =IF(AN8= "","",AN8) -> 24. 2. 2017
C49: Objednávateľ: | L49: =IF(E11= "","",E11) -> Mesto NITRA, Štefánikova 60, 950 06 Nitra | AI49: Projektant: | AM49: =IF(E17="","",E17) -> Ing.arch.Igor Feník | AS49: Informatívne údaje z listov zákaziek
C50: Zhotoviteľ: | L50: =IF(E14= "Vyplň údaj","",E14) | AI50: Spracovateľ: | AM50: =IF(E20="","",E20) -> Ing.Janečka
C52: Kód | I52: Popis | AG52: Cena bez DPH [EUR] | AN52: Cena s DPH [EUR] | AQ52: Typ | AS52: z toho Ostat._x000D_ náklady [EUR] | AT52: DPH [EUR] | AU52: Normohodiny [h] | AV52: DPH základná [EUR] | AW52: DPH znížená [EUR] | AX52: DPH základná prenesená_x000D_ [EUR] | AY52: DPH znížená prenesená_x000D_ [EUR] | AZ52: Základňa_x000D_ DPH základná | BA52: Základňa_x000D_ DPH znížená | BB52: Základňa_x000D_ DPH zákl. prenesená | BC52: Základňa_x000D_ DPH zníž. prenesená | BD52: Základňa_x000D_ DPH nulová
C54: Náklady z rozpočtov | AG54: =ROUND(AG55+AG62+AG66,2) -> 0 | AN54: =SUM(AG54,AT54) -> 0 | AS54: =ROUND(AS55+AS62+AS66,2) -> 0 | AT54: =ROUND(SUM(AV54:AW54),2) -> 0 | AU54: =ROUND(AU55+AU62+AU66,5) -> 0 | AV54: =ROUND(AZ54*L29,2) -> 0 | AW54: =ROUND(BA54*L30,2) -> 0 | AX54: =ROUND(BB54*L29,2) -> 0 | AY54: =ROUND(BC54*L30,2) -> 0 | AZ54: =ROUND(AZ55+AZ62+AZ66,2) -> 0 | BA54: =ROUND(BA55+BA62+BA66,2) -> 0 | BB54: =ROUND(BB55+BB62+BB66,2) -> 0 | BC54: =ROUND(BC55+BC62+BC66,2) -> 0 | BD54: =ROUND(BD55+BD62+BD66,2) -> 0 | BS54: D | BT54: 0 | BU54: ###NOIMPORT### | BV54: IMPORT | BW54: {da229d52-ddf9-4ab0-80e9-4f7358cf689f} | BX54: {00000000-0000-0000-0000-000000000000}
D55: 100 | J55: SO 100 Vytvorenie 2 tried Materskej školy pre 24 + 21 detí | AG55: =ROUND(SUM(AG56:AG61),2) -> 0 | AN55: =SUM(AG55,AT55) -> 0 | AQ55: STA | AS55: =ROUND(SUM(AS56:AS61),2) -> 0 | AT55: =ROUND(SUM(AV55:AW55),2) -> 0 | AU55: =ROUND(SUM(AU56:AU61),5) -> 0 | AV55: =ROUND(AZ55*L29,2) -> 0 | AW55: =ROUND(BA55*L30,2) -> 0 | AX55: =ROUND(BB55*L29,2) -> 0 | AY55: =ROUND(BC55*L30,2) -> 0 | AZ55: =ROUND(SUM(AZ56:AZ61),2) -> 0 | BA55: =ROUND(SUM(BA56:BA61),2) -> 0 | BB55: =ROUND(SUM(BB56:BB61),2) -> 0 | BC55: =ROUND(SUM(BC56:BC61),2) -> 0 | BD55: =ROUND(SUM(BD56:BD61),2) -> 0 | BS55: D | BT55: 1 | BU55: ###NOIMPORT### | BV55: IMPORT | BW55: {4233089f-602d-4729-996e-611e2ca57cbb} | BX55: {da229d52-ddf9-4ab0-80e9-4f7358cf689f} | CM55: 0
A56: / | E56: 101 | K56: SP 101 Stavebné úpravy pre vytvorenie 2 tried a prislúchajúceho zázemia MŠ | AG56: ='101 - SP 101 Stavebné úpr...'!J34 -> 0 | AN56: =SUM(AG56,AT56) -> 0 | AQ56: Časť | AS56: 0 | AT56: =ROUND(SUM(AV56:AW56),2) -> 0 | AU56: ='101 - SP 101 Stavebné úpr...'!P116 -> 0 | AV56: ='101 - SP 101 Stavebné úpr...'!J37 -> 0 | AW56: ='101 - SP 101 Stavebné úpr...'!J38 -> 0 | AX56: ='101 - SP 101 Stavebné úpr...'!J39 -> 0 | AY56: ='101 - SP 101 Stavebné úpr...'!J40 -> 0 | AZ56: ='101 - SP 101 Stavebné úpr...'!F37 -> 0 | BA56: ='101 - SP 101 Stavebné úpr...'!F38 -> 0 | BB56: ='101 - SP 101 Stavebné úpr...'!F39 -> 0 | BC56: ='101 - SP 101 Stavebné úpr...'!F40 -> 0 | BD56: ='101 - SP 101 Stavebné úpr...'!F41 -> 0 | BT56: 2 | BV56: IMPORT | BW56: {753dc28e-feab-443a-85de-0183281add04} | BX56: {4233089f-602d-4729-996e-611e2ca57cbb}
A57: / | E57: 102.1 | K57: SP 102.1 Vykurovanie a vzduchotechnika | AG57: ='102.1 - SP 102.1 Vykurova...'!J34 -> 0 | AN57: =SUM(AG57,AT57) -> 0 | AQ57: Časť | AS57: 0 | AT57: =ROUND(SUM(AV57:AW57),2) -> 0 | AU57: ='102.1 - SP 102.1 Vykurova...'!P103 -> 0 | AV57: ='102.1 - SP 102.1 Vykurova...'!J37 -> 0 | AW57: ='102.1 - SP 102.1 Vykurova...'!J38 -> 0 | AX57: ='102.1 - SP 102.1 Vykurova...'!J39 -> 0 | AY57: ='102.1 - SP 102.1 Vykurova...'!J40 -> 0 | AZ57: ='102.1 - SP 102.1 Vykurova...'!F37 -> 0 | BA57: ='102.1 - SP 102.1 Vykurova...'!F38 -> 0 | BB57: ='102.1 - SP 102.1 Vykurova...'!F39 -> 0 | BC57: ='102.1 - SP 102.1 Vykurova...'!F40 -> 0 | BD57: ='102.1 - SP 102.1 Vykurova...'!F41 -> 0 | BT57: 2 | BV57: IMPORT | BW57: {f7d1844c-ea22-4498-b586-41cf267b8dc7} | BX57: {4233089f-602d-4729-996e-611e2ca57cbb}
A58: / | E58: 102.2 | K58: SP 102.2 Zdravotechnika | AG58: ='102.2 - SP 102.2 Zdravote...'!J34 -> 0 | AN58: =SUM(AG58,AT58) -> 0 | AQ58: Časť | AS58: 0 | AT58: =ROUND(SUM(AV58:AW58),2) -> 0 | AU58: ='102.2 - SP 102.2 Zdravote...'!P103 -> 0 | AV58: ='102.2 - SP 102.2 Zdravote...'!J37 -> 0 | AW58: ='102.2 - SP 102.2 Zdravote...'!J38 -> 0 | AX58: ='102.2 - SP 102.2 Zdravote...'!J39 -> 0 | AY58: ='102.2 - SP 102.2 Zdravote...'!J40 -> 0 | AZ58: ='102.2 - SP 102.2 Zdravote...'!F37 -> 0 | BA58: ='102.2 - SP 102.2 Zdravote...'!F38 -> 0 | BB58: ='102.2 - SP 102.2 Zdravote...'!F39 -> 0 | BC58: ='102.2 - SP 102.2 Zdravote...'!F40 -> 0 | BD58: ='102.2 - SP 102.2 Zdravote...'!F41 -> 0 | BT58: 2 | BV58: IMPORT | BW58: {f9ae54b0-b17f-43e1-af49-09cda32a8002} | BX58: {4233089f-602d-4729-996e-611e2ca57cbb}
A59: / | E59: 102.3 | K59: SP 102.3 Elektroinštalácia | AG59: ='102.3 - SP 102.3 Elektroi...'!J34 -> 0 | AN59: =SUM(AG59,AT59) -> 0 | AQ59: Časť | AS59: 0 | AT59: =ROUND(SUM(AV59:AW59),2) -> 0 | AU59: ='102.3 - SP 102.3 Elektroi...'!P100 -> 0 | AV59: ='102.3 - SP 102.3 Elektroi...'!J37 -> 0 | AW59: ='102.3 - SP 102.3 Elektroi...'!J38 -> 0 | AX59: ='102.3 - SP 102.3 Elektroi...'!J39 -> 0 | AY59: ='102.3 - SP 102.3 Elektroi...'!J40 -> 0 | AZ59: ='102.3 - SP 102.3 Elektroi...'!F37 -> 0 | BA59: ='102.3 - SP 102.3 Elektroi...'!F38 -> 0 | BB59: ='102.3 - SP 102.3 Elektroi...'!F39 -> 0 | BC59: ='102.3 - SP 102.3 Elektroi...'!F40 -> 0 | BD59: ='102.3 - SP 102.3 Elektroi...'!F41 -> 0 | BT59: 2 | BV59: IMPORT | BW59: {01bae37b-c463-49d4-89f8-8e63288f59c1} | BX59: {4233089f-602d-4729-996e-611e2ca57cbb}
A60: / | E60: 103 | K60: SP 103 Nové exteriérové schodisko | AG60: ='103 - SP 103 Nové exterié...'!J34 -> 0 | AN60: =SUM(AG60,AT60) -> 0 | AQ60: Časť | AS60: 0 | AT60: =ROUND(SUM(AV60:AW60),2) -> 0 | AU60: ='103 - SP 103 Nové exterié...'!P108 -> 0 | AV60: ='103 - SP 103 Nové exterié...'!J37 -> 0 | AW60: ='103 - SP 103 Nové exterié...'!J38 -> 0 | AX60: ='103 - SP 103 Nové exterié...'!J39 -> 0 | AY60: ='103 - SP 103 Nové exterié...'!J40 -> 0 | AZ60: ='103 - SP 103 Nové exterié...'!F37 -> 0 | BA60: ='103 - SP 103 Nové exterié...'!F38 -> 0 | BB60: ='103 - SP 103 Nové exterié...'!F39 -> 0 | BC60: ='103 - SP 103 Nové exterié...'!F40 -> 0 | BD60: ='103 - SP 103 Nové exterié...'!F41 -> 0 | BT60: 2 | BV60: IMPORT | BW60: {3431c795-65d2-42f8-b1aa-1bc6903047b3} | BX60: {4233089f-602d-4729-996e-611e2ca57cbb}
A61: / | E61: 104 | K61: SP 104 Stavebné úpravy spevných plôch po osadení exteriérového schodiska | AG61: ='104 - SP 104 Stavebné úpr...'!J34 -> 0 | AN61: =SUM(AG61,AT61) -> 0 | AQ61: Časť | AS61: 0 | AT61: =ROUND(SUM(AV61:AW61),2) -> 0 | AU61: ='104 - SP 104 Stavebné úpr...'!P102 -> 0 | AV61: ='104 - SP 104 Stavebné úpr...'!J37 -> 0 | AW61: ='104 - SP 104 Stavebné úpr...'!J38 -> 0 | AX61: ='104 - SP 104 Stavebné úpr...'!J39 -> 0 | AY61: ='104 - SP 104 Stavebné úpr...'!J40 -> 0 | AZ61: ='104 - SP 104 Stavebné úpr...'!F37 -> 0 | BA61: ='104 - SP 104 Stavebné úpr...'!F38 -> 0 | BB61: ='104 - SP 104 Stavebné úpr...'!F39 -> 0 | BC61: ='104 - SP 104 Stavebné úpr...'!F40 -> 0 | BD61: ='104 - SP 104 Stavebné úpr...'!F41 -> 0 | BT61: 2 | BV61: IMPORT | BW61: {53c48221-5a4a-4351-911c-a8bff9fd6288} | BX61: {4233089f-602d-4729-996e-611e2ca57cbb}
D62: 200 | J62: SO 200 Zabezpečenie bezbariérového prístupu pre deti MŠ | AG62: =ROUND(SUM(AG63:AG65),2) -> 0 | AN62: =SUM(AG62,AT62) -> 0 | AQ62: STA | AS62: =ROUND(SUM(AS63:AS65),2) -> 0 | AT62: =ROUND(SUM(AV62:AW62),2) -> 0 | AU62: =ROUND(SUM(AU63:AU65),5) -> 0 | AV62: =ROUND(AZ62*L29,2) -> 0 | AW62: =ROUND(BA62*L30,2) -> 0 | AX62: =ROUND(BB62*L29,2) -> 0 | AY62: =ROUND(BC62*L30,2) -> 0 | AZ62: =ROUND(SUM(AZ63:AZ65),2) -> 0 | BA62: =ROUND(SUM(BA63:BA65),2) -> 0 | BB62: =ROUND(SUM(BB63:BB65),2) -> 0 | BC62: =ROUND(SUM(BC63:BC65),2) -> 0 | BD62: =ROUND(SUM(BD63:BD65),2) -> 0 | BS62: D | BT62: 1 | BU62: ###NOIMPORT### | BV62: IMPORT | BW62: {aff71b5b-e3d6-40d7-9a14-c8e5f6edb1ac} | BX62: {da229d52-ddf9-4ab0-80e9-4f7358cf689f} | CM62: 0
A63: / | E63: 201 | K63: SP 201 Výmena výťahu | AG63: ='201 - SP 201 Výmena výťahu '!J34 -> 0 | AN63: =SUM(AG63,AT63) -> 0 | AQ63: Časť | AS63: 0 | AT63: =ROUND(SUM(AV63:AW63),2) -> 0 | AU63: ='201 - SP 201 Výmena výťahu '!P99 -> 0 | AV63: ='201 - SP 201 Výmena výťahu '!J37 -> 0 | AW63: ='201 - SP 201 Výmena výťahu '!J38 -> 0 | AX63: ='201 - SP 201 Výmena výťahu '!J39 -> 0 | AY63: ='201 - SP 201 Výmena výťahu '!J40 -> 0 | AZ63: ='201 - SP 201 Výmena výťahu '!F37 -> 0 | BA63: ='201 - SP 201 Výmena výťahu '!F38 -> 0 | BB63: ='201 - SP 201 Výmena výťahu '!F39 -> 0 | BC63: ='201 - SP 201 Výmena výťahu '!F40 -> 0 | BD63: ='201 - SP 201 Výmena výťahu '!F41 -> 0 | BT63: 2 | BV63: IMPORT | BW63: {a138ec70-1d3e-4910-80f4-dbbb1d9095b2} | BX63: {aff71b5b-e3d6-40d7-9a14-c8e5f6edb1ac}
A64: / | E64: 202 | K64: SP 202 Stavebné úpravy v bezbariérovom koridore | AG64: ='202 - SP 202 Stavebné úp...'!J34 -> 0 | AN64: =SUM(AG64,AT64) -> 0 | AQ64: Časť | AS64: 0 | AT64: =ROUND(SUM(AV64:AW64),2) -> 0 | AU64: ='202 - SP 202 Stavebné úp...'!P106 -> 0 | AV64: ='202 - SP 202 Stavebné úp...'!J37 -> 0 | AW64: ='202 - SP 202 Stavebné úp...'!J38 -> 0 | AX64: ='202 - SP 202 Stavebné úp...'!J39 -> 0 | AY64: ='202 - SP 202 Stavebné úp...'!J40 -> 0 | AZ64: ='202 - SP 202 Stavebné úp...'!F37 -> 0 | BA64: ='202 - SP 202 Stavebné úp...'!F38 -> 0 | BB64: ='202 - SP 202 Stavebné úp...'!F39 -> 0 | BC64: ='202 - SP 202 Stavebné úp...'!F40 -> 0 | BD64: ='202 - SP 202 Stavebné úp...'!F41 -> 0 | BT64: 2 | BV64: IMPORT | BW64: {e9b44569-1bc2-4d8b-a8e0-17d4f23fc3f9} | BX64: {aff71b5b-e3d6-40d7-9a14-c8e5f6edb1ac}
A65: / | E65: 203 | K65: SP 203 Výmena výplní ovorov | AG65: ='203 - SP 203 Výmena výpl...'!J34 -> 0 | AN65: =SUM(AG65,AT65) -> 0 | AQ65: Časť | AS65: 0 | AT65: =ROUND(SUM(AV65:AW65),2) -> 0 | AU65: ='203 - SP 203 Výmena výpl...'!P105 -> 0 | AV65: ='203 - SP 203 Výmena výpl...'!J37 -> 0 | AW65: ='203 - SP 203 Výmena výpl...'!J38 -> 0 | AX65: ='203 - SP 203 Výmena výpl...'!J39 -> 0 | AY65: ='203 - SP 203 Výmena výpl...'!J40 -> 0 | AZ65: ='203 - SP 203 Výmena výpl...'!F37 -> 0 | BA65: ='203 - SP 203 Výmena výpl...'!F38 -> 0 | BB65: ='203 - SP 203 Výmena výpl...'!F39 -> 0 | BC65: ='203 - SP 203 Výmena výpl...'!F40 -> 0 | BD65: ='203 - SP 203 Výmena výpl...'!F41 -> 0 | BT65: 2 | BV65: IMPORT | BW65: {32ec6472-fa6b-4d76-8dca-9b919f083e39} | BX65: {aff71b5b-e3d6-40d7-9a14-c8e5f6edb1ac}
D66: 300 | J66: SO 300 Budovanie prevencie v bezpečnosti detí v dopravnej prevádzke | AG66: =ROUND(SUM(AG67:AG68),2) -> 0 | AN66: =SUM(AG66,AT66) -> 0 | AQ66: STA | AS66: =ROUND(SUM(AS67:AS68),2) -> 0 | AT66: =ROUND(SUM(AV66:AW66),2) -> 0 | AU66: =ROUND(SUM(AU67:AU68),5) -> 0 | AV66: =ROUND(AZ66*L29,2) -> 0 | AW66: =ROUND(BA66*L30,2) -> 0 | AX66: =ROUND(BB66*L29,2) -> 0 | AY66: =ROUND(BC66*L30,2) -> 0 | AZ66: =ROUND(SUM(AZ67:AZ68),2) -> 0 | BA66: =ROUND(SUM(BA67:BA68),2) -> 0 | BB66: =ROUND(SUM(BB67:BB68),2) -> 0 | BC66: =ROUND(SUM(BC67:BC68),2) -> 0 | BD66: =ROUND(SUM(BD67:BD68),2) -> 0 | BS66: D | BT66: 1 | BU66: ###NOIMPORT### | BV66: IMPORT | BW66: {628cb2cf-2144-4025-942f-25f768ca6273} | BX66: {da229d52-ddf9-4ab0-80e9-4f7358cf689f} | CM66: 0
A67: / | E67: 301 | K67: SP 301 Vybúranie - odfrézovanie starých spevnených plôch | AG67: ='301 - SP 301 Vybúranie - ...'!J34 -> 0 | AN67: =SUM(AG67,AT67) -> 0 | AQ67: Časť | AS67: 0 | AT67: =ROUND(SUM(AV67:AW67),2) -> 0 | AU67: ='301 - SP 301 Vybúranie - ...'!P100 -> 0 | AV67: ='301 - SP 301 Vybúranie - ...'!J37 -> 0 | AW67: ='301 - SP 301 Vybúranie - ...'!J38 -> 0 | AX67: ='301 - SP 301 Vybúranie - ...'!J39 -> 0 | AY67: ='301 - SP 301 Vybúranie - ...'!J40 -> 0 | AZ67: ='301 - SP 301 Vybúranie - ...'!F37 -> 0 | BA67: ='301 - SP 301 Vybúranie - ...'!F38 -> 0 | BB67: ='301 - SP 301 Vybúranie - ...'!F39 -> 0 | BC67: ='301 - SP 301 Vybúranie - ...'!F40 -> 0 | BD67: ='301 - SP 301 Vybúranie - ...'!F41 -> 0 | BT67: 2 | BV67: IMPORT | BW67: {493dbdee-a041-4ed9-9535-3322ee6d56e8} | BX67: {628cb2cf-2144-4025-942f-25f768ca6273}
A68: / | E68: 302 | K68: SP 302 - Nové spevnené asfaltové plochy | AG68: ='302 - SP 302 - Nové spevn...'!J34 -> 0 | AN68: =SUM(AG68,AT68) -> 0 | AQ68: Časť | AS68: 0 | AT68: =ROUND(SUM(AV68:AW68),2) -> 0 | AU68: ='302 - SP 302 - Nové spevn...'!P101 -> 0 | AV68: ='302 - SP 302 - Nové spevn...'!J37 -> 0 | AW68: ='302 - SP 302 - Nové spevn...'!J38 -> 0 | AX68: ='302 - SP 302 - Nové spevn...'!J39 -> 0 | AY68: ='302 - SP 302 - Nové spevn...'!J40 -> 0 | AZ68: ='302 - SP 302 - Nové spevn...'!F37 -> 0 | BA68: ='302 - SP 302 - Nové spevn...'!F38 -> 0 | BB68: ='302 - SP 302 - Nové spevn...'!F39 -> 0 | BC68: ='302 - SP 302 - Nové spevn...'!F40 -> 0 | BD68: ='302 - SP 302 - Nové spevn...'!F41 -> 0 | BT68: 2 | BV68: IMPORT | BW68: {fe058d7a-0e01-455c-ad5b-873fba906450} | BX68: {628cb2cf-2144-4025-942f-25f768ca6273}

Sheet 101 - SP 101 Stavebné úpr...
AT2: {753dc28e-feab-443a-85de-0183281add04}
AT3: 0
D4: KRYCÍ LIST ROZPOČTU | M4: v --- nižšie sa nachádzajú doplnkové a pomocné údaje k zostavám --- v | AT4: False
D6: Stavba:
E7: ='Rekapitulácia stavby'!K6 -> Materská škola Na Hôrke 30, Nitra
D8: Objekt:
E9: 100 - SO 100 Vytvorenie 2 tried Materskej školy pre 24 + 21 detí
D10: Časť:
E11: 101 - SP 101 Stavebné úpravy pre vytvorenie 2 tried a prislúchajúceho zázemia MŠ
D13: JKSO: | I13: KS:
D14: Miesto: | F14: Na Hôrke 30, Nitra | I14: Dátum: | J14: ='Rekapitulácia stavby'!AN8 -> 24. 2. 2017
D16: Objednávateľ: | I16: IČO:
E17: Mesto NITRA, Štefánikova 60, 950 06 Nitra | I17: IČ DPH:
D19: Zhotoviteľ: | I19: IČO: | J19: ='Rekapitulácia stavby'!AN13 -> Vyplň údaj
E20: ='Rekapitulácia stavby'!E14 -> Vyplň údaj | I20: IČ DPH: | J20: ='Rekapitulácia stavby'!AN14 -> Vyplň údaj
D22: Projektant: | I22: IČO:
E23: Ing.arch.Igor Feník | I23: IČ DPH:
D25: Spracovateľ: | I25: IČO:
E26: Ing.Janečka | I26: IČ DPH:
D28: Poznámka:
D32: Náklady z rozpočtu | J32: =J65 -> 0
D33: Ostatné náklady | J33: =J87 -> 0
D34: Cena bez DPH | J34: =ROUND(J32 + J33, 2) -> 0
F36: Základ dane | I36: Sadzba dane | J36: Výška dane
D37: DPH | E37: základná | F37: =ROUND((SUM(BE87:BE94) + SUM(BE116:BE284)), 2) -> 0 | I37: 0.2 | J37: =ROUND(((SUM(BE87:BE94) + SUM(BE116:BE284))*I37), 2) -> 0
E38: znížená | F38: =ROUND((SUM(BF87:BF94) + SUM(BF116:BF284)), 2) -> 0 | I38: 0.2 | J38: =ROUND(((SUM(BF87:BF94) + SUM(BF116:BF284))*I38), 2) -> 0
E39: zákl. prenesená | F39: =ROUND((SUM(BG87:BG94) + SUM(BG116:BG284)), 2) -> 0 | I39: 0.2 | J39: =0 -> 0
E40: zníž. prenesená | F40: =ROUND((SUM(BH87:BH94) + SUM(BH116:BH284)), 2) -> 0 | I40: 0.2 | J40: =0 -> 0
E41: nulová | F41: =ROUND((SUM(BI87:BI94) + SUM(BI116:BI284)), 2) -> 0 | I41: 0 | J41: =0 -> 0
D43: Cena s DPH | G43: v | H43: EUR | J43: =SUM(J34:J41) -> 0
C49: REKAPITULÁCIA ROZPOČTU
C51: Stavba:
E52: =E7 -> Materská škola Na Hôrke 30, Nitra
C53: Objekt:
E54: 100 - SO 100 Vytvorenie 2 tried Materskej školy pre 24 + 21 detí
C55: Časť:
E56: =E11 -> 101 - SP 101 Stavebné úpravy pre vytvorenie 2 tried a prislúchajúceho zázemia MŠ
C58: Miesto: | F58: =F14 -> Na Hôrke 30, Nitra | I58: Dátum: | J58: =IF(J14="","",J14) -> 24. 2. 2017
C60: Objednávateľ: | F60: =E17 -> Mesto NITRA, Štefánikova 60, 950 06 Nitra | I60: Projektant: | J60: =E23 -> Ing.arch.Igor Feník
C61: Zhotoviteľ: | F61: =IF(E20="","",E20) -> Vyplň údaj | I61: Spracovateľ: | J61: =E26 -> Ing.Janečka
C63: Kód dielu - Popis | J63: Cena celkom [EUR]
C65: 1) Náklady z rozpočtu | J65: =J116 -> 0 | AU65: -1
D66: HSV - Práce a dodávky HSV | J66: =J117 -> 0
D67: 3 - Zvislé a kompletné konštrukcie | J67: =J118 -> 0
D68: 6 - Úpravy povrchov, podlahy, osadenie | J68: =J123 -> 0
D69: 9 - Ostatné konštrukcie a práce-búranie | J69: =J138 -> 0
D70: 99 - Presun hmôt HSV | J70: =J168 -> 0
D71: PSV - Práce a dodávky PSV | J71: =J170 -> 0
D72: 711 - Izolácie proti vode a vlhkosti | J72: =J171 -> 0
D73: 725 - Zdravotechnika - zariaď. predmety | J73: =J179 -> 0
D74: 763 - Konštrukcie - drevostavby | J74: =J190 -> 0
D75: 764 - Konštrukcie klampiarske | J75: =J195 -> 0
D76: 766 - Konštrukcie stolárske | J76: =J199 -> 0
D77: 767 - Konštrukcie doplnkové kovové | J77: =J226 -> 0
D78: 769 - Montáž vzduchotechnických zariadení | J78: =J248 -> 0
D79: 771 - Podlahy z dlaždíc | J79: =J252 -> 0
D80: 775 - Podlahy vlysové a parketové | J80: =J256 -> 0
D81: 776 - Podlahy povlakové | J81: =J260 -> 0
D82: 781 - Dokončovacie práce a obklady | J82: =J272 -> 0
D83: 783 - Dokončovacie práce - nátery | J83: =J277 -> 0
D84: 784 - Dokončovacie práce - maľby | J84: =J282 -> 0
C87: 2) Ostatné náklady | J87: =ROUND(J88 + J89 + J90 + J91 + J92 + J93,2) -> 0 | N87: DPH
D88: GZS | J88: 0 | N88: znížená | AY88: VRN | BE88: =IF(N88="základná",J88,0) -> 0 | BF88: =IF(N88="znížená",J88,0) -> 0 | BG88: =IF(N88="zákl. prenesená",J88,0) -> 0 | BH88: =IF(N88="zníž. prenesená",J88,0) -> 0 | BI88: =IF(N88="nulová",J88,0) -> 0 | BJ88: 2
D89: Mimostaven. doprava | J89: 0 | N89: znížená | AY89: VRN | BE89: =IF(N89="základná",J89,0) -> 0 | BF89: =IF(N89="znížená",J89,0) -> 0 | BG89: =IF(N89="zákl. prenesená",J89,0) -> 0 | BH89: =IF(N89="zníž. prenesená",J89,0) -> 0 | BI89: =IF(N89="nulová",J89,0) -> 0 | BJ89: 2
D90: Sťažené podmienky | J90: 0 | N90: znížená | AY90: VRN | BE90: =IF(N90="základná",J90,0) -> 0 | BF90: =IF(N90="znížená",J90,0) -> 0 | BG90: =IF(N90="zákl. prenesená",J90,0) -> 0 | BH90: =IF(N90="zníž. prenesená",J90,0) -> 0 | BI90: =IF(N90="nulová",J90,0) -> 0 | BJ90: 2
D91: Vplyv prostredia | J91: 0 | N91: znížená | AY91: VRN | BE91: =IF(N91="základná",J91,0) -> 0 | BF91: =IF(N91="znížená",J91,0) -> 0 | BG91: =IF(N91="zákl. prenesená",J91,0) -> 0 | BH91: =IF(N91="zníž. prenesená",J91,0) -> 0 | BI91: =IF(N91="nulová",J91,0) -> 0 | BJ91: 2
D92: Klimatické vplyvy | J92: 0 | N92: znížená | AY92: VRN | BE92: =IF(N92="základná",J92,0) -> 0 | BF92: =IF(N92="znížená",J92,0) -> 0 | BG92: =IF(N92="zákl. prenesená",J92,0) -> 0 | BH92: =IF(N92="zníž. prenesená",J92,0) -> 0 | BI92: =IF(N92="nulová",J92,0) -> 0 | BJ92: 2
D93: Kompletačná činnosť | J93: =ROUND(J32*T93,2) -> 0 | N93: znížená | AY93: KOMPLETACNA | BE93: =IF(N93="základná",J93,0) -> 0 | BF93: =IF(N93="znížená",J93,0) -> 0 | BG93: =IF(N93="zákl. prenesená",J93,0) -> 0 | BH93: =IF(N93="zníž. prenesená",J93,0) -> 0 | BI93: =IF(N93="nulová",J93,0) -> 0 | BJ93: 2
C95: Celkové náklady za stavbu 1) + 2) | J95: =ROUND(J65+J87,2) -> 0
C101: ROZPOČET
C103: Stavba:
E104: =E7 -> Materská škola Na Hôrke 30, Nitra
C105: Objekt:
E106: 100 - SO 100 Vytvorenie 2 tried Materskej školy pre 24 + 21 detí
C107: Časť:
E108: =E11 -> 101 - SP 101 Stavebné úpravy pre vytvorenie 2 tried a prislúchajúceho zázemia MŠ
C110: Miesto: | F110: =F14 -> Na Hôrke 30, Nitra | I110: Dátum: | J110: =IF(J14="","",J14) -> 24. 2. 2017
C112: Objednávateľ: | F112: =E17 -> Mesto NITRA, Štefánikova 60, 950 06 Nitra | I112: Projektant: | J112: =E23 -> Ing.arch.Igor Feník
C113: Zhotoviteľ: | F113: =IF(E20="","",E20) -> Vyplň údaj | I113: Spracovateľ: | J113: =E26 -> Ing.Janečka
C115: PČ | D115: Typ | E115: Kód | F115: Popis | G115: MJ | H115: Množstvo | I115: J.cena [EUR] | J115: Cena celkom [EUR] | K115: Cenová sústava | N115: DPH | O115: J. Nh [h] | P115: Nh celkom [h] | Q115: J. hmotnosť [t] | R115: Hmotnosť celkom [t] | S115: J. suť [t] | T115: Suť Celkom [t]
C116: Náklady z rozpočtu | J116: =BK116 -> 0 | P116: =P117+P170 -> 0 | R116: =R117+R170 -> 35.408814 | T116: =T117+T170 -> 28.698855 | AT116: D | AU116: -1 | BK116: =BK117+BK170 -> 0
D117: D | E117: HSV | F117: Práce a dodávky HSV | J117: =BK117 -> 0 | P117: =P118+P123+P138+P168 -> 0 | R117: =R118+R123+R138+R168 -> 28.300944 | T117: =T118+T123+T138+T168 -> 26.789663 | AR117: 1 | AT117: D | AU117: 0 | AY117: ROZPOCET | BK117: =BK118+BK123+BK138+BK168 -> 0
D118: D | E118: 3 | F118: Zvislé a kompletné konštrukcie | J118: =BK118 -> 0 | P118: =SUM(P119:P122) -> 0 | R118: =SUM(R119:R122) -> 9.3168351 | T118: =SUM(T119:T122) -> 0 | AR118: 1 | AT118: D | AU118: 1 | AY118: ROZPOCET | BK118: =SUM(BK119:BK122) -> 0
C119: 1 | D119: K | E119: 317162132 | F119: Keramický preklad POROTHERM 23,8, šírky 70 mm, výšky 238 mm, dĺžky 1250 mm | G119: ks | H119: 3 | J119: =ROUND(I119*H119,3) -> 0 | N119: znížená | P119: =O119*H119 -> 0 | Q119: 0.04884 | R119: =Q119*H119 -> 0.14652 | S119: 0 | T119: =S119*H119 -> 0 | AR119: 4 | AT119: K | AU119: 2 | AY119: ROZPOCET | BE119: =IF(N119="základná",J119,0) -> 0 | BF119: =IF(N119="znížená",J119,0) -> 0 | BG119: =IF(N119="zákl. prenesená",J119,0) -> 0 | BH119: =IF(N119="zníž. prenesená",J119,0) -> 0 | BI119: =IF(N119="nulová",J119,0) -> 0 | BJ119: 2 | BK119: =ROUND(I119*H119,3) -> 0 | BL119: 4 | BM119: 834090914
C120: 2 | D120: K | E120: 340291112 | F120: Dodatočné ukotvenie priečok montážnou polyuretanovou penou hr. priečky nad 100 mm | G120: m | H120: 58.623 | J120: =ROUND(I120*H120,3) -> 0 | N120: znížená | P120: =O120*H120 -> 0 | Q120: 0.00012 | R120: =Q120*H120 -> 0.00703476 | S120: 0 | T120: =S120*H120 -> 0 | AR120: 4 | AT120: K | AU120: 2 | AY120: ROZPOCET | BE120: =IF(N120="základná",J120,0) -> 0 | BF120: =IF(N120="znížená",J120,0) -> 0 | BG120: =IF(N120="zákl. prenesená",J120,0) -> 0 | BH120: =IF(N120="zníž. prenesená",J120,0) -> 0 | BI120: =IF(N120="nulová",J120,0) -> 0 | BJ120: 2 | BK120: =ROUND(I120*H120,3) -> 0 | BL120: 4 | BM120: 1125735285
C121: 3 | D121: K | E121: 340291132 | F121: Dodatočné ukotvenie priečok k betonovým konštrukciam plochými nerezovými kotvami hr. priečky nad 100 mm | G121: m | H121: 58.623 | J121: =ROUND(I121*H121,3) -> 0 | N121: znížená | P121: =O121*H121 -> 0 | Q121: 0.00011 | R121: =Q121*H121 -> 0.00644853 | S121: 0 | T121: =S121*H121 -> 0 | AR121: 4 | AT121: K | AU121: 2 | AY121: ROZPOCET | BE121: =IF(N121="základná",J121,0) -> 0 | BF121: =IF(N121="znížená",J121,0) -> 0 | BG121: =IF(N121="zákl. prenesená",J121,0) -> 0 | BH121: =IF(N121="zníž. prenesená",J121,0) -> 0 | BI121: =IF(N121="nulová",J121,0) -> 0 | BJ121: 2 | BK121: =ROUND(I121*H121,3) -> 0 | BL121: 4 | BM121: -1924466671
C122: 4 | D122: K | E122: 342273150 | F122: Priečky z tvárnic PORFIX hr. 150 mm P4-500 hladkých, na MVC a lepidlo PORFIX (150x250x500) | G122: m2 | H122: 82.316 | J122: =ROUND(I122*H122,3) -> 0 | N122: znížená | P122: =O122*H122 -> 0 | Q122: 0.11124 | R122: =Q122*H122 -> 9.1568318 | S122: 0 | T122: =S122*H122 -> 0 | AR122: 4 | AT122: K | AU122: 2 | AY122: ROZPOCET | BE122: =IF(N122="základná",J122,0) -> 0 | BF122: =IF(N122="znížená",J122,0) -> 0 | BG122: =IF(N122="zákl. prenesená",J122,0) -> 0 | BH122: =IF(N122="zníž. prenesená",J122,0) -> 0 | BI122: =IF(N122="nulová",J122,0) -> 0 | BJ122: 2 | BK122: =ROUND(I122*H122,3) -> 0 | BL122: 4 | BM122: 665676047
D123: D | E123: 6 | F123: Úpravy povrchov, podlahy, osadenie | J123: =BK123 -> 0 | P123: =SUM(P124:P137) -> 0 | R123: =SUM(R124:R137) -> 18.174342 | T123: =SUM(T124:T137) -> 0 | AR123: 1 | AT123: D | AU123: 1 | AY123: ROZPOCET | BK123: =SUM(BK124:BK137) -> 0
C124: 5 | D124: K | E124: 611461182 | F124: Vnútorná omietka stropov štuková BAUMIT, strojné miešanie, ručné nanášanie, Baumit VivaInterior hr. 3 mm | G124: m2 | H124: 409.49 | J124: =ROUND(I124*H124,3) -> 0 | N124: znížená | P124: =O124*H124 -> 0 | Q124: 0.00495 | R124: =Q124*H124 -> 2.0269755 | S124: 0 | T124: =S124*H124 -> 0 | AR124: 4 | AT124: K | AU124: 2 | AY124: ROZPOCET | BE124: =IF(N124="základná",J124,0) -> 0 | BF124: =IF(N124="znížená",J124,0) -> 0 | BG124: =IF(N124="zákl. prenesená",J124,0) -> 0 | BH124: =IF(N124="zníž. prenesená",J124,0) -> 0 | BI124: =IF(N124="nulová",J124,0) -> 0 | BJ124: 2 | BK124: =ROUND(I124*H124,3) -> 0 | BL124: 4 | BM124: 286370588
C125: 6 | D125: K | E125: 611481119 | F125: Potiahnutie vnútorných stropov sklotextílnou mriežkou s celoplošným prilepením | G125: m2 | H125: 409.49 | J125: =ROUND(I125*H125,3) -> 0 | N125: znížená | P125: =O125*H125 -> 0 | Q125: 0.00416 | R125: =Q125*H125 -> 1.7034784 | S125: 0 | T125: =S125*H125 -> 0 | AR125: 4 | AT125: K | AU125: 2 | AY125: ROZPOCET | BE125: =IF(N125="základná",J125,0) -> 0 | BF125: =IF(N125="znížená",J125,0) -> 0 | BG125: =IF(N125="zákl. prenesená",J125,0) -> 0 | BH125: =IF(N125="zníž. prenesená",J125,0) -> 0 | BI125: =IF(N125="nulová",J125,0) -> 0 | BJ125: 2 | BK125: =ROUND(I125*H125,3) -> 0 | BL125: 4 | BM125: 2012907054
C126: 7 | D126: K | E126: 612421231 | F126: Oprava vnútorných vápenných omietok stien, opravovaná plocha nad 10 do 15 %,štuková | G126: m2 | H126: 188.38 | J126: =ROUND(I126*H126,3) -> 0 | N126: znížená | P126: =O126*H126 -> 0 | Q126: 0.00398 | R126: =Q126*H126 -> 0.7497524 | S126: 0 | T126: =S126*H126 -> 0 | AR126: 4 | AT126: K | AU126: 2 | AY126: ROZPOCET | BE126: =IF(N126="základná",J126,0) -> 0 | BF126: =IF(N126="znížená",J126,0) -> 0 | BG126: =IF(N126="zákl. prenesená",J126,0) -> 0 | BH126: =IF(N126="zníž. prenesená",J126,0) -> 0 | BI126: =IF(N126="nulová",J126,0) -> 0 | BJ126: 2 | BK126: =ROUND(I126*H126,3) -> 0 | BL126: 4 | BM126: 1974488180
C127: 8 | D127: K | E127: 612465114 | F127: Príprava vnútorného podkladu stien BAUMIT, Regulátor nasiakavosti (Baumit SaugAusgleich) | G127: m2 | H127: 133.304 | J127: =ROUND(I127*H127,3) -> 0 | N127: znížená | P127: =O127*H127 -> 0 | Q127: 7e-05 | R127: =Q127*H127 -> 0.00933128 | S127: 0 | T127: =S127*H127 -> 0 | AR127: 4 | AT127: K | AU127: 2 | AY127: ROZPOCET | BE127: =IF(N127="základná",J127,0) -> 0 | BF127: =IF(N127="znížená",J127,0) -> 0 | BG127: =IF(N127="zákl. prenesená",J127,0) -> 0 | BH127: =IF(N127="zníž. prenesená",J127,0) -> 0 | BI127: =IF(N127="nulová",J127,0) -> 0 | BJ127: 2 | BK127: =ROUND(I127*H127,3) -> 0 | BL127: 4 | BM127: -825068256
C128: 9 | D128: K | E128: 612465135 | F128: Vnútorná omietka stien BAUMIT, vápennocementová, strojné miešanie, ručné nanášanie, Baumit Jadrová omietka (Baumit GrobPutz 4) hr. 10 mm | G128: m2 | H128: 133.304 | J128: =ROUND(I128*H128,3) -> 0 | N128: znížená | P128: =O128*H128 -> 0 | Q128: 0.0168 | R128: =Q128*H128 -> 2.2395072 | S128: 0 | T128: =S128*H128 -> 0 | AR128: 4 | AT128: K | AU128: 2 | AY128: ROZPOCET | BE128: =IF(N128="základná",J128,0) -> 0 | BF128: =IF(N128="znížená",J128,0) -> 0 | BG128: =IF(N128="zákl. prenesená",J128,0) -> 0 | BH128: =IF(N128="zníž. prenesená",J128,0) -> 0 | BI128: =IF(N128="nulová",J128,0) -> 0 | BJ128: 2 | BK128: =ROUND(I128*H128,3) -> 0 | BL128: 4 | BM128: 2089700404
C129: 10 | D129: K | E129: 612481119 | F129: Potiahnutie vnútorných stien sklotextílnou mriežkou s celoplošným prilepením | G129: m2 | H129: 1033.799 | J129: =ROUND(I129*H129,3) -> 0 | N129: znížená | P129: =O129*H129 -> 0 | Q129: 0.00416 | R129: =Q129*H129 -> 4.3006038 | S129: 0 | T129: =S129*H129 -> 0 | AR129: 4 | AT129: K | AU129: 2 | AY129: ROZPOCET | BE129: =IF(N129="základná",J129,0) -> 0 | BF129: =IF(N129="znížená",J129,0) -> 0 | BG129: =IF(N129="zákl. prenesená",J129,0) -> 0 | BH129: =IF(N129="zníž. prenesená",J129,0) -> 0 | BI129: =IF(N129="nulová",J129,0) -> 0 | BJ129: 2 | BK129: =ROUND(I129*H129,3) -> 0 | BL129: 4 | BM129: -715546189
C130: 11 | D130: K | E130: 612465182 | F130: Vnútorná omietka stien štuková BAUMIT, strojné miešanie, ručné nanášanie, Baumit VivaInterior hr. 3 mm | G130: m2 | H130: 886.921 | J130: =ROUND(I130*H130,3) -> 0 | N130: znížená | P130: =O130*H130 -> 0 | Q130: 0.00472 | R130: =Q130*H130 -> 4.1862671 | S130: 0 | T130: =S130*H130 -> 0 | AR130: 4 | AT130: K | AU130: 2 | AY130: ROZPOCET | BE130: =IF(N130="základná",J130,0) -> 0 | BF130: =IF(N130="znížená",J130,0) -> 0 | BG130: =IF(N130="zákl. prenesená",J130,0) -> 0 | BH130: =IF(N130="zníž. prenesená",J130,0) -> 0 | BI130: =IF(N130="nulová",J130,0) -> 0 | BJ130: 2 | BK130: =ROUND(I130*H130,3) -> 0 | BL130: 4 | BM130: -40841814
C131: 12 | D131: K | E131: 6124811 | F131: Potiahnutie vnútorných stien stavebným lepidlom | G131: m2 | H131: 8.202 | J131: =ROUND(I131*H131,3) -> 0 | N131: znížená | P131: =O131*H131 -> 0 | Q131: 0.00416 | R131: =Q131*H131 -> 0.03412032 | S131: 0 | T131: =S131*H131 -> 0 | AR131: 4 | AT131: K | AU131: 2 | AY131: ROZPOCET | BE131: =IF(N131="základná",J131,0) -> 0 | BF131: =IF(N131="znížená",J131,0) -> 0 | BG131: =IF(N131="zákl. prenesená",J131,0) -> 0 | BH131: =IF(N131="zníž. prenesená",J131,0) -> 0 | BI131: =IF(N131="nulová",J131,0) -> 0 | BJ131: 2 | BK131: =ROUND(I131*H131,3) -> 0 | BL131: 4 | BM131: 1712905468
C132: 13 | D132: K | E132: 625251323 | F132: Úprava dverného ostenia šambránami z expand.polystyrénu hr.30 mm - systém KZS - 2x presieťkovanie | G132: m2 | H132: 31.026 | J132: =ROUND(I132*H132,3) -> 0 | N132: znížená | P132: =O132*H132 -> 0 | Q132: 0.0095 | R132: =Q132*H132 -> 0.294747 | S132: 0 | T132: =S132*H132 -> 0 | AR132: 4 | AT132: K | AU132: 2 | AY132: ROZPOCET | BE132: =IF(N132="základná",J132,0) -> 0 | BF132: =IF(N132="znížená",J132,0) -> 0 | BG132: =IF(N132="zákl. prenesená",J132,0) -> 0 | BH132: =IF(N132="zníž. prenesená",J132,0) -> 0 | BI132: =IF(N132="nulová",J132,0) -> 0 | BJ132: 2 | BK132: =ROUND(I132*H132,3) -> 0 | BL132: 4 | BM132: -1668443687
C133: 14 | D133: K | E133: 631312611 | F133: Mazanina z betónu prostého (m3) tr. C 16/20 hr.nad 50 do 80 mm | G133: m3 | H133: 0.184 | J133: =ROUND(I133*H133,3) -> 0 | N133: znížená | P133: =O133*H133 -> 0 | Q133: 2.19407 | R133: =Q133*H133 -> 0.40370888 | S133: 0 | T133: =S133*H133 -> 0 | AR133: 4 | AT133: K | AU133: 2 | AY133: ROZPOCET | BE133: =IF(N133="základná",J133,0) -> 0 | BF133: =IF(N133="znížená",J133,0) -> 0 | BG133: =IF(N133="zákl. prenesená",J133,0) -> 0 | BH133: =IF(N133="zníž. prenesená",J133,0) -> 0 | BI133: =IF(N133="nulová",J133,0) -> 0 | BJ133: 2 | BK133: =ROUND(I133*H133,3) -> 0 | BL133: 4 | BM133: -2132400303
C134: 15 | D134: K | E134: 631319151 | F134: Príplatok za prehlad. povrchu betónovej mazaniny min. tr.C 8/10 oceľ. hlad. hr. 50-80 mm | G134: m3 | H134: 0.184 | J134: =ROUND(I134*H134,3) -> 0 | N134: znížená | P134: =O134*H134 -> 0 | Q134: 0 | R134: =Q134*H134 -> 0 | S134: 0 | T134: =S134*H134 -> 0 | AR134: 4 | AT134: K | AU134: 2 | AY134: ROZPOCET | BE134: =IF(N134="základná",J134,0) -> 0 | BF134: =IF(N134="znížená",J134,0) -> 0 | BG134: =IF(N134="zákl. prenesená",J134,0) -> 0 | BH134: =IF(N134="zníž. prenesená",J134,0) -> 0 | BI134: =IF(N134="nulová",J134,0) -> 0 | BJ134: 2 | BK134: =ROUND(I134*H134,3) -> 0 | BL134: 4 | BM134: -432343928
C135: 16 | D135: K | E135: 632001051 | F135: Zhotovenie jednonásobného penetračného náteru pre potery a stierky | G135: m2 | H135: 395.7 | J135: =ROUND(I135*H135,3) -> 0 | N135: znížená | P135: =O135*H135 -> 0 | Q135: 0 | R135: =Q135*H135 -> 0 | S135: 0 | T135: =S135*H135 -> 0 | AR135: 4 | AT135: K | AU135: 2 | AY135: ROZPOCET | BE135: =IF(N135="základná",J135,0) -> 0 | BF135: =IF(N135="znížená",J135,0) -> 0 | BG135: =IF(N135="zákl. prenesená",J135,0) -> 0 | BH135: =IF(N135="zníž. prenesená",J135,0) -> 0 | BI135: =IF(N135="nulová",J135,0) -> 0 | BJ135: 2 | BK135: =ROUND(I135*H135,3) -> 0 | BL135: 4 | BM135: -204378432
...

Sheet 102.1 - SP 102.1 Vykurova...
AT2: {f7d1844c-ea22-4498-b586-41cf267b8dc7}
AT3: 0
D4: KRYCÍ LIST ROZPOČTU | M4: v --- nižšie sa nachádzajú doplnkové a pomocné údaje k zostavám --- v | AT4: False
D6: Stavba:
E7: ='Rekapitulácia stavby'!K6 -> Materská škola Na Hôrke 30, Nitra
D8: Objekt:
E9: 100 - SO 100 Vytvorenie 2 tried Materskej školy pre 24 + 21 detí
D10: Časť:
E11: 102.1 - SP 102.1 Vykurovanie a vzduchotechnika
D13: JKSO: | I13: KS:
D14: Miesto: | F14: Na Hôrke 30, Nitra | I14: Dátum: | J14: ='Rekapitulácia stavby'!AN8 -> 24. 2. 2017
D16: Objednávateľ: | I16: IČO:
E17: Mesto NITRA, Štefánikova 60, 950 06 Nitra | I17: IČ DPH:
D19: Zhotoviteľ: | I19: IČO: | J19: ='Rekapitulácia stavby'!AN13 -> Vyplň údaj
E20: ='Rekapitulácia stavby'!E14 -> Vyplň údaj | I20: IČ DPH: | J20: ='Rekapitulácia stavby'!AN14 -> Vyplň údaj
D22: Projektant: | I22: IČO:
E23: Ing.arch.Igor Feník | I23: IČ DPH:
D25: Spracovateľ: | I25: IČO:
E26: Ing.Janečka | I26: IČ DPH:
D28: Poznámka:
D32: Náklady z rozpočtu | J32: =J65 -> 0
D33: Ostatné náklady | J33: =J74 -> 0
D34: Cena bez DPH | J34: =ROUND(J32 + J33, 2) -> 0
F36: Základ dane | I36: Sadzba dane | J36: Výška dane
D37: DPH | E37: základná | F37: =ROUND((SUM(BE74:BE81) + SUM(BE103:BE137)), 2) -> 0 | I37: 0.2 | J37: =ROUND(((SUM(BE74:BE81) + SUM(BE103:BE137))*I37), 2) -> 0
E38: znížená | F38: =ROUND((SUM(BF74:BF81) + SUM(BF103:BF137)), 2) -> 0 | I38: 0.2 | J38: =ROUND(((SUM(BF74:BF81) + SUM(BF103:BF137))*I38), 2) -> 0
E39: zákl. prenesená | F39: =ROUND((SUM(BG74:BG81) + SUM(BG103:BG137)), 2) -> 0 | I39: 0.2 | J39: =0 -> 0
E40: zníž. prenesená | F40: =ROUND((SUM(BH74:BH81) + SUM(BH103:BH137)), 2) -> 0 | I40: 0.2 | J40: =0 -> 0
E41: nulová | F41: =ROUND((SUM(BI74:BI81) + SUM(BI103:BI137)), 2) -> 0 | I41: 0 | J41: =0 -> 0
D43: Cena s DPH | G43: v | H43: EUR | J43: =SUM(J34:J41) -> 0
C49: REKAPITULÁCIA ROZPOČTU
C51: Stavba:
E52: =E7 -> Materská škola Na Hôrke 30, Nitra
C53: Objekt:
E54: 100 - SO 100 Vytvorenie 2 tried Materskej školy pre 24 + 21 detí
C55: Časť:
E56: =E11 -> 102.1 - SP 102.1 Vykurovanie a vzduchotechnika
C58: Miesto: | F58: =F14 -> Na Hôrke 30, Nitra | I58: Dátum: | J58: =IF(J14="","",J14) -> 24. 2. 2017
C60: Objednávateľ: | F60: =E17 -> Mesto NITRA, Štefánikova 60, 950 06 Nitra | I60: Projektant: | J60: =E23 -> Ing.arch.Igor Feník
C61: Zhotoviteľ: | F61: =IF(E20="","",E20) -> Vyplň údaj | I61: Spracovateľ: | J61: =E26 -> Ing.Janečka
C63: Kód dielu - Popis | J63: Cena celkom [EUR]
C65: 1) Náklady z rozpočtu | J65: =J103 -> 0 | AU65: -1
D66: PSV - Práce a dodávky PSV | J66: =J104 -> 0
D67: 735 - Ústredné kúrenie, vykurov. telesá | J67: =J105 -> 0
D68: HZS - HZS | J68: =J116 -> 0
D69: OST - Demontáž | J69: =J120 -> 0
D70: M - Práce a dodávky M | J70: =J125 -> 0
D71: 24-M - Montáže vzduchotechnických zariad. | J71: =J126 -> 0
C74: 2) Ostatné náklady | J74: =ROUND(J75 + J76 + J77 + J78 + J79 + J80,2) -> 0 | N74: DPH
D75: GZS | J75: 0 | N75: znížená | AY75: VRN | BE75: =IF(N75="základná",J75,0) -> 0 | BF75: =IF(N75="znížená",J75,0) -> 0 | BG75: =IF(N75="zákl. prenesená",J75,0) -> 0 | BH75: =IF(N75="zníž. prenesená",J75,0) -> 0 | BI75: =IF(N75="nulová",J75,0) -> 0 | BJ75: 2
D76: Mimostaven. doprava | J76: 0 | N76: znížená | AY76: VRN | BE76: =IF(N76="základná",J76,0) -> 0 | BF76: =IF(N76="znížená",J76,0) -> 0 | BG76: =IF(N76="zákl. prenesená",J76,0) -> 0 | BH76: =IF(N76="zníž. prenesená",J76,0) -> 0 | BI76: =IF(N76="nulová",J76,0) -> 0 | BJ76: 2
D77: Sťažené podmienky | J77: 0 | N77: znížená | AY77: VRN | BE77: =IF(N77="základná",J77,0) -> 0 | BF77: =IF(N77="znížená",J77,0) -> 0 | BG77: =IF(N77="zákl. prenesená",J77,0) -> 0 | BH77: =IF(N77="zníž. prenesená",J77,0) -> 0 | BI77: =IF(N77="nulová",J77,0) -> 0 | BJ77: 2
D78: Vplyv prostredia | J78: 0 | N78: znížená | AY78: VRN | BE78: =IF(N78="základná",J78,0) -> 0 | BF78: =IF(N78="znížená",J78,0) -> 0 | BG78: =IF(N78="zákl. prenesená",J78,0) -> 0 | BH78: =IF(N78="zníž. prenesená",J78,0) -> 0 | BI78: =IF(N78="nulová",J78,0) -> 0 | BJ78: 2
D79: Klimatické vplyvy | J79: 0 | N79: znížená | AY79: VRN | BE79: =IF(N79="základná",J79,0) -> 0 | BF79: =IF(N79="znížená",J79,0) -> 0 | BG79: =IF(N79="zákl. prenesená",J79,0) -> 0 | BH79: =IF(N79="zníž. prenesená",J79,0) -> 0 | BI79: =IF(N79="nulová",J79,0) -> 0 | BJ79: 2
D80: Kompletačná činnosť | J80: =ROUND(J32*T80,2) -> 0 | N80: znížená | AY80: KOMPLETACNA | BE80: =IF(N80="základná",J80,0) -> 0 | BF80: =IF(N80="znížená",J80,0) -> 0 | BG80: =IF(N80="zákl. prenesená",J80,0) -> 0 | BH80: =IF(N80="zníž. prenesená",J80,0) -> 0 | BI80: =IF(N80="nulová",J80,0) -> 0 | BJ80: 2
C82: Celkové náklady za stavbu 1) + 2) | J82: =ROUND(J65+J74,2) -> 0
C88: ROZPOČET
C90: Stavba:
E91: =E7 -> Materská škola Na Hôrke 30, Nitra
C92: Objekt:
E93: 100 - SO 100 Vytvorenie 2 tried Materskej školy pre 24 + 21 detí
C94: Časť:
E95: =E11 -> 102.1 - SP 102.1 Vykurovanie a vzduchotechnika
C97: Miesto: | F97: =F14 -> Na Hôrke 30, Nitra | I97: Dátum: | J97: =IF(J14="","",J14) -> 24. 2. 2017
C99: Objednávateľ: | F99: =E17 -> Mesto NITRA, Štefánikova 60, 950 06 Nitra | I99: Projektant: | J99: =E23 -> Ing.arch.Igor Feník
C100: Zhotoviteľ: | F100: =IF(E20="","",E20) -> Vyplň údaj | I100: Spracovateľ: | J100: =E26 -> Ing.Janečka
C102: PČ | D102: Typ | E102: Kód | F102: Popis | G102: MJ | H102: Množstvo | I102: J.cena [EUR] | J102: Cena celkom [EUR] | K102: Cenová sústava | N102: DPH | O102: J. Nh [h] | P102: Nh celkom [h] | Q102: J. hmotnosť [t] | R102: Hmotnosť celkom [t] | S102: J. suť [t] | T102: Suť Celkom [t]
C103: Náklady z rozpočtu | J103: =BK103 -> 0 | P103: =P104+P125 -> 0 | R103: =R104+R125 -> 0.7771 | T103: =T104+T125 -> 0 | AT103: D | AU103: -1 | BK103: =BK104+BK125 -> 0
D104: D | E104: PSV | F104: Práce a dodávky PSV | J104: =BK104 -> 0 | P104: =P105+P116+P120 -> 0 | R104: =R105+R116+R120 -> 0.7771 | T104: =T105+T116+T120 -> 0 | AR104: 2 | AT104: D | AU104: 0 | AY104: ROZPOCET | BK104: =BK105+BK116+BK120 -> 0
D105: D | E105: 735 | F105: Ústredné kúrenie, vykurov. telesá | J105: =BK105 -> 0 | P105: =SUM(P106:P115) -> 0 | R105: =SUM(R106:R115) -> 0.77542 | T105: =SUM(T106:T115) -> 0 | AR105: 2 | AT105: D | AU105: 1 | AY105: ROZPOCET | BK105: =SUM(BK106:BK115) -> 0
C106: 1 | D106: K | E106: 735154131 | F106: Montáž vykurovacieho telesa panelového dvojradového výšky 500 mm/ dĺžky 700-900 mm | G106: ks | H106: 2 | J106: =ROUND(I106*H106,3) -> 0 | N106: znížená | P106: =O106*H106 -> 0 | Q106: 2e-05 | R106: =Q106*H106 -> 4e-05 | S106: 0 | T106: =S106*H106 -> 0 | AR106: 16 | AT106: K | AU106: 2 | AY106: ROZPOCET | BE106: =IF(N106="základná",J106,0) -> 0 | BF106: =IF(N106="znížená",J106,0) -> 0 | BG106: =IF(N106="zákl. prenesená",J106,0) -> 0 | BH106: =IF(N106="zníž. prenesená",J106,0) -> 0 | BI106: =IF(N106="nulová",J106,0) -> 0 | BJ106: 2 | BK106: =ROUND(I106*H106,3) -> 0 | BL106: 16 | BM106: -1240200099
C107: 2 | D107: K | E107: 735154133 | F107: Montáž vykurovacieho telesa panelového dvojradového výšky 500 mm/ dĺžky 1400-1800 mm | G107: ks | H107: 17 | J107: =ROUND(I107*H107,3) -> 0 | N107: znížená | P107: =O107*H107 -> 0 | Q107: 2e-05 | R107: =Q107*H107 -> 0.00034 | S107: 0 | T107: =S107*H107 -> 0 | AR107: 16 | AT107: K | AU107: 2 | AY107: ROZPOCET | BE107: =IF(N107="základná",J107,0) -> 0 | BF107: =IF(N107="znížená",J107,0) -> 0 | BG107: =IF(N107="zákl. prenesená",J107,0) -> 0 | BH107: =IF(N107="zníž. prenesená",J107,0) -> 0 | BI107: =IF(N107="nulová",J107,0) -> 0 | BJ107: 2 | BK107: =ROUND(I107*H107,3) -> 0 | BL107: 16 | BM107: 41896504
C108: 3 | D108: K | E108: 735154134 | F108: Montáž vykurovacieho telesa panelového dvojradového výšky 500 mm/ dĺžky 2000-2600 mm | G108: ks | H108: 2 | J108: =ROUND(I108*H108,3) -> 0 | N108: znížená | P108: =O108*H108 -> 0 | Q108: 2e-05 | R108: =Q108*H108 -> 4e-05 | S108: 0 | T108: =S108*H108 -> 0 | AR108: 16 | AT108: K | AU108: 2 | AY108: ROZPOCET | BE108: =IF(N108="základná",J108,0) -> 0 | BF108: =IF(N108="znížená",J108,0) -> 0 | BG108: =IF(N108="zákl. prenesená",J108,0) -> 0 | BH108: =IF(N108="zníž. prenesená",J108,0) -> 0 | BI108: =IF(N108="nulová",J108,0) -> 0 | BJ108: 2 | BK108: =ROUND(I108*H108,3) -> 0 | BL108: 16 | BM108: -1032775208
C109: 4 | D109: K | E109: 735158120 | F109: Vykurovacie telesá panelové, tlaková skúška telesa vodou U. S. Steel Košice dvojradového | G109: ks | H109: 21 | J109: =ROUND(I109*H109,3) -> 0 | N109: znížená | P109: =O109*H109 -> 0 | Q109: 0 | R109: =Q109*H109 -> 0 | S109: 0 | T109: =S109*H109 -> 0 | AR109: 16 | AT109: K | AU109: 2 | AY109: ROZPOCET | BE109: =IF(N109="základná",J109,0) -> 0 | BF109: =IF(N109="znížená",J109,0) -> 0 | BG109: =IF(N109="zákl. prenesená",J109,0) -> 0 | BH109: =IF(N109="zníž. prenesená",J109,0) -> 0 | BI109: =IF(N109="nulová",J109,0) -> 0 | BJ109: 2 | BK109: =ROUND(I109*H109,3) -> 0 | BL109: 16 | BM109: -286600638
C110: 5 | D110: M | E110: 4845374400 | F110: Vykurovacie teleso doskové oceľové KORAD 21K s dvoma panelmi a jedným konvektorom 600x0800 | G110: ks | H110: 1 | J110: =ROUND(I110*H110,3) -> 0 | N110: znížená | P110: =O110*H110 -> 0 | Q110: 0.021 | R110: =Q110*H110 -> 0.021 | S110: 0 | T110: =S110*H110 -> 0 | AR110: 32 | AT110: M | AU110: 2 | AY110: ROZPOCET | BE110: =IF(N110="základná",J110,0) -> 0 | BF110: =IF(N110="znížená",J110,0) -> 0 | BG110: =IF(N110="zákl. prenesená",J110,0) -> 0 | BH110: =IF(N110="zníž. prenesená",J110,0) -> 0 | BI110: =IF(N110="nulová",J110,0) -> 0 | BJ110: 2 | BK110: =ROUND(I110*H110,3) -> 0 | BL110: 16 | BM110: 1592944140
C111: 6 | D111: M | E111: 4845374500 | F111: Vykurovacie teleso doskové oceľové KORAD 21K s dvoma panelmi a jedným konvektorom 600x0900 | G111: ks | H111: 1 | J111: =ROUND(I111*H111,3) -> 0 | N111: znížená | P111: =O111*H111 -> 0 | Q111: 0.023 | R111: =Q111*H111 -> 0.023 | S111: 0 | T111: =S111*H111 -> 0 | AR111: 32 | AT111: M | AU111: 2 | AY111: ROZPOCET | BE111: =IF(N111="základná",J111,0) -> 0 | BF111: =IF(N111="znížená",J111,0) -> 0 | BG111: =IF(N111="zákl. prenesená",J111,0) -> 0 | BH111: =IF(N111="zníž. prenesená",J111,0) -> 0 | BI111: =IF(N111="nulová",J111,0) -> 0 | BJ111: 2 | BK111: =ROUND(I111*H111,3) -> 0 | BL111: 16 | BM111: 186587098
C112: 7 | D112: M | E112: 4845375000 | F112: Vykurovacie teleso doskové oceľové KORAD 21K s dvoma panelmi a jedným konvektorom 600x1400 | G112: ks | H112: 4 | J112: =ROUND(I112*H112,3) -> 0 | N112: znížená | P112: =O112*H112 -> 0 | Q112: 0.033 | R112: =Q112*H112 -> 0.132 | S112: 0 | T112: =S112*H112 -> 0 | AR112: 32 | AT112: M | AU112: 2 | AY112: ROZPOCET | BE112: =IF(N112="základná",J112,0) -> 0 | BF112: =IF(N112="znížená",J112,0) -> 0 | BG112: =IF(N112="zákl. prenesená",J112,0) -> 0 | BH112: =IF(N112="zníž. prenesená",J112,0) -> 0 | BI112: =IF(N112="nulová",J112,0) -> 0 | BJ112: 2 | BK112: =ROUND(I112*H112,3) -> 0 | BL112: 16 | BM112: 1389676499
C113: 8 | D113: M | E113: 4845375200 | F113: Vykurovacie teleso doskové oceľové KORAD 21K s dvoma panelmi a jedným konvektorom 600x1600 | G113: ks | H113: 6 | J113: =ROUND(I113*H113,3) -> 0 | N113: znížená | P113: =O113*H113 -> 0 | Q113: 0.037 | R113: =Q113*H113 -> 0.222 | S113: 0 | T113: =S113*H113 -> 0 | AR113: 32 | AT113: M | AU113: 2 | AY113: ROZPOCET | BE113: =IF(N113="základná",J113,0) -> 0 | BF113: =IF(N113="znížená",J113,0) -> 0 | BG113: =IF(N113="zákl. prenesená",J113,0) -> 0 | BH113: =IF(N113="zníž. prenesená",J113,0) -> 0 | BI113: =IF(N113="nulová",J113,0) -> 0 | BJ113: 2 | BK113: =ROUND(I113*H113,3) -> 0 | BL113: 16 | BM113: -205208744
C114: 9 | D114: M | E114: 4845375350 | F114: Vykurovacie teleso doskové oceľové KORAD 21K s dvoma panelmi a jedným konvektorom 600x1800 | G114: ks | H114: 7 | J114: =ROUND(I114*H114,3) -> 0 | N114: znížená | P114: =O114*H114 -> 0 | Q114: 0.041 | R114: =Q114*H114 -> 0.287 | S114: 0 | T114: =S114*H114 -> 0 | AR114: 32 | AT114: M | AU114: 2 | AY114: ROZPOCET | BE114: =IF(N114="základná",J114,0) -> 0 | BF114: =IF(N114="znížená",J114,0) -> 0 | BG114: =IF(N114="zákl. prenesená",J114,0) -> 0 | BH114: =IF(N114="zníž. prenesená",J114,0) -> 0 | BI114: =IF(N114="nulová",J114,0) -> 0 | BJ114: 2 | BK114: =ROUND(I114*H114,3) -> 0 | BL114: 16 | BM114: -156081588
C115: 10 | D115: M | E115: 4845375500 | F115: Vykurovacie teleso doskové oceľové KORAD 21K s dvoma panelmi a jedným konvektorom 600x2000 | G115: ks | H115: 2 | J115: =ROUND(I115*H115,3) -> 0 | N115: znížená | P115: =O115*H115 -> 0 | Q115: 0.045 | R115: =Q115*H115 -> 0.09 | S115: 0 | T115: =S115*H115 -> 0 | AR115: 32 | AT115: M | AU115: 2 | AY115: ROZPOCET | BE115: =IF(N115="základná",J115,0) -> 0 | BF115: =IF(N115="znížená",J115,0) -> 0 | BG115: =IF(N115="zákl. prenesená",J115,0) -> 0 | BH115: =IF(N115="zníž. prenesená",J115,0) -> 0 | BI115: =IF(N115="nulová",J115,0) -> 0 | BJ115: 2 | BK115: =ROUND(I115*H115,3) -> 0 | BL115: 16 | BM115: -1002245492
D116: D | E116: HZS | F116: HZS | J116: =BK116 -> 0 | P116: =SUM(P117:P119) -> 0 | R116: =SUM(R117:R119) -> 0 | T116: =SUM(T117:T119) -> 0 | AR116: 1 | AT116: D | AU116: 1 | AY116: ROZPOCET | BK116: =SUM(BK117:BK119) -> 0
C117: 11 | D117: K | E117: Dmp | F117: Drobné montážne práce | G117: hod | H117: 6 | J117: =ROUND(I117*H117,3) -> 0 | N117: znížená | P117: =O117*H117 -> 0 | Q117: 0 | R117: =Q117*H117 -> 0 | S117: 0 | T117: =S117*H117 -> 0 | AR117: 4 | AT117: K | AU117: 2 | AY117: ROZPOCET | BE117: =IF(N117="základná",J117,0) -> 0 | BF117: =IF(N117="znížená",J117,0) -> 0 | BG117: =IF(N117="zákl. prenesená",J117,0) -> 0 | BH117: =IF(N117="zníž. prenesená",J117,0) -> 0 | BI117: =IF(N117="nulová",J117,0) -> 0 | BJ117: 2 | BK117: =ROUND(I117*H117,3) -> 0 | BL117: 4 | BM117: -41073592
C118: 12 | D118: K | E118: ZaSP | F118: Zaregulovanie a skúšobná prevádzka | G118: hod | H118: 24 | J118: =ROUND(I118*H118,3) -> 0 | N118: znížená | P118: =O118*H118 -> 0 | Q118: 0 | R118: =Q118*H118 -> 0 | S118: 0 | T118: =S118*H118 -> 0 | AR118: 4 | AT118: K | AU118: 2 | AY118: ROZPOCET | BE118: =IF(N118="základná",J118,0) -> 0 | BF118: =IF(N118="znížená",J118,0) -> 0 | BG118: =IF(N118="zákl. prenesená",J118,0) -> 0 | BH118: =IF(N118="zníž. prenesená",J118,0) -> 0 | BI118: =IF(N118="nulová",J118,0) -> 0 | BJ118: 2 | BK118: =ROUND(I118*H118,3) -> 0 | BL118: 4 | BM118: 171039069
C119: 13 | D119: K | E119: 998735202 | F119: Presun hmôt pre vykurovacie telesá v objektoch výšky nad 6 do 12 m | G119: % | J119: =ROUND(I119*H119,3) -> 0 | N119: znížená | P119: =O119*H119 -> 0 | Q119: 0 | R119: =Q119*H119 -> 0 | S119: 0 | T119: =S119*H119 -> 0 | AR119: 16 | AT119: K | AU119: 2 | AY119: ROZPOCET | BE119: =IF(N119="základná",J119,0) -> 0 | BF119: =IF(N119="znížená",J119,0) -> 0 | BG119: =IF(N119="zákl. prenesená",J119,0) -> 0 | BH119: =IF(N119="zníž. prenesená",J119,0) -> 0 | BI119: =IF(N119="nulová",J119,0) -> 0 | BJ119: 2 | BK119: =ROUND(I119*H119,3) -> 0 | BL119: 16 | BM119: 1057917788
D120: D | E120: OST | F120: Demontáž | J120: =BK120 -> 0 | P120: =SUM(P121:P124) -> 0 | R120: =SUM(R121:R124) -> 0.00168 | T120: =SUM(T121:T124) -> 0 | AR120: 4 | AT120: D | AU120: 1 | AY120: ROZPOCET | BK120: =SUM(BK121:BK124) -> 0
C121: 14 | D121: K | E121: 735151821 | F121: Demontáž vykurovacieho telesa panelového dvojradového stavebnej dľžky do 1500 mm, -0,02493t | G121: ks | H121: 2 | J121: =ROUND(I121*H121,3) -> 0 | N121: znížená | P121: =O121*H121 -> 0 | Q121: 8e-05 | R121: =Q121*H121 -> 0.00016 | S121: 0 | T121: =S121*H121 -> 0 | AR121: 262144 | AT121: K | AU121: 2 | AY121: ROZPOCET | BE121: =IF(N121="základná",J121,0) -> 0 | BF121: =IF(N121="znížená",J121,0) -> 0 | BG121: =IF(N121="zákl. prenesená",J121,0) -> 0 | BH121: =IF(N121="zníž. prenesená",J121,0) -> 0 | BI121: =IF(N121="nulová",J121,0) -> 0 | BJ121: 2 | BK121: =ROUND(I121*H121,3) -> 0 | BL121: 262144 | BM121: -1333734140
C122: 15 | D122: K | E122: 735151822 | F122: Demontáž vykurovacieho telesa panelového dvojradového stavebnej dľžky nad 1500 do 2820 mm, -0,04675t | G122: ks | H122: 19 | J122: =ROUND(I122*H122,3) -> 0 | N122: znížená | P122: =O122*H122 -> 0 | Q122: 8e-05 | R122: =Q122*H122 -> 0.00152 | S122: 0 | T122: =S122*H122 -> 0 | AR122: 262144 | AT122: K | AU122: 2 | AY122: ROZPOCET | BE122: =IF(N122="základná",J122,0) -> 0 | BF122: =IF(N122="znížená",J122,0) -> 0 | BG122: =IF(N122="zákl. prenesená",J122,0) -> 0 | BH122: =IF(N122="zníž. prenesená",J122,0) -> 0 | BI122: =IF(N122="nulová",J122,0) -> 0 | BJ122: 2 | BK122: =ROUND(I122*H122,3) -> 0 | BL122: 262144 | BM122: 679999081
C123: 16 | D123: K | E123: 735191905 | F123: Ostatné opravy vykurovacích telies, odvzdušnenie telesa | G123: ks | H123: 140 | J123: =ROUND(I123*H123,3) -> 0 | N123: znížená | P123: =O123*H123 -> 0 | Q123: 0 | R123: =Q123*H123 -> 0 | S123: 0 | T123: =S123*H123 -> 0 | AR123: 262144 | AT123: K | AU123: 2 | AY123: ROZPOCET | BE123: =IF(N123="základná",J123,0) -> 0 | BF123: =IF(N123="znížená",J123,0) -> 0 | BG123: =IF(N123="zákl. prenesená",J123,0) -> 0 | BH123: =IF(N123="zníž. prenesená",J123,0) -> 0 | BI123: =IF(N123="nulová",J123,0) -> 0 | BJ123: 2 | BK123: =ROUND(I123*H123,3) -> 0 | BL123: 262144 | BM123: -915847072
C124: 17 | D124: K | E124: 735494811 | F124: Vypúšťanie vody z vykurovacích sústav o v. pl. vykurovacích telies | G124: m2 | H124: 140 | J124: =ROUND(I124*H124,3) -> 0 | N124: znížená | P124: =O124*H124 -> 0 | Q124: 0 | R124: =Q124*H124 -> 0 | S124: 0 | T124: =S124*H124 -> 0 | AR124: 262144 | AT124: K | AU124: 2 | AY124: ROZPOCET | BE124: =IF(N124="základná",J124,0) -> 0 | BF124: =IF(N124="znížená",J124,0) -> 0 | BG124: =IF(N124="zákl. prenesená",J124,0) -> 0 | BH124: =IF(N124="zníž. prenesená",J124,0) -> 0 | BI124: =IF(N124="nulová",J124,0) -> 0 | BJ124: 2 | BK124: =ROUND(I124*H124,3) -> 0 | BL124: 262144 | BM124: 631801402
D125: D | E125: M | F125: Práce a dodávky M | J125: =BK125 -> 0 | P125: =P126 -> 0 | R125: =R126 -> 0 | T125: =T126 -> 0 | AR125: 3 | AT125: D | AU125: 0 | AY125: ROZPOCET | BK125: =BK126 -> 0
D126: D | E126: 24-M | F126: Montáže vzduchotechnických zariad. | J126: =BK126 -> 0 | P126: =SUM(P127:P137) -> 0 | R126: =SUM(R127:R137) -> 0 | T126: =SUM(T127:T137) -> 0 | AR126: 3 | AT126: D | AU126: 1 | AY126: ROZPOCET | BK126: =SUM(BK127:BK137) -> 0
C127: 18 | D127: K | E127: mont-hadica | F127: Montáž flexo hadice Sonodec | G127: m | H127: 2 | J127: =ROUND(I127*H127,3) -> 0 | N127: znížená | P127: =O127*H127 -> 0 | Q127: 0 | R127: =Q127*H127 -> 0 | S127: 0 | T127: =S127*H127 -> 0 | AR127: 64 | AT127: K | AU127: 2 | AY127: ROZPOCET | BE127: =IF(N127="základná",J127,0) -> 0 | BF127: =IF(N127="znížená",J127,0) -> 0 | BG127: =IF(N127="zákl. prenesená",J127,0) -> 0 | BH127: =IF(N127="zníž. prenesená",J127,0) -> 0 | BI127: =IF(N127="nulová",J127,0) -> 0 | BJ127: 2 | BK127: =ROUND(I127*H127,3) -> 0 | BL127: 64 | BM127: 1228065252
C128: 19 | D128: M | E128: sonodec 25-100 | F128: Flexo hadica Sonodec 25, Dn 100 | G128: m | H128: 2 | J128: =ROUND(I128*H128,3) -> 0 | N128: znížená | P128: =O128*H128 -> 0 | Q128: 0 | R128: =Q128*H128 -> 0 | S128: 0 | T128: =S128*H128 -> 0 | AR128: 256 | AT128: M | AU128: 2 | AY128: ROZPOCET | BE128: =IF(N128="základná",J128,0) -> 0 | BF128: =IF(N128="znížená",J128,0) -> 0 | BG128: =IF(N128="zákl. prenesená",J128,0) -> 0 | BH128: =IF(N128="zníž. prenesená",J128,0) -> 0 | BI128: =IF(N128="nulová",J128,0) -> 0 | BJ128: 2 | BK128: =ROUND(I128*H128,3) -> 0 | BL128: 64 | BM128: -1491095253
C129: 20 | D129: K | E129: mont-mriežky | F129: Montáž mriežky | G129: ks | H129: 1 | J129: =ROUND(I129*H129,3) -> 0 | N129: znížená | P129: =O129*H129 -> 0 | Q129: 0 | R129: =Q129*H129 -> 0 | S129: 0 | T129: =S129*H129 -> 0 | AR129: 64 | AT129: K | AU129: 2 | AY129: ROZPOCET | BE129: =IF(N129="základná",J129,0) -> 0 | BF129: =IF(N129="znížená",J129,0) -> 0 | BG129: =IF(N129="zákl. prenesená",J129,0) -> 0 | BH129: =IF(N129="zníž. prenesená",J129,0) -> 0 | BI129: =IF(N129="nulová",J129,0) -> 0 | BJ129: 2 | BK129: =ROUND(I129*H129,3) -> 0 | BL129: 64 | BM129: -390093361
C130: 21 | D130: M | E130: km-igc-100 | F130: Kruhová mriežka IGC 100 | G130: ks | H130: 1 | J130: =ROUND(I130*H130,3) -> 0 | N130: znížená | P130: =O130*H130 -> 0 | Q130: 0 | R130: =Q130*H130 -> 0 | S130: 0 | T130: =S130*H130 -> 0 | AR130: 256 | AT130: M | AU130: 2 | AY130: ROZPOCET | BE130: =IF(N130="základná",J130,0) -> 0 | BF130: =IF(N130="znížená",J130,0) -> 0 | BG130: =IF(N130="zákl. prenesená",J130,0) -> 0 | BH130: =IF(N130="zníž. prenesená",J130,0) -> 0 | BI130: =IF(N130="nulová",J130,0) -> 0 | BJ130: 2 | BK130: =ROUND(I130*H130,3) -> 0 | BL130: 64 | BM130: -1454747921
C131: 22 | D131: K | E131: mont-spiro | F131: Montáž potrubia Spiro | G131: kpl | H131: 1 | J131: =ROUND(I131*H131,3) -> 0 | N131: znížená | P131: =O131*H131 -> 0 | Q131: 0 | R131: =Q131*H131 -> 0 | S131: 0 | T131: =S131*H131 -> 0 | AR131: 64 | AT131: K | AU131: 2 | AY131: ROZPOCET | BE131: =IF(N131="základná",J131,0) -> 0 | BF131: =IF(N131="znížená",J131,0) -> 0 | BG131: =IF(N131="zákl. prenesená",J131,0) -> 0 | BH131: =IF(N131="zníž. prenesená",J131,0) -> 0 | BI131: =IF(N131="nulová",J131,0) -> 0 | BJ131: 2 | BK131: =ROUND(I131*H131,3) -> 0 | BL131: 64 | BM131: -937571564
C132: 23 | D132: M | E132: d-spiro-100 | F132: Potrubie Spiro Dn 100 - ( 5m + tvarovky ) | G132: kpl | H132: 1 | J132: =ROUND(I132*H132,3) -> 0 | N132: znížená | P132: =O132*H132 -> 0 | Q132: 0 | R132: =Q132*H132 -> 0 | S132: 0 | T132: =S132*H132 -> 0 | AR132: 256 | AT132: M | AU132: 2 | AY132: ROZPOCET | BE132: =IF(N132="základná",J132,0) -> 0 | BF132: =IF(N132="znížená",J132,0) -> 0 | BG132: =IF(N132="zákl. prenesená",J132,0) -> 0 | BH132: =IF(N132="zníž. prenesená",J132,0) -> 0 | BI132: =IF(N132="nulová",J132,0) -> 0 | BJ132: 2 | BK132: =ROUND(I132*H132,3) -> 0 | BL132: 64 | BM132: -2016757801
C133: 24 | D133: K | E133: mont-vent | F133: Montáž ventilátora | G133: ks | H133: 2 | J133: =ROUND(I133*H133,3) -> 0 | N133: znížená | P133: =O133*H133 -> 0 | Q133: 0 | R133: =Q133*H133 -> 0 | S133: 0 | T133: =S133*H133 -> 0 | AR133: 64 | AT133: K | AU133: 2 | AY133: ROZPOCET | BE133: =IF(N133="základná",J133,0) -> 0 | BF133: =IF(N133="znížená",J133,0) -> 0 | BG133: =IF(N133="zákl. prenesená",J133,0) -> 0 | BH133: =IF(N133="zníž. prenesená",J133,0) -> 0 | BI133: =IF(N133="nulová",J133,0) -> 0 | BJ133: 2 | BK133: =ROUND(I133*H133,3) -> 0 | BL133: 64 | BM133: -1668129109
C134: 25 | D134: M | E134: v-DX200 | F134: Ventilátor osový XPELAIR DX 200T, 230V, 37W | G134: ks | H134: 2 | J134: =ROUND(I134*H134,3) -> 0 | N134: znížená | P134: =O134*H134 -> 0 | Q134: 0 | R134: =Q134*H134 -> 0 | S134: 0 | T134: =S134*H134 -> 0 | AR134: 256 | AT134: M | AU134: 2 | AY134: ROZPOCET | BE134: =IF(N134="základná",J134,0) -> 0 | BF134: =IF(N134="znížená",J134,0) -> 0 | BG134: =IF(N134="zákl. prenesená",J134,0) -> 0 | BH134: =IF(N134="zníž. prenesená",J134,0) -> 0 | BI134: =IF(N134="nulová",J134,0) -> 0 | BJ134: 2 | BK134: =ROUND(I134*H134,3) -> 0 | BL134: 64 | BM134: -697164337
C135: 26 | D135: K | E135: PPV-MV-1 | F135: PPV + MV | G135: % | J135: =ROUND(I135*H135,3) -> 0 | N135: znížená | P135: =O135*H135 -> 0 | Q135: 0 | R135: =Q135*H135 -> 0 | S135: 0 | T135: =S135*H135 -> 0 | AR135: 64 | AT135: K | AU135: 2 | AY135: ROZPOCET | BE135: =IF(N135="základná",J135,0) -> 0 | BF135: =IF(N135="znížená",J135,0) -> 0 | BG135: =IF(N135="zákl. prenesená",J135,0) -> 0 | BH135: =IF(N135="zníž. prenesená",J135,0) -> 0 | BI135: =IF(N135="nulová",J135,0) -> 0 | BJ135: 2 | BK135: =ROUND(I135*H135,3) -> 0 | BL135: 64 | BM135: -1238749312
...

Sheet 102.2 - SP 102.2 Zdravote...
AT2: {f9ae54b0-b17f-43e1-af49-09cda32a8002}
AT3: 0
D4: KRYCÍ LIST ROZPOČTU | M4: v --- nižšie sa nachádzajú doplnkové a pomocné údaje k zostavám --- v | AT4: False
D6: Stavba:
E7: ='Rekapitulácia stavby'!K6 -> Materská škola Na Hôrke 30, Nitra
D8: Objekt:
E9: 100 - SO 100 Vytvorenie 2 tried Materskej školy pre 24 + 21 detí
D10: Časť:
E11: 102.2 - SP 102.2 Zdravotechnika
D13: JKSO: | I13: KS:
D14: Miesto: | F14: Na Hôrke 30, Nitra | I14: Dátum: | J14: ='Rekapitulácia stavby'!AN8 -> 24. 2. 2017
D16: Objednávateľ: | I16: IČO:
E17: Mesto NITRA, Štefánikova 60, 950 06 Nitra | I17: IČ DPH:
D19: Zhotoviteľ: | I19: IČO: | J19: ='Rekapitulácia stavby'!AN13 -> Vyplň údaj
E20: ='Rekapitulácia stavby'!E14 -> Vyplň údaj | I20: IČ DPH: | J20: ='Rekapitulácia stavby'!AN14 -> Vyplň údaj
D22: Projektant: | I22: IČO:
E23: Ing.arch.Igor Feník | I23: IČ DPH:
D25: Spracovateľ: | I25: IČO:
E26: Ing.Janečka | I26: IČ DPH:
D28: Poznámka:
D32: Náklady z rozpočtu | J32: =J65 -> 0
D33: Ostatné náklady | J33: =J74 -> 0
D34: Cena bez DPH | J34: =ROUND(J32 + J33, 2) -> 0
F36: Základ dane | I36: Sadzba dane | J36: Výška dane
D37: DPH | E37: základná | F37: =ROUND((SUM(BE74:BE81) + SUM(BE103:BE193)), 2) -> 0 | I37: 0.2 | J37: =ROUND(((SUM(BE74:BE81) + SUM(BE103:BE193))*I37), 2) -> 0
E38: znížená | F38: =ROUND((SUM(BF74:BF81) + SUM(BF103:BF193)), 2) -> 0 | I38: 0.2 | J38: =ROUND(((SUM(BF74:BF81) + SUM(BF103:BF193))*I38), 2) -> 0
E39: zákl. prenesená | F39: =ROUND((SUM(BG74:BG81) + SUM(BG103:BG193)), 2) -> 0 | I39: 0.2 | J39: =0 -> 0
E40: zníž. prenesená | F40: =ROUND((SUM(BH74:BH81) + SUM(BH103:BH193)), 2) -> 0 | I40: 0.2 | J40: =0 -> 0
E41: nulová | F41: =ROUND((SUM(BI74:BI81) + SUM(BI103:BI193)), 2) -> 0 | I41: 0 | J41: =0 -> 0
D43: Cena s DPH | G43: v | H43: EUR | J43: =SUM(J34:J41) -> 0
C49: REKAPITULÁCIA ROZPOČTU
C51: Stavba:
E52: =E7 -> Materská škola Na Hôrke 30, Nitra
C53: Objekt:
E54: 100 - SO 100 Vytvorenie 2 tried Materskej školy pre 24 + 21 detí
C55: Časť:
E56: =E11 -> 102.2 - SP 102.2 Zdravotechnika
C58: Miesto: | F58: =F14 -> Na Hôrke 30, Nitra | I58: Dátum: | J58: =IF(J14="","",J14) -> 24. 2. 2017
C60: Objednávateľ: | F60: =E17 -> Mesto NITRA, Štefánikova 60, 950 06 Nitra | I60: Projektant: | J60: =E23 -> Ing.arch.Igor Feník
C61: Zhotoviteľ: | F61: =IF(E20="","",E20) -> Vyplň údaj | I61: Spracovateľ: | J61: =E26 -> Ing.Janečka
C63: Kód dielu - Popis | J63: Cena celkom [EUR]
C65: 1) Náklady z rozpočtu | J65: =J103 -> 0 | AU65: -1
D66: PSV - Práce a dodávky PSV | J66: =J104 -> 0
D67: 713 - Izolácie tepelné | J67: =J105 -> 0
D68: 721 - Zdravotech. vnútorná kanalizácia | J68: =J114 -> 0
D69: 722 - Zdravotechnika - vnútorný vodovod | J69: =J135 -> 0
D70: 725 - Zdravotechnika - zariaď. predmety | J70: =J151 -> 0
D71: 734 - Ústredné kúrenie, armatúry. | J71: =J189 -> 0
C74: 2) Ostatné náklady | J74: =ROUND(J75 + J76 + J77 + J78 + J79 + J80,2) -> 0 | N74: DPH
D75: GZS | J75: 0 | N75: znížená | AY75: VRN | BE75: =IF(N75="základná",J75,0) -> 0 | BF75: =IF(N75="znížená",J75,0) -> 0 | BG75: =IF(N75="zákl. prenesená",J75,0) -> 0 | BH75: =IF(N75="zníž. prenesená",J75,0) -> 0 | BI75: =IF(N75="nulová",J75,0) -> 0 | BJ75: 2
D76: Mimostaven. doprava | J76: 0 | N76: znížená | AY76: VRN | BE76: =IF(N76="základná",J76,0) -> 0 | BF76: =IF(N76="znížená",J76,0) -> 0 | BG76: =IF(N76="zákl. prenesená",J76,0) -> 0 | BH76: =IF(N76="zníž. prenesená",J76,0) -> 0 | BI76: =IF(N76="nulová",J76,0) -> 0 | BJ76: 2
D77: Sťažené podmienky | J77: 0 | N77: znížená | AY77: VRN | BE77: =IF(N77="základná",J77,0) -> 0 | BF77: =IF(N77="znížená",J77,0) -> 0 | BG77: =IF(N77="zákl. prenesená",J77,0) -> 0 | BH77: =IF(N77="zníž. prenesená",J77,0) -> 0 | BI77: =IF(N77="nulová",J77,0) -> 0 | BJ77: 2
D78: Vplyv prostredia | J78: 0 | N78: znížená | AY78: VRN | BE78: =IF(N78="základná",J78,0) -> 0 | BF78: =IF(N78="znížená",J78,0) -> 0 | BG78: =IF(N78="zákl. prenesená",J78,0) -> 0 | BH78: =IF(N78="zníž. prenesená",J78,0) -> 0 | BI78: =IF(N78="nulová",J78,0) -> 0 | BJ78: 2
D79: Klimatické vplyvy | J79: 0 | N79: znížená | AY79: VRN | BE79: =IF(N79="základná",J79,0) -> 0 | BF79: =IF(N79="znížená",J79,0) -> 0 | BG79: =IF(N79="zákl. prenesená",J79,0) -> 0 | BH79: =IF(N79="zníž. prenesená",J79,0) -> 0 | BI79: =IF(N79="nulová",J79,0) -> 0 | BJ79: 2
D80: Kompletačná činnosť | J80: =ROUND(J32*T80,2) -> 0 | N80: znížená | AY80: KOMPLETACNA | BE80: =IF(N80="základná",J80,0) -> 0 | BF80: =IF(N80="znížená",J80,0) -> 0 | BG80: =IF(N80="zákl. prenesená",J80,0) -> 0 | BH80: =IF(N80="zníž. prenesená",J80,0) -> 0 | BI80: =IF(N80="nulová",J80,0) -> 0 | BJ80: 2
C82: Celkové náklady za stavbu 1) + 2) | J82: =ROUND(J65+J74,2) -> 0
C88: ROZPOČET
C90: Stavba:
E91: =E7 -> Materská škola Na Hôrke 30, Nitra
C92: Objekt:
E93: 100 - SO 100 Vytvorenie 2 tried Materskej školy pre 24 + 21 detí
C94: Časť:
E95: =E11 -> 102.2 - SP 102.2 Zdravotechnika
C97: Miesto: | F97: =F14 -> Na Hôrke 30, Nitra | I97: Dátum: | J97: =IF(J14="","",J14) -> 24. 2. 2017
C99: Objednávateľ: | F99: =E17 -> Mesto NITRA, Štefánikova 60, 950 06 Nitra | I99: Projektant: | J99: =E23 -> Ing.arch.Igor Feník
C100: Zhotoviteľ: | F100: =IF(E20="","",E20) -> Vyplň údaj | I100: Spracovateľ: | J100: =E26 -> Ing.Janečka
C102: PČ | D102: Typ | E102: Kód | F102: Popis | G102: MJ | H102: Množstvo | I102: J.cena [EUR] | J102: Cena celkom [EUR] | K102: Cenová sústava | N102: DPH | O102: J. Nh [h] | P102: Nh celkom [h] | Q102: J. hmotnosť [t] | R102: Hmotnosť celkom [t] | S102: J. suť [t] | T102: Suť Celkom [t]
C103: Náklady z rozpočtu | J103: =BK103 -> 0 | P103: =P104 -> 0 | R103: =R104 -> 0.84729 | T103: =T104 -> 0 | AT103: D | AU103: -1 | BK103: =BK104 -> 0
D104: D | E104: PSV | F104: Práce a dodávky PSV | J104: =BK104 -> 0 | P104: =P105+P114+P135+P151+P189 -> 0 | R104: =R105+R114+R135+R151+R189 -> 0.84729 | T104: =T105+T114+T135+T151+T189 -> 0 | AR104: 2 | AT104: D | AU104: 0 | AY104: ROZPOCET | BK104: =BK105+BK114+BK135+BK151+BK189 -> 0
D105: D | E105: 713 | F105: Izolácie tepelné | J105: =BK105 -> 0 | P105: =SUM(P106:P113) -> 0 | R105: =SUM(R106:R113) -> 0.00977 | T105: =SUM(T106:T113) -> 0 | AR105: 2 | AT105: D | AU105: 1 | AY105: ROZPOCET | BK105: =SUM(BK106:BK113) -> 0
C106: 1 | D106: K | E106: 713482301 | F106: Montaž trubíc MIRELON hr. do 6 mm, vnút.priemer do 18 mm | G106: m | H106: 30 | J106: =ROUND(I106*H106,3) -> 0 | N106: znížená | P106: =O106*H106 -> 0 | Q106: 3e-05 | R106: =Q106*H106 -> 0.0009 | S106: 0 | T106: =S106*H106 -> 0 | AR106: 16 | AT106: K | AU106: 2 | AY106: ROZPOCET | BE106: =IF(N106="základná",J106,0) -> 0 | BF106: =IF(N106="znížená",J106,0) -> 0 | BG106: =IF(N106="zákl. prenesená",J106,0) -> 0 | BH106: =IF(N106="zníž. prenesená",J106,0) -> 0 | BI106: =IF(N106="nulová",J106,0) -> 0 | BJ106: 2 | BK106: =ROUND(I106*H106,3) -> 0 | BL106: 16 | BM106: 1687364326
C107: 2 | D107: M | E107: 2837710200 | F107: Izolácia potrubia- 22/ 6" MIRELON | G107: m | H107: 38.76 | J107: =ROUND(I107*H107,3) -> 0 | N107: znížená | P107: =O107*H107 -> 0 | Q107: 3.998968e-05 | R107: =Q107*H107 -> 0.00155 | S107: 0 | T107: =S107*H107 -> 0 | AR107: 32 | AT107: M | AU107: 2 | AY107: ROZPOCET | BE107: =IF(N107="základná",J107,0) -> 0 | BF107: =IF(N107="znížená",J107,0) -> 0 | BG107: =IF(N107="zákl. prenesená",J107,0) -> 0 | BH107: =IF(N107="zníž. prenesená",J107,0) -> 0 | BI107: =IF(N107="nulová",J107,0) -> 0 | BJ107: 2 | BK107: =ROUND(I107*H107,3) -> 0 | BL107: 16 | BM107: 1420251388
C108: 3 | D108: M | E108: 2837710100 | F108: Izolácia potrubia- 18/6" MIRELON | G108: m | H108: 30.6 | J108: =ROUND(I108*H108,3) -> 0 | N108: znížená | P108: =O108*H108 -> 0 | Q108: 3.9869281e-05 | R108: =Q108*H108 -> 0.00122 | S108: 0 | T108: =S108*H108 -> 0 | AR108: 32 | AT108: M | AU108: 2 | AY108: ROZPOCET | BE108: =IF(N108="základná",J108,0) -> 0 | BF108: =IF(N108="znížená",J108,0) -> 0 | BG108: =IF(N108="zákl. prenesená",J108,0) -> 0 | BH108: =IF(N108="zníž. prenesená",J108,0) -> 0 | BI108: =IF(N108="nulová",J108,0) -> 0 | BJ108: 2 | BK108: =ROUND(I108*H108,3) -> 0 | BL108: 16 | BM108: 1870122247
C109: 4 | D109: K | E109: 713482302 | F109: Montaž trubíc MIRELON hr. do 6 mm, vnút.priemer 19 - 22 mm | G109: m | H109: 38 | J109: =ROUND(I109*H109,3) -> 0 | N109: znížená | P109: =O109*H109 -> 0 | Q109: 3e-05 | R109: =Q109*H109 -> 0.00114 | S109: 0 | T109: =S109*H109 -> 0 | AR109: 16 | AT109: K | AU109: 2 | AY109: ROZPOCET | BE109: =IF(N109="základná",J109,0) -> 0 | BF109: =IF(N109="znížená",J109,0) -> 0 | BG109: =IF(N109="zákl. prenesená",J109,0) -> 0 | BH109: =IF(N109="zníž. prenesená",J109,0) -> 0 | BI109: =IF(N109="nulová",J109,0) -> 0 | BJ109: 2 | BK109: =ROUND(I109*H109,3) -> 0 | BL109: 16 | BM109: -1883573308
C110: 5 | D110: K | E110: 713482303 | F110: Montaž trubíc MIRELON hr. do 6 mm, vnút.priemer 23 - 28 mm | G110: m | H110: 36 | J110: =ROUND(I110*H110,3) -> 0 | N110: znížená | P110: =O110*H110 -> 0 | Q110: 3e-05 | R110: =Q110*H110 -> 0.00108 | S110: 0 | T110: =S110*H110 -> 0 | AR110: 16 | AT110: K | AU110: 2 | AY110: ROZPOCET | BE110: =IF(N110="základná",J110,0) -> 0 | BF110: =IF(N110="znížená",J110,0) -> 0 | BG110: =IF(N110="zákl. prenesená",J110,0) -> 0 | BH110: =IF(N110="zníž. prenesená",J110,0) -> 0 | BI110: =IF(N110="nulová",J110,0) -> 0 | BJ110: 2 | BK110: =ROUND(I110*H110,3) -> 0 | BL110: 16 | BM110: 1299097359
C111: 6 | D111: M | E111: 2837710500 | F111: Izolácia potrubia- 28/ 6" MIRELON | G111: m | H111: 36.72 | J111: =ROUND(I111*H111,3) -> 0 | N111: znížená | P111: =O111*H111 -> 0 | Q111: 5.9912854e-05 | R111: =Q111*H111 -> 0.0022 | S111: 0 | T111: =S111*H111 -> 0 | AR111: 32 | AT111: M | AU111: 2 | AY111: ROZPOCET | BE111: =IF(N111="základná",J111,0) -> 0 | BF111: =IF(N111="znížená",J111,0) -> 0 | BG111: =IF(N111="zákl. prenesená",J111,0) -> 0 | BH111: =IF(N111="zníž. prenesená",J111,0) -> 0 | BI111: =IF(N111="nulová",J111,0) -> 0 | BJ111: 2 | BK111: =ROUND(I111*H111,3) -> 0 | BL111: 16 | BM111: -90559126
C112: 7 | D112: K | E112: 713482304 | F112: Montaž trubíc MIRELON hr. do 6 mm, vnút.priemer 29 - 41 mm | G112: m | H112: 16.5 | J112: =ROUND(I112*H112,3) -> 0 | N112: znížená | P112: =O112*H112 -> 0 | Q112: 3.030303e-05 | R112: =Q112*H112 -> 0.0005 | S112: 0 | T112: =S112*H112 -> 0 | AR112: 16 | AT112: K | AU112: 2 | AY112: ROZPOCET | BE112: =IF(N112="základná",J112,0) -> 0 | BF112: =IF(N112="znížená",J112,0) -> 0 | BG112: =IF(N112="zákl. prenesená",J112,0) -> 0 | BH112: =IF(N112="zníž. prenesená",J112,0) -> 0 | BI112: =IF(N112="nulová",J112,0) -> 0 | BJ112: 2 | BK112: =ROUND(I112*H112,3) -> 0 | BL112: 16 | BM112: 1924546077
C113: 8 | D113: M | E113: 2837710800 | F113: Izolácia potrubia- 35/ 6" MIRELON | G113: m | H113: 16.83 | J113: =ROUND(I113*H113,3) -> 0 | N113: znížená | P113: =O113*H113 -> 0 | Q113: 7.0112894e-05 | R113: =Q113*H113 -> 0.00118 | S113: 0 | T113: =S113*H113 -> 0 | AR113: 32 | AT113: M | AU113: 2 | AY113: ROZPOCET | BE113: =IF(N113="základná",J113,0) -> 0 | BF113: =IF(N113="znížená",J113,0) -> 0 | BG113: =IF(N113="zákl. prenesená",J113,0) -> 0 | BH113: =IF(N113="zníž. prenesená",J113,0) -> 0 | BI113: =IF(N113="nulová",J113,0) -> 0 | BJ113: 2 | BK113: =ROUND(I113*H113,3) -> 0 | BL113: 16 | BM113: -798481360
D114: D | E114: 721 | F114: Zdravotech. vnútorná kanalizácia | J114: =BK114 -> 0 | P114: =SUM(P115:P134) -> 0 | R114: =SUM(R115:R134) -> 0.2488 | T114: =SUM(T115:T134) -> 0 | AR114: 2 | AT114: D | AU114: 1 | AY114: ROZPOCET | BK114: =SUM(BK115:BK134) -> 0
C115: 9 | D115: K | E115: 721100911 | F115: Oprava potrubia hrdlového zazátkovanie hrdla kanalizačného potrubia | G115: ks | H115: 13 | J115: =ROUND(I115*H115,3) -> 0 | N115: znížená | P115: =O115*H115 -> 0 | Q115: 0.00472 | R115: =Q115*H115 -> 0.06136 | S115: 0 | T115: =S115*H115 -> 0 | AR115: 16 | AT115: K | AU115: 2 | AY115: ROZPOCET | BE115: =IF(N115="základná",J115,0) -> 0 | BF115: =IF(N115="znížená",J115,0) -> 0 | BG115: =IF(N115="zákl. prenesená",J115,0) -> 0 | BH115: =IF(N115="zníž. prenesená",J115,0) -> 0 | BI115: =IF(N115="nulová",J115,0) -> 0 | BJ115: 2 | BK115: =ROUND(I115*H115,3) -> 0 | BL115: 16 | BM115: 163945254
C116: 10 | D116: K | E116: 721100914 | F116: Oprava potrubia hrdlového vyvŕtanie otvoru do liatinovej rúry s vyrezaním závitu a zazátkovaním | G116: ks | H116: 3 | J116: =ROUND(I116*H116,3) -> 0 | N116: znížená | P116: =O116*H116 -> 0 | Q116: 0.00021 | R116: =Q116*H116 -> 0.00063 | S116: 0 | T116: =S116*H116 -> 0 | AR116: 16 | AT116: K | AU116: 2 | AY116: ROZPOCET | BE116: =IF(N116="základná",J116,0) -> 0 | BF116: =IF(N116="znížená",J116,0) -> 0 | BG116: =IF(N116="zákl. prenesená",J116,0) -> 0 | BH116: =IF(N116="zníž. prenesená",J116,0) -> 0 | BI116: =IF(N116="nulová",J116,0) -> 0 | BJ116: 2 | BK116: =ROUND(I116*H116,3) -> 0 | BL116: 16 | BM116: -1775863176
C117: 11 | D117: K | E117: 721140905 | F117: Oprava odpadového potrubia liatinového vsadenie odbočky do potrubia DN 100 | G117: ks | H117: 3 | J117: =ROUND(I117*H117,3) -> 0 | N117: znížená | P117: =O117*H117 -> 0 | Q117: 0.03443 | R117: =Q117*H117 -> 0.10329 | S117: 0 | T117: =S117*H117 -> 0 | AR117: 16 | AT117: K | AU117: 2 | AY117: ROZPOCET | BE117: =IF(N117="základná",J117,0) -> 0 | BF117: =IF(N117="znížená",J117,0) -> 0 | BG117: =IF(N117="zákl. prenesená",J117,0) -> 0 | BH117: =IF(N117="zníž. prenesená",J117,0) -> 0 | BI117: =IF(N117="nulová",J117,0) -> 0 | BJ117: 2 | BK117: =ROUND(I117*H117,3) -> 0 | BL117: 16 | BM117: 765716577
C118: 12 | D118: K | E118: 721140915 | F118: Oprava odpadového potrubia liatinového prepojenie doterajšieho potrubia DN 100 | G118: ks | H118: 3 | J118: =ROUND(I118*H118,3) -> 0 | N118: znížená | P118: =O118*H118 -> 0 | Q118: 0.00143 | R118: =Q118*H118 -> 0.00429 | S118: 0 | T118: =S118*H118 -> 0 | AR118: 16 | AT118: K | AU118: 2 | AY118: ROZPOCET | BE118: =IF(N118="základná",J118,0) -> 0 | BF118: =IF(N118="znížená",J118,0) -> 0 | BG118: =IF(N118="zákl. prenesená",J118,0) -> 0 | BH118: =IF(N118="zníž. prenesená",J118,0) -> 0 | BI118: =IF(N118="nulová",J118,0) -> 0 | BJ118: 2 | BK118: =ROUND(I118*H118,3) -> 0 | BL118: 16 | BM118: 217205562
C119: 13 | D119: K | E119: 721170905 | F119: Oprava odpadového potrubia novodurového vsadenie odbočky do potrubia D 50 | G119: ks | H119: 2 | J119: =ROUND(I119*H119,3) -> 0 | N119: znížená | P119: =O119*H119 -> 0 | Q119: 0.00023 | R119: =Q119*H119 -> 0.00046 | S119: 0 | T119: =S119*H119 -> 0 | AR119: 16 | AT119: K | AU119: 2 | AY119: ROZPOCET | BE119: =IF(N119="základná",J119,0) -> 0 | BF119: =IF(N119="znížená",J119,0) -> 0 | BG119: =IF(N119="zákl. prenesená",J119,0) -> 0 | BH119: =IF(N119="zníž. prenesená",J119,0) -> 0 | BI119: =IF(N119="nulová",J119,0) -> 0 | BJ119: 2 | BK119: =ROUND(I119*H119,3) -> 0 | BL119: 16 | BM119: -402556118
C120: 14 | D120: K | E120: 721170906 | F120: Oprava odpadového potrubia novodurového vsadenie odbočky do potrubia D 63 | G120: ks | H120: 2 | J120: =ROUND(I120*H120,3) -> 0 | N120: znížená | P120: =O120*H120 -> 0 | Q120: 0.00038 | R120: =Q120*H120 -> 0.00076 | S120: 0 | T120: =S120*H120 -> 0 | AR120: 16 | AT120: K | AU120: 2 | AY120: ROZPOCET | BE120: =IF(N120="základná",J120,0) -> 0 | BF120: =IF(N120="znížená",J120,0) -> 0 | BG120: =IF(N120="zákl. prenesená",J120,0) -> 0 | BH120: =IF(N120="zníž. prenesená",J120,0) -> 0 | BI120: =IF(N120="nulová",J120,0) -> 0 | BJ120: 2 | BK120: =ROUND(I120*H120,3) -> 0 | BL120: 16 | BM120: 451401540
C121: 15 | D121: K | E121: 721170962 | F121: Oprava odpadového potrubia novodurového prepojenie doterajšieho potrubia D 63 | G121: ks | H121: 2 | J121: =ROUND(I121*H121,3) -> 0 | N121: znížená | P121: =O121*H121 -> 0 | Q121: 0.00056 | R121: =Q121*H121 -> 0.00112 | S121: 0 | T121: =S121*H121 -> 0 | AR121: 16 | AT121: K | AU121: 2 | AY121: ROZPOCET | BE121: =IF(N121="základná",J121,0) -> 0 | BF121: =IF(N121="znížená",J121,0) -> 0 | BG121: =IF(N121="zákl. prenesená",J121,0) -> 0 | BH121: =IF(N121="zníž. prenesená",J121,0) -> 0 | BI121: =IF(N121="nulová",J121,0) -> 0 | BJ121: 2 | BK121: =ROUND(I121*H121,3) -> 0 | BL121: 16 | BM121: 375926088
C122: 16 | D122: K | E122: 721171107 | F122: Potrubie z PVC - U odpadové ležaté hrdlové D 75x1, 8 | G122: m | H122: 3 | J122: =ROUND(I122*H122,3) -> 0 | N122: znížená | P122: =O122*H122 -> 0 | Q122: 0.00157 | R122: =Q122*H122 -> 0.00471 | S122: 0 | T122: =S122*H122 -> 0 | AR122: 16 | AT122: K | AU122: 2 | AY122: ROZPOCET | BE122: =IF(N122="základná",J122,0) -> 0 | BF122: =IF(N122="znížená",J122,0) -> 0 | BG122: =IF(N122="zákl. prenesená",J122,0) -> 0 | BH122: =IF(N122="zníž. prenesená",J122,0) -> 0 | BI122: =IF(N122="nulová",J122,0) -> 0 | BJ122: 2 | BK122: =ROUND(I122*H122,3) -> 0 | BL122: 16 | BM122: -1095035296
C123: 17 | D123: K | E123: 721171109 | F123: Potrubie z PVC - U odpadové ležaté hrdlové D 110x2, 2 | G123: m | H123: 28 | J123: =ROUND(I123*H123,3) -> 0 | N123: znížená | P123: =O123*H123 -> 0 | Q123: 0.00163 | R123: =Q123*H123 -> 0.04564 | S123: 0 | T123: =S123*H123 -> 0 | AR123: 16 | AT123: K | AU123: 2 | AY123: ROZPOCET | BE123: =IF(N123="základná",J123,0) -> 0 | BF123: =IF(N123="znížená",J123,0) -> 0 | BG123: =IF(N123="zákl. prenesená",J123,0) -> 0 | BH123: =IF(N123="zníž. prenesená",J123,0) -> 0 | BI123: =IF(N123="nulová",J123,0) -> 0 | BJ123: 2 | BK123: =ROUND(I123*H123,3) -> 0 | BL123: 16 | BM123: 880993935
C124: 18 | D124: K | E124: 721171803 | F124: Demontáž potrubia z novodurových rúr odpadového alebo pripojovacieho do D75, -0,00210 t | G124: m | H124: 10 | J124: =ROUND(I124*H124,3) -> 0 | N124: znížená | P124: =O124*H124 -> 0 | Q124: 0 | R124: =Q124*H124 -> 0 | S124: 0 | T124: =S124*H124 -> 0 | AR124: 16 | AT124: K | AU124: 2 | AY124: ROZPOCET | BE124: =IF(N124="základná",J124,0) -> 0 | BF124: =IF(N124="znížená",J124,0) -> 0 | BG124: =IF(N124="zákl. prenesená",J124,0) -> 0 | BH124: =IF(N124="zníž. prenesená",J124,0) -> 0 | BI124: =IF(N124="nulová",J124,0) -> 0 | BJ124: 2 | BK124: =ROUND(I124*H124,3) -> 0 | BL124: 16 | BM124: 1084792257
C125: 19 | D125: K | E125: 721173205 | F125: Potrubie z PVC - U odpadné pripájacie D 50x1, 8 | G125: m | H125: 18 | J125: =ROUND(I125*H125,3) -> 0 | N125: znížená | P125: =O125*H125 -> 0 | Q125: 0.00064 | R125: =Q125*H125 -> 0.01152 | S125: 0 | T125: =S125*H125 -> 0 | AR125: 16 | AT125: K | AU125: 2 | AY125: ROZPOCET | BE125: =IF(N125="základná",J125,0) -> 0 | BF125: =IF(N125="znížená",J125,0) -> 0 | BG125: =IF(N125="zákl. prenesená",J125,0) -> 0 | BH125: =IF(N125="zníž. prenesená",J125,0) -> 0 | BI125: =IF(N125="nulová",J125,0) -> 0 | BJ125: 2 | BK125: =ROUND(I125*H125,3) -> 0 | BL125: 16 | BM125: -1869894072
C126: 20 | D126: K | E126: 721173206 | F126: Potrubie z PVC - U odpadné pripájacie D 63x1, 8 | G126: m | H126: 6 | J126: =ROUND(I126*H126,3) -> 0 | N126: znížená | P126: =O126*H126 -> 0 | Q126: 0.00078 | R126: =Q126*H126 -> 0.00468 | S126: 0 | T126: =S126*H126 -> 0 | AR126: 16 | AT126: K | AU126: 2 | AY126: ROZPOCET | BE126: =IF(N126="základná",J126,0) -> 0 | BF126: =IF(N126="znížená",J126,0) -> 0 | BG126: =IF(N126="zákl. prenesená",J126,0) -> 0 | BH126: =IF(N126="zníž. prenesená",J126,0) -> 0 | BI126: =IF(N126="nulová",J126,0) -> 0 | BJ126: 2 | BK126: =ROUND(I126*H126,3) -> 0 | BL126: 16 | BM126: -838592405
... C134: 28 | D134: K | E134: 998721101 | F134: Presun hmôt pre vnútornú kanalizáciu v objektoch výšky do 6 m | G134: t | H134: 0.249 | J134: =ROUND(I134*H134,3) -> 0 | N134: znížená | P134: =O134*H134 -> 0 | Q134: 0 | R134: =Q134*H134 -> 0 | S134: 0 | T134: =S134*H134 -> 0 | AR134: 16 | AT134: K | AU134: 2 | AY134: ROZPOCET | BE134: =IF(N134="základná",J134,0) -> 0 | BF134: =IF(N134="znížená",J134,0) -> 0 | BG134: =IF(N134="zákl. prenesená",J134,0) -> 0 | BH134: =IF(N134="zníž. prenesená",J134,0) -> 0 | BI134: =IF(N134="nulová",J134,0) -> 0 | BJ134: 2 | BK134: =ROUND(I134*H134,3) -> 0 | BL134: 16 | BM134: 1543759311
D135: D | E135: 722 | F135: Zdravotechnika - vnútorný vodovod | J135: =BK135 -> 0 | P135: =SUM(P136:P150) -> 0 | R135: =SUM(R136:R150) -> 0.09317 | T135: =SUM(T136:T150) -> 0 | AR135: 2 | AT135: D | AU135: 1 | AY135: ROZPOCET | BK135: =SUM(BK136:BK150) -> 0
C136: 29 | D136: K | E136: 722130801 | F136: Demontáž potrubia z oceľových rúrok závitových do DN 25, -0,00213t | G136: m | H136: 15 | J136: =ROUND(I136*H136,3) -> 0 | N136: znížená | P136: =O136*H136 -> 0 | Q136: 0 | R136: =Q136*H136 -> 0 | S136: 0 | T136: =S136*H136 -> 0 | AR136: 16 | AT136: K | AU136: 2 | AY136: ROZPOCET | BE136: =IF(N136="základná",J136,0) -> 0 | BF136: =IF(N136="znížená",J136,0) -> 0 | BG136: =IF(N136="zákl. prenesená",J136,0) -> 0 | BH136: =IF(N136="zníž. prenesená",J136,0) -> 0 | BI136: =IF(N136="nulová",J136,0) -> 0 | BJ136: 2 | BK136: =ROUND(I136*H136,3) -> 0 | BL136: 16 | BM136: 110194173
C137: 30 | D137: K | E137: 722131911 | F137: Oprava vodovodného potrubia závitového vsadenie odbočky do potrubia DN 15 | G137: súb. | H137: 7 | J137: =ROUND(I137*H137,3) -> 0 | N137: znížená | P137: =O137*H137 -> 0 | Q137: 0.00214 | R137: =Q137*H137 -> 0.01498 | S137: 0 | T137: =S137*H137 -> 0 | AR137: 16 | AT137: K | AU137: 2 | AY137: ROZPOCET | BE137: =IF(N137="základná",J137,0) -> 0 | BF137: =IF(N137="znížená",J137,0) -> 0 | BG137: =IF(N137="zákl. prenesená",J137,0) -> 0 | BH137: =IF(N137="zníž. prenesená",J137,0) -> 0 | BI137: =IF(N137="nulová",J137,0) -> 0 | BJ137: 2 | BK137: =ROUND(I137*H137,3) -> 0 | BL137: 16 | BM137: 1053643469
C138: 31 | D138: K | E138: 722131912 | F138: Oprava vodovodného potrubia závitového vsadenie odbočky do potrubia DN 20 | G138: súb. | H138: 2 | J138: =ROUND(I138*H138,3) -> 0 | N138: znížená | P138: =O138*H138 -> 0 | Q138: 0.00332 | R138: =Q138*H138 -> 0.00664 | S138: 0 | T138: =S138*H138 -> 0 | AR138: 16 | AT138: K | AU138: 2 | AY138: ROZPOCET | BE138: =IF(N138="základná",J138,0) -> 0 | BF138: =IF(N138="znížená",J138,0) -> 0 | BG138: =IF(N138="zákl. prenesená",J138,0) -> 0 | BH138: =IF(N138="zníž. prenesená",J138,0) -> 0 | BI138: =IF(N138="nulová",J138,0) -> 0 | BJ138: 2 | BK138: =ROUND(I138*H138,3) -> 0 | BL138: 16 | BM138: 360378129
C139: 32 | D139: K | E139: 722131913 | F139: Oprava vodovodného potrubia závitového vsadenie odbočky do potrubia DN 25 | G139: súb. | H139: 1 | J139: =ROUND(I139*H139,3) -> 0 | N139: znížená | P139: =O139*H139 -> 0 | Q139: 0.00403 | R139: =Q139*H139 -> 0.00403 | S139: 0 | T139: =S139*H139 -> 0 | AR139: 16 | AT139: K | AU139: 2 | AY139: ROZPOCET | BE139: =IF(N139="základná",J139,0) -> 0 | BF139: =IF(N139="znížená",J139,0) -> 0 | BG139: =IF(N139="zákl. prenesená",J139,0) -> 0 | BH139: =IF(N139="zníž. prenesená",J139,0) -> 0 | BI139: =IF(N139="nulová",J139,0) -> 0 | BJ139: 2 | BK139: =ROUND(I139*H139,3) -> 0 | BL139: 16 | BM139: -972115782
C140: 33 | D140: K | E140: 722131914 | F140: Oprava vodovodného potrubia závitového vsadenie odbočky do potrubia DN 32 | G140: súb. | H140: 1 | J140: =ROUND(I140*H140,3) -> 0 | N140: znížená | P140: =O140*H140 -> 0 | Q140: 0.00525 | R140: =Q140*H140 -> 0.00525 | S140: 0 | T140: =S140*H140 -> 0 | AR140: 16 | AT140: K | AU140: 2 | AY140: ROZPOCET | BE140: =IF(N140="základná",J140,0) -> 0 | BF140: =IF(N140="znížená",J140,0) -> 0 | BG140: =IF(N140="zákl. prenesená",J140,0) -> 0 | BH140: =IF(N140="zníž. prenesená",J140,0) -> 0 | BI140: =IF(N140="nulová",J140,0) -> 0 | BJ140: 2 | BK140: =ROUND(I140*H140,3) -> 0 | BL140: 16 | BM140: 792493451
C141: 34 | D141: K | E141: 722172120 | F141: Potrubie z plastických rúr PP-R D16/2.7 - PN20, polyfúznym zváraním | G141: m | H141: 30 | J141: =ROUND(I141*H141,3) -> 0 | N141: znížená | P141: =O141*H141 -> 0 | Q141: 0.00013 | R141: =Q141*H141 -> 0.0039 | S141: 0 | T141: =S141*H141 -> 0 | AR141: 16 | AT141: K | AU141: 2 | AY141: ROZPOCET | BE141: =IF(N141="základná",J141,0) -> 0 | BF141: =IF(N141="znížená",J141,0) -> 0 | BG141: =IF(N141="zákl. prenesená",J141,0) -> 0 | BH141: =IF(N141="zníž. prenesená",J141,0) -> 0 | BI141: =IF(N141="nulová",J141,0) -> 0 | BJ141: 2 | BK141: =ROUND(I141*H141,3) -> 0 | BL141: 16 | BM141: 11197488
C142: 35 | D142: K | E142: 722172121 | F142: Potrubie z plastických rúr PP-R D20/3.4 - PN20, polyfúznym zváraním | G142: m | H142: 38 | J142: =ROUND(I142*H142,3) -> 0 | N142: znížená | P142: =O142*H142 -> 0 | Q142: 0.0002 | R142: =Q142*H142 -> 0.0076 | S142: 0 | T142: =S142*H142 -> 0 | AR142: 16 | AT142: K | AU142: 2 | AY142: ROZPOCET | BE142: =IF(N142="základná",J142,0) -> 0 | BF142: =IF(N142="znížená",J142,0) -> 0 | BG142: =IF(N142="zákl. prenesená",J142,0) -> 0 | BH142: =IF(N142="zníž. prenesená",J142,0) -> 0 | BI142: =IF(N142="nulová",J142,0) -> 0 | BJ142: 2 | BK142: =ROUND(I142*H142,3) -> 0 | BL142: 16 | BM142: 655761041
...

Sheet 102.3 - SP 102.3 Elektroi...
AT2: {01bae37b-c463-49d4-89f8-8e63288f59c1}
AT3: 0
D4: KRYCÍ LIST ROZPOČTU | M4: v --- nižšie sa nachádzajú doplnkové a pomocné údaje k zostavám --- v | AT4: False
D6: Stavba:
E7: ='Rekapitulácia stavby'!K6 -> Materská škola Na Hôrke 30, Nitra
D8: Objekt:
E9: 100 - SO 100 Vytvorenie 2 tried Materskej školy pre 24 + 21 detí
D10: Časť:
E11: 102.3 - SP 102.3 Elektroinštalácia
D13: JKSO: | I13: KS:
D14: Miesto: | F14: Na Hôrke 30, Nitra | I14: Dátum: | J14: ='Rekapitulácia stavby'!AN8 -> 24. 2. 2017
D16: Objednávateľ: | I16: IČO:
E17: Mesto NITRA, Štefánikova 60, 950 06 Nitra | I17: IČ DPH:
D19: Zhotoviteľ: | I19: IČO: | J19: ='Rekapitulácia stavby'!AN13 -> Vyplň údaj
E20: ='Rekapitulácia stavby'!E14 -> Vyplň údaj | I20: IČ DPH: | J20: ='Rekapitulácia stavby'!AN14 -> Vyplň údaj
D22: Projektant: | I22: IČO:
E23: Ing.arch.Igor Feník | I23: IČ DPH:
D25: Spracovateľ: | I25: IČO:
E26: Ing.Janečka | I26: IČ DPH:
D28: Poznámka:
D32: Náklady z rozpočtu | J32: =J65 -> 0
D33: Ostatné náklady | J33: =J71 -> 0
D34: Cena bez DPH | J34: =ROUND(J32 + J33, 2) -> 0
F36: Základ dane | I36: Sadzba dane | J36: Výška dane
D37: DPH | E37: základná | F37: =ROUND((SUM(BE71:BE78) + SUM(BE100:BE173)), 2) -> 0 | I37: 0.2 | J37: =ROUND(((SUM(BE71:BE78) + SUM(BE100:BE173))*I37), 2) -> 0
E38: znížená | F38: =ROUND((SUM(BF71:BF78) + SUM(BF100:BF173)), 2) -> 0 | I38: 0.2 | J38: =ROUND(((SUM(BF71:BF78) + SUM(BF100:BF173))*I38), 2) -> 0
E39: zákl. prenesená | F39: =ROUND((SUM(BG71:BG78) + SUM(BG100:BG173)), 2) -> 0 | I39: 0.2 | J39: =0 -> 0
E40: zníž. prenesená | F40: =ROUND((SUM(BH71:BH78) + SUM(BH100:BH173)), 2) -> 0 | I40: 0.2 | J40: =0 -> 0
E41: nulová | F41: =ROUND((SUM(BI71:BI78) + SUM(BI100:BI173)), 2) -> 0 | I41: 0 | J41: =0 -> 0
D43: Cena s DPH | G43: v | H43: EUR | J43: =SUM(J34:J41) -> 0
C49: REKAPITULÁCIA ROZPOČTU
C51: Stavba:
E52: =E7 -> Materská škola Na Hôrke 30, Nitra
C53: Objekt:
E54: 100 - SO 100 Vytvorenie 2 tried Materskej školy pre 24 + 21 detí
C55: Časť:
E56: =E11 -> 102.3 - SP 102.3 Elektroinštalácia
C58: Miesto: | F58: =F14 -> Na Hôrke 30, Nitra | I58: Dátum: | J58: =IF(J14="","",J14) -> 24. 2. 2017
C60: Objednávateľ: | F60: =E17 -> Mesto NITRA, Štefánikova 60, 950 06 Nitra | I60: Projektant: | J60: =E23 -> Ing.arch.Igor Feník
C61: Zhotoviteľ: | F61: =IF(E20="","",E20) -> Vyplň údaj | I61: Spracovateľ: | J61: =E26 -> Ing.Janečka
C63: Kód dielu - Popis | J63: Cena celkom [EUR]
C65: 1) Náklady z rozpočtu | J65: =J100 -> 0 | AU65: -1
D66: M - Práce a dodávky M | J66: =J101 -> 0
D67: 21-M-01 - Montáž-Elektroinštalácia | J67: =J102 -> 0
D68: 21-M-02 - Materiál -Elektroinštalácia | J68: =J141 -> 0
C71: 2) Ostatné náklady | J71: =ROUND(J72 + J73 + J74 + J75 + J76 + J77,2) -> 0 | N71: DPH
D72: GZS | J72: 0 | N72: znížená | AY72: VRN | BE72: =IF(N72="základná",J72,0) -> 0 | BF72: =IF(N72="znížená",J72,0) -> 0 | BG72: =IF(N72="zákl. prenesená",J72,0) -> 0 | BH72: =IF(N72="zníž. prenesená",J72,0) -> 0 | BI72: =IF(N72="nulová",J72,0) -> 0 | BJ72: 2
D73: Mimostaven. doprava | J73: 0 | N73: znížená | AY73: VRN | BE73: =IF(N73="základná",J73,0) -> 0 | BF73: =IF(N73="znížená",J73,0) -> 0 | BG73: =IF(N73="zákl. prenesená",J73,0) -> 0 | BH73: =IF(N73="zníž. prenesená",J73,0) -> 0 | BI73: =IF(N73="nulová",J73,0) -> 0 | BJ73: 2
D74: Sťažené podmienky | J74: 0 | N74: znížená | AY74: VRN | BE74: =IF(N74="základná",J74,0) -> 0 | BF74: =IF(N74="znížená",J74,0) -> 0 | BG74: =IF(N74="zákl. prenesená",J74,0) -> 0 | BH74: =IF(N74="zníž. prenesená",J74,0) -> 0 | BI74: =IF(N74="nulová",J74,0) -> 0 | BJ74: 2
D75: Vplyv prostredia | J75: 0 | N75: znížená | AY75: VRN | BE75: =IF(N75="základná",J75,0) -> 0 | BF75: =IF(N75="znížená",J75,0) -> 0 | BG75: =IF(N75="zákl. prenesená",J75,0) -> 0 | BH75: =IF(N75="zníž. prenesená",J75,0) -> 0 | BI75: =IF(N75="nulová",J75,0) -> 0 | BJ75: 2
D76: Klimatické vplyvy | J76: 0 | N76: znížená | AY76: VRN | BE76: =IF(N76="základná",J76,0) -> 0 | BF76: =IF(N76="znížená",J76,0) -> 0 | BG76: =IF(N76="zákl. prenesená",J76,0) -> 0 | BH76: =IF(N76="zníž. prenesená",J76,0) -> 0 | BI76: =IF(N76="nulová",J76,0) -> 0 | BJ76: 2
D77: Kompletačná činnosť | J77: =ROUND(J32*T77,2) -> 0 | N77: znížená | AY77: KOMPLETACNA | BE77: =IF(N77="základná",J77,0) -> 0 | BF77: =IF(N77="znížená",J77,0) -> 0 | BG77: =IF(N77="zákl. prenesená",J77,0) -> 0 | BH77: =IF(N77="zníž. prenesená",J77,0) -> 0 | BI77: =IF(N77="nulová",J77,0) -> 0 | BJ77: 2
C79: Celkové náklady za stavbu 1) + 2) | J79: =ROUND(J65+J71,2) -> 0
C85: ROZPOČET
C87: Stavba:
E88: =E7 -> Materská škola Na Hôrke 30, Nitra
C89: Objekt:
E90: 100 - SO 100 Vytvorenie 2 tried Materskej školy pre 24 + 21 detí
C91: Časť:
E92: =E11 -> 102.3 - SP 102.3 Elektroinštalácia
C94: Miesto: | F94: =F14 -> Na Hôrke 30, Nitra | I94: Dátum: | J94: =IF(J14="","",J14) -> 24. 2. 2017
C96: Objednávateľ: | F96: =E17 -> Mesto NITRA, Štefánikova 60, 950 06 Nitra | I96: Projektant: | J96: =E23 -> Ing.arch.Igor Feník
C97: Zhotoviteľ: | F97: =IF(E20="","",E20) -> Vyplň údaj | I97: Spracovateľ: | J97: =E26 -> Ing.Janečka
C99: PČ | D99: Typ | E99: Kód | F99: Popis | G99: MJ | H99: Množstvo | I99: J.cena [EUR] | J99: Cena celkom [EUR] | K99: Cenová sústava | N99: DPH | O99: J. Nh [h] | P99: Nh celkom [h] | Q99: J. hmotnosť [t] | R99: Hmotnosť celkom [t] | S99: J. suť [t] | T99: Suť Celkom [t]
C100: Náklady z rozpočtu | J100: =BK100 -> 0 | P100: =P101 -> 0 | R100: =R101 -> 0 | T100: =T101 -> 0 | AT100: D | AU100: -1 | BK100: =BK101 -> 0
D101: D | E101: M | F101: Práce a dodávky M | J101: =BK101 -> 0 | P101: =P102+P141 -> 0 | R101: =R102+R141 -> 0 | T101: =T102+T141 -> 0 | AR101: 3 | AT101: D | AU101: 0 | AY101: ROZPOCET | BK101: =BK102+BK141 -> 0
D102: D | E102: 21-M-01 | F102: Montáž-Elektroinštalácia | J102: =BK102 -> 0 | P102: =SUM(P103:P140) -> 0 | R102: =SUM(R103:R140) -> 0 | T102: =SUM(T103:T140) -> 0 | AR102: 3 | AT102: D | AU102: 1 | AY102: ROZPOCET | BK102: =SUM(BK103:BK140) -> 0
C103: 1 | D103: K | E103: 201201244 | F103: Projekt skutočného vyhotovenia | G103: kpl | H103: 1 | J103: =ROUND(I103*H103,3) -> 0 | N103: znížená | P103: =O103*H103 -> 0 | Q103: 0 | R103: =Q103*H103 -> 0 | S103: 0 | T103: =S103*H103 -> 0 | AR103: 64 | AT103: K | AU103: 2 | AY103: ROZPOCET | BE103: =IF(N103="základná",J103,0) -> 0 | BF103: =IF(N103="znížená",J103,0) -> 0 | BG103: =IF(N103="zákl. prenesená",J103,0) -> 0 | BH103: =IF(N103="zníž. prenesená",J103,0) -> 0 | BI103: =IF(N103="nulová",J103,0) -> 0 | BJ103: 2 | BK103: =ROUND(I103*H103,3) -> 0 | BL103: 64 | BM103: 1039226063
C104: 2 | D104: K | E104: 201202111 | F104: Revízna správa | G104: kpl | H104: 1 | J104: =ROUND(I104*H104,3) -> 0 | N104: znížená | P104: =O104*H104 -> 0 | Q104: 0 | R104: =Q104*H104 -> 0 | S104: 0 | T104: =S104*H104 -> 0 | AR104: 64 | AT104: K | AU104: 2 | AY104: ROZPOCET | BE104: =IF(N104="základná",J104,0) -> 0 | BF104: =IF(N104="znížená",J104,0) -> 0 | BG104: =IF(N104="zákl. prenesená",J104,0) -> 0 | BH104: =IF(N104="zníž. prenesená",J104,0) -> 0 | BI104: =IF(N104="nulová",J104,0) -> 0 | BJ104: 2 | BK104: =ROUND(I104*H104,3) -> 0 | BL104: 64 | BM104: 948339945
C105: 3 | D105: K | E105: 201305444 | F105: Meranie šk | G105: kpl | H105: 1 | J105: =ROUND(I105*H105,3) -> 0 | N105: znížená | P105: =O105*H105 -> 0 | Q105: 0 | R105: =Q105*H105 -> 0 | S105: 0 | T105: =S105*H105 -> 0 | AR105: 64 | AT105: K | AU105: 2 | AY105: ROZPOCET | BE105: =IF(N105="základná",J105,0) -> 0 | BF105: =IF(N105="znížená",J105,0) -> 0 | BG105: =IF(N105="zákl. prenesená",J105,0) -> 0 | BH105: =IF(N105="zníž. prenesená",J105,0) -> 0 | BI105: =IF(N105="nulová",J105,0) -> 0 | BJ105: 2 | BK105: =ROUND(I105*H105,3) -> 0 | BL105: 64 | BM105: 534466203
C106: 4 | D106: K | E106: 202124547-D | F106: Demontáž jestvujúcej inštalácie | G106: kpl | H106: 1 | J106: =ROUND(I106*H106,3) -> 0 | N106: znížená | P106: =O106*H106 -> 0 | Q106: 0 | R106: =Q106*H106 -> 0 | S106: 0 | T106: =S106*H106 -> 0 | AR106: 64 | AT106: K | AU106: 2 | AY106: ROZPOCET | BE106: =IF(N106="základná",J106,0) -> 0 | BF106: =IF(N106="znížená",J106,0) -> 0 | BG106: =IF(N106="zákl. prenesená",J106,0) -> 0 | BH106: =IF(N106="zníž. prenesená",J106,0) -> 0 | BI106: =IF(N106="nulová",J106,0) -> 0 | BJ106: 2 | BK106: =ROUND(I106*H106,3) -> 0 | BL106: 64 | BM106: -335854418
C107: 5 | D107: K | E107: 210010108 | F107: Lišta elektroinštalačná z PVC 20x20, uložená pevne, vkladacia | G107: m | H107: 541 | J107: =ROUND(I107*H107,3) -> 0 | N107: znížená | P107: =O107*H107 -> 0 | Q107: 0 | R107: =Q107*H107 -> 0 | S107: 0 | T107: =S107*H107 -> 0 | AR107: 64 | AT107: K | AU107: 2 | AY107: ROZPOCET | BE107: =IF(N107="základná",J107,0) -> 0 | BF107: =IF(N107="znížená",J107,0) -> 0 | BG107: =IF(N107="zákl. prenesená",J107,0) -> 0 | BH107: =IF(N107="zníž. prenesená",J107,0) -> 0 | BI107: =IF(N107="nulová",J107,0) -> 0 | BJ107: 2 | BK107: =ROUND(I107*H107,3) -> 0 | BL107: 64 | BM107: -179658472
C108: 6 | D108: K | E108: 210010109 | F108: Lišta elektroinštalačná z PVC 40x20, uložená pevne, vkladacia | G108: m | H108: 63 | J108: =ROUND(I108*H108,3) -> 0 | N108: znížená | P108: =O108*H108 -> 0 | Q108: 0 | R108: =Q108*H108 -> 0 | S108: 0 | T108: =S108*H108 -> 0 | AR108: 64 | AT108: K | AU108: 2 | AY108: ROZPOCET | BE108: =IF(N108="základná",J108,0) -> 0 | BF108: =IF(N108="znížená",J108,0) -> 0 | BG108: =IF(N108="zákl. prenesená",J108,0) -> 0 | BH108: =IF(N108="zníž. prenesená",J108,0) -> 0 | BI108: =IF(N108="nulová",J108,0) -> 0 | BJ108: 2 | BK108: =ROUND(I108*H108,3) -> 0 | BL108: 64 | BM108: 16263223
C109: 7 | D109: K | E109: 210010110 | F109: Lišta elektroinštalačná z PVC 40x40, uložená pevne, vkladacia | G109: m | H109: 198 | J109: =ROUND(I109*H109,3) -> 0 | N109: znížená | P109: =O109*H109 -> 0 | Q109: 0 | R109: =Q109*H109 -> 0 | S109: 0 | T109: =S109*H109 -> 0 | AR109: 64 | AT109: K | AU109: 2 | AY109: ROZPOCET | BE109: =IF(N109="základná",J109,0) -> 0 | BF109: =IF(N109="znížená",J109,0) -> 0 | BG109: =IF(N109="zákl. prenesená",J109,0) -> 0 | BH109: =IF(N109="zníž. prenesená",J109,0) -> 0 | BI109: =IF(N109="nulová",J109,0) -> 0 | BJ109: 2 | BK109: =ROUND(I109*H109,3) -> 0 | BL109: 64 | BM109: 1862952587
C110: 8 | D110: K | E110: 210010112 | F110: Lišta elektroinštalačná z PVC 80x40, uložená pevne, vkladacia | G110: m | H110: 64 | J110: =ROUND(I110*H110,3) -> 0 | N110: znížená | P110: =O110*H110 -> 0 | Q110: 0 | R110: =Q110*H110 -> 0 | S110: 0 | T110: =S110*H110 -> 0 | AR110: 64 | AT110: K | AU110: 2 | AY110: ROZPOCET | BE110: =IF(N110="základná",J110,0) -> 0 | BF110: =IF(N110="znížená",J110,0) -> 0 | BG110: =IF(N110="zákl. prenesená",J110,0) -> 0 | BH110: =IF(N110="zníž. prenesená",J110,0) -> 0 | BI110: =IF(N110="nulová",J110,0) -> 0 | BJ110: 2 | BK110: =ROUND(I110*H110,3) -> 0 | BL110: 64 | BM110: -948833294
C111: 9 | D111: K | E111: 210010331 | F111: Krabica pre lištový rozvod typ LK 80x28 R/1HF bez zapojenia | G111: ks | H111: 52 | J111: =ROUND(I111*H111,3) -> 0 | N111: znížená | P111: =O111*H111 -> 0 | Q111: 0 | R111: =Q111*H111 -> 0 | S111: 0 | T111: =S111*H111 -> 0 | AR111: 64 | AT111: K | AU111: 2 | AY111: ROZPOCET | BE111: =IF(N111="základná",J111,0) -> 0 | BF111: =IF(N111="znížená",J111,0) -> 0 | BG111: =IF(N111="zákl. prenesená",J111,0) -> 0 | BH111: =IF(N111="zníž. prenesená",J111,0) -> 0 | BI111: =IF(N111="nulová",J111,0) -> 0 | BJ111: 2 | BK111: =ROUND(I111*H111,3) -> 0 | BL111: 64 | BM111: 1703990671
C112: 10 | D112: K | E112: 210010332 | F112: Krabica pre lištový rozvod s viečkom a svorkovnicou, vrátane zapojenia | G112: ks | H112: 28 | J112: =ROUND(I112*H112,3) -> 0 | N112: znížená | P112: =O112*H112 -> 0 | Q112: 0 | R112: =Q112*H112 -> 0 | S112: 0 | T112: =S112*H112 -> 0 | AR112: 64 | AT112: K | AU112: 2 | AY112: ROZPOCET | BE112: =IF(N112="základná",J112,0) -> 0 | BF112: =IF(N112="znížená",J112,0) -> 0 | BG112: =IF(N112="zákl. prenesená",J112,0) -> 0 | BH112: =IF(N112="zníž. prenesená",J112,0) -> 0 | BI112: =IF(N112="nulová",J112,0) -> 0 | BJ112: 2 | BK112: =ROUND(I112*H112,3) -> 0 | BL112: 64 | BM112: -1526635328
C113: 11 | D113: K | E113: 210010333 | F113: Krabica pre lištový rozvod typ LK 80x28 2ZKHF bez zapojenia | G113: ks | H113: 13 | J113: =ROUND(I113*H113,3) -> 0 | N113: znížená | P113: =O113*H113 -> 0 | Q113: 0 | R113: =Q113*H113 -> 0 | S113: 0 | T113: =S113*H113 -> 0 | AR113: 64 | AT113: K | AU113: 2 | AY113: ROZPOCET | BE113: =IF(N113="základná",J113,0) -> 0 | BF113: =IF(N113="znížená",J113,0) -> 0 | BG113: =IF(N113="zákl. prenesená",J113,0) -> 0 | BH113: =IF(N113="zníž. prenesená",J113,0) -> 0 | BI113: =IF(N113="nulová",J113,0) -> 0 | BJ113: 2 | BK113: =ROUND(I113*H113,3) -> 0 | BL113: 64 | BM113: -1486516463
C114: 12 | D114: K | E114: 210011310 | F114: Osadenie polyamidovej príchytky HM 8 do tvrdého kameňa, jednoduchého betónu a železobetónu | G114: ks | H114: 268 | J114: =ROUND(I114*H114,3) -> 0 | N114: znížená | P114: =O114*H114 -> 0 | Q114: 0 | R114: =Q114*H114 -> 0 | S114: 0 | T114: =S114*H114 -> 0 | AR114: 64 | AT114: K | AU114: 2 | AY114: ROZPOCET | BE114: =IF(N114="základná",J114,0) -> 0 | BF114: =IF(N114="znížená",J114,0) -> 0 | BG114: =IF(N114="zákl. prenesená",J114,0) -> 0 | BH114: =IF(N114="zníž. prenesená",J114,0) -> 0 | BI114: =IF(N114="nulová",J114,0) -> 0 | BJ114: 2 | BK114: =ROUND(I114*H114,3) -> 0 | BL114: 64 | BM114: 1350768719
... C139: 37 | D139: K | E139: 220732300 | F139: Dátový kábel FTP cat.6 AWG23 LSOH | G139: m | H139: 340 | J139: =ROUND(I139*H139,3) -> 0 | N139: znížená | P139: =O139*H139 -> 0 | Q139: 0 | R139: =Q139*H139 -> 0 | S139: 0 | T139: =S139*H139 -> 0 | AR139: 64 | AT139: K | AU139: 2 | AY139: ROZPOCET | BE139: =IF(N139="základná",J139,0) -> 0 | BF139: =IF(N139="znížená",J139,0) -> 0 | BG139: =IF(N139="zákl. prenesená",J139,0) -> 0 | BH139: =IF(N139="zníž. prenesená",J139,0) -> 0 | BI139: =IF(N139="nulová",J139,0) -> 0 | BJ139: 2 | BK139: =ROUND(I139*H139,3) -> 0 | BL139: 64 | BM139: 879252824
C140: 38 | D140: K | E140: PPV | F140: Podiel pridružených výkonov | G140: % | J140: =ROUND(I140*H140,3) -> 0 | N140: znížená | P140: =O140*H140 -> 0 | Q140: 0 | R140: =Q140*H140 -> 0 | S140: 0 | T140: =S140*H140 -> 0 | AR140: 64 | AT140: K | AU140: 2 | AY140: ROZPOCET | BE140: =IF(N140="základná",J140,0) -> 0 | BF140: =IF(N140="znížená",J140,0) -> 0 | BG140: =IF(N140="zákl. prenesená",J140,0) -> 0 | BH140: =IF(N140="zníž. prenesená",J140,0) -> 0 | BI140: =IF(N140="nulová",J140,0) -> 0 | BJ140: 2 | BK140: =ROUND(I140*H140,3) -> 0 | BL140: 64 | BM140: 2044481954
D141: D | E141: 21-M-02 | F141: Materiál -Elektroinštalácia | J141: =BK141 -> 0 | P141: =SUM(P142:P173) -> 0 | R141: =SUM(R142:R173) -> 0 | T141: =SUM(T142:T173) -> 0 | AR141: 3 | AT141: D | AU141: 1 | AY141: ROZPOCET | BK141: =SUM(BK142:BK173) -> 0
C142: 39 | D142: M | E142: 3450704000 | F142: krabica prístrojová lištová bezhalogénová LK 80x28 R/1HF | G142: ks | H142: 52 | J142: =ROUND(I142*H142,3) -> 0 | N142: znížená | P142: =O142*H142 -> 0 | Q142: 0 | R142: =Q142*H142 -> 0 | S142: 0 | T142: =S142*H142 -> 0 | AR142: 256 | AT142: M | AU142: 2 | AY142: ROZPOCET | BE142: =IF(N142="základná",J142,0) -> 0 | BF142: =IF(N142="znížená",J142,0) -> 0 | BG142: =IF(N142="zákl. prenesená",J142,0) -> 0 | BH142: =IF(N142="zníž. prenesená",J142,0) -> 0 | BI142: =IF(N142="nulová",J142,0) -> 0 | BJ142: 2 | BK142: =ROUND(I142*H142,3) -> 0 | BL142: 64 | BM142: -326545160
C143: 40 | D143: M | E143: 3450906510 | F143: krabica prístrojová lištová bezhalogénová pre dvojzásuvku LK 80x28 2ZKHF | G143: ks | H143: 13 | J143: =ROUND(I143*H143,3) -> 0 | N143: znížená | P143: =O143*H143 -> 0 | Q143: 0 | R143: =Q143*H143 -> 0 | S143: 0 | T143: =S143*H143 -> 0 | AR143: 256 | AT143: M | AU143: 2 | AY143: ROZPOCET | BE143: =IF(N143="základná",J143,0) -> 0 | BF143: =IF(N143="znížená",J143,0) -> 0 | BG143: =IF(N143="zákl. prenesená",J143,0) -> 0 | BH143: =IF(N143="zníž. prenesená",J143,0) -> 0 | BI143: =IF(N143="nulová",J143,0) -> 0 | BJ143: 2 | BK143: =ROUND(I143*H143,3) -> 0 | BL143: 64 | BM143: 2123777502
C144: 41 | D144: M | E144: 3201225455 | F144: krabica rozvodná lištová bezhalogénová LK vr.wago svoriek | G144: ks | H144: 28 | J144: =ROUND(I144*H144,3) -> 0 | N144: znížená | P144: =O144*H144 -> 0 | Q144: 0 | R144: =Q144*H144 -> 0 | S144: 0 | T144: =S144*H144 -> 0 | AR144: 256 | AT144: M | AU144: 2 | AY144: ROZPOCET | BE144: =IF(N144="základná",J144,0) -> 0 | BF144: =IF(N144="znížená",J144,0) -> 0 | BG144: =IF(N144="zákl. prenesená",J144,0) -> 0 | BH144: =IF(N144="zníž. prenesená",J144,0) -> 0 | BI144: =IF(N144="nulová",J144,0) -> 0 | BJ144: 2 | BK144: =ROUND(I144*H144,3) -> 0 | BL144: 64 | BM144: 1689647399
C145: 42 | D145: M | E145: 3232015444 | F145: káblové vedenie v plastovej bezhalogénovej lište 20x20HF vr.ohybov,rohov,spojok | G145: m | H145: 541 | J145: =ROUND(I145*H145,3) -> 0 | N145: znížená | P145: =O145*H145 -> 0 | Q145: 0 | R145: =Q145*H145 -> 0 | S145: 0 | T145: =S145*H145 -> 0 | AR145: 256 | AT145: M | AU145: 2 | AY145: ROZPOCET | BE145: =IF(N145="základná",J145,0) -> 0 | BF145: =IF(N145="znížená",J145,0) -> 0 | BG145: =IF(N145="zákl. prenesená",J145,0) -> 0 | BH145: =IF(N145="zníž. prenesená",J145,0) -> 0 | BI145: =IF(N145="nulová",J145,0) -> 0 | BJ145: 2 | BK145: =ROUND(I145*H145,3) -> 0 | BL145: 64 | BM145: 2013772213
C146: 43 | D146: M | E146: 3203204544 | F146: káblové vedenie v plastovej bezhalogénovej lište 40x20HF vr.ohybov,rohov,spojok | G146: m | H146: 63 | J146: =ROUND(I146*H146,3) -> 0 | N146: znížená | P146: =O146*H146 -> 0 | Q146: 0 | R146: =Q146*H146 -> 0 | S146: 0 | T146: =S146*H146 -> 0 | AR146: 256 | AT146: M | AU146: 2 | AY146: ROZPOCET | BE146: =IF(N146="základná",J146,0) -> 0 | BF146: =IF(N146="znížená",J146,0) -> 0 | BG146: =IF(N146="zákl. prenesená",J146,0) -> 0 | BH146: =IF(N146="zníž. prenesená",J146,0) -> 0 | BI146: =IF(N146="nulová",J146,0) -> 0 | BJ146: 2 | BK146: =ROUND(I146*H146,3) -> 0 | BL146: 64 | BM146: -1419261245
C147: 44 | D147: M | E147: 3201547888 | F147: káblové vedenie v plastovej bezhalogénovej lište 40x40HF vr.ohybov,rohov,spojok | G147: m | H147: 198 | J147: =ROUND(I147*H147,3) -> 0 | N147: znížená | P147: =O147*H147 -> 0 | Q147: 0 | R147: =Q147*H147 -> 0 | S147: 0 | T147: =S147*H147 -> 0 | AR147: 256 | AT147: M | AU147: 2 | AY147: ROZPOCET | BE147: =IF(N147="základná",J147,0) -> 0 | BF147: =IF(N147="znížená",J147,0) -> 0 | BG147: =IF(N147="zákl. prenesená",J147,0) -> 0 | BH147: =IF(N147="zníž. prenesená",J147,0) -> 0 | BI147: =IF(N147="nulová",J147,0) -> 0 | BJ147: 2 | BK147: =ROUND(I147*H147,3) -> 0 | BL147: 64 | BM147: 1232587301
C148: 45 | D148: M | E148: 3203545445 | F148: káblové vedenie v plastovej bezhalogénovej lište 80x40HF vr.ohybov,rohov,spojok | G148: m | H148: 64 | J148: =ROUND(I148*H148,3) -> 0 | N148: znížená | P148: =O148*H148 -> 0 | Q148: 0 | R148: =Q148*H148 -> 0 | S148: 0 | T148: =S148*H148 -> 0 | AR148: 256 | AT148: M | AU148: 2 | AY148: ROZPOCET | BE148: =IF(N148="základná",J148,0) -> 0 | BF148: =IF(N148="znížená",J148,0) -> 0 | BG148: =IF(N148="zákl. prenesená",J148,0) -> 0 | BH148: =IF(N148="zníž. prenesená",J148,0) -> 0 | BI148: =IF(N148="nulová",J148,0) -> 0 | BJ148: 2 | BK148: =ROUND(I148*H148,3) -> 0 | BL148: 64 | BM148: -1984072162
C149: 46 | D149: M | E149: 3410105000 | F149: spínač jednopólový č.1, 10A 250V, montáž pod omietku, krytie IP20, ekvivalent LEGRAND Valena 7 744 01 | G149: ks | H149: 12 | J149: =ROUND(I149*H149,3) -> 0 | N149: znížená | P149: =O149*H149 -> 0 | Q149: 0 | R149: =Q149*H149 -> 0 | S149: 0 | T149: =S149*H149 -> 0 | AR149: 256 | AT149: M | AU149: 2 | AY149: ROZPOCET | BE149: =IF(N149="základná",J149,0) -> 0 | BF149: =IF(N149="znížená",J149,0) -> 0 | BG149: =IF(N149="zákl. prenesená",J149,0) -> 0 | BH149: =IF(N149="zníž. prenesená",J149,0) -> 0 | BI149: =IF(N149="nulová",J149,0) -> 0 | BJ149: 2 | BK149: =ROUND(I149*H149,3) -> 0 | BL149: 64 | BM149: -190920654
C150: 47 | D150: M | E150: 3203201254 | F150: spínač sériový č.5, 10A 250V, montáž pod omietku, krytie IP20, ekvivalent LEGRAND Valena 7 744 05 | G150: ks | H150: 6 | J150: =ROUND(I150*H150,3) -> 0 | N150: znížená | P150: =O150*H150 -> 0 | Q150: 0 | R150: =Q150*H150 -> 0 | S150: 0 | T150: =S150*H150 -> 0 | AR150: 256 | AT150: M | AU150: 2 | AY150: ROZPOCET | BE150: =IF(N150="základná",J150,0) -> 0 | BF150: =IF(N150="znížená",J150,0) -> 0 | BG150: =IF(N150="zákl. prenesená",J150,0) -> 0 | BH150: =IF(N150="zníž. prenesená",J150,0) -> 0 | BI150: =IF(N150="nulová",J150,0) -> 0 | BJ150: 2 | BK150: =ROUND(I150*H150,3) -> 0 | BL150: 64 | BM150: 270302746
C151: 48 | D151: M | E151: 3410105100 | F151: spínač striedavý č.6, 10A 250V, montáž pod omietku, krytie IP20, ekvivalent LEGRAND Valena 7 744 06 | G151: ks | H151: 8 | J151: =ROUND(I151*H151,3) -> 0 | N151: znížená | P151: =O151*H151 -> 0 | Q151: 0 | R151: =Q151*H151 -> 0 | S151: 0 | T151: =S151*H151 -> 0 | AR151: 256 | AT151: M | AU151: 2 | AY151: ROZPOCET | BE151: =IF(N151="základná",J151,0) -> 0 | BF151: =IF(N151="znížená",J151,0) -> 0 | BG151: =IF(N151="zákl. prenesená",J151,0) -> 0 | BH151: =IF(N151="zníž. prenesená",J151,0) -> 0 | BI151: =IF(N151="nulová",J151,0) -> 0 | BJ151: 2 | BK151: =ROUND(I151*H151,3) -> 0 | BL151: 64 | BM151: -768679430
C152: 49 | D152: M | E152: 3203545444 | F152: spínač krížový č.7, 10A 250V, montáž pod omietku, krytie IP20, ekvivalent LEGRAND Valena 7 744 07 | G152: ks | H152: 4 | J152: =ROUND(I152*H152,3) -> 0 | N152: znížená | P152: =O152*H152 -> 0 | Q152: 0 | R152: =Q152*H152 -> 0 | S152: 0 | T152: =S152*H152 -> 0 | AR152: 256 | AT152: M | AU152: 2 | AY152: ROZPOCET | BE152: =IF(N152="základná",J152,0) -> 0 | BF152: =IF(N152="znížená",J152,0) -> 0 | BG152: =IF(N152="zákl. prenesená",J152,0) -> 0 | BH152: =IF(N152="zníž. prenesená",J152,0) -> 0 | BI152: =IF(N152="nulová",J152,0) -> 0 | BJ152: 2 | BK152: =ROUND(I152*H152,3) -> 0 | BL152: 64 | BM152: -2108582685
C153: 50 | D153: M | E153: 3230154684 | F153: zásuvka L+N+PE, 16A 250V s dets.ochranou, montáž pod omietku, krytie IP20, ekvivalent LEGRAND Valena 7 743 97 | G153: ks | H153: 18 | J153: =ROUND(I153*H153,3) -> 0 | N153: znížená | P153: =O153*H153 -> 0 | Q153: 0 | R153: =Q153*H153 -> 0 | S153: 0 | T153: =S153*H153 -> 0 | AR153: 256 | AT153: M | AU153: 2 | AY153: ROZPOCET | BE153: =IF(N153="základná",J153,0) -> 0 | BF153: =IF(N153="znížená",J153,0) -> 0 | BG153: =IF(N153="zákl. prenesená",J153,0) -> 0 | BH153: =IF(N153="zníž. prenesená",J153,0) -> 0 | BI153: =IF(N153="nulová",J153,0) -> 0 | BJ153: 2 | BK153: =ROUND(I153*H153,3) -> 0 | BL153: 64 | BM153: -2135941869
... C172: 69 | D172: M | E172: 3201354444 | F172: Svorka ZSA 16 | G172: ks | H172: 6 | J172: =ROUND(I172*H172,3) -> 0 | N172: znížená | P172: =O172*H172 -> 0 | Q172: 0 | R172: =Q172*H172 -> 0 | S172: 0 | T172: =S172*H172 -> 0 | AR172: 256 | AT172: M | AU172: 2 | AY172: ROZPOCET | BE172: =IF(N172="základná",J172,0) -> 0 | BF172: =IF(N172="znížená",J172,0) -> 0 | BG172: =IF(N172="zákl. prenesená",J172,0) -> 0 | BH172: =IF(N172="zníž. prenesená",J172,0) -> 0 | BI172: =IF(N172="nulová",J172,0) -> 0 | BJ172: 2 | BK172: =ROUND(I172*H172,3) -> 0 | BL172: 64 | BM172: 34462335
C173: 70 | D173: K | E173: PM | F173: Podružný materiál | G173: % | J173: =ROUND(I173*H173,3) -> 0 | N173: znížená | P173: =O173*H173 -> 0 | Q173: 0 | R173: =Q173*H173 -> 0 | S173: 0 | T173: =S173*H173 -> 0 | AR173: 64 | AT173: K | AU173: 2 | AY173: ROZPOCET | BE173: =IF(N173="základná",J173,0) -> 0 | BF173: =IF(N173="znížená",J173,0) -> 0 | BG173: =IF(N173="zákl. prenesená",J173,0) -> 0 | BH173: =IF(N173="zníž. prenesená",J173,0) -> 0 | BI173: =IF(N173="nulová",J173,0) -> 0 | BJ173: 2 | BK173: =ROUND(I173*H173,3) -> 0 | BL173: 64 | BM173: -781721597

Sheet 103 - SP 103 Nové exterié...
AT2: {3431c795-65d2-42f8-b1aa-1bc6903047b3}
AT3: 0
D4: KRYCÍ LIST ROZPOČTU | M4: v --- nižšie sa nachádzajú doplnkové a pomocné údaje k zostavám --- v | AT4: False
D6: Stavba:
E7: ='Rekapitulácia stavby'!K6 -> Materská škola Na Hôrke 30, Nitra
D8: Objekt:
E9: 100 - SO 100 Vytvorenie 2 tried Materskej školy pre 24 + 21 detí
D10: Časť:
E11: 103 - SP 103 Nové exteriérové schodisko
D13: JKSO: | I13: KS:
D14: Miesto: | F14: Na Hôrke 30, Nitra | I14: Dátum: | J14: ='Rekapitulácia stavby'!AN8 -> 24. 2. 2017
D16: Objednávateľ: | I16: IČO:
E17: Mesto NITRA, Štefánikova 60, 950 06 Nitra | I17: IČ DPH:
D19: Zhotoviteľ: | I19: IČO: | J19: ='Rekapitulácia stavby'!AN13 -> Vyplň údaj
E20: ='Rekapitulácia stavby'!E14 -> Vyplň údaj | I20: IČ DPH: | J20: ='Rekapitulácia stavby'!AN14 -> Vyplň údaj
D22: Projektant: | I22: IČO:
E23: Ing.arch.Igor Feník | I23: IČ DPH:
D25: Spracovateľ: | I25: IČO:
E26: Ing.Janečka | I26: IČ DPH:
D28: Poznámka:
D32: Náklady z rozpočtu | J32: =J65 -> 0
D33: Ostatné náklady | J33: =J79 -> 0
D34: Cena bez DPH | J34: =ROUND(J32 + J33, 2) -> 0
F36: Základ dane | I36: Sadzba dane | J36: Výška dane
D37: DPH | E37: základná | F37: =ROUND((SUM(BE79:BE86) + SUM(BE108:BE159)), 2) -> 0 | I37: 0.2 | J37: =ROUND(((SUM(BE79:BE86) + SUM(BE108:BE159))*I37), 2) -> 0
E38: znížená | F38: =ROUND((SUM(BF79:BF86) + SUM(BF108:BF159)), 2) -> 0 | I38: 0.2 | J38: =ROUND(((SUM(BF79:BF86) + SUM(BF108:BF159))*I38), 2) -> 0
E39: zákl. prenesená | F39: =ROUND((SUM(BG79:BG86) + SUM(BG108:BG159)), 2) -> 0 | I39: 0.2 | J39: =0 -> 0
E40: zníž. prenesená | F40: =ROUND((SUM(BH79:BH86) + SUM(BH108:BH159)), 2) -> 0 | I40: 0.2 | J40: =0 -> 0
E41: nulová | F41: =ROUND((SUM(BI79:BI86) + SUM(BI108:BI159)), 2) -> 0 | I41: 0 | J41: =0 -> 0
D43: Cena s DPH | G43: v | H43: EUR | J43: =SUM(J34:J41) -> 0
C49: REKAPITULÁCIA ROZPOČTU
C51: Stavba:
E52: =E7 -> Materská škola Na Hôrke 30, Nitra
C53: Objekt:
E54: 100 - SO 100 Vytvorenie 2 tried Materskej školy pre 24 + 21 detí
C55: Časť:
E56: =E11 -> 103 - SP 103 Nové exteriérové schodisko
C58: Miesto: | F58: =F14 -> Na Hôrke 30, Nitra | I58: Dátum: | J58: =IF(J14="","",J14) -> 24. 2. 2017
C60: Objednávateľ: | F60: =E17 -> Mesto NITRA, Štefánikova 60, 950 06 Nitra | I60: Projektant: | J60: =E23 -> Ing.arch.Igor Feník
C61: Zhotoviteľ: | F61: =IF(E20="","",E20) -> Vyplň údaj | I61: Spracovateľ: | J61: =E26 -> Ing.Janečka
C63: Kód dielu - Popis | J63: Cena celkom [EUR]
C65: 1) Náklady z rozpočtu | J65: =J108 -> 0 | AU65: -1
D66: HSV - Práce a dodávky HSV | J66: =J109 -> 0
D67: 1 - Zemné práce | J67: =J110 -> 0
D68: 2 - Zakladanie | J68: =J119 -> 0
D69: 3 - Zvislé a kompletné konštrukcie | J69: =J121 -> 0
D70: 6 - Úpravy povrchov, podlahy, osadenie | J70: =J123 -> 0
D71: 9 - Ostatné konštrukcie a práce-búranie | J71: =J127 -> 0
D72: 99 - Presun hmôt HSV | J72: =J133 -> 0
D73: PSV - Práce a dodávky PSV | J73: =J135 -> 0
D74: 763 - Konštrukcie - drevostavby | J74: =J136 -> 0
D75: 767 - Konštrukcie doplnkové kovové | J75: =J145 -> 0
D76: 783 - Dokončovacie práce - nátery | J76: =J156 -> 0
C79: 2) Ostatné náklady | J79: =ROUND(J80 + J81 + J82 + J83 + J84 + J85,2) -> 0 | N79: DPH
D80: GZS | J80: 0 | N80: znížená | AY80: VRN | BE80: =IF(N80="základná",J80,0) -> 0 | BF80: =IF(N80="znížená",J80,0) -> 0 | BG80: =IF(N80="zákl. prenesená",J80,0) -> 0 | BH80: =IF(N80="zníž. prenesená",J80,0) -> 0 | BI80: =IF(N80="nulová",J80,0) -> 0 | BJ80: 2
D81: Mimostaven. doprava | J81: 0 | N81: znížená | AY81: VRN | BE81: =IF(N81="základná",J81,0) -> 0 | BF81: =IF(N81="znížená",J81,0) -> 0 | BG81: =IF(N81="zákl. prenesená",J81,0) -> 0 | BH81: =IF(N81="zníž. prenesená",J81,0) -> 0 | BI81: =IF(N81="nulová",J81,0) -> 0 | BJ81: 2
D82: Sťažené podmienky | J82: 0 | N82: znížená | AY82: VRN | BE82: =IF(N82="základná",J82,0) -> 0 | BF82: =IF(N82="znížená",J82,0) -> 0 | BG82: =IF(N82="zákl. prenesená",J82,0) -> 0 | BH82: =IF(N82="zníž. prenesená",J82,0) -> 0 | BI82: =IF(N82="nulová",J82,0) -> 0 | BJ82: 2
D83: Vplyv prostredia | J83: 0 | N83: znížená | AY83: VRN | BE83: =IF(N83="základná",J83,0) -> 0 | BF83: =IF(N83="znížená",J83,0) -> 0 | BG83: =IF(N83="zákl. prenesená",J83,0) -> 0 | BH83: =IF(N83="zníž. prenesená",J83,0) -> 0 | BI83: =IF(N83="nulová",J83,0) -> 0 | BJ83: 2
D84: Klimatické vplyvy | J84: 0 | N84: znížená | AY84: VRN | BE84: =IF(N84="základná",J84,0) -> 0 | BF84: =IF(N84="znížená",J84,0) -> 0 | BG84: =IF(N84="zákl. prenesená",J84,0) -> 0 | BH84: =IF(N84="zníž. prenesená",J84,0) -> 0 | BI84: =IF(N84="nulová",J84,0) -> 0 | BJ84: 2
D85: Kompletačná činnosť | J85: =ROUND(J32*T85,2) -> 0 | N85: znížená | AY85: KOMPLETACNA | BE85: =IF(N85="základná",J85,0) -> 0 | BF85: =IF(N85="znížená",J85,0) -> 0 | BG85: =IF(N85="zákl. prenesená",J85,0) -> 0 | BH85: =IF(N85="zníž. prenesená",J85,0) -> 0 | BI85: =IF(N85="nulová",J85,0) -> 0 | BJ85: 2
C87: Celkové náklady za stavbu 1) + 2) | J87: =ROUND(J65+J79,2) -> 0
C93: ROZPOČET
C95: Stavba:
E96: =E7 -> Materská škola Na Hôrke 30, Nitra
C97: Objekt:
E98: 100 - SO 100 Vytvorenie 2 tried Materskej školy pre 24 + 21 detí
C99: Časť:
E100: =E11 -> 103 - SP 103 Nové exteriérové schodisko
C102: Miesto: | F102: =F14 -> Na Hôrke 30, Nitra | I102: Dátum: | J102: =IF(J14="","",J14) -> 24. 2. 2017
C104: Objednávateľ: | F104: =E17 -> Mesto NITRA, Štefánikova 60, 950 06 Nitra | I104: Projektant: | J104: =E23 -> Ing.arch.Igor Feník
C105: Zhotoviteľ: | F105: =IF(E20="","",E20) -> Vyplň údaj | I105: Spracovateľ: | J105: =E26 -> Ing.Janečka
C107: PČ | D107: Typ | E107: Kód | F107: Popis | G107: MJ | H107: Množstvo | I107: J.cena [EUR] | J107: Cena celkom [EUR] | K107: Cenová sústava | N107: DPH | O107: J. Nh [h] | P107: Nh celkom [h] | Q107: J. hmotnosť [t] | R107: Hmotnosť celkom [t] | S107: J. suť [t] | T107: Suť Celkom [t]
C108: Náklady z rozpočtu | J108: =BK108 -> 0 | P108: =P109+P135 -> 0 | R108: =R109+R135 -> 22.54648 | T108: =T109+T135 -> 3.33 | AT108: D | AU108: -1 | BK108: =BK109+BK135 -> 0
D109: D | E109: HSV | F109: Práce a dodávky HSV | J109: =BK109 -> 0 | P109: =P110+P119+P121+P123+P127+P133 -> 0 | R109: =R110+R119+R121+R123+R127+R133 -> 18.696398 | T109: =T110+T119+T121+T123+T127+T133 -> 3.33 | AR109: 1 | AT109: D | AU109: 0 | AY109: ROZPOCET | BK109: =BK110+BK119+BK121+BK123+BK127+BK133 -> 0
D110: D | E110: 1 | F110: Zemné práce | J110: =BK110 -> 0 | P110: =SUM(P111:P118) -> 0 | R110: =SUM(R111:R118) -> 1e-05 | T110: =SUM(T111:T118) -> 3.33 | AR110: 1 | AT110: D | AU110: 1 | AY110: ROZPOCET | BK110: =SUM(BK111:BK118) -> 0
C111: 1 | D111: K | E111: 112101101 | F111: Odstránenie listnatých stromov do priemeru 300 mm, motorovou pílou | G111: ks | H111: 1 | J111: =ROUND(I111*H111,3) -> 0 | N111: znížená | P111: =O111*H111 -> 0 | Q111: 0 | R111: =Q111*H111 -> 0 | S111: 0 | T111: =S111*H111 -> 0 | AR111: 4 | AT111: K | AU111: 2 | AY111: ROZPOCET | BE111: =IF(N111="základná",J111,0) -> 0 | BF111: =IF(N111="znížená",J111,0) -> 0 | BG111: =IF(N111="zákl. prenesená",J111,0) -> 0 | BH111: =IF(N111="zníž. prenesená",J111,0) -> 0 | BI111: =IF(N111="nulová",J111,0) -> 0 | BJ111: 2 | BK111: =ROUND(I111*H111,3) -> 0 | BL111: 4 | BM111: 1390144763
C112: 2 | D112: K | E112: 112201101 | F112: Odstránenie pňov na vzdial. 50 m priemeru nad 100 do 300 mm | G112: ks | H112: 1 | J112: =ROUND(I112*H112,3) -> 0 | N112: znížená | P112: =O112*H112 -> 0 | Q112: 1e-05 | R112: =Q112*H112 -> 1e-05 | S112: 0 | T112: =S112*H112 -> 0 | AR112: 4 | AT112: K | AU112: 2 | AY112: ROZPOCET | BE112: =IF(N112="základná",J112,0) -> 0 | BF112: =IF(N112="znížená",J112,0) -> 0 | BG112: =IF(N112="zákl. prenesená",J112,0) -> 0 | BH112: =IF(N112="zníž. prenesená",J112,0) -> 0 | BI112: =IF(N112="nulová",J112,0) -> 0 | BJ112: 2 | BK112: =ROUND(I112*H112,3) -> 0 | BL112: 4 | BM112: 1753030379
C113: 3 | D113: K | E113: 113107132 | F113: Odstránenie krytu v ploche do 200 m2 z betónu prostého, hr. vrstvy 150 do 300 mm, -0,50000t | G113: m2 | H113: 4.5 | J113: =ROUND(I113*H113,3) -> 0 | N113: znížená | P113: =O113*H113 -> 0 | Q113: 0 | R113: =Q113*H113 -> 0 | S113: 0.5 | T113: =S113*H113 -> 2.25 | AR113: 4 | AT113: K | AU113: 2 | AY113: ROZPOCET | BE113: =IF(N113="základná",J113,0) -> 0 | BF113: =IF(N113="znížená",J113,0) -> 0 | BG113: =IF(N113="zákl. prenesená",J113,0) -> 0 | BH113: =IF(N113="zníž. prenesená",J113,0) -> 0 | BI113: =IF(N113="nulová",J113,0) -> 0 | BJ113: 2 | BK113: =ROUND(I113*H113,3) -> 0 | BL113: 4 | BM113: -1539001731
C114: 4 | D114: K | E114: 113307112 | F114: Odstránenie podkladu v ploche do 200m2 z kameniva ťaženého, hr.100- 200mm, -0,24000t | G114: m2 | H114: 4.5 | J114: =ROUND(I114*H114,3) -> 0 | N114: znížená | P114: =O114*H114 -> 0 | Q114: 0 | R114: =Q114*H114 -> 0 | S114: 0.24 | T114: =S114*H114 -> 1.08 | AR114: 4 | AT114: K | AU114: 2 | AY114: ROZPOCET | BE114: =IF(N114="základná",J114,0) -> 0 | BF114: =IF(N114="znížená",J114,0) -> 0 | BG114: =IF(N114="zákl. prenesená",J114,0) -> 0 | BH114: =IF(N114="zníž. prenesená",J114,0) -> 0 | BI114: =IF(N114="nulová",J114,0) -> 0 | BJ114: 2 | BK114: =ROUND(I114*H114,3) -> 0 | BL114: 4 | BM114: 233897496
C115: 5 | D115: K | E115: 132201101 | F115: Výkop ryhy do šírky 600 mm v horn.3 do 100 m3 | G115: m3 | H115: 8.158 | J115: =ROUND(I115*H115,3) -> 0 | N115: znížená | P115: =O115*H115 -> 0 | Q115: 0 | R115: =Q115*H115 -> 0 | S115: 0 | T115: =S115*H115 -> 0 | AR115: 4 | AT115: K | AU115: 2 | AY115: ROZPOCET | BE115: =IF(N115="základná",J115,0) -> 0 | BF115: =IF(N115="znížená",J115,0) -> 0 | BG115: =IF(N115="zákl. prenesená",J115,0) -> 0 | BH115: =IF(N115="zníž. prenesená",J115,0) -> 0 | BI115: =IF(N115="nulová",J115,0) -> 0 | BJ115: 2 | BK115: =ROUND(I115*H115,3) -> 0 | BL115: 4 | BM115: 1880126606
C116: 6 | D116: K | E116: 132201109 | F116: Príplatok k cene za lepivosť pri hĺbení rýh šírky do 600 mm zapažených i nezapažených s urovnaním dna v hornine 3 | G116: m3 | H116: 8.158 | J116: =ROUND(I116*H116,3) -> 0 | N116: znížená | P116: =O116*H116 -> 0 | Q116: 0 | R116: =Q116*H116 -> 0 | S116: 0 | T116: =S116*H116 -> 0 | AR116: 4 | AT116: K | AU116: 2 | AY116: ROZPOCET | BE116: =IF(N116="základná",J116,0) -> 0 | BF116: =IF(N116="znížená",J116,0) -> 0 | BG116: =IF(N116="zákl. prenesená",J116,0) -> 0 | BH116: =IF(N116="zníž. prenesená",J116,0) -> 0 | BI116: =IF(N116="nulová",J116,0) -> 0 | BJ116: 2 | BK116: =ROUND(I116*H116,3) -> 0 | BL116: 4 | BM116: 1724693929
C117: 7 | D117: K | E117: 162501102 | F117: Vodorovné premiestnenie výkopku po spevnenej ceste z horniny tr.1-4, do 100 m3 na vzdialenosť do 3000 m | G117: m3 | H117: 8.158 | J117: =ROUND(I117*H117,3) -> 0 | N117: znížená | P117: =O117*H117 -> 0 | Q117: 0 | R117: =Q117*H117 -> 0 | S117: 0 | T117: =S117*H117 -> 0 | AR117: 4 | AT117: K | AU117: 2 | AY117: ROZPOCET | BE117: =IF(N117="základná",J117,0) -> 0 | BF117: =IF(N117="znížená",J117,0) -> 0 | BG117: =IF(N117="zákl. prenesená",J117,0) -> 0 | BH117: =IF(N117="zníž. prenesená",J117,0) -> 0 | BI117: =IF(N117="nulová",J117,0) -> 0 | BJ117: 2 | BK117: =ROUND(I117*H117,3) -> 0 | BL117: 4 | BM117: -736094572
C118: 8 | D118: K | E118: 171209002 | F118: Poplatok za skladovanie - zemina a kamenivo (17 05) ostatné | G118: t | H118: 13.053 | J118: =ROUND(I118*H118,3) -> 0 | N118: znížená | P118: =O118*H118 -> 0 | Q118: 0 | R118: =Q118*H118 -> 0 | S118: 0 | T118: =S118*H118 -> 0 | AR118: 4 | AT118: K | AU118: 2 | AY118: ROZPOCET | BE118: =IF(N118="základná",J118,0) -> 0 | BF118: =IF(N118="znížená",J118,0) -> 0 | BG118: =IF(N118="zákl. prenesená",J118,0) -> 0 | BH118: =IF(N118="zníž. prenesená",J118,0) -> 0 | BI118: =IF(N118="nulová",J118,0) -> 0 | BJ118: 2 | BK118: =ROUND(I118*H118,3) -> 0 | BL118: 4 | BM118: -148517030
D119: D | E119: 2 | F119: Zakladanie | J119: =BK119 -> 0 | P119: =P120 -> 0 | R119: =R120 -> 15.687601 | T119: =T120 -> 0 | AR119: 1 | AT119: D | AU119: 1 | AY119: ROZPOCET | BK119: =BK120 -> 0
C120: 9 | D120: K | E120: 274313611 | F120: Betón základových pásov, prostý tr. C 16/20 | G120: m3 | H120: 7.15 | J120: =ROUND(I120*H120,3) -> 0 | N120: znížená | P120: =O120*H120 -> 0 | Q120: 2.19407 | R120: =Q120*H120 -> 15.687601 | S120: 0 | T120: =S120*H120 -> 0 | AR120: 4 | AT120: K | AU120: 2 | AY120: ROZPOCET | BE120: =IF(N120="základná",J120,0) -> 0 | BF120: =IF(N120="znížená",J120,0) -> 0 | BG120: =IF(N120="zákl. prenesená",J120,0) -> 0 | BH120: =IF(N120="zníž. prenesená",J120,0) -> 0 | BI120: =IF(N120="nulová",J120,0) -> 0 | BJ120: 2 | BK120: =ROUND(I120*H120,3) -> 0 | BL120: 4 | BM120: 1536188401
D121: D | E121: 3 | F121: Zvislé a kompletné konštrukcie | J121: =BK121 -> 0 | P121: =P122 -> 0 | R121: =R122 -> 2.895018 | T121: =T122 -> 0 | AR121: 1 | AT121: D | AU121: 1 | AY121: ROZPOCET | BK121: =BK122 -> 0
C122: 10 | D122: K | E122: 389381001 | F122: Dobetónovanie betónovej plochy betónom XF3 C30/37 | G122: m3 | H122: 1.176 | J122: =ROUND(I122*H122,3) -> 0 | N122: znížená | P122: =O122*H122 -> 0 | Q122: 2.46175 | R122: =Q122*H122 -> 2.895018 | S122: 0 | T122: =S122*H122 -> 0 | AR122: 4 | AT122: K | AU122: 2 | AY122: ROZPOCET | BE122: =IF(N122="základná",J122,0) -> 0 | BF122: =IF(N122="znížená",J122,0) -> 0 | BG122: =IF(N122="zákl. prenesená",J122,0) -> 0 | BH122: =IF(N122="zníž. prenesená",J122,0) -> 0 | BI122: =IF(N122="nulová",J122,0) -> 0 | BJ122: 2 | BK122: =ROUND(I122*H122,3) -> 0 | BL122: 4 | BM122: -1971880290
D123: D | E123: 6 | F123: Úpravy povrchov, podlahy, osadenie | J123: =BK123 -> 0 | P123: =SUM(P124:P126) -> 0 | R123: =SUM(R124:R126) -> 0.11377 | T123: =SUM(T124:T126) -> 0 | AR123: 1 | AT123: D | AU123: 1 | AY123: ROZPOCET | BK123: =SUM(BK124:BK126) -> 0
C124: 11 | D124: K | E124: 622464222 | F124: Vonkajšia omietka stien tenkovrstvová BAUMIT, silikátová, Baumit SilikatTop, škrabaná, hr. 2 mm | G124: m2 | H124: 5 | J124: =ROUND(I124*H124,3) -> 0 | N124: znížená | P124: =O124*H124 -> 0 | Q124: 0.0033 | R124: =Q124*H124 -> 0.0165 | S124: 0 | T124: =S124*H124 -> 0 | AR124: 4 | AT124: K | AU124: 2 | AY124: ROZPOCET | BE124: =IF(N124="základná",J124,0) -> 0 | BF124: =IF(N124="znížená",J124,0) -> 0 | BG124: =IF(N124="zákl. prenesená",J124,0) -> 0 | BH124: =IF(N124="zníž. prenesená",J124,0) -> 0 | BI124: =IF(N124="nulová",J124,0) -> 0 | BJ124: 2 | BK124: =ROUND(I124*H124,3) -> 0 | BL124: 4 | BM124: -1492140865
C125: 12 | D125: K | E125: 625251353 | F125: Kontaktný zatepľovací systém hr. 60 mm BAUMIT STAR - minerálne riešenie, zatĺkacie kotvy | G125: m2 | H125: 1 | J125: =ROUND(I125*H125,3) -> 0 | N125: znížená | P125: =O125*H125 -> 0 | Q125: 0.02271 | R125: =Q125*H125 -> 0.02271 | S125: 0 | T125: =S125*H125 -> 0 | AR125: 4 | AT125: K | AU125: 2 | AY125: ROZPOCET | BE125: =IF(N125="základná",J125,0) -> 0 | BF125: =IF(N125="znížená",J125,0) -> 0 | BG125: =IF(N125="zákl. prenesená",J125,0) -> 0 | BH125: =IF(N125="zníž. prenesená",J125,0) -> 0 | BI125: =IF(N125="nulová",J125,0) -> 0 | BJ125: 2 | BK125: =ROUND(I125*H125,3) -> 0 | BL125: 4 | BM125: 1062938314
C126: 13 | D126: K | E126: 625251372 | F126: Kontaktný zatepľovací systém ostenia hr. 30 mm BAUMIT STAR - minerálne riešenie | G126: m2 | H126: 4 | J126: =ROUND(I126*H126,3) -> 0 | N126: znížená | P126: =O126*H126 -> 0 | Q126: 0.01864 | R126: =Q126*H126 -> 0.07456 | S126: 0 | T126: =S126*H126 -> 0 | AR126: 4 | AT126: K | AU126: 2 | AY126: ROZPOCET | BE126: =IF(N126="základná",J126,0) -> 0 | BF126: =IF(N126="znížená",J126,0) -> 0 | BG126: =IF(N126="zákl. prenesená",J126,0) -> 0 | BH126: =IF(N126="zníž. prenesená",J126,0) -> 0 | BI126: =IF(N126="nulová",J126,0) -> 0 | BJ126: 2 | BK126: =ROUND(I126*H126,3) -> 0 | BL126: 4 | BM126: 571605069
D127: D | E127: 9 | F127: Ostatné konštrukcie a práce-búranie | J127: =BK127 -> 0 | P127: =SUM(P128:P132) -> 0 | R127: =SUM(R128:R132) -> 0 | T127: =SUM(T128:T132) -> 0 | AR127: 1 | AT127: D | AU127: 1 | AY127: ROZPOCET | BK127: =SUM(BK128:BK132) -> 0
C128: 14 | D128: K | E128: 979081111 | F128: Odvoz sutiny a vybúraných hmôt na skládku do 1 km | G128: t | H128: 3.33 | J128: =ROUND(I128*H128,3) -> 0 | N128: znížená | P128: =O128*H128 -> 0 | Q128: 0 | R128: =Q128*H128 -> 0 | S128: 0 | T128: =S128*H128 -> 0 | AR128: 4 | AT128: K | AU128: 2 | AY128: ROZPOCET | BE128: =IF(N128="základná",J128,0) -> 0 | BF128: =IF(N128="znížená",J128,0) -> 0 | BG128: =IF(N128="zákl. prenesená",J128,0) -> 0 | BH128: =IF(N128="zníž. prenesená",J128,0) -> 0 | BI128: =IF(N128="nulová",J128,0) -> 0 | BJ128: 2 | BK128: =ROUND(I128*H128,3) -> 0 | BL128: 4 | BM128: -359238552
C129: 15 | D129: K | E129: 979081121 | F129: Odvoz sutiny a vybúraných hmôt na skládku za každý ďalší 1 km (2x) | G129: t | H129: 6.66 | J129: =ROUND(I129*H129,3) -> 0 | N129: znížená | P129: =O129*H129 -> 0 | Q129: 0 | R129: =Q129*H129 -> 0 | S129: 0 | T129: =S129*H129 -> 0 | AR129: 4 | AT129: K | AU129: 2 | AY129: ROZPOCET | BE129: =IF(N129="základná",J129,0) -> 0 | BF129: =IF(N129="znížená",J129,0) -> 0 | BG129: =IF(N129="zákl. prenesená",J129,0) -> 0 | BH129: =IF(N129="zníž. prenesená",J129,0) -> 0 | BI129: =IF(N129="nulová",J129,0) -> 0 | BJ129: 2 | BK129: =ROUND(I129*H129,3) -> 0 | BL129: 4 | BM129: -443236640
C130: 16 | D130: K | E130: 979082111 | F130: Vnútrostavenisková doprava sutiny a vybúraných hmôt do 10 m | G130: t | H130: 3.33 | J130: =ROUND(I130*H130,3) -> 0 | N130: znížená | P130: =O130*H130 -> 0 | Q130: 0 | R130: =Q130*H130 -> 0 | S130: 0 | T130: =S130*H130 -> 0 | AR130: 4 | AT130: K | AU130: 2 | AY130: ROZPOCET | BE130: =IF(N130="základná",J130,0) -> 0 | BF130: =IF(N130="znížená",J130,0) -> 0 | BG130: =IF(N130="zákl. prenesená",J130,0) -> 0 | BH130: =IF(N130="zníž. prenesená",J130,0) -> 0 | BI130: =IF(N130="nulová",J130,0) -> 0 | BJ130: 2 | BK130: =ROUND(I130*H130,3) -> 0 | BL130: 4 | BM130: 926649643
C131: 17 | D131: K | E131: 979082121 | F131: Vnútrostavenisková doprava sutiny a vybúraných hmôt za každých ďalších 5 m (8x) | G131: t | H131: 26.64 | J131: =ROUND(I131*H131,3) -> 0 | N131: znížená | P131: =O131*H131 -> 0 | Q131: 0 | R131: =Q131*H131 -> 0 | S131: 0 | T131: =S131*H131 -> 0 | AR131: 4 | AT131: K | AU131: 2 | AY131: ROZPOCET | BE131: =IF(N131="základná",J131,0) -> 0 | BF131: =IF(N131="znížená",J131,0) -> 0 | BG131: =IF(N131="zákl. prenesená",J131,0) -> 0 | BH131: =IF(N131="zníž. prenesená",J131,0) -> 0 | BI131: =IF(N131="nulová",J131,0) -> 0 | BJ131: 2 | BK131: =ROUND(I131*H131,3) -> 0 | BL131: 4 | BM131: 273450544
C132: 18 | D132: K | E132: 979089012 | F132: Poplatok za skladovanie - betón, tehly, dlaždice (17 01 ), ostatné | G132: t | H132: 3.33 | J132: =ROUND(I132*H132,3) -> 0 | N132: znížená | P132: =O132*H132 -> 0 | Q132: 0 | R132: =Q132*H132 -> 0 | S132: 0 | T132: =S132*H132 -> 0 | AR132: 4 | AT132: K | AU132: 2 | AY132: ROZPOCET | BE132: =IF(N132="základná",J132,0) -> 0 | BF132: =IF(N132="znížená",J132,0) -> 0 | BG132: =IF(N132="zákl. prenesená",J132,0) -> 0 | BH132: =IF(N132="zníž. prenesená",J132,0) -> 0 | BI132: =IF(N132="nulová",J132,0) -> 0 | BJ132: 2 | BK132: =ROUND(I132*H132,3) -> 0 | BL132: 4 | BM132: -990349054
D133: D | E133: 99 | F133: Presun hmôt HSV | J133: =BK133 -> 0 | P133: =P134 -> 0 | R133: =R134 -> 0 | T133: =T134 -> 0 | AR133: 1 | AT133: D | AU133: 1 | AY133: ROZPOCET | BK133: =BK134 -> 0
C134: 19 | D134: K | E134: 999281111 | F134: Presun hmôt pre opravy a údržbu objektov vrátane vonkajších plášťov výšky do 25 m | G134: t | H134: 18.696 | J134: =ROUND(I134*H134,3) -> 0 | N134: znížená | P134: =O134*H134 -> 0 | Q134: 0 | R134: =Q134*H134 -> 0 | S134: 0 | T134: =S134*H134 -> 0 | AR134: 4 | AT134: K | AU134: 2 | AY134: ROZPOCET | BE134: =IF(N134="základná",J134,0) -> 0 | BF134: =IF(N134="znížená",J134,0) -> 0 | BG134: =IF(N134="zákl. prenesená",J134,0) -> 0 | BH134: =IF(N134="zníž. prenesená",J134,0) -> 0 | BI134: =IF(N134="nulová",J134,0) -> 0 | BJ134: 2 | BK134: =ROUND(I134*H134,3) -> 0 | BL134: 4 | BM134: -851243971
D135: D | E135: PSV | F135: Práce a dodávky PSV | J135: =BK135 -> 0 | P135: =P136+P145+P156 -> 0 | R135: =R136+R145+R156 -> 3.8500816 | T135: =T136+T145+T156 -> 0 | AR135: 2 | AT135: D | AU135: 0 | AY135: ROZPOCET | BK135: =BK136+BK145+BK156 -> 0
...

Sheet 104 - SP 104 Stavebné úpr...
AT2: {53c48221-5a4a-4351-911c-a8bff9fd6288}
AT3: 0
D4: KRYCÍ LIST ROZPOČTU | M4: v --- nižšie sa nachádzajú doplnkové a pomocné údaje k zostavám --- v | AT4: False
D6: Stavba:
E7: ='Rekapitulácia stavby'!K6 -> Materská škola Na Hôrke 30, Nitra
D8: Objekt:
E9: 100 - SO 100 Vytvorenie 2 tried Materskej školy pre 24 + 21 detí
D10: Časť:
E11: 104 - SP 104 Stavebné úpravy spevných plôch po osadení exteriérového schodiska
D13: JKSO: | I13: KS:
D14: Miesto: | F14: Na Hôrke 30, Nitra | I14: Dátum: | J14: ='Rekapitulácia stavby'!AN8 -> 24. 2. 2017
D16: Objednávateľ: | I16: IČO:
E17: Mesto NITRA, Štefánikova 60, 950 06 Nitra | I17: IČ DPH:
D19: Zhotoviteľ: | I19: IČO: | J19: ='Rekapitulácia stavby'!AN13 -> Vyplň údaj
E20: ='Rekapitulácia stavby'!E14 -> Vyplň údaj | I20: IČ DPH: | J20: ='Rekapitulácia stavby'!AN14 -> Vyplň údaj
D22: Projektant: | I22: IČO:
E23: Ing.arch.Igor Feník | I23: IČ DPH:
D25: Spracovateľ: | I25: IČO:
E26: Ing.Janečka | I26: IČ DPH:
D28: Poznámka:
D32: Náklady z rozpočtu | J32: =J65 -> 0
D33: Ostatné náklady | J33: =J73 -> 0
D34: Cena bez DPH | J34: =ROUND(J32 + J33, 2) -> 0
F36: Základ dane | I36: Sadzba dane | J36: Výška dane
D37: DPH | E37: základná | F37: =ROUND((SUM(BE73:BE80) + SUM(BE102:BE112)), 2) -> 0 | I37: 0.2 | J37: =ROUND(((SUM(BE73:BE80) + SUM(BE102:BE112))*I37), 2) -> 0
E38: znížená | F38: =ROUND((SUM(BF73:BF80) + SUM(BF102:BF112)), 2) -> 0 | I38: 0.2 | J38: =ROUND(((SUM(BF73:BF80) + SUM(BF102:BF112))*I38), 2) -> 0
E39: zákl. prenesená | F39: =ROUND((SUM(BG73:BG80) + SUM(BG102:BG112)), 2) -> 0 | I39: 0.2 | J39: =0 -> 0
E40: zníž. prenesená | F40: =ROUND((SUM(BH73:BH80) + SUM(BH102:BH112)), 2) -> 0 | I40: 0.2 | J40: =0 -> 0
E41: nulová | F41: =ROUND((SUM(BI73:BI80) + SUM(BI102:BI112)), 2) -> 0 | I41: 0 | J41: =0 -> 0
D43: Cena s DPH | G43: v | H43: EUR | J43: =SUM(J34:J41) -> 0
C49: REKAPITULÁCIA ROZPOČTU
C51: Stavba:
E52: =E7 -> Materská škola Na Hôrke 30, Nitra
C53: Objekt:
E54: 100 - SO 100 Vytvorenie 2 tried Materskej školy pre 24 + 21 detí
C55: Časť:
E56: =E11 -> 104 - SP 104 Stavebné úpravy spevných plôch po osadení exteriérového schodiska
C58: Miesto: | F58: =F14 -> Na Hôrke 30, Nitra | I58: Dátum: | J58: =IF(J14="","",J14) -> 24. 2. 2017
C60: Objednávateľ: | F60: =E17 -> Mesto NITRA, Štefánikova 60, 950 06 Nitra | I60: Projektant: | J60: =E23 -> Ing.arch.Igor Feník
C61: Zhotoviteľ: | F61: =IF(E20="","",E20) -> Vyplň údaj | I61: Spracovateľ: | J61: =E26 -> Ing.Janečka
C63: Kód dielu - Popis | J63: Cena celkom [EUR]
C65: 1) Náklady z rozpočtu | J65: =J102 -> 0 | AU65: -1
D66: HSV - Práce a dodávky HSV | J66: =J103 -> 0
D67: 2 - Zakladanie | J67: =J104 -> 0
D68: 3 - Zvislé a kompletné konštrukcie | J68: =J106 -> 0
D69: 9 - Ostatné konštrukcie a práce-búranie | J69: =J108 -> 0
D70: 99 - Presun hmôt HSV | J70: =J111 -> 0
C73: 2) Ostatné náklady | J73: =ROUND(J74 + J75 + J76 + J77 + J78 + J79,2) -> 0 | N73: DPH
D74: GZS | J74: 0 | N74: znížená | AY74: VRN | BE74: =IF(N74="základná",J74,0) -> 0 | BF74: =IF(N74="znížená",J74,0) -> 0 | BG74: =IF(N74="zákl. prenesená",J74,0) -> 0 | BH74: =IF(N74="zníž. prenesená",J74,0) -> 0 | BI74: =IF(N74="nulová",J74,0) -> 0 | BJ74: 2
D75: Mimostaven. doprava | J75: 0 | N75: znížená | AY75: VRN | BE75: =IF(N75="základná",J75,0) -> 0 | BF75: =IF(N75="znížená",J75,0) -> 0 | BG75: =IF(N75="zákl. prenesená",J75,0) -> 0 | BH75: =IF(N75="zníž. prenesená",J75,0) -> 0 | BI75: =IF(N75="nulová",J75,0) -> 0 | BJ75: 2
D76: Sťažené podmienky | J76: 0 | N76: znížená | AY76: VRN | BE76: =IF(N76="základná",J76,0) -> 0 | BF76: =IF(N76="znížená",J76,0) -> 0 | BG76: =IF(N76="zákl. prenesená",J76,0) -> 0 | BH76: =IF(N76="zníž. prenesená",J76,0) -> 0 | BI76: =IF(N76="nulová",J76,0) -> 0 | BJ76: 2
D77: Vplyv prostredia | J77: 0 | N77: znížená | AY77: VRN | BE77: =IF(N77="základná",J77,0) -> 0 | BF77: =IF(N77="znížená",J77,0) -> 0 | BG77: =IF(N77="zákl. prenesená",J77,0) -> 0 | BH77: =IF(N77="zníž. prenesená",J77,0) -> 0 | BI77: =IF(N77="nulová",J77,0) -> 0 | BJ77: 2
D78: Klimatické vplyvy | J78: 0 | N78: znížená | AY78: VRN | BE78: =IF(N78="základná",J78,0) -> 0 | BF78: =IF(N78="znížená",J78,0) -> 0 | BG78: =IF(N78="zákl. prenesená",J78,0) -> 0 | BH78: =IF(N78="zníž. prenesená",J78,0) -> 0 | BI78: =IF(N78="nulová",J78,0) -> 0 | BJ78: 2
D79: Kompletačná činnosť | J79: =ROUND(J32*T79,2) -> 0 | N79: znížená | AY79: KOMPLETACNA | BE79: =IF(N79="základná",J79,0) -> 0 | BF79: =IF(N79="znížená",J79,0) -> 0 | BG79: =IF(N79="zákl. prenesená",J79,0) -> 0 | BH79: =IF(N79="zníž. prenesená",J79,0) -> 0 | BI79: =IF(N79="nulová",J79,0) -> 0 | BJ79: 2
C81: Celkové náklady za stavbu 1) + 2) | J81: =ROUND(J65+J73,2) -> 0
C87: ROZPOČET
C89: Stavba:
E90: =E7 -> Materská škola Na Hôrke 30, Nitra
C91: Objekt:
E92: 100 - SO 100 Vytvorenie 2 tried Materskej školy pre 24 + 21 detí
C93: Časť:
E94: =E11 -> 104 - SP 104 Stavebné úpravy spevných plôch po osadení exteriérového schodiska
C96: Miesto: | F96: =F14 -> Na Hôrke 30, Nitra | I96: Dátum: | J96: =IF(J14="","",J14) -> 24. 2. 2017
C98: Objednávateľ: | F98: =E17 -> Mesto NITRA, Štefánikova 60, 950 06 Nitra | I98: Projektant: | J98: =E23 -> Ing.arch.Igor Feník
C99: Zhotoviteľ: | F99: =IF(E20="","",E20) -> Vyplň údaj | I99: Spracovateľ: | J99: =E26 -> Ing.Janečka
C101: PČ | D101: Typ | E101: Kód | F101: Popis | G101: MJ | H101: Množstvo | I101: J.cena [EUR] | J101: Cena celkom [EUR] | K101: Cenová sústava | N101: DPH | O101: J. Nh [h] | P101: Nh celkom [h] | Q101: J. hmotnosť [t] | R101: Hmotnosť celkom [t] | S101: J. suť [t] | T101: Suť Celkom [t]
C102: Náklady z rozpočtu | J102: =BK102 -> 0 | P102: =P103 -> 0 | R102: =R103 -> 3.6442712 | T102: =T103 -> 0 | AT102: D | AU102: -1 | BK102: =BK103 -> 0
D103: D | E103: HSV | F103: Práce a dodávky HSV | J103: =BK103 -> 0 | P103: =P104+P106+P108+P111 -> 0 | R103: =R104+R106+R108+R111 -> 3.6442712 | T103: =T104+T106+T108+T111 -> 0 | AR103: 1 | AT103: D | AU103: 0 | AY103: ROZPOCET | BK103: =BK104+BK106+BK108+BK111 -> 0
D104: D | E104: 2 | F104: Zakladanie | J104: =BK104 -> 0 | P104: =P105 -> 0 | R104: =R105 -> 0.3726 | T104: =T105 -> 0 | AR104: 1 | AT104: D | AU104: 1 | AY104: ROZPOCET | BK104: =BK105 -> 0
C105: 1 | D105: K | E105: 271533001 | F105: Násyp pod základové konštrukcie so zhutnením z kameniva hrubého drveného fr.32-63 mm | G105: m3 | H105: 0.18 | J105: =ROUND(I105*H105,3) -> 0 | N105: znížená | P105: =O105*H105 -> 0 | Q105: 2.07 | R105: =Q105*H105 -> 0.3726 | S105: 0 | T105: =S105*H105 -> 0 | AR105: 4 | AT105: K | AU105: 2 | AY105: ROZPOCET | BE105: =IF(N105="základná",J105,0) -> 0 | BF105: =IF(N105="znížená",J105,0) -> 0 | BG105: =IF(N105="zákl. prenesená",J105,0) -> 0 | BH105: =IF(N105="zníž. prenesená",J105,0) -> 0 | BI105: =IF(N105="nulová",J105,0) -> 0 | BJ105: 2 | BK105: =ROUND(I105*H105,3) -> 0 | BL105: 4 | BM105: 1510224232
D106: D | E106: 3 | F106: Zvislé a kompletné konštrukcie | J106: =BK106 -> 0 | P106: =P107 -> 0 | R106: =R107 -> 2.6463812 | T106: =T107 -> 0 | AR106: 1 | AT106: D | AU106: 1 | AY106: ROZPOCET | BK106: =BK107 -> 0
C107: 2 | D107: K | E107: 389381001 | F107: Dobetónovanie betónovej plochy betónom XF3 C30/37 | G107: m3 | H107: 1.075 | J107: =ROUND(I107*H107,3) -> 0 | N107: znížená | P107: =O107*H107 -> 0 | Q107: 2.46175 | R107: =Q107*H107 -> 2.6463812 | S107: 0 | T107: =S107*H107 -> 0 | AR107: 4 | AT107: K | AU107: 2 | AY107: ROZPOCET | BE107: =IF(N107="základná",J107,0) -> 0 | BF107: =IF(N107="znížená",J107,0) -> 0 | BG107: =IF(N107="zákl. prenesená",J107,0) -> 0 | BH107: =IF(N107="zníž. prenesená",J107,0) -> 0 | BI107: =IF(N107="nulová",J107,0) -> 0 | BJ107: 2 | BK107: =ROUND(I107*H107,3) -> 0 | BL107: 4 | BM107: -1139515860
D108: D | E108: 9 | F108: Ostatné konštrukcie a práce-búranie | J108: =BK108 -> 0 | P108: =SUM(P109:P110) -> 0 | R108: =SUM(R109:R110) -> 0.62529 | T108: =SUM(T109:T110) -> 0 | AR108: 1 | AT108: D | AU108: 1 | AY108: ROZPOCET | BK108: =SUM(BK109:BK110) -> 0
C109: 3 | D109: K | E109: 917862112 | F109: Osadenie chodník. obrubníka betónového stojatého do lôžka z betónu prosteho tr. C 16/20 s bočnou oporou | G109: m | H109: 3 | J109: =ROUND(I109*H109,3) -> 0 | N109: znížená | P109: =O109*H109 -> 0 | Q109: 0.12662 | R109: =Q109*H109 -> 0.37986 | S109: 0 | T109: =S109*H109 -> 0 | AR109: 4 | AT109: K | AU109: 2 | AY109: ROZPOCET | BE109: =IF(N109="základná",J109,0) -> 0 | BF109: =IF(N109="znížená",J109,0) -> 0 | BG109: =IF(N109="zákl. prenesená",J109,0) -> 0 | BH109: =IF(N109="zníž. prenesená",J109,0) -> 0 | BI109: =IF(N109="nulová",J109,0) -> 0 | BJ109: 2 | BK109: =ROUND(I109*H109,3) -> 0 | BL109: 4 | BM109: 2121312148
C110: 4 | D110: M | E110: 5922903060 | F110: SEMMELROCK Obrubník betónový cestný 100/25/15 cm, sivá | G110: ks | H110: 3.03 | J110: =ROUND(I110*H110,3) -> 0 | N110: znížená | P110: =O110*H110 -> 0 | Q110: 0.081 | R110: =Q110*H110 -> 0.24543 | S110: 0 | T110: =S110*H110 -> 0 | AR110: 8 | AT110: M | AU110: 2 | AY110: ROZPOCET | BE110: =IF(N110="základná",J110,0) -> 0 | BF110: =IF(N110="znížená",J110,0) -> 0 | BG110: =IF(N110="zákl. prenesená",J110,0) -> 0 | BH110: =IF(N110="zníž. prenesená",J110,0) -> 0 | BI110: =IF(N110="nulová",J110,0) -> 0 | BJ110: 2 | BK110: =ROUND(I110*H110,3) -> 0 | BL110: 4 | BM110: 1566072375
D111: D | E111: 99 | F111: Presun hmôt HSV | J111: =BK111 -> 0 | P111: =P112 -> 0 | R111: =R112 -> 0 | T111: =T112 -> 0 | AR111: 1 | AT111: D | AU111: 1 | AY111: ROZPOCET | BK111: =BK112 -> 0
C112: 5 | D112: K | E112: 999281111 | F112: Presun hmôt pre opravy a údržbu objektov vrátane vonkajších plášťov výšky do 25 m | G112: t | H112: 3.644 | J112: =ROUND(I112*H112,3) -> 0 | N112: znížená | P112: =O112*H112 -> 0 | Q112: 0 | R112: =Q112*H112 -> 0 | S112: 0 | T112: =S112*H112 -> 0 | AR112: 4 | AT112: K | AU112: 2 | AY112: ROZPOCET | BE112: =IF(N112="základná",J112,0) -> 0 | BF112: =IF(N112="znížená",J112,0) -> 0 | BG112: =IF(N112="zákl. prenesená",J112,0) -> 0 | BH112: =IF(N112="zníž. prenesená",J112,0) -> 0 | BI112: =IF(N112="nulová",J112,0) -> 0 | BJ112: 2 | BK112: =ROUND(I112*H112,3) -> 0 | BL112: 4 | BM112: 135246385

Sheet 201 - SP 201 Výmena výťahu 
AT2: {a138ec70-1d3e-4910-80f4-dbbb1d9095b2}
AT3: 0
D4: KRYCÍ LIST ROZPOČTU | M4: v --- nižšie sa nachádzajú doplnkové a pomocné údaje k zostavám --- v | AT4: False
D6: Stavba:
E7: ='Rekapitulácia stavby'!K6 -> Materská škola Na Hôrke 30, Nitra
D8: Objekt:
E9: 200 - SO 200 Zabezpečenie bezbariérového prístupu pre deti MŠ
D10: Časť:
E11: 201 - SP 201 Výmena výťahu
D13: JKSO: | I13: KS:
D14: Miesto: | F14: Na Hôrke 30, Nitra | I14: Dátum: | J14: ='Rekapitulácia stavby'!AN8 -> 24. 2. 2017
D16: Objednávateľ: | I16: IČO:
E17: Mesto NITRA, Štefánikova 60, 950 06 Nitra | I17: IČ DPH:
D19: Zhotoviteľ: | I19: IČO: | J19: ='Rekapitulácia stavby'!AN13 -> Vyplň údaj
E20: ='Rekapitulácia stavby'!E14 -> Vyplň údaj | I20: IČ DPH: | J20: ='Rekapitulácia stavby'!AN14 -> Vyplň údaj
D22: Projektant: | I22: IČO:
E23: Ing.arch.Igor Feník | I23: IČ DPH:
D25: Spracovateľ: | I25: IČO:
E26: Ing.Janečka | I26: IČ DPH:
D28: Poznámka:
D32: Náklady z rozpočtu | J32: =J65 -> 0
D33: Ostatné náklady | J33: =J70 -> 0
D34: Cena bez DPH | J34: =ROUND(J32 + J33, 2) -> 0
F36: Základ dane | I36: Sadzba dane | J36: Výška dane
D37: DPH | E37: základná | F37: =ROUND((SUM(BE70:BE77) + SUM(BE99:BE102)), 2) -> 0 | I37: 0.2 | J37: =ROUND(((SUM(BE70:BE77) + SUM(BE99:BE102))*I37), 2) -> 0
E38: znížená | F38: =ROUND((SUM(BF70:BF77) + SUM(BF99:BF102)), 2) -> 0 | I38: 0.2 | J38: =ROUND(((SUM(BF70:BF77) + SUM(BF99:BF102))*I38), 2) -> 0
E39: zákl. prenesená | F39: =ROUND((SUM(BG70:BG77) + SUM(BG99:BG102)), 2) -> 0 | I39: 0.2 | J39: =0 -> 0
E40: zníž. prenesená | F40: =ROUND((SUM(BH70:BH77) + SUM(BH99:BH102)), 2) -> 0 | I40: 0.2 | J40: =0 -> 0
E41: nulová | F41: =ROUND((SUM(BI70:BI77) + SUM(BI99:BI102)), 2) -> 0 | I41: 0 | J41: =0 -> 0
D43: Cena s DPH | G43: v | H43: EUR | J43: =SUM(J34:J41) -> 0
C49: REKAPITULÁCIA ROZPOČTU
C51: Stavba:
E52: =E7 -> Materská škola Na Hôrke 30, Nitra
C53: Objekt:
E54: 200 - SO 200 Zabezpečenie bezbariérového prístupu pre deti MŠ
C55: Časť:
E56: =E11 -> 201 - SP 201 Výmena výťahu
C58: Miesto: | F58: =F14 -> Na Hôrke 30, Nitra | I58: Dátum: | J58: =IF(J14="","",J14) -> 24. 2. 2017
C60: Objednávateľ: | F60: =E17 -> Mesto NITRA, Štefánikova 60, 950 06 Nitra | I60: Projektant: | J60: =E23 -> Ing.arch.Igor Feník
C61: Zhotoviteľ: | F61: =IF(E20="","",E20) -> Vyplň údaj | I61: Spracovateľ: | J61: =E26 -> Ing.Janečka
C63: Kód dielu - Popis | J63: Cena celkom [EUR]
C65: 1) Náklady z rozpočtu | J65: =J99 -> 0 | AU65: -1
D66: M - Práce a dodávky M | J66: =J100 -> 0
D67: 33-M - Montáže dopr.zariad.sklad.zar.a váh | J67: =J101 -> 0
C70: 2) Ostatné náklady | J70: =ROUND(J71 + J72 + J73 + J74 + J75 + J76,2) -> 0 | N70: DPH
D71: GZS | J71: 0 | N71: znížená | AY71: VRN | BE71: =IF(N71="základná",J71,0) -> 0 | BF71: =IF(N71="znížená",J71,0) -> 0 | BG71: =IF(N71="zákl. prenesená",J71,0) -> 0 | BH71: =IF(N71="zníž. prenesená",J71,0) -> 0 | BI71: =IF(N71="nulová",J71,0) -> 0 | BJ71: 2
D72: Mimostaven. doprava | J72: 0 | N72: znížená | AY72: VRN | BE72: =IF(N72="základná",J72,0) -> 0 | BF72: =IF(N72="znížená",J72,0) -> 0 | BG72: =IF(N72="zákl. prenesená",J72,0) -> 0 | BH72: =IF(N72="zníž. prenesená",J72,0) -> 0 | BI72: =IF(N72="nulová",J72,0) -> 0 | BJ72: 2
D73: Sťažené podmienky | J73: 0 | N73: znížená | AY73: VRN | BE73: =IF(N73="základná",J73,0) -> 0 | BF73: =IF(N73="znížená",J73,0) -> 0 | BG73: =IF(N73="zákl. prenesená",J73,0) -> 0 | BH73: =IF(N73="zníž. prenesená",J73,0) -> 0 | BI73: =IF(N73="nulová",J73,0) -> 0 | BJ73: 2
D74: Vplyv prostredia | J74: 0 | N74: znížená | AY74: VRN | BE74: =IF(N74="základná",J74,0) -> 0 | BF74: =IF(N74="znížená",J74,0) -> 0 | BG74: =IF(N74="zákl. prenesená",J74,0) -> 0 | BH74: =IF(N74="zníž. prenesená",J74,0) -> 0 | BI74: =IF(N74="nulová",J74,0) -> 0 | BJ74: 2
D75: Klimatické vplyvy | J75: 0 | N75: znížená | AY75: VRN | BE75: =IF(N75="základná",J75,0) -> 0 | BF75: =IF(N75="znížená",J75,0) -> 0 | BG75: =IF(N75="zákl. prenesená",J75,0) -> 0 | BH75: =IF(N75="zníž. prenesená",J75,0) -> 0 | BI75: =IF(N75="nulová",J75,0) -> 0 | BJ75: 2
D76: Kompletačná činnosť | J76: =ROUND(J32*T76,2) -> 0 | N76: znížená | AY76: KOMPLETACNA | BE76: =IF(N76="základná",J76,0) -> 0 | BF76: =IF(N76="znížená",J76,0) -> 0 | BG76: =IF(N76="zákl. prenesená",J76,0) -> 0 | BH76: =IF(N76="zníž. prenesená",J76,0) -> 0 | BI76: =IF(N76="nulová",J76,0) -> 0 | BJ76: 2
C78: Celkové náklady za stavbu 1) + 2) | J78: =ROUND(J65+J70,2) -> 0
C84: ROZPOČET
C86: Stavba:
E87: =E7 -> Materská škola Na Hôrke 30, Nitra
C88: Objekt:
E89: 200 - SO 200 Zabezpečenie bezbariérového prístupu pre deti MŠ
C90: Časť:
E91: =E11 -> 201 - SP 201 Výmena výťahu
C93: Miesto: | F93: =F14 -> Na Hôrke 30, Nitra | I93: Dátum: | J93: =IF(J14="","",J14) -> 24. 2. 2017
C95: Objednávateľ: | F95: =E17 -> Mesto NITRA, Štefánikova 60, 950 06 Nitra | I95: Projektant: | J95: =E23 -> Ing.arch.Igor Feník
C96: Zhotoviteľ: | F96: =IF(E20="","",E20) -> Vyplň údaj | I96: Spracovateľ: | J96: =E26 -> Ing.Janečka
C98: PČ | D98: Typ | E98: Kód | F98: Popis | G98: MJ | H98: Množstvo | I98: J.cena [EUR] | J98: Cena celkom [EUR] | K98: Cenová sústava | N98: DPH | O98: J. Nh [h] | P98: Nh celkom [h] | Q98: J. hmotnosť [t] | R98: Hmotnosť celkom [t] | S98: J. suť [t] | T98: Suť Celkom [t]
C99: Náklady z rozpočtu | J99: =BK99 -> 0 | P99: =P100 -> 0 | R99: =R100 -> 0 | T99: =T100 -> 0 | AT99: D | AU99: -1 | BK99: =BK100 -> 0
D100: D | E100: M | F100: Práce a dodávky M | J100: =BK100 -> 0 | P100: =P101 -> 0 | R100: =R101 -> 0 | T100: =T101 -> 0 | AR100: 3 | AT100: D | AU100: 0 | AY100: ROZPOCET | BK100: =BK101 -> 0
D101: D | E101: 33-M | F101: Montáže dopr.zariad.sklad.zar.a váh | J101: =BK101 -> 0 | P101: =P102 -> 0 | R101: =R102 -> 0 | T101: =T102 -> 0 | AR101: 3 | AT101: D | AU101: 1 | AY101: ROZPOCET | BK101: =BK102 -> 0
C102: 1 | D102: K | E102: 330030044 | F102: D+M Výťah | G102: sbr | H102: 1 | J102: =ROUND(I102*H102,3) -> 0 | N102: znížená | P102: =O102*H102 -> 0 | Q102: 0 | R102: =Q102*H102 -> 0 | S102: 0 | T102: =S102*H102 -> 0 | AR102: 64 | AT102: K | AU102: 2 | AY102: ROZPOCET | BE102: =IF(N102="základná",J102,0) -> 0 | BF102: =IF(N102="znížená",J102,0) -> 0 | BG102: =IF(N102="zákl. prenesená",J102,0) -> 0 | BH102: =IF(N102="zníž. prenesená",J102,0) -> 0 | BI102: =IF(N102="nulová",J102,0) -> 0 | BJ102: 2 | BK102: =ROUND(I102*H102,3) -> 0 | BL102: 64 | BM102: 411595487

Sheet 202 - SP 202  Stavebné úp...
AT2: {e9b44569-1bc2-4d8b-a8e0-17d4f23fc3f9}
AT3: 0
D4: KRYCÍ LIST ROZPOČTU | M4: v --- nižšie sa nachádzajú doplnkové a pomocné údaje k zostavám --- v | AT4: False
D6: Stavba:
E7: ='Rekapitulácia stavby'!K6 -> Materská škola Na Hôrke 30, Nitra
D8: Objekt:
E9: 200 - SO 200 Zabezpečenie bezbariérového prístupu pre deti MŠ
D10: Časť:
E11: 202 - SP 202 Stavebné úpravy v bezbariérovom koridore
D13: JKSO: | I13: KS:
D14: Miesto: | F14: Na Hôrke 30, Nitra | I14: Dátum: | J14: ='Rekapitulácia stavby'!AN8 -> 24. 2. 2017
D16: Objednávateľ: | I16: IČO:
E17: Mesto NITRA, Štefánikova 60, 950 06 Nitra | I17: IČ DPH:
D19: Zhotoviteľ: | I19: IČO: | J19: ='Rekapitulácia stavby'!AN13 -> Vyplň údaj
E20: ='Rekapitulácia stavby'!E14 -> Vyplň údaj | I20: IČ DPH: | J20: ='Rekapitulácia stavby'!AN14 -> Vyplň údaj
D22: Projektant: | I22: IČO:
E23: Ing.arch.Igor Feník | I23: IČ DPH:
D25: Spracovateľ: | I25: IČO:
E26: Ing.Janečka | I26: IČ DPH:
D28: Poznámka:
D32: Náklady z rozpočtu | J32: =J65 -> 0
D33: Ostatné náklady | J33: =J77 -> 0
D34: Cena bez DPH | J34: =ROUND(J32 + J33, 2) -> 0
F36: Základ dane | I36: Sadzba dane | J36: Výška dane
D37: DPH | E37: základná | F37: =ROUND((SUM(BE77:BE84) + SUM(BE106:BE142)), 2) -> 0 | I37: 0.2 | J37: =ROUND(((SUM(BE77:BE84) + SUM(BE106:BE142))*I37), 2) -> 0
E38: znížená | F38: =ROUND((SUM(BF77:BF84) + SUM(BF106:BF142)), 2) -> 0 | I38: 0.2 | J38: =ROUND(((SUM(BF77:BF84) + SUM(BF106:BF142))*I38), 2) -> 0
E39: zákl. prenesená | F39: =ROUND((SUM(BG77:BG84) + SUM(BG106:BG142)), 2) -> 0 | I39: 0.2 | J39: =0 -> 0
E40: zníž. prenesená | F40: =ROUND((SUM(BH77:BH84) + SUM(BH106:BH142)), 2) -> 0 | I40: 0.2 | J40: =0 -> 0
E41: nulová | F41: =ROUND((SUM(BI77:BI84) + SUM(BI106:BI142)), 2) -> 0 | I41: 0 | J41: =0 -> 0
D43: Cena s DPH | G43: v | H43: EUR | J43: =SUM(J34:J41) -> 0
C49: REKAPITULÁCIA ROZPOČTU
C51: Stavba:
E52: =E7 -> Materská škola Na Hôrke 30, Nitra
C53: Objekt:
E54: 200 - SO 200 Zabezpečenie bezbariérového prístupu pre deti MŠ
C55: Časť:
E56: =E11 -> 202 - SP 202 Stavebné úpravy v bezbariérovom koridore
C58: Miesto: | F58: =F14 -> Na Hôrke 30, Nitra | I58: Dátum: | J58: =IF(J14="","",J14) -> 24. 2. 2017
C60: Objednávateľ: | F60: =E17 -> Mesto NITRA, Štefánikova 60, 950 06 Nitra | I60: Projektant: | J60: =E23 -> Ing.arch.Igor Feník
C61: Zhotoviteľ: | F61: =IF(E20="","",E20) -> Vyplň údaj | I61: Spracovateľ: | J61: =E26 -> Ing.Janečka
C63: Kód dielu - Popis | J63: Cena celkom [EUR]
C65: 1) Náklady z rozpočtu | J65: =J106 -> 0 | AU65: -1
D66: HSV - Práce a dodávky HSV | J66: =J107 -> 0
D67: 6 - Úpravy povrchov, podlahy, osadenie | J67: =J108 -> 0
D68: 9 - Ostatné konštrukcie a práce-búranie | J68: =J114 -> 0
D69: 99 - Presun hmôt HSV | J69: =J124 -> 0
D70: PSV - Práce a dodávky PSV | J70: =J126 -> 0
D71: 771 - Podlahy z dlaždíc | J71: =J127 -> 0
D72: 776 - Podlahy povlakové | J72: =J133 -> 0
D73: 783 - Dokončovacie práce - nátery | J73: =J137 -> 0
D74: 784 - Dokončovacie práce - maľby | J74: =J140 -> 0
C77: 2) Ostatné náklady | J77: =ROUND(J78 + J79 + J80 + J81 + J82 + J83,2) -> 0 | N77: DPH
D78: GZS | J78: 0 | N78: znížená | AY78: VRN | BE78: =IF(N78="základná",J78,0) -> 0 | BF78: =IF(N78="znížená",J78,0) -> 0 | BG78: =IF(N78="zákl. prenesená",J78,0) -> 0 | BH78: =IF(N78="zníž. prenesená",J78,0) -> 0 | BI78: =IF(N78="nulová",J78,0) -> 0 | BJ78: 2
D79: Mimostaven. doprava | J79: 0 | N79: znížená | AY79: VRN | BE79: =IF(N79="základná",J79,0) -> 0 | BF79: =IF(N79="znížená",J79,0) -> 0 | BG79: =IF(N79="zákl. prenesená",J79,0) -> 0 | BH79: =IF(N79="zníž. prenesená",J79,0) -> 0 | BI79: =IF(N79="nulová",J79,0) -> 0 | BJ79: 2
D80: Sťažené podmienky | J80: 0 | N80: znížená | AY80: VRN | BE80: =IF(N80="základná",J80,0) -> 0 | BF80: =IF(N80="znížená",J80,0) -> 0 | BG80: =IF(N80="zákl. prenesená",J80,0) -> 0 | BH80: =IF(N80="zníž. prenesená",J80,0) -> 0 | BI80: =IF(N80="nulová",J80,0) -> 0 | BJ80: 2
D81: Vplyv prostredia | J81: 0 | N81: znížená | AY81: VRN | BE81: =IF(N81="základná",J81,0) -> 0 | BF81: =IF(N81="znížená",J81,0) -> 0 | BG81: =IF(N81="zákl. prenesená",J81,0) -> 0 | BH81: =IF(N81="zníž. prenesená",J81,0) -> 0 | BI81: =IF(N81="nulová",J81,0) -> 0 | BJ81: 2
D82: Klimatické vplyvy | J82: 0 | N82: znížená | AY82: VRN | BE82: =IF(N82="základná",J82,0) -> 0 | BF82: =IF(N82="znížená",J82,0) -> 0 | BG82: =IF(N82="zákl. prenesená",J82,0) -> 0 | BH82: =IF(N82="zníž. prenesená",J82,0) -> 0 | BI82: =IF(N82="nulová",J82,0) -> 0 | BJ82: 2
D83: Kompletačná činnosť | J83: =ROUND(J32*T83,2) -> 0 | N83: znížená | AY83: KOMPLETACNA | BE83: =IF(N83="základná",J83,0) -> 0 | BF83: =IF(N83="znížená",J83,0) -> 0 | BG83: =IF(N83="zákl. prenesená",J83,0) -> 0 | BH83: =IF(N83="zníž. prenesená",J83,0) -> 0 | BI83: =IF(N83="nulová",J83,0) -> 0 | BJ83: 2
C85: Celkové náklady za stavbu 1) + 2) | J85: =ROUND(J65+J77,2) -> 0
C91: ROZPOČET
C93: Stavba:
E94: =E7 -> Materská škola Na Hôrke 30, Nitra
C95: Objekt:
E96: 200 - SO 200 Zabezpečenie bezbariérového prístupu pre deti MŠ
C97: Časť:
E98: =E11 -> 202 - SP 202 Stavebné úpravy v bezbariérovom koridore
C100: Miesto: | F100: =F14 -> Na Hôrke 30, Nitra | I100: Dátum: | J100: =IF(J14="","",J14) -> 24. 2. 2017
C102: Objednávateľ: | F102: =E17 -> Mesto NITRA, Štefánikova 60, 950 06 Nitra | I102: Projektant: | J102: =E23 -> Ing.arch.Igor Feník
C103: Zhotoviteľ: | F103: =IF(E20="","",E20) -> Vyplň údaj | I103: Spracovateľ: | J103: =E26 -> Ing.Janečka
C105: PČ | D105: Typ | E105: Kód | F105: Popis | G105: MJ | H105: Množstvo | I105: J.cena [EUR] | J105: Cena celkom [EUR] | K105: Cenová sústava | N105: DPH | O105: J. Nh [h] | P105: Nh celkom [h] | Q105: J. hmotnosť [t] | R105: Hmotnosť celkom [t] | S105: J. suť [t] | T105: Suť Celkom [t]
C106: Náklady z rozpočtu | J106: =BK106 -> 0 | P106: =P107+P126 -> 0 | R106: =R107+R126 -> 7.5975875 | T106: =T107+T126 -> 7.47696 | AT106: D | AU106: -1 | BK106: =BK107+BK126 -> 0
D107: D | E107: HSV | F107: Práce a dodávky HSV | J107: =BK107 -> 0 | P107: =P108+P114+P124 -> 0 | R107: =R108+R114+R124 -> 6.0985705 | T107: =T108+T114+T124 -> 7.39542 | AR107: 1 | AT107: D | AU107: 0 | AY107: ROZPOCET | BK107: =BK108+BK114+BK124 -> 0
D108: D | E108: 6 | F108: Úpravy povrchov, podlahy, osadenie | J108: =BK108 -> 0 | P108: =SUM(P109:P113) -> 0 | R108: =SUM(R109:R113) -> 5.9498857 | T108: =SUM(T109:T113) -> 0 | AR108: 1 | AT108: D | AU108: 1 | AY108: ROZPOCET | BK108: =SUM(BK109:BK113) -> 0
C109: 1 | D109: K | E109: 612421131 | F109: Oprava vnútorných vápenných omietok stien, opravovaná plocha do 5 %, štuková | G109: m2 | H109: 204.604 | J109: =ROUND(I109*H109,3) -> 0 | N109: znížená | P109: =O109*H109 -> 0 | Q109: 0.00247 | R109: =Q109*H109 -> 0.50537188 | S109: 0 | T109: =S109*H109 -> 0 | AR109: 4 | AT109: K | AU109: 2 | AY109: ROZPOCET | BE109: =IF(N109="základná",J109,0) -> 0 | BF109: =IF(N109="znížená",J109,0) -> 0 | BG109: =IF(N109="zákl. prenesená",J109,0) -> 0 | BH109: =IF(N109="zníž. prenesená",J109,0) -> 0 | BI109: =IF(N109="nulová",J109,0) -> 0 | BJ109: 2 | BK109: =ROUND(I109*H109,3) -> 0 | BL109: 4 | BM109: -202469425
C110: 2 | D110: K | E110: 632001051 | F110: Zhotovenie jednonásobného penetračného náteru pre potery a stierky | G110: m2 | H110: 37.7 | J110: =ROUND(I110*H110,3) -> 0 | N110: znížená | P110: =O110*H110 -> 0 | Q110: 0 | R110: =Q110*H110 -> 0 | S110: 0 | T110: =S110*H110 -> 0 | AR110: 4 | AT110: K | AU110: 2 | AY110: ROZPOCET | BE110: =IF(N110="základná",J110,0) -> 0 | BF110: =IF(N110="znížená",J110,0) -> 0 | BG110: =IF(N110="zákl. prenesená",J110,0) -> 0 | BH110: =IF(N110="zníž. prenesená",J110,0) -> 0 | BI110: =IF(N110="nulová",J110,0) -> 0 | BJ110: 2 | BK110: =ROUND(I110*H110,3) -> 0 | BL110: 4 | BM110: 69095007
C111: 3 | D111: M | E111: 5858151015 | F111: Penetračný náter na báze disperzie, Baumit Grund, 25 kg | G111: kg | H111: 5.825 | J111: =ROUND(I111*H111,3) -> 0 | N111: znížená | P111: =O111*H111 -> 0 | Q111: 0.001 | R111: =Q111*H111 -> 0.005825 | S111: 0 | T111: =S111*H111 -> 0 | AR111: 8 | AT111: M | AU111: 2 | AY111: ROZPOCET | BE111: =IF(N111="základná",J111,0) -> 0 | BF111: =IF(N111="znížená",J111,0) -> 0 | BG111: =IF(N111="zákl. prenesená",J111,0) -> 0 | BH111: =IF(N111="zníž. prenesená",J111,0) -> 0 | BI111: =IF(N111="nulová",J111,0) -> 0 | BJ111: 2 | BK111: =ROUND(I111*H111,3) -> 0 | BL111: 4 | BM111: -1565484560
C112: 4 | D112: K | E112: 632451221 | F112: Poter pieskovocementový 400 kg/m3, hladený oceľovým hladidlom, hr. nad 10 do 20 mm | G112: m2 | H112: 29.5 | J112: =ROUND(I112*H112,3) -> 0 | N112: znížená | P112: =O112*H112 -> 0 | Q112: 0.04376 | R112: =Q112*H112 -> 1.29092 | S112: 0 | T112: =S112*H112 -> 0 | AR112: 4 | AT112: K | AU112: 2 | AY112: ROZPOCET | BE112: =IF(N112="základná",J112,0) -> 0 | BF112: =IF(N112="znížená",J112,0) -> 0 | BG112: =IF(N112="zákl. prenesená",J112,0) -> 0 | BH112: =IF(N112="zníž. prenesená",J112,0) -> 0 | BI112: =IF(N112="nulová",J112,0) -> 0 | BJ112: 2 | BK112: =ROUND(I112*H112,3) -> 0 | BL112: 4 | BM112: 1736590306
C113: 5 | D113: K | E113: 632451235 | F113: Poter pieskovocementový 400 kg/m3, hladený oceľovým hladidlom, hr. nad 30 do 40 mm | G113: m2 | H113: 47.94 | J113: =ROUND(I113*H113,3) -> 0 | N113: znížená | P113: =O113*H113 -> 0 | Q113: 0.08652 | R113: =Q113*H113 -> 4.1477688 | S113: 0 | T113: =S113*H113 -> 0 | AR113: 4 | AT113: K | AU113: 2 | AY113: ROZPOCET | BE113: =IF(N113="základná",J113,0) -> 0 | BF113: =IF(N113="znížená",J113,0) -> 0 | BG113: =IF(N113="zákl. prenesená",J113,0) -> 0 | BH113: =IF(N113="zníž. prenesená",J113,0) -> 0 | BI113: =IF(N113="nulová",J113,0) -> 0 | BJ113: 2 | BK113: =ROUND(I113*H113,3) -> 0 | BL113: 4 | BM113: 1558733866
D114: D | E114: 9 | F114: Ostatné konštrukcie a práce-búranie | J114: =BK114 -> 0 | P114: =SUM(P115:P123) -> 0 | R114: =SUM(R115:R123) -> 0.1486848 | T114: =SUM(T115:T123) -> 7.39542 | AR114: 1 | AT114: D | AU114: 1 | AY114: ROZPOCET | BK114: =SUM(BK115:BK123) -> 0
C115: 6 | D115: K | E115: 941955002 | F115: Lešenie ľahké pracovné pomocné s výškou lešeňovej podlahy nad 1,20 do 1,90 m | G115: m2 | H115: 77.44 | J115: =ROUND(I115*H115,3) -> 0 | N115: znížená | P115: =O115*H115 -> 0 | Q115: 0.00192 | R115: =Q115*H115 -> 0.1486848 | S115: 0 | T115: =S115*H115 -> 0 | AR115: 4 | AT115: K | AU115: 2 | AY115: ROZPOCET | BE115: =IF(N115="základná",J115,0) -> 0 | BF115: =IF(N115="znížená",J115,0) -> 0 | BG115: =IF(N115="zákl. prenesená",J115,0) -> 0 | BH115: =IF(N115="zníž. prenesená",J115,0) -> 0 | BI115: =IF(N115="nulová",J115,0) -> 0 | BJ115: 2 | BK115: =ROUND(I115*H115,3) -> 0 | BL115: 4 | BM115: -615247781
C116: 7 | D116: K | E116: 965043331 | F116: Búranie podkladov pod dlažby, liatych dlažieb a mazanín,betón s poterom,teracom hr.do 100 mm, -2,20000t | G116: m3 | H116: 2.407 | J116: =ROUND(I116*H116,3) -> 0 | N116: znížená | P116: =O116*H116 -> 0 | Q116: 0 | R116: =Q116*H116 -> 0 | S116: 2.2 | T116: =S116*H116 -> 5.2954 | AR116: 4 | AT116: K | AU116: 2 | AY116: ROZPOCET | BE116: =IF(N116="základná",J116,0) -> 0 | BF116: =IF(N116="znížená",J116,0) -> 0 | BG116: =IF(N116="zákl. prenesená",J116,0) -> 0 | BH116: =IF(N116="zníž. prenesená",J116,0) -> 0 | BI116: =IF(N116="nulová",J116,0) -> 0 | BJ116: 2 | BK116: =ROUND(I116*H116,3) -> 0 | BL116: 4 | BM116: 2130246199
C117: 8 | D117: K | E117: 965081812 | F117: Búranie dlažieb, z kamen., cement., terazzových, čadičových alebo keram. dĺžky , hr.nad 10 mm, -0,06500t | G117: m2 | H117: 32.308 | J117: =ROUND(I117*H117,3) -> 0 | N117: znížená | P117: =O117*H117 -> 0 | Q117: 0 | R117: =Q117*H117 -> 0 | S117: 0.065 | T117: =S117*H117 -> 2.10002 | AR117: 4 | AT117: K | AU117: 2 | AY117: ROZPOCET | BE117: =IF(N117="základná",J117,0) -> 0 | BF117: =IF(N117="znížená",J117,0) -> 0 | BG117: =IF(N117="zákl. prenesená",J117,0) -> 0 | BH117: =IF(N117="zníž. prenesená",J117,0) -> 0 | BI117: =IF(N117="nulová",J117,0) -> 0 | BJ117: 2 | BK117: =ROUND(I117*H117,3) -> 0 | BL117: 4 | BM117: -1315289300
C118: 9 | D118: K | E118: 968062745 | F118: Vybúranie drevených stien plných, zasklených alebo výkladných, -0,02400t | G118: m2 | H118: 7.713 | J118: =ROUND(I118*H118,3) -> 0 | N118: znížená | P118: =O118*H118 -> 0 | Q118: 0 | R118: =Q118*H118 -> 0 | S118: 0 | T118: =S118*H118 -> 0 | AR118: 4 | AT118: K | AU118: 2 | AY118: ROZPOCET | BE118: =IF(N118="základná",J118,0) -> 0 | BF118: =IF(N118="znížená",J118,0) -> 0 | BG118: =IF(N118="zákl. prenesená",J118,0) -> 0 | BH118: =IF(N118="zníž. prenesená",J118,0) -> 0 | BI118: =IF(N118="nulová",J118,0) -> 0 | BJ118: 2 | BK118: =ROUND(I118*H118,3) -> 0 | BL118: 4 | BM118: 1044496271
C119: 10 | D119: K | E119: 968072641 | F119: Vybúranie kovových stien plných, zasklených alebo výkladných, -0,02500t | G119: m2 | H119: 5.4 | J119: =ROUND(I119*H119,3) -> 0 | N119: znížená | P119: =O119*H119 -> 0 | Q119: 0 | R119: =Q119*H119 -> 0 | S119: 0 | T119: =S119*H119 -> 0 | AR119: 4 | AT119: K | AU119: 2 | AY119: ROZPOCET | BE119: =IF(N119="základná",J119,0) -> 0 | BF119: =IF(N119="znížená",J119,0) -> 0 | BG119: =IF(N119="zákl. prenesená",J119,0) -> 0 | BH119: =IF(N119="zníž. prenesená",J119,0) -> 0 | BI119: =IF(N119="nulová",J119,0) -> 0 | BJ119: 2 | BK119: =ROUND(I119*H119,3) -> 0 | BL119: 4 | BM119: 222908418
C120: 11 | D120: K | E120: 979081121 | F120: Odvoz sutiny a vybúraných hmôt na skládku za každý ďalší 1 km (2x) | G120: t | H120: 14.954 | J120: =ROUND(I120*H120,3) -> 0 | N120: znížená | P120: =O120*H120 -> 0 | Q120: 0 | R120: =Q120*H120 -> 0 | S120: 0 | T120: =S120*H120 -> 0 | AR120: 4 | AT120: K | AU120: 2 | AY120: ROZPOCET | BE120: =IF(N120="základná",J120,0) -> 0 | BF120: =IF(N120="znížená",J120,0) -> 0 | BG120: =IF(N120="zákl. prenesená",J120,0) -> 0 | BH120: =IF(N120="zníž. prenesená",J120,0) -> 0 | BI120: =IF(N120="nulová",J120,0) -> 0 | BJ120: 2 | BK120: =ROUND(I120*H120,3) -> 0 | BL120: 4 | BM120: 1928158089
C121: 12 | D121: K | E121: 979082111 | F121: Vnútrostavenisková doprava sutiny a vybúraných hmôt do 10 m | G121: t | H121: 7.477 | J121: =ROUND(I121*H121,3) -> 0 | N121: znížená | P121: =O121*H121 -> 0 | Q121: 0 | R121: =Q121*H121 -> 0 | S121: 0 | T121: =S121*H121 -> 0 | AR121: 4 | AT121: K | AU121: 2 | AY121: ROZPOCET | BE121: =IF(N121="základná",J121,0) -> 0 | BF121: =IF(N121="znížená",J121,0) -> 0 | BG121: =IF(N121="zákl. prenesená",J121,0) -> 0 | BH121: =IF(N121="zníž. prenesená",J121,0) -> 0 | BI121: =IF(N121="nulová",J121,0) -> 0 | BJ121: 2 | BK121: =ROUND(I121*H121,3) -> 0 | BL121: 4 | BM121: -695223943
C122: 13 | D122: K | E122: 979082121 | F122: Vnútrostavenisková doprava sutiny a vybúraných hmôt za každých ďalších 5 m (8x) | G122: t | H122: 59.816 | J122: =ROUND(I122*H122,3) -> 0 | N122: znížená | P122: =O122*H122 -> 0 | Q122: 0 | R122: =Q122*H122 -> 0 | S122: 0 | T122: =S122*H122 -> 0 | AR122: 4 | AT122: K | AU122: 2 | AY122: ROZPOCET | BE122: =IF(N122="základná",J122,0) -> 0 | BF122: =IF(N122="znížená",J122,0) -> 0 | BG122: =IF(N122="zákl. prenesená",J122,0) -> 0 | BH122: =IF(N122="zníž. prenesená",J122,0) -> 0 | BI122: =IF(N122="nulová",J122,0) -> 0 | BJ122: 2 | BK122: =ROUND(I122*H122,3) -> 0 | BL122: 4 | BM122: -1991351160
C123: 14 | D123: K | E123: 979089012 | F123: Poplatok za skladovanie - betón, tehly, dlaždice (17 01 ), ostatné | G123: t | H123: 7.477 | J123: =ROUND(I123*H123,3) -> 0 | N123: znížená | P123: =O123*H123 -> 0 | Q123: 0 | R123: =Q123*H123 -> 0 | S123: 0 | T123: =S123*H123 -> 0 | AR123: 4 | AT123: K | AU123: 2 | AY123: ROZPOCET | BE123: =IF(N123="základná",J123,0) -> 0 | BF123: =IF(N123="znížená",J123,0) -> 0 | BG123: =IF(N123="zákl. prenesená",J123,0) -> 0 | BH123: =IF(N123="zníž. prenesená",J123,0) -> 0 | BI123: =IF(N123="nulová",J123,0) -> 0 | BJ123: 2 | BK123: =ROUND(I123*H123,3) -> 0 | BL123: 4 | BM123: -1250925387
D124: D | E124: 99 | F124: Presun hmôt HSV | J124: =BK124 -> 0 | P124: =P125 -> 0 | R124: =R125 -> 0 | T124: =T125 -> 0 | AR124: 1 | AT124: D | AU124: 1 | AY124: ROZPOCET | BK124: =BK125 -> 0
C125: 15 | D125: K | E125: 999281111 | F125: Presun hmôt pre opravy a údržbu objektov vrátane vonkajších plášťov výšky do 25 m | G125: t | H125: 6.099 | J125: =ROUND(I125*H125,3) -> 0 | N125: znížená | P125: =O125*H125 -> 0 | Q125: 0 | R125: =Q125*H125 -> 0 | S125: 0 | T125: =S125*H125 -> 0 | AR125: 4 | AT125: K | AU125: 2 | AY125: ROZPOCET | BE125: =IF(N125="základná",J125,0) -> 0 | BF125: =IF(N125="znížená",J125,0) -> 0 | BG125: =IF(N125="zákl. prenesená",J125,0) -> 0 | BH125: =IF(N125="zníž. prenesená",J125,0) -> 0 | BI125: =IF(N125="nulová",J125,0) -> 0 | BJ125: 2 | BK125: =ROUND(I125*H125,3) -> 0 | BL125: 4 | BM125: 691466509
D126: D | E126: PSV | F126: Práce a dodávky PSV | J126: =BK126 -> 0 | P126: =P127+P133+P137+P140 -> 0 | R126: =R127+R133+R137+R140 -> 1.499017 | T126: =T127+T133+T137+T140 -> 0.08154 | AR126: 2 | AT126: D | AU126: 0 | AY126: ROZPOCET | BK126: =BK127+BK133+BK137+BK140 -> 0
D127: D | E127: 771 | F127: Podlahy z dlaždíc | J127: =BK127 -> 0 | P127: =SUM(P128:P132) -> 0 | R127: =SUM(R128:R132) -> 1.3514994 | T127: =SUM(T128:T132) -> 0 | AR127: 2 | AT127: D | AU127: 1 | AY127: ROZPOCET | BK127: =SUM(BK128:BK132) -> 0
C128: 16 | D128: K | E128: 771415014 | F128: Montáž soklíkov z obkladačiek do tmelu | G128: m | H128: 58.8 | J128: =ROUND(I128*H128,3) -> 0 | N128: znížená | P128: =O128*H128 -> 0 | Q128: 0.00063 | R128: =Q128*H128 -> 0.037044 | S128: 0 | T128: =S128*H128 -> 0 | AR128: 16 | AT128: K | AU128: 2 | AY128: ROZPOCET | BE128: =IF(N128="základná",J128,0) -> 0 | BF128: =IF(N128="znížená",J128,0) -> 0 | BG128: =IF(N128="zákl. prenesená",J128,0) -> 0 | BH128: =IF(N128="zníž. prenesená",J128,0) -> 0 | BI128: =IF(N128="nulová",J128,0) -> 0 | BJ128: 2 | BK128: =ROUND(I128*H128,3) -> 0 | BL128: 16 | BM128: -96663403
C129: 17 | D129: M | E129: 59781521 | F129: Soklík keramický v=120mm | G129: m | H129: 59.976 | J129: =ROUND(I129*H129,3) -> 0 | N129: znížená | P129: =O129*H129 -> 0 | Q129: 0.0105 | R129: =Q129*H129 -> 0.629748 | S129: 0 | T129: =S129*H129 -> 0 | AR129: 32 | AT129: M | AU129: 2 | AY129: ROZPOCET | BE129: =IF(N129="základná",J129,0) -> 0 | BF129: =IF(N129="znížená",J129,0) -> 0 | BG129: =IF(N129="zákl. prenesená",J129,0) -> 0 | BH129: =IF(N129="zníž. prenesená",J129,0) -> 0 | BI129: =IF(N129="nulová",J129,0) -> 0 | BJ129: 2 | BK129: =ROUND(I129*H129,3) -> 0 | BL129: 16 | BM129: -963392062
C130: 18 | D130: K | E130: 771576107 | F130: Montáž podláh z dlaždíc keramických do tmelu flexibilného | G130: m2 | H130: 37.7 | J130: =ROUND(I130*H130,3) -> 0 | N130: znížená | P130: =O130*H130 -> 0 | Q130: 0.00327 | R130: =Q130*H130 -> 0.123279 | S130: 0 | T130: =S130*H130 -> 0 | AR130: 16 | AT130: K | AU130: 2 | AY130: ROZPOCET | BE130: =IF(N130="základná",J130,0) -> 0 | BF130: =IF(N130="znížená",J130,0) -> 0 | BG130: =IF(N130="zákl. prenesená",J130,0) -> 0 | BH130: =IF(N130="zníž. prenesená",J130,0) -> 0 | BI130: =IF(N130="nulová",J130,0) -> 0 | BJ130: 2 | BK130: =ROUND(I130*H130,3) -> 0 | BL130: 16 | BM130: 1155896588
C131: 19 | D131: M | E131: 59786513 | F131: Keramická dlažba s protišmykovým povrchom, stupeň protišmykovosti, R10 | G131: m2 | H131: 38.454 | J131: =ROUND(I131*H131,3) -> 0 | N131: znížená | P131: =O131*H131 -> 0 | Q131: 0.0146 | R131: =Q131*H131 -> 0.5614284 | S131: 0 | T131: =S131*H131 -> 0 | AR131: 32 | AT131: M | AU131: 2 | AY131: ROZPOCET | BE131: =IF(N131="základná",J131,0) -> 0 | BF131: =IF(N131="znížená",J131,0) -> 0 | BG131: =IF(N131="zákl. prenesená",J131,0) -> 0 | BH131: =IF(N131="zníž. prenesená",J131,0) -> 0 | BI131: =IF(N131="nulová",J131,0) -> 0 | BJ131: 2 | BK131: =ROUND(I131*H131,3) -> 0 | BL131: 16 | BM131: -1502725722
C132: 20 | D132: K | E132: 998771101 | F132: Presun hmôt pre podlahy z dlaždíc v objektoch výšky do 6m | G132: t | H132: 1.351 | J132: =ROUND(I132*H132,3) -> 0 | N132: znížená | P132: =O132*H132 -> 0 | Q132: 0 | R132: =Q132*H132 -> 0 | S132: 0 | T132: =S132*H132 -> 0 | AR132: 16 | AT132: K | AU132: 2 | AY132: ROZPOCET | BE132: =IF(N132="základná",J132,0) -> 0 | BF132: =IF(N132="znížená",J132,0) -> 0 | BG132: =IF(N132="zákl. prenesená",J132,0) -> 0 | BH132: =IF(N132="zníž. prenesená",J132,0) -> 0 | BI132: =IF(N132="nulová",J132,0) -> 0 | BJ132: 2 | BK132: =ROUND(I132*H132,3) -> 0 | BL132: 16 | BM132: -1768813340
D133: D | E133: 776 | F133: Podlahy povlakové | J133: =BK133 -> 0 | P133: =SUM(P134:P136) -> 0 | R133: =SUM(R134:R136) -> 0 | T133: =SUM(T134:T136) -> 0.08154 | AR133: 2 | AT133: D | AU133: 1 | AY133: ROZPOCET | BK133: =SUM(BK134:BK136) -> 0
C134: 21 | D134: K | E134: 776401800 | F134: Demontáž soklíkov alebo líšt | G134: m | H134: 33.6 | J134: =ROUND(I134*H134,3) -> 0 | N134: znížená | P134: =O134*H134 -> 0 | Q134: 0 | R134: =Q134*H134 -> 0 | S134: 0.001 | T134: =S134*H134 -> 0.0336 | AR134: 16 | AT134: K | AU134: 2 | AY134: ROZPOCET | BE134: =IF(N134="základná",J134,0) -> 0 | BF134: =IF(N134="znížená",J134,0) -> 0 | BG134: =IF(N134="zákl. prenesená",J134,0) -> 0 | BH134: =IF(N134="zníž. prenesená",J134,0) -> 0 | BI134: =IF(N134="nulová",J134,0) -> 0 | BJ134: 2 | BK134: =ROUND(I134*H134,3) -> 0 | BL134: 16 | BM134: -1784398850
C135: 22 | D135: K | E135: 776511820 | F135: Odstránenie povlakových podláh z nášľapnej plochy lepených s podložkou, -0,00100t | G135: m2 | H135: 47.94 | J135: =ROUND(I135*H135,3) -> 0 | N135: znížená | P135: =O135*H135 -> 0 | Q135: 0 | R135: =Q135*H135 -> 0 | S135: 0.001 | T135: =S135*H135 -> 0.04794 | AR135: 16 | AT135: K | AU135: 2 | AY135: ROZPOCET | BE135: =IF(N135="základná",J135,0) -> 0 | BF135: =IF(N135="znížená",J135,0) -> 0 | BG135: =IF(N135="zákl. prenesená",J135,0) -> 0 | BH135: =IF(N135="zníž. prenesená",J135,0) -> 0 | BI135: =IF(N135="nulová",J135,0) -> 0 | BJ135: 2 | BK135: =ROUND(I135*H135,3) -> 0 | BL135: 16 | BM135: 692931418
...

Sheet 203 - SP 203  Výmena výpl...
AT2: {32ec6472-fa6b-4d76-8dca-9b919f083e39}
AT3: 0
D4: KRYCÍ LIST ROZPOČTU | M4: v --- nižšie sa nachádzajú doplnkové a pomocné údaje k zostavám --- v | AT4: False
D6: Stavba:
E7: ='Rekapitulácia stavby'!K6 -> Materská škola Na Hôrke 30, Nitra
D8: Objekt:
E9: 200 - SO 200 Zabezpečenie bezbariérového prístupu pre deti MŠ
D10: Časť:
E11: 203 - SP 203 Výmena výplní ovorov
D13: JKSO: | I13: KS:
D14: Miesto: | F14: Na Hôrke 30, Nitra | I14: Dátum: | J14: ='Rekapitulácia stavby'!AN8 -> 24. 2. 2017
D16: Objednávateľ: | I16: IČO:
E17: Mesto NITRA, Štefánikova 60, 950 06 Nitra | I17: IČ DPH:
D19: Zhotoviteľ: | I19: IČO: | J19: ='Rekapitulácia stavby'!AN13 -> Vyplň údaj
E20: ='Rekapitulácia stavby'!E14 -> Vyplň údaj | I20: IČ DPH: | J20: ='Rekapitulácia stavby'!AN14 -> Vyplň údaj
D22: Projektant: | I22: IČO:
E23: Ing.arch.Igor Feník | I23: IČ DPH:
D25: Spracovateľ: | I25: IČO:
E26: Ing.Janečka | I26: IČ DPH:
D28: Poznámka:
D32: Náklady z rozpočtu | J32: =J65 -> 0
D33: Ostatné náklady | J33: =J76 -> 0
D34: Cena bez DPH | J34: =ROUND(J32 + J33, 2) -> 0
F36: Základ dane | I36: Sadzba dane | J36: Výška dane
D37: DPH | E37: základná | F37: =ROUND((SUM(BE76:BE83) + SUM(BE105:BE123)), 2) -> 0 | I37: 0.2 | J37: =ROUND(((SUM(BE76:BE83) + SUM(BE105:BE123))*I37), 2) -> 0
E38: znížená | F38: =ROUND((SUM(BF76:BF83) + SUM(BF105:BF123)), 2) -> 0 | I38: 0.2 | J38: =ROUND(((SUM(BF76:BF83) + SUM(BF105:BF123))*I38), 2) -> 0
E39: zákl. prenesená | F39: =ROUND((SUM(BG76:BG83) + SUM(BG105:BG123)), 2) -> 0 | I39: 0.2 | J39: =0 -> 0
E40: zníž. prenesená | F40: =ROUND((SUM(BH76:BH83) + SUM(BH105:BH123)), 2) -> 0 | I40: 0.2 | J40: =0 -> 0
E41: nulová | F41: =ROUND((SUM(BI76:BI83) + SUM(BI105:BI123)), 2) -> 0 | I41: 0 | J41: =0 -> 0
D43: Cena s DPH | G43: v | H43: EUR | J43: =SUM(J34:J41) -> 0
C49: REKAPITULÁCIA ROZPOČTU
C51: Stavba:
E52: =E7 -> Materská škola Na Hôrke 30, Nitra
C53: Objekt:
E54: 200 - SO 200 Zabezpečenie bezbariérového prístupu pre deti MŠ
C55: Časť:
E56: =E11 -> 203 - SP 203 Výmena výplní ovorov
C58: Miesto: | F58: =F14 -> Na Hôrke 30, Nitra | I58: Dátum: | J58: =IF(J14="","",J14) -> 24. 2. 2017
C60: Objednávateľ: | F60: =E17 -> Mesto NITRA, Štefánikova 60, 950 06 Nitra | I60: Projektant: | J60: =E23 -> Ing.arch.Igor Feník
C61: Zhotoviteľ: | F61: =IF(E20="","",E20) -> Vyplň údaj | I61: Spracovateľ: | J61: =E26 -> Ing.Janečka
C63: Kód dielu - Popis | J63: Cena celkom [EUR]
C65: 1) Náklady z rozpočtu | J65: =J105 -> 0 | AU65: -1
D66: HSV - Práce a dodávky HSV | J66: =J106 -> 0
D67: 6 - Úpravy povrchov, podlahy, osadenie | J67: =J107 -> 0
D68: 9 - Ostatné konštrukcie a práce-búranie | J68: =J109 -> 0
D69: 99 - Presun hmôt HSV | J69: =J111 -> 0
D70: PSV - Práce a dodávky PSV | J70: =J113 -> 0
D71: 767 - Konštrukcie doplnkové kovové | J71: =J114 -> 0
D72: 783 - Dokončovacie práce - nátery | J72: =J120 -> 0
D73: 784 - Dokončovacie práce - maľby | J73: =J122 -> 0
C76: 2) Ostatné náklady | J76: =ROUND(J77 + J78 + J79 + J80 + J81 + J82,2) -> 0 | N76: DPH
D77: GZS | J77: 0 | N77: znížená | AY77: VRN | BE77: =IF(N77="základná",J77,0) -> 0 | BF77: =IF(N77="znížená",J77,0) -> 0 | BG77: =IF(N77="zákl. prenesená",J77,0) -> 0 | BH77: =IF(N77="zníž. prenesená",J77,0) -> 0 | BI77: =IF(N77="nulová",J77,0) -> 0 | BJ77: 2
D78: Mimostaven. doprava | J78: 0 | N78: znížená | AY78: VRN | BE78: =IF(N78="základná",J78,0) -> 0 | BF78: =IF(N78="znížená",J78,0) -> 0 | BG78: =IF(N78="zákl. prenesená",J78,0) -> 0 | BH78: =IF(N78="zníž. prenesená",J78,0) -> 0 | BI78: =IF(N78="nulová",J78,0) -> 0 | BJ78: 2
D79: Sťažené podmienky | J79: 0 | N79: znížená | AY79: VRN | BE79: =IF(N79="základná",J79,0) -> 0 | BF79: =IF(N79="znížená",J79,0) -> 0 | BG79: =IF(N79="zákl. prenesená",J79,0) -> 0 | BH79: =IF(N79="zníž. prenesená",J79,0) -> 0 | BI79: =IF(N79="nulová",J79,0) -> 0 | BJ79: 2
D80: Vplyv prostredia | J80: 0 | N80: znížená | AY80: VRN | BE80: =IF(N80="základná",J80,0) -> 0 | BF80: =IF(N80="znížená",J80,0) -> 0 | BG80: =IF(N80="zákl. prenesená",J80,0) -> 0 | BH80: =IF(N80="zníž. prenesená",J80,0) -> 0 | BI80: =IF(N80="nulová",J80,0) -> 0 | BJ80: 2
D81: Klimatické vplyvy | J81: 0 | N81: znížená | AY81: VRN | BE81: =IF(N81="základná",J81,0) -> 0 | BF81: =IF(N81="znížená",J81,0) -> 0 | BG81: =IF(N81="zákl. prenesená",J81,0) -> 0 | BH81: =IF(N81="zníž. prenesená",J81,0) -> 0 | BI81: =IF(N81="nulová",J81,0) -> 0 | BJ81: 2
D82: Kompletačná činnosť | J82: =ROUND(J32*T82,2) -> 0 | N82: znížená | AY82: KOMPLETACNA | BE82: =IF(N82="základná",J82,0) -> 0 | BF82: =IF(N82="znížená",J82,0) -> 0 | BG82: =IF(N82="zákl. prenesená",J82,0) -> 0 | BH82: =IF(N82="zníž. prenesená",J82,0) -> 0 | BI82: =IF(N82="nulová",J82,0) -> 0 | BJ82: 2
C84: Celkové náklady za stavbu 1) + 2) | J84: =ROUND(J65+J76,2) -> 0
C90: ROZPOČET
C92: Stavba:
E93: =E7 -> Materská škola Na Hôrke 30, Nitra
C94: Objekt:
E95: 200 - SO 200 Zabezpečenie bezbariérového prístupu pre deti MŠ
C96: Časť:
E97: =E11 -> 203 - SP 203 Výmena výplní ovorov
C99: Miesto: | F99: =F14 -> Na Hôrke 30, Nitra | I99: Dátum: | J99: =IF(J14="","",J14) -> 24. 2. 2017
C101: Objednávateľ: | F101: =E17 -> Mesto NITRA, Štefánikova 60, 950 06 Nitra | I101: Projektant: | J101: =E23 -> Ing.arch.Igor Feník
C102: Zhotoviteľ: | F102: =IF(E20="","",E20) -> Vyplň údaj | I102: Spracovateľ: | J102: =E26 -> Ing.Janečka
C104: PČ | D104: Typ | E104: Kód | F104: Popis | G104: MJ | H104: Množstvo | I104: J.cena [EUR] | J104: Cena celkom [EUR] | K104: Cenová sústava | N104: DPH | O104: J. Nh [h] | P104: Nh celkom [h] | Q104: J. hmotnosť [t] | R104: Hmotnosť celkom [t] | S104: J. suť [t] | T104: Suť Celkom [t]
C105: Náklady z rozpočtu | J105: =BK105 -> 0 | P105: =P106+P113 -> 0 | R105: =R106+R113 -> 1.4774805 | T105: =T106+T113 -> 0 | AT105: D | AU105: -1 | BK105: =BK106+BK113 -> 0
D106: D | E106: HSV | F106: Práce a dodávky HSV | J106: =BK106 -> 0 | P106: =P107+P109+P111 -> 0 | R106: =R107+R109+R111 -> 0.39226488 | T106: =T107+T109+T111 -> 0 | AR106: 1 | AT106: D | AU106: 0 | AY106: ROZPOCET | BK106: =BK107+BK109+BK111 -> 0
D107: D | E107: 6 | F107: Úpravy povrchov, podlahy, osadenie | J107: =BK107 -> 0 | P107: =P108 -> 0 | R107: =R108 -> 0.38791968 | T107: =T108 -> 0 | AR107: 1 | AT107: D | AU107: 1 | AY107: ROZPOCET | BK107: =BK108 -> 0
C108: 1 | D108: K | E108: 612425931 | F108: Omietka vápenná vnútorného ostenia okenného alebo dverného štuková | G108: m2 | H108: 10.328 | J108: =ROUND(I108*H108,3) -> 0 | N108: znížená | P108: =O108*H108 -> 0 | Q108: 0.03756 | R108: =Q108*H108 -> 0.38791968 | S108: 0 | T108: =S108*H108 -> 0 | AR108: 4 | AT108: K | AU108: 2 | AY108: ROZPOCET | BE108: =IF(N108="základná",J108,0) -> 0 | BF108: =IF(N108="znížená",J108,0) -> 0 | BG108: =IF(N108="zákl. prenesená",J108,0) -> 0 | BH108: =IF(N108="zníž. prenesená",J108,0) -> 0 | BI108: =IF(N108="nulová",J108,0) -> 0 | BJ108: 2 | BK108: =ROUND(I108*H108,3) -> 0 | BL108: 4 | BM108: 1051124895
D109: D | E109: 9 | F109: Ostatné konštrukcie a práce-búranie | J109: =BK109 -> 0 | P109: =P110 -> 0 | R109: =R110 -> 0.0043452 | T109: =T110 -> 0 | AR109: 1 | AT109: D | AU109: 1 | AY109: ROZPOCET | BK109: =BK110 -> 0
C110: 2 | D110: K | E110: 941955001 | F110: Lešenie ľahké pracovné pomocné, s výškou lešeňovej podlahy do 1,20 m | G110: m2 | H110: 2.84 | J110: =ROUND(I110*H110,3) -> 0 | N110: znížená | P110: =O110*H110 -> 0 | Q110: 0.00153 | R110: =Q110*H110 -> 0.0043452 | S110: 0 | T110: =S110*H110 -> 0 | AR110: 16 | AT110: K | AU110: 2 | AY110: ROZPOCET | BE110: =IF(N110="základná",J110,0) -> 0 | BF110: =IF(N110="znížená",J110,0) -> 0 | BG110: =IF(N110="zákl. prenesená",J110,0) -> 0 | BH110: =IF(N110="zníž. prenesená",J110,0) -> 0 | BI110: =IF(N110="nulová",J110,0) -> 0 | BJ110: 2 | BK110: =ROUND(I110*H110,3) -> 0 | BL110: 16 | BM110: -1045639797
D111: D | E111: 99 | F111: Presun hmôt HSV | J111: =BK111 -> 0 | P111: =P112 -> 0 | R111: =R112 -> 0 | T111: =T112 -> 0 | AR111: 1 | AT111: D | AU111: 1 | AY111: ROZPOCET | BK111: =BK112 -> 0
C112: 3 | D112: K | E112: 999281111 | F112: Presun hmôt pre opravy a údržbu objektov vrátane vonkajších plášťov výšky do 25 m | G112: t | H112: 0.388 | J112: =ROUND(I112*H112,3) -> 0 | N112: znížená | P112: =O112*H112 -> 0 | Q112: 0 | R112: =Q112*H112 -> 0 | S112: 0 | T112: =S112*H112 -> 0 | AR112: 4 | AT112: K | AU112: 2 | AY112: ROZPOCET | BE112: =IF(N112="základná",J112,0) -> 0 | BF112: =IF(N112="znížená",J112,0) -> 0 | BG112: =IF(N112="zákl. prenesená",J112,0) -> 0 | BH112: =IF(N112="zníž. prenesená",J112,0) -> 0 | BI112: =IF(N112="nulová",J112,0) -> 0 | BJ112: 2 | BK112: =ROUND(I112*H112,3) -> 0 | BL112: 4 | BM112: 1521112431
D113: D | E113: PSV | F113: Práce a dodávky PSV | J113: =BK113 -> 0 | P113: =P114+P120+P122 -> 0 | R113: =R114+R120+R122 -> 1.0852156 | T113: =T114+T120+T122 -> 0 | AR113: 2 | AT113: D | AU113: 0 | AY113: ROZPOCET | BK113: =BK114+BK120+BK122 -> 0
D114: D | E114: 767 | F114: Konštrukcie doplnkové kovové | J114: =BK114 -> 0 | P114: =SUM(P115:P119) -> 0 | R114: =SUM(R115:R119) -> 1.079604 | T114: =SUM(T115:T119) -> 0 | AR114: 2 | AT114: D | AU114: 1 | AY114: ROZPOCET | BK114: =SUM(BK115:BK119) -> 0
C115: 4 | D115: K | E115: 7671111 | F115: Montáž stien a priečok z AL profilov | G115: m2 | H115: 21.554 | J115: =ROUND(I115*H115,3) -> 0 | N115: znížená | P115: =O115*H115 -> 0 | Q115: 0.00026 | R115: =Q115*H115 -> 0.00560404 | S115: 0 | T115: =S115*H115 -> 0 | AR115: 16 | AT115: K | AU115: 2 | AY115: ROZPOCET | BE115: =IF(N115="základná",J115,0) -> 0 | BF115: =IF(N115="znížená",J115,0) -> 0 | BG115: =IF(N115="zákl. prenesená",J115,0) -> 0 | BH115: =IF(N115="zníž. prenesená",J115,0) -> 0 | BI115: =IF(N115="nulová",J115,0) -> 0 | BJ115: 2 | BK115: =ROUND(I115*H115,3) -> 0 | BL115: 16 | BM115: 1643880362
C116: 5 | D116: M | E116: 553000Zsi2 | F116: Interiérová zasklená stena s 1kr.dverami , profil lakovaný hliník, 2100x3270, s pož.odolnosťou, podrobná špecifikácia podľa PD, pol.Zsi2 | G116: ks | H116: 1 | J116: =ROUND(I116*H116,3) -> 0 | N116: znížená | P116: =O116*H116 -> 0 | Q116: 0.34 | R116: =Q116*H116 -> 0.34 | S116: 0 | T116: =S116*H116 -> 0 | AR116: 32 | AT116: M | AU116: 2 | AY116: ROZPOCET | BE116: =IF(N116="základná",J116,0) -> 0 | BF116: =IF(N116="znížená",J116,0) -> 0 | BG116: =IF(N116="zákl. prenesená",J116,0) -> 0 | BH116: =IF(N116="zníž. prenesená",J116,0) -> 0 | BI116: =IF(N116="nulová",J116,0) -> 0 | BJ116: 2 | BK116: =ROUND(I116*H116,3) -> 0 | BL116: 16 | BM116: -2086587184
C117: 6 | D117: M | E117: 553000Zsi3 | F117: Interiérová zasklená stena s 2kr.dverami , profil lakovaný hliník, 2840x3270, podrobná špecifikácia podľa PD, pol.Zsi3 | G117: ks | H117: 1 | J117: =ROUND(I117*H117,3) -> 0 | N117: znížená | P117: =O117*H117 -> 0 | Q117: 0.464 | R117: =Q117*H117 -> 0.464 | S117: 0 | T117: =S117*H117 -> 0 | AR117: 32 | AT117: M | AU117: 2 | AY117: ROZPOCET | BE117: =IF(N117="základná",J117,0) -> 0 | BF117: =IF(N117="znížená",J117,0) -> 0 | BG117: =IF(N117="zákl. prenesená",J117,0) -> 0 | BH117: =IF(N117="zníž. prenesená",J117,0) -> 0 | BI117: =IF(N117="nulová",J117,0) -> 0 | BJ117: 2 | BK117: =ROUND(I117*H117,3) -> 0 | BL117: 16 | BM117: -1013198100
C118: 7 | D118: M | E118: 5530000Di6 | F118: Interiérové 2kr.dvere s nadsvetlíkom , profil lakovaný hliník, 1800x3000,s požiarnou odolnosťou, podrobná špecifikácia podľa PD, pol.Di6 | G118: ks | H118: 1 | J118: =ROUND(I118*H118,3) -> 0 | N118: znížená | P118: =O118*H118 -> 0 | Q118: 0.27 | R118: =Q118*H118 -> 0.27 | S118: 0 | T118: =S118*H118 -> 0 | AR118: 32 | AT118: M | AU118: 2 | AY118: ROZPOCET | BE118: =IF(N118="základná",J118,0) -> 0 | BF118: =IF(N118="znížená",J118,0) -> 0 | BG118: =IF(N118="zákl. prenesená",J118,0) -> 0 | BH118: =IF(N118="zníž. prenesená",J118,0) -> 0 | BI118: =IF(N118="nulová",J118,0) -> 0 | BJ118: 2 | BK118: =ROUND(I118*H118,3) -> 0 | BL118: 16 | BM118: 967328002
C119: 8 | D119: K | E119: 998767101 | F119: Presun hmôt pre kovové stavebné doplnkové konštrukcie v objektoch výšky do 6 m | G119: t | H119: 1.08 | J119: =ROUND(I119*H119,3) -> 0 | N119: znížená | P119: =O119*H119 -> 0 | Q119: 0 | R119: =Q119*H119 -> 0 | S119: 0 | T119: =S119*H119 -> 0 | AR119: 16 | AT119: K | AU119: 2 | AY119: ROZPOCET | BE119: =IF(N119="základná",J119,0) -> 0 | BF119: =IF(N119="znížená",J119,0) -> 0 | BG119: =IF(N119="zákl. prenesená",J119,0) -> 0 | BH119: =IF(N119="zníž. prenesená",J119,0) -> 0 | BI119: =IF(N119="nulová",J119,0) -> 0 | BJ119: 2 | BK119: =ROUND(I119*H119,3) -> 0 | BL119: 16 | BM119: -286240184
D120: D | E120: 783 | F120: Dokončovacie práce - nátery | J120: =BK120 -> 0 | P120: =P121 -> 0 | R120: =R121 -> 0.0033408 | T120: =T121 -> 0 | AR120: 2 | AT120: D | AU120: 1 | AY120: ROZPOCET | BK120: =BK121 -> 0
C121: 9 | D121: K | E121: 783814220 | F121: Nátery olejové farby bielej betónových povrchov stien dvojnásobné 1x email | G121: m2 | H121: 5.76 | J121: =ROUND(I121*H121,3) -> 0 | N121: znížená | P121: =O121*H121 -> 0 | Q121: 0.00058 | R121: =Q121*H121 -> 0.0033408 | S121: 0 | T121: =S121*H121 -> 0 | AR121: 16 | AT121: K | AU121: 2 | AY121: ROZPOCET | BE121: =IF(N121="základná",J121,0) -> 0 | BF121: =IF(N121="znížená",J121,0) -> 0 | BG121: =IF(N121="zákl. prenesená",J121,0) -> 0 | BH121: =IF(N121="zníž. prenesená",J121,0) -> 0 | BI121: =IF(N121="nulová",J121,0) -> 0 | BJ121: 2 | BK121: =ROUND(I121*H121,3) -> 0 | BL121: 16 | BM121: 622961490
D122: D | E122: 784 | F122: Dokončovacie práce - maľby | J122: =BK122 -> 0 | P122: =P123 -> 0 | R122: =R123 -> 0.0022708 | T122: =T123 -> 0 | AR122: 2 | AT122: D | AU122: 1 | AY122: ROZPOCET | BK122: =BK123 -> 0
C123: 10 | D123: K | E123: 784101010 | F123: Maľby latexové dvojnásobné strojne nanášané, základné na jemnozrnný podklad výšky do 3,80 m | G123: m2 | H123: 6.488 | J123: =ROUND(I123*H123,3) -> 0 | N123: znížená | P123: =O123*H123 -> 0 | Q123: 0.00035 | R123: =Q123*H123 -> 0.0022708 | S123: 0 | T123: =S123*H123 -> 0 | AR123: 16 | AT123: K | AU123: 2 | AY123: ROZPOCET | BE123: =IF(N123="základná",J123,0) -> 0 | BF123: =IF(N123="znížená",J123,0) -> 0 | BG123: =IF(N123="zákl. prenesená",J123,0) -> 0 | BH123: =IF(N123="zníž. prenesená",J123,0) -> 0 | BI123: =IF(N123="nulová",J123,0) -> 0 | BJ123: 2 | BK123: =ROUND(I123*H123,3) -> 0 | BL123: 16 | BM123: -2036736693

Sheet 301 - SP 301 Vybúranie - ...
AT2: {493dbdee-a041-4ed9-9535-3322ee6d56e8}
AT3: 0
D4: KRYCÍ LIST ROZPOČTU | M4: v --- nižšie sa nachádzajú doplnkové a pomocné údaje k zostavám --- v | AT4: False
D6: Stavba:
E7: ='Rekapitulácia stavby'!K6 -> Materská škola Na Hôrke 30, Nitra
D8: Objekt:
E9: 300 - SO 300 Budovanie prevencie v bezpečnosti detí v dopravnej prevádzke
D10: Časť:
E11: 301 - SP 301 Vybúranie - odfrézovanie starých spevnených plôch
D13: JKSO: | I13: KS:
D14: Miesto: | I14: Dátum: | J14: ='Rekapitulácia stavby'!AN8 -> 24. 2. 2017
D16: Objednávateľ: | I16: IČO:
E17: Mesto NITRA, Štefánikova 60, 950 06 Nitra | I17: IČ DPH:
D19: Zhotoviteľ: | I19: IČO: | J19: ='Rekapitulácia stavby'!AN13 -> Vyplň údaj
E20: ='Rekapitulácia stavby'!E14 -> Vyplň údaj | I20: IČ DPH: | J20: ='Rekapitulácia stavby'!AN14 -> Vyplň údaj
D22: Projektant: | I22: IČO:
E23: Ing.arch.Igor Feník | I23: IČ DPH:
D25: Spracovateľ: | I25: IČO:
E26: Ing.Janečka | I26: IČ DPH:
D28: Poznámka:
D32: Náklady z rozpočtu | J32: =J65 -> 0
D33: Ostatné náklady | J33: =J71 -> 0
D34: Cena bez DPH | J34: =ROUND(J32 + J33, 2) -> 0
F36: Základ dane | I36: Sadzba dane | J36: Výška dane
D37: DPH | E37: základná | F37: =ROUND((SUM(BE71:BE78) + SUM(BE100:BE118)), 2) -> 0 | I37: 0.2 | J37: =ROUND(((SUM(BE71:BE78) + SUM(BE100:BE118))*I37), 2) -> 0
E38: znížená | F38: =ROUND((SUM(BF71:BF78) + SUM(BF100:BF118)), 2) -> 0 | I38: 0.2 | J38: =ROUND(((SUM(BF71:BF78) + SUM(BF100:BF118))*I38), 2) -> 0
E39: zákl. prenesená | F39: =ROUND((SUM(BG71:BG78) + SUM(BG100:BG118)), 2) -> 0 | I39: 0.2 | J39: =0 -> 0
E40: zníž. prenesená | F40: =ROUND((SUM(BH71:BH78) + SUM(BH100:BH118)), 2) -> 0 | I40: 0.2 | J40: =0 -> 0
E41: nulová | F41: =ROUND((SUM(BI71:BI78) + SUM(BI100:BI118)), 2) -> 0 | I41: 0 | J41: =0 -> 0
D43: Cena s DPH | G43: v | H43: EUR | J43: =SUM(J34:J41) -> 0
C49: REKAPITULÁCIA ROZPOČTU
C51: Stavba:
E52: =E7 -> Materská škola Na Hôrke 30, Nitra
C53: Objekt:
E54: 300 - SO 300 Budovanie prevencie v bezpečnosti detí v dopravnej prevádzke
C55: Časť:
E56: =E11 -> 301 - SP 301 Vybúranie - odfrézovanie starých spevnených plôch
C58: Miesto: | F58: =F14 | I58: Dátum: | J58: =IF(J14="","",J14) -> 24. 2. 2017
C60: Objednávateľ: | F60: =E17 -> Mesto NITRA, Štefánikova 60, 950 06 Nitra | I60: Projektant: | J60: =E23 -> Ing.arch.Igor Feník
C61: Zhotoviteľ: | F61: =IF(E20="","",E20) -> Vyplň údaj | I61: Spracovateľ: | J61: =E26 -> Ing.Janečka
C63: Kód dielu - Popis | J63: Cena celkom [EUR]
C65: 1) Náklady z rozpočtu | J65: =J100 -> 0 | AU65: -1
D66: HSV - Práce a dodávky HSV | J66: =J101 -> 0
D67: 1 - Zemné práce | J67: =J102 -> 0
D68: 9 - Ostatné konštrukcie a práce-búranie | J68: =J112 -> 0
C71: 2) Ostatné náklady | J71: =ROUND(J72 + J73 + J74 + J75 + J76 + J77,2) -> 0 | N71: DPH
D72: GZS | J72: 0 | N72: znížená | AY72: VRN | BE72: =IF(N72="základná",J72,0) -> 0 | BF72: =IF(N72="znížená",J72,0) -> 0 | BG72: =IF(N72="zákl. prenesená",J72,0) -> 0 | BH72: =IF(N72="zníž. prenesená",J72,0) -> 0 | BI72: =IF(N72="nulová",J72,0) -> 0 | BJ72: 2
D73: Mimostaven. doprava | J73: 0 | N73: znížená | AY73: VRN | BE73: =IF(N73="základná",J73,0) -> 0 | BF73: =IF(N73="znížená",J73,0) -> 0 | BG73: =IF(N73="zákl. prenesená",J73,0) -> 0 | BH73: =IF(N73="zníž. prenesená",J73,0) -> 0 | BI73: =IF(N73="nulová",J73,0) -> 0 | BJ73: 2
D74: Sťažené podmienky | J74: 0 | N74: znížená | AY74: VRN | BE74: =IF(N74="základná",J74,0) -> 0 | BF74: =IF(N74="znížená",J74,0) -> 0 | BG74: =IF(N74="zákl. prenesená",J74,0) -> 0 | BH74: =IF(N74="zníž. prenesená",J74,0) -> 0 | BI74: =IF(N74="nulová",J74,0) -> 0 | BJ74: 2
D75: Vplyv prostredia | J75: 0 | N75: znížená | AY75: VRN | BE75: =IF(N75="základná",J75,0) -> 0 | BF75: =IF(N75="znížená",J75,0) -> 0 | BG75: =IF(N75="zákl. prenesená",J75,0) -> 0 | BH75: =IF(N75="zníž. prenesená",J75,0) -> 0 | BI75: =IF(N75="nulová",J75,0) -> 0 | BJ75: 2
D76: Klimatické vplyvy | J76: 0 | N76: znížená | AY76: VRN | BE76: =IF(N76="základná",J76,0) -> 0 | BF76: =IF(N76="znížená",J76,0) -> 0 | BG76: =IF(N76="zákl. prenesená",J76,0) -> 0 | BH76: =IF(N76="zníž. prenesená",J76,0) -> 0 | BI76: =IF(N76="nulová",J76,0) -> 0 | BJ76: 2
D77: Kompletačná činnosť | J77: =ROUND(J32*T77,2) -> 0 | N77: znížená | AY77: KOMPLETACNA | BE77: =IF(N77="základná",J77,0) -> 0 | BF77: =IF(N77="znížená",J77,0) -> 0 | BG77: =IF(N77="zákl. prenesená",J77,0) -> 0 | BH77: =IF(N77="zníž. prenesená",J77,0) -> 0 | BI77: =IF(N77="nulová",J77,0) -> 0 | BJ77: 2
C79: Celkové náklady za stavbu 1) + 2) | J79: =ROUND(J65+J71,2) -> 0
C85: ROZPOČET
C87: Stavba:
E88: =E7 -> Materská škola Na Hôrke 30, Nitra
C89: Objekt:
E90: 300 - SO 300 Budovanie prevencie v bezpečnosti detí v dopravnej prevádzke
C91: Časť:
E92: =E11 -> 301 - SP 301 Vybúranie - odfrézovanie starých spevnených plôch
C94: Miesto: | F94: =F14 | I94: Dátum: | J94: =IF(J14="","",J14) -> 24. 2. 2017
C96: Objednávateľ: | F96: =E17 -> Mesto NITRA, Štefánikova 60, 950 06 Nitra | I96: Projektant: | J96: =E23 -> Ing.arch.Igor Feník
C97: Zhotoviteľ: | F97: =IF(E20="","",E20) -> Vyplň údaj | I97: Spracovateľ: | J97: =E26 -> Ing.Janečka
C99: PČ | D99: Typ | E99: Kód | F99: Popis | G99: MJ | H99: Množstvo | I99: J.cena [EUR] | J99: Cena celkom [EUR] | K99: Cenová sústava | N99: DPH | O99: J. Nh [h] | P99: Nh celkom [h] | Q99: J. hmotnosť [t] | R99: Hmotnosť celkom [t] | S99: J. suť [t] | T99: Suť Celkom [t]
C100: Náklady z rozpočtu | J100: =BK100 -> 0 | P100: =P101 -> 0 | R100: =R101 -> 0 | T100: =T101 -> 0 | AT100: D | AU100: -1 | BK100: =BK101 -> 0
D101: D | E101: HSV | F101: Práce a dodávky HSV | J101: =BK101 -> 0 | P101: =P102+P112 -> 0 | R101: =R102+R112 -> 0 | T101: =T102+T112 -> 0 | AR101: 1 | AT101: D | AU101: 0 | AY101: ROZPOCET | BK101: =BK102+BK112 -> 0
D102: D | E102: 1 | F102: Zemné práce | J102: =BK102 -> 0 | P102: =SUM(P103:P111) -> 0 | R102: =SUM(R103:R111) -> 0 | T102: =SUM(T103:T111) -> 0 | AR102: 1 | AT102: D | AU102: 1 | AY102: ROZPOCET | BK102: =SUM(BK103:BK111) -> 0
C103: 1 | D103: K | E103: 113107241 | F103: Odstránenie krytu v ploche nad 200 m2 asfaltového, hr. vrstvy do 50 mm, -0,09800t | G103: m2 | H103: 756.1 | J103: =ROUND(I103*H103,3) -> 0 | N103: znížená | P103: =O103*H103 -> 0 | Q103: 0 | R103: =Q103*H103 -> 0 | S103: 0 | T103: =S103*H103 -> 0 | AR103: 4 | AT103: K | AU103: 2 | AY103: ROZPOCET | BE103: =IF(N103="základná",J103,0) -> 0 | BF103: =IF(N103="znížená",J103,0) -> 0 | BG103: =IF(N103="zákl. prenesená",J103,0) -> 0 | BH103: =IF(N103="zníž. prenesená",J103,0) -> 0 | BI103: =IF(N103="nulová",J103,0) -> 0 | BJ103: 2 | BK103: =ROUND(I103*H103,3) -> 0 | BL103: 4 | BM103: -1806413452
C104: 2 | D104: K | E104: 113206111 | F104: Vytrhanie obrúb betónových, s vybúraním lôžka, z krajníkov alebo obrubníkov stojatých, -0,14500t | G104: m | H104: 124.95 | J104: =ROUND(I104*H104,3) -> 0 | N104: znížená | P104: =O104*H104 -> 0 | Q104: 0 | R104: =Q104*H104 -> 0 | S104: 0 | T104: =S104*H104 -> 0 | AR104: 4 | AT104: K | AU104: 2 | AY104: ROZPOCET | BE104: =IF(N104="základná",J104,0) -> 0 | BF104: =IF(N104="znížená",J104,0) -> 0 | BG104: =IF(N104="zákl. prenesená",J104,0) -> 0 | BH104: =IF(N104="zníž. prenesená",J104,0) -> 0 | BI104: =IF(N104="nulová",J104,0) -> 0 | BJ104: 2 | BK104: =ROUND(I104*H104,3) -> 0 | BL104: 4 | BM104: -1989491185
C105: 3 | D105: K | E105: 113307123 | F105: Odstránenie podkladu v ploche do 200 m2 z kameniva hrubého drveného, hr.200 do 300 mm, -0,40000t | G105: m2 | H105: 91.76 | J105: =ROUND(I105*H105,3) -> 0 | N105: znížená | P105: =O105*H105 -> 0 | Q105: 0 | R105: =Q105*H105 -> 0 | S105: 0 | T105: =S105*H105 -> 0 | AR105: 4 | AT105: K | AU105: 2 | AY105: ROZPOCET | BE105: =IF(N105="základná",J105,0) -> 0 | BF105: =IF(N105="znížená",J105,0) -> 0 | BG105: =IF(N105="zákl. prenesená",J105,0) -> 0 | BH105: =IF(N105="zníž. prenesená",J105,0) -> 0 | BI105: =IF(N105="nulová",J105,0) -> 0 | BJ105: 2 | BK105: =ROUND(I105*H105,3) -> 0 | BL105: 4 | BM105: 140417197
C106: 4 | D106: K | E106: 113307132 | F106: Odstránenie podkladu v ploche do 200 m2 z betónu prostého, hr. vrstvy 150 do 300 mm, -0,50000t | G106: m2 | H106: 91.76 | J106: =ROUND(I106*H106,3) -> 0 | N106: znížená | P106: =O106*H106 -> 0 | Q106: 0 | R106: =Q106*H106 -> 0 | S106: 0 | T106: =S106*H106 -> 0 | AR106: 4 | AT106: K | AU106: 2 | AY106: ROZPOCET | BE106: =IF(N106="základná",J106,0) -> 0 | BF106: =IF(N106="znížená",J106,0) -> 0 | BG106: =IF(N106="zákl. prenesená",J106,0) -> 0 | BH106: =IF(N106="zníž. prenesená",J106,0) -> 0 | BI106: =IF(N106="nulová",J106,0) -> 0 | BJ106: 2 | BK106: =ROUND(I106*H106,3) -> 0 | BL106: 4 | BM106: 1982198912
C107: 5 | D107: K | E107: 113307141 | F107: Odstránenie podkladu asfaltového v ploche do 200 m2, hr. vrstvy do 50 mm, -0,03800t | G107: m2 | H107: 91.76 | J107: =ROUND(I107*H107,3) -> 0 | N107: znížená | P107: =O107*H107 -> 0 | Q107: 0 | R107: =Q107*H107 -> 0 | S107: 0 | T107: =S107*H107 -> 0 | AR107: 4 | AT107: K | AU107: 2 | AY107: ROZPOCET | BE107: =IF(N107="základná",J107,0) -> 0 | BF107: =IF(N107="znížená",J107,0) -> 0 | BG107: =IF(N107="zákl. prenesená",J107,0) -> 0 | BH107: =IF(N107="zníž. prenesená",J107,0) -> 0 | BI107: =IF(N107="nulová",J107,0) -> 0 | BJ107: 2 | BK107: =ROUND(I107*H107,3) -> 0 | BL107: 4 | BM107: -1838945006
C108: 6 | D108: K | E108: 122202201 | F108: Odkopávka a prekopávka nezapažená pre cesty, v hornine 3 do 100 m3 | G108: m3 | H108: 36.7 | J108: =ROUND(I108*H108,3) -> 0 | N108: znížená | P108: =O108*H108 -> 0 | Q108: 0 | R108: =Q108*H108 -> 0 | S108: 0 | T108: =S108*H108 -> 0 | AR108: 4 | AT108: K | AU108: 2 | AY108: ROZPOCET | BE108: =IF(N108="základná",J108,0) -> 0 | BF108: =IF(N108="znížená",J108,0) -> 0 | BG108: =IF(N108="zákl. prenesená",J108,0) -> 0 | BH108: =IF(N108="zníž. prenesená",J108,0) -> 0 | BI108: =IF(N108="nulová",J108,0) -> 0 | BJ108: 2 | BK108: =ROUND(I108*H108,3) -> 0 | BL108: 4 | BM108: 1392797748
C109: 7 | D109: K | E109: 162503102 | F109: Vodorovné premiestnenie výkopku pre cesty po spevnenej ceste z horniny tr.1-4 do 1000 m3 na vzdialenosť do 3000 m | G109: m3 | H109: 36.7 | J109: =ROUND(I109*H109,3) -> 0 | N109: znížená | P109: =O109*H109 -> 0 | Q109: 0 | R109: =Q109*H109 -> 0 | S109: 0 | T109: =S109*H109 -> 0 | AR109: 4 | AT109: K | AU109: 2 | AY109: ROZPOCET | BE109: =IF(N109="základná",J109,0) -> 0 | BF109: =IF(N109="znížená",J109,0) -> 0 | BG109: =IF(N109="zákl. prenesená",J109,0) -> 0 | BH109: =IF(N109="zníž. prenesená",J109,0) -> 0 | BI109: =IF(N109="nulová",J109,0) -> 0 | BJ109: 2 | BK109: =ROUND(I109*H109,3) -> 0 | BL109: 4 | BM109: 1022941541
C110: 8 | D110: K | E110: 162503103 | F110: Vodorovné premiestnenie výkopku pre cesty po spevnenej ceste z horniny tr.1-4 do 1000 m3, príplatok k cene za každých ďalšich a začatých 1000 m | G110: m3 | H110: 146.8 | J110: =ROUND(I110*H110,3) -> 0 | N110: znížená | P110: =O110*H110 -> 0 | Q110: 0 | R110: =Q110*H110 -> 0 | S110: 0 | T110: =S110*H110 -> 0 | AR110: 4 | AT110: K | AU110: 2 | AY110: ROZPOCET | BE110: =IF(N110="základná",J110,0) -> 0 | BF110: =IF(N110="znížená",J110,0) -> 0 | BG110: =IF(N110="zákl. prenesená",J110,0) -> 0 | BH110: =IF(N110="zníž. prenesená",J110,0) -> 0 | BI110: =IF(N110="nulová",J110,0) -> 0 | BJ110: 2 | BK110: =ROUND(I110*H110,3) -> 0 | BL110: 4 | BM110: 1229422618
C111: 9 | D111: K | E111: 171209002 | F111: Poplatok za skladovanie | G111: t | H111: 55.05 | J111: =ROUND(I111*H111,3) -> 0 | N111: znížená | P111: =O111*H111 -> 0 | Q111: 0 | R111: =Q111*H111 -> 0 | S111: 0 | T111: =S111*H111 -> 0 | AR111: 4 | AT111: K | AU111: 2 | AY111: ROZPOCET | BE111: =IF(N111="základná",J111,0) -> 0 | BF111: =IF(N111="znížená",J111,0) -> 0 | BG111: =IF(N111="zákl. prenesená",J111,0) -> 0 | BH111: =IF(N111="zníž. prenesená",J111,0) -> 0 | BI111: =IF(N111="nulová",J111,0) -> 0 | BJ111: 2 | BK111: =ROUND(I111*H111,3) -> 0 | BL111: 4 | BM111: 670532066
D112: D | E112: 9 | F112: Ostatné konštrukcie a práce-búranie | J112: =BK112 -> 0 | P112: =SUM(P113:P118) -> 0 | R112: =SUM(R113:R118) -> 0 | T112: =SUM(T113:T118) -> 0 | AR112: 1 | AT112: D | AU112: 1 | AY112: ROZPOCET | BK112: =SUM(BK113:BK118) -> 0
C113: 10 | D113: K | E113: 919731121 | F113: Zarovnanie styčnej plochy pozdĺž vybúranej časti komunikácie asfaltovej hr. do 50 mm | G113: m | H113: 10.4 | J113: =ROUND(I113*H113,3) -> 0 | N113: znížená | P113: =O113*H113 -> 0 | Q113: 0 | R113: =Q113*H113 -> 0 | S113: 0 | T113: =S113*H113 -> 0 | AR113: 4 | AT113: K | AU113: 2 | AY113: ROZPOCET | BE113: =IF(N113="základná",J113,0) -> 0 | BF113: =IF(N113="znížená",J113,0) -> 0 | BG113: =IF(N113="zákl. prenesená",J113,0) -> 0 | BH113: =IF(N113="zníž. prenesená",J113,0) -> 0 | BI113: =IF(N113="nulová",J113,0) -> 0 | BJ113: 2 | BK113: =ROUND(I113*H113,3) -> 0 | BL113: 4 | BM113: -388305902
C114: 11 | D114: K | E114: 919735111 | F114: Rezanie existujúceho asfaltového krytu alebo podkladu hĺbky do 50 mm | G114: m | H114: 10.4 | J114: =ROUND(I114*H114,3) -> 0 | N114: znížená | P114: =O114*H114 -> 0 | Q114: 0 | R114: =Q114*H114 -> 0 | S114: 0 | T114: =S114*H114 -> 0 | AR114: 4 | AT114: K | AU114: 2 | AY114: ROZPOCET | BE114: =IF(N114="základná",J114,0) -> 0 | BF114: =IF(N114="znížená",J114,0) -> 0 | BG114: =IF(N114="zákl. prenesená",J114,0) -> 0 | BH114: =IF(N114="zníž. prenesená",J114,0) -> 0 | BI114: =IF(N114="nulová",J114,0) -> 0 | BJ114: 2 | BK114: =ROUND(I114*H114,3) -> 0 | BL114: 4 | BM114: 147329008
C115: 12 | D115: K | E115: 979082213 | F115: Vodorovná doprava sutiny so zložením a hrubým urovnaním na vzdialenosť do 1 km | G115: t | H115: 178.286 | J115: =ROUND(I115*H115,3) -> 0 | N115: znížená | P115: =O115*H115 -> 0 | Q115: 0 | R115: =Q115*H115 -> 0 | S115: 0 | T115: =S115*H115 -> 0 | AR115: 4 | AT115: K | AU115: 2 | AY115: ROZPOCET | BE115: =IF(N115="základná",J115,0) -> 0 | BF115: =IF(N115="znížená",J115,0) -> 0 | BG115: =IF(N115="zákl. prenesená",J115,0) -> 0 | BH115: =IF(N115="zníž. prenesená",J115,0) -> 0 | BI115: =IF(N115="nulová",J115,0) -> 0 | BJ115: 2 | BK115: =ROUND(I115*H115,3) -> 0 | BL115: 4 | BM115: -635345904
C116: 13 | D116: K | E116: 979082219 | F116: Príplatok k cene za každý ďalší aj začatý 1 km nad 1 km | G116: t | H116: 1069.716 | J116: =ROUND(I116*H116,3) -> 0 | N116: znížená | P116: =O116*H116 -> 0 | Q116: 0 | R116: =Q116*H116 -> 0 | S116: 0 | T116: =S116*H116 -> 0 | AR116: 4 | AT116: K | AU116: 2 | AY116: ROZPOCET | BE116: =IF(N116="základná",J116,0) -> 0 | BF116: =IF(N116="znížená",J116,0) -> 0 | BG116: =IF(N116="zákl. prenesená",J116,0) -> 0 | BH116: =IF(N116="zníž. prenesená",J116,0) -> 0 | BI116: =IF(N116="nulová",J116,0) -> 0 | BJ116: 2 | BK116: =ROUND(I116*H116,3) -> 0 | BL116: 4 | BM116: 708133440
C117: 14 | D117: K | E117: 979087212 | F117: Nakladanie na dopravné prostriedky pre vodorovnú dopravu sutiny | G117: t | H117: 178.286 | J117: =ROUND(I117*H117,3) -> 0 | N117: znížená | P117: =O117*H117 -> 0 | Q117: 0 | R117: =Q117*H117 -> 0 | S117: 0 | T117: =S117*H117 -> 0 | AR117: 4 | AT117: K | AU117: 2 | AY117: ROZPOCET | BE117: =IF(N117="základná",J117,0) -> 0 | BF117: =IF(N117="znížená",J117,0) -> 0 | BG117: =IF(N117="zákl. prenesená",J117,0) -> 0 | BH117: =IF(N117="zníž. prenesená",J117,0) -> 0 | BI117: =IF(N117="nulová",J117,0) -> 0 | BJ117: 2 | BK117: =ROUND(I117*H117,3) -> 0 | BL117: 4 | BM117: 1198855088
C118: 15 | D118: K | E118: 979089012 | F118: Poplatok za skladovanie | G118: t | H118: 178.286 | J118: =ROUND(I118*H118,3) -> 0 | N118: znížená | P118: =O118*H118 -> 0 | Q118: 0 | R118: =Q118*H118 -> 0 | S118: 0 | T118: =S118*H118 -> 0 | AR118: 4 | AT118: K | AU118: 2 | AY118: ROZPOCET | BE118: =IF(N118="základná",J118,0) -> 0 | BF118: =IF(N118="znížená",J118,0) -> 0 | BG118: =IF(N118="zákl. prenesená",J118,0) -> 0 | BH118: =IF(N118="zníž. prenesená",J118,0) -> 0 | BI118: =IF(N118="nulová",J118,0) -> 0 | BJ118: 2 | BK118: =ROUND(I118*H118,3) -> 0 | BL118: 4 | BM118: -1939305794

Sheet 302 - SP 302 - Nové spevn...
AT2: {fe058d7a-0e01-455c-ad5b-873fba906450}
AT3: 0
D4: KRYCÍ LIST ROZPOČTU | M4: v --- nižšie sa nachádzajú doplnkové a pomocné údaje k zostavám --- v | AT4: False
D6: Stavba:
E7: ='Rekapitulácia stavby'!K6 -> Materská škola Na Hôrke 30, Nitra
D8: Objekt:
E9: 300 - SO 300 Budovanie prevencie v bezpečnosti detí v dopravnej prevádzke
D10: Časť:
E11: 302 - SP 302 - Nové spevnené asfaltové plochy
D13: JKSO: | I13: KS:
D14: Miesto: | I14: Dátum: | J14: ='Rekapitulácia stavby'!AN8 -> 24. 2. 2017
D16: Objednávateľ: | I16: IČO:
E17: Mesto NITRA, Štefánikova 60, 950 06 Nitra | I17: IČ DPH:
D19: Zhotoviteľ: | I19: IČO: | J19: ='Rekapitulácia stavby'!AN13 -> Vyplň údaj
E20: ='Rekapitulácia stavby'!E14 -> Vyplň údaj | I20: IČ DPH: | J20: ='Rekapitulácia stavby'!AN14 -> Vyplň údaj
D22: Projektant: | I22: IČO:
E23: Ing.arch.Igor Feník | I23: IČ DPH:
D25: Spracovateľ: | I25: IČO:
E26: Ing.Janečka | I26: IČ DPH:
D28: Poznámka:
D32: Náklady z rozpočtu | J32: =J65 -> 0
D33: Ostatné náklady | J33: =J72 -> 0
D34: Cena bez DPH | J34: =ROUND(J32 + J33, 2) -> 0
F36: Základ dane | I36: Sadzba dane | J36: Výška dane
D37: DPH | E37: základná | F37: =ROUND((SUM(BE72:BE79) + SUM(BE101:BE112)), 2) -> 0 | I37: 0.2 | J37: =ROUND(((SUM(BE72:BE79) + SUM(BE101:BE112))*I37), 2) -> 0
E38: znížená | F38: =ROUND((SUM(BF72:BF79) + SUM(BF101:BF112)), 2) -> 0 | I38: 0.2 | J38: =ROUND(((SUM(BF72:BF79) + SUM(BF101:BF112))*I38), 2) -> 0
E39: zákl. prenesená | F39: =ROUND((SUM(BG72:BG79) + SUM(BG101:BG112)), 2) -> 0 | I39: 0.2 | J39: =0 -> 0
E40: zníž. prenesená | F40: =ROUND((SUM(BH72:BH79) + SUM(BH101:BH112)), 2) -> 0 | I40: 0.2 | J40: =0 -> 0
E41: nulová | F41: =ROUND((SUM(BI72:BI79) + SUM(BI101:BI112)), 2) -> 0 | I41: 0 | J41: =0 -> 0
D43: Cena s DPH | G43: v | H43: EUR | J43: =SUM(J34:J41) -> 0
C49: REKAPITULÁCIA ROZPOČTU
C51: Stavba:
E52: =E7 -> Materská škola Na Hôrke 30, Nitra
C53: Objekt:
E54: 300 - SO 300 Budovanie prevencie v bezpečnosti detí v dopravnej prevádzke
C55: Časť:
E56: =E11 -> 302 - SP 302 - Nové spevnené asfaltové plochy
C58: Miesto: | F58: =F14 | I58: Dátum: | J58: =IF(J14="","",J14) -> 24. 2. 2017
C60: Objednávateľ: | F60: =E17 -> Mesto NITRA, Štefánikova 60, 950 06 Nitra | I60: Projektant: | J60: =E23 -> Ing.arch.Igor Feník
C61: Zhotoviteľ: | F61: =IF(E20="","",E20) -> Vyplň údaj | I61: Spracovateľ: | J61: =E26 -> Ing.Janečka
C63: Kód dielu - Popis | J63: Cena celkom [EUR]
C65: 1) Náklady z rozpočtu | J65: =J101 -> 0 | AU65: -1
D66: HSV - Práce a dodávky HSV | J66: =J102 -> 0
D67: 5 - Komunikácie | J67: =J103 -> 0
D68: 9 - Ostatné konštrukcie a práce-búranie | J68: =J108 -> 0
D69: 99 - Presun hmôt HSV | J69: =J111 -> 0
C72: 2) Ostatné náklady | J72: =ROUND(J73 + J74 + J75 + J76 + J77 + J78,2) -> 0 | N72: DPH
D73: GZS | J73: 0 | N73: znížená | AY73: VRN | BE73: =IF(N73="základná",J73,0) -> 0 | BF73: =IF(N73="znížená",J73,0) -> 0 | BG73: =IF(N73="zákl. prenesená",J73,0) -> 0 | BH73: =IF(N73="zníž. prenesená",J73,0) -> 0 | BI73: =IF(N73="nulová",J73,0) -> 0 | BJ73: 2
D74: Mimostaven. doprava | J74: 0 | N74: znížená | AY74: VRN | BE74: =IF(N74="základná",J74,0) -> 0 | BF74: =IF(N74="znížená",J74,0) -> 0 | BG74: =IF(N74="zákl. prenesená",J74,0) -> 0 | BH74: =IF(N74="zníž. prenesená",J74,0) -> 0 | BI74: =IF(N74="nulová",J74,0) -> 0 | BJ74: 2
D75: Sťažené podmienky | J75: 0 | N75: znížená | AY75: VRN | BE75: =IF(N75="základná",J75,0) -> 0 | BF75: =IF(N75="znížená",J75,0) -> 0 | BG75: =IF(N75="zákl. prenesená",J75,0) -> 0 | BH75: =IF(N75="zníž. prenesená",J75,0) -> 0 | BI75: =IF(N75="nulová",J75,0) -> 0 | BJ75: 2
D76: Vplyv prostredia | J76: 0 | N76: znížená | AY76: VRN | BE76: =IF(N76="základná",J76,0) -> 0 | BF76: =IF(N76="znížená",J76,0) -> 0 | BG76: =IF(N76="zákl. prenesená",J76,0) -> 0 | BH76: =IF(N76="zníž. prenesená",J76,0) -> 0 | BI76: =IF(N76="nulová",J76,0) -> 0 | BJ76: 2
D77: Klimatické vplyvy | J77: 0 | N77: znížená | AY77: VRN | BE77: =IF(N77="základná",J77,0) -> 0 | BF77: =IF(N77="znížená",J77,0) -> 0 | BG77: =IF(N77="zákl. prenesená",J77,0) -> 0 | BH77: =IF(N77="zníž. prenesená",J77,0) -> 0 | BI77: =IF(N77="nulová",J77,0) -> 0 | BJ77: 2
D78: Kompletačná činnosť | J78: =ROUND(J32*T78,2) -> 0 | N78: znížená | AY78: KOMPLETACNA | BE78: =IF(N78="základná",J78,0) -> 0 | BF78: =IF(N78="znížená",J78,0) -> 0 | BG78: =IF(N78="zákl. prenesená",J78,0) -> 0 | BH78: =IF(N78="zníž. prenesená",J78,0) -> 0 | BI78: =IF(N78="nulová",J78,0) -> 0 | BJ78: 2
C80: Celkové náklady za stavbu 1) + 2) | J80: =ROUND(J65+J72,2) -> 0
C86: ROZPOČET
C88: Stavba:
E89: =E7 -> Materská škola Na Hôrke 30, Nitra
C90: Objekt:
E91: 300 - SO 300 Budovanie prevencie v bezpečnosti detí v dopravnej prevádzke
C92: Časť:
E93: =E11 -> 302 - SP 302 - Nové spevnené asfaltové plochy
C95: Miesto: | F95: =F14 | I95: Dátum: | J95: =IF(J14="","",J14) -> 24. 2. 2017
C97: Objednávateľ: | F97: =E17 -> Mesto NITRA, Štefánikova 60, 950 06 Nitra | I97: Projektant: | J97: =E23 -> Ing.arch.Igor Feník
C98: Zhotoviteľ: | F98: =IF(E20="","",E20) -> Vyplň údaj | I98: Spracovateľ: | J98: =E26 -> Ing.Janečka
C100: PČ | D100: Typ | E100: Kód | F100: Popis | G100: MJ | H100: Množstvo | I100: J.cena [EUR] | J100: Cena celkom [EUR] | K100: Cenová sústava | N100: DPH | O100: J. Nh [h] | P100: Nh celkom [h] | Q100: J. hmotnosť [t] | R100: Hmotnosť celkom [t] | S100: J. suť [t] | T100: Suť Celkom [t]
C101: Náklady z rozpočtu | J101: =BK101 -> 0 | P101: =P102 -> 0 | R101: =R102 -> 0 | T101: =T102 -> 0 | AT101: D | AU101: -1 | BK101: =BK102 -> 0
D102: D | E102: HSV | F102: Práce a dodávky HSV | J102: =BK102 -> 0 | P102: =P103+P108+P111 -> 0 | R102: =R103+R108+R111 -> 0 | T102: =T103+T108+T111 -> 0 | AR102: 1 | AT102: D | AU102: 0 | AY102: ROZPOCET | BK102: =BK103+BK108+BK111 -> 0
D103: D | E103: 5 | F103: Komunikácie | J103: =BK103 -> 0 | P103: =SUM(P104:P107) -> 0 | R103: =SUM(R104:R107) -> 0 | T103: =SUM(T104:T107) -> 0 | AR103: 1 | AT103: D | AU103: 1 | AY103: ROZPOCET | BK103: =SUM(BK104:BK107) -> 0
C104: 1 | D104: K | E104: 564851115 | F104: Podklad zo štrkodrviny s rozprestretím a zhutnením, po zhutnení hr. 190 mm | G104: m2 | H104: 91.76 | J104: =ROUND(I104*H104,3) -> 0 | N104: znížená | P104: =O104*H104 -> 0 | Q104: 0 | R104: =Q104*H104 -> 0 | S104: 0 | T104: =S104*H104 -> 0 | AR104: 4 | AT104: K | AU104: 2 | AY104: ROZPOCET | BE104: =IF(N104="základná",J104,0) -> 0 | BF104: =IF(N104="znížená",J104,0) -> 0 | BG104: =IF(N104="zákl. prenesená",J104,0) -> 0 | BH104: =IF(N104="zníž. prenesená",J104,0) -> 0 | BI104: =IF(N104="nulová",J104,0) -> 0 | BJ104: 2 | BK104: =ROUND(I104*H104,3) -> 0 | BL104: 4 | BM104: 244399493
C105: 2 | D105: K | E105: 567124315 | F105: Podklad z podkladového betónu CBGM C 10/16 hr. 150 mm | G105: m2 | H105: 91.76 | J105: =ROUND(I105*H105,3) -> 0 | N105: znížená | P105: =O105*H105 -> 0 | Q105: 0 | R105: =Q105*H105 -> 0 | S105: 0 | T105: =S105*H105 -> 0 | AR105: 4 | AT105: K | AU105: 2 | AY105: ROZPOCET | BE105: =IF(N105="základná",J105,0) -> 0 | BF105: =IF(N105="znížená",J105,0) -> 0 | BG105: =IF(N105="zákl. prenesená",J105,0) -> 0 | BH105: =IF(N105="zníž. prenesená",J105,0) -> 0 | BI105: =IF(N105="nulová",J105,0) -> 0 | BJ105: 2 | BK105: =ROUND(I105*H105,3) -> 0 | BL105: 4 | BM105: -1175838684
C106: 3 | D106: K | E106: 573111115 | F106: Postrek živičný infiltračný s posypom kamenivom z asfaltu cestného v množstve 2,50 kg/m2 | G106: m2 | H106: 756.1 | J106: =ROUND(I106*H106,3) -> 0 | N106: znížená | P106: =O106*H106 -> 0 | Q106: 0 | R106: =Q106*H106 -> 0 | S106: 0 | T106: =S106*H106 -> 0 | AR106: 4 | AT106: K | AU106: 2 | AY106: ROZPOCET | BE106: =IF(N106="základná",J106,0) -> 0 | BF106: =IF(N106="znížená",J106,0) -> 0 | BG106: =IF(N106="zákl. prenesená",J106,0) -> 0 | BH106: =IF(N106="zníž. prenesená",J106,0) -> 0 | BI106: =IF(N106="nulová",J106,0) -> 0 | BJ106: 2 | BK106: =ROUND(I106*H106,3) -> 0 | BL106: 4 | BM106: 1842931933
