Workbook

Sheet Rekapitulácia stavby
A1: Export Komplet | BA1: 2.0 | BB1: ZAMOK | BT1: False | BU1: False | BV1: {da229d52-ddf9-4ab0-80e9-4f7358cf689f}
BS2: 0,001 | BT2: 20
BS3: 0,001 | BT3: 20
D4: REKAPITULÁCIA STAVBY | AS4: v --- nižšie sa nachádzajú doplnkové a pomocné údaje k zostavám --- v | BE4: Návod na vyplnenie | BS4: 0,001
D5: Kód: | K5: fnk1701 | BE5: Meniť je možné iba bunky so žltým podfarbením!_x000D_ _x000D_ 1) na prvom liste Rekapitulácie stavby vyplňte v zostave_x000D_ _x000D_ a) Rekapitulácia stavby_x000D_ - údaje o Zhotoviteľovi_x000D_ (prenesú sa do ostatných zostáv aj v iných listoch)_x000D_ _x000D_ b) Rekapitulácia objektov stavby_x000D_ - potrebné Ostatné náklady_x000D_ _x000D_ 2) na vybraných listoch vyplňte v zostave_x000D_ _x000D_ a) Krycí list_x000D_ - údaje o Zhotoviteľovi, pokiaľ sa líšia od údajov o Zhotoviteľovi na Rekapitulácii stavby_x000D_ (údaje se prenesú do ostatných zostav v danom liste)_x000D_ _x000D_ b) Rekapitulácia rozpočtu_x000D_ - potrebné Ostatné náklady_x000D_ _x000D_ c) Celkové náklady za stavbu_x000D_ - ceny na položkách_x000D_ - množstvo, pokiaľ má žlté podfarbenie_x000D_ - a v prípade potreby poznámku (tá je v skrytom stĺpci) | BS5: 0,001
D6: Stavba: | K6: Materská škola Na Hôrke 30, Nitra | BS6: 0,001
D7: JKSO: | AK7: KS: | BS7: 0,001
D8: Miesto: | K8: Na Hôrke 30, Nitra | AK8: Dátum: | AN8: 24. 2. 2017 | BS8: 0,001
BS9: 0,001
D10: Objednávateľ: | AK10: IČO: | BS10: 0,001
E11: Mesto NITRA, Štefánikova 60, 950 06 Nitra | AK11: IČ DPH: | BS11: 0,001
BS12: 0,001
D13: Zhotoviteľ: | AK13: IČO: | AN13: Vyplň údaj | BS13: 0,001
E14: Vyplň údaj | AK14: IČ DPH: | AN14: Vyplň údaj | BS14: 0,001
BS15: False
D16: Projektant: | AK16: IČO: | BS16: False
E17: Ing.arch.Igor Feník | AK17: IČ DPH: | BS17: True
BS18: 0,01
D19: Spracovateľ: | AK19: IČO: | BS19: 0,01
E20: Ing.Janečka | AK20: IČ DPH: | BS20: False
D22: Poznámka:
D26: Cena bez DPH | AK26: =ROUND(AG54,2) -> 0
L28: Sadzba dane | W28: Základ dane | AK28: Výška dane
D29: DPH | F29: základná | L29: 0.2 | W29: =ROUND(AZ54, 2) -> 0 | AK29: =ROUND(AV54, 2) -> 0
F30: znížená | L30: 0.2 | W30: =ROUND(BA54, 2) -> 0 | AK30: =ROUND(AW54, 2) -> 0
F31: zákl. prenesená | L31: 0.2 | W31: =ROUND(BB54, 2) -> 0 | AK31: 0
F32: zníž. prenesená | L32: 0.2 | W32: =ROUND(BC54, 2) -> 0 | AK32: 0
F33: nulová | L33: 0 | W33: =ROUND(BD54, 2) -> 0 | AK33: 0
D35: Cena s DPH | T35: v | X35: EUR | AK35: =SUM(AK26:AK33) -> 0
C42: REKAPITULÁCIA OBJEKTOV STAVBY
C44: Kód: | L44: =K5 -> fnk1701
C45: Stavba: | L45: =K6 -> Materská škola Na Hôrke 30, Nitra
C47: Miesto: | L47: =IF(K8="","",K8) -> Na Hôrke 30, Nitra | AI47: Dátum: | AM47: =IF(AN8= "","",AN8) -> 24. 2. 2017
C49: Objednávateľ: | L49: =IF(E11= "","",E11) -> Mesto NITRA, Štefánikova 60, 950 06 Nitra | AI49: Projektant: | AM49: =IF(E17="","",E17) -> Ing.arch.Igor Feník | AS49: Informatívne údaje z listov zákaziek
C50: Zhotoviteľ: | L50: =IF(E14= "Vyplň údaj","",E14) | AI50: Spracovateľ: | AM50: =IF(E20="","",E20) -> Ing.Janečka
C52: Kód | I52: Popis | AG52: Cena bez DPH [EUR] | AN52: Cena s DPH [EUR] | AQ52: Typ | AS52: z toho Ostat._x000D_ náklady [EUR] | AT52: DPH [EUR] | AU52: Normohodiny [h] | AV52: DPH základná [EUR] | AW52: DPH znížená [EUR] | AX52: DPH základná prenesená_x000D_ [EUR] | AY52: DPH znížená prenesená_x000D_ [EUR] | AZ52: Základňa_x000D_ DPH základná | BA52: Základňa_x000D_ DPH znížená | BB52: Základňa_x000D_ DPH zákl. prenesená | BC52: Základňa_x000D_ DPH zníž. prenesená | BD52: Základňa_x000D_ DPH nulová
C54: Náklady z rozpočtov | AG54: =ROUND(AG55+AG62+AG66,2) -> 0 | AN54: =SUM(AG54,AT54) -> 0 | AS54: =ROUND(AS55+AS62+AS66,2) -> 0 | AT54: =ROUND(SUM(AV54:AW54),2) -> 0 | AU54: =ROUND(AU55+AU62+AU66,5) -> 0 | AV54: =ROUND(AZ54*L29,2) -> 0 | AW54: =ROUND(BA54*L30,2) -> 0 | AX54: =ROUND(BB54*L29,2) -> 0 | AY54: =ROUND(BC54*L30,2) -> 0 | AZ54: =ROUND(AZ55+AZ62+AZ66,2) -> 0 | BA54: =ROUND(BA55+BA62+BA66,2) -> 0 | BB54: =ROUND(BB55+BB62+BB66,2) -> 0 | BC54: =ROUND(BC55+BC62+BC66,2) -> 0 | BD54: =ROUND(BD55+BD62+BD66,2) -> 0 | BS54: D | BT54: 0 | BU54: ###NOIMPORT### | BV54: IMPORT | BW54: {da229d52-ddf9-4ab0-80e9-4f7358cf689f} | BX54: {00000000-0000-0000-0000-000000000000}
D55: 100 | J55: SO 100 Vytvorenie 2 tried Materskej školy pre 24 + 21 detí | AG55: =ROUND(SUM(AG56:AG61),2) -> 0 | AN55: =SUM(AG55,AT55) -> 0 | AQ55: STA | AS55: =ROUND(SUM(AS56:AS61),2) -> 0 | AT55: =ROUND(SUM(AV55:AW55),2) -> 0 | AU55: =ROUND(SUM(AU56:AU61),5) -> 0 | AV55: =ROUND(AZ55*L29,2) -> 0 | AW55: =ROUND(BA55*L30,2) -> 0 | AX55: =ROUND(BB55*L29,2) -> 0 | AY55: =ROUND(BC55*L30,2) -> 0 | AZ55: =ROUND(SUM(AZ56:AZ61),2) -> 0 | BA55: =ROUND(SUM(BA56:BA61),2) -> 0 | BB55: =ROUND(SUM(BB56:BB61),2) -> 0 | BC55: =ROUND(SUM(BC56:BC61),2) -> 0 | BD55: =ROUND(SUM(BD56:BD61),2) -> 0 | BS55: D | BT55: 1 | BU55: ###NOIMPORT### | BV55: IMPORT | BW55: {4233089f-602d-4729-996e-611e2ca57cbb} | BX55: {da229d52-ddf9-4ab0-80e9-4f7358cf689f} | CM55: 0
A56: / | E56: 101 | K56: SP 101 Stavebné úpravy pre vytvorenie 2 tried a prislúchajúceho zázemia MŠ | AG56: ='101 - SP 101 Stavebné úpr...'!J34 -> 0 | AN56: =SUM(AG56,AT56) -> 0 | AQ56: Časť | AS56: 0 | AT56: =ROUND(SUM(AV56:AW56),2) -> 0 | AU56: ='101 - SP 101 Stavebné úpr...'!P116 -> 0 | AV56: ='101 - SP 101 Stavebné úpr...'!J37 -> 0 | AW56: ='101 - SP 101 Stavebné úpr...'!J38 -> 0 | AX56: ='101 - SP 101 Stavebné úpr...'!J39 -> 0 | AY56: ='101 - SP 101 Stavebné úpr...'!J40 -> 0 | AZ56: ='101 - SP 101 Stavebné úpr...'!F37 -> 0 | BA56: ='101 - SP 101 Stavebné úpr...'!F38 -> 0 | BB56: ='101 - SP 101 Stavebné úpr...'!F39 -> 0 | BC56: ='101 - SP 101 Stavebné úpr...'!F40 -> 0 | BD56: ='101 - SP 101 Stavebné úpr...'!F41 -> 0 | BT56: 2 | BV56: IMPORT | BW56: {753dc28e-feab-443a-85de-0183281add04} | BX56: {4233089f-602d-4729-996e-611e2ca57cbb}
A57: / | E57: 102.1 | K57: SP 102.1 Vykurovanie a vzduchotechnika | AG57: ='102.1 - SP 102.1 Vykurova...'!J34 -> 0 | AN57: =SUM(AG57,AT57) -> 0 | AQ57: Časť | AS57: 0 | AT57: =ROUND(SUM(AV57:AW57),2) -> 0 | AU57: ='102.1 - SP 102.1 Vykurova...'!P103 -> 0 | AV57: ='102.1 - SP 102.1 Vykurova...'!J37 -> 0 | AW57: ='102.1 - SP 102.1 Vykurova...'!J38 -> 0 | AX57: ='102.1 - SP 102.1 Vykurova...'!J39 -> 0 | AY57: ='102.1 - SP 102.1 Vykurova...'!J40 -> 0 | AZ57: ='102.1 - SP 102.1 Vykurova...'!F37 -> 0 | BA57: ='102.1 - SP 102.1 Vykurova...'!F38 -> 0 | BB57: ='102.1 - SP 102.1 Vykurova...'!F39 -> 0 | BC57: ='102.1 - SP 102.1 Vykurova...'!F40 -> 0 | BD57: ='102.1 - SP 102.1 Vykurova...'!F41 -> 0 | BT57: 2 | BV57: IMPORT | BW57: {f7d1844c-ea22-4498-b586-41cf267b8dc7} | BX57: {4233089f-602d-4729-996e-611e2ca57cbb}
...

Sheet 101 - SP 101 Stavebné úpr...
AT2: {753dc28e-feab-443a-85de-0183281add04}
AT3: 0
D4: KRYCÍ LIST ROZPOČTU | M4: v --- nižšie sa nachádzajú doplnkové a pomocné údaje k zostavám --- v | AT4: False
D6: Stavba:
E7: ='Rekapitulácia stavby'!K6 -> Materská škola Na Hôrke 30, Nitra
D8: Objekt:
E9: 100 - SO 100 Vytvorenie 2 tried Materskej školy pre 24 + 21 detí
D10: Časť:
E11: 101 - SP 101 Stavebné úpravy pre vytvorenie 2 tried a prislúchajúceho zázemia MŠ
D13: JKSO: | I13: KS:
D14: Miesto: | F14: Na Hôrke 30, Nitra | I14: Dátum: | J14: ='Rekapitulácia stavby'!AN8 -> 24. 2. 2017
D16: Objednávateľ: | I16: IČO:
E17: Mesto NITRA, Štefánikova 60, 950 06 Nitra | I17: IČ DPH:
D19: Zhotoviteľ: | I19: IČO: | J19: ='Rekapitulácia stavby'!AN13 -> Vyplň údaj
E20: ='Rekapitulácia stavby'!E14 -> Vyplň údaj | I20: IČ DPH: | J20: ='Rekapitulácia stavby'!AN14 -> Vyplň údaj
D22: Projektant: | I22: IČO:
E23: Ing.arch.Igor Feník | I23: IČ DPH:
D25: Spracovateľ: | I25: IČO:
E26: Ing.Janečka | I26: IČ DPH:
D28: Poznámka:
D32: Náklady z rozpočtu | J32: =J65 -> 0
D33: Ostatné náklady | J33: =J87 -> 0
D34: Cena bez DPH | J34: =ROUND(J32 + J33, 2) -> 0
F36: Základ dane | I36: Sadzba dane | J36: Výška dane
D37: DPH | E37: základná | F37: =ROUND((SUM(BE87:BE94) + SUM(BE116:BE284)), 2) -> 0 | I37: 0.2 | J37: =ROUND(((SUM(BE87:BE94) + SUM(BE116:BE284))*I37), 2) -> 0
E38: znížená | F38: =ROUND((SUM(BF87:BF94) + SUM(BF116:BF284)), 2) -> 0 | I38: 0.2 | J38: =ROUND(((SUM(BF87:BF94) + SUM(BF116:BF284))*I38), 2) -> 0
E39: zákl. prenesená | F39: =ROUND((SUM(BG87:BG94) + SUM(BG116:BG284)), 2) -> 0 | I39: 0.2 | J39: =0 -> 0
E40: zníž. prenesená | F40: =ROUND((SUM(BH87:BH94) + SUM(BH116:BH284)), 2) -> 0 | I40: 0.2 | J40: =0 -> 0
E41: nulová | F41: =ROUND((SUM(BI87:BI94) + SUM(BI116:BI284)), 2) -> 0 | I41: 0 | J41: =0 -> 0
D43: Cena s DPH | G43: v | H43: EUR | J43: =SUM(J34:J41) -> 0
C49: REKAPITULÁCIA ROZPOČTU
C51: Stavba:
E52: =E7 -> Materská škola Na Hôrke 30, Nitra
C53: Objekt:
E54: 100 - SO 100 Vytvorenie 2 tried Materskej školy pre 24 + 21 detí
C55: Časť:
E56: =E11 -> 101 - SP 101 Stavebné úpravy pre vytvorenie 2 tried a prislúchajúceho zázemia MŠ
C58: Miesto: | F58: =F14 -> Na Hôrke 30, Nitra | I58: Dátum: | J58: =IF(J14="","",J14) -> 24. 2. 2017
C60: Objednávateľ: | F60: =E17 -> Mesto NITRA, Štefánikova 60, 950 06 Nitra | I60: Projektant: | J60: =E23 -> Ing.arch.Igor Feník
C61: Zhotoviteľ: | F61: =IF(E20="","",E20) -> Vyplň údaj | I61: Spracovateľ: | J61: =E26 -> Ing.Janečka
...

Sheet 102.1 - SP 102.1 Vykurova...
AT2: {f7d1844c-ea22-4498-b586-41cf267b8dc7}
AT3: 0
D4: KRYCÍ LIST ROZPOČTU | M4: v --- nižšie sa nachádzajú doplnkové a pomocné údaje k zostavám --- v | AT4: False
D6: Stavba:
E7: ='Rekapitulácia stavby'!K6 -> Materská škola Na Hôrke 30, Nitra
D8: Objekt:
E9: 100 - SO 100 Vytvorenie 2 tried Materskej školy pre 24 + 21 detí
D10: Časť:
E11: 102.1 - SP 102.1 Vykurovanie a vzduchotechnika
D13: JKSO: | I13: KS:
D14: Miesto: | F14: Na Hôrke 30, Nitra | I14: Dátum: | J14: ='Rekapitulácia stavby'!AN8 -> 24. 2. 2017
D16: Objednávateľ: | I16: IČO:
E17: Mesto NITRA, Štefánikova 60, 950 06 Nitra | I17: IČ DPH:
D19: Zhotoviteľ: | I19: IČO: | J19: ='Rekapitulácia stavby'!AN13 -> Vyplň údaj
E20: ='Rekapitulácia stavby'!E14 -> Vyplň údaj | I20: IČ DPH: | J20: ='Rekapitulácia stavby'!AN14 -> Vyplň údaj
D22: Projektant: | I22: IČO:
E23: Ing.arch.Igor Feník | I23: IČ DPH:
D25: Spracovateľ: | I25: IČO:
E26: Ing.Janečka | I26: IČ DPH:
D28: Poznámka:
D32: Náklady z rozpočtu | J32: =J65 -> 0
D33: Ostatné náklady | J33: =J74 -> 0
D34: Cena bez DPH | J34: =ROUND(J32 + J33, 2) -> 0
F36: Základ dane | I36: Sadzba dane | J36: Výška dane
D37: DPH | E37: základná | F37: =ROUND((SUM(BE74:BE81) + SUM(BE103:BE137)), 2) -> 0 | I37: 0.2 | J37: =ROUND(((SUM(BE74:BE81) + SUM(BE103:BE137))*I37), 2) -> 0
E38: znížená | F38: =ROUND((SUM(BF74:BF81) + SUM(BF103:BF137)), 2) -> 0 | I38: 0.2 | J38: =ROUND(((SUM(BF74:BF81) + SUM(BF103:BF137))*I38), 2) -> 0
E39: zákl. prenesená | F39: =ROUND((SUM(BG74:BG81) + SUM(BG103:BG137)), 2) -> 0 | I39: 0.2 | J39: =0 -> 0
E40: zníž. prenesená | F40: =ROUND((SUM(BH74:BH81) + SUM(BH103:BH137)), 2) -> 0 | I40: 0.2 | J40: =0 -> 0
E41: nulová | F41: =ROUND((SUM(BI74:BI81) + SUM(BI103:BI137)), 2) -> 0 | I41: 0 | J41: =0 -> 0
D43: Cena s DPH | G43: v | H43: EUR | J43: =SUM(J34:J41) -> 0
C49: REKAPITULÁCIA ROZPOČTU
C51: Stavba:
E52: =E7 -> Materská škola Na Hôrke 30, Nitra
C53: Objekt:
E54: 100 - SO 100 Vytvorenie 2 tried Materskej školy pre 24 + 21 detí
C55: Časť:
E56: =E11 -> 102.1 - SP 102.1 Vykurovanie a vzduchotechnika
C58: Miesto: | F58: =F14 -> Na Hôrke 30, Nitra | I58: Dátum: | J58: =IF(J14="","",J14) -> 24. 2. 2017
C60: Objednávateľ: | F60: =E17 -> Mesto NITRA, Štefánikova 60, 950 06 Nitra | I60: Projektant: | J60: =E23 -> Ing.arch.Igor Feník
C61: Zhotoviteľ: | F61: =IF(E20="","",E20) -> Vyplň údaj | I61: Spracovateľ: | J61: =E26 -> Ing.Janečka
...

Sheet 102.2 - SP 102.2 Zdravote...
AT2: {f9ae54b0-b17f-43e1-af49-09cda32a8002}
AT3: 0
D4: KRYCÍ LIST ROZPOČTU | M4: v --- nižšie sa nachádzajú doplnkové a pomocné údaje k zostavám --- v | AT4: False
D6: Stavba:
E7: ='Rekapitulácia stavby'!K6 -> Materská škola Na Hôrke 30, Nitra
D8: Objekt:
E9: 100 - SO 100 Vytvorenie 2 tried Materskej školy pre 24 + 21 detí
D10: Časť:
E11: 102.2 - SP 102.2 Zdravotechnika
D13: JKSO: | I13: KS:
D14: Miesto: | F14: Na Hôrke 30, Nitra | I14: Dátum: | J14: ='Rekapitulácia stavby'!AN8 -> 24. 2. 2017
D16: Objednávateľ: | I16: IČO:
E17: Mesto NITRA, Štefánikova 60, 950 06 Nitra | I17: IČ DPH:
D19: Zhotoviteľ: | I19: IČO: | J19: ='Rekapitulácia stavby'!AN13 -> Vyplň údaj
E20: ='Rekapitulácia stavby'!E14 -> Vyplň údaj | I20: IČ DPH: | J20: ='Rekapitulácia stavby'!AN14 -> Vyplň údaj
D22: Projektant: | I22: IČO:
E23: Ing.arch.Igor Feník | I23: IČ DPH:
D25: Spracovateľ: | I25: IČO:
E26: Ing.Janečka | I26: IČ DPH:
D28: Poznámka:
D32: Náklady z rozpočtu | J32: =J65 -> 0
D33: Ostatné náklady | J33: =J74 -> 0
D34: Cena bez DPH | J34: =ROUND(J32 + J33, 2) -> 0
F36: Základ dane | I36: Sadzba dane | J36: Výška dane
D37: DPH | E37: základná | F37: =ROUND((SUM(BE74:BE81) + SUM(BE103:BE193)), 2) -> 0 | I37: 0.2 | J37: =ROUND(((SUM(BE74:BE81) + SUM(BE103:BE193))*I37), 2) -> 0
E38: znížená | F38: =ROUND((SUM(BF74:BF81) + SUM(BF103:BF193)), 2) -> 0 | I38: 0.2 | J38: =ROUND(((SUM(BF74:BF81) + SUM(BF103:BF193))*I38), 2) -> 0
E39: zákl. prenesená | F39: =ROUND((SUM(BG74:BG81) + SUM(BG103:BG193)), 2) -> 0 | I39: 0.2 | J39: =0 -> 0
E40: zníž. prenesená | F40: =ROUND((SUM(BH74:BH81) + SUM(BH103:BH193)), 2) -> 0 | I40: 0.2 | J40: =0 -> 0
E41: nulová | F41: =ROUND((SUM(BI74:BI81) + SUM(BI103:BI193)), 2) -> 0 | I41: 0 | J41: =0 -> 0
D43: Cena s DPH | G43: v | H43: EUR | J43: =SUM(J34:J41) -> 0
C49: REKAPITULÁCIA ROZPOČTU
C51: Stavba:
E52: =E7 -> Materská škola Na Hôrke 30, Nitra
C53: Objekt:
E54: 100 - SO 100 Vytvorenie 2 tried Materskej školy pre 24 + 21 detí
C55: Časť:
E56: =E11 -> 102.2 - SP 102.2 Zdravotechnika
C58: Miesto: | F58: =F14 -> Na Hôrke 30, Nitra | I58: Dátum: | J58: =IF(J14="","",J14) -> 24. 2. 2017
C60: Objednávateľ: | F60: =E17 -> Mesto NITRA, Štefánikova 60, 950 06 Nitra | I60: Projektant: | J60: =E23 -> Ing.arch.Igor Feník
C61: Zhotoviteľ: | F61: =IF(E20="","",E20) -> Vyplň údaj | I61: Spracovateľ: | J61: =E26 -> Ing.Janečka
...

Sheet 102.3 - SP 102.3 Elektroi...
AT2: {01bae37b-c463-49d4-89f8-8e63288f59c1}
AT3: 0
D4: KRYCÍ LIST ROZPOČTU | M4: v --- nižšie sa nachádzajú doplnkové a pomocné údaje k zostavám --- v | AT4: False
D6: Stavba:
E7: ='Rekapitulácia stavby'!K6 -> Materská škola Na Hôrke 30, Nitra
D8: Objekt:
E9: 100 - SO 100 Vytvorenie 2 tried Materskej školy pre 24 + 21 detí
D10: Časť:
E11: 102.3 - SP 102.3 Elektroinštalácia
D13: JKSO: | I13: KS:
D14: Miesto: | F14: Na Hôrke 30, Nitra | I14: Dátum: | J14: ='Rekapitulácia stavby'!AN8 -> 24. 2. 2017
D16: Objednávateľ: | I16: IČO:
E17: Mesto NITRA, Štefánikova 60, 950 06 Nitra | I17: IČ DPH:
D19: Zhotoviteľ: | I19: IČO: | J19: ='Rekapitulácia stavby'!AN13 -> Vyplň údaj
E20: ='Rekapitulácia stavby'!E14 -> Vyplň údaj | I20: IČ DPH: | J20: ='Rekapitulácia stavby'!AN14 -> Vyplň údaj
D22: Projektant: | I22: IČO:
E23: Ing.arch.Igor Feník | I23: IČ DPH:
D25: Spracovateľ: | I25: IČO:
E26: Ing.Janečka | I26: IČ DPH:
D28: Poznámka:
D32: Náklady z rozpočtu | J32: =J65 -> 0
D33: Ostatné náklady | J33: =J71 -> 0
D34: Cena bez DPH | J34: =ROUND(J32 + J33, 2) -> 0
F36: Základ dane | I36: Sadzba dane | J36: Výška dane
D37: DPH | E37: základná | F37: =ROUND((SUM(BE71:BE78) + SUM(BE100:BE173)), 2) -> 0 | I37: 0.2 | J37: =ROUND(((SUM(BE71:BE78) + SUM(BE100:BE173))*I37), 2) -> 0
E38: znížená | F38: =ROUND((SUM(BF71:BF78) + SUM(BF100:BF173)), 2) -> 0 | I38: 0.2 | J38: =ROUND(((SUM(BF71:BF78) + SUM(BF100:BF173))*I38), 2) -> 0
E39: zákl. prenesená | F39: =ROUND((SUM(BG71:BG78) + SUM(BG100:BG173)), 2) -> 0 | I39: 0.2 | J39: =0 -> 0
E40: zníž. prenesená | F40: =ROUND((SUM(BH71:BH78) + SUM(BH100:BH173)), 2) -> 0 | I40: 0.2 | J40: =0 -> 0
E41: nulová | F41: =ROUND((SUM(BI71:BI78) + SUM(BI100:BI173)), 2) -> 0 | I41: 0 | J41: =0 -> 0
D43: Cena s DPH | G43: v | H43: EUR | J43: =SUM(J34:J41) -> 0
C49: REKAPITULÁCIA ROZPOČTU
C51: Stavba:
E52: =E7 -> Materská škola Na Hôrke 30, Nitra
C53: Objekt:
E54: 100 - SO 100 Vytvorenie 2 tried Materskej školy pre 24 + 21 detí
C55: Časť:
E56: =E11 -> 102.3 - SP 102.3 Elektroinštalácia
C58: Miesto: | F58: =F14 -> Na Hôrke 30, Nitra | I58: Dátum: | J58: =IF(J14="","",J14) -> 24. 2. 2017
C60: Objednávateľ: | F60: =E17 -> Mesto NITRA, Štefánikova 60, 950 06 Nitra | I60: Projektant: | J60: =E23 -> Ing.arch.Igor Feník
C61: Zhotoviteľ: | F61: =IF(E20="","",E20) -> Vyplň údaj | I61: Spracovateľ: | J61: =E26 -> Ing.Janečka
...

Sheet 103 - SP 103 Nové exterié...
AT2: {3431c795-65d2-42f8-b1aa-1bc6903047b3}
AT3: 0
D4: KRYCÍ LIST ROZPOČTU | M4: v --- nižšie sa nachádzajú doplnkové a pomocné údaje k zostavám --- v | AT4: False
D6: Stavba:
E7: ='Rekapitulácia stavby'!K6 -> Materská škola Na Hôrke 30, Nitra
D8: Objekt:
E9: 100 - SO 100 Vytvorenie 2 tried Materskej školy pre 24 + 21 detí
D10: Časť:
E11: 103 - SP 103 Nové exteriérové schodisko
D13: JKSO: | I13: KS:
D14: Miesto: | F14: Na Hôrke 30, Nitra | I14: Dátum: | J14: ='Rekapitulácia stavby'!AN8 -> 24. 2. 2017
D16: Objednávateľ: | I16: IČO:
E17: Mesto NITRA, Štefánikova 60, 950 06 Nitra | I17: IČ DPH:
D19: Zhotoviteľ: | I19: IČO: | J19: ='Rekapitulácia stavby'!AN13 -> Vyplň údaj
E20: ='Rekapitulácia stavby'!E14 -> Vyplň údaj | I20: IČ DPH: | J20: ='Rekapitulácia stavby'!AN14 -> Vyplň údaj
D22: Projektant: | I22: IČO:
E23: Ing.arch.Igor Feník | I23: IČ DPH:
D25: Spracovateľ: | I25: IČO:
E26: Ing.Janečka | I26: IČ DPH:
D28: Poznámka:
D32: Náklady z rozpočtu | J32: =J65 -> 0
D33: Ostatné náklady | J33: =J79 -> 0
D34: Cena bez DPH | J34: =ROUND(J32 + J33, 2) -> 0
F36: Základ dane | I36: Sadzba dane | J36: Výška dane
D37: DPH | E37: základná | F37: =ROUND((SUM(BE79:BE86) + SUM(BE108:BE159)), 2) -> 0 | I37: 0.2 | J37: =ROUND(((SUM(BE79:BE86) + SUM(BE108:BE159))*I37), 2) -> 0
E38: znížená | F38: =ROUND((SUM(BF79:BF86) + SUM(BF108:BF159)), 2) -> 0 | I38: 0.2 | J38: =ROUND(((SUM(BF79:BF86) + SUM(BF108:BF159))*I38), 2) -> 0
E39: zákl. prenesená | F39: =ROUND((SUM(BG79:BG86) + SUM(BG108:BG159)), 2) -> 0 | I39: 0.2 | J39: =0 -> 0
E40: zníž. prenesená | F40: =ROUND((SUM(BH79:BH86) + SUM(BH108:BH159)), 2) -> 0 | I40: 0.2 | J40: =0 -> 0
E41: nulová | F41: =ROUND((SUM(BI79:BI86) + SUM(BI108:BI159)), 2) -> 0 | I41: 0 | J41: =0 -> 0
D43: Cena s DPH | G43: v | H43: EUR | J43: =SUM(J34:J41) -> 0
C49: REKAPITULÁCIA ROZPOČTU
C51: Stavba:
E52: =E7 -> Materská škola Na Hôrke 30, Nitra
C53: Objekt:
E54: 100 - SO 100 Vytvorenie 2 tried Materskej školy pre 24 + 21 detí
C55: Časť:
E56: =E11 -> 103 - SP 103 Nové exteriérové schodisko
C58: Miesto: | F58: =F14 -> Na Hôrke 30, Nitra | I58: Dátum: | J58: =IF(J14="","",J14) -> 24. 2. 2017
C60: Objednávateľ: | F60: =E17 -> Mesto NITRA, Štefánikova 60, 950 06 Nitra | I60: Projektant: | J60: =E23 -> Ing.arch.Igor Feník
C61: Zhotoviteľ: | F61: =IF(E20="","",E20) -> Vyplň údaj | I61: Spracovateľ: | J61: =E26 -> Ing.Janečka
...

Sheet 104 - SP 104 Stavebné úpr...
AT2: {53c48221-5a4a-4351-911c-a8bff9fd6288}
AT3: 0
D4: KRYCÍ LIST ROZPOČTU | M4: v --- nižšie sa nachádzajú doplnkové a pomocné údaje k zostavám --- v | AT4: False
D6: Stavba:
E7: ='Rekapitulácia stavby'!K6 -> Materská škola Na Hôrke 30, Nitra
D8: Objekt:
E9: 100 - SO 100 Vytvorenie 2 tried Materskej školy pre 24 + 21 detí
D10: Časť:
E11: 104 - SP 104 Stavebné úpravy spevných plôch po osadení exteriérového schodiska
D13: JKSO: | I13: KS:
D14: Miesto: | F14: Na Hôrke 30, Nitra | I14: Dátum: | J14: ='Rekapitulácia stavby'!AN8 -> 24. 2. 2017
D16: Objednávateľ: | I16: IČO:
E17: Mesto NITRA, Štefánikova 60, 950 06 Nitra | I17: IČ DPH:
D19: Zhotoviteľ: | I19: IČO: | J19: ='Rekapitulácia stavby'!AN13 -> Vyplň údaj
E20: ='Rekapitulácia stavby'!E14 -> Vyplň údaj | I20: IČ DPH: | J20: ='Rekapitulácia stavby'!AN14 -> Vyplň údaj
D22: Projektant: | I22: IČO:
E23: Ing.arch.Igor Feník | I23: IČ DPH:
D25: Spracovateľ: | I25: IČO:
E26: Ing.Janečka | I26: IČ DPH:
D28: Poznámka:
D32: Náklady z rozpočtu | J32: =J65 -> 0
D33: Ostatné náklady | J33: =J73 -> 0
D34: Cena bez DPH | J34: =ROUND(J32 + J33, 2) -> 0
F36: Základ dane | I36: Sadzba dane | J36: Výška dane
D37: DPH | E37: základná | F37: =ROUND((SUM(BE73:BE80) + SUM(BE102:BE112)), 2) -> 0 | I37: 0.2 | J37: =ROUND(((SUM(BE73:BE80) + SUM(BE102:BE112))*I37), 2) -> 0
E38: znížená | F38: =ROUND((SUM(BF73:BF80) + SUM(BF102:BF112)), 2) -> 0 | I38: 0.2 | J38: =ROUND(((SUM(BF73:BF80) + SUM(BF102:BF112))*I38), 2) -> 0
E39: zákl. prenesená | F39: =ROUND((SUM(BG73:BG80) + SUM(BG102:BG112)), 2) -> 0 | I39: 0.2 | J39: =0 -> 0
E40: zníž. prenesená | F40: =ROUND((SUM(BH73:BH80) + SUM(BH102:BH112)), 2) -> 0 | I40: 0.2 | J40: =0 -> 0
E41: nulová | F41: =ROUND((SUM(BI73:BI80) + SUM(BI102:BI112)), 2) -> 0 | I41: 0 | J41: =0 -> 0
D43: Cena s DPH | G43: v | H43: EUR | J43: =SUM(J34:J41) -> 0
C49: REKAPITULÁCIA ROZPOČTU
C51: Stavba:
E52: =E7 -> Materská škola Na Hôrke 30, Nitra
C53: Objekt:
E54: 100 - SO 100 Vytvorenie 2 tried Materskej školy pre 24 + 21 detí
C55: Časť:
E56: =E11 -> 104 - SP 104 Stavebné úpravy spevných plôch po osadení exteriérového schodiska
C58: Miesto: | F58: =F14 -> Na Hôrke 30, Nitra | I58: Dátum: | J58: =IF(J14="","",J14) -> 24. 2. 2017
C60: Objednávateľ: | F60: =E17 -> Mesto NITRA, Štefánikova 60, 950 06 Nitra | I60: Projektant: | J60: =E23 -> Ing.arch.Igor Feník
C61: Zhotoviteľ: | F61: =IF(E20="","",E20) -> Vyplň údaj | I61: Spracovateľ: | J61: =E26 -> Ing.Janečka
...

Sheet 201 - SP 201 Výmena výťahu 
AT2: {a138ec70-1d3e-4910-80f4-dbbb1d9095b2}
AT3: 0
D4: KRYCÍ LIST ROZPOČTU | M4: v --- nižšie sa nachádzajú doplnkové a pomocné údaje k zostavám --- v | AT4: False
D6: Stavba:
E7: ='Rekapitulácia stavby'!K6 -> Materská škola Na Hôrke 30, Nitra
D8: Objekt:
E9: 200 - SO 200 Zabezpečenie bezbariérového prístupu pre deti MŠ
D10: Časť:
E11: 201 - SP 201 Výmena výťahu
D13: JKSO: | I13: KS:
D14: Miesto: | F14: Na Hôrke 30, Nitra | I14: Dátum: | J14: ='Rekapitulácia stavby'!AN8 -> 24. 2. 2017
D16: Objednávateľ: | I16: IČO:
E17: Mesto NITRA, Štefánikova 60, 950 06 Nitra | I17: IČ DPH:
D19: Zhotoviteľ: | I19: IČO: | J19: ='Rekapitulácia stavby'!AN13 -> Vyplň údaj
E20: ='Rekapitulácia stavby'!E14 -> Vyplň údaj | I20: IČ DPH: | J20: ='Rekapitulácia stavby'!AN14 -> Vyplň údaj
D22: Projektant: | I22: IČO:
E23: Ing.arch.Igor Feník | I23: IČ DPH:
D25: Spracovateľ: | I25: IČO:
E26: Ing.Janečka | I26: IČ DPH:
D28: Poznámka:
D32: Náklady z rozpočtu | J32: =J65 -> 0
D33: Ostatné náklady | J33: =J70 -> 0
D34: Cena bez DPH | J34: =ROUND(J32 + J33, 2) -> 0
F36: Základ dane | I36: Sadzba dane | J36: Výška dane
D37: DPH | E37: základná | F37: =ROUND((SUM(BE70:BE77) + SUM(BE99:BE102)), 2) -> 0 | I37: 0.2 | J37: =ROUND(((SUM(BE70:BE77) + SUM(BE99:BE102))*I37), 2) -> 0
E38: znížená | F38: =ROUND((SUM(BF70:BF77) + SUM(BF99:BF102)), 2) -> 0 | I38: 0.2 | J38: =ROUND(((SUM(BF70:BF77) + SUM(BF99:BF102))*I38), 2) -> 0
E39: zákl. prenesená | F39: =ROUND((SUM(BG70:BG77) + SUM(BG99:BG102)), 2) -> 0 | I39: 0.2 | J39: =0 -> 0
E40: zníž. prenesená | F40: =ROUND((SUM(BH70:BH77) + SUM(BH99:BH102)), 2) -> 0 | I40: 0.2 | J40: =0 -> 0
E41: nulová | F41: =ROUND((SUM(BI70:BI77) + SUM(BI99:BI102)), 2) -> 0 | I41: 0 | J41: =0 -> 0
D43: Cena s DPH | G43: v | H43: EUR | J43: =SUM(J34:J41) -> 0
C49: REKAPITULÁCIA ROZPOČTU
C51: Stavba:
E52: =E7 -> Materská škola Na Hôrke 30, Nitra
C53: Objekt:
E54: 200 - SO 200 Zabezpečenie bezbariérového prístupu pre deti MŠ
C55: Časť:
E56: =E11 -> 201 - SP 201 Výmena výťahu
C58: Miesto: | F58: =F14 -> Na Hôrke 30, Nitra | I58: Dátum: | J58: =IF(J14="","",J14) -> 24. 2. 2017
C60: Objednávateľ: | F60: =E17 -> Mesto NITRA, Štefánikova 60, 950 06 Nitra | I60: Projektant: | J60: =E23 -> Ing.arch.Igor Feník
C61: Zhotoviteľ: | F61: =IF(E20="","",E20) -> Vyplň údaj | I61: Spracovateľ: | J61: =E26 -> Ing.Janečka
...

Sheet 202 - SP 202  Stavebné úp...
AT2: {e9b44569-1bc2-4d8b-a8e0-17d4f23fc3f9}
AT3: 0
D4: KRYCÍ LIST ROZPOČTU | M4: v --- nižšie sa nachádzajú doplnkové a pomocné údaje k zostavám --- v | AT4: False
D6: Stavba:
E7: ='Rekapitulácia stavby'!K6 -> Materská škola Na Hôrke 30, Nitra
D8: Objekt:
E9: 200 - SO 200 Zabezpečenie bezbariérového prístupu pre deti MŠ
D10: Časť:
E11: 202 - SP 202 Stavebné úpravy v bezbariérovom koridore
D13: JKSO: | I13: KS:
D14: Miesto: | F14: Na Hôrke 30, Nitra | I14: Dátum: | J14: ='Rekapitulácia stavby'!AN8 -> 24. 2. 2017
D16: Objednávateľ: | I16: IČO:
E17: Mesto NITRA, Štefánikova 60, 950 06 Nitra | I17: IČ DPH:
D19: Zhotoviteľ: | I19: IČO: | J19: ='Rekapitulácia stavby'!AN13 -> Vyplň údaj
E20: ='Rekapitulácia stavby'!E14 -> Vyplň údaj | I20: IČ DPH: | J20: ='Rekapitulácia stavby'!AN14 -> Vyplň údaj
D22: Projektant: | I22: IČO:
E23: Ing.arch.Igor Feník | I23: IČ DPH:
D25: Spracovateľ: | I25: IČO:
E26: Ing.Janečka | I26: IČ DPH:
D28: Poznámka:
D32: Náklady z rozpočtu | J32: =J65 -> 0
D33: Ostatné náklady | J33: =J77 -> 0
D34: Cena bez DPH | J34: =ROUND(J32 + J33, 2) -> 0
F36: Základ dane | I36: Sadzba dane | J36: Výška dane
D37: DPH | E37: základná | F37: =ROUND((SUM(BE77:BE84) + SUM(BE106:BE142)), 2) -> 0 | I37: 0.2 | J37: =ROUND(((SUM(BE77:BE84) + SUM(BE106:BE142))*I37), 2) -> 0
E38: znížená | F38: =ROUND((SUM(BF77:BF84) + SUM(BF106:BF142)), 2) -> 0 | I38: 0.2 | J38: =ROUND(((SUM(BF77:BF84) + SUM(BF106:BF142))*I38), 2) -> 0
E39: zákl. prenesená | F39: =ROUND((SUM(BG77:BG84) + SUM(BG106:BG142)), 2) -> 0 | I39: 0.2 | J39: =0 -> 0
E40: zníž. prenesená | F40: =ROUND((SUM(BH77:BH84) + SUM(BH106:BH142)), 2) -> 0 | I40: 0.2 | J40: =0 -> 0
E41: nulová | F41: =ROUND((SUM(BI77:BI84) + SUM(BI106:BI142)), 2) -> 0 | I41: 0 | J41: =0 -> 0
D43: Cena s DPH | G43: v | H43: EUR | J43: =SUM(J34:J41) -> 0
C49: REKAPITULÁCIA ROZPOČTU
C51: Stavba:
E52: =E7 -> Materská škola Na Hôrke 30, Nitra
C53: Objekt:
E54: 200 - SO 200 Zabezpečenie bezbariérového prístupu pre deti MŠ
C55: Časť:
E56: =E11 -> 202 - SP 202 Stavebné úpravy v bezbariérovom koridore
C58: Miesto: | F58: =F14 -> Na Hôrke 30, Nitra | I58: Dátum: | J58: =IF(J14="","",J14) -> 24. 2. 2017
C60: Objednávateľ: | F60: =E17 -> Mesto NITRA, Štefánikova 60, 950 06 Nitra | I60: Projektant: | J60: =E23 -> Ing.arch.Igor Feník
C61: Zhotoviteľ: | F61: =IF(E20="","",E20) -> Vyplň údaj | I61: Spracovateľ: | J61: =E26 -> Ing.Janečka
...

Sheet 203 - SP 203  Výmena výpl...
AT2: {32ec6472-fa6b-4d76-8dca-9b919f083e39}
AT3: 0
D4: KRYCÍ LIST ROZPOČTU | M4: v --- nižšie sa nachádzajú doplnkové a pomocné údaje k zostavám --- v | AT4: False
D6: Stavba:
E7: ='Rekapitulácia stavby'!K6 -> Materská škola Na Hôrke 30, Nitra
D8: Objekt:
E9: 200 - SO 200 Zabezpečenie bezbariérového prístupu pre deti MŠ
D10: Časť:
E11: 203 - SP 203 Výmena výplní ovorov
D13: JKSO: | I13: KS:
D14: Miesto: | F14: Na Hôrke 30, Nitra | I14: Dátum: | J14: ='Rekapitulácia stavby'!AN8 -> 24. 2. 2017
D16: Objednávateľ: | I16: IČO:
E17: Mesto NITRA, Štefánikova 60, 950 06 Nitra | I17: IČ DPH:
D19: Zhotoviteľ: | I19: IČO: | J19: ='Rekapitulácia stavby'!AN13 -> Vyplň údaj
E20: ='Rekapitulácia stavby'!E14 -> Vyplň údaj | I20: IČ DPH: | J20: ='Rekapitulácia stavby'!AN14 -> Vyplň údaj
D22: Projektant: | I22: IČO:
E23: Ing.arch.Igor Feník | I23: IČ DPH:
D25: Spracovateľ: | I25: IČO:
E26: Ing.Janečka | I26: IČ DPH:
D28: Poznámka:
D32: Náklady z rozpočtu | J32: =J65 -> 0
D33: Ostatné náklady | J33: =J76 -> 0
D34: Cena bez DPH | J34: =ROUND(J32 + J33, 2) -> 0
F36: Základ dane | I36: Sadzba dane | J36: Výška dane
D37: DPH | E37: základná | F37: =ROUND((SUM(BE76:BE83) + SUM(BE105:BE123)), 2) -> 0 | I37: 0.2 | J37: =ROUND(((SUM(BE76:BE83) + SUM(BE105:BE123))*I37), 2) -> 0
E38: znížená | F38: =ROUND((SUM(BF76:BF83) + SUM(BF105:BF123)), 2) -> 0 | I38: 0.2 | J38: =ROUND(((SUM(BF76:BF83) + SUM(BF105:BF123))*I38), 2) -> 0
E39: zákl. prenesená | F39: =ROUND((SUM(BG76:BG83) + SUM(BG105:BG123)), 2) -> 0 | I39: 0.2 | J39: =0 -> 0
E40: zníž. prenesená | F40: =ROUND((SUM(BH76:BH83) + SUM(BH105:BH123)), 2) -> 0 | I40: 0.2 | J40: =0 -> 0
E41: nulová | F41: =ROUND((SUM(BI76:BI83) + SUM(BI105:BI123)), 2) -> 0 | I41: 0 | J41: =0 -> 0
D43: Cena s DPH | G43: v | H43: EUR | J43: =SUM(J34:J41) -> 0
C49: REKAPITULÁCIA ROZPOČTU
C51: Stavba:
E52: =E7 -> Materská škola Na Hôrke 30, Nitra
C53: Objekt:
E54: 200 - SO 200 Zabezpečenie bezbariérového prístupu pre deti MŠ
C55: Časť:
E56: =E11 -> 203 - SP 203 Výmena výplní ovorov
C58: Miesto: | F58: =F14 -> Na Hôrke 30, Nitra | I58: Dátum: | J58: =IF(J14="","",J14) -> 24. 2. 2017
C60: Objednávateľ: | F60: =E17 -> Mesto NITRA, Štefánikova 60, 950 06 Nitra | I60: Projektant: | J60: =E23 -> Ing.arch.Igor Feník
C61: Zhotoviteľ: | F61: =IF(E20="","",E20) -> Vyplň údaj | I61: Spracovateľ: | J61: =E26 -> Ing.Janečka
...

Sheet 301 - SP 301 Vybúranie - ...
AT2: {493dbdee-a041-4ed9-9535-3322ee6d56e8}
AT3: 0
D4: KRYCÍ LIST ROZPOČTU | M4: v --- nižšie sa nachádzajú doplnkové a pomocné údaje k zostavám --- v | AT4: False
D6: Stavba:
E7: ='Rekapitulácia stavby'!K6 -> Materská škola Na Hôrke 30, Nitra
D8: Objekt:
E9: 300 - SO 300 Budovanie prevencie v bezpečnosti detí v dopravnej prevádzke
D10: Časť:
E11: 301 - SP 301 Vybúranie - odfrézovanie starých spevnených plôch
D13: JKSO: | I13: KS:
D14: Miesto: | I14: Dátum: | J14: ='Rekapitulácia stavby'!AN8 -> 24. 2. 2017
D16: Objednávateľ: | I16: IČO:
E17: Mesto NITRA, Štefánikova 60, 950 06 Nitra | I17: IČ DPH:
D19: Zhotoviteľ: | I19: IČO: | J19: ='Rekapitulácia stavby'!AN13 -> Vyplň údaj
E20: ='Rekapitulácia stavby'!E14 -> Vyplň údaj | I20: IČ DPH: | J20: ='Rekapitulácia stavby'!AN14 -> Vyplň údaj
D22: Projektant: | I22: IČO:
E23: Ing.arch.Igor Feník | I23: IČ DPH:
D25: Spracovateľ: | I25: IČO:
E26: Ing.Janečka | I26: IČ DPH:
D28: Poznámka:
D32: Náklady z rozpočtu | J32: =J65 -> 0
D33: Ostatné náklady | J33: =J71 -> 0
D34: Cena bez DPH | J34: =ROUND(J32 + J33, 2) -> 0
F36: Základ dane | I36: Sadzba dane | J36: Výška dane
D37: DPH | E37: základná | F37: =ROUND((SUM(BE71:BE78) + SUM(BE100:BE118)), 2) -> 0 | I37: 0.2 | J37: =ROUND(((SUM(BE71:BE78) + SUM(BE100:BE118))*I37), 2) -> 0
E38: znížená | F38: =ROUND((SUM(BF71:BF78) + SUM(BF100:BF118)), 2) -> 0 | I38: 0.2 | J38: =ROUND(((SUM(BF71:BF78) + SUM(BF100:BF118))*I38), 2) -> 0
E39: zákl. prenesená | F39: =ROUND((SUM(BG71:BG78) + SUM(BG100:BG118)), 2) -> 0 | I39: 0.2 | J39: =0 -> 0
E40: zníž. prenesená | F40: =ROUND((SUM(BH71:BH78) + SUM(BH100:BH118)), 2) -> 0 | I40: 0.2 | J40: =0 -> 0
E41: nulová | F41: =ROUND((SUM(BI71:BI78) + SUM(BI100:BI118)), 2) -> 0 | I41: 0 | J41: =0 -> 0
D43: Cena s DPH | G43: v | H43: EUR | J43: =SUM(J34:J41) -> 0
C49: REKAPITULÁCIA ROZPOČTU
C51: Stavba:
E52: =E7 -> Materská škola Na Hôrke 30, Nitra
C53: Objekt:
E54: 300 - SO 300 Budovanie prevencie v bezpečnosti detí v dopravnej prevádzke
C55: Časť:
E56: =E11 -> 301 - SP 301 Vybúranie - odfrézovanie starých spevnených plôch
C58: Miesto: | F58: =F14 | I58: Dátum: | J58: =IF(J14="","",J14) -> 24. 2. 2017
C60: Objednávateľ: | F60: =E17 -> Mesto NITRA, Štefánikova 60, 950 06 Nitra | I60: Projektant: | J60: =E23 -> Ing.arch.Igor Feník
C61: Zhotoviteľ: | F61: =IF(E20="","",E20) -> Vyplň údaj | I61: Spracovateľ: | J61: =E26 -> Ing.Janečka
...

Sheet 302 - SP 302 - Nové spevn...
AT2: {fe058d7a-0e01-455c-ad5b-873fba906450}
AT3: 0
D4: KRYCÍ LIST ROZPOČTU | M4: v --- nižšie sa nachádzajú doplnkové a pomocné údaje k zostavám --- v | AT4: False
D6: Stavba:
E7: ='Rekapitulácia stavby'!K6 -> Materská škola Na Hôrke 30, Nitra
D8: Objekt:
E9: 300 - SO 300 Budovanie prevencie v bezpečnosti detí v dopravnej prevádzke
D10: Časť:
E11: 302 - SP 302 - Nové spevnené asfaltové plochy
D13: JKSO: | I13: KS:
D14: Miesto: | I14: Dátum: | J14: ='Rekapitulácia stavby'!AN8 -> 24. 2. 2017
D16: Objednávateľ: | I16: IČO:
E17: Mesto NITRA, Štefánikova 60, 950 06 Nitra | I17: IČ DPH:
D19: Zhotoviteľ: | I19: IČO: | J19: ='Rekapitulácia stavby'!AN13 -> Vyplň údaj
E20: ='Rekapitulácia stavby'!E14 -> Vyplň údaj | I20: IČ DPH: | J20: ='Rekapitulácia stavby'!AN14 -> Vyplň údaj
D22: Projektant: | I22: IČO:
E23: Ing.arch.Igor Feník | I23: IČ DPH:
D25: Spracovateľ: | I25: IČO:
E26: Ing.Janečka | I26: IČ DPH:
D28: Poznámka:
D32: Náklady z rozpočtu | J32: =J65 -> 0
D33: Ostatné náklady | J33: =J72 -> 0
D34: Cena bez DPH | J34: =ROUND(J32 + J33, 2) -> 0
F36: Základ dane | I36: Sadzba dane | J36: Výška dane
D37: DPH | E37: základná | F37: =ROUND((SUM(BE72:BE79) + SUM(BE101:BE112)), 2) -> 0 | I37: 0.2 | J37: =ROUND(((SUM(BE72:BE79) + SUM(BE101:BE112))*I37), 2) -> 0
E38: znížená | F38: =ROUND((SUM(BF72:BF79) + SUM(BF101:BF112)), 2) -> 0 | I38: 0.2 | J38: =ROUND(((SUM(BF72:BF79) + SUM(BF101:BF112))*I38), 2) -> 0
E39: zákl. prenesená | F39: =ROUND((SUM(BG72:BG79) + SUM(BG101:BG112)), 2) -> 0 | I39: 0.2 | J39: =0 -> 0
E40: zníž. prenesená | F40: =ROUND((SUM(BH72:BH79) + SUM(BH101:BH112)), 2) -> 0 | I40: 0.2 | J40: =0 -> 0
E41: nulová | F41: =ROUND((SUM(BI72:BI79) + SUM(BI101:BI112)), 2) -> 0 | I41: 0 | J41: =0 -> 0
D43: Cena s DPH | G43: v | H43: EUR | J43: =SUM(J34:J41) -> 0
C49: REKAPITULÁCIA ROZPOČTU
C51: Stavba:
E52: =E7 -> Materská škola Na Hôrke 30, Nitra
C53: Objekt:
E54: 300 - SO 300 Budovanie prevencie v bezpečnosti detí v dopravnej prevádzke
C55: Časť:
E56: =E11 -> 302 - SP 302 - Nové spevnené asfaltové plochy
C58: Miesto: | F58: =F14 | I58: Dátum: | J58: =IF(J14="","",J14) -> 24. 2. 2017
C60: Objednávateľ: | F60: =E17 -> Mesto NITRA, Štefánikova 60, 950 06 Nitra | I60: Projektant: | J60: =E23 -> Ing.arch.Igor Feník
C61: Zhotoviteľ: | F61: =IF(E20="","",E20) -> Vyplň údaj | I61: Spracovateľ: | J61: =E26 -> Ing.Janečka
...
