Workbook

Sheet Rekapitulácia stavby
A1: Export Komplet | BA1: 2.0 | BT1: False | BU1: False | BV1: {976df1b3-3533-4fde-a3e1-e826d6634ccd}
AR2: >> skryté stĺpce << | BS2: 0,01 | BT2: 20
BS3: 0,01 | BT3: 20
D4: REKAPITULÁCIA STAVBY | AS4: v --- nižšie sa nachádzajú doplnkové a pomocné údaje k zostavám --- v | BE4: Návod na vyplnenie | BS4: 0,001
D5: Kód: | BE5: Meniť je možné iba bunky so žltým podfarbením!_x000D_ _x000D_ 1) na prvom liste Rekapitulácie stavby vyplňte v zostave_x000D_ _x000D_ a) Rekapitulácia stavby_x000D_ - údaje o Zhotoviteľovi_x000D_ (prenesú sa do ostatných zostáv aj v iných listoch)_x000D_ _x000D_ b) Rekapitulácia objektov stavby_x000D_ - potrebné Ostatné náklady_x000D_ _x000D_ 2) na vybraných listoch vyplňte v zostave_x000D_ _x000D_ a) Krycí list_x000D_ - údaje o Zhotoviteľovi, pokiaľ sa líšia od údajov o Zhotoviteľovi na Rekapitulácii stavby_x000D_ (údaje se prenesú do ostatných zostav v danom liste)_x000D_ _x000D_ b) Rekapitulácia rozpočtu_x000D_ - potrebné Ostatné náklady_x000D_ _x000D_ c) Celkové náklady za stavbu_x000D_ - ceny na položkách_x000D_ - množstvo, pokiaľ má žlté podfarbenie_x000D_ - a v prípade potreby poznámku (tá je v skrytom stĺpci) | BS5: 0,01
D6: Stavba: | K6: OPRAVA MOSTA DO KOMPOSTÁRNE MOST číslo NR VII-014 | BS6: 0,01
D7: JKSO: | AK7: KS: | BS7: 0,01
D8: Miesto: | K8: Krškany Nitra | AK8: Dátum: | BS8: 0,01
BS9: 0,01
D10: Objednávateľ: | AK10: IČO: | BS10: 0,01
E11: Mesto Nitra | AK11: IČ DPH: | BS11: 0,01
BS12: 0,01
D13: Zhotoviteľ: | AK13: IČO: | AN13: Vyplň údaj | BS13: 0,01
E14: Vyplň údaj | AK14: IČ DPH: | AN14: Vyplň údaj | BS14: 0,01
BS15: False
D16: Projektant: | AK16: IČO: | BS16: False
AK17: IČ DPH: | BS17: True
BS18: 0,01
D19: Spracovateľ: | AK19: IČO: | BS19: 0,01
AK20: IČ DPH: | BS20: True
D22: Poznámka:
D26: Cena bez DPH | AK26: =ROUND(AG94,2) -> 0
L28: Sadzba dane | W28: Základ dane | AK28: Výška dane
D29: DPH | F29: základná | L29: 0.2 | W29: =ROUND(AZ94, 2) -> 0 | AK29: =ROUND(AV94, 2) -> 0
F30: znížená | L30: 0.2 | W30: =ROUND(BA94, 2) -> 0 | AK30: =ROUND(AW94, 2) -> 0
F31: zákl. prenesená | L31: 0.2 | W31: =ROUND(BB94, 2) -> 0 | AK31: 0
F32: zníž. prenesená | L32: 0.2 | W32: =ROUND(BC94, 2) -> 0 | AK32: 0
F33: nulová | L33: 0 | W33: =ROUND(BD94, 2) -> 0 | AK33: 0
D35: Cena s DPH | T35: v | X35: EUR | AK35: =SUM(AK26:AK33) -> 0
D49: Projektant | AH49: Spracovateľ
D60: Dátum a podpis: | V60: Pečiatka | AH60: Dátum a podpis: | AM60: Pečiatka
D64: Objednávateľ | AH64: Zhotoviteľ
D75: Dátum a podpis: | V75: Pečiatka | AH75: Dátum a podpis: | AM75: Pečiatka
C82: REKAPITULÁCIA OBJEKTOV STAVBY
C84: Kód: | L84: =K5 -> 0
C85: Stavba: | L85: =K6 -> OPRAVA MOSTA DO KOMPOSTÁRNE MOST číslo NR VII-014
C87: Miesto: | L87: =IF(K8="","",K8) -> Krškany Nitra | AI87: Dátum: | AM87: =IF(AN8= "","",AN8)
C89: Objednávateľ: | L89: =IF(E11= "","",E11) -> Mesto Nitra | AI89: Projektant: | AM89: =IF(E17="","",E17) | AS89: Informatívne údaje z listov zákaziek
C90: Zhotoviteľ: | L90: =IF(E14= "Vyplň údaj","",E14) | AI90: Spracovateľ: | AM90: =IF(E20="","",E20)
C92: Kód | I92: Popis | AG92: Cena bez DPH [EUR] | AN92: Cena s DPH [EUR] | AQ92: Typ | AS92: z toho Ostat._x000D_ náklady [EUR] | AT92: DPH [EUR] | AU92: Normohodiny [h] | AV92: DPH základná [EUR] | AW92: DPH znížená [EUR] | AX92: DPH základná prenesená_x000D_ [EUR] | AY92: DPH znížená prenesená_x000D_ [EUR] | AZ92: Základňa_x000D_ DPH základná | BA92: Základňa_x000D_ DPH znížená | BB92: Základňa_x000D_ DPH zákl. prenesená | BC92: Základňa_x000D_ DPH zníž. prenesená | BD92: Základňa_x000D_ DPH nulová
C94: Náklady z rozpočtov | AG94: =ROUND(SUM(AG95:AG96),2) -> 0 | AN94: =SUM(AG94,AT94) -> 0 | AS94: =ROUND(SUM(AS95:AS96),2) -> 0 | AT94: =ROUND(SUM(AV94:AW94),2) -> 0 | AU94: =ROUND(SUM(AU95:AU96),5) -> 0 | AV94: =ROUND(AZ94*L29,2) -> 0 | AW94: =ROUND(BA94*L30,2) -> 0 | AX94: =ROUND(BB94*L29,2) -> 0 | AY94: =ROUND(BC94*L30,2) -> 0 | AZ94: =ROUND(SUM(AZ95:AZ96),2) -> 0 | BA94: =ROUND(SUM(BA95:BA96),2) -> 0 | BB94: =ROUND(SUM(BB95:BB96),2) -> 0 | BC94: =ROUND(SUM(BC95:BC96),2) -> 0 | BD94: =ROUND(SUM(BD95:BD96),2) -> 0 | BS94: D | BT94: 0 | BU94: ###NOIMPORT### | BV94: IMPORT | BW94: {976df1b3-3533-4fde-a3e1-e826d6634ccd} | BX94: {00000000-0000-0000-0000-000000000000}
A95: / | D95: SO01.1 | J95: SO01.1 Búracie práce - stavebná časť | AG95: ='SO01.1 - SO01.1 Búracie p...'!J30 -> 0 | AN95: =SUM(AG95,AT95) -> 0 | AQ95: STA | AS95: 0 | AT95: =ROUND(SUM(AV95:AW95),2) -> 0 | AU95: ='SO01.1 - SO01.1 Búracie p...'!P120 -> 0 | AV95: ='SO01.1 - SO01.1 Búracie p...'!J33 -> 0 | AW95: ='SO01.1 - SO01.1 Búracie p...'!J34 -> 0 | AX95: ='SO01.1 - SO01.1 Búracie p...'!J35 -> 0 | AY95: ='SO01.1 - SO01.1 Búracie p...'!J36 -> 0 | AZ95: ='SO01.1 - SO01.1 Búracie p...'!F33 -> 0 | BA95: ='SO01.1 - SO01.1 Búracie p...'!F34 -> 0 | BB95: ='SO01.1 - SO01.1 Búracie p...'!F35 -> 0 | BC95: ='SO01.1 - SO01.1 Búracie p...'!F36 -> 0 | BD95: ='SO01.1 - SO01.1 Búracie p...'!F37 -> 0 | BT95: 1 | BV95: IMPORT | BW95: {9a2a0a66-ebfa-4dc1-bd86-81f7f19171ba} | BX95: {976df1b3-3533-4fde-a3e1-e826d6634ccd} | CM95: 0
A96: / | D96: SO01.2 | J96: SO01.2 Nové konštrukcie most číslo NR VII-014 Dolné Krškany - stavebná časť | AG96: ='SO01.2 - SO01.2 Nové konš...'!J30 -> 0 | AN96: =SUM(AG96,AT96) -> 0 | AQ96: STA | AS96: 0 | AT96: =ROUND(SUM(AV96:AW96),2) -> 0 | AU96: ='SO01.2 - SO01.2 Nové konš...'!P118 -> 0 | AV96: ='SO01.2 - SO01.2 Nové konš...'!J33 -> 0 | AW96: ='SO01.2 - SO01.2 Nové konš...'!J34 -> 0 | AX96: ='SO01.2 - SO01.2 Nové konš...'!J35 -> 0 | AY96: ='SO01.2 - SO01.2 Nové konš...'!J36 -> 0 | AZ96: ='SO01.2 - SO01.2 Nové konš...'!F33 -> 0 | BA96: ='SO01.2 - SO01.2 Nové konš...'!F34 -> 0 | BB96: ='SO01.2 - SO01.2 Nové konš...'!F35 -> 0 | BC96: ='SO01.2 - SO01.2 Nové konš...'!F36 -> 0 | BD96: ='SO01.2 - SO01.2 Nové konš...'!F37 -> 0 | BT96: 1 | BV96: IMPORT | BW96: {47e2e0ba-f117-4a5f-89d2-aeef62b91ca0} | BX96: {976df1b3-3533-4fde-a3e1-e826d6634ccd} | CM96: 0

Sheet SO01.1 - SO01.1 Búracie p...
L2: >> skryté stĺpce << | AT2: {9a2a0a66-ebfa-4dc1-bd86-81f7f19171ba}
AT3: 0
D4: KRYCÍ LIST ROZPOČTU | M4: v --- nižšie sa nachádzajú doplnkové a pomocné údaje k zostavám --- v | AT4: False
D6: Stavba:
E7: ='Rekapitulácia stavby'!K6 -> OPRAVA MOSTA DO KOMPOSTÁRNE MOST číslo NR VII-014
D8: Objekt:
E9: SO01.1 - SO01.1 Búracie práce - stavebná časť
D11: JKSO: | I11: KS:
D12: Miesto: | F12: Krškany Nitra | I12: Dátum:
D14: Objednávateľ: | I14: IČO:
E15: Mesto Nitra | I15: IČ DPH:
D17: Zhotoviteľ: | I17: IČO: | J17: ='Rekapitulácia stavby'!AN13 -> Vyplň údaj
E18: ='Rekapitulácia stavby'!E14 -> Vyplň údaj | I18: IČ DPH: | J18: ='Rekapitulácia stavby'!AN14 -> Vyplň údaj
D20: Projektant: | I20: IČO:
I21: IČ DPH:
D23: Spracovateľ: | I23: IČO:
I24: IČ DPH:
D26: Poznámka:
D30: Cena bez DPH | J30: =ROUND(J120, 2) -> 0
F32: Základ dane | I32: Sadzba dane | J32: Výška dane
D33: DPH | E33: základná | F33: =ROUND((SUM(BE120:BE155)), 2) -> 0 | I33: 0.2 | J33: =ROUND(((SUM(BE120:BE155))*I33), 2) -> 0
E34: znížená | F34: =ROUND((SUM(BF120:BF155)), 2) -> 0 | I34: 0.2 | J34: =ROUND(((SUM(BF120:BF155))*I34), 2) -> 0
E35: zákl. prenesená | F35: =ROUND((SUM(BG120:BG155)), 2) -> 0 | I35: 0.2 | J35: =0 -> 0
E36: zníž. prenesená | F36: =ROUND((SUM(BH120:BH155)), 2) -> 0 | I36: 0.2 | J36: =0 -> 0
E37: nulová | F37: =ROUND((SUM(BI120:BI155)), 2) -> 0 | I37: 0 | J37: =0 -> 0
D39: Cena s DPH | G39: v | H39: EUR | J39: =SUM(J30:J37) -> 0
D50: Projektant | G50: Spracovateľ
D61: Dátum a podpis: | F61: Pečiatka | G61: Dátum a podpis: | J61: Pečiatka
D65: Objednávateľ | G65: Zhotoviteľ
D76: Dátum a podpis: | F76: Pečiatka | G76: Dátum a podpis: | J76: Pečiatka
C82: REKAPITULÁCIA ROZPOČTU
C84: Stavba:
E85: =E7 -> OPRAVA MOSTA DO KOMPOSTÁRNE MOST číslo NR VII-014
C86: Objekt:
E87: =E9 -> SO01.1 - SO01.1 Búracie práce - stavebná časť
C89: Miesto: | F89: =F12 -> Krškany Nitra | I89: Dátum: | J89: =IF(J12="","",J12)
C91: Objednávateľ: | F91: =E15 -> Mesto Nitra | I91: Projektant: | J91: =E21 -> 0
C92: Zhotoviteľ: | F92: =IF(E18="","",E18) -> Vyplň údaj | I92: Spracovateľ: | J92: =E24 -> 0
C94: Kód dielu - Popis | J94: Cena celkom [EUR]
C96: Náklady z rozpočtu | J96: =J120 -> 0 | AU96: -1
D97: HSV - Práce a dodávky HSV | J97: =J121 -> 0
D98: 4 - Vodorovné konštrukcie | J98: =J122 -> 0
D99: 5 - Komunikácie | J99: =J139 -> 0
D100: 9 - Ostatné konštrukcie a práce-búranie | J100: =J150 -> 0
C107: ROZPOČET
C109: Stavba:
E110: =E7 -> OPRAVA MOSTA DO KOMPOSTÁRNE MOST číslo NR VII-014
C111: Objekt:
E112: =E9 -> SO01.1 - SO01.1 Búracie práce - stavebná časť
C114: Miesto: | F114: =F12 -> Krškany Nitra | I114: Dátum: | J114: =IF(J12="","",J12)
C116: Objednávateľ: | F116: =E15 -> Mesto Nitra | I116: Projektant: | J116: =E21 -> 0
C117: Zhotoviteľ: | F117: =IF(E18="","",E18) -> Vyplň údaj | I117: Spracovateľ: | J117: =E24 -> 0
C119: PČ | D119: Typ | E119: Kód | F119: Popis | G119: MJ | H119: Množstvo | I119: J.cena [EUR] | J119: Cena celkom [EUR] | K119: Cenová sústava | N119: DPH | O119: J. Nh [h] | P119: Nh celkom [h] | Q119: J. hmotnosť [t] | R119: Hmotnosť celkom [t] | S119: J. suť [t] | T119: Suť Celkom [t]
C120: Náklady z rozpočtu | J120: =BK120 -> 0 | P120: =P121 -> 0 | R120: =R121 -> 0.190779 | T120: =T121 -> 4.12887 | AT120: D | AU120: -1 | BK120: =BK121 -> 0
D121: D | E121: HSV | F121: Práce a dodávky HSV | J121: =BK121 -> 0 | P121: =P122+P139+P150 -> 0 | R121: =R122+R139+R150 -> 0.190779 | T121: =T122+T139+T150 -> 4.12887 | AR121: 1 | AT121: D | AU121: 0 | AY121: ROZPOCET | BK121: =BK122+BK139+BK150 -> 0
D122: D | E122: 4 | F122: Vodorovné konštrukcie | J122: =BK122 -> 0 | P122: =SUM(P123:P138) -> 0 | R122: =SUM(R123:R138) -> 0.025419 | T122: =SUM(T123:T138) -> 4.12887 | AR122: 1 | AT122: D | AU122: 1 | AY122: ROZPOCET | BK122: =SUM(BK123:BK138) -> 0
C123: 1 | D123: K | E123: 421941151.S | F123: Demontáž plechových podláh s odsunom materiálu mimo objektu mosta, -0,06010t | G123: m2 | H123: 68.7 | J123: =ROUND(I123*H123,2) -> 0 | N123: znížená | P123: =O123*H123 -> 0 | Q123: 0.00037 | R123: =Q123*H123 -> 0.025419 | S123: 0.0601 | T123: =S123*H123 -> 4.12887 | AR123: 4 | AT123: K | AU123: 2 | AY123: ROZPOCET | BE123: =IF(N123="základná",J123,0) -> 0 | BF123: =IF(N123="znížená",J123,0) -> 0 | BG123: =IF(N123="zákl. prenesená",J123,0) -> 0 | BH123: =IF(N123="zníž. prenesená",J123,0) -> 0 | BI123: =IF(N123="nulová",J123,0) -> 0 | BJ123: 2 | BK123: =ROUND(I123*H123,2) -> 0 | BL123: 4 | BM123: -1678365778
D124: VV | F124: " 1 pas / na moste sú 2 pojazdné pasy vid výkres S01 05/2022 Ing.Drobena | AT124: VV | AU124: 2 | AV124: 1 | AW124: True | AX124: 0 | AY124: ROZPOCET
D125: VV | F125: " 15ks rebrovaný plech hr.6mm 1 ks rozmer 0,75x3,0x 51,10kg = 114,98kg/ks | AT125: VV | AU125: 2 | AV125: 1 | AW125: True | AX125: 0 | AY125: ROZPOCET
D126: VV | F126: " 15ks x114,98kg = 1724,70kg | AT126: VV | AU126: 2 | AV126: 1 | AW126: True | AX126: 0 | AY126: ROZPOCET
D127: VV | F127: " 2ks rebrovaný plech hr.6mm 1 ks rozmer 0,75x0,4x51,1kg/m2 = 15,33kg/ks | AT127: VV | AU127: 2 | AV127: 1 | AW127: True | AX127: 0 | AY127: ROZPOCET
D128: VV | F128: " 2ks x 15,33kg = 30,66kg | AT128: VV | AU128: 2 | AV128: 1 | AW128: True | AX128: 0 | AY128: ROZPOCET
D129: VV | F129: 0,75*3*15 | H129: 33.75 | AT129: VV | AU129: 2 | AV129: 2 | AW129: True | AX129: 0 | AY129: ROZPOCET
D130: VV | F130: 0,75*0,4*2 | H130: 0.6 | AT130: VV | AU130: 2 | AV130: 2 | AW130: True | AX130: 0 | AY130: ROZPOCET
D131: VV | F131: Medzisúčet 1 pas | H131: 34.35 | AT131: VV | AU131: 2 | AV131: 3 | AW131: True | AX131: 0 | AY131: ROZPOCET
D132: VV | F132: 0,75*3*15 | H132: 33.75 | AT132: VV | AU132: 2 | AV132: 2 | AW132: True | AX132: 0 | AY132: ROZPOCET
D133: VV | F133: 0,75*0,4*2 | H133: 0.6 | AT133: VV | AU133: 2 | AV133: 2 | AW133: True | AX133: 0 | AY133: ROZPOCET
D134: VV | F134: Medzisúčet 2 pas | H134: 34.35 | AT134: VV | AU134: 2 | AV134: 3 | AW134: True | AX134: 0 | AY134: ROZPOCET
D135: VV | F135: Súčet V.č. S01 , S02 pôv. PD | H135: 68.7 | AT135: VV | AU135: 2 | AV135: 4 | AW135: True | AX135: 1 | AY135: ROZPOCET
C136: 2 | D136: K | E136: HZS01 | F136: HZS - demontaž pod mostovkou , vytiahnutiema spojovacej časti a matice | G136: hod | H136: 312 | J136: =ROUND(I136*H136,2) -> 0 | N136: znížená | P136: =O136*H136 -> 0 | Q136: 0 | R136: =Q136*H136 -> 0 | S136: 0 | T136: =S136*H136 -> 0 | AR136: 512 | AT136: K | AU136: 2 | AY136: ROZPOCET | BE136: =IF(N136="základná",J136,0) -> 0 | BF136: =IF(N136="znížená",J136,0) -> 0 | BG136: =IF(N136="zákl. prenesená",J136,0) -> 0 | BH136: =IF(N136="zníž. prenesená",J136,0) -> 0 | BI136: =IF(N136="nulová",J136,0) -> 0 | BJ136: 2 | BK136: =ROUND(I136*H136,2) -> 0 | BL136: 512 | BM136: -446490168
D137: VV | F137: 1*312 | H137: 312 | AT137: VV | AU137: 2 | AV137: 2 | AW137: True | AX137: 0 | AY137: ROZPOCET
D138: VV | F138: Súčet | H138: 312 | AT138: VV | AU138: 2 | AV138: 4 | AW138: True | AX138: 1 | AY138: ROZPOCET
D139: D | E139: 5 | F139: Komunikácie | J139: =BK139 -> 0 | P139: =SUM(P140:P149) -> 0 | R139: =SUM(R140:R149) -> 0.16536 | T139: =SUM(T140:T149) -> 0 | AR139: 1 | AT139: D | AU139: 1 | AY139: ROZPOCET | BK139: =SUM(BK140:BK149) -> 0
C140: 3 | D140: K | E140: 54893001R1 | F140: Rezanie plameňom - skrutiek a matíc horná časť | G140: ks | H140: 312 | J140: =ROUND(I140*H140,2) -> 0 | N140: znížená | P140: =O140*H140 -> 0 | Q140: 0.00053 | R140: =Q140*H140 -> 0.16536 | S140: 0 | T140: =S140*H140 -> 0 | AR140: 4 | AT140: K | AU140: 2 | AY140: ROZPOCET | BE140: =IF(N140="základná",J140,0) -> 0 | BF140: =IF(N140="znížená",J140,0) -> 0 | BG140: =IF(N140="zákl. prenesená",J140,0) -> 0 | BH140: =IF(N140="zníž. prenesená",J140,0) -> 0 | BI140: =IF(N140="nulová",J140,0) -> 0 | BJ140: 2 | BK140: =ROUND(I140*H140,2) -> 0 | BL140: 4 | BM140: 2053218086
D141: VV | F141: " Pojazdná plocha skrutky 1 pas: | AT141: VV | AU141: 2 | AV141: 1 | AW141: True | AX141: 0 | AY141: ROZPOCET
D142: VV | F142: " 14ks pojazdných plechov je prichytených: | AT142: VV | AU142: 2 | AV142: 1 | AW142: True | AX142: 0 | AY142: ROZPOCET
D143: VV | F143: " 10 skrutkami priemer 12mm zo zapustenou hlavou, ukončené maticou pod mostovkou | AT143: VV | AU143: 2 | AV143: 1 | AW143: True | AX143: 0 | AY143: ROZPOCET
D144: VV | F144: " 1ks je prichytený 12 skrutkami , ukončené maticou pod mostovkou | AT144: VV | AU144: 2 | AV144: 1 | AW144: True | AX144: 0 | AY144: ROZPOCET
D145: VV | F145: " 2ks menších plechov : | AT145: VV | AU145: 2 | AV145: 1 | AW145: True | AX145: 0 | AY145: ROZPOCET
D146: VV | F146: " 2ks skrutiek, ukončené maticou pod mostovkou | AT146: VV | AU146: 2 | AV146: 1 | AW146: True | AX146: 0 | AY146: ROZPOCET
D147: VV | F147: " 1 pás má 156ks skrutiek. | AT147: VV | AU147: 2 | AV147: 1 | AW147: True | AX147: 0 | AY147: ROZPOCET
D148: VV | F148: 312 | H148: 312 | AT148: VV | AU148: 2 | AV148: 2 | AW148: True | AX148: 0 | AY148: ROZPOCET
D149: VV | F149: Súčet | H149: 312 | AT149: VV | AU149: 2 | AV149: 4 | AW149: True | AX149: 1 | AY149: ROZPOCET
D150: D | E150: 9 | F150: Ostatné konštrukcie a práce-búranie | J150: =BK150 -> 0 | P150: =SUM(P151:P155) -> 0 | R150: =SUM(R151:R155) -> 0 | T150: =SUM(T151:T155) -> 0 | AR150: 1 | AT150: D | AU150: 1 | AY150: ROZPOCET | BK150: =SUM(BK151:BK155) -> 0
C151: 4 | D151: K | E151: 979011111.S | F151: Zvislá doprava sutiny a vybúraných hmôt za prvé podlažie nad alebo pod základným podlažím | G151: t | H151: 4.129 | J151: =ROUND(I151*H151,2) -> 0 | N151: znížená | P151: =O151*H151 -> 0 | Q151: 0 | R151: =Q151*H151 -> 0 | S151: 0 | T151: =S151*H151 -> 0 | AR151: 4 | AT151: K | AU151: 2 | AY151: ROZPOCET | BE151: =IF(N151="základná",J151,0) -> 0 | BF151: =IF(N151="znížená",J151,0) -> 0 | BG151: =IF(N151="zákl. prenesená",J151,0) -> 0 | BH151: =IF(N151="zníž. prenesená",J151,0) -> 0 | BI151: =IF(N151="nulová",J151,0) -> 0 | BJ151: 2 | BK151: =ROUND(I151*H151,2) -> 0 | BL151: 4 | BM151: 1296719327
C152: 5 | D152: K | E152: 979081111.S | F152: Odvoz sutiny a vybúraných hmôt na skládku do 1 km | G152: t | H152: 4.129 | J152: =ROUND(I152*H152,2) -> 0 | N152: znížená | P152: =O152*H152 -> 0 | Q152: 0 | R152: =Q152*H152 -> 0 | S152: 0 | T152: =S152*H152 -> 0 | AR152: 4 | AT152: K | AU152: 2 | AY152: ROZPOCET | BE152: =IF(N152="základná",J152,0) -> 0 | BF152: =IF(N152="znížená",J152,0) -> 0 | BG152: =IF(N152="zákl. prenesená",J152,0) -> 0 | BH152: =IF(N152="zníž. prenesená",J152,0) -> 0 | BI152: =IF(N152="nulová",J152,0) -> 0 | BJ152: 2 | BK152: =ROUND(I152*H152,2) -> 0 | BL152: 4 | BM152: 932081465
C153: 6 | D153: K | E153: 979081121.S | F153: Odvoz sutiny a vybúraných hmôt na skládku za každý ďalší 1 km (2x) | G153: t | H153: 8.258 | J153: =ROUND(I153*H153,2) -> 0 | N153: znížená | P153: =O153*H153 -> 0 | Q153: 0 | R153: =Q153*H153 -> 0 | S153: 0 | T153: =S153*H153 -> 0 | AR153: 4 | AT153: K | AU153: 2 | AY153: ROZPOCET | BE153: =IF(N153="základná",J153,0) -> 0 | BF153: =IF(N153="znížená",J153,0) -> 0 | BG153: =IF(N153="zákl. prenesená",J153,0) -> 0 | BH153: =IF(N153="zníž. prenesená",J153,0) -> 0 | BI153: =IF(N153="nulová",J153,0) -> 0 | BJ153: 2 | BK153: =ROUND(I153*H153,2) -> 0 | BL153: 4 | BM153: 1131437417
D154: VV | F154: 4,129*2 'Prepočítané koeficientom množstva | H154: 8.258 | AT154: VV | AU154: 2 | AV154: 2 | AW154: False | AX154: 1 | AY154: ROZPOCET
C155: 7 | D155: K | E155: 979089x | F155: Odovzdanie do zberných surovín /majetok mesta | G155: t | H155: 4.129 | J155: =ROUND(I155*H155,2) -> 0 | N155: znížená | P155: =O155*H155 -> 0 | Q155: 0 | R155: =Q155*H155 -> 0 | S155: 0 | T155: =S155*H155 -> 0 | AR155: 4 | AT155: K | AU155: 2 | AY155: ROZPOCET | BE155: =IF(N155="základná",J155,0) -> 0 | BF155: =IF(N155="znížená",J155,0) -> 0 | BG155: =IF(N155="zákl. prenesená",J155,0) -> 0 | BH155: =IF(N155="zníž. prenesená",J155,0) -> 0 | BI155: =IF(N155="nulová",J155,0) -> 0 | BJ155: 2 | BK155: =ROUND(I155*H155,2) -> 0 | BL155: 4 | BM155: 785951916

Sheet SO01.2 - SO01.2 Nové konš...
L2: >> skryté stĺpce << | AT2: {47e2e0ba-f117-4a5f-89d2-aeef62b91ca0}
AT3: 0
D4: KRYCÍ LIST ROZPOČTU | M4: v --- nižšie sa nachádzajú doplnkové a pomocné údaje k zostavám --- v | AT4: False
D6: Stavba:
E7: ='Rekapitulácia stavby'!K6 -> OPRAVA MOSTA DO KOMPOSTÁRNE MOST číslo NR VII-014
D8: Objekt:
E9: SO01.2 - SO01.2 Nové konštrukcie most číslo NR VII-014 Dolné Krškany - stavebná časť
D11: JKSO: | I11: KS:
D12: Miesto: | F12: Krškany Nitra | I12: Dátum:
D14: Objednávateľ: | I14: IČO:
E15: Mesto Nitra | I15: IČ DPH:
D17: Zhotoviteľ: | I17: IČO: | J17: ='Rekapitulácia stavby'!AN13 -> Vyplň údaj
E18: ='Rekapitulácia stavby'!E14 -> Vyplň údaj | I18: IČ DPH: | J18: ='Rekapitulácia stavby'!AN14 -> Vyplň údaj
D20: Projektant: | I20: IČO:
I21: IČ DPH:
D23: Spracovateľ: | I23: IČO:
I24: IČ DPH:
D26: Poznámka:
D30: Cena bez DPH | J30: =ROUND(J118, 2) -> 0
F32: Základ dane | I32: Sadzba dane | J32: Výška dane
D33: DPH | E33: základná | F33: =ROUND((SUM(BE118:BE153)), 2) -> 0 | I33: 0.2 | J33: =ROUND(((SUM(BE118:BE153))*I33), 2) -> 0
E34: znížená | F34: =ROUND((SUM(BF118:BF153)), 2) -> 0 | I34: 0.2 | J34: =ROUND(((SUM(BF118:BF153))*I34), 2) -> 0
E35: zákl. prenesená | F35: =ROUND((SUM(BG118:BG153)), 2) -> 0 | I35: 0.2 | J35: =0 -> 0
E36: zníž. prenesená | F36: =ROUND((SUM(BH118:BH153)), 2) -> 0 | I36: 0.2 | J36: =0 -> 0
E37: nulová | F37: =ROUND((SUM(BI118:BI153)), 2) -> 0 | I37: 0 | J37: =0 -> 0
D39: Cena s DPH | G39: v | H39: EUR | J39: =SUM(J30:J37) -> 0
D50: Projektant | G50: Spracovateľ
D61: Dátum a podpis: | F61: Pečiatka | G61: Dátum a podpis: | J61: Pečiatka
D65: Objednávateľ | G65: Zhotoviteľ
D76: Dátum a podpis: | F76: Pečiatka | G76: Dátum a podpis: | J76: Pečiatka
C82: REKAPITULÁCIA ROZPOČTU
C84: Stavba:
E85: =E7 -> OPRAVA MOSTA DO KOMPOSTÁRNE MOST číslo NR VII-014
C86: Objekt:
E87: =E9 -> SO01.2 - SO01.2 Nové konštrukcie most číslo NR VII-014 Dolné Krškany - stavebná časť
C89: Miesto: | F89: =F12 -> Krškany Nitra | I89: Dátum: | J89: =IF(J12="","",J12)
C91: Objednávateľ: | F91: =E15 -> Mesto Nitra | I91: Projektant: | J91: =E21 -> 0
C92: Zhotoviteľ: | F92: =IF(E18="","",E18) -> Vyplň údaj | I92: Spracovateľ: | J92: =E24 -> 0
C94: Kód dielu - Popis | J94: Cena celkom [EUR]
C96: Náklady z rozpočtu | J96: =J118 -> 0 | AU96: -1
D97: PSV - Práce a dodávky PSV | J97: =J119 -> 0
D98: 767 - Konštrukcie doplnkové kovové | J98: =J120 -> 0
C105: ROZPOČET
C107: Stavba:
E108: =E7 -> OPRAVA MOSTA DO KOMPOSTÁRNE MOST číslo NR VII-014
C109: Objekt:
E110: =E9 -> SO01.2 - SO01.2 Nové konštrukcie most číslo NR VII-014 Dolné Krškany - stavebná časť
C112: Miesto: | F112: =F12 -> Krškany Nitra | I112: Dátum: | J112: =IF(J12="","",J12)
C114: Objednávateľ: | F114: =E15 -> Mesto Nitra | I114: Projektant: | J114: =E21 -> 0
C115: Zhotoviteľ: | F115: =IF(E18="","",E18) -> Vyplň údaj | I115: Spracovateľ: | J115: =E24 -> 0
C117: PČ | D117: Typ | E117: Kód | F117: Popis | G117: MJ | H117: Množstvo | I117: J.cena [EUR] | J117: Cena celkom [EUR] | K117: Cenová sústava | N117: DPH | O117: J. Nh [h] | P117: Nh celkom [h] | Q117: J. hmotnosť [t] | R117: Hmotnosť celkom [t] | S117: J. suť [t] | T117: Suť Celkom [t]
C118: Náklady z rozpočtu | J118: =BK118 -> 0 | P118: =P119 -> 0 | R118: =R119 -> 4.0973865 | T118: =T119 -> 0 | AT118: D | AU118: -1 | BK118: =BK119 -> 0
D119: D | E119: PSV | F119: Práce a dodávky PSV | J119: =BK119 -> 0 | P119: =P120 -> 0 | R119: =R120 -> 4.0973865 | T119: =T120 -> 0 | AR119: 2 | AT119: D | AU119: 0 | AY119: ROZPOCET | BK119: =BK120 -> 0
D120: D | E120: 767 | F120: Konštrukcie doplnkové kovové | J120: =BK120 -> 0 | P120: =SUM(P121:P153) -> 0 | R120: =SUM(R121:R153) -> 4.0973865 | T120: =SUM(T121:T153) -> 0 | AR120: 2 | AT120: D | AU120: 1 | AY120: ROZPOCET | BK120: =SUM(BK121:BK153) -> 0
C121: 1 | D121: K | E121: 767510111.S | F121: Montáž osadenie krytov- osadenie rebrovaných plechov na most | G121: kg | H121: 3767.731 | J121: =ROUND(I121*H121,2) -> 0 | N121: znížená | P121: =O121*H121 -> 0 | Q121: 5e-05 | R121: =Q121*H121 -> 0.18838655 | S121: 0 | T121: =S121*H121 -> 0 | AR121: 16 | AT121: K | AU121: 2 | AY121: ROZPOCET | BE121: =IF(N121="základná",J121,0) -> 0 | BF121: =IF(N121="znížená",J121,0) -> 0 | BG121: =IF(N121="zákl. prenesená",J121,0) -> 0 | BH121: =IF(N121="zníž. prenesená",J121,0) -> 0 | BI121: =IF(N121="nulová",J121,0) -> 0 | BJ121: 2 | BK121: =ROUND(I121*H121,2) -> 0 | BL121: 16 | BM121: 1713384967
D122: VV | F122: " NOVA KONŠTRUKCIA nové plechy , bez kotvenia . | AT122: VV | AU122: 2 | AV122: 1 | AW122: True | AX122: 0 | AY122: ROZPOCET
D123: VV | F123: " Zmena v. č. S01, S02 6/2022 Statik Ing. Drobena | AT123: VV | AU123: 2 | AV123: 1 | AW123: True | AX123: 0 | AY123: ROZPOCET
D124: VV | F124: " Výkaz rebrovaných plechov – materiál S235 JR: | AT124: VV | AU124: 2 | AV124: 1 | AW124: True | AX124: 0 | AY124: ROZPOCET
D125: VV | F125: " PL1 – PL 6xš. 750mm x dl.6000mm ks=14 hmotnosť 1ks plechu PL 0,75x6,0x 51,10kg/m2 = 229,95kg | AT125: VV | AU125: 2 | AV125: 1 | AW125: True | AX125: 0 | AY125: ROZPOCET
D126: VV | F126: " PL2 – PL6x š.750 mm x dl.7155mm ks =2 hmotnosť 1ks PL2 0,75x7,155x 51,10kg/m2 = 274,22kg | AT126: VV | AU126: 2 | AV126: 1 | AW126: True | AX126: 0 | AY126: ROZPOCET
D127: VV | F127: 0,75*6*14*51,10 | H127: 3219.3 | AT127: VV | AU127: 2 | AV127: 2 | AW127: True | AX127: 0 | AY127: ROZPOCET
D128: VV | F128: 0,75*7,155*2*51,10 | H128: 548.431 | AT128: VV | AU128: 2 | AV128: 2 | AW128: True | AX128: 0 | AY128: ROZPOCET
D129: VV | F129: Medzisúčet | H129: 3767.731 | AT129: VV | AU129: 2 | AV129: 3 | AW129: True | AX129: 0 | AY129: ROZPOCET
D130: VV | F130: Súčet v.č. S01 zmena 6/2022 Ing.Drobena | H130: 3767.731 | AT130: VV | AU130: 2 | AV130: 4 | AW130: True | AX130: 1 | AY130: ROZPOCET
C131: 2 | D131: K | E131: 767995380.S | F131: Výroba doplnku stavebného atypického o hmotnosti od 20,01 do 300 kg stupňa zložitosti 1 | G131: kg | H131: 3909.1 | J131: =ROUND(I131*H131,2) -> 0 | N131: znížená | P131: =O131*H131 -> 0 | Q131: 0 | R131: =Q131*H131 -> 0 | S131: 0 | T131: =S131*H131 -> 0 | AR131: 16 | AT131: K | AU131: 2 | AY131: ROZPOCET | BE131: =IF(N131="základná",J131,0) -> 0 | BF131: =IF(N131="znížená",J131,0) -> 0 | BG131: =IF(N131="zákl. prenesená",J131,0) -> 0 | BH131: =IF(N131="zníž. prenesená",J131,0) -> 0 | BI131: =IF(N131="nulová",J131,0) -> 0 | BJ131: 2 | BK131: =ROUND(I131*H131,2) -> 0 | BL131: 16 | BM131: 766084345
D132: VV | F132: " Na zhotovenie plechov PL1 a PL2 je potrebných17ks plechov rozmerov 1500mmx3000mm. | AT132: VV | AU132: 2 | AV132: 1 | AW132: True | AX132: 0 | AY132: ROZPOCET
D133: VV | F133: " Hmotnosť 1ks 1500x3000mm x51,10kg/m2 = 229,95kg | AT133: VV | AU133: 2 | AV133: 1 | AW133: True | AX133: 0 | AY133: ROZPOCET
D134: VV | F134: " Hmotnosť všetkých plechov : 17ks x229,95kg = 3909,15kg | AT134: VV | AU134: 2 | AV134: 1 | AW134: True | AX134: 0 | AY134: ROZPOCET
D135: VV | F135: " vyroba prvkov | AT135: VV | AU135: 2 | AV135: 1 | AW135: True | AX135: 0 | AY135: ROZPOCET
D136: VV | F136: " Plechy bude potrebné narezať na potrebné dĺžky a zvariť. | AT136: VV | AU136: 2 | AV136: 1 | AW136: True | AX136: 0 | AY136: ROZPOCET
D137: VV | F137: "montaž plechov | AT137: VV | AU137: 2 | AV137: 1 | AW137: True | AX137: 0 | AY137: ROZPOCET
D138: VV | F138: " Žeriavom osadiť na požadované miesto po odstránení pôvodných plechov, bez kotvenia. | AT138: VV | AU138: 2 | AV138: 1 | AW138: True | AX138: 0 | AY138: ROZPOCET
D139: VV | F139: 3909,1 | H139: 3909.1 | AT139: VV | AU139: 2 | AV139: 2 | AW139: True | AX139: 0 | AY139: ROZPOCET
D140: VV | F140: Medzisúčet | H140: 3909.1 | AT140: VV | AU140: 2 | AV140: 3 | AW140: True | AX140: 0 | AY140: ROZPOCET
D141: VV | F141: Súčet v.č.S01 zmena 6/2022 | H141: 3909.1 | AT141: VV | AU141: 2 | AV141: 4 | AW141: True | AX141: 1 | AY141: ROZPOCET
C142: 3 | D142: M | E142: 136110023000.S | F142: Plech oceľový rebrovaný hr. 6 mm, ozn. 11 373.0, podľa EN S235JRG1 | G142: t | H142: 3.909 | J142: =ROUND(I142*H142,2) -> 0 | N142: znížená | P142: =O142*H142 -> 0 | Q142: 1 | R142: =Q142*H142 -> 3.909 | S142: 0 | T142: =S142*H142 -> 0 | AR142: 32 | AT142: M | AU142: 2 | AY142: ROZPOCET | BE142: =IF(N142="základná",J142,0) -> 0 | BF142: =IF(N142="znížená",J142,0) -> 0 | BG142: =IF(N142="zákl. prenesená",J142,0) -> 0 | BH142: =IF(N142="zníž. prenesená",J142,0) -> 0 | BI142: =IF(N142="nulová",J142,0) -> 0 | BJ142: 2 | BK142: =ROUND(I142*H142,2) -> 0 | BL142: 16 | BM142: -1778623862
D143: VV | F143: " Na zhotovenie plechov PL1 a PL2 je potrebných17ks plechov rozmerov 1500mmx3000mm. | AT143: VV | AU143: 2 | AV143: 1 | AW143: True | AX143: 0 | AY143: ROZPOCET
D144: VV | F144: " Hmotnosť 1ks 1500x3000mm x51,10kg/m2 = 229,95kg | AT144: VV | AU144: 2 | AV144: 1 | AW144: True | AX144: 0 | AY144: ROZPOCET
D145: VV | F145: " Hmotnosť všetkých plechov : 17ks x229,95kg = 3909,15kg | AT145: VV | AU145: 2 | AV145: 1 | AW145: True | AX145: 0 | AY145: ROZPOCET
D146: VV | F146: 3909,1/1000 | H146: 3.909 | AT146: VV | AU146: 2 | AV146: 2 | AW146: True | AX146: 0 | AY146: ROZPOCET
D147: VV | F147: Medzisúčet | H147: 3.909 | AT147: VV | AU147: 2 | AV147: 3 | AW147: True | AX147: 0 | AY147: ROZPOCET
D148: VV | F148: Súčet v.č.S01 zmena 6/2022 | H148: 3.909 | AT148: VV | AU148: 2 | AV148: 4 | AW148: True | AX148: 1 | AY148: ROZPOCET
C149: 4 | D149: K | E149: 998767101.S | F149: Presun hmôt pre kovové stavebné doplnkové konštrukcie v objektoch výšky do 6 m | G149: t | H149: 4.097 | J149: =ROUND(I149*H149,2) -> 0 | N149: znížená | P149: =O149*H149 -> 0 | Q149: 0 | R149: =Q149*H149 -> 0 | S149: 0 | T149: =S149*H149 -> 0 | AR149: 16 | AT149: K | AU149: 2 | AY149: ROZPOCET | BE149: =IF(N149="základná",J149,0) -> 0 | BF149: =IF(N149="znížená",J149,0) -> 0 | BG149: =IF(N149="zákl. prenesená",J149,0) -> 0 | BH149: =IF(N149="zníž. prenesená",J149,0) -> 0 | BI149: =IF(N149="nulová",J149,0) -> 0 | BJ149: 2 | BK149: =ROUND(I149*H149,2) -> 0 | BL149: 16 | BM149: 1644507482
C150: 5 | D150: K | E150: 998767192.S | F150: Kovové stav.dopln.konštr., prípl.za presun nad najväčšiu dopr. vzdial. do 100 m | G150: t | H150: 4.097 | J150: =ROUND(I150*H150,2) -> 0 | N150: znížená | P150: =O150*H150 -> 0 | Q150: 0 | R150: =Q150*H150 -> 0 | S150: 0 | T150: =S150*H150 -> 0 | AR150: 16 | AT150: K | AU150: 2 | AY150: ROZPOCET | BE150: =IF(N150="základná",J150,0) -> 0 | BF150: =IF(N150="znížená",J150,0) -> 0 | BG150: =IF(N150="zákl. prenesená",J150,0) -> 0 | BH150: =IF(N150="zníž. prenesená",J150,0) -> 0 | BI150: =IF(N150="nulová",J150,0) -> 0 | BJ150: 2 | BK150: =ROUND(I150*H150,2) -> 0 | BL150: 16 | BM150: -1365126113
C151: 6 | D151: K | E151: 171 | F151: Žeriav na kolesovom podvozku 28t | G151: Sh | H151: 4 | J151: =ROUND(I151*H151,2) -> 0 | N151: znížená | P151: =O151*H151 -> 0 | Q151: 0 | R151: =Q151*H151 -> 0 | S151: 0 | T151: =S151*H151 -> 0 | AR151: 64 | AT151: K | AU151: 2 | AY151: ROZPOCET | BE151: =IF(N151="základná",J151,0) -> 0 | BF151: =IF(N151="znížená",J151,0) -> 0 | BG151: =IF(N151="zákl. prenesená",J151,0) -> 0 | BH151: =IF(N151="zníž. prenesená",J151,0) -> 0 | BI151: =IF(N151="nulová",J151,0) -> 0 | BJ151: 2 | BK151: =ROUND(I151*H151,2) -> 0 | BL151: 64 | BM151: 148585403
D152: VV | F152: 4 | H152: 4 | AT152: VV | AU152: 2 | AV152: 2 | AW152: True | AX152: 0 | AY152: ROZPOCET
D153: VV | F153: Súčet vykaldanie materiálov | H153: 4 | AT153: VV | AU153: 2 | AV153: 4 | AW153: True | AX153: 1 | AY153: ROZPOCET
