Workbook

Sheet Rekapitulácia stavby
A1: Export Komplet | BA1: 2.0 | BT1: False | BU1: False | BV1: {32f1dc51-c82c-4945-bef3-aa47b2909400}
AR2: >> skryté stĺpce << | BS2: 0,01 | BT2: 20
BS3: 0,01 | BT3: 20
D4: REKAPITULÁCIA STAVBY | AS4: v --- nižšie sa nachádzajú doplnkové a pomocné údaje k zostavám --- v | BE4: Návod na vyplnenie | BS4: 0,001
D5: Kód: | K5: A295 | BE5: Meniť je možné iba bunky so žltým podfarbením!_x000D_ _x000D_ 1) na prvom liste Rekapitulácie stavby vyplňte v zostave_x000D_ _x000D_ a) Rekapitulácia stavby_x000D_ - údaje o Zhotoviteľovi_x000D_ (prenesú sa do ostatných zostáv aj v iných listoch)_x000D_ _x000D_ b) Rekapitulácia objektov stavby_x000D_ - potrebné Ostatné náklady_x000D_ _x000D_ 2) na vybraných listoch vyplňte v zostave_x000D_ _x000D_ a) Krycí list_x000D_ - údaje o Zhotoviteľovi, pokiaľ sa líšia od údajov o Zhotoviteľovi na Rekapitulácii stavby_x000D_ (údaje se prenesú do ostatných zostav v danom liste)_x000D_ _x000D_ b) Rekapitulácia rozpočtu_x000D_ - potrebné Ostatné náklady_x000D_ _x000D_ c) Celkové náklady za stavbu_x000D_ - ceny na položkách_x000D_ - množstvo, pokiaľ má žlté podfarbenie_x000D_ - a v prípade potreby poznámku (tá je v skrytom stĺpci) | BS5: 0,01
D6: Stavba: | K6: Dvojlesňovňa Psíčová | BS6: 0,01
D7: JKSO: | AK7: KS: | BS7: 0,01
D8: Miesto: | K8: kat. územie Sedliská | AK8: Dátum: | AN8: 28. 2. 2022 | BS8: 0,01
BS9: 0,01
D10: Objednávateľ: | AK10: IČO: | BS10: 0,01
E11: LESY Slovenskej republiky | AK11: IČ DPH: | BS11: 0,01
BS12: 0,01
D13: Zhotoviteľ: | AK13: IČO: | AN13: Vyplň údaj | BS13: 0,01
E14: Vyplň údaj | AK14: IČ DPH: | AN14: Vyplň údaj | BS14: 0,01
BS15: True
D16: Projektant: | AK16: IČO: | BS16: True
AK17: IČ DPH: | BS17: True
BS18: 0,01
D19: Spracovateľ: | AK19: IČO: | BS19: 0,01
AK20: IČ DPH: | BS20: True
D22: Poznámka:
D26: Cena bez DPH | AK26: =ROUND(AG94,2) -> 0
L28: Sadzba dane | W28: Základ dane | AK28: Výška dane
D29: DPH | F29: základná | L29: 0.2 | W29: =ROUND(AZ94, 2) -> 0 | AK29: =ROUND(AV94, 2) -> 0
F30: znížená | L30: 0.2 | W30: =ROUND(BA94, 2) -> 0 | AK30: =ROUND(AW94, 2) -> 0
F31: zákl. prenesená | L31: 0.2 | W31: =ROUND(BB94, 2) -> 0 | AK31: 0
F32: zníž. prenesená | L32: 0.2 | W32: =ROUND(BC94, 2) -> 0 | AK32: 0
F33: nulová | L33: 0 | W33: =ROUND(BD94, 2) -> 0 | AK33: 0
D35: Cena s DPH | T35: v | X35: EUR | AK35: =SUM(AK26:AK33) -> 0
D49: Projektant | AH49: Spracovateľ
D60: Dátum a podpis: | V60: Pečiatka | AH60: Dátum a podpis: | AM60: Pečiatka
D64: Objednávateľ | AH64: Zhotoviteľ
D75: Dátum a podpis: | V75: Pečiatka | AH75: Dátum a podpis: | AM75: Pečiatka
C82: REKAPITULÁCIA OBJEKTOV STAVBY
C84: Kód: | L84: =K5 -> A295
C85: Stavba: | L85: =K6 -> Dvojlesňovňa Psíčová
C87: Miesto: | L87: =IF(K8="","",K8) -> kat. územie Sedliská | AI87: Dátum: | AM87: =IF(AN8= "","",AN8) -> 28. 2. 2022
C89: Objednávateľ: | L89: =IF(E11= "","",E11) -> LESY Slovenskej republiky | AI89: Projektant: | AM89: =IF(E17="","",E17) | AS89: Informatívne údaje z listov zákaziek
C90: Zhotoviteľ: | L90: =IF(E14= "Vyplň údaj","",E14) | AI90: Spracovateľ: | AM90: =IF(E20="","",E20)
C92: Kód | I92: Popis | AG92: Cena bez DPH [EUR] | AN92: Cena s DPH [EUR] | AQ92: Typ | AS92: z toho Ostat._x000D_ náklady [EUR] | AT92: DPH [EUR] | AU92: Normohodiny [h] | AV92: DPH základná [EUR] | AW92: DPH znížená [EUR] | AX92: DPH základná prenesená_x000D_ [EUR] | AY92: DPH znížená prenesená_x000D_ [EUR] | AZ92: Základňa_x000D_ DPH základná | BA92: Základňa_x000D_ DPH znížená | BB92: Základňa_x000D_ DPH zákl. prenesená | BC92: Základňa_x000D_ DPH zníž. prenesená | BD92: Základňa_x000D_ DPH nulová
C94: Náklady z rozpočtov | AG94: =ROUND(SUM(AG95:AG97),2) -> 0 | AN94: =SUM(AG94,AT94) -> 0 | AS94: =ROUND(SUM(AS95:AS97),2) -> 0 | AT94: =ROUND(SUM(AV94:AW94),2) -> 0 | AU94: =ROUND(SUM(AU95:AU97),5) -> 0 | AV94: =ROUND(AZ94*L29,2) -> 0 | AW94: =ROUND(BA94*L30,2) -> 0 | AX94: =ROUND(BB94*L29,2) -> 0 | AY94: =ROUND(BC94*L30,2) -> 0 | AZ94: =ROUND(SUM(AZ95:AZ97),2) -> 0 | BA94: =ROUND(SUM(BA95:BA97),2) -> 0 | BB94: =ROUND(SUM(BB95:BB97),2) -> 0 | BC94: =ROUND(SUM(BC95:BC97),2) -> 0 | BD94: =ROUND(SUM(BD95:BD97),2) -> 0 | BS94: D | BT94: 0 | BU94: ###NOIMPORT### | BV94: IMPORT | BW94: {32f1dc51-c82c-4945-bef3-aa47b2909400} | BX94: {00000000-0000-0000-0000-000000000000}
A95: / | D95: 01 | J95: Architektonicko-stavebné riešenie | AG95: ='01 - Architektonicko-stav...'!J30 -> 0 | AN95: =SUM(AG95,AT95) -> 0 | AQ95: STA | AS95: 0 | AT95: =ROUND(SUM(AV95:AW95),2) -> 0 | AU95: ='01 - Architektonicko-stav...'!P135 -> 0 | AV95: ='01 - Architektonicko-stav...'!J33 -> 0 | AW95: ='01 - Architektonicko-stav...'!J34 -> 0 | AX95: ='01 - Architektonicko-stav...'!J35 -> 0 | AY95: ='01 - Architektonicko-stav...'!J36 -> 0 | AZ95: ='01 - Architektonicko-stav...'!F33 -> 0 | BA95: ='01 - Architektonicko-stav...'!F34 -> 0 | BB95: ='01 - Architektonicko-stav...'!F35 -> 0 | BC95: ='01 - Architektonicko-stav...'!F36 -> 0 | BD95: ='01 - Architektonicko-stav...'!F37 -> 0 | BT95: 1 | BV95: IMPORT | BW95: {429e019e-1f61-40a5-b276-cf629355ec3c} | BX95: {32f1dc51-c82c-4945-bef3-aa47b2909400} | CM95: 0
A96: / | D96: 02 | J96: Elektroinštalácia | AG96: ='02 - Elektroinštalácia'!J30 -> 0 | AN96: =SUM(AG96,AT96) -> 0 | AQ96: STA | AS96: 0 | AT96: =ROUND(SUM(AV96:AW96),2) -> 0 | AU96: ='02 - Elektroinštalácia'!P118 -> 0 | AV96: ='02 - Elektroinštalácia'!J33 -> 0 | AW96: ='02 - Elektroinštalácia'!J34 -> 0 | AX96: ='02 - Elektroinštalácia'!J35 -> 0 | AY96: ='02 - Elektroinštalácia'!J36 -> 0 | AZ96: ='02 - Elektroinštalácia'!F33 -> 0 | BA96: ='02 - Elektroinštalácia'!F34 -> 0 | BB96: ='02 - Elektroinštalácia'!F35 -> 0 | BC96: ='02 - Elektroinštalácia'!F36 -> 0 | BD96: ='02 - Elektroinštalácia'!F37 -> 0 | BT96: 1 | BV96: IMPORT | BW96: {23385008-42f1-43d5-b996-0f8df44dbba1} | BX96: {32f1dc51-c82c-4945-bef3-aa47b2909400} | CM96: 0
A97: / | D97: 03 | J97: Ústredné vykurovanie | AG97: ='03 - Ústredné vykurovanie'!J30 -> 0 | AN97: =SUM(AG97,AT97) -> 0 | AQ97: STA | AS97: 0 | AT97: =ROUND(SUM(AV97:AW97),2) -> 0 | AU97: ='03 - Ústredné vykurovanie'!P128 -> 0 | AV97: ='03 - Ústredné vykurovanie'!J33 -> 0 | AW97: ='03 - Ústredné vykurovanie'!J34 -> 0 | AX97: ='03 - Ústredné vykurovanie'!J35 -> 0 | AY97: ='03 - Ústredné vykurovanie'!J36 -> 0 | AZ97: ='03 - Ústredné vykurovanie'!F33 -> 0 | BA97: ='03 - Ústredné vykurovanie'!F34 -> 0 | BB97: ='03 - Ústredné vykurovanie'!F35 -> 0 | BC97: ='03 - Ústredné vykurovanie'!F36 -> 0 | BD97: ='03 - Ústredné vykurovanie'!F37 -> 0 | BT97: 1 | BV97: IMPORT | BW97: {2f9c6e59-c470-4987-bac2-310f67242723} | BX97: {32f1dc51-c82c-4945-bef3-aa47b2909400} | CM97: 0

Sheet 01 - Architektonicko-stav...
L2: >> skryté stĺpce << | AT2: {429e019e-1f61-40a5-b276-cf629355ec3c}
AT3: 0
D4: KRYCÍ LIST ROZPOČTU | M4: v --- nižšie sa nachádzajú doplnkové a pomocné údaje k zostavám --- v | AT4: False
D6: Stavba:
E7: ='Rekapitulácia stavby'!K6 -> Dvojlesňovňa Psíčová
D8: Objekt:
E9: 01 - Architektonicko-stavebné riešenie
D11: JKSO: | I11: KS:
D12: Miesto: | F12: kat. územie Sedliská | I12: Dátum: | J12: ='Rekapitulácia stavby'!AN8 -> 28. 2. 2022
D14: Objednávateľ: | I14: IČO:
E15: LESY Slovenskej republiky | I15: IČ DPH:
D17: Zhotoviteľ: | I17: IČO: | J17: ='Rekapitulácia stavby'!AN13 -> Vyplň údaj
E18: ='Rekapitulácia stavby'!E14 -> Vyplň údaj | I18: IČ DPH: | J18: ='Rekapitulácia stavby'!AN14 -> Vyplň údaj
D20: Projektant: | I20: IČO: | J20: =IF('Rekapitulácia stavby'!AN16="","",'Rekapitulácia stavby'!AN16)
E21: =IF('Rekapitulácia stavby'!E17="","",'Rekapitulácia stavby'!E17) | I21: IČ DPH: | J21: =IF('Rekapitulácia stavby'!AN17="","",'Rekapitulácia stavby'!AN17)
D23: Spracovateľ: | I23: IČO: | J23: =IF('Rekapitulácia stavby'!AN19="","",'Rekapitulácia stavby'!AN19)
E24: =IF('Rekapitulácia stavby'!E20="","",'Rekapitulácia stavby'!E20) | I24: IČ DPH: | J24: =IF('Rekapitulácia stavby'!AN20="","",'Rekapitulácia stavby'!AN20)
D26: Poznámka:
D30: Cena bez DPH | J30: =ROUND(J135, 2) -> 0
F32: Základ dane | I32: Sadzba dane | J32: Výška dane
D33: DPH | E33: základná | F33: =ROUND((SUM(BE135:BE254)), 2) -> 0 | I33: 0.2 | J33: =ROUND(((SUM(BE135:BE254))*I33), 2) -> 0
E34: znížená | F34: =ROUND((SUM(BF135:BF254)), 2) -> 0 | I34: 0.2 | J34: =ROUND(((SUM(BF135:BF254))*I34), 2) -> 0
E35: zákl. prenesená | F35: =ROUND((SUM(BG135:BG254)), 2) -> 0 | I35: 0.2 | J35: =0 -> 0
E36: zníž. prenesená | F36: =ROUND((SUM(BH135:BH254)), 2) -> 0 | I36: 0.2 | J36: =0 -> 0
E37: nulová | F37: =ROUND((SUM(BI135:BI254)), 2) -> 0 | I37: 0 | J37: =0 -> 0
D39: Cena s DPH | G39: v | H39: EUR | J39: =SUM(J30:J37) -> 0
D50: Projektant | G50: Spracovateľ
D61: Dátum a podpis: | F61: Pečiatka | G61: Dátum a podpis: | J61: Pečiatka
D65: Objednávateľ | G65: Zhotoviteľ
D76: Dátum a podpis: | F76: Pečiatka | G76: Dátum a podpis: | J76: Pečiatka
C82: REKAPITULÁCIA ROZPOČTU
C84: Stavba:
E85: =E7 -> Dvojlesňovňa Psíčová
C86: Objekt:
E87: =E9 -> 01 - Architektonicko-stavebné riešenie
C89: Miesto: | F89: =F12 -> kat. územie Sedliská | I89: Dátum: | J89: =IF(J12="","",J12) -> 28. 2. 2022
C91: Objednávateľ: | F91: =E15 -> LESY Slovenskej republiky | I91: Projektant: | J91: =E21
C92: Zhotoviteľ: | F92: =IF(E18="","",E18) -> Vyplň údaj | I92: Spracovateľ: | J92: =E24
C94: Kód dielu - Popis | J94: Cena celkom [EUR]
C96: Náklady z rozpočtu | J96: =J135 -> 0 | AU96: -1
D97: HSV - Práce a dodávky HSV | J97: =J136 -> 0
D98: 6 - Úpravy povrchov, podlahy, osadenie | J98: =J137 -> 0
D99: 9 - Ostatné konštrukcie a práce-búranie | J99: =J149 -> 0
D100: 99 - Presun hmôt HSV | J100: =J163 -> 0
D101: PSV - Práce a dodávky PSV | J101: =J165 -> 0
D102: 721 - Zdravotechnika - vnútorná kanalizácia | J102: =J166 -> 0
D103: 722 - Zdravotechnika - vnútorný vodovod | J103: =J173 -> 0
D104: 725 - Zdravotechnika - zariaďovacie predmety | J104: =J179 -> 0
D105: 735 - Ústredné kúrenie - vykurovacie telesá | J105: =J196 -> 0
D106: 766 - Konštrukcie stolárske | J106: =J200 -> 0
D107: 767 - Konštrukcie doplnkové kovové | J107: =J207 -> 0
D108: 771 - Podlahy z dlaždíc | J108: =J213 -> 0
D109: 775 - Podlahy vlysové a parketové | J109: =J223 -> 0
D110: 776 - Podlahy povlakové | J110: =J233 -> 0
D111: 781 - Obklady | J111: =J236 -> 0
D112: 783 - Nátery | J112: =J240 -> 0
D113: 784 - Maľby | J113: =J243 -> 0
D114: M - Práce a dodávky M | J114: =J248 -> 0
D115: 21-M - Elektromontáže | J115: =J249 -> 0
C122: ROZPOČET
C124: Stavba:
E125: =E7 -> Dvojlesňovňa Psíčová
C126: Objekt:
E127: =E9 -> 01 - Architektonicko-stavebné riešenie
C129: Miesto: | F129: =F12 -> kat. územie Sedliská | I129: Dátum: | J129: =IF(J12="","",J12) -> 28. 2. 2022
C131: Objednávateľ: | F131: =E15 -> LESY Slovenskej republiky | I131: Projektant: | J131: =E21
C132: Zhotoviteľ: | F132: =IF(E18="","",E18) -> Vyplň údaj | I132: Spracovateľ: | J132: =E24
C134: PČ | D134: Typ | E134: Kód | F134: Popis | G134: MJ | H134: Množstvo | I134: J.cena [EUR] | J134: Cena celkom [EUR] | K134: Cenová sústava | N134: DPH | O134: J. Nh [h] | P134: Nh celkom [h] | Q134: J. hmotnosť [t] | R134: Hmotnosť celkom [t] | S134: J. suť [t] | T134: Suť Celkom [t]
C135: Náklady z rozpočtu | J135: =BK135 -> 0 | P135: =P136+P165+P248 -> 0 | R135: =R136+R165+R248 -> 8.9351879 | T135: =T136+T165+T248 -> 7.420074 | AT135: D | AU135: -1 | BK135: =BK136+BK165+BK248 -> 0
D136: D | E136: HSV | F136: Práce a dodávky HSV | J136: =BK136 -> 0 | P136: =P137+P149+P163 -> 0 | R136: =R137+R149+R163 -> 8.6382831 | T136: =T137+T149+T163 -> 5.018615 | AR136: 1 | AT136: D | AU136: 0 | AY136: ROZPOCET | BK136: =BK137+BK149+BK163 -> 0
D137: D | E137: 6 | F137: Úpravy povrchov, podlahy, osadenie | J137: =BK137 -> 0 | P137: =SUM(P138:P148) -> 0 | R137: =SUM(R138:R148) -> 8.4243746 | T137: =SUM(T138:T148) -> 0 | AR137: 1 | AT137: D | AU137: 1 | AY137: ROZPOCET | BK137: =SUM(BK138:BK148) -> 0
C138: 1 | D138: K | E138: 611460125.S | F138: Príprava vnútorného podkladu stropov penetráciou pod nátery a maľby | G138: m2 | H138: 108.583 | J138: =ROUND(I138*H138,2) -> 0 | N138: znížená | P138: =O138*H138 -> 0 | Q138: 0.0002 | R138: =Q138*H138 -> 0.0217166 | S138: 0 | T138: =S138*H138 -> 0 | AR138: 4 | AT138: K | AU138: 2 | AY138: ROZPOCET | BE138: =IF(N138="základná",J138,0) -> 0 | BF138: =IF(N138="znížená",J138,0) -> 0 | BG138: =IF(N138="zákl. prenesená",J138,0) -> 0 | BH138: =IF(N138="zníž. prenesená",J138,0) -> 0 | BI138: =IF(N138="nulová",J138,0) -> 0 | BJ138: 2 | BK138: =ROUND(I138*H138,2) -> 0 | BL138: 4 | BM138: 2
C139: 2 | D139: K | E139: 611460151.S | F139: Príprava vnútorného podkladu stropov cementovým prednástrekom, hr. 3 mm | G139: m2 | H139: 108.583 | J139: =ROUND(I139*H139,2) -> 0 | N139: znížená | P139: =O139*H139 -> 0 | Q139: 0.00517 | R139: =Q139*H139 -> 0.56137411 | S139: 0 | T139: =S139*H139 -> 0 | AR139: 4 | AT139: K | AU139: 2 | AY139: ROZPOCET | BE139: =IF(N139="základná",J139,0) -> 0 | BF139: =IF(N139="znížená",J139,0) -> 0 | BG139: =IF(N139="zákl. prenesená",J139,0) -> 0 | BH139: =IF(N139="zníž. prenesená",J139,0) -> 0 | BI139: =IF(N139="nulová",J139,0) -> 0 | BJ139: 2 | BK139: =ROUND(I139*H139,2) -> 0 | BL139: 4 | BM139: 4
C140: 3 | D140: K | E140: 611460383.S | F140: Vnútorná omietka stropov vápennocementová štuková (jemná), hr. 3 mm | G140: m2 | H140: 108.583 | J140: =ROUND(I140*H140,2) -> 0 | N140: znížená | P140: =O140*H140 -> 0 | Q140: 0.00495 | R140: =Q140*H140 -> 0.53748585 | S140: 0 | T140: =S140*H140 -> 0 | AR140: 4 | AT140: K | AU140: 2 | AY140: ROZPOCET | BE140: =IF(N140="základná",J140,0) -> 0 | BF140: =IF(N140="znížená",J140,0) -> 0 | BG140: =IF(N140="zákl. prenesená",J140,0) -> 0 | BH140: =IF(N140="zníž. prenesená",J140,0) -> 0 | BI140: =IF(N140="nulová",J140,0) -> 0 | BJ140: 2 | BK140: =ROUND(I140*H140,2) -> 0 | BL140: 4 | BM140: 6
C141: 4 | D141: K | E141: 611481119.S | F141: Potiahnutie vnútorných stropov sklotextilnou mriežkou s celoplošným prilepením | G141: m2 | H141: 108.583 | J141: =ROUND(I141*H141,2) -> 0 | N141: znížená | P141: =O141*H141 -> 0 | Q141: 0.00515 | R141: =Q141*H141 -> 0.55920245 | S141: 0 | T141: =S141*H141 -> 0 | AR141: 4 | AT141: K | AU141: 2 | AY141: ROZPOCET | BE141: =IF(N141="základná",J141,0) -> 0 | BF141: =IF(N141="znížená",J141,0) -> 0 | BG141: =IF(N141="zákl. prenesená",J141,0) -> 0 | BH141: =IF(N141="zníž. prenesená",J141,0) -> 0 | BI141: =IF(N141="nulová",J141,0) -> 0 | BJ141: 2 | BK141: =ROUND(I141*H141,2) -> 0 | BL141: 4 | BM141: 8
C142: 5 | D142: K | E142: 612460125.S | F142: Príprava vnútorného podkladu stien penetráciou pod nátery a maľby | G142: m2 | H142: 267.223 | J142: =ROUND(I142*H142,2) -> 0 | N142: znížená | P142: =O142*H142 -> 0 | Q142: 0.0002 | R142: =Q142*H142 -> 0.0534446 | S142: 0 | T142: =S142*H142 -> 0 | AR142: 4 | AT142: K | AU142: 2 | AY142: ROZPOCET | BE142: =IF(N142="základná",J142,0) -> 0 | BF142: =IF(N142="znížená",J142,0) -> 0 | BG142: =IF(N142="zákl. prenesená",J142,0) -> 0 | BH142: =IF(N142="zníž. prenesená",J142,0) -> 0 | BI142: =IF(N142="nulová",J142,0) -> 0 | BJ142: 2 | BK142: =ROUND(I142*H142,2) -> 0 | BL142: 4 | BM142: 10
C143: 6 | D143: K | E143: 612460383.S | F143: Vnútorná omietka stien vápennocementová štuková (jemná), hr. 3 mm | G143: m2 | H143: 267.223 | J143: =ROUND(I143*H143,2) -> 0 | N143: znížená | P143: =O143*H143 -> 0 | Q143: 0.00472 | R143: =Q143*H143 -> 1.2612926 | S143: 0 | T143: =S143*H143 -> 0 | AR143: 4 | AT143: K | AU143: 2 | AY143: ROZPOCET | BE143: =IF(N143="základná",J143,0) -> 0 | BF143: =IF(N143="znížená",J143,0) -> 0 | BG143: =IF(N143="zákl. prenesená",J143,0) -> 0 | BH143: =IF(N143="zníž. prenesená",J143,0) -> 0 | BI143: =IF(N143="nulová",J143,0) -> 0 | BJ143: 2 | BK143: =ROUND(I143*H143,2) -> 0 | BL143: 4 | BM143: 16
C144: 7 | D144: K | E144: 612481031.S | F144: Rohový profil z pozinkovaného plechu pre hrúbku omietky 8 až 12 mm | G144: m | H144: 45 | J144: =ROUND(I144*H144,2) -> 0 | N144: znížená | P144: =O144*H144 -> 0 | Q144: 0.00191 | R144: =Q144*H144 -> 0.08595 | S144: 0 | T144: =S144*H144 -> 0 | AR144: 4 | AT144: K | AU144: 2 | AY144: ROZPOCET | BE144: =IF(N144="základná",J144,0) -> 0 | BF144: =IF(N144="znížená",J144,0) -> 0 | BG144: =IF(N144="zákl. prenesená",J144,0) -> 0 | BH144: =IF(N144="zníž. prenesená",J144,0) -> 0 | BI144: =IF(N144="nulová",J144,0) -> 0 | BJ144: 2 | BK144: =ROUND(I144*H144,2) -> 0 | BL144: 4 | BM144: 18
C145: 8 | D145: K | E145: 612481119.S | F145: Potiahnutie vnútorných stien sklotextilnou mriežkou s celoplošným prilepením | G145: m2 | H145: 302.113 | J145: =ROUND(I145*H145,2) -> 0 | N145: znížená | P145: =O145*H145 -> 0 | Q145: 0.00515 | R145: =Q145*H145 -> 1.555882 | S145: 0 | T145: =S145*H145 -> 0 | AR145: 4 | AT145: K | AU145: 2 | AY145: ROZPOCET | BE145: =IF(N145="základná",J145,0) -> 0 | BF145: =IF(N145="znížená",J145,0) -> 0 | BG145: =IF(N145="zákl. prenesená",J145,0) -> 0 | BH145: =IF(N145="zníž. prenesená",J145,0) -> 0 | BI145: =IF(N145="nulová",J145,0) -> 0 | BJ145: 2 | BK145: =ROUND(I145*H145,2) -> 0 | BL145: 4 | BM145: 20
C146: 9 | D146: K | E146: 632001051.S | F146: Zhotovenie jednonásobného penetračného náteru pre potery a stierky | G146: m2 | H146: 108.583 | J146: =ROUND(I146*H146,2) -> 0 | N146: znížená | P146: =O146*H146 -> 0 | Q146: 0 | R146: =Q146*H146 -> 0 | S146: 0 | T146: =S146*H146 -> 0 | AR146: 4 | AT146: K | AU146: 2 | AY146: ROZPOCET | BE146: =IF(N146="základná",J146,0) -> 0 | BF146: =IF(N146="znížená",J146,0) -> 0 | BG146: =IF(N146="zákl. prenesená",J146,0) -> 0 | BH146: =IF(N146="zníž. prenesená",J146,0) -> 0 | BI146: =IF(N146="nulová",J146,0) -> 0 | BJ146: 2 | BK146: =ROUND(I146*H146,2) -> 0 | BL146: 4 | BM146: 22
C147: 10 | D147: M | E147: 585520008700.S | F147: Penetračný náter na nasiakavé podklady pod potery, samonivelizačné hmoty a stavebné lepidlá | G147: kg | H147: 22.368 | J147: =ROUND(I147*H147,2) -> 0 | N147: znížená | P147: =O147*H147 -> 0 | Q147: 0.001 | R147: =Q147*H147 -> 0.022368 | S147: 0 | T147: =S147*H147 -> 0 | AR147: 8 | AT147: M | AU147: 2 | AY147: ROZPOCET | BE147: =IF(N147="základná",J147,0) -> 0 | BF147: =IF(N147="znížená",J147,0) -> 0 | BG147: =IF(N147="zákl. prenesená",J147,0) -> 0 | BH147: =IF(N147="zníž. prenesená",J147,0) -> 0 | BI147: =IF(N147="nulová",J147,0) -> 0 | BJ147: 2 | BK147: =ROUND(I147*H147,2) -> 0 | BL147: 4 | BM147: 24
C148: 11 | D148: K | E148: 632452628.S | F148: Cementová samonivelizačná stierka, pevnosti v tlaku 20 MPa, hr. 20 mm | G148: m2 | H148: 108.583 | J148: =ROUND(I148*H148,2) -> 0 | N148: znížená | P148: =O148*H148 -> 0 | Q148: 0.03468 | R148: =Q148*H148 -> 3.7656584 | S148: 0 | T148: =S148*H148 -> 0 | AR148: 4 | AT148: K | AU148: 2 | AY148: ROZPOCET | BE148: =IF(N148="základná",J148,0) -> 0 | BF148: =IF(N148="znížená",J148,0) -> 0 | BG148: =IF(N148="zákl. prenesená",J148,0) -> 0 | BH148: =IF(N148="zníž. prenesená",J148,0) -> 0 | BI148: =IF(N148="nulová",J148,0) -> 0 | BJ148: 2 | BK148: =ROUND(I148*H148,2) -> 0 | BL148: 4 | BM148: 26
D149: D | E149: 9 | F149: Ostatné konštrukcie a práce-búranie | J149: =BK149 -> 0 | P149: =SUM(P150:P162) -> 0 | R149: =SUM(R150:R162) -> 0.21390851 | T149: =SUM(T150:T162) -> 5.018615 | AR149: 1 | AT149: D | AU149: 1 | AY149: ROZPOCET | BK149: =SUM(BK150:BK162) -> 0
C150: 12 | D150: K | E150: 941955002.S | F150: Lešenie ľahké pracovné pomocné s výškou lešeňovej podlahy nad 1,20 do 1,90 m | G150: m2 | H150: 108.583 | J150: =ROUND(I150*H150,2) -> 0 | N150: znížená | P150: =O150*H150 -> 0 | Q150: 0.00192 | R150: =Q150*H150 -> 0.20847936 | S150: 0 | T150: =S150*H150 -> 0 | AR150: 4 | AT150: K | AU150: 2 | AY150: ROZPOCET | BE150: =IF(N150="základná",J150,0) -> 0 | BF150: =IF(N150="znížená",J150,0) -> 0 | BG150: =IF(N150="zákl. prenesená",J150,0) -> 0 | BH150: =IF(N150="zníž. prenesená",J150,0) -> 0 | BI150: =IF(N150="nulová",J150,0) -> 0 | BJ150: 2 | BK150: =ROUND(I150*H150,2) -> 0 | BL150: 4 | BM150: 28
C151: 13 | D151: K | E151: 952901111.S | F151: Vyčistenie budov pri výške podlaží do 4 m | G151: m2 | H151: 108.583 | J151: =ROUND(I151*H151,2) -> 0 | N151: znížená | P151: =O151*H151 -> 0 | Q151: 5e-05 | R151: =Q151*H151 -> 0.00542915 | S151: 0 | T151: =S151*H151 -> 0 | AR151: 4 | AT151: K | AU151: 2 | AY151: ROZPOCET | BE151: =IF(N151="základná",J151,0) -> 0 | BF151: =IF(N151="znížená",J151,0) -> 0 | BG151: =IF(N151="zákl. prenesená",J151,0) -> 0 | BH151: =IF(N151="zníž. prenesená",J151,0) -> 0 | BI151: =IF(N151="nulová",J151,0) -> 0 | BJ151: 2 | BK151: =ROUND(I151*H151,2) -> 0 | BL151: 4 | BM151: 30
C152: 14 | D152: K | E152: 962031132.S | F152: Búranie priečok alebo vybúranie otvorov plochy nad 4 m2 z tehál pálených, plných alebo dutých hr. do 150 mm, -0,19600t | G152: m2 | H152: 4.94 | J152: =ROUND(I152*H152,2) -> 0 | N152: znížená | P152: =O152*H152 -> 0 | Q152: 0 | R152: =Q152*H152 -> 0 | S152: 0.196 | T152: =S152*H152 -> 0.96824 | AR152: 4 | AT152: K | AU152: 2 | AY152: ROZPOCET | BE152: =IF(N152="základná",J152,0) -> 0 | BF152: =IF(N152="znížená",J152,0) -> 0 | BG152: =IF(N152="zákl. prenesená",J152,0) -> 0 | BH152: =IF(N152="zníž. prenesená",J152,0) -> 0 | BI152: =IF(N152="nulová",J152,0) -> 0 | BJ152: 2 | BK152: =ROUND(I152*H152,2) -> 0 | BL152: 4 | BM152: 32
C153: 15 | D153: K | E153: 965081812.S | F153: Búranie dlažieb, z kamen., cement., terazzových, čadičových alebo keramických, hr. nad 10 mm, -0,06500t | G153: m2 | H153: 15.567 | J153: =ROUND(I153*H153,2) -> 0 | N153: znížená | P153: =O153*H153 -> 0 | Q153: 0 | R153: =Q153*H153 -> 0 | S153: 0.065 | T153: =S153*H153 -> 1.011855 | AR153: 4 | AT153: K | AU153: 2 | AY153: ROZPOCET | BE153: =IF(N153="základná",J153,0) -> 0 | BF153: =IF(N153="znížená",J153,0) -> 0 | BG153: =IF(N153="zákl. prenesená",J153,0) -> 0 | BH153: =IF(N153="zníž. prenesená",J153,0) -> 0 | BI153: =IF(N153="nulová",J153,0) -> 0 | BJ153: 2 | BK153: =ROUND(I153*H153,2) -> 0 | BL153: 4 | BM153: 34
C154: 16 | D154: K | E154: 968061125.S | F154: Vyvesenie dreveného dverného krídla do suti plochy do 2 m2, -0,02400t | G154: ks | H154: 9 | J154: =ROUND(I154*H154,2) -> 0 | N154: znížená | P154: =O154*H154 -> 0 | Q154: 0 | R154: =Q154*H154 -> 0 | S154: 0.024 | T154: =S154*H154 -> 0.216 | AR154: 4 | AT154: K | AU154: 2 | AY154: ROZPOCET | BE154: =IF(N154="základná",J154,0) -> 0 | BF154: =IF(N154="znížená",J154,0) -> 0 | BG154: =IF(N154="zákl. prenesená",J154,0) -> 0 | BH154: =IF(N154="zníž. prenesená",J154,0) -> 0 | BI154: =IF(N154="nulová",J154,0) -> 0 | BJ154: 2 | BK154: =ROUND(I154*H154,2) -> 0 | BL154: 4 | BM154: 36
C155: 17 | D155: K | E155: 974031153.S | F155: Vysekávanie rýh v akomkoľvek murive tehlovom na akúkoľvek maltu do hĺbky 100 mm a š. do 100 mm, -0,01800t | G155: m | H155: 25 | J155: =ROUND(I155*H155,2) -> 0 | N155: znížená | P155: =O155*H155 -> 0 | Q155: 0 | R155: =Q155*H155 -> 0 | S155: 0.018 | T155: =S155*H155 -> 0.45 | AR155: 4 | AT155: K | AU155: 2 | AY155: ROZPOCET | BE155: =IF(N155="základná",J155,0) -> 0 | BF155: =IF(N155="znížená",J155,0) -> 0 | BG155: =IF(N155="zákl. prenesená",J155,0) -> 0 | BH155: =IF(N155="zníž. prenesená",J155,0) -> 0 | BI155: =IF(N155="nulová",J155,0) -> 0 | BJ155: 2 | BK155: =ROUND(I155*H155,2) -> 0 | BL155: 4 | BM155: 38
C156: 18 | D156: K | E156: 978059531.S | F156: Odsekanie a odobratie obkladov stien z obkladačiek vnútorných vrátane podkladovej omietky nad 2 m2, -0,06800t | G156: m2 | H156: 34.89 | J156: =ROUND(I156*H156,2) -> 0 | N156: znížená | P156: =O156*H156 -> 0 | Q156: 0 | R156: =Q156*H156 -> 0 | S156: 0.068 | T156: =S156*H156 -> 2.37252 | AR156: 4 | AT156: K | AU156: 2 | AY156: ROZPOCET | BE156: =IF(N156="základná",J156,0) -> 0 | BF156: =IF(N156="znížená",J156,0) -> 0 | BG156: =IF(N156="zákl. prenesená",J156,0) -> 0 | BH156: =IF(N156="zníž. prenesená",J156,0) -> 0 | BI156: =IF(N156="nulová",J156,0) -> 0 | BJ156: 2 | BK156: =ROUND(I156*H156,2) -> 0 | BL156: 4 | BM156: 44
C157: 19 | D157: K | E157: 979011131.S | F157: Zvislá doprava sutiny po schodoch ručne do 3,5 m | G157: t | H157: 7.42 | J157: =ROUND(I157*H157,2) -> 0 | N157: znížená | P157: =O157*H157 -> 0 | Q157: 0 | R157: =Q157*H157 -> 0 | S157: 0 | T157: =S157*H157 -> 0 | AR157: 4 | AT157: K | AU157: 2 | AY157: ROZPOCET | BE157: =IF(N157="základná",J157,0) -> 0 | BF157: =IF(N157="znížená",J157,0) -> 0 | BG157: =IF(N157="zákl. prenesená",J157,0) -> 0 | BH157: =IF(N157="zníž. prenesená",J157,0) -> 0 | BI157: =IF(N157="nulová",J157,0) -> 0 | BJ157: 2 | BK157: =ROUND(I157*H157,2) -> 0 | BL157: 4 | BM157: 46
C158: 20 | D158: K | E158: 979011141.S | F158: Zvislá doprava sutiny po schodoch ručne, príplatok za každých ďalších 3,5 m | G158: t | H158: 7.42 | J158: =ROUND(I158*H158,2) -> 0 | N158: znížená | P158: =O158*H158 -> 0 | Q158: 0 | R158: =Q158*H158 -> 0 | S158: 0 | T158: =S158*H158 -> 0 | AR158: 4 | AT158: K | AU158: 2 | AY158: ROZPOCET | BE158: =IF(N158="základná",J158,0) -> 0 | BF158: =IF(N158="znížená",J158,0) -> 0 | BG158: =IF(N158="zákl. prenesená",J158,0) -> 0 | BH158: =IF(N158="zníž. prenesená",J158,0) -> 0 | BI158: =IF(N158="nulová",J158,0) -> 0 | BJ158: 2 | BK158: =ROUND(I158*H158,2) -> 0 | BL158: 4 | BM158: 48
C159: 21 | D159: K | E159: 979081111.S | F159: Odvoz sutiny a vybúraných hmôt na skládku do 1 km | G159: t | H159: 7.42 | J159: =ROUND(I159*H159,2) -> 0 | N159: znížená | P159: =O159*H159 -> 0 | Q159: 0 | R159: =Q159*H159 -> 0 | S159: 0 | T159: =S159*H159 -> 0 | AR159: 4 | AT159: K | AU159: 2 | AY159: ROZPOCET | BE159: =IF(N159="základná",J159,0) -> 0 | BF159: =IF(N159="znížená",J159,0) -> 0 | BG159: =IF(N159="zákl. prenesená",J159,0) -> 0 | BH159: =IF(N159="zníž. prenesená",J159,0) -> 0 | BI159: =IF(N159="nulová",J159,0) -> 0 | BJ159: 2 | BK159: =ROUND(I159*H159,2) -> 0 | BL159: 4 | BM159: 50
C160: 22 | D160: K | E160: 979081121.S | F160: Odvoz sutiny a vybúraných hmôt na skládku za každý ďalší 1 km | G160: t | H160: 74.2 | J160: =ROUND(I160*H160,2) -> 0 | N160: znížená | P160: =O160*H160 -> 0 | Q160: 0 | R160: =Q160*H160 -> 0 | S160: 0 | T160: =S160*H160 -> 0 | AR160: 4 | AT160: K | AU160: 2 | AY160: ROZPOCET | BE160: =IF(N160="základná",J160,0) -> 0 | BF160: =IF(N160="znížená",J160,0) -> 0 | BG160: =IF(N160="zákl. prenesená",J160,0) -> 0 | BH160: =IF(N160="zníž. prenesená",J160,0) -> 0 | BI160: =IF(N160="nulová",J160,0) -> 0 | BJ160: 2 | BK160: =ROUND(I160*H160,2) -> 0 | BL160: 4 | BM160: 52
C161: 23 | D161: K | E161: 979082111.S | F161: Vnútrostavenisková doprava sutiny a vybúraných hmôt do 10 m | G161: t | H161: 7.42 | J161: =ROUND(I161*H161,2) -> 0 | N161: znížená | P161: =O161*H161 -> 0 | Q161: 0 | R161: =Q161*H161 -> 0 | S161: 0 | T161: =S161*H161 -> 0 | AR161: 4 | AT161: K | AU161: 2 | AY161: ROZPOCET | BE161: =IF(N161="základná",J161,0) -> 0 | BF161: =IF(N161="znížená",J161,0) -> 0 | BG161: =IF(N161="zákl. prenesená",J161,0) -> 0 | BH161: =IF(N161="zníž. prenesená",J161,0) -> 0 | BI161: =IF(N161="nulová",J161,0) -> 0 | BJ161: 2 | BK161: =ROUND(I161*H161,2) -> 0 | BL161: 4 | BM161: 54
C162: 24 | D162: K | E162: 979089612.S | F162: Poplatok za skladovanie - iné odpady zo stavieb a demolácií (17 09), ostatné | G162: t | H162: 7.42 | J162: =ROUND(I162*H162,2) -> 0 | N162: znížená | P162: =O162*H162 -> 0 | Q162: 0 | R162: =Q162*H162 -> 0 | S162: 0 | T162: =S162*H162 -> 0 | AR162: 4 | AT162: K | AU162: 2 | AY162: ROZPOCET | BE162: =IF(N162="základná",J162,0) -> 0 | BF162: =IF(N162="znížená",J162,0) -> 0 | BG162: =IF(N162="zákl. prenesená",J162,0) -> 0 | BH162: =IF(N162="zníž. prenesená",J162,0) -> 0 | BI162: =IF(N162="nulová",J162,0) -> 0 | BJ162: 2 | BK162: =ROUND(I162*H162,2) -> 0 | BL162: 4 | BM162: 56
D163: D | E163: 99 | F163: Presun hmôt HSV | J163: =BK163 -> 0 | P163: =P164 -> 0 | R163: =R164 -> 0 | T163: =T164 -> 0 | AR163: 1 | AT163: D | AU163: 1 | AY163: ROZPOCET | BK163: =BK164 -> 0
C164: 25 | D164: K | E164: 999281111.S | F164: Presun hmôt pre opravy a údržbu objektov vrátane vonkajších plášťov výšky do 25 m | G164: t | H164: 8.935 | J164: =ROUND(I164*H164,2) -> 0 | N164: znížená | P164: =O164*H164 -> 0 | Q164: 0 | R164: =Q164*H164 -> 0 | S164: 0 | T164: =S164*H164 -> 0 | AR164: 4 | AT164: K | AU164: 2 | AY164: ROZPOCET | BE164: =IF(N164="základná",J164,0) -> 0 | BF164: =IF(N164="znížená",J164,0) -> 0 | BG164: =IF(N164="zákl. prenesená",J164,0) -> 0 | BH164: =IF(N164="zníž. prenesená",J164,0) -> 0 | BI164: =IF(N164="nulová",J164,0) -> 0 | BJ164: 2 | BK164: =ROUND(I164*H164,2) -> 0 | BL164: 4 | BM164: 58
D165: D | E165: PSV | F165: Práce a dodávky PSV | J165: =BK165 -> 0 | P165: =P166+P173+P179+P196+P200+P207+P213+P223+P233+P236+P240+P243 -> 0 | R165: =R166+R173+R179+R196+R200+R207+R213+R223+R233+R236+R240+R243 -> 0.29690481 | T165: =T166+T173+T179+T196+T200+T207+T213+T223+T233+T236+T240+T243 -> 2.367959 | AR165: 2 | AT165: D | AU165: 0 | AY165: ROZPOCET | BK165: =BK166+BK173+BK179+BK196+BK200+BK207+BK213+BK223+BK233+BK236+BK240+BK243 -> 0
D166: D | E166: 721 | F166: Zdravotechnika - vnútorná kanalizácia | J166: =BK166 -> 0 | P166: =SUM(P167:P172) -> 0 | R166: =SUM(R167:R172) -> 0.042621 | T166: =SUM(T167:T172) -> 0.395385 | AR166: 2 | AT166: D | AU166: 1 | AY166: ROZPOCET | BK166: =SUM(BK167:BK172) -> 0
...

Sheet 02 - Elektroinštalácia
L2: >> skryté stĺpce << | AT2: {23385008-42f1-43d5-b996-0f8df44dbba1}
AT3: 0
D4: KRYCÍ LIST ROZPOČTU | M4: v --- nižšie sa nachádzajú doplnkové a pomocné údaje k zostavám --- v | AT4: False
D6: Stavba:
E7: ='Rekapitulácia stavby'!K6 -> Dvojlesňovňa Psíčová
D8: Objekt:
E9: 02 - Elektroinštalácia
D11: JKSO: | I11: KS:
D12: Miesto: | F12: kat. územie Sedliská | I12: Dátum: | J12: ='Rekapitulácia stavby'!AN8 -> 28. 2. 2022
D14: Objednávateľ: | I14: IČO:
E15: LESY Slovenskej republiky | I15: IČ DPH:
D17: Zhotoviteľ: | I17: IČO: | J17: ='Rekapitulácia stavby'!AN13 -> Vyplň údaj
E18: ='Rekapitulácia stavby'!E14 -> Vyplň údaj | I18: IČ DPH: | J18: ='Rekapitulácia stavby'!AN14 -> Vyplň údaj
D20: Projektant: | I20: IČO: | J20: =IF('Rekapitulácia stavby'!AN16="","",'Rekapitulácia stavby'!AN16)
E21: =IF('Rekapitulácia stavby'!E17="","",'Rekapitulácia stavby'!E17) | I21: IČ DPH: | J21: =IF('Rekapitulácia stavby'!AN17="","",'Rekapitulácia stavby'!AN17)
D23: Spracovateľ: | I23: IČO: | J23: =IF('Rekapitulácia stavby'!AN19="","",'Rekapitulácia stavby'!AN19)
E24: =IF('Rekapitulácia stavby'!E20="","",'Rekapitulácia stavby'!E20) | I24: IČ DPH: | J24: =IF('Rekapitulácia stavby'!AN20="","",'Rekapitulácia stavby'!AN20)
D26: Poznámka:
D30: Cena bez DPH | J30: =ROUND(J118, 2) -> 0
F32: Základ dane | I32: Sadzba dane | J32: Výška dane
D33: DPH | E33: základná | F33: =ROUND((SUM(BE118:BE159)), 2) -> 0 | I33: 0.2 | J33: =ROUND(((SUM(BE118:BE159))*I33), 2) -> 0
E34: znížená | F34: =ROUND((SUM(BF118:BF159)), 2) -> 0 | I34: 0.2 | J34: =ROUND(((SUM(BF118:BF159))*I34), 2) -> 0
E35: zákl. prenesená | F35: =ROUND((SUM(BG118:BG159)), 2) -> 0 | I35: 0.2 | J35: =0 -> 0
E36: zníž. prenesená | F36: =ROUND((SUM(BH118:BH159)), 2) -> 0 | I36: 0.2 | J36: =0 -> 0
E37: nulová | F37: =ROUND((SUM(BI118:BI159)), 2) -> 0 | I37: 0 | J37: =0 -> 0
D39: Cena s DPH | G39: v | H39: EUR | J39: =SUM(J30:J37) -> 0
D50: Projektant | G50: Spracovateľ
D61: Dátum a podpis: | F61: Pečiatka | G61: Dátum a podpis: | J61: Pečiatka
D65: Objednávateľ | G65: Zhotoviteľ
D76: Dátum a podpis: | F76: Pečiatka | G76: Dátum a podpis: | J76: Pečiatka
C82: REKAPITULÁCIA ROZPOČTU
C84: Stavba:
E85: =E7 -> Dvojlesňovňa Psíčová
C86: Objekt:
E87: =E9 -> 02 - Elektroinštalácia
C89: Miesto: | F89: =F12 -> kat. územie Sedliská | I89: Dátum: | J89: =IF(J12="","",J12) -> 28. 2. 2022
C91: Objednávateľ: | F91: =E15 -> LESY Slovenskej republiky | I91: Projektant: | J91: =E21
C92: Zhotoviteľ: | F92: =IF(E18="","",E18) -> Vyplň údaj | I92: Spracovateľ: | J92: =E24
C94: Kód dielu - Popis | J94: Cena celkom [EUR]
C96: Náklady z rozpočtu | J96: =J118 -> 0 | AU96: -1
D97: M - Práce a dodávky M | J97: =J119 -> 0
D98: 21-M - Elektromontáže | J98: =J120 -> 0
C105: ROZPOČET
C107: Stavba:
E108: =E7 -> Dvojlesňovňa Psíčová
C109: Objekt:
E110: =E9 -> 02 - Elektroinštalácia
C112: Miesto: | F112: =F12 -> kat. územie Sedliská | I112: Dátum: | J112: =IF(J12="","",J12) -> 28. 2. 2022
C114: Objednávateľ: | F114: =E15 -> LESY Slovenskej republiky | I114: Projektant: | J114: =E21
C115: Zhotoviteľ: | F115: =IF(E18="","",E18) -> Vyplň údaj | I115: Spracovateľ: | J115: =E24
C117: PČ | D117: Typ | E117: Kód | F117: Popis | G117: MJ | H117: Množstvo | I117: J.cena [EUR] | J117: Cena celkom [EUR] | K117: Cenová sústava | N117: DPH | O117: J. Nh [h] | P117: Nh celkom [h] | Q117: J. hmotnosť [t] | R117: Hmotnosť celkom [t] | S117: J. suť [t] | T117: Suť Celkom [t]
C118: Náklady z rozpočtu | J118: =BK118 -> 0 | P118: =P119 -> 0 | R118: =R119 -> 0.0008 | T118: =T119 -> 0 | AT118: D | AU118: -1 | BK118: =BK119 -> 0
D119: D | E119: M | F119: Práce a dodávky M | J119: =BK119 -> 0 | P119: =P120 -> 0 | R119: =R120 -> 0.0008 | T119: =T120 -> 0 | AR119: 3 | AT119: D | AU119: 0 | AY119: ROZPOCET | BK119: =BK120 -> 0
D120: D | E120: 21-M | F120: Elektromontáže | J120: =BK120 -> 0 | P120: =SUM(P121:P159) -> 0 | R120: =SUM(R121:R159) -> 0.0008 | T120: =SUM(T121:T159) -> 0 | AR120: 3 | AT120: D | AU120: 1 | AY120: ROZPOCET | BK120: =SUM(BK121:BK159) -> 0
C121: 1 | D121: M | E121: 1 | F121: Krabica 6455-11 | G121: ks | H121: 2 | J121: =ROUND(I121*H121,2) -> 0 | N121: znížená | P121: =O121*H121 -> 0 | Q121: 0 | R121: =Q121*H121 -> 0 | S121: 0 | T121: =S121*H121 -> 0 | AR121: 256 | AT121: M | AU121: 2 | AY121: ROZPOCET | BE121: =IF(N121="základná",J121,0) -> 0 | BF121: =IF(N121="znížená",J121,0) -> 0 | BG121: =IF(N121="zákl. prenesená",J121,0) -> 0 | BH121: =IF(N121="zníž. prenesená",J121,0) -> 0 | BI121: =IF(N121="nulová",J121,0) -> 0 | BJ121: 2 | BK121: =ROUND(I121*H121,2) -> 0 | BL121: 64 | BM121: -1010909431
C122: 2 | D122: M | E122: 2 | F122: Krab.prístrojová /1901, KP68, KZ3/ | G122: ks | H122: 78 | J122: =ROUND(I122*H122,2) -> 0 | N122: znížená | P122: =O122*H122 -> 0 | Q122: 0 | R122: =Q122*H122 -> 0 | S122: 0 | T122: =S122*H122 -> 0 | AR122: 256 | AT122: M | AU122: 2 | AY122: ROZPOCET | BE122: =IF(N122="základná",J122,0) -> 0 | BF122: =IF(N122="znížená",J122,0) -> 0 | BG122: =IF(N122="zákl. prenesená",J122,0) -> 0 | BH122: =IF(N122="zníž. prenesená",J122,0) -> 0 | BI122: =IF(N122="nulová",J122,0) -> 0 | BJ122: 2 | BK122: =ROUND(I122*H122,2) -> 0 | BL122: 64 | BM122: 1094940294
C123: 3 | D123: M | E123: 3 | F123: Krab.odboč.s víčkom.svor./1903, KR68/ kruhová | G123: ks | H123: 25 | J123: =ROUND(I123*H123,2) -> 0 | N123: znížená | P123: =O123*H123 -> 0 | Q123: 0 | R123: =Q123*H123 -> 0 | S123: 0 | T123: =S123*H123 -> 0 | AR123: 256 | AT123: M | AU123: 2 | AY123: ROZPOCET | BE123: =IF(N123="základná",J123,0) -> 0 | BF123: =IF(N123="znížená",J123,0) -> 0 | BG123: =IF(N123="zákl. prenesená",J123,0) -> 0 | BH123: =IF(N123="zníž. prenesená",J123,0) -> 0 | BI123: =IF(N123="nulová",J123,0) -> 0 | BJ123: 2 | BK123: =ROUND(I123*H123,2) -> 0 | BL123: 64 | BM123: 1171724125
C124: 4 | D124: M | E124: 4 | F124: Krab.odboč.s viečkom./KO125/ kruhová | G124: ks | H124: 1 | J124: =ROUND(I124*H124,2) -> 0 | N124: znížená | P124: =O124*H124 -> 0 | Q124: 0 | R124: =Q124*H124 -> 0 | S124: 0 | T124: =S124*H124 -> 0 | AR124: 256 | AT124: M | AU124: 2 | AY124: ROZPOCET | BE124: =IF(N124="základná",J124,0) -> 0 | BF124: =IF(N124="znížená",J124,0) -> 0 | BG124: =IF(N124="zákl. prenesená",J124,0) -> 0 | BH124: =IF(N124="zníž. prenesená",J124,0) -> 0 | BI124: =IF(N124="nulová",J124,0) -> 0 | BJ124: 2 | BK124: =ROUND(I124*H124,2) -> 0 | BL124: 64 | BM124: -1312531216
C125: 5 | D125: M | E125: 5 | F125: Rúrka tuhá plastová Ø20mm | G125: m | H125: 34 | J125: =ROUND(I125*H125,2) -> 0 | N125: znížená | P125: =O125*H125 -> 0 | Q125: 0 | R125: =Q125*H125 -> 0 | S125: 0 | T125: =S125*H125 -> 0 | AR125: 256 | AT125: M | AU125: 2 | AY125: ROZPOCET | BE125: =IF(N125="základná",J125,0) -> 0 | BF125: =IF(N125="znížená",J125,0) -> 0 | BG125: =IF(N125="zákl. prenesená",J125,0) -> 0 | BH125: =IF(N125="zníž. prenesená",J125,0) -> 0 | BI125: =IF(N125="nulová",J125,0) -> 0 | BJ125: 2 | BK125: =ROUND(I125*H125,2) -> 0 | BL125: 64 | BM125: 494139251
C126: 6 | D126: M | E126: 6 | F126: Rúrka ohybná plastová Ø16mm | G126: m | H126: 54 | J126: =ROUND(I126*H126,2) -> 0 | N126: znížená | P126: =O126*H126 -> 0 | Q126: 0 | R126: =Q126*H126 -> 0 | S126: 0 | T126: =S126*H126 -> 0 | AR126: 256 | AT126: M | AU126: 2 | AY126: ROZPOCET | BE126: =IF(N126="základná",J126,0) -> 0 | BF126: =IF(N126="znížená",J126,0) -> 0 | BG126: =IF(N126="zákl. prenesená",J126,0) -> 0 | BH126: =IF(N126="zníž. prenesená",J126,0) -> 0 | BI126: =IF(N126="nulová",J126,0) -> 0 | BJ126: 2 | BK126: =ROUND(I126*H126,2) -> 0 | BL126: 64 | BM126: 1920623452
C127: 7 | D127: M | E127: 7 | F127: Osadenie lustrovej svorky do 4x4 včetne zapojenia | G127: ks | H127: 22 | J127: =ROUND(I127*H127,2) -> 0 | N127: znížená | P127: =O127*H127 -> 0 | Q127: 0 | R127: =Q127*H127 -> 0 | S127: 0 | T127: =S127*H127 -> 0 | AR127: 256 | AT127: M | AU127: 2 | AY127: ROZPOCET | BE127: =IF(N127="základná",J127,0) -> 0 | BF127: =IF(N127="znížená",J127,0) -> 0 | BG127: =IF(N127="zákl. prenesená",J127,0) -> 0 | BH127: =IF(N127="zníž. prenesená",J127,0) -> 0 | BI127: =IF(N127="nulová",J127,0) -> 0 | BJ127: 2 | BK127: =ROUND(I127*H127,2) -> 0 | BL127: 64 | BM127: -1655392419
C128: 8 | D128: M | E128: 8 | F128: Výstražné a označovacie tabulky pre kúpelne | G128: ks | H128: 2 | J128: =ROUND(I128*H128,2) -> 0 | N128: znížená | P128: =O128*H128 -> 0 | Q128: 0 | R128: =Q128*H128 -> 0 | S128: 0 | T128: =S128*H128 -> 0 | AR128: 256 | AT128: M | AU128: 2 | AY128: ROZPOCET | BE128: =IF(N128="základná",J128,0) -> 0 | BF128: =IF(N128="znížená",J128,0) -> 0 | BG128: =IF(N128="zákl. prenesená",J128,0) -> 0 | BH128: =IF(N128="zníž. prenesená",J128,0) -> 0 | BI128: =IF(N128="nulová",J128,0) -> 0 | BJ128: 2 | BK128: =ROUND(I128*H128,2) -> 0 | BL128: 64 | BM128: -1586509504
C129: 9 | D129: M | E129: 9 | F129: Výstražná a označovacia tabuľka A4 | G129: ks | H129: 3 | J129: =ROUND(I129*H129,2) -> 0 | N129: znížená | P129: =O129*H129 -> 0 | Q129: 0 | R129: =Q129*H129 -> 0 | S129: 0 | T129: =S129*H129 -> 0 | AR129: 256 | AT129: M | AU129: 2 | AY129: ROZPOCET | BE129: =IF(N129="základná",J129,0) -> 0 | BF129: =IF(N129="znížená",J129,0) -> 0 | BG129: =IF(N129="zákl. prenesená",J129,0) -> 0 | BH129: =IF(N129="zníž. prenesená",J129,0) -> 0 | BI129: =IF(N129="nulová",J129,0) -> 0 | BJ129: 2 | BK129: =ROUND(I129*H129,2) -> 0 | BL129: 64 | BM129: -1552371529
C130: 10 | D130: M | E130: 10 | F130: Ukončenie vodičov do 6mm v rozvádzači | G130: ks | H130: 56 | J130: =ROUND(I130*H130,2) -> 0 | N130: znížená | P130: =O130*H130 -> 0 | Q130: 0 | R130: =Q130*H130 -> 0 | S130: 0 | T130: =S130*H130 -> 0 | AR130: 256 | AT130: M | AU130: 2 | AY130: ROZPOCET | BE130: =IF(N130="základná",J130,0) -> 0 | BF130: =IF(N130="znížená",J130,0) -> 0 | BG130: =IF(N130="zákl. prenesená",J130,0) -> 0 | BH130: =IF(N130="zníž. prenesená",J130,0) -> 0 | BI130: =IF(N130="nulová",J130,0) -> 0 | BJ130: 2 | BK130: =ROUND(I130*H130,2) -> 0 | BL130: 64 | BM130: 894511339
C131: 11 | D131: M | E131: 11 | F131: Zapojenie ventilátora s dobehovým relé | G131: ks | H131: 1 | J131: =ROUND(I131*H131,2) -> 0 | N131: znížená | P131: =O131*H131 -> 0 | Q131: 0 | R131: =Q131*H131 -> 0 | S131: 0 | T131: =S131*H131 -> 0 | AR131: 256 | AT131: M | AU131: 2 | AY131: ROZPOCET | BE131: =IF(N131="základná",J131,0) -> 0 | BF131: =IF(N131="znížená",J131,0) -> 0 | BG131: =IF(N131="zákl. prenesená",J131,0) -> 0 | BH131: =IF(N131="zníž. prenesená",J131,0) -> 0 | BI131: =IF(N131="nulová",J131,0) -> 0 | BJ131: 2 | BK131: =ROUND(I131*H131,2) -> 0 | BL131: 64 | BM131: 962982674
C132: 12 | D132: M | E132: 12 | F132: Spínač, radenie č. 1 | G132: ks | H132: 8 | J132: =ROUND(I132*H132,2) -> 0 | N132: znížená | P132: =O132*H132 -> 0 | Q132: 0.0001 | R132: =Q132*H132 -> 0.0008 | S132: 0 | T132: =S132*H132 -> 0 | AR132: 256 | AT132: M | AU132: 2 | AY132: ROZPOCET | BE132: =IF(N132="základná",J132,0) -> 0 | BF132: =IF(N132="znížená",J132,0) -> 0 | BG132: =IF(N132="zákl. prenesená",J132,0) -> 0 | BH132: =IF(N132="zníž. prenesená",J132,0) -> 0 | BI132: =IF(N132="nulová",J132,0) -> 0 | BJ132: 2 | BK132: =ROUND(I132*H132,2) -> 0 | BL132: 64 | BM132: 1217863291
... C159: 39 | D159: M | E159: 39 | F159: ROZVODNICA RE | G159: ks | H159: 1 | J159: =ROUND(I159*H159,2) -> 0 | N159: znížená | P159: =O159*H159 -> 0 | Q159: 0 | R159: =Q159*H159 -> 0 | S159: 0 | T159: =S159*H159 -> 0 | AR159: 256 | AT159: M | AU159: 2 | AY159: ROZPOCET | BE159: =IF(N159="základná",J159,0) -> 0 | BF159: =IF(N159="znížená",J159,0) -> 0 | BG159: =IF(N159="zákl. prenesená",J159,0) -> 0 | BH159: =IF(N159="zníž. prenesená",J159,0) -> 0 | BI159: =IF(N159="nulová",J159,0) -> 0 | BJ159: 2 | BK159: =ROUND(I159*H159,2) -> 0 | BL159: 64 | BM159: -76022673

Sheet 03 - Ústredné vykurovanie
L2: >> skryté stĺpce << | AT2: {2f9c6e59-c470-4987-bac2-310f67242723}
AT3: 0
D4: KRYCÍ LIST ROZPOČTU | M4: v --- nižšie sa nachádzajú doplnkové a pomocné údaje k zostavám --- v | AT4: False
D6: Stavba:
E7: ='Rekapitulácia stavby'!K6 -> Dvojlesňovňa Psíčová
D8: Objekt:
E9: 03 - Ústredné vykurovanie
D11: JKSO: | I11: KS:
D12: Miesto: | F12: kat. územie Sedliská | I12: Dátum: | J12: ='Rekapitulácia stavby'!AN8 -> 28. 2. 2022
D14: Objednávateľ: | I14: IČO:
E15: LESY Slovenskej republiky | I15: IČ DPH:
D17: Zhotoviteľ: | I17: IČO: | J17: ='Rekapitulácia stavby'!AN13 -> Vyplň údaj
E18: ='Rekapitulácia stavby'!E14 -> Vyplň údaj | I18: IČ DPH: | J18: ='Rekapitulácia stavby'!AN14 -> Vyplň údaj
D20: Projektant: | I20: IČO: | J20: =IF('Rekapitulácia stavby'!AN16="","",'Rekapitulácia stavby'!AN16)
E21: =IF('Rekapitulácia stavby'!E17="","",'Rekapitulácia stavby'!E17) | I21: IČ DPH: | J21: =IF('Rekapitulácia stavby'!AN17="","",'Rekapitulácia stavby'!AN17)
D23: Spracovateľ: | I23: IČO: | J23: =IF('Rekapitulácia stavby'!AN19="","",'Rekapitulácia stavby'!AN19)
E24: =IF('Rekapitulácia stavby'!E20="","",'Rekapitulácia stavby'!E20) | I24: IČ DPH: | J24: =IF('Rekapitulácia stavby'!AN20="","",'Rekapitulácia stavby'!AN20)
D26: Poznámka:
D30: Cena bez DPH | J30: =ROUND(J128, 2) -> 0
F32: Základ dane | I32: Sadzba dane | J32: Výška dane
D33: DPH | E33: základná | F33: =ROUND((SUM(BE128:BE201)), 2) -> 0 | I33: 0.2 | J33: =ROUND(((SUM(BE128:BE201))*I33), 2) -> 0
E34: znížená | F34: =ROUND((SUM(BF128:BF201)), 2) -> 0 | I34: 0.2 | J34: =ROUND(((SUM(BF128:BF201))*I34), 2) -> 0
E35: zákl. prenesená | F35: =ROUND((SUM(BG128:BG201)), 2) -> 0 | I35: 0.2 | J35: =0 -> 0
E36: zníž. prenesená | F36: =ROUND((SUM(BH128:BH201)), 2) -> 0 | I36: 0.2 | J36: =0 -> 0
E37: nulová | F37: =ROUND((SUM(BI128:BI201)), 2) -> 0 | I37: 0 | J37: =0 -> 0
D39: Cena s DPH | G39: v | H39: EUR | J39: =SUM(J30:J37) -> 0
D50: Projektant | G50: Spracovateľ
D61: Dátum a podpis: | F61: Pečiatka | G61: Dátum a podpis: | J61: Pečiatka
D65: Objednávateľ | G65: Zhotoviteľ
D76: Dátum a podpis: | F76: Pečiatka | G76: Dátum a podpis: | J76: Pečiatka
C82: REKAPITULÁCIA ROZPOČTU
C84: Stavba:
E85: =E7 -> Dvojlesňovňa Psíčová
C86: Objekt:
E87: =E9 -> 03 - Ústredné vykurovanie
C89: Miesto: | F89: =F12 -> kat. územie Sedliská | I89: Dátum: | J89: =IF(J12="","",J12) -> 28. 2. 2022
C91: Objednávateľ: | F91: =E15 -> LESY Slovenskej republiky | I91: Projektant: | J91: =E21
C92: Zhotoviteľ: | F92: =IF(E18="","",E18) -> Vyplň údaj | I92: Spracovateľ: | J92: =E24
C94: Kód dielu - Popis | J94: Cena celkom [EUR]
C96: Náklady z rozpočtu | J96: =J128 -> 0 | AU96: -1
D97: PSV - Práce a dodávky PSV | J97: =J129 -> 0
D98: 713 - Izolácie tepelné | J98: =J130 -> 0
D99: 731 - Ústredné kúrenie - kotolne | J99: =J135 -> 0
D100: 732 - Ústredné kúrenie - strojovne | J100: =J141 -> 0
D101: 733 - Ústredné kúrenie - rozvodné potrubie | J101: =J157 -> 0
D102: 734 - Ústredné kúrenie - armatúry | J102: =J164 -> 0
D103: 735 - Ústredné kúrenie - vykurovacie telesá | J103: =J181 -> 0
D104: 767 - Konštrukcie doplnkové kovové | J104: =J190 -> 0
D105: M - Práce a dodávky M | J105: =J192 -> 0
D106: 95-M - Revízie | J106: =J193 -> 0
D107: HZS - Hodinové zúčtovacie sadzby | J107: =J195 -> 0
D108: VRN - Vedľajšie rozpočtové náklady | J108: =J198 -> 0
C115: ROZPOČET
C117: Stavba:
E118: =E7 -> Dvojlesňovňa Psíčová
C119: Objekt:
E120: =E9 -> 03 - Ústredné vykurovanie
C122: Miesto: | F122: =F12 -> kat. územie Sedliská | I122: Dátum: | J122: =IF(J12="","",J12) -> 28. 2. 2022
C124: Objednávateľ: | F124: =E15 -> LESY Slovenskej republiky | I124: Projektant: | J124: =E21
C125: Zhotoviteľ: | F125: =IF(E18="","",E18) -> Vyplň údaj | I125: Spracovateľ: | J125: =E24
C127: PČ | D127: Typ | E127: Kód | F127: Popis | G127: MJ | H127: Množstvo | I127: J.cena [EUR] | J127: Cena celkom [EUR] | K127: Cenová sústava | N127: DPH | O127: J. Nh [h] | P127: Nh celkom [h] | Q127: J. hmotnosť [t] | R127: Hmotnosť celkom [t] | S127: J. suť [t] | T127: Suť Celkom [t]
C128: Náklady z rozpočtu | J128: =BK128 -> 0 | P128: =P129+P192+P195+P198 -> 0 | R128: =R129+R192+R195+R198 -> 2.00373 | T128: =T129+T192+T195+T198 -> 0 | AT128: D | AU128: -1 | BK128: =BK129+BK192+BK195+BK198 -> 0
D129: D | E129: PSV | F129: Práce a dodávky PSV | J129: =BK129 -> 0 | P129: =P130+P135+P141+P157+P164+P181+P190 -> 0 | R129: =R130+R135+R141+R157+R164+R181+R190 -> 2.00373 | T129: =T130+T135+T141+T157+T164+T181+T190 -> 0 | AR129: 2 | AT129: D | AU129: 0 | AY129: ROZPOCET | BK129: =BK130+BK135+BK141+BK157+BK164+BK181+BK190 -> 0
D130: D | E130: 713 | F130: Izolácie tepelné | J130: =BK130 -> 0 | P130: =SUM(P131:P134) -> 0 | R130: =SUM(R131:R134) -> 0.00232 | T130: =SUM(T131:T134) -> 0 | AR130: 2 | AT130: D | AU130: 1 | AY130: ROZPOCET | BK130: =SUM(BK131:BK134) -> 0
C131: 1 | D131: M | E131: 283310004500 | F131: Izolačná PE trubica DG 15x20 mm (d potrubia x hr. izolácie), nadrezaná | G131: m | H131: 4 | J131: =ROUND(I131*H131,2) -> 0 | N131: znížená | P131: =O131*H131 -> 0 | Q131: 2e-05 | R131: =Q131*H131 -> 8e-05 | S131: 0 | T131: =S131*H131 -> 0 | AR131: 32 | AT131: M | AU131: 2 | AY131: ROZPOCET | BE131: =IF(N131="základná",J131,0) -> 0 | BF131: =IF(N131="znížená",J131,0) -> 0 | BG131: =IF(N131="zákl. prenesená",J131,0) -> 0 | BH131: =IF(N131="zníž. prenesená",J131,0) -> 0 | BI131: =IF(N131="nulová",J131,0) -> 0 | BJ131: 2 | BK131: =ROUND(I131*H131,2) -> 0 | BL131: 16 | BM131: -797385910
C132: 2 | D132: M | E132: 283310004800 | F132: Izolačná PE trubica DG 28x20 mm (d potrubia x hr. izolácie), nadrezaná | G132: m | H132: 42 | J132: =ROUND(I132*H132,2) -> 0 | N132: znížená | P132: =O132*H132 -> 0 | Q132: 2e-05 | R132: =Q132*H132 -> 0.00084 | S132: 0 | T132: =S132*H132 -> 0 | AR132: 32 | AT132: M | AU132: 2 | AY132: ROZPOCET | BE132: =IF(N132="základná",J132,0) -> 0 | BF132: =IF(N132="znížená",J132,0) -> 0 | BG132: =IF(N132="zákl. prenesená",J132,0) -> 0 | BH132: =IF(N132="zníž. prenesená",J132,0) -> 0 | BI132: =IF(N132="nulová",J132,0) -> 0 | BJ132: 2 | BK132: =ROUND(I132*H132,2) -> 0 | BL132: 16 | BM132: -1351450722
C133: 3 | D133: M | E133: 283310004900 | F133: Izolačná PE trubica DG 35x20 mm (d potrubia x hr. izolácie), nadrezaná | G133: m | H133: 8 | J133: =ROUND(I133*H133,2) -> 0 | N133: znížená | P133: =O133*H133 -> 0 | Q133: 4e-05 | R133: =Q133*H133 -> 0.00032 | S133: 0 | T133: =S133*H133 -> 0 | AR133: 32 | AT133: M | AU133: 2 | AY133: ROZPOCET | BE133: =IF(N133="základná",J133,0) -> 0 | BF133: =IF(N133="znížená",J133,0) -> 0 | BG133: =IF(N133="zákl. prenesená",J133,0) -> 0 | BH133: =IF(N133="zníž. prenesená",J133,0) -> 0 | BI133: =IF(N133="nulová",J133,0) -> 0 | BJ133: 2 | BK133: =ROUND(I133*H133,2) -> 0 | BL133: 16 | BM133: 98809519
C134: 4 | D134: K | E134: 713482121 | F134: Montáž trubíc z PE, hr.15-20 mm,vnút.priemer do 38 mm | G134: m | H134: 54 | J134: =ROUND(I134*H134,2) -> 0 | N134: znížená | P134: =O134*H134 -> 0 | Q134: 2e-05 | R134: =Q134*H134 -> 0.00108 | S134: 0 | T134: =S134*H134 -> 0 | AR134: 16 | AT134: K | AU134: 2 | AY134: ROZPOCET | BE134: =IF(N134="základná",J134,0) -> 0 | BF134: =IF(N134="znížená",J134,0) -> 0 | BG134: =IF(N134="zákl. prenesená",J134,0) -> 0 | BH134: =IF(N134="zníž. prenesená",J134,0) -> 0 | BI134: =IF(N134="nulová",J134,0) -> 0 | BJ134: 2 | BK134: =ROUND(I134*H134,2) -> 0 | BL134: 16 | BM134: 1391925306
D135: D | E135: 731 | F135: Ústredné kúrenie - kotolne | J135: =BK135 -> 0 | P135: =SUM(P136:P140) -> 0 | R135: =SUM(R136:R140) -> 0.93676 | T135: =SUM(T136:T140) -> 0 | AR135: 2 | AT135: D | AU135: 1 | AY135: ROZPOCET | BK135: =SUM(BK136:BK140) -> 0
C136: 5 | D136: K | E136: 731240000 | F136: Montáž kotla oceľového na tuhé palivo výkon do 20 kW | G136: ks | H136: 1 | J136: =ROUND(I136*H136,2) -> 0 | N136: znížená | P136: =O136*H136 -> 0 | Q136: 0 | R136: =Q136*H136 -> 0 | S136: 0 | T136: =S136*H136 -> 0 | AR136: 16 | AT136: K | AU136: 2 | AY136: ROZPOCET | BE136: =IF(N136="základná",J136,0) -> 0 | BF136: =IF(N136="znížená",J136,0) -> 0 | BG136: =IF(N136="zákl. prenesená",J136,0) -> 0 | BH136: =IF(N136="zníž. prenesená",J136,0) -> 0 | BI136: =IF(N136="nulová",J136,0) -> 0 | BJ136: 2 | BK136: =ROUND(I136*H136,2) -> 0 | BL136: 16 | BM136: 249077430
C137: 6 | D137: M | E137: 484120019700 | F137: Kotol stacionárny oceľový na tuhé palivo 15 kW | G137: ks | H137: 1 | J137: =ROUND(I137*H137,2) -> 0 | N137: znížená | P137: =O137*H137 -> 0 | Q137: 0.215 | R137: =Q137*H137 -> 0.215 | S137: 0 | T137: =S137*H137 -> 0 | AR137: 32 | AT137: M | AU137: 2 | AY137: ROZPOCET | BE137: =IF(N137="základná",J137,0) -> 0 | BF137: =IF(N137="znížená",J137,0) -> 0 | BG137: =IF(N137="zákl. prenesená",J137,0) -> 0 | BH137: =IF(N137="zníž. prenesená",J137,0) -> 0 | BI137: =IF(N137="nulová",J137,0) -> 0 | BJ137: 2 | BK137: =ROUND(I137*H137,2) -> 0 | BL137: 16 | BM137: 1858843175
C138: 7 | D138: M | E138: 484120019800 | F138: Dochladzovací okruh | G138: ks | H138: 1 | J138: =ROUND(I138*H138,2) -> 0 | N138: znížená | P138: =O138*H138 -> 0 | Q138: 0.23 | R138: =Q138*H138 -> 0.23 | S138: 0 | T138: =S138*H138 -> 0 | AR138: 32 | AT138: M | AU138: 2 | AY138: ROZPOCET | BE138: =IF(N138="základná",J138,0) -> 0 | BF138: =IF(N138="znížená",J138,0) -> 0 | BG138: =IF(N138="zákl. prenesená",J138,0) -> 0 | BH138: =IF(N138="zníž. prenesená",J138,0) -> 0 | BI138: =IF(N138="nulová",J138,0) -> 0 | BJ138: 2 | BK138: =ROUND(I138*H138,2) -> 0 | BL138: 16 | BM138: 242765402
C139: 8 | D139: K | E139: 731360141 | F139: Nerezový komín DN 200, výšky 8 m | G139: súb. | H139: 1 | J139: =ROUND(I139*H139,2) -> 0 | N139: znížená | P139: =O139*H139 -> 0 | Q139: 0.00719 | R139: =Q139*H139 -> 0.00719 | S139: 0 | T139: =S139*H139 -> 0 | AR139: 16 | AT139: K | AU139: 2 | AY139: ROZPOCET | BE139: =IF(N139="základná",J139,0) -> 0 | BF139: =IF(N139="znížená",J139,0) -> 0 | BG139: =IF(N139="zákl. prenesená",J139,0) -> 0 | BH139: =IF(N139="zníž. prenesená",J139,0) -> 0 | BI139: =IF(N139="nulová",J139,0) -> 0 | BJ139: 2 | BK139: =ROUND(I139*H139,2) -> 0 | BL139: 16 | BM139: 1441379615
C140: 9 | D140: K | E140: 731361221 | F140: Nerezový dymovod DN 150 mm, dĺžky 1m vrátane montáže | G140: súb. | H140: 1 | J140: =ROUND(I140*H140,2) -> 0 | N140: znížená | P140: =O140*H140 -> 0 | Q140: 0.48457 | R140: =Q140*H140 -> 0.48457 | S140: 0 | T140: =S140*H140 -> 0 | AR140: 16 | AT140: K | AU140: 2 | AY140: ROZPOCET | BE140: =IF(N140="základná",J140,0) -> 0 | BF140: =IF(N140="znížená",J140,0) -> 0 | BG140: =IF(N140="zákl. prenesená",J140,0) -> 0 | BH140: =IF(N140="zníž. prenesená",J140,0) -> 0 | BI140: =IF(N140="nulová",J140,0) -> 0 | BJ140: 2 | BK140: =ROUND(I140*H140,2) -> 0 | BL140: 16 | BM140: -1008574634
D141: D | E141: 732 | F141: Ústredné kúrenie - strojovne | J141: =BK141 -> 0 | P141: =SUM(P142:P156) -> 0 | R141: =SUM(R142:R156) -> 0.4909 | T141: =SUM(T142:T156) -> 0 | AR141: 2 | AT141: D | AU141: 1 | AY141: ROZPOCET | BK141: =SUM(BK142:BK156) -> 0
C142: 10 | D142: K | E142: 732111401 | F142: Montáž rozdeľovača a zberača združeného prietok Q 5 m3/h (modul 65) | G142: ks | H142: 2 | J142: =ROUND(I142*H142,2) -> 0 | N142: znížená | P142: =O142*H142 -> 0 | Q142: 9e-05 | R142: =Q142*H142 -> 0.00018 | S142: 0 | T142: =S142*H142 -> 0 | AR142: 16 | AT142: K | AU142: 2 | AY142: ROZPOCET | BE142: =IF(N142="základná",J142,0) -> 0 | BF142: =IF(N142="znížená",J142,0) -> 0 | BG142: =IF(N142="zákl. prenesená",J142,0) -> 0 | BH142: =IF(N142="zníž. prenesená",J142,0) -> 0 | BI142: =IF(N142="nulová",J142,0) -> 0 | BJ142: 2 | BK142: =ROUND(I142*H142,2) -> 0 | BL142: 16 | BM142: 1189633662
C143: 11 | D143: M | E143: 484650000100 | F143: Rozdeľovač a zberač modul 65 mm, max. prietok 5 m3/hod, prevádzková teplota 110°C, pretlak 0,6 MPa | G143: m | H143: 2 | J143: =ROUND(I143*H143,2) -> 0 | N143: znížená | P143: =O143*H143 -> 0 | Q143: 0.02 | R143: =Q143*H143 -> 0.04 | S143: 0 | T143: =S143*H143 -> 0 | AR143: 32 | AT143: M | AU143: 2 | AY143: ROZPOCET | BE143: =IF(N143="základná",J143,0) -> 0 | BF143: =IF(N143="znížená",J143,0) -> 0 | BG143: =IF(N143="zákl. prenesená",J143,0) -> 0 | BH143: =IF(N143="zníž. prenesená",J143,0) -> 0 | BI143: =IF(N143="nulová",J143,0) -> 0 | BJ143: 2 | BK143: =ROUND(I143*H143,2) -> 0 | BL143: 16 | BM143: -2125509392
C144: 12 | D144: M | E144: 484650038600 | F144: Pevný stojan modul 80, výška 200-800 mm pre rozdeľovače a zberače | G144: ks | H144: 4 | J144: =ROUND(I144*H144,2) -> 0 | N144: znížená | P144: =O144*H144 -> 0 | Q144: 0.0032 | R144: =Q144*H144 -> 0.0128 | S144: 0 | T144: =S144*H144 -> 0 | AR144: 32 | AT144: M | AU144: 2 | AY144: ROZPOCET | BE144: =IF(N144="základná",J144,0) -> 0 | BF144: =IF(N144="znížená",J144,0) -> 0 | BG144: =IF(N144="zákl. prenesená",J144,0) -> 0 | BH144: =IF(N144="zníž. prenesená",J144,0) -> 0 | BI144: =IF(N144="nulová",J144,0) -> 0 | BJ144: 2 | BK144: =ROUND(I144*H144,2) -> 0 | BL144: 16 | BM144: 1949990333
C145: 13 | D145: K | E145: 732219205 | F145: Montáž zásobníkového ohrievača vody pre ohrev pitnej vody v spojení s kotlami objem do 150 l | G145: ks | H145: 1 | J145: =ROUND(I145*H145,2) -> 0 | N145: znížená | P145: =O145*H145 -> 0 | Q145: 0 | R145: =Q145*H145 -> 0 | S145: 0 | T145: =S145*H145 -> 0 | AR145: 16 | AT145: K | AU145: 2 | AY145: ROZPOCET | BE145: =IF(N145="základná",J145,0) -> 0 | BF145: =IF(N145="znížená",J145,0) -> 0 | BG145: =IF(N145="zákl. prenesená",J145,0) -> 0 | BH145: =IF(N145="zníž. prenesená",J145,0) -> 0 | BI145: =IF(N145="nulová",J145,0) -> 0 | BJ145: 2 | BK145: =ROUND(I145*H145,2) -> 0 | BL145: 16 | BM145: -707271197
C146: 14 | D146: K | E146: 732219245 | F146: Montáž akumulačnej nádoby | G146: ks | H146: 1 | J146: =ROUND(I146*H146,2) -> 0 | N146: znížená | P146: =O146*H146 -> 0 | Q146: 0 | R146: =Q146*H146 -> 0 | S146: 0 | T146: =S146*H146 -> 0 | AR146: 16 | AT146: K | AU146: 2 | AY146: ROZPOCET | BE146: =IF(N146="základná",J146,0) -> 0 | BF146: =IF(N146="znížená",J146,0) -> 0 | BG146: =IF(N146="zákl. prenesená",J146,0) -> 0 | BH146: =IF(N146="zníž. prenesená",J146,0) -> 0 | BI146: =IF(N146="nulová",J146,0) -> 0 | BJ146: 2 | BK146: =ROUND(I146*H146,2) -> 0 | BL146: 16 | BM146: -195035464
C147: 15 | D147: M | E147: 484420017300 | F147: Akumulačná nádoba 1000 l | G147: ks | H147: 1 | J147: =ROUND(I147*H147,2) -> 0 | N147: znížená | P147: =O147*H147 -> 0 | Q147: 0.183 | R147: =Q147*H147 -> 0.183 | S147: 0 | T147: =S147*H147 -> 0 | AR147: 32 | AT147: M | AU147: 2 | AY147: ROZPOCET | BE147: =IF(N147="základná",J147,0) -> 0 | BF147: =IF(N147="znížená",J147,0) -> 0 | BG147: =IF(N147="zákl. prenesená",J147,0) -> 0 | BH147: =IF(N147="zníž. prenesená",J147,0) -> 0 | BI147: =IF(N147="nulová",J147,0) -> 0 | BJ147: 2 | BK147: =ROUND(I147*H147,2) -> 0 | BL147: 16 | BM147: -474852882
C148: 16 | D148: M | E148: 484420017400 | F148: Zásobník TPV 125l | G148: ks | H148: 1 | J148: =ROUND(I148*H148,2) -> 0 | N148: znížená | P148: =O148*H148 -> 0 | Q148: 0.21 | R148: =Q148*H148 -> 0.21 | S148: 0 | T148: =S148*H148 -> 0 | AR148: 32 | AT148: M | AU148: 2 | AY148: ROZPOCET | BE148: =IF(N148="základná",J148,0) -> 0 | BF148: =IF(N148="znížená",J148,0) -> 0 | BG148: =IF(N148="zákl. prenesená",J148,0) -> 0 | BH148: =IF(N148="zníž. prenesená",J148,0) -> 0 | BI148: =IF(N148="nulová",J148,0) -> 0 | BJ148: 2 | BK148: =ROUND(I148*H148,2) -> 0 | BL148: 16 | BM148: -1731325965
C149: 17 | D149: M | E149: 551240010800 | F149: Guľový kohút so zaistením MK 1" - príslušenstvo k expanzným nádobám N+NG, C, F, S, S/V, V | G149: ks | H149: 1 | J149: =ROUND(I149*H149,2) -> 0 | N149: znížená | P149: =O149*H149 -> 0 | Q149: 0.0006 | R149: =Q149*H149 -> 0.0006 | S149: 0 | T149: =S149*H149 -> 0 | AR149: 32 | AT149: M | AU149: 2 | AY149: ROZPOCET | BE149: =IF(N149="základná",J149,0) -> 0 | BF149: =IF(N149="znížená",J149,0) -> 0 | BG149: =IF(N149="zákl. prenesená",J149,0) -> 0 | BH149: =IF(N149="zníž. prenesená",J149,0) -> 0 | BI149: =IF(N149="nulová",J149,0) -> 0 | BJ149: 2 | BK149: =ROUND(I149*H149,2) -> 0 | BL149: 16 | BM149: 1311815923
C150: 18 | D150: K | E150: 732331051 | F150: Montáž expanznej nádoby tlak 6 barov s membránou 140 l | G150: ks | H150: 1 | J150: =ROUND(I150*H150,2) -> 0 | N150: znížená | P150: =O150*H150 -> 0 | Q150: 0 | R150: =Q150*H150 -> 0 | S150: 0 | T150: =S150*H150 -> 0 | AR150: 16 | AT150: K | AU150: 2 | AY150: ROZPOCET | BE150: =IF(N150="základná",J150,0) -> 0 | BF150: =IF(N150="znížená",J150,0) -> 0 | BG150: =IF(N150="zákl. prenesená",J150,0) -> 0 | BH150: =IF(N150="zníž. prenesená",J150,0) -> 0 | BI150: =IF(N150="nulová",J150,0) -> 0 | BJ150: 2 | BK150: =ROUND(I150*H150,2) -> 0 | BL150: 16 | BM150: 232111047
C151: 19 | D151: M | E151: 484630006800 | F151: Nádoba expanzná s membránou typ NG 140 l, D 480 mm, v 902 mm, pripojenie R 1", 6/1,5 bar, šedá | G151: ks | H151: 1 | J151: =ROUND(I151*H151,2) -> 0 | N151: znížená | P151: =O151*H151 -> 0 | Q151: 0.0199 | R151: =Q151*H151 -> 0.0199 | S151: 0 | T151: =S151*H151 -> 0 | AR151: 32 | AT151: M | AU151: 2 | AY151: ROZPOCET | BE151: =IF(N151="základná",J151,0) -> 0 | BF151: =IF(N151="znížená",J151,0) -> 0 | BG151: =IF(N151="zákl. prenesená",J151,0) -> 0 | BH151: =IF(N151="zníž. prenesená",J151,0) -> 0 | BI151: =IF(N151="nulová",J151,0) -> 0 | BJ151: 2 | BK151: =ROUND(I151*H151,2) -> 0 | BL151: 16 | BM151: -1685488387
C152: 20 | D152: K | E152: 732470020 | F152: Montáž čerpadlovej skupiny | G152: ks | H152: 3 | J152: =ROUND(I152*H152,2) -> 0 | N152: znížená | P152: =O152*H152 -> 0 | Q152: 0 | R152: =Q152*H152 -> 0 | S152: 0 | T152: =S152*H152 -> 0 | AR152: 16 | AT152: K | AU152: 2 | AY152: ROZPOCET | BE152: =IF(N152="základná",J152,0) -> 0 | BF152: =IF(N152="znížená",J152,0) -> 0 | BG152: =IF(N152="zákl. prenesená",J152,0) -> 0 | BH152: =IF(N152="zníž. prenesená",J152,0) -> 0 | BI152: =IF(N152="nulová",J152,0) -> 0 | BJ152: 2 | BK152: =ROUND(I152*H152,2) -> 0 | BL152: 16 | BM152: -1208508748
C153: 21 | D153: M | E153: 484720025000 | F153: Čerpadlová skupina 15-35 kw | G153: ks | H153: 1 | J153: =ROUND(I153*H153,2) -> 0 | N153: znížená | P153: =O153*H153 -> 0 | Q153: 0.00696 | R153: =Q153*H153 -> 0.00696 | S153: 0 | T153: =S153*H153 -> 0 | AR153: 32 | AT153: M | AU153: 2 | AY153: ROZPOCET | BE153: =IF(N153="základná",J153,0) -> 0 | BF153: =IF(N153="znížená",J153,0) -> 0 | BG153: =IF(N153="zákl. prenesená",J153,0) -> 0 | BH153: =IF(N153="zníž. prenesená",J153,0) -> 0 | BI153: =IF(N153="nulová",J153,0) -> 0 | BJ153: 2 | BK153: =ROUND(I153*H153,2) -> 0 | BL153: 16 | BM153: 565649153
... C156: 24 | D156: K | E156: 998732101 | F156: Presun hmôt pre strojovne v objektoch výšky do 6 m | G156: t | H156: 0.491 | J156: =ROUND(I156*H156,2) -> 0 | N156: znížená | P156: =O156*H156 -> 0 | Q156: 0 | R156: =Q156*H156 -> 0 | S156: 0 | T156: =S156*H156 -> 0 | AR156: 16 | AT156: K | AU156: 2 | AY156: ROZPOCET | BE156: =IF(N156="základná",J156,0) -> 0 | BF156: =IF(N156="znížená",J156,0) -> 0 | BG156: =IF(N156="zákl. prenesená",J156,0) -> 0 | BH156: =IF(N156="zníž. prenesená",J156,0) -> 0 | BI156: =IF(N156="nulová",J156,0) -> 0 | BJ156: 2 | BK156: =ROUND(I156*H156,2) -> 0 | BL156: 16 | BM156: -658910612
D157: D | E157: 733 | F157: Ústredné kúrenie - rozvodné potrubie | J157: =BK157 -> 0 | P157: =SUM(P158:P163) -> 0 | R157: =SUM(R158:R163) -> 0.16986 | T157: =SUM(T158:T163) -> 0 | AR157: 2 | AT157: D | AU157: 1 | AY157: ROZPOCET | BK157: =SUM(BK158:BK163) -> 0
C158: 25 | D158: K | E158: 733125003 | F158: Potrubie z uhlíkovej ocele spájané lisovaním 15x1,2 | G158: m | H158: 30 | J158: =ROUND(I158*H158,2) -> 0 | N158: znížená | P158: =O158*H158 -> 0 | Q158: 0.00112 | R158: =Q158*H158 -> 0.0336 | S158: 0 | T158: =S158*H158 -> 0 | AR158: 16 | AT158: K | AU158: 2 | AY158: ROZPOCET | BE158: =IF(N158="základná",J158,0) -> 0 | BF158: =IF(N158="znížená",J158,0) -> 0 | BG158: =IF(N158="zákl. prenesená",J158,0) -> 0 | BH158: =IF(N158="zníž. prenesená",J158,0) -> 0 | BI158: =IF(N158="nulová",J158,0) -> 0 | BJ158: 2 | BK158: =ROUND(I158*H158,2) -> 0 | BL158: 16 | BM158: 1720748749
C159: 26 | D159: K | E159: 733125006 | F159: Potrubie z uhlíkovej ocele spájané lisovaním 18x1,2 | G159: m | H159: 20 | J159: =ROUND(I159*H159,2) -> 0 | N159: znížená | P159: =O159*H159 -> 0 | Q159: 0.00136 | R159: =Q159*H159 -> 0.0272 | S159: 0 | T159: =S159*H159 -> 0 | AR159: 16 | AT159: K | AU159: 2 | AY159: ROZPOCET | BE159: =IF(N159="základná",J159,0) -> 0 | BF159: =IF(N159="znížená",J159,0) -> 0 | BG159: =IF(N159="zákl. prenesená",J159,0) -> 0 | BH159: =IF(N159="zníž. prenesená",J159,0) -> 0 | BI159: =IF(N159="nulová",J159,0) -> 0 | BJ159: 2 | BK159: =ROUND(I159*H159,2) -> 0 | BL159: 16 | BM159: 614037629
C160: 27 | D160: K | E160: 733125009 | F160: Potrubie z uhlíkovej ocele spájané lisovaním 22x1,5 | G160: m | H160: 10 | J160: =ROUND(I160*H160,2) -> 0 | N160: znížená | P160: =O160*H160 -> 0 | Q160: 0.00148 | R160: =Q160*H160 -> 0.0148 | S160: 0 | T160: =S160*H160 -> 0 | AR160: 16 | AT160: K | AU160: 2 | AY160: ROZPOCET | BE160: =IF(N160="základná",J160,0) -> 0 | BF160: =IF(N160="znížená",J160,0) -> 0 | BG160: =IF(N160="zákl. prenesená",J160,0) -> 0 | BH160: =IF(N160="zníž. prenesená",J160,0) -> 0 | BI160: =IF(N160="nulová",J160,0) -> 0 | BJ160: 2 | BK160: =ROUND(I160*H160,2) -> 0 | BL160: 16 | BM160: 241908756
C161: 28 | D161: K | E161: 733125012 | F161: Potrubie z uhlíkovej ocele spájané lisovaním 28x1,5 | G161: m | H161: 42 | J161: =ROUND(I161*H161,2) -> 0 | N161: znížená | P161: =O161*H161 -> 0 | Q161: 0.00193 | R161: =Q161*H161 -> 0.08106 | S161: 0 | T161: =S161*H161 -> 0 | AR161: 16 | AT161: K | AU161: 2 | AY161: ROZPOCET | BE161: =IF(N161="základná",J161,0) -> 0 | BF161: =IF(N161="znížená",J161,0) -> 0 | BG161: =IF(N161="zákl. prenesená",J161,0) -> 0 | BH161: =IF(N161="zníž. prenesená",J161,0) -> 0 | BI161: =IF(N161="nulová",J161,0) -> 0 | BJ161: 2 | BK161: =ROUND(I161*H161,2) -> 0 | BL161: 16 | BM161: 820471020
C162: 29 | D162: K | E162: 733125015 | F162: Potrubie z uhlíkovej ocele spájané lisovaním 35x1,5 | G162: m | H162: 8 | J162: =ROUND(I162*H162,2) -> 0 | N162: znížená | P162: =O162*H162 -> 0 | Q162: 0.00165 | R162: =Q162*H162 -> 0.0132 | S162: 0 | T162: =S162*H162 -> 0 | AR162: 16 | AT162: K | AU162: 2 | AY162: ROZPOCET | BE162: =IF(N162="základná",J162,0) -> 0 | BF162: =IF(N162="znížená",J162,0) -> 0 | BG162: =IF(N162="zákl. prenesená",J162,0) -> 0 | BH162: =IF(N162="zníž. prenesená",J162,0) -> 0 | BI162: =IF(N162="nulová",J162,0) -> 0 | BJ162: 2 | BK162: =ROUND(I162*H162,2) -> 0 | BL162: 16 | BM162: -689069291
C163: 30 | D163: K | E163: 733190217 | F163: Tlaková skúška potrubia z oceľových rúrok do priem. 89/5 | G163: m | H163: 110 | J163: =ROUND(I163*H163,2) -> 0 | N163: znížená | P163: =O163*H163 -> 0 | Q163: 0 | R163: =Q163*H163 -> 0 | S163: 0 | T163: =S163*H163 -> 0 | AR163: 16 | AT163: K | AU163: 2 | AY163: ROZPOCET | BE163: =IF(N163="základná",J163,0) -> 0 | BF163: =IF(N163="znížená",J163,0) -> 0 | BG163: =IF(N163="zákl. prenesená",J163,0) -> 0 | BH163: =IF(N163="zníž. prenesená",J163,0) -> 0 | BI163: =IF(N163="nulová",J163,0) -> 0 | BJ163: 2 | BK163: =ROUND(I163*H163,2) -> 0 | BL163: 16 | BM163: -254921381
D164: D | E164: 734 | F164: Ústredné kúrenie - armatúry | J164: =BK164 -> 0 | P164: =SUM(P165:P180) -> 0 | R164: =SUM(R165:R180) -> 0.03552 | T164: =SUM(T165:T180) -> 0 | AR164: 2 | AT164: D | AU164: 1 | AY164: ROZPOCET | BK164: =SUM(BK165:BK180) -> 0
C165: 31 | D165: M | E165: 1396602 | F165: Diel pripájací s prednastav RL-5 priamy R 1/2"/ G 3/4" DN15 | G165: ks | H165: 12 | J165: =ROUND(I165*H165,2) -> 0 | N165: znížená | P165: =O165*H165 -> 0 | Q165: 0 | R165: =Q165*H165 -> 0 | S165: 0 | T165: =S165*H165 -> 0 | AR165: 32 | AT165: M | AU165: 2 | AY165: ROZPOCET | BE165: =IF(N165="základná",J165,0) -> 0 | BF165: =IF(N165="znížená",J165,0) -> 0 | BG165: =IF(N165="zákl. prenesená",J165,0) -> 0 | BH165: =IF(N165="zníž. prenesená",J165,0) -> 0 | BI165: =IF(N165="nulová",J165,0) -> 0 | BJ165: 2 | BK165: =ROUND(I165*H165,2) -> 0 | BL165: 16 | BM165: 1760280873
C166: 32 | D166: M | E166: 551280001900 | F166: Termostatická hlavica kvapalinová, M30x1,5, rozsah regulácie + 6,5 až 28°C, plast, | G166: ks | H166: 12 | J166: =ROUND(I166*H166,2) -> 0 | N166: znížená | P166: =O166*H166 -> 0 | Q166: 0.00025 | R166: =Q166*H166 -> 0.003 | S166: 0 | T166: =S166*H166 -> 0 | AR166: 32 | AT166: M | AU166: 2 | AY166: ROZPOCET | BE166: =IF(N166="základná",J166,0) -> 0 | BF166: =IF(N166="znížená",J166,0) -> 0 | BG166: =IF(N166="zákl. prenesená",J166,0) -> 0 | BH166: =IF(N166="zníž. prenesená",J166,0) -> 0 | BI166: =IF(N166="nulová",J166,0) -> 0 | BJ166: 2 | BK166: =ROUND(I166*H166,2) -> 0 | BL166: 16 | BM166: 2129034961
C167: 33 | D167: M | E167: 1639093 | F167: Diel pripájací s prednastav. TS-90 priamy R1/2"/G3/4" DN15 | G167: ks | H167: 12 | J167: =ROUND(I167*H167,2) -> 0 | N167: znížená | P167: =O167*H167 -> 0 | Q167: 6e-05 | R167: =Q167*H167 -> 0.00072 | S167: 0 | T167: =S167*H167 -> 0 | AR167: 32 | AT167: M | AU167: 2 | AY167: ROZPOCET | BE167: =IF(N167="základná",J167,0) -> 0 | BF167: =IF(N167="znížená",J167,0) -> 0 | BG167: =IF(N167="zákl. prenesená",J167,0) -> 0 | BH167: =IF(N167="zníž. prenesená",J167,0) -> 0 | BI167: =IF(N167="nulová",J167,0) -> 0 | BJ167: 2 | BK167: =ROUND(I167*H167,2) -> 0 | BL167: 16 | BM167: -1461714989
C168: 34 | D168: M | E168: 551290000400 | F168: Prípojka tlakomerová 752000 M20x1,5 mm | G168: ks | H168: 1 | J168: =ROUND(I168*H168,2) -> 0 | N168: znížená | P168: =O168*H168 -> 0 | Q168: 2e-05 | R168: =Q168*H168 -> 2e-05 | S168: 0 | T168: =S168*H168 -> 0 | AR168: 32 | AT168: M | AU168: 2 | AY168: ROZPOCET | BE168: =IF(N168="základná",J168,0) -> 0 | BF168: =IF(N168="znížená",J168,0) -> 0 | BG168: =IF(N168="zákl. prenesená",J168,0) -> 0 | BH168: =IF(N168="zníž. prenesená",J168,0) -> 0 | BI168: =IF(N168="nulová",J168,0) -> 0 | BJ168: 2 | BK168: =ROUND(I168*H168,2) -> 0 | BL168: 16 | BM168: 328279379
...
