Workbook

Sheet Rekapitulácia stavby
A1: Export Komplet | BA1: 2.0 | BT1: False | BU1: False | BV1: {045ffe02-546f-4367-aba7-79aaf2b3d419}
AR2: >> skryté stĺpce << | BS2: 0,001 | BT2: 20
BS3: 0,001 | BT3: 20
D4: REKAPITULÁCIA STAVBY | AS4: v --- nižšie sa nachádzajú doplnkové a pomocné údaje k zostavám --- v | BE4: Návod na vyplnenie | BS4: 0,001
D5: Kód: | BE5: Meniť je možné iba bunky so žltým podfarbením!_x000D_ _x000D_ 1) na prvom liste Rekapitulácie stavby vyplňte v zostave_x000D_ _x000D_ a) Rekapitulácia stavby_x000D_ - údaje o Zhotoviteľovi_x000D_ (prenesú sa do ostatných zostáv aj v iných listoch)_x000D_ _x000D_ b) Rekapitulácia objektov stavby_x000D_ - potrebné Ostatné náklady_x000D_ _x000D_ 2) na vybraných listoch vyplňte v zostave_x000D_ _x000D_ a) Krycí list_x000D_ - údaje o Zhotoviteľovi, pokiaľ sa líšia od údajov o Zhotoviteľovi na Rekapitulácii stavby_x000D_ (údaje se prenesú do ostatných zostav v danom liste)_x000D_ _x000D_ b) Rekapitulácia rozpočtu_x000D_ - potrebné Ostatné náklady_x000D_ _x000D_ c) Celkové náklady za stavbu_x000D_ - ceny na položkách_x000D_ - množstvo, pokiaľ má žlté podfarbenie_x000D_ - a v prípade potreby poznámku (tá je v skrytom stĺpci) | BS5: 0,001
D6: Stavba: | K6: Cintorín Dolné Krškany - rozšírenie - aktualizácia | BS6: 0,001
D7: JKSO: | AK7: KS: | BS7: 0,001
D8: Miesto: | K8: Nitra, k.ú. Dolné Krškany | AK8: Dátum: | AN8: 17. 5. 2022 | BS8: 0,001
BS9: 0,001
D10: Objednávateľ: | AK10: IČO: | BS10: 0,001
E11: Mesto Nitra, Štefánikova tr.60/80, 950 06 Nitra | AK11: IČ DPH: | BS11: 0,001
BS12: 0,001
D13: Zhotoviteľ: | AK13: IČO: | AN13: Vyplň údaj | BS13: 0,001
E14: Vyplň údaj | AK14: IČ DPH: | AN14: Vyplň údaj | BS14: 0,001
BS15: False
D16: Projektant: | AK16: IČO: | BS16: False
E17: A+D Projekta, s.r.o, Nitra | AK17: IČ DPH: | BS17: True
BS18: 0,01
D19: Spracovateľ: | AK19: IČO: | BS19: 0,01
AK20: IČ DPH: | BS20: True
D22: Poznámka:
D26: Cena bez DPH | AK26: =ROUND(AG94,2) -> 0
L28: Sadzba dane | W28: Základ dane | AK28: Výška dane
D29: DPH | F29: základná | L29: 0.2 | W29: =ROUND(AZ94, 2) -> 0 | AK29: =ROUND(AV94, 2) -> 0
F30: znížená | L30: 0.2 | W30: =ROUND(BA94, 2) -> 0 | AK30: =ROUND(AW94, 2) -> 0
F31: zákl. prenesená | L31: 0.2 | W31: =ROUND(BB94, 2) -> 0 | AK31: 0
F32: zníž. prenesená | L32: 0.2 | W32: =ROUND(BC94, 2) -> 0 | AK32: 0
F33: nulová | L33: 0 | W33: =ROUND(BD94, 2) -> 0 | AK33: 0
D35: Cena s DPH | T35: v | X35: EUR | AK35: =SUM(AK26:AK33) -> 0
D49: Projektant | AH49: Spracovateľ
D60: Dátum a podpis: | V60: Pečiatka | AH60: Dátum a podpis: | AM60: Pečiatka
D64: Objednávateľ | AH64: Zhotoviteľ
D75: Dátum a podpis: | V75: Pečiatka | AH75: Dátum a podpis: | AM75: Pečiatka
C82: REKAPITULÁCIA OBJEKTOV STAVBY
C84: Kód:
C85: Stavba: | L85: =K6 -> Cintorín Dolné Krškany - rozšírenie - aktualizácia
C87: Miesto: | L87: =IF(K8="","",K8) -> Nitra, k.ú. Dolné Krškany | AI87: Dátum: | AM87: =IF(AN8= "","",AN8) -> 17. 5. 2022
C89: Objednávateľ: | L89: =IF(E11= "","",E11) -> Mesto Nitra, Štefánikova tr.60/80, 950 06 Nitra | AI89: Projektant: | AM89: =IF(E17="","",E17) -> A+D Projekta, s.r.o, Nitra | AS89: Informatívne údaje z listov zákaziek
C90: Zhotoviteľ: | L90: =IF(E14= "Vyplň údaj","",E14) | AI90: Spracovateľ: | AM90: =IF(E20="","",E20)
C92: Kód | I92: Popis | AG92: Cena bez DPH [EUR] | AN92: Cena s DPH [EUR] | AQ92: Typ | AS92: z toho Ostat._x000D_ náklady [EUR] | AT92: DPH [EUR] | AU92: Normohodiny [h] | AV92: DPH základná [EUR] | AW92: DPH znížená [EUR] | AX92: DPH základná prenesená_x000D_ [EUR] | AY92: DPH znížená prenesená_x000D_ [EUR] | AZ92: Základňa_x000D_ DPH základná | BA92: Základňa_x000D_ DPH znížená | BB92: Základňa_x000D_ DPH zákl. prenesená | BC92: Základňa_x000D_ DPH zníž. prenesená | BD92: Základňa_x000D_ DPH nulová
C94: Náklady z rozpočtov | AG94: =ROUND(AG95,2) -> 0 | AN94: =SUM(AG94,AT94) -> 0 | AS94: =ROUND(AS95,2) -> 0 | AT94: =ROUND(SUM(AV94:AW94),2) -> 0 | AU94: =ROUND(AU95,5) -> 0 | AV94: =ROUND(AZ94*L29,2) -> 0 | AW94: =ROUND(BA94*L30,2) -> 0 | AX94: =ROUND(BB94*L29,2) -> 0 | AY94: =ROUND(BC94*L30,2) -> 0 | AZ94: =ROUND(AZ95,2) -> 0 | BA94: =ROUND(BA95,2) -> 0 | BB94: =ROUND(BB95,2) -> 0 | BC94: =ROUND(BC95,2) -> 0 | BD94: =ROUND(BD95,2) -> 0 | BS94: D | BT94: 0 | BU94: ###NOIMPORT### | BV94: IMPORT | BW94: {045ffe02-546f-4367-aba7-79aaf2b3d419} | BX94: {00000000-0000-0000-0000-000000000000}
D95: 01 | J95: SO 02 Obradná sieň | AG95: =ROUND(SUM(AG96:AG98),2) -> 0 | AN95: =SUM(AG95,AT95) -> 0 | AQ95: STA | AS95: =ROUND(SUM(AS96:AS98),2) -> 0 | AT95: =ROUND(SUM(AV95:AW95),2) -> 0 | AU95: =ROUND(SUM(AU96:AU98),5) -> 0 | AV95: =ROUND(AZ95*L29,2) -> 0 | AW95: =ROUND(BA95*L30,2) -> 0 | AX95: =ROUND(BB95*L29,2) -> 0 | AY95: =ROUND(BC95*L30,2) -> 0 | AZ95: =ROUND(SUM(AZ96:AZ98),2) -> 0 | BA95: =ROUND(SUM(BA96:BA98),2) -> 0 | BB95: =ROUND(SUM(BB96:BB98),2) -> 0 | BC95: =ROUND(SUM(BC96:BC98),2) -> 0 | BD95: =ROUND(SUM(BD96:BD98),2) -> 0 | BS95: D | BT95: 1 | BU95: ###NOIMPORT### | BV95: IMPORT | BW95: {bcd1ba2a-db1e-4637-9fb3-251e7ad8b314} | BX95: {045ffe02-546f-4367-aba7-79aaf2b3d419} | CM95: 0
A96: / | E96: 001 | K96: Architektúra a stavebné konštrukcie (hrubá stavba) | AG96: ='001 - Architektúra a stav...'!J32 -> 0 | AN96: =SUM(AG96,AT96) -> 0 | AQ96: Časť | AS96: 0 | AT96: =ROUND(SUM(AV96:AW96),2) -> 0 | AU96: ='001 - Architektúra a stav...'!P139 -> 0 | AV96: ='001 - Architektúra a stav...'!J35 -> 0 | AW96: ='001 - Architektúra a stav...'!J36 -> 0 | AX96: ='001 - Architektúra a stav...'!J37 -> 0 | AY96: ='001 - Architektúra a stav...'!J38 -> 0 | AZ96: ='001 - Architektúra a stav...'!F35 -> 0 | BA96: ='001 - Architektúra a stav...'!F36 -> 0 | BB96: ='001 - Architektúra a stav...'!F37 -> 0 | BC96: ='001 - Architektúra a stav...'!F38 -> 0 | BD96: ='001 - Architektúra a stav...'!F39 -> 0 | BT96: 2 | BV96: IMPORT | BW96: {955bce7c-0099-484f-9203-33ad17c5d8b1} | BX96: {bcd1ba2a-db1e-4637-9fb3-251e7ad8b314}
A97: / | E97: 002 | K97: Zdravotechnika | AG97: ='002 - Zdravotechnika '!J32 -> 0 | AN97: =SUM(AG97,AT97) -> 0 | AQ97: Časť | AS97: 0 | AT97: =ROUND(SUM(AV97:AW97),2) -> 0 | AU97: ='002 - Zdravotechnika '!P128 -> 0 | AV97: ='002 - Zdravotechnika '!J35 -> 0 | AW97: ='002 - Zdravotechnika '!J36 -> 0 | AX97: ='002 - Zdravotechnika '!J37 -> 0 | AY97: ='002 - Zdravotechnika '!J38 -> 0 | AZ97: ='002 - Zdravotechnika '!F35 -> 0 | BA97: ='002 - Zdravotechnika '!F36 -> 0 | BB97: ='002 - Zdravotechnika '!F37 -> 0 | BC97: ='002 - Zdravotechnika '!F38 -> 0 | BD97: ='002 - Zdravotechnika '!F39 -> 0 | BT97: 2 | BV97: IMPORT | BW97: {4c007601-bff9-468d-82a9-888c13ec3c4c} | BX97: {bcd1ba2a-db1e-4637-9fb3-251e7ad8b314}
A98: / | E98: 003 | K98: Elektroinštalácia | AG98: ='003 - Elektroinštalácia '!J32 -> 0 | AN98: =SUM(AG98,AT98) -> 0 | AQ98: Časť | AS98: 0 | AT98: =ROUND(SUM(AV98:AW98),2) -> 0 | AU98: ='003 - Elektroinštalácia '!P125 -> 0 | AV98: ='003 - Elektroinštalácia '!J35 -> 0 | AW98: ='003 - Elektroinštalácia '!J36 -> 0 | AX98: ='003 - Elektroinštalácia '!J37 -> 0 | AY98: ='003 - Elektroinštalácia '!J38 -> 0 | AZ98: ='003 - Elektroinštalácia '!F35 -> 0 | BA98: ='003 - Elektroinštalácia '!F36 -> 0 | BB98: ='003 - Elektroinštalácia '!F37 -> 0 | BC98: ='003 - Elektroinštalácia '!F38 -> 0 | BD98: ='003 - Elektroinštalácia '!F39 -> 0 | BT98: 2 | BV98: IMPORT | BW98: {de2df3de-7b97-4bac-9831-3cf08db09f9d} | BX98: {bcd1ba2a-db1e-4637-9fb3-251e7ad8b314}

Sheet 001 - Architektúra a stav...
L2: >> skryté stĺpce << | AT2: {955bce7c-0099-484f-9203-33ad17c5d8b1}
AT3: 0
D4: KRYCÍ LIST ROZPOČTU | M4: v --- nižšie sa nachádzajú doplnkové a pomocné údaje k zostavám --- v | AT4: False
D6: Stavba:
E7: ='Rekapitulácia stavby'!K6 -> Cintorín Dolné Krškany - rozšírenie - aktualizácia
D8: Objekt:
E9: 01 - SO 02 Obradná sieň
D10: Časť:
E11: 001 - Architektúra a stavebné konštrukcie (hrubá stavba)
D13: JKSO: | I13: KS:
D14: Miesto: | F14: Nitra, k.ú. Dolné Krškany | I14: Dátum: | J14: ='Rekapitulácia stavby'!AN8 -> 17. 5. 2022
D16: Objednávateľ: | I16: IČO:
E17: Mesto Nitra, Štefánikova tr.60/80, 950 06 Nitra | I17: IČ DPH:
D19: Zhotoviteľ: | I19: IČO: | J19: ='Rekapitulácia stavby'!AN13 -> Vyplň údaj
E20: ='Rekapitulácia stavby'!E14 -> Vyplň údaj | I20: IČ DPH: | J20: ='Rekapitulácia stavby'!AN14 -> Vyplň údaj
D22: Projektant: | I22: IČO:
E23: A+D Projekta, s.r.o, Nitra | I23: IČ DPH:
D25: Spracovateľ: | I25: IČO: | J25: =IF('Rekapitulácia stavby'!AN19="","",'Rekapitulácia stavby'!AN19)
E26: =IF('Rekapitulácia stavby'!E20="","",'Rekapitulácia stavby'!E20) | I26: IČ DPH: | J26: =IF('Rekapitulácia stavby'!AN20="","",'Rekapitulácia stavby'!AN20)
D28: Poznámka:
D32: Cena bez DPH | J32: =ROUND(J139, 2) -> 0
F34: Základ dane | I34: Sadzba dane | J34: Výška dane
D35: DPH | E35: základná | F35: =ROUND((SUM(BE139:BE436)), 2) -> 0 | I35: 0.2 | J35: =ROUND(((SUM(BE139:BE436))*I35), 2) -> 0
E36: znížená | F36: =ROUND((SUM(BF139:BF436)), 2) -> 0 | I36: 0.2 | J36: =ROUND(((SUM(BF139:BF436))*I36), 2) -> 0
E37: zákl. prenesená | F37: =ROUND((SUM(BG139:BG436)), 2) -> 0 | I37: 0.2 | J37: =0 -> 0
E38: zníž. prenesená | F38: =ROUND((SUM(BH139:BH436)), 2) -> 0 | I38: 0.2 | J38: =0 -> 0
E39: nulová | F39: =ROUND((SUM(BI139:BI436)), 2) -> 0 | I39: 0 | J39: =0 -> 0
D41: Cena s DPH | G41: v | H41: EUR | J41: =SUM(J32:J39) -> 0
D50: Projektant | G50: Spracovateľ
D61: Dátum a podpis: | F61: Pečiatka | G61: Dátum a podpis: | J61: Pečiatka
D65: Objednávateľ | G65: Zhotoviteľ
D76: Dátum a podpis: | F76: Pečiatka | G76: Dátum a podpis: | J76: Pečiatka
C82: REKAPITULÁCIA ROZPOČTU
C84: Stavba:
E85: =E7 -> Cintorín Dolné Krškany - rozšírenie - aktualizácia
C86: Objekt:
E87: 01 - SO 02 Obradná sieň
C88: Časť:
E89: =E11 -> 001 - Architektúra a stavebné konštrukcie (hrubá stavba)
C91: Miesto: | F91: =F14 -> Nitra, k.ú. Dolné Krškany | I91: Dátum: | J91: =IF(J14="","",J14) -> 17. 5. 2022
C93: Objednávateľ: | F93: =E17 -> Mesto Nitra, Štefánikova tr.60/80, 950 06 Nitra | I93: Projektant: | J93: =E23 -> A+D Projekta, s.r.o, Nitra
C94: Zhotoviteľ: | F94: =IF(E20="","",E20) -> Vyplň údaj | I94: Spracovateľ: | J94: =E26
C96: Kód dielu - Popis | J96: Cena celkom [EUR]
C98: Náklady z rozpočtu | J98: =J139 -> 0 | AU98: -1
D99: HSV - Práce a dodávky HSV | J99: =J140 -> 0
D100: 1 - Zemné práce | J100: =J141 -> 0
D101: 2 - Zakladanie | J101: =J174 -> 0
D102: 3 - Zvislé a kompletné konštrukcie | J102: =J195 -> 0
D103: 4 - Vodorovné konštrukcie | J103: =J238 -> 0
D104: 6 - Úpravy povrchov, podlahy, osadenie | J104: =J283 -> 0
D105: 99 - Presun hmôt HSV | J105: =J301 -> 0
D106: PSV - Práce a dodávky PSV | J106: =J303 -> 0
D107: 711 - Izolácie proti vode a vlhkosti | J107: =J304 -> 0
D108: 712 - Izolácie striech, povlakové krytiny | J108: =J317 -> 0
D109: 762 - Konštrukcie tesárske | J109: =J337 -> 0
D110: 763 - Konštrukcie - drevostavby | J110: =J349 -> 0
D111: 764 - Konštrukcie klampiarske | J111: =J357 -> 0
D112: 766 - Konštrukcie stolárske | J112: =J373 -> 0
D113: 767 - Konštrukcie doplnkové kovové | J113: =J403 -> 0
D114: 783 - Dokončovacie práce - nátery | J114: =J426 -> 0
D115: VRN - Vedľajšie rozpočtové náklady | J115: =J431 -> 0
D116: VRN06 - Zariadenie staveniska | J116: =J432 -> 0
D117: OST - Ostatné | J117: =J434 -> 0
C124: ROZPOČET
C126: Stavba:
E127: =E7 -> Cintorín Dolné Krškany - rozšírenie - aktualizácia
C128: Objekt:
E129: 01 - SO 02 Obradná sieň
C130: Časť:
E131: =E11 -> 001 - Architektúra a stavebné konštrukcie (hrubá stavba)
C133: Miesto: | F133: =F14 -> Nitra, k.ú. Dolné Krškany | I133: Dátum: | J133: =IF(J14="","",J14) -> 17. 5. 2022
C135: Objednávateľ: | F135: =E17 -> Mesto Nitra, Štefánikova tr.60/80, 950 06 Nitra | I135: Projektant: | J135: =E23 -> A+D Projekta, s.r.o, Nitra
C136: Zhotoviteľ: | F136: =IF(E20="","",E20) -> Vyplň údaj | I136: Spracovateľ: | J136: =E26
C138: PČ | D138: Typ | E138: Kód | F138: Popis | G138: MJ | H138: Množstvo | I138: J.cena [EUR] | J138: Cena celkom [EUR] | K138: Cenová sústava | N138: DPH | O138: J. Nh [h] | P138: Nh celkom [h] | Q138: J. hmotnosť [t] | R138: Hmotnosť celkom [t] | S138: J. suť [t] | T138: Suť Celkom [t]
C139: Náklady z rozpočtu | J139: =BK139 -> 0 | P139: =P140+P303+P431+P434 -> 0 | R139: =R140+R303+R431+R434 -> 150.19745 | T139: =T140+T303+T431+T434 -> 0 | AT139: D | AU139: -1 | BK139: =BK140+BK303+BK431+BK434 -> 0
D140: D | E140: HSV | F140: Práce a dodávky HSV | J140: =BK140 -> 0 | P140: =P141+P174+P195+P238+P283+P301 -> 0 | R140: =R141+R174+R195+R238+R283+R301 -> 144.65388 | T140: =T141+T174+T195+T238+T283+T301 -> 0 | AR140: 1 | AT140: D | AU140: 0 | AY140: ROZPOCET | BK140: =BK141+BK174+BK195+BK238+BK283+BK301 -> 0
D141: D | E141: 1 | F141: Zemné práce | J141: =BK141 -> 0 | P141: =SUM(P142:P173) -> 0 | R141: =SUM(R142:R173) -> 0 | T141: =SUM(T142:T173) -> 0 | AR141: 1 | AT141: D | AU141: 1 | AY141: ROZPOCET | BK141: =SUM(BK142:BK173) -> 0
C142: 1 | D142: K | E142: 121101111.S | F142: Odstránenie ornice s vodor. premiestn. na hromady, so zložením na vzdialenosť do 100 m a do 100m3 | G142: m3 | H142: 51.052 | J142: =ROUND(I142*H142,3) -> 0 | N142: znížená | P142: =O142*H142 -> 0 | Q142: 0 | R142: =Q142*H142 -> 0 | S142: 0 | T142: =S142*H142 -> 0 | AR142: 4 | AT142: K | AU142: 2 | AY142: ROZPOCET | BE142: =IF(N142="základná",J142,0) -> 0 | BF142: =IF(N142="znížená",J142,0) -> 0 | BG142: =IF(N142="zákl. prenesená",J142,0) -> 0 | BH142: =IF(N142="zníž. prenesená",J142,0) -> 0 | BI142: =IF(N142="nulová",J142,0) -> 0 | BJ142: 2 | BK142: =ROUND(I142*H142,3) -> 0 | BL142: 4 | BM142: 2
D143: VV | F143: "objekt " 10,8*7,2*0,2 | H143: 15.552 | AT143: VV | AU143: 2 | AV143: 2 | AW143: True | AX143: 0 | AY143: ROZPOCET
D144: VV | F144: "p4" 165,6*0,2 | H144: 33.12 | AT144: VV | AU144: 2 | AV144: 2 | AW144: True | AX144: 0 | AY144: ROZPOCET
D145: VV | F145: "p5" 11,9*0,2 | H145: 2.38 | AT145: VV | AU145: 2 | AV145: 2 | AW145: True | AX145: 0 | AY145: ROZPOCET
D146: VV | F146: Súčet | H146: 51.052 | AT146: VV | AU146: 2 | AV146: 4 | AW146: True | AX146: 1 | AY146: ROZPOCET
C147: 2 | D147: K | E147: 122201101.S | F147: Odkopávka a prekopávka nezapažená v hornine 3, do 100 m3 | G147: m3 | H147: 67.356 | J147: =ROUND(I147*H147,3) -> 0 | N147: znížená | P147: =O147*H147 -> 0 | Q147: 0 | R147: =Q147*H147 -> 0 | S147: 0 | T147: =S147*H147 -> 0 | AR147: 4 | AT147: K | AU147: 2 | AY147: ROZPOCET | BE147: =IF(N147="základná",J147,0) -> 0 | BF147: =IF(N147="znížená",J147,0) -> 0 | BG147: =IF(N147="zákl. prenesená",J147,0) -> 0 | BH147: =IF(N147="zníž. prenesená",J147,0) -> 0 | BI147: =IF(N147="nulová",J147,0) -> 0 | BJ147: 2 | BK147: =ROUND(I147*H147,3) -> 0 | BL147: 4 | BM147: 4
D148: VV | F148: "objekt na -0,4 | AT148: VV | AU148: 2 | AV148: 1 | AW148: True | AX148: 0 | AY148: ROZPOCET
D149: VV | F149: 11,1*7,4*0,2 | H149: 16.428 | AT149: VV | AU149: 2 | AV149: 2 | AW149: True | AX149: 0 | AY149: ROZPOCET
D150: VV | F150: "spev.plochy na -0,5 | AT150: VV | AU150: 2 | AV150: 1 | AW150: True | AX150: 0 | AY150: ROZPOCET
D151: VV | F151: "m2" (251,9-11,1*7,4)*0,3 | H151: 50.928 | AT151: VV | AU151: 2 | AV151: 2 | AW151: True | AX151: 0 | AY151: ROZPOCET
D152: VV | F152: Súčet | H152: 67.356 | AT152: VV | AU152: 2 | AV152: 4 | AW152: True | AX152: 1 | AY152: ROZPOCET
C153: 3 | D153: K | E153: 132201101.S | F153: Výkop ryhy do šírky 600 mm v horn.3 do 100 m3 | G153: m3 | H153: 10.886 | J153: =ROUND(I153*H153,3) -> 0 | N153: znížená | P153: =O153*H153 -> 0 | Q153: 0 | R153: =Q153*H153 -> 0 | S153: 0 | T153: =S153*H153 -> 0 | AR153: 4 | AT153: K | AU153: 2 | AY153: ROZPOCET | BE153: =IF(N153="základná",J153,0) -> 0 | BF153: =IF(N153="znížená",J153,0) -> 0 | BG153: =IF(N153="zákl. prenesená",J153,0) -> 0 | BH153: =IF(N153="zníž. prenesená",J153,0) -> 0 | BI153: =IF(N153="nulová",J153,0) -> 0 | BJ153: 2 | BK153: =ROUND(I153*H153,3) -> 0 | BL153: 4 | BM153: 6
D154: VV | F154: "základové pásy | AT154: VV | AU154: 2 | AV154: 1 | AW154: True | AX154: 0 | AY154: ROZPOCET
D155: VV | F155: 7,4*0,5*(0,8-0,4) | H155: 1.48 | AT155: VV | AU155: 2 | AV155: 2 | AW155: True | AX155: 0 | AY155: ROZPOCET
D156: VV | F156: 7,4*0,6*(0,8-0,4) | H156: 1.776 | AT156: VV | AU156: 2 | AV156: 2 | AW156: True | AX156: 0 | AY156: ROZPOCET
D157: VV | F157: 9,9*0,43*(0,8-0,4)*2 | H157: 3.406 | AT157: VV | AU157: 2 | AV157: 2 | AW157: True | AX157: 0 | AY157: ROZPOCET
D158: VV | F158: 8,1*0,45*(0,8-0,4)*2 | H158: 2.916 | AT158: VV | AU158: 2 | AV158: 2 | AW158: True | AX158: 0 | AY158: ROZPOCET
D159: VV | F159: 6,54*0,5*(0,8-0,4) | H159: 1.308 | AT159: VV | AU159: 2 | AV159: 2 | AW159: True | AX159: 0 | AY159: ROZPOCET
D160: VV | F160: Súčet | H160: 10.886 | AT160: VV | AU160: 2 | AV160: 4 | AW160: True | AX160: 1 | AY160: ROZPOCET
C161: 4 | D161: K | E161: 132201109.S | F161: Príplatok k cene za lepivosť pri hĺbení rýh šírky do 600 mm zapažených i nezapažených s urovnaním dna v hornine 3 | G161: m3 | H161: 13.607 | J161: =ROUND(I161*H161,3) -> 0 | N161: znížená | P161: =O161*H161 -> 0 | Q161: 0 | R161: =Q161*H161 -> 0 | S161: 0 | T161: =S161*H161 -> 0 | AR161: 4 | AT161: K | AU161: 2 | AY161: ROZPOCET | BE161: =IF(N161="základná",J161,0) -> 0 | BF161: =IF(N161="znížená",J161,0) -> 0 | BG161: =IF(N161="zákl. prenesená",J161,0) -> 0 | BH161: =IF(N161="zníž. prenesená",J161,0) -> 0 | BI161: =IF(N161="nulová",J161,0) -> 0 | BJ161: 2 | BK161: =ROUND(I161*H161,3) -> 0 | BL161: 4 | BM161: 8
C162: 5 | D162: K | E162: 162201101.S | F162: Vodorovné premiestnenie výkopku z horniny 1-4 do 20m | G162: m3 | H162: 39 | J162: =ROUND(I162*H162,3) -> 0 | N162: znížená | P162: =O162*H162 -> 0 | Q162: 0 | R162: =Q162*H162 -> 0 | S162: 0 | T162: =S162*H162 -> 0 | AR162: 4 | AT162: K | AU162: 2 | AY162: ROZPOCET | BE162: =IF(N162="základná",J162,0) -> 0 | BF162: =IF(N162="znížená",J162,0) -> 0 | BG162: =IF(N162="zákl. prenesená",J162,0) -> 0 | BH162: =IF(N162="zníž. prenesená",J162,0) -> 0 | BI162: =IF(N162="nulová",J162,0) -> 0 | BJ162: 2 | BK162: =ROUND(I162*H162,3) -> 0 | BL162: 4 | BM162: 10
D163: VV | F163: "ornica na zatrávnenie | AT163: VV | AU163: 2 | AV163: 1 | AW163: True | AX163: 0 | AY163: ROZPOCET
D164: VV | F164: 195,0*0,2 | H164: 39 | AT164: VV | AU164: 2 | AV164: 2 | AW164: True | AX164: 0 | AY164: ROZPOCET
...

Sheet 002 - Zdravotechnika 
L2: >> skryté stĺpce << | AT2: {4c007601-bff9-468d-82a9-888c13ec3c4c}
AT3: 0
D4: KRYCÍ LIST ROZPOČTU | M4: v --- nižšie sa nachádzajú doplnkové a pomocné údaje k zostavám --- v | AT4: False
D6: Stavba:
E7: ='Rekapitulácia stavby'!K6 -> Cintorín Dolné Krškany - rozšírenie - aktualizácia
D8: Objekt:
E9: 01 - SO 02 Obradná sieň
D10: Časť:
E11: 002 - Zdravotechnika
D13: JKSO: | I13: KS:
D14: Miesto: | F14: Nitra, k.ú. Dolné Krškany | I14: Dátum: | J14: ='Rekapitulácia stavby'!AN8 -> 17. 5. 2022
D16: Objednávateľ: | I16: IČO:
E17: Mesto Nitra, Štefánikova tr.60/80, 950 06 Nitra | I17: IČ DPH:
D19: Zhotoviteľ: | I19: IČO: | J19: ='Rekapitulácia stavby'!AN13 -> Vyplň údaj
E20: ='Rekapitulácia stavby'!E14 -> Vyplň údaj | I20: IČ DPH: | J20: ='Rekapitulácia stavby'!AN14 -> Vyplň údaj
D22: Projektant: | I22: IČO:
E23: A+D Projekta, s.r.o, Nitra | I23: IČ DPH:
D25: Spracovateľ: | I25: IČO: | J25: =IF('Rekapitulácia stavby'!AN19="","",'Rekapitulácia stavby'!AN19)
E26: =IF('Rekapitulácia stavby'!E20="","",'Rekapitulácia stavby'!E20) | I26: IČ DPH: | J26: =IF('Rekapitulácia stavby'!AN20="","",'Rekapitulácia stavby'!AN20)
D28: Poznámka:
D32: Cena bez DPH | J32: =ROUND(J128, 2) -> 0
F34: Základ dane | I34: Sadzba dane | J34: Výška dane
D35: DPH | E35: základná | F35: =ROUND((SUM(BE128:BE160)), 2) -> 0 | I35: 0.2 | J35: =ROUND(((SUM(BE128:BE160))*I35), 2) -> 0
E36: znížená | F36: =ROUND((SUM(BF128:BF160)), 2) -> 0 | I36: 0.2 | J36: =ROUND(((SUM(BF128:BF160))*I36), 2) -> 0
E37: zákl. prenesená | F37: =ROUND((SUM(BG128:BG160)), 2) -> 0 | I37: 0.2 | J37: =0 -> 0
E38: zníž. prenesená | F38: =ROUND((SUM(BH128:BH160)), 2) -> 0 | I38: 0.2 | J38: =0 -> 0
E39: nulová | F39: =ROUND((SUM(BI128:BI160)), 2) -> 0 | I39: 0 | J39: =0 -> 0
D41: Cena s DPH | G41: v | H41: EUR | J41: =SUM(J32:J39) -> 0
D50: Projektant | G50: Spracovateľ
D61: Dátum a podpis: | F61: Pečiatka | G61: Dátum a podpis: | J61: Pečiatka
D65: Objednávateľ | G65: Zhotoviteľ
D76: Dátum a podpis: | F76: Pečiatka | G76: Dátum a podpis: | J76: Pečiatka
C82: REKAPITULÁCIA ROZPOČTU
C84: Stavba:
E85: =E7 -> Cintorín Dolné Krškany - rozšírenie - aktualizácia
C86: Objekt:
E87: 01 - SO 02 Obradná sieň
C88: Časť:
E89: =E11 -> 002 - Zdravotechnika
C91: Miesto: | F91: =F14 -> Nitra, k.ú. Dolné Krškany | I91: Dátum: | J91: =IF(J14="","",J14) -> 17. 5. 2022
C93: Objednávateľ: | F93: =E17 -> Mesto Nitra, Štefánikova tr.60/80, 950 06 Nitra | I93: Projektant: | J93: =E23 -> A+D Projekta, s.r.o, Nitra
C94: Zhotoviteľ: | F94: =IF(E20="","",E20) -> Vyplň údaj | I94: Spracovateľ: | J94: =E26
C96: Kód dielu - Popis | J96: Cena celkom [EUR]
C98: Náklady z rozpočtu | J98: =J128 -> 0 | AU98: -1
D99: HSV - Práce a dodávky HSV | J99: =J129 -> 0
D100: 1 - Zemné práce | J100: =J130 -> 0
D101: 2 - Zakladanie | J101: =J140 -> 0
D102: 4 - Vodorovné konštrukcie | J102: =J143 -> 0
D103: 8 - Rúrové vedenie | J103: =J145 -> 0
D104: PSV - Práce a dodávky PSV | J104: =J151 -> 0
D105: 721 - Zdravotech. vnútorná kanalizácia | J105: =J152 -> 0
D106: 722 - Zdravotechnika - vnútorný vodovod | J106: =J156 -> 0
C113: ROZPOČET
C115: Stavba:
E116: =E7 -> Cintorín Dolné Krškany - rozšírenie - aktualizácia
C117: Objekt:
E118: 01 - SO 02 Obradná sieň
C119: Časť:
E120: =E11 -> 002 - Zdravotechnika
C122: Miesto: | F122: =F14 -> Nitra, k.ú. Dolné Krškany | I122: Dátum: | J122: =IF(J14="","",J14) -> 17. 5. 2022
C124: Objednávateľ: | F124: =E17 -> Mesto Nitra, Štefánikova tr.60/80, 950 06 Nitra | I124: Projektant: | J124: =E23 -> A+D Projekta, s.r.o, Nitra
C125: Zhotoviteľ: | F125: =IF(E20="","",E20) -> Vyplň údaj | I125: Spracovateľ: | J125: =E26
C127: PČ | D127: Typ | E127: Kód | F127: Popis | G127: MJ | H127: Množstvo | I127: J.cena [EUR] | J127: Cena celkom [EUR] | K127: Cenová sústava | N127: DPH | O127: J. Nh [h] | P127: Nh celkom [h] | Q127: J. hmotnosť [t] | R127: Hmotnosť celkom [t] | S127: J. suť [t] | T127: Suť Celkom [t]
C128: Náklady z rozpočtu | J128: =BK128 -> 0 | P128: =P129+P151 -> 0 | R128: =R129+R151 -> 0 | T128: =T129+T151 -> 0 | AT128: D | AU128: -1 | BK128: =BK129+BK151 -> 0
D129: D | E129: HSV | F129: Práce a dodávky HSV | J129: =BK129 -> 0 | P129: =P130+P140+P143+P145 -> 0 | R129: =R130+R140+R143+R145 -> 0 | T129: =T130+T140+T143+T145 -> 0 | AR129: 1 | AT129: D | AU129: 0 | AY129: ROZPOCET | BK129: =BK130+BK140+BK143+BK145 -> 0
D130: D | E130: 1 | F130: Zemné práce | J130: =BK130 -> 0 | P130: =SUM(P131:P139) -> 0 | R130: =SUM(R131:R139) -> 0 | T130: =SUM(T131:T139) -> 0 | AR130: 1 | AT130: D | AU130: 1 | AY130: ROZPOCET | BK130: =SUM(BK131:BK139) -> 0
C131: 1 | D131: K | E131: 132201202 | F131: Výkop ryhy šírky 600-2000mm horn.3 od 100 do 1000 m3 | G131: m3 | H131: 5.2 | J131: =ROUND(I131*H131,3) -> 0 | N131: znížená | P131: =O131*H131 -> 0 | Q131: 0 | R131: =Q131*H131 -> 0 | S131: 0 | T131: =S131*H131 -> 0 | AR131: 4 | AT131: K | AU131: 2 | AY131: ROZPOCET | BE131: =IF(N131="základná",J131,0) -> 0 | BF131: =IF(N131="znížená",J131,0) -> 0 | BG131: =IF(N131="zákl. prenesená",J131,0) -> 0 | BH131: =IF(N131="zníž. prenesená",J131,0) -> 0 | BI131: =IF(N131="nulová",J131,0) -> 0 | BJ131: 2 | BK131: =ROUND(I131*H131,3) -> 0 | BL131: 4 | BM131: 2
C132: 2 | D132: K | E132: 132201209 | F132: Hĺbenie rýh š. nad 600 do 2 000 mm zapažených i nezapažených, s urovnaním dna. Príplatok k cenám za lepivosť horniny 3 | G132: m3 | H132: 5.2 | J132: =ROUND(I132*H132,3) -> 0 | N132: znížená | P132: =O132*H132 -> 0 | Q132: 0 | R132: =Q132*H132 -> 0 | S132: 0 | T132: =S132*H132 -> 0 | AR132: 4 | AT132: K | AU132: 2 | AY132: ROZPOCET | BE132: =IF(N132="základná",J132,0) -> 0 | BF132: =IF(N132="znížená",J132,0) -> 0 | BG132: =IF(N132="zákl. prenesená",J132,0) -> 0 | BH132: =IF(N132="zníž. prenesená",J132,0) -> 0 | BI132: =IF(N132="nulová",J132,0) -> 0 | BJ132: 2 | BK132: =ROUND(I132*H132,3) -> 0 | BL132: 4 | BM132: 4
C133: 3 | D133: K | E133: 162601102 | F133: Vodorovné premiestnenie výkopku tr.1-4 do 5000 m | G133: m3 | H133: 1.8 | J133: =ROUND(I133*H133,3) -> 0 | N133: znížená | P133: =O133*H133 -> 0 | Q133: 0 | R133: =Q133*H133 -> 0 | S133: 0 | T133: =S133*H133 -> 0 | AR133: 4 | AT133: K | AU133: 2 | AY133: ROZPOCET | BE133: =IF(N133="základná",J133,0) -> 0 | BF133: =IF(N133="znížená",J133,0) -> 0 | BG133: =IF(N133="zákl. prenesená",J133,0) -> 0 | BH133: =IF(N133="zníž. prenesená",J133,0) -> 0 | BI133: =IF(N133="nulová",J133,0) -> 0 | BJ133: 2 | BK133: =ROUND(I133*H133,3) -> 0 | BL133: 4 | BM133: 6
C134: 4 | D134: K | E134: 171201201 | F134: Uloženie sypaniny na skládky do 100 m3 | G134: m3 | H134: 1.8 | J134: =ROUND(I134*H134,3) -> 0 | N134: znížená | P134: =O134*H134 -> 0 | Q134: 0 | R134: =Q134*H134 -> 0 | S134: 0 | T134: =S134*H134 -> 0 | AR134: 4 | AT134: K | AU134: 2 | AY134: ROZPOCET | BE134: =IF(N134="základná",J134,0) -> 0 | BF134: =IF(N134="znížená",J134,0) -> 0 | BG134: =IF(N134="zákl. prenesená",J134,0) -> 0 | BH134: =IF(N134="zníž. prenesená",J134,0) -> 0 | BI134: =IF(N134="nulová",J134,0) -> 0 | BJ134: 2 | BK134: =ROUND(I134*H134,3) -> 0 | BL134: 4 | BM134: 8
C135: 5 | D135: M | E135: P01000001 | F135: Poplatok za skládku | G135: t | H135: 1.8 | J135: =ROUND(I135*H135,3) -> 0 | N135: znížená | P135: =O135*H135 -> 0 | Q135: 0 | R135: =Q135*H135 -> 0 | S135: 0 | T135: =S135*H135 -> 0 | AR135: 8 | AT135: M | AU135: 2 | AY135: ROZPOCET | BE135: =IF(N135="základná",J135,0) -> 0 | BF135: =IF(N135="znížená",J135,0) -> 0 | BG135: =IF(N135="zákl. prenesená",J135,0) -> 0 | BH135: =IF(N135="zníž. prenesená",J135,0) -> 0 | BI135: =IF(N135="nulová",J135,0) -> 0 | BJ135: 2 | BK135: =ROUND(I135*H135,3) -> 0 | BL135: 4 | BM135: 10
C136: 6 | D136: K | E136: 174101001 | F136: Zásyp sypaninou so zhutnením jám, šachiet, rýh, zárezov alebo okolo objektov do 100 m3 | G136: m3 | H136: 3.4 | J136: =ROUND(I136*H136,3) -> 0 | N136: znížená | P136: =O136*H136 -> 0 | Q136: 0 | R136: =Q136*H136 -> 0 | S136: 0 | T136: =S136*H136 -> 0 | AR136: 4 | AT136: K | AU136: 2 | AY136: ROZPOCET | BE136: =IF(N136="základná",J136,0) -> 0 | BF136: =IF(N136="znížená",J136,0) -> 0 | BG136: =IF(N136="zákl. prenesená",J136,0) -> 0 | BH136: =IF(N136="zníž. prenesená",J136,0) -> 0 | BI136: =IF(N136="nulová",J136,0) -> 0 | BJ136: 2 | BK136: =ROUND(I136*H136,3) -> 0 | BL136: 4 | BM136: 12
C137: 7 | D137: K | E137: 175101101 | F137: Obsyp potrubia sypaninou z vhodných hornín 1 až 4 bez prehodenia sypaniny | G137: m3 | H137: 1.2 | J137: =ROUND(I137*H137,3) -> 0 | N137: znížená | P137: =O137*H137 -> 0 | Q137: 0 | R137: =Q137*H137 -> 0 | S137: 0 | T137: =S137*H137 -> 0 | AR137: 4 | AT137: K | AU137: 2 | AY137: ROZPOCET | BE137: =IF(N137="základná",J137,0) -> 0 | BF137: =IF(N137="znížená",J137,0) -> 0 | BG137: =IF(N137="zákl. prenesená",J137,0) -> 0 | BH137: =IF(N137="zníž. prenesená",J137,0) -> 0 | BI137: =IF(N137="nulová",J137,0) -> 0 | BJ137: 2 | BK137: =ROUND(I137*H137,3) -> 0 | BL137: 4 | BM137: 14
C138: 8 | D138: M | E138: 5833725100 | F138: Štrkopiesok 0-63 b | G138: t | H138: 1.2 | J138: =ROUND(I138*H138,3) -> 0 | N138: znížená | P138: =O138*H138 -> 0 | Q138: 0 | R138: =Q138*H138 -> 0 | S138: 0 | T138: =S138*H138 -> 0 | AR138: 8 | AT138: M | AU138: 2 | AY138: ROZPOCET | BE138: =IF(N138="základná",J138,0) -> 0 | BF138: =IF(N138="znížená",J138,0) -> 0 | BG138: =IF(N138="zákl. prenesená",J138,0) -> 0 | BH138: =IF(N138="zníž. prenesená",J138,0) -> 0 | BI138: =IF(N138="nulová",J138,0) -> 0 | BJ138: 2 | BK138: =ROUND(I138*H138,3) -> 0 | BL138: 4 | BM138: 16
C139: 9 | D139: K | E139: 175101109 | F139: Príplatok k cene za prehodenie sypaniny | G139: m3 | H139: 1.2 | J139: =ROUND(I139*H139,3) -> 0 | N139: znížená | P139: =O139*H139 -> 0 | Q139: 0 | R139: =Q139*H139 -> 0 | S139: 0 | T139: =S139*H139 -> 0 | AR139: 4 | AT139: K | AU139: 2 | AY139: ROZPOCET | BE139: =IF(N139="základná",J139,0) -> 0 | BF139: =IF(N139="znížená",J139,0) -> 0 | BG139: =IF(N139="zákl. prenesená",J139,0) -> 0 | BH139: =IF(N139="zníž. prenesená",J139,0) -> 0 | BI139: =IF(N139="nulová",J139,0) -> 0 | BJ139: 2 | BK139: =ROUND(I139*H139,3) -> 0 | BL139: 4 | BM139: 18
D140: D | E140: 2 | F140: Zakladanie | J140: =BK140 -> 0 | P140: =SUM(P141:P142) -> 0 | R140: =SUM(R141:R142) -> 0 | T140: =SUM(T141:T142) -> 0 | AR140: 1 | AT140: D | AU140: 1 | AY140: ROZPOCET | BK140: =SUM(BK141:BK142) -> 0
C141: 10 | D141: K | E141: 270328136 | F141: Konštrukcie základové z betónu železového s výstužou, hmot. nad 90 kg/m3 tr. C25/30 | G141: m3 | H141: 1.38 | J141: =ROUND(I141*H141,3) -> 0 | N141: znížená | P141: =O141*H141 -> 0 | Q141: 0 | R141: =Q141*H141 -> 0 | S141: 0 | T141: =S141*H141 -> 0 | AR141: 4 | AT141: K | AU141: 2 | AY141: ROZPOCET | BE141: =IF(N141="základná",J141,0) -> 0 | BF141: =IF(N141="znížená",J141,0) -> 0 | BG141: =IF(N141="zákl. prenesená",J141,0) -> 0 | BH141: =IF(N141="zníž. prenesená",J141,0) -> 0 | BI141: =IF(N141="nulová",J141,0) -> 0 | BJ141: 2 | BK141: =ROUND(I141*H141,3) -> 0 | BL141: 4 | BM141: 20
C142: 11 | D142: K | E142: 564841111 | F142: Podklad zo štrkodrviny s rozprestrením a zhutnením, hr.po zhutnení 120 mm | G142: m2 | H142: 9.18 | J142: =ROUND(I142*H142,3) -> 0 | N142: znížená | P142: =O142*H142 -> 0 | Q142: 0 | R142: =Q142*H142 -> 0 | S142: 0 | T142: =S142*H142 -> 0 | AR142: 4 | AT142: K | AU142: 2 | AY142: ROZPOCET | BE142: =IF(N142="základná",J142,0) -> 0 | BF142: =IF(N142="znížená",J142,0) -> 0 | BG142: =IF(N142="zákl. prenesená",J142,0) -> 0 | BH142: =IF(N142="zníž. prenesená",J142,0) -> 0 | BI142: =IF(N142="nulová",J142,0) -> 0 | BJ142: 2 | BK142: =ROUND(I142*H142,3) -> 0 | BL142: 4 | BM142: 22
D143: D | E143: 4 | F143: Vodorovné konštrukcie | J143: =BK143 -> 0 | P143: =P144 -> 0 | R143: =R144 -> 0 | T143: =T144 -> 0 | AR143: 1 | AT143: D | AU143: 1 | AY143: ROZPOCET | BK143: =BK144 -> 0
C144: 12 | D144: K | E144: 451573111 | F144: Lôžko pod potrubie, stoky a drobné objekty, v otvorenom výkope z piesku a štrkopiesku do 63 mm | G144: m3 | H144: 0.87 | J144: =ROUND(I144*H144,3) -> 0 | N144: znížená | P144: =O144*H144 -> 0 | Q144: 0 | R144: =Q144*H144 -> 0 | S144: 0 | T144: =S144*H144 -> 0 | AR144: 4 | AT144: K | AU144: 2 | AY144: ROZPOCET | BE144: =IF(N144="základná",J144,0) -> 0 | BF144: =IF(N144="znížená",J144,0) -> 0 | BG144: =IF(N144="zákl. prenesená",J144,0) -> 0 | BH144: =IF(N144="zníž. prenesená",J144,0) -> 0 | BI144: =IF(N144="nulová",J144,0) -> 0 | BJ144: 2 | BK144: =ROUND(I144*H144,3) -> 0 | BL144: 4 | BM144: 24
D145: D | E145: 8 | F145: Rúrové vedenie | J145: =BK145 -> 0 | P145: =SUM(P146:P150) -> 0 | R145: =SUM(R146:R150) -> 0 | T145: =SUM(T146:T150) -> 0 | AR145: 1 | AT145: D | AU145: 1 | AY145: ROZPOCET | BK145: =SUM(BK146:BK150) -> 0
C146: 13 | D146: K | E146: 8932521114N.1 | F146: Dodavka + Osadenie žumpy, prefabrikovaná o obsahu 8 m3 KL AN 8 | G146: sub | H146: 1 | J146: =ROUND(I146*H146,3) -> 0 | N146: znížená | P146: =O146*H146 -> 0 | Q146: 0 | R146: =Q146*H146 -> 0 | S146: 0 | T146: =S146*H146 -> 0 | AR146: 4 | AT146: K | AU146: 2 | AY146: ROZPOCET | BE146: =IF(N146="základná",J146,0) -> 0 | BF146: =IF(N146="znížená",J146,0) -> 0 | BG146: =IF(N146="zákl. prenesená",J146,0) -> 0 | BH146: =IF(N146="zníž. prenesená",J146,0) -> 0 | BI146: =IF(N146="nulová",J146,0) -> 0 | BJ146: 2 | BK146: =ROUND(I146*H146,3) -> 0 | BL146: 4 | BM146: 26
C147: 14 | D147: K | E147: 894401111 | F147: Osadenie betónového dielca pre šachty, rovná alebo prechodová skruž TBS | G147: ks | H147: 2 | J147: =ROUND(I147*H147,3) -> 0 | N147: znížená | P147: =O147*H147 -> 0 | Q147: 0 | R147: =Q147*H147 -> 0 | S147: 0 | T147: =S147*H147 -> 0 | AR147: 4 | AT147: K | AU147: 2 | AY147: ROZPOCET | BE147: =IF(N147="základná",J147,0) -> 0 | BF147: =IF(N147="znížená",J147,0) -> 0 | BG147: =IF(N147="zákl. prenesená",J147,0) -> 0 | BH147: =IF(N147="zníž. prenesená",J147,0) -> 0 | BI147: =IF(N147="nulová",J147,0) -> 0 | BJ147: 2 | BK147: =ROUND(I147*H147,3) -> 0 | BL147: 4 | BM147: 28
C148: 15 | D148: M | E148: 5922470150 | F148: Skruž betónová rovná TBS 1000/250-S s poplastovanou stupačkou | G148: ks | H148: 2 | J148: =ROUND(I148*H148,3) -> 0 | N148: znížená | P148: =O148*H148 -> 0 | Q148: 0 | R148: =Q148*H148 -> 0 | S148: 0 | T148: =S148*H148 -> 0 | AR148: 8 | AT148: M | AU148: 2 | AY148: ROZPOCET | BE148: =IF(N148="základná",J148,0) -> 0 | BF148: =IF(N148="znížená",J148,0) -> 0 | BG148: =IF(N148="zákl. prenesená",J148,0) -> 0 | BH148: =IF(N148="zníž. prenesená",J148,0) -> 0 | BI148: =IF(N148="nulová",J148,0) -> 0 | BJ148: 2 | BK148: =ROUND(I148*H148,3) -> 0 | BL148: 4 | BM148: 30
C149: 16 | D149: K | E149: 8991031111 | F149: Osadenie poklopu liatinového a oceľového vrátane rámu hmotn. nad 100 do 150 kg | G149: ks | H149: 1 | J149: =ROUND(I149*H149,3) -> 0 | N149: znížená | P149: =O149*H149 -> 0 | Q149: 0 | R149: =Q149*H149 -> 0 | S149: 0 | T149: =S149*H149 -> 0 | AR149: 4 | AT149: K | AU149: 2 | AY149: ROZPOCET | BE149: =IF(N149="základná",J149,0) -> 0 | BF149: =IF(N149="znížená",J149,0) -> 0 | BG149: =IF(N149="zákl. prenesená",J149,0) -> 0 | BH149: =IF(N149="zníž. prenesená",J149,0) -> 0 | BI149: =IF(N149="nulová",J149,0) -> 0 | BJ149: 2 | BK149: =ROUND(I149*H149,3) -> 0 | BL149: 4 | BM149: 32
C150: 17 | D150: M | E150: 55242142001 | F150: Poklop D400 | G150: ks | H150: 1 | J150: =ROUND(I150*H150,3) -> 0 | N150: znížená | P150: =O150*H150 -> 0 | Q150: 0 | R150: =Q150*H150 -> 0 | S150: 0 | T150: =S150*H150 -> 0 | AR150: 8 | AT150: M | AU150: 2 | AY150: ROZPOCET | BE150: =IF(N150="základná",J150,0) -> 0 | BF150: =IF(N150="znížená",J150,0) -> 0 | BG150: =IF(N150="zákl. prenesená",J150,0) -> 0 | BH150: =IF(N150="zníž. prenesená",J150,0) -> 0 | BI150: =IF(N150="nulová",J150,0) -> 0 | BJ150: 2 | BK150: =ROUND(I150*H150,3) -> 0 | BL150: 4 | BM150: 34
D151: D | E151: PSV | F151: Práce a dodávky PSV | J151: =BK151 -> 0 | P151: =P152+P156 -> 0 | R151: =R152+R156 -> 0 | T151: =T152+T156 -> 0 | AR151: 2 | AT151: D | AU151: 0 | AY151: ROZPOCET | BK151: =BK152+BK156 -> 0
D152: D | E152: 721 | F152: Zdravotech. vnútorná kanalizácia | J152: =BK152 -> 0 | P152: =SUM(P153:P155) -> 0 | R152: =SUM(R153:R155) -> 0 | T152: =SUM(T153:T155) -> 0 | AR152: 2 | AT152: D | AU152: 1 | AY152: ROZPOCET | BK152: =SUM(BK153:BK155) -> 0
C153: 18 | D153: K | E153: 721171111 | F153: Potrubie z PVC - U odpadové ležaté hrdlové D 125x2, 8 | G153: m | H153: 15 | J153: =ROUND(I153*H153,3) -> 0 | N153: znížená | P153: =O153*H153 -> 0 | Q153: 0 | R153: =Q153*H153 -> 0 | S153: 0 | T153: =S153*H153 -> 0 | AR153: 16 | AT153: K | AU153: 2 | AY153: ROZPOCET | BE153: =IF(N153="základná",J153,0) -> 0 | BF153: =IF(N153="znížená",J153,0) -> 0 | BG153: =IF(N153="zákl. prenesená",J153,0) -> 0 | BH153: =IF(N153="zníž. prenesená",J153,0) -> 0 | BI153: =IF(N153="nulová",J153,0) -> 0 | BJ153: 2 | BK153: =ROUND(I153*H153,3) -> 0 | BL153: 16 | BM153: 36
C154: 19 | D154: K | E154: 721290111 | F154: Ostatné - skúška tesnosti kanalizácie v objektoch vodou do DN 125 | G154: m | H154: 15 | J154: =ROUND(I154*H154,3) -> 0 | N154: znížená | P154: =O154*H154 -> 0 | Q154: 0 | R154: =Q154*H154 -> 0 | S154: 0 | T154: =S154*H154 -> 0 | AR154: 16 | AT154: K | AU154: 2 | AY154: ROZPOCET | BE154: =IF(N154="základná",J154,0) -> 0 | BF154: =IF(N154="znížená",J154,0) -> 0 | BG154: =IF(N154="zákl. prenesená",J154,0) -> 0 | BH154: =IF(N154="zníž. prenesená",J154,0) -> 0 | BI154: =IF(N154="nulová",J154,0) -> 0 | BJ154: 2 | BK154: =ROUND(I154*H154,3) -> 0 | BL154: 16 | BM154: 38
C155: 20 | D155: K | E155: 998721101.S | F155: Presun hmôt pre vnútornú kanalizáciu v objektoch výšky do 6 m | G155: t | H155: 0.041 | J155: =ROUND(I155*H155,3) -> 0 | N155: znížená | P155: =O155*H155 -> 0 | Q155: 0 | R155: =Q155*H155 -> 0 | S155: 0 | T155: =S155*H155 -> 0 | AR155: 16 | AT155: K | AU155: 2 | AY155: ROZPOCET | BE155: =IF(N155="základná",J155,0) -> 0 | BF155: =IF(N155="znížená",J155,0) -> 0 | BG155: =IF(N155="zákl. prenesená",J155,0) -> 0 | BH155: =IF(N155="zníž. prenesená",J155,0) -> 0 | BI155: =IF(N155="nulová",J155,0) -> 0 | BJ155: 2 | BK155: =ROUND(I155*H155,3) -> 0 | BL155: 16 | BM155: 40
D156: D | E156: 722 | F156: Zdravotechnika - vnútorný vodovod | J156: =BK156 -> 0 | P156: =SUM(P157:P160) -> 0 | R156: =SUM(R157:R160) -> 0 | T156: =SUM(T157:T160) -> 0 | AR156: 2 | AT156: D | AU156: 1 | AY156: ROZPOCET | BK156: =SUM(BK157:BK160) -> 0
C157: 21 | D157: K | E157: 722150203.S | F157: Potrubie z oceľových rúrok závitových asfalt. a jutovaných bezšvíkových bežných 11 353.0, 10 004.00 DN 25 | G157: m | H157: 13 | J157: =ROUND(I157*H157,3) -> 0 | N157: znížená | P157: =O157*H157 -> 0 | Q157: 0 | R157: =Q157*H157 -> 0 | S157: 0 | T157: =S157*H157 -> 0 | AR157: 16 | AT157: K | AU157: 2 | AY157: ROZPOCET | BE157: =IF(N157="základná",J157,0) -> 0 | BF157: =IF(N157="znížená",J157,0) -> 0 | BG157: =IF(N157="zákl. prenesená",J157,0) -> 0 | BH157: =IF(N157="zníž. prenesená",J157,0) -> 0 | BI157: =IF(N157="nulová",J157,0) -> 0 | BJ157: 2 | BK157: =ROUND(I157*H157,3) -> 0 | BL157: 16 | BM157: 42
C158: 22 | D158: K | E158: 722290226 | F158: Tlaková skúška vodovodného potrubia závitového do DN 50 | G158: m | H158: 13 | J158: =ROUND(I158*H158,3) -> 0 | N158: znížená | P158: =O158*H158 -> 0 | Q158: 0 | R158: =Q158*H158 -> 0 | S158: 0 | T158: =S158*H158 -> 0 | AR158: 16 | AT158: K | AU158: 2 | AY158: ROZPOCET | BE158: =IF(N158="základná",J158,0) -> 0 | BF158: =IF(N158="znížená",J158,0) -> 0 | BG158: =IF(N158="zákl. prenesená",J158,0) -> 0 | BH158: =IF(N158="zníž. prenesená",J158,0) -> 0 | BI158: =IF(N158="nulová",J158,0) -> 0 | BJ158: 2 | BK158: =ROUND(I158*H158,3) -> 0 | BL158: 16 | BM158: 44
C159: 23 | D159: K | E159: 722290234 | F159: Prepláchnutie a dezinfekcia vodovodného potrubia do DN 80 | G159: m | H159: 13 | J159: =ROUND(I159*H159,3) -> 0 | N159: znížená | P159: =O159*H159 -> 0 | Q159: 0 | R159: =Q159*H159 -> 0 | S159: 0 | T159: =S159*H159 -> 0 | AR159: 16 | AT159: K | AU159: 2 | AY159: ROZPOCET | BE159: =IF(N159="základná",J159,0) -> 0 | BF159: =IF(N159="znížená",J159,0) -> 0 | BG159: =IF(N159="zákl. prenesená",J159,0) -> 0 | BH159: =IF(N159="zníž. prenesená",J159,0) -> 0 | BI159: =IF(N159="nulová",J159,0) -> 0 | BJ159: 2 | BK159: =ROUND(I159*H159,3) -> 0 | BL159: 16 | BM159: 46
C160: 24 | D160: K | E160: 998722101 | F160: Presun hmôt pre vnútorný vodovod v objektoch výšky do 6 m | G160: t | H160: 0.058 | J160: =ROUND(I160*H160,3) -> 0 | N160: znížená | P160: =O160*H160 -> 0 | Q160: 0 | R160: =Q160*H160 -> 0 | S160: 0 | T160: =S160*H160 -> 0 | AR160: 16 | AT160: K | AU160: 2 | AY160: ROZPOCET | BE160: =IF(N160="základná",J160,0) -> 0 | BF160: =IF(N160="znížená",J160,0) -> 0 | BG160: =IF(N160="zákl. prenesená",J160,0) -> 0 | BH160: =IF(N160="zníž. prenesená",J160,0) -> 0 | BI160: =IF(N160="nulová",J160,0) -> 0 | BJ160: 2 | BK160: =ROUND(I160*H160,3) -> 0 | BL160: 16 | BM160: 48

Sheet 003 - Elektroinštalácia 
L2: >> skryté stĺpce << | AT2: {de2df3de-7b97-4bac-9831-3cf08db09f9d}
AT3: 0
D4: KRYCÍ LIST ROZPOČTU | M4: v --- nižšie sa nachádzajú doplnkové a pomocné údaje k zostavám --- v | AT4: False
D6: Stavba:
E7: ='Rekapitulácia stavby'!K6 -> Cintorín Dolné Krškany - rozšírenie - aktualizácia
D8: Objekt:
E9: 01 - SO 02 Obradná sieň
D10: Časť:
E11: 003 - Elektroinštalácia
D13: JKSO: | I13: KS:
D14: Miesto: | F14: Nitra, k.ú. Dolné Krškany | I14: Dátum: | J14: ='Rekapitulácia stavby'!AN8 -> 17. 5. 2022
D16: Objednávateľ: | I16: IČO:
E17: Mesto Nitra, Štefánikova tr.60/80, 950 06 Nitra | I17: IČ DPH:
D19: Zhotoviteľ: | I19: IČO: | J19: ='Rekapitulácia stavby'!AN13 -> Vyplň údaj
E20: ='Rekapitulácia stavby'!E14 -> Vyplň údaj | I20: IČ DPH: | J20: ='Rekapitulácia stavby'!AN14 -> Vyplň údaj
D22: Projektant: | I22: IČO:
E23: A+D Projekta, s.r.o, Nitra | I23: IČ DPH:
D25: Spracovateľ: | I25: IČO: | J25: =IF('Rekapitulácia stavby'!AN19="","",'Rekapitulácia stavby'!AN19)
E26: =IF('Rekapitulácia stavby'!E20="","",'Rekapitulácia stavby'!E20) | I26: IČ DPH: | J26: =IF('Rekapitulácia stavby'!AN20="","",'Rekapitulácia stavby'!AN20)
D28: Poznámka:
D32: Cena bez DPH | J32: =ROUND(J125, 2) -> 0
F34: Základ dane | I34: Sadzba dane | J34: Výška dane
D35: DPH | E35: základná | F35: =ROUND((SUM(BE125:BE167)), 2) -> 0 | I35: 0.2 | J35: =ROUND(((SUM(BE125:BE167))*I35), 2) -> 0
E36: znížená | F36: =ROUND((SUM(BF125:BF167)), 2) -> 0 | I36: 0.2 | J36: =ROUND(((SUM(BF125:BF167))*I36), 2) -> 0
E37: zákl. prenesená | F37: =ROUND((SUM(BG125:BG167)), 2) -> 0 | I37: 0.2 | J37: =0 -> 0
E38: zníž. prenesená | F38: =ROUND((SUM(BH125:BH167)), 2) -> 0 | I38: 0.2 | J38: =0 -> 0
E39: nulová | F39: =ROUND((SUM(BI125:BI167)), 2) -> 0 | I39: 0 | J39: =0 -> 0
D41: Cena s DPH | G41: v | H41: EUR | J41: =SUM(J32:J39) -> 0
D50: Projektant | G50: Spracovateľ
D61: Dátum a podpis: | F61: Pečiatka | G61: Dátum a podpis: | J61: Pečiatka
D65: Objednávateľ | G65: Zhotoviteľ
D76: Dátum a podpis: | F76: Pečiatka | G76: Dátum a podpis: | J76: Pečiatka
C82: REKAPITULÁCIA ROZPOČTU
C84: Stavba:
E85: =E7 -> Cintorín Dolné Krškany - rozšírenie - aktualizácia
C86: Objekt:
E87: 01 - SO 02 Obradná sieň
C88: Časť:
E89: =E11 -> 003 - Elektroinštalácia
C91: Miesto: | F91: =F14 -> Nitra, k.ú. Dolné Krškany | I91: Dátum: | J91: =IF(J14="","",J14) -> 17. 5. 2022
C93: Objednávateľ: | F93: =E17 -> Mesto Nitra, Štefánikova tr.60/80, 950 06 Nitra | I93: Projektant: | J93: =E23 -> A+D Projekta, s.r.o, Nitra
C94: Zhotoviteľ: | F94: =IF(E20="","",E20) -> Vyplň údaj | I94: Spracovateľ: | J94: =E26
C96: Kód dielu - Popis | J96: Cena celkom [EUR]
C98: Náklady z rozpočtu | J98: =J125 -> 0 | AU98: -1
D99: M - Práce a dodávky M bez DPH | J99: =J126 -> 0
D100: 21-M - Elektromontáže | J100: =J127 -> 0
D101: 21-M m - Nosný materiál | J101: =J133 -> 0
D102: 21-M z01 - Montaz bleskozvodu | J102: =J137 -> 0
D103: 21-M z03 - Material bleskozvodu | J103: =J147 -> 0
C110: ROZPOČET
C112: Stavba:
E113: =E7 -> Cintorín Dolné Krškany - rozšírenie - aktualizácia
C114: Objekt:
E115: 01 - SO 02 Obradná sieň
C116: Časť:
E117: =E11 -> 003 - Elektroinštalácia
C119: Miesto: | F119: =F14 -> Nitra, k.ú. Dolné Krškany | I119: Dátum: | J119: =IF(J14="","",J14) -> 17. 5. 2022
C121: Objednávateľ: | F121: =E17 -> Mesto Nitra, Štefánikova tr.60/80, 950 06 Nitra | I121: Projektant: | J121: =E23 -> A+D Projekta, s.r.o, Nitra
C122: Zhotoviteľ: | F122: =IF(E20="","",E20) -> Vyplň údaj | I122: Spracovateľ: | J122: =E26
C124: PČ | D124: Typ | E124: Kód | F124: Popis | G124: MJ | H124: Množstvo | I124: J.cena [EUR] | J124: Cena celkom [EUR] | K124: Cenová sústava | N124: DPH | O124: J. Nh [h] | P124: Nh celkom [h] | Q124: J. hmotnosť [t] | R124: Hmotnosť celkom [t] | S124: J. suť [t] | T124: Suť Celkom [t]
C125: Náklady z rozpočtu | J125: =BK125 -> 0 | P125: =P126 -> 0 | R125: =R126 -> 0 | T125: =T126 -> 0 | AT125: D | AU125: -1 | BK125: =BK126 -> 0
D126: D | E126: M | F126: Práce a dodávky M bez DPH | J126: =BK126 -> 0 | P126: =P127+P133+P137+P147 -> 0 | R126: =R127+R133+R137+R147 -> 0 | T126: =T127+T133+T137+T147 -> 0 | AR126: 3 | AT126: D | AU126: 0 | AY126: ROZPOCET | BK126: =BK127+BK133+BK137+BK147 -> 0
D127: D | E127: 21-M | F127: Elektromontáže | J127: =BK127 -> 0 | P127: =SUM(P128:P132) -> 0 | R127: =SUM(R128:R132) -> 0 | T127: =SUM(T128:T132) -> 0 | AR127: 3 | AT127: D | AU127: 1 | AY127: ROZPOCET | BK127: =SUM(BK128:BK132) -> 0
C128: 1 | D128: K | E128: 210100101 | F128: Ukončenie Cu a Al drôtov a lán včítane zapojenie, jedna žila, vodič s prierezom do 16 mm2 | G128: ks | H128: 8 | J128: =ROUND(I128*H128,3) -> 0 | N128: znížená | P128: =O128*H128 -> 0 | Q128: 0 | R128: =Q128*H128 -> 0 | S128: 0 | T128: =S128*H128 -> 0 | AR128: 64 | AT128: K | AU128: 2 | AY128: ROZPOCET | BE128: =IF(N128="základná",J128,0) -> 0 | BF128: =IF(N128="znížená",J128,0) -> 0 | BG128: =IF(N128="zákl. prenesená",J128,0) -> 0 | BH128: =IF(N128="zníž. prenesená",J128,0) -> 0 | BI128: =IF(N128="nulová",J128,0) -> 0 | BJ128: 2 | BK128: =ROUND(I128*H128,3) -> 0 | BL128: 64 | BM128: 2
C129: 2 | D129: K | E129: 210810052 | F129: Silový kábel medený 750 - 1000 V /mm2/ uložený p.o.CYKY-CYKYm 750 V 4x6 | G129: m | H129: 15 | J129: =ROUND(I129*H129,3) -> 0 | N129: znížená | P129: =O129*H129 -> 0 | Q129: 0 | R129: =Q129*H129 -> 0 | S129: 0 | T129: =S129*H129 -> 0 | AR129: 64 | AT129: K | AU129: 2 | AY129: ROZPOCET | BE129: =IF(N129="základná",J129,0) -> 0 | BF129: =IF(N129="znížená",J129,0) -> 0 | BG129: =IF(N129="zákl. prenesená",J129,0) -> 0 | BH129: =IF(N129="zníž. prenesená",J129,0) -> 0 | BI129: =IF(N129="nulová",J129,0) -> 0 | BJ129: 2 | BK129: =ROUND(I129*H129,3) -> 0 | BL129: 64 | BM129: 4
C130: 3 | D130: K | E130: 210102001 | F130: Spojka epoxidová pre celoplastové káble SVPe do 1 kV do 4 x 25 mm2 | G130: ks | H130: 1 | J130: =ROUND(I130*H130,3) -> 0 | N130: znížená | P130: =O130*H130 -> 0 | Q130: 0 | R130: =Q130*H130 -> 0 | S130: 0 | T130: =S130*H130 -> 0 | AR130: 64 | AT130: K | AU130: 2 | AY130: ROZPOCET | BE130: =IF(N130="základná",J130,0) -> 0 | BF130: =IF(N130="znížená",J130,0) -> 0 | BG130: =IF(N130="zákl. prenesená",J130,0) -> 0 | BH130: =IF(N130="zníž. prenesená",J130,0) -> 0 | BI130: =IF(N130="nulová",J130,0) -> 0 | BJ130: 2 | BK130: =ROUND(I130*H130,3) -> 0 | BL130: 64 | BM130: 6
C131: 4 | D131: K | E131: 210000105 | F131: PPV - pomocné pridružené výkony | G131: % | J131: =ROUND(I131*H131,3) -> 0 | N131: znížená | P131: =O131*H131 -> 0 | Q131: 0 | R131: =Q131*H131 -> 0 | S131: 0 | T131: =S131*H131 -> 0 | AR131: 64 | AT131: K | AU131: 2 | AY131: ROZPOCET | BE131: =IF(N131="základná",J131,0) -> 0 | BF131: =IF(N131="znížená",J131,0) -> 0 | BG131: =IF(N131="zákl. prenesená",J131,0) -> 0 | BH131: =IF(N131="zníž. prenesená",J131,0) -> 0 | BI131: =IF(N131="nulová",J131,0) -> 0 | BJ131: 2 | BK131: =ROUND(I131*H131,3) -> 0 | BL131: 64 | BM131: 8
C132: 5 | D132: K | E132: 210000193 | F132: Revízna správa | G132: kpl | H132: 1 | J132: =ROUND(I132*H132,3) -> 0 | N132: znížená | P132: =O132*H132 -> 0 | Q132: 0 | R132: =Q132*H132 -> 0 | S132: 0 | T132: =S132*H132 -> 0 | AR132: 64 | AT132: K | AU132: 2 | AY132: ROZPOCET | BE132: =IF(N132="základná",J132,0) -> 0 | BF132: =IF(N132="znížená",J132,0) -> 0 | BG132: =IF(N132="zákl. prenesená",J132,0) -> 0 | BH132: =IF(N132="zníž. prenesená",J132,0) -> 0 | BI132: =IF(N132="nulová",J132,0) -> 0 | BJ132: 2 | BK132: =ROUND(I132*H132,3) -> 0 | BL132: 64 | BM132: 10
D133: D | E133: 21-M m | F133: Nosný materiál | J133: =BK133 -> 0 | P133: =SUM(P134:P136) -> 0 | R133: =SUM(R134:R136) -> 0 | T133: =SUM(T134:T136) -> 0 | AR133: 1 | AT133: D | AU133: 1 | AY133: ROZPOCET | BK133: =SUM(BK134:BK136) -> 0
C134: 6 | D134: M | E134: 3410109301 | F134: Kábel silový medený CYKY 4Bx6,0 | G134: m | H134: 15 | J134: =ROUND(I134*H134,3) -> 0 | N134: znížená | P134: =O134*H134 -> 0 | Q134: 0 | R134: =Q134*H134 -> 0 | S134: 0 | T134: =S134*H134 -> 0 | AR134: 256 | AT134: M | AU134: 2 | AY134: ROZPOCET | BE134: =IF(N134="základná",J134,0) -> 0 | BF134: =IF(N134="znížená",J134,0) -> 0 | BG134: =IF(N134="zákl. prenesená",J134,0) -> 0 | BH134: =IF(N134="zníž. prenesená",J134,0) -> 0 | BI134: =IF(N134="nulová",J134,0) -> 0 | BJ134: 2 | BK134: =ROUND(I134*H134,3) -> 0 | BL134: 64 | BM134: 12
C135: 7 | D135: M | E135: 3410109303 | F135: Spojka 1kV epoxid. 4x6,0 | G135: ks | H135: 1 | J135: =ROUND(I135*H135,3) -> 0 | N135: znížená | P135: =O135*H135 -> 0 | Q135: 0 | R135: =Q135*H135 -> 0 | S135: 0 | T135: =S135*H135 -> 0 | AR135: 256 | AT135: M | AU135: 2 | AY135: ROZPOCET | BE135: =IF(N135="základná",J135,0) -> 0 | BF135: =IF(N135="znížená",J135,0) -> 0 | BG135: =IF(N135="zákl. prenesená",J135,0) -> 0 | BH135: =IF(N135="zníž. prenesená",J135,0) -> 0 | BI135: =IF(N135="nulová",J135,0) -> 0 | BJ135: 2 | BK135: =ROUND(I135*H135,3) -> 0 | BL135: 64 | BM135: 14
C136: 8 | D136: M | E136: 999000003 | F136: Podružný materiál | G136: % | J136: =ROUND(I136*H136,3) -> 0 | N136: znížená | P136: =O136*H136 -> 0 | Q136: 0 | R136: =Q136*H136 -> 0 | S136: 0 | T136: =S136*H136 -> 0 | AR136: 256 | AT136: M | AU136: 2 | AY136: ROZPOCET | BE136: =IF(N136="základná",J136,0) -> 0 | BF136: =IF(N136="znížená",J136,0) -> 0 | BG136: =IF(N136="zákl. prenesená",J136,0) -> 0 | BH136: =IF(N136="zníž. prenesená",J136,0) -> 0 | BI136: =IF(N136="nulová",J136,0) -> 0 | BJ136: 2 | BK136: =ROUND(I136*H136,3) -> 0 | BL136: 64 | BM136: 16
D137: D | E137: 21-M z01 | F137: Montaz bleskozvodu | J137: =BK137 -> 0 | P137: =SUM(P138:P146) -> 0 | R137: =SUM(R138:R146) -> 0 | T137: =SUM(T138:T146) -> 0 | AR137: 1 | AT137: D | AU137: 1 | AY137: ROZPOCET | BK137: =SUM(BK138:BK146) -> 0
C138: 9 | D138: K | E138: 210220101 | F138: Zvodový vodič včítane podpery FeZn do D 10 mm, A1 D 10 mm Cu D 8 mm | G138: m | H138: 48 | J138: =ROUND(I138*H138,3) -> 0 | N138: znížená | P138: =O138*H138 -> 0 | Q138: 0 | R138: =Q138*H138 -> 0 | S138: 0 | T138: =S138*H138 -> 0 | AR138: 64 | AT138: K | AU138: 2 | AY138: ROZPOCET | BE138: =IF(N138="základná",J138,0) -> 0 | BF138: =IF(N138="znížená",J138,0) -> 0 | BG138: =IF(N138="zákl. prenesená",J138,0) -> 0 | BH138: =IF(N138="zníž. prenesená",J138,0) -> 0 | BI138: =IF(N138="nulová",J138,0) -> 0 | BJ138: 2 | BK138: =ROUND(I138*H138,3) -> 0 | BL138: 64 | BM138: 18
C139: 10 | D139: K | E139: 210220022 | F139: Uzemňovacie vedenie v zemi včít. svoriek, prepojenia, izolácie spojov FeZn D 8 - 10 mm | G139: m | H139: 20 | J139: =ROUND(I139*H139,3) -> 0 | N139: znížená | P139: =O139*H139 -> 0 | Q139: 0 | R139: =Q139*H139 -> 0 | S139: 0 | T139: =S139*H139 -> 0 | AR139: 64 | AT139: K | AU139: 2 | AY139: ROZPOCET | BE139: =IF(N139="základná",J139,0) -> 0 | BF139: =IF(N139="znížená",J139,0) -> 0 | BG139: =IF(N139="zákl. prenesená",J139,0) -> 0 | BH139: =IF(N139="zníž. prenesená",J139,0) -> 0 | BI139: =IF(N139="nulová",J139,0) -> 0 | BJ139: 2 | BK139: =ROUND(I139*H139,3) -> 0 | BL139: 64 | BM139: 20
C140: 11 | D140: K | E140: 210220021 | F140: Uzemňovacie vedenie v zemi včít. svoriek,prepojenia, izolácie spojov FeZn do 120 mm2 | G140: m | H140: 38 | J140: =ROUND(I140*H140,3) -> 0 | N140: znížená | P140: =O140*H140 -> 0 | Q140: 0 | R140: =Q140*H140 -> 0 | S140: 0 | T140: =S140*H140 -> 0 | AR140: 64 | AT140: K | AU140: 2 | AY140: ROZPOCET | BE140: =IF(N140="základná",J140,0) -> 0 | BF140: =IF(N140="znížená",J140,0) -> 0 | BG140: =IF(N140="zákl. prenesená",J140,0) -> 0 | BH140: =IF(N140="zníž. prenesená",J140,0) -> 0 | BI140: =IF(N140="nulová",J140,0) -> 0 | BJ140: 2 | BK140: =ROUND(I140*H140,3) -> 0 | BL140: 64 | BM140: 22
C141: 12 | D141: K | E141: 210220211 | F141: Zachyt.tyč včít.upevnenia do dreva do 2 m dľžky tyče | G141: ks | H141: 1 | J141: =ROUND(I141*H141,3) -> 0 | N141: znížená | P141: =O141*H141 -> 0 | Q141: 0 | R141: =Q141*H141 -> 0 | S141: 0 | T141: =S141*H141 -> 0 | AR141: 64 | AT141: K | AU141: 2 | AY141: ROZPOCET | BE141: =IF(N141="základná",J141,0) -> 0 | BF141: =IF(N141="znížená",J141,0) -> 0 | BG141: =IF(N141="zákl. prenesená",J141,0) -> 0 | BH141: =IF(N141="zníž. prenesená",J141,0) -> 0 | BI141: =IF(N141="nulová",J141,0) -> 0 | BJ141: 2 | BK141: =ROUND(I141*H141,3) -> 0 | BL141: 64 | BM141: 24
C142: 13 | D142: K | E142: 210220301 | F142: Bleskozvodová svorka do 2 skrutiek (SS, SR 03) | G142: ks | H142: 21 | J142: =ROUND(I142*H142,3) -> 0 | N142: znížená | P142: =O142*H142 -> 0 | Q142: 0 | R142: =Q142*H142 -> 0 | S142: 0 | T142: =S142*H142 -> 0 | AR142: 64 | AT142: K | AU142: 2 | AY142: ROZPOCET | BE142: =IF(N142="základná",J142,0) -> 0 | BF142: =IF(N142="znížená",J142,0) -> 0 | BG142: =IF(N142="zákl. prenesená",J142,0) -> 0 | BH142: =IF(N142="zníž. prenesená",J142,0) -> 0 | BI142: =IF(N142="nulová",J142,0) -> 0 | BJ142: 2 | BK142: =ROUND(I142*H142,3) -> 0 | BL142: 64 | BM142: 26
C143: 14 | D143: K | E143: 210220401 | F143: Označenie zvodov štítkami smaltované, z umelej hmot | G143: ks | H143: 4 | J143: =ROUND(I143*H143,3) -> 0 | N143: znížená | P143: =O143*H143 -> 0 | Q143: 0 | R143: =Q143*H143 -> 0 | S143: 0 | T143: =S143*H143 -> 0 | AR143: 64 | AT143: K | AU143: 2 | AY143: ROZPOCET | BE143: =IF(N143="základná",J143,0) -> 0 | BF143: =IF(N143="znížená",J143,0) -> 0 | BG143: =IF(N143="zákl. prenesená",J143,0) -> 0 | BH143: =IF(N143="zníž. prenesená",J143,0) -> 0 | BI143: =IF(N143="nulová",J143,0) -> 0 | BJ143: 2 | BK143: =ROUND(I143*H143,3) -> 0 | BL143: 64 | BM143: 28
C144: 15 | D144: K | E144: 210010004 | F144: Rúrka ohybná elektroinštalačná, uložená pod omietkou, typ 23 - 29 mm | G144: m | H144: 12 | J144: =ROUND(I144*H144,3) -> 0 | N144: znížená | P144: =O144*H144 -> 0 | Q144: 0 | R144: =Q144*H144 -> 0 | S144: 0 | T144: =S144*H144 -> 0 | AR144: 64 | AT144: K | AU144: 2 | AY144: ROZPOCET | BE144: =IF(N144="základná",J144,0) -> 0 | BF144: =IF(N144="znížená",J144,0) -> 0 | BG144: =IF(N144="zákl. prenesená",J144,0) -> 0 | BH144: =IF(N144="zníž. prenesená",J144,0) -> 0 | BI144: =IF(N144="nulová",J144,0) -> 0 | BJ144: 2 | BK144: =ROUND(I144*H144,3) -> 0 | BL144: 64 | BM144: 30
C145: 16 | D145: K | E145: 210010313 | F145: Škatuľa odbočná s viečkom, bez zapojenia (KO 125) štvorcová | G145: ks | H145: 2 | J145: =ROUND(I145*H145,3) -> 0 | N145: znížená | P145: =O145*H145 -> 0 | Q145: 0 | R145: =Q145*H145 -> 0 | S145: 0 | T145: =S145*H145 -> 0 | AR145: 64 | AT145: K | AU145: 2 | AY145: ROZPOCET | BE145: =IF(N145="základná",J145,0) -> 0 | BF145: =IF(N145="znížená",J145,0) -> 0 | BG145: =IF(N145="zákl. prenesená",J145,0) -> 0 | BH145: =IF(N145="zníž. prenesená",J145,0) -> 0 | BI145: =IF(N145="nulová",J145,0) -> 0 | BJ145: 2 | BK145: =ROUND(I145*H145,3) -> 0 | BL145: 64 | BM145: 32
C146: 17 | D146: K | E146: 210000105.1 | F146: PPV pridružené výkony | G146: % | J146: =ROUND(I146*H146,3) -> 0 | N146: znížená | P146: =O146*H146 -> 0 | Q146: 0 | R146: =Q146*H146 -> 0 | S146: 0 | T146: =S146*H146 -> 0 | AR146: 64 | AT146: K | AU146: 2 | AY146: ROZPOCET | BE146: =IF(N146="základná",J146,0) -> 0 | BF146: =IF(N146="znížená",J146,0) -> 0 | BG146: =IF(N146="zákl. prenesená",J146,0) -> 0 | BH146: =IF(N146="zníž. prenesená",J146,0) -> 0 | BI146: =IF(N146="nulová",J146,0) -> 0 | BJ146: 2 | BK146: =ROUND(I146*H146,3) -> 0 | BL146: 64 | BM146: 34
D147: D | E147: 21-M z03 | F147: Material bleskozvodu | J147: =BK147 -> 0 | P147: =SUM(P148:P167) -> 0 | R147: =SUM(R148:R167) -> 0 | T147: =SUM(T148:T167) -> 0 | AR147: 1 | AT147: D | AU147: 1 | AY147: ROZPOCET | BK147: =SUM(BK148:BK167) -> 0
C148: 18 | D148: M | E148: 1561522500 | F148: Drôt ALMGSI 8.00mm | G148: kg | H148: 6.5 | J148: =ROUND(I148*H148,3) -> 0 | N148: znížená | P148: =O148*H148 -> 0 | Q148: 0 | R148: =Q148*H148 -> 0 | S148: 0 | T148: =S148*H148 -> 0 | AR148: 256 | AT148: M | AU148: 2 | AY148: ROZPOCET | BE148: =IF(N148="základná",J148,0) -> 0 | BF148: =IF(N148="znížená",J148,0) -> 0 | BG148: =IF(N148="zákl. prenesená",J148,0) -> 0 | BH148: =IF(N148="zníž. prenesená",J148,0) -> 0 | BI148: =IF(N148="nulová",J148,0) -> 0 | BJ148: 2 | BK148: =ROUND(I148*H148,3) -> 0 | BL148: 64 | BM148: 36
C149: 19 | D149: M | E149: 1561522501 | F149: Drôt pozinkovaný mäkký 11343 d10.00mm | G149: kg | H149: 9 | J149: =ROUND(I149*H149,3) -> 0 | N149: znížená | P149: =O149*H149 -> 0 | Q149: 0 | R149: =Q149*H149 -> 0 | S149: 0 | T149: =S149*H149 -> 0 | AR149: 256 | AT149: M | AU149: 2 | AY149: ROZPOCET | BE149: =IF(N149="základná",J149,0) -> 0 | BF149: =IF(N149="znížená",J149,0) -> 0 | BG149: =IF(N149="zákl. prenesená",J149,0) -> 0 | BH149: =IF(N149="zníž. prenesená",J149,0) -> 0 | BI149: =IF(N149="nulová",J149,0) -> 0 | BJ149: 2 | BK149: =ROUND(I149*H149,3) -> 0 | BL149: 64 | BM149: 38
C150: 20 | D150: M | E150: 3544112000 | F150: Páska uzemňovacia 30x4 mm | G150: kg | H150: 48 | J150: =ROUND(I150*H150,3) -> 0 | N150: znížená | P150: =O150*H150 -> 0 | Q150: 0 | R150: =Q150*H150 -> 0 | S150: 0 | T150: =S150*H150 -> 0 | AR150: 256 | AT150: M | AU150: 2 | AY150: ROZPOCET | BE150: =IF(N150="základná",J150,0) -> 0 | BF150: =IF(N150="znížená",J150,0) -> 0 | BG150: =IF(N150="zákl. prenesená",J150,0) -> 0 | BH150: =IF(N150="zníž. prenesená",J150,0) -> 0 | BI150: =IF(N150="nulová",J150,0) -> 0 | BJ150: 2 | BK150: =ROUND(I150*H150,3) -> 0 | BL150: 64 | BM150: 40
C151: 21 | D151: M | E151: 3540200800 | F151: HR-Držiak DJ 4h | G151: ks | H151: 1 | J151: =ROUND(I151*H151,3) -> 0 | N151: znížená | P151: =O151*H151 -> 0 | Q151: 0 | R151: =Q151*H151 -> 0 | S151: 0 | T151: =S151*H151 -> 0 | AR151: 256 | AT151: M | AU151: 2 | AY151: ROZPOCET | BE151: =IF(N151="základná",J151,0) -> 0 | BF151: =IF(N151="znížená",J151,0) -> 0 | BG151: =IF(N151="zákl. prenesená",J151,0) -> 0 | BH151: =IF(N151="zníž. prenesená",J151,0) -> 0 | BI151: =IF(N151="nulová",J151,0) -> 0 | BJ151: 2 | BK151: =ROUND(I151*H151,3) -> 0 | BL151: 64 | BM151: 42
C152: 22 | D152: M | E152: 3540201600 | F152: HR Držiak zvodovej tyče na upevnenie na drevené konštrukcie DJ 4d | G152: Kus | H152: 1 | J152: =ROUND(I152*H152,3) -> 0 | N152: znížená | P152: =O152*H152 -> 0 | Q152: 0 | R152: =Q152*H152 -> 0 | S152: 0 | T152: =S152*H152 -> 0 | AR152: 256 | AT152: M | AU152: 2 | AY152: ROZPOCET | BE152: =IF(N152="základná",J152,0) -> 0 | BF152: =IF(N152="znížená",J152,0) -> 0 | BG152: =IF(N152="zákl. prenesená",J152,0) -> 0 | BH152: =IF(N152="zníž. prenesená",J152,0) -> 0 | BI152: =IF(N152="nulová",J152,0) -> 0 | BJ152: 2 | BK152: =ROUND(I152*H152,3) -> 0 | BL152: 64 | BM152: 44
C153: 23 | D153: M | E153: 3540300400 | F153: HR-Jimacia tyc JP15 ALMGSI | G153: ks | H153: 1 | J153: =ROUND(I153*H153,3) -> 0 | N153: znížená | P153: =O153*H153 -> 0 | Q153: 0 | R153: =Q153*H153 -> 0 | S153: 0 | T153: =S153*H153 -> 0 | AR153: 256 | AT153: M | AU153: 2 | AY153: ROZPOCET | BE153: =IF(N153="základná",J153,0) -> 0 | BF153: =IF(N153="znížená",J153,0) -> 0 | BG153: =IF(N153="zákl. prenesená",J153,0) -> 0 | BH153: =IF(N153="zníž. prenesená",J153,0) -> 0 | BI153: =IF(N153="nulová",J153,0) -> 0 | BJ153: 2 | BK153: =ROUND(I153*H153,3) -> 0 | BL153: 64 | BM153: 46
C154: 24 | D154: M | E154: 3540401900 | F154: HR-Ochr.strieska OS 01 | G154: ks | H154: 1 | J154: =ROUND(I154*H154,3) -> 0 | N154: znížená | P154: =O154*H154 -> 0 | Q154: 0 | R154: =Q154*H154 -> 0 | S154: 0 | T154: =S154*H154 -> 0 | AR154: 256 | AT154: M | AU154: 2 | AY154: ROZPOCET | BE154: =IF(N154="základná",J154,0) -> 0 | BF154: =IF(N154="znížená",J154,0) -> 0 | BG154: =IF(N154="zákl. prenesená",J154,0) -> 0 | BH154: =IF(N154="zníž. prenesená",J154,0) -> 0 | BI154: =IF(N154="nulová",J154,0) -> 0 | BJ154: 2 | BK154: =ROUND(I154*H154,3) -> 0 | BL154: 64 | BM154: 48
C155: 25 | D155: M | E155: 3540402100 | F155: HR-Ochr.strieska OS 04 | G155: ks | H155: 1 | J155: =ROUND(I155*H155,3) -> 0 | N155: znížená | P155: =O155*H155 -> 0 | Q155: 0 | R155: =Q155*H155 -> 0 | S155: 0 | T155: =S155*H155 -> 0 | AR155: 256 | AT155: M | AU155: 2 | AY155: ROZPOCET | BE155: =IF(N155="základná",J155,0) -> 0 | BF155: =IF(N155="znížená",J155,0) -> 0 | BG155: =IF(N155="zákl. prenesená",J155,0) -> 0 | BH155: =IF(N155="zníž. prenesená",J155,0) -> 0 | BI155: =IF(N155="nulová",J155,0) -> 0 | BJ155: 2 | BK155: =ROUND(I155*H155,3) -> 0 | BL155: 64 | BM155: 50
C156: 26 | D156: M | E156: 3540405900 | F156: HR-Svorka SJ 01 | G156: ks | H156: 1 | J156: =ROUND(I156*H156,3) -> 0 | N156: znížená | P156: =O156*H156 -> 0 | Q156: 0 | R156: =Q156*H156 -> 0 | S156: 0 | T156: =S156*H156 -> 0 | AR156: 256 | AT156: M | AU156: 2 | AY156: ROZPOCET | BE156: =IF(N156="základná",J156,0) -> 0 | BF156: =IF(N156="znížená",J156,0) -> 0 | BG156: =IF(N156="zákl. prenesená",J156,0) -> 0 | BH156: =IF(N156="zníž. prenesená",J156,0) -> 0 | BI156: =IF(N156="nulová",J156,0) -> 0 | BJ156: 2 | BK156: =ROUND(I156*H156,3) -> 0 | BL156: 64 | BM156: 52
C157: 27 | D157: M | E157: 3540404100 | F157: HR-Podpera PV 15 BRAMAC | G157: ks | H157: 12 | J157: =ROUND(I157*H157,3) -> 0 | N157: znížená | P157: =O157*H157 -> 0 | Q157: 0 | R157: =Q157*H157 -> 0 | S157: 0 | T157: =S157*H157 -> 0 | AR157: 256 | AT157: M | AU157: 2 | AY157: ROZPOCET | BE157: =IF(N157="základná",J157,0) -> 0 | BF157: =IF(N157="znížená",J157,0) -> 0 | BG157: =IF(N157="zákl. prenesená",J157,0) -> 0 | BH157: =IF(N157="zníž. prenesená",J157,0) -> 0 | BI157: =IF(N157="nulová",J157,0) -> 0 | BJ157: 2 | BK157: =ROUND(I157*H157,3) -> 0 | BL157: 64 | BM157: 54
C158: 28 | D158: M | E158: 3540403600 | F158: HR-Podpera PV 11 | G158: ks | H158: 20 | J158: =ROUND(I158*H158,3) -> 0 | N158: znížená | P158: =O158*H158 -> 0 | Q158: 0 | R158: =Q158*H158 -> 0 | S158: 0 | T158: =S158*H158 -> 0 | AR158: 256 | AT158: M | AU158: 2 | AY158: ROZPOCET | BE158: =IF(N158="základná",J158,0) -> 0 | BF158: =IF(N158="znížená",J158,0) -> 0 | BG158: =IF(N158="zákl. prenesená",J158,0) -> 0 | BH158: =IF(N158="zníž. prenesená",J158,0) -> 0 | BI158: =IF(N158="nulová",J158,0) -> 0 | BJ158: 2 | BK158: =ROUND(I158*H158,3) -> 0 | BL158: 64 | BM158: 56
C159: 29 | D159: M | E159: 3544199600 | F159: Svorka vodovodná SR 03 vod d 6-12 mm | G159: ks | H159: 4 | J159: =ROUND(I159*H159,3) -> 0 | N159: znížená | P159: =O159*H159 -> 0 | Q159: 0 | R159: =Q159*H159 -> 0 | S159: 0 | T159: =S159*H159 -> 0 | AR159: 256 | AT159: M | AU159: 2 | AY159: ROZPOCET | BE159: =IF(N159="základná",J159,0) -> 0 | BF159: =IF(N159="znížená",J159,0) -> 0 | BG159: =IF(N159="zákl. prenesená",J159,0) -> 0 | BH159: =IF(N159="zníž. prenesená",J159,0) -> 0 | BI159: =IF(N159="nulová",J159,0) -> 0 | BJ159: 2 | BK159: =ROUND(I159*H159,3) -> 0 | BL159: 64 | BM159: 58
... C166: 36 | D166: M | E166: 3450913000 | F166: Krabica KO-125 | G166: ks | H166: 4 | J166: =ROUND(I166*H166,3) -> 0 | N166: znížená | P166: =O166*H166 -> 0 | Q166: 0 | R166: =Q166*H166 -> 0 | S166: 0 | T166: =S166*H166 -> 0 | AR166: 256 | AT166: M | AU166: 2 | AY166: ROZPOCET | BE166: =IF(N166="základná",J166,0) -> 0 | BF166: =IF(N166="znížená",J166,0) -> 0 | BG166: =IF(N166="zákl. prenesená",J166,0) -> 0 | BH166: =IF(N166="zníž. prenesená",J166,0) -> 0 | BI166: =IF(N166="nulová",J166,0) -> 0 | BJ166: 2 | BK166: =ROUND(I166*H166,3) -> 0 | BL166: 64 | BM166: 72
C167: 37 | D167: M | E167: 999000003 | F167: Podružný materiál | G167: % | J167: =ROUND(I167*H167,3) -> 0 | N167: znížená | P167: =O167*H167 -> 0 | Q167: 0 | R167: =Q167*H167 -> 0 | S167: 0 | T167: =S167*H167 -> 0 | AR167: 256 | AT167: M | AU167: 2 | AY167: ROZPOCET | BE167: =IF(N167="základná",J167,0) -> 0 | BF167: =IF(N167="znížená",J167,0) -> 0 | BG167: =IF(N167="zákl. prenesená",J167,0) -> 0 | BH167: =IF(N167="zníž. prenesená",J167,0) -> 0 | BI167: =IF(N167="nulová",J167,0) -> 0 | BJ167: 2 | BK167: =ROUND(I167*H167,3) -> 0 | BL167: 64 | BM167: 74
