Workbook

Sheet Rekapitulácia stavby
A1: Export Komplet | BA1: 2.0 | BT1: False | BU1: False | BV1: {9fa2018b-3256-4ef1-b9d2-3680a238ce15}
AR2: >> skryté stĺpce << | BS2: 0,01 | BT2: 20
BS3: 0,01 | BT3: 20
D4: REKAPITULÁCIA STAVBY | AS4: v --- nižšie sa nachádzajú doplnkové a pomocné údaje k zostavám --- v | BE4: Návod na vyplnenie | BS4: 0,001
D5: Kód: | BE5: Meniť je možné iba bunky so žltým podfarbením!_x000D_ _x000D_ 1) na prvom liste Rekapitulácie stavby vyplňte v zostave_x000D_ _x000D_ a) Rekapitulácia stavby_x000D_ - údaje o Zhotoviteľovi_x000D_ (prenesú sa do ostatných zostáv aj v iných listoch)_x000D_ _x000D_ b) Rekapitulácia objektov stavby_x000D_ - potrebné Ostatné náklady_x000D_ _x000D_ 2) na vybraných listoch vyplňte v zostave_x000D_ _x000D_ a) Krycí list_x000D_ - údaje o Zhotoviteľovi, pokiaľ sa líšia od údajov o Zhotoviteľovi na Rekapitulácii stavby_x000D_ (údaje se prenesú do ostatných zostav v danom liste)_x000D_ _x000D_ b) Rekapitulácia rozpočtu_x000D_ - potrebné Ostatné náklady_x000D_ _x000D_ c) Celkové náklady za stavbu_x000D_ - ceny na položkách_x000D_ - množstvo, pokiaľ má žlté podfarbenie_x000D_ - a v prípade potreby poznámku (tá je v skrytom stĺpci) | BS5: 0,01
D6: Stavba: | K6: Rekonštrukcia objektu Biovetská 36, Nitra - 1.etapa | BS6: 0,01
D7: JKSO: | AK7: KS: | BS7: 0,01
D8: Miesto: | K8: Biovetská | AK8: Dátum: | AN8: 14. 12. 2022 | BS8: 0,01
BS9: 0,01
D10: Objednávateľ: | AK10: IČO: | BS10: 0,01
E11: Mesto Nitra | AK11: IČ DPH: | BS11: 0,01
BS12: 0,01
D13: Zhotoviteľ: | AK13: IČO: | AN13: Vyplň údaj | BS13: 0,01
E14: Vyplň údaj | AK14: IČ DPH: | AN14: Vyplň údaj | BS14: 0,01
BS15: False
D16: Projektant: | AK16: IČO: | BS16: False
E17: SOAR - ING. BÁRTA JIŘÍ | AK17: IČ DPH: | BS17: True
BS18: 0,01
D19: Spracovateľ: | AK19: IČO: | BS19: 0,01
E20: SOAR - ING. BÁRTA JIŘÍ | AK20: IČ DPH: | BS20: True
D22: Poznámka:
D26: Cena bez DPH | AK26: =ROUND(AG94,2) -> 0
L28: Sadzba dane | W28: Základ dane | AK28: Výška dane
D29: DPH | F29: základná | L29: 0.2 | W29: =ROUND(AZ94, 2) -> 0 | AK29: =ROUND(AV94, 2) -> 0
F30: znížená | L30: 0.2 | W30: =ROUND(BA94, 2) -> 0 | AK30: =ROUND(AW94, 2) -> 0
F31: zákl. prenesená | L31: 0.2 | W31: =ROUND(BB94, 2) -> 0 | AK31: 0
F32: zníž. prenesená | L32: 0.2 | W32: =ROUND(BC94, 2) -> 0 | AK32: 0
F33: nulová | L33: 0 | W33: =ROUND(BD94, 2) -> 0 | AK33: 0
D35: Cena s DPH | T35: v | X35: EUR | AK35: =SUM(AK26:AK33) -> 0
D49: Projektant | AH49: Spracovateľ
D60: Dátum a podpis: | V60: Pečiatka | AH60: Dátum a podpis: | AM60: Pečiatka
D64: Objednávateľ | AH64: Zhotoviteľ
D75: Dátum a podpis: | V75: Pečiatka | AH75: Dátum a podpis: | AM75: Pečiatka
C82: REKAPITULÁCIA OBJEKTOV STAVBY
C84: Kód:
C85: Stavba: | L85: =K6 -> Rekonštrukcia objektu Biovetská 36, Nitra - 1.etapa
C87: Miesto: | L87: =IF(K8="","",K8) -> Biovetská | AI87: Dátum: | AM87: =IF(AN8= "","",AN8) -> 14. 12. 2022
C89: Objednávateľ: | L89: =IF(E11= "","",E11) -> Mesto Nitra | AI89: Projektant: | AM89: =IF(E17="","",E17) -> SOAR - ING. BÁRTA JIŘÍ | AS89: Informatívne údaje z listov zákaziek
C90: Zhotoviteľ: | L90: =IF(E14= "Vyplň údaj","",E14) | AI90: Spracovateľ: | AM90: =IF(E20="","",E20) -> SOAR - ING. BÁRTA JIŘÍ
C92: Kód | I92: Popis | AG92: Cena bez DPH [EUR] | AN92: Cena s DPH [EUR] | AQ92: Typ | AS92: z toho Ostat._x000D_ náklady [EUR] | AT92: DPH [EUR] | AU92: Normohodiny [h] | AV92: DPH základná [EUR] | AW92: DPH znížená [EUR] | AX92: DPH základná prenesená_x000D_ [EUR] | AY92: DPH znížená prenesená_x000D_ [EUR] | AZ92: Základňa_x000D_ DPH základná | BA92: Základňa_x000D_ DPH znížená | BB92: Základňa_x000D_ DPH zákl. prenesená | BC92: Základňa_x000D_ DPH zníž. prenesená | BD92: Základňa_x000D_ DPH nulová
...

Sheet 01 - SO 01 Dvojdom 
L2: >> skryté stĺpce << | AT2: {39df12b8-e79a-479d-acf3-1ffc363ac8e6}
AT3: 0
D4: KRYCÍ LIST ROZPOČTU | M4: v --- nižšie sa nachádzajú doplnkové a pomocné údaje k zostavám --- v | AT4: False
D6: Stavba:
E7: ='Rekapitulácia stavby'!K6 -> Rekonštrukcia objektu Biovetská 36, Nitra - 1.etapa
D8: Objekt:
E9: 01 - SO 01 Dvojdom
D11: JKSO: | I11: KS:
D12: Miesto: | F12: Biovetská | I12: Dátum: | J12: ='Rekapitulácia stavby'!AN8 -> 14. 12. 2022
D14: Objednávateľ: | I14: IČO:
E15: Mesto Nitra | I15: IČ DPH:
D17: Zhotoviteľ: | I17: IČO: | J17: ='Rekapitulácia stavby'!AN13 -> Vyplň údaj
E18: ='Rekapitulácia stavby'!E14 -> Vyplň údaj | I18: IČ DPH: | J18: ='Rekapitulácia stavby'!AN14 -> Vyplň údaj
D20: Projektant: | I20: IČO:
E21: SOAR - ING. BÁRTA JIŘÍ | I21: IČ DPH:
D23: Spracovateľ: | I23: IČO:
E24: SOAR - ING. BÁRTA JIŘÍ | I24: IČ DPH:
D26: Poznámka:
D30: Cena bez DPH | J30: =ROUND(J137, 2) -> 0
F32: Základ dane | I32: Sadzba dane | J32: Výška dane
D33: DPH | E33: základná | F33: =ROUND((SUM(BE137:BE348)), 2) -> 0 | I33: 0.2 | J33: =ROUND(((SUM(BE137:BE348))*I33), 2) -> 0
E34: znížená | F34: =ROUND((SUM(BF137:BF348)), 2) -> 0 | I34: 0.2 | J34: =ROUND(((SUM(BF137:BF348))*I34), 2) -> 0
E35: zákl. prenesená | F35: =ROUND((SUM(BG137:BG348)), 2) -> 0 | I35: 0.2 | J35: =0 -> 0
E36: zníž. prenesená | F36: =ROUND((SUM(BH137:BH348)), 2) -> 0 | I36: 0.2 | J36: =0 -> 0
E37: nulová | F37: =ROUND((SUM(BI137:BI348)), 2) -> 0 | I37: 0 | J37: =0 -> 0
D39: Cena s DPH | G39: v | H39: EUR | J39: =SUM(J30:J37) -> 0
D50: Projektant | G50: Spracovateľ
D61: Dátum a podpis: | F61: Pečiatka | G61: Dátum a podpis: | J61: Pečiatka
D65: Objednávateľ | G65: Zhotoviteľ
D76: Dátum a podpis: | F76: Pečiatka | G76: Dátum a podpis: | J76: Pečiatka
C82: REKAPITULÁCIA ROZPOČTU
C84: Stavba:
E85: =E7 -> Rekonštrukcia objektu Biovetská 36, Nitra - 1.etapa
C86: Objekt:
E87: =E9 -> 01 - SO 01 Dvojdom
C89: Miesto: | F89: =F12 -> Biovetská | I89: Dátum: | J89: =IF(J12="","",J12) -> 14. 12. 2022
C91: Objednávateľ: | F91: =E15 -> Mesto Nitra | I91: Projektant: | J91: =E21 -> SOAR - ING. BÁRTA JIŘÍ
C92: Zhotoviteľ: | F92: =IF(E18="","",E18) -> Vyplň údaj | I92: Spracovateľ: | J92: =E24 -> SOAR - ING. BÁRTA JIŘÍ
C94: Kód dielu - Popis | J94: Cena celkom [EUR]
C96: Náklady z rozpočtu | J96: =J137 -> 0 | AU96: -1
...

Sheet 02 - SO 01 Zdravotechnika 
L2: >> skryté stĺpce << | AT2: {248cff28-a163-47cd-aa67-b7e292d0f437}
AT3: 0
D4: KRYCÍ LIST ROZPOČTU | M4: v --- nižšie sa nachádzajú doplnkové a pomocné údaje k zostavám --- v | AT4: False
D6: Stavba:
E7: ='Rekapitulácia stavby'!K6 -> Rekonštrukcia objektu Biovetská 36, Nitra - 1.etapa
D8: Objekt:
E9: 02 - SO 01 Zdravotechnika
D11: JKSO: | I11: KS:
D12: Miesto: | F12: Biovetská | I12: Dátum: | J12: ='Rekapitulácia stavby'!AN8 -> 14. 12. 2022
D14: Objednávateľ: | I14: IČO:
E15: Mesto Nitra | I15: IČ DPH:
D17: Zhotoviteľ: | I17: IČO: | J17: ='Rekapitulácia stavby'!AN13 -> Vyplň údaj
E18: ='Rekapitulácia stavby'!E14 -> Vyplň údaj | I18: IČ DPH: | J18: ='Rekapitulácia stavby'!AN14 -> Vyplň údaj
D20: Projektant: | I20: IČO:
E21: SOAR - ING. BÁRTA JIŘÍ | I21: IČ DPH:
D23: Spracovateľ: | I23: IČO:
E24: SOAR - ING. BÁRTA JIŘÍ | I24: IČ DPH:
D26: Poznámka:
D30: Cena bez DPH | J30: =ROUND(J120, 2) -> 0
F32: Základ dane | I32: Sadzba dane | J32: Výška dane
D33: DPH | E33: základná | F33: =ROUND((SUM(BE120:BE161)), 2) -> 0 | I33: 0.2 | J33: =ROUND(((SUM(BE120:BE161))*I33), 2) -> 0
E34: znížená | F34: =ROUND((SUM(BF120:BF161)), 2) -> 0 | I34: 0.2 | J34: =ROUND(((SUM(BF120:BF161))*I34), 2) -> 0
E35: zákl. prenesená | F35: =ROUND((SUM(BG120:BG161)), 2) -> 0 | I35: 0.2 | J35: =0 -> 0
E36: zníž. prenesená | F36: =ROUND((SUM(BH120:BH161)), 2) -> 0 | I36: 0.2 | J36: =0 -> 0
E37: nulová | F37: =ROUND((SUM(BI120:BI161)), 2) -> 0 | I37: 0 | J37: =0 -> 0
D39: Cena s DPH | G39: v | H39: EUR | J39: =SUM(J30:J37) -> 0
D50: Projektant | G50: Spracovateľ
D61: Dátum a podpis: | F61: Pečiatka | G61: Dátum a podpis: | J61: Pečiatka
D65: Objednávateľ | G65: Zhotoviteľ
D76: Dátum a podpis: | F76: Pečiatka | G76: Dátum a podpis: | J76: Pečiatka
C82: REKAPITULÁCIA ROZPOČTU
C84: Stavba:
E85: =E7 -> Rekonštrukcia objektu Biovetská 36, Nitra - 1.etapa
C86: Objekt:
E87: =E9 -> 02 - SO 01 Zdravotechnika
C89: Miesto: | F89: =F12 -> Biovetská | I89: Dátum: | J89: =IF(J12="","",J12) -> 14. 12. 2022
C91: Objednávateľ: | F91: =E15 -> Mesto Nitra | I91: Projektant: | J91: =E21 -> SOAR - ING. BÁRTA JIŘÍ
C92: Zhotoviteľ: | F92: =IF(E18="","",E18) -> Vyplň údaj | I92: Spracovateľ: | J92: =E24 -> SOAR - ING. BÁRTA JIŘÍ
C94: Kód dielu - Popis | J94: Cena celkom [EUR]
C96: Náklady z rozpočtu | J96: =J120 -> 0 | AU96: -1
...

Sheet 03 - SO 01 Eletroinštalácia 
L2: >> skryté stĺpce << | AT2: {7b7631d1-8ce7-410e-9151-63a7dfbc3252}
AT3: 0
D4: KRYCÍ LIST ROZPOČTU | M4: v --- nižšie sa nachádzajú doplnkové a pomocné údaje k zostavám --- v | AT4: False
D6: Stavba:
E7: ='Rekapitulácia stavby'!K6 -> Rekonštrukcia objektu Biovetská 36, Nitra - 1.etapa
D8: Objekt:
E9: 03 - SO 01 Eletroinštalácia
D11: JKSO: | I11: KS:
D12: Miesto: | F12: Biovetská | I12: Dátum: | J12: ='Rekapitulácia stavby'!AN8 -> 14. 12. 2022
D14: Objednávateľ: | I14: IČO:
E15: Mesto Nitra | I15: IČ DPH:
D17: Zhotoviteľ: | I17: IČO: | J17: ='Rekapitulácia stavby'!AN13 -> Vyplň údaj
E18: ='Rekapitulácia stavby'!E14 -> Vyplň údaj | I18: IČ DPH: | J18: ='Rekapitulácia stavby'!AN14 -> Vyplň údaj
D20: Projektant: | I20: IČO:
E21: SOAR - ING. BÁRTA JIŘÍ | I21: IČ DPH:
D23: Spracovateľ: | I23: IČO:
E24: SOAR - ING. BÁRTA JIŘÍ | I24: IČ DPH:
D26: Poznámka:
D30: Cena bez DPH | J30: =ROUND(J121, 2) -> 0
F32: Základ dane | I32: Sadzba dane | J32: Výška dane
D33: DPH | E33: základná | F33: =ROUND((SUM(BE121:BE238)), 2) -> 0 | I33: 0.2 | J33: =ROUND(((SUM(BE121:BE238))*I33), 2) -> 0
E34: znížená | F34: =ROUND((SUM(BF121:BF238)), 2) -> 0 | I34: 0.2 | J34: =ROUND(((SUM(BF121:BF238))*I34), 2) -> 0
E35: zákl. prenesená | F35: =ROUND((SUM(BG121:BG238)), 2) -> 0 | I35: 0.2 | J35: =0 -> 0
E36: zníž. prenesená | F36: =ROUND((SUM(BH121:BH238)), 2) -> 0 | I36: 0.2 | J36: =0 -> 0
E37: nulová | F37: =ROUND((SUM(BI121:BI238)), 2) -> 0 | I37: 0 | J37: =0 -> 0
D39: Cena s DPH | G39: v | H39: EUR | J39: =SUM(J30:J37) -> 0
D50: Projektant | G50: Spracovateľ
D61: Dátum a podpis: | F61: Pečiatka | G61: Dátum a podpis: | J61: Pečiatka
D65: Objednávateľ | G65: Zhotoviteľ
D76: Dátum a podpis: | F76: Pečiatka | G76: Dátum a podpis: | J76: Pečiatka
C82: REKAPITULÁCIA ROZPOČTU
C84: Stavba:
E85: =E7 -> Rekonštrukcia objektu Biovetská 36, Nitra - 1.etapa
C86: Objekt:
E87: =E9 -> 03 - SO 01 Eletroinštalácia
C89: Miesto: | F89: =F12 -> Biovetská | I89: Dátum: | J89: =IF(J12="","",J12) -> 14. 12. 2022
C91: Objednávateľ: | F91: =E15 -> Mesto Nitra | I91: Projektant: | J91: =E21 -> SOAR - ING. BÁRTA JIŘÍ
C92: Zhotoviteľ: | F92: =IF(E18="","",E18) -> Vyplň údaj | I92: Spracovateľ: | J92: =E24 -> SOAR - ING. BÁRTA JIŘÍ
C94: Kód dielu - Popis | J94: Cena celkom [EUR]
C96: Náklady z rozpočtu | J96: =J121 -> 0 | AU96: -1
...

Sheet 04 - SO 01 Ústredné vykur...
L2: >> skryté stĺpce << | AT2: {e108d427-a24c-4b35-877a-f4d72341b8de}
AT3: 0
D4: KRYCÍ LIST ROZPOČTU | M4: v --- nižšie sa nachádzajú doplnkové a pomocné údaje k zostavám --- v | AT4: False
D6: Stavba:
E7: ='Rekapitulácia stavby'!K6 -> Rekonštrukcia objektu Biovetská 36, Nitra - 1.etapa
D8: Objekt:
E9: 04 - SO 01 Ústredné vykurovanie
D11: JKSO: | I11: KS:
D12: Miesto: | F12: Biovetská | I12: Dátum: | J12: ='Rekapitulácia stavby'!AN8 -> 14. 12. 2022
D14: Objednávateľ: | I14: IČO:
E15: Mesto Nitra | I15: IČ DPH:
D17: Zhotoviteľ: | I17: IČO: | J17: ='Rekapitulácia stavby'!AN13 -> Vyplň údaj
E18: ='Rekapitulácia stavby'!E14 -> Vyplň údaj | I18: IČ DPH: | J18: ='Rekapitulácia stavby'!AN14 -> Vyplň údaj
D20: Projektant: | I20: IČO:
E21: SOAR - ING. BÁRTA JIŘÍ | I21: IČ DPH:
D23: Spracovateľ: | I23: IČO:
E24: SOAR - ING. BÁRTA JIŘÍ | I24: IČ DPH:
D26: Poznámka:
D30: Cena bez DPH | J30: =ROUND(J123, 2) -> 0
F32: Základ dane | I32: Sadzba dane | J32: Výška dane
D33: DPH | E33: základná | F33: =ROUND((SUM(BE123:BE172)), 2) -> 0 | I33: 0.2 | J33: =ROUND(((SUM(BE123:BE172))*I33), 2) -> 0
E34: znížená | F34: =ROUND((SUM(BF123:BF172)), 2) -> 0 | I34: 0.2 | J34: =ROUND(((SUM(BF123:BF172))*I34), 2) -> 0
E35: zákl. prenesená | F35: =ROUND((SUM(BG123:BG172)), 2) -> 0 | I35: 0.2 | J35: =0 -> 0
E36: zníž. prenesená | F36: =ROUND((SUM(BH123:BH172)), 2) -> 0 | I36: 0.2 | J36: =0 -> 0
E37: nulová | F37: =ROUND((SUM(BI123:BI172)), 2) -> 0 | I37: 0 | J37: =0 -> 0
D39: Cena s DPH | G39: v | H39: EUR | J39: =SUM(J30:J37) -> 0
D50: Projektant | G50: Spracovateľ
D61: Dátum a podpis: | F61: Pečiatka | G61: Dátum a podpis: | J61: Pečiatka
D65: Objednávateľ | G65: Zhotoviteľ
D76: Dátum a podpis: | F76: Pečiatka | G76: Dátum a podpis: | J76: Pečiatka
C82: REKAPITULÁCIA ROZPOČTU
C84: Stavba:
E85: =E7 -> Rekonštrukcia objektu Biovetská 36, Nitra - 1.etapa
C86: Objekt:
E87: =E9 -> 04 - SO 01 Ústredné vykurovanie
C89: Miesto: | F89: =F12 -> Biovetská | I89: Dátum: | J89: =IF(J12="","",J12) -> 14. 12. 2022
C91: Objednávateľ: | F91: =E15 -> Mesto Nitra | I91: Projektant: | J91: =E21 -> SOAR - ING. BÁRTA JIŘÍ
C92: Zhotoviteľ: | F92: =IF(E18="","",E18) -> Vyplň údaj | I92: Spracovateľ: | J92: =E24 -> SOAR - ING. BÁRTA JIŘÍ
C94: Kód dielu - Popis | J94: Cena celkom [EUR]
C96: Náklady z rozpočtu | J96: =J123 -> 0 | AU96: -1
...

Sheet 05 - SO 01 Strecha 
L2: >> skryté stĺpce << | AT2: {57578ba5-03c3-44ef-9421-6d73cb15acba}
AT3: 0
D4: KRYCÍ LIST ROZPOČTU | M4: v --- nižšie sa nachádzajú doplnkové a pomocné údaje k zostavám --- v | AT4: False
D6: Stavba:
E7: ='Rekapitulácia stavby'!K6 -> Rekonštrukcia objektu Biovetská 36, Nitra - 1.etapa
D8: Objekt:
E9: 05 - SO 01 Strecha
D11: JKSO: | I11: KS:
D12: Miesto: | F12: Biovetská | I12: Dátum: | J12: ='Rekapitulácia stavby'!AN8 -> 14. 12. 2022
D14: Objednávateľ: | I14: IČO:
E15: Mesto Nitra | I15: IČ DPH:
D17: Zhotoviteľ: | I17: IČO: | J17: ='Rekapitulácia stavby'!AN13 -> Vyplň údaj
E18: ='Rekapitulácia stavby'!E14 -> Vyplň údaj | I18: IČ DPH: | J18: ='Rekapitulácia stavby'!AN14 -> Vyplň údaj
D20: Projektant: | I20: IČO:
E21: SOAR - ING. BÁRTA JIŘÍ | I21: IČ DPH:
D23: Spracovateľ: | I23: IČO:
E24: SOAR - ING. BÁRTA JIŘÍ | I24: IČ DPH:
D26: Poznámka:
D30: Cena bez DPH | J30: =ROUND(J118, 2) -> 0
F32: Základ dane | I32: Sadzba dane | J32: Výška dane
D33: DPH | E33: základná | F33: =ROUND((SUM(BE118:BE135)), 2) -> 0 | I33: 0.2 | J33: =ROUND(((SUM(BE118:BE135))*I33), 2) -> 0
E34: znížená | F34: =ROUND((SUM(BF118:BF135)), 2) -> 0 | I34: 0.2 | J34: =ROUND(((SUM(BF118:BF135))*I34), 2) -> 0
E35: zákl. prenesená | F35: =ROUND((SUM(BG118:BG135)), 2) -> 0 | I35: 0.2 | J35: =0 -> 0
E36: zníž. prenesená | F36: =ROUND((SUM(BH118:BH135)), 2) -> 0 | I36: 0.2 | J36: =0 -> 0
E37: nulová | F37: =ROUND((SUM(BI118:BI135)), 2) -> 0 | I37: 0 | J37: =0 -> 0
D39: Cena s DPH | G39: v | H39: EUR | J39: =SUM(J30:J37) -> 0
D50: Projektant | G50: Spracovateľ
D61: Dátum a podpis: | F61: Pečiatka | G61: Dátum a podpis: | J61: Pečiatka
D65: Objednávateľ | G65: Zhotoviteľ
D76: Dátum a podpis: | F76: Pečiatka | G76: Dátum a podpis: | J76: Pečiatka
C82: REKAPITULÁCIA ROZPOČTU
C84: Stavba:
E85: =E7 -> Rekonštrukcia objektu Biovetská 36, Nitra - 1.etapa
C86: Objekt:
E87: =E9 -> 05 - SO 01 Strecha
C89: Miesto: | F89: =F12 -> Biovetská | I89: Dátum: | J89: =IF(J12="","",J12) -> 14. 12. 2022
C91: Objednávateľ: | F91: =E15 -> Mesto Nitra | I91: Projektant: | J91: =E21 -> SOAR - ING. BÁRTA JIŘÍ
C92: Zhotoviteľ: | F92: =IF(E18="","",E18) -> Vyplň údaj | I92: Spracovateľ: | J92: =E24 -> SOAR - ING. BÁRTA JIŘÍ
C94: Kód dielu - Popis | J94: Cena celkom [EUR]
C96: Náklady z rozpočtu | J96: =J118 -> 0 | AU96: -1
...

Sheet 06 - Vonkajšia kanalizácia 
L2: >> skryté stĺpce << | AT2: {91b107ef-f2aa-47d2-ab0d-4b98e5ebd438}
AT3: 0
D4: KRYCÍ LIST ROZPOČTU | M4: v --- nižšie sa nachádzajú doplnkové a pomocné údaje k zostavám --- v | AT4: False
D6: Stavba:
E7: ='Rekapitulácia stavby'!K6 -> Rekonštrukcia objektu Biovetská 36, Nitra - 1.etapa
D8: Objekt:
E9: 06 - Vonkajšia kanalizácia
D11: JKSO: | I11: KS:
D12: Miesto: | F12: Biovetská | I12: Dátum: | J12: ='Rekapitulácia stavby'!AN8 -> 14. 12. 2022
D14: Objednávateľ: | I14: IČO:
E15: Mesto Nitra | I15: IČ DPH:
D17: Zhotoviteľ: | I17: IČO: | J17: ='Rekapitulácia stavby'!AN13 -> Vyplň údaj
E18: ='Rekapitulácia stavby'!E14 -> Vyplň údaj | I18: IČ DPH: | J18: ='Rekapitulácia stavby'!AN14 -> Vyplň údaj
D20: Projektant: | I20: IČO:
E21: SOAR - ING. BÁRTA JIŘÍ | I21: IČ DPH:
D23: Spracovateľ: | I23: IČO:
E24: SOAR - ING. BÁRTA JIŘÍ | I24: IČ DPH:
D26: Poznámka:
D30: Cena bez DPH | J30: =ROUND(J121, 2) -> 0
F32: Základ dane | I32: Sadzba dane | J32: Výška dane
D33: DPH | E33: základná | F33: =ROUND((SUM(BE121:BE167)), 2) -> 0 | I33: 0.2 | J33: =ROUND(((SUM(BE121:BE167))*I33), 2) -> 0
E34: znížená | F34: =ROUND((SUM(BF121:BF167)), 2) -> 0 | I34: 0.2 | J34: =ROUND(((SUM(BF121:BF167))*I34), 2) -> 0
E35: zákl. prenesená | F35: =ROUND((SUM(BG121:BG167)), 2) -> 0 | I35: 0.2 | J35: =0 -> 0
E36: zníž. prenesená | F36: =ROUND((SUM(BH121:BH167)), 2) -> 0 | I36: 0.2 | J36: =0 -> 0
E37: nulová | F37: =ROUND((SUM(BI121:BI167)), 2) -> 0 | I37: 0 | J37: =0 -> 0
D39: Cena s DPH | G39: v | H39: EUR | J39: =SUM(J30:J37) -> 0
D50: Projektant | G50: Spracovateľ
D61: Dátum a podpis: | F61: Pečiatka | G61: Dátum a podpis: | J61: Pečiatka
D65: Objednávateľ | G65: Zhotoviteľ
D76: Dátum a podpis: | F76: Pečiatka | G76: Dátum a podpis: | J76: Pečiatka
C82: REKAPITULÁCIA ROZPOČTU
C84: Stavba:
E85: =E7 -> Rekonštrukcia objektu Biovetská 36, Nitra - 1.etapa
C86: Objekt:
E87: =E9 -> 06 - Vonkajšia kanalizácia
C89: Miesto: | F89: =F12 -> Biovetská | I89: Dátum: | J89: =IF(J12="","",J12) -> 14. 12. 2022
C91: Objednávateľ: | F91: =E15 -> Mesto Nitra | I91: Projektant: | J91: =E21 -> SOAR - ING. BÁRTA JIŘÍ
C92: Zhotoviteľ: | F92: =IF(E18="","",E18) -> Vyplň údaj | I92: Spracovateľ: | J92: =E24 -> SOAR - ING. BÁRTA JIŘÍ
C94: Kód dielu - Popis | J94: Cena celkom [EUR]
C96: Náklady z rozpočtu | J96: =J121 -> 0 | AU96: -1
...

Sheet 07 - Vonkajšie osvetlenie
L2: >> skryté stĺpce << | AT2: {933f0415-d9f5-4dd0-946f-6f11d1d4ec40}
AT3: 0
D4: KRYCÍ LIST ROZPOČTU | M4: v --- nižšie sa nachádzajú doplnkové a pomocné údaje k zostavám --- v | AT4: False
D6: Stavba:
E7: ='Rekapitulácia stavby'!K6 -> Rekonštrukcia objektu Biovetská 36, Nitra - 1.etapa
D8: Objekt:
E9: 07 - Vonkajšie osvetlenie
D11: JKSO: | I11: KS:
D12: Miesto: | F12: Biovetská | I12: Dátum: | J12: ='Rekapitulácia stavby'!AN8 -> 14. 12. 2022
D14: Objednávateľ: | I14: IČO:
E15: Mesto Nitra | I15: IČ DPH:
D17: Zhotoviteľ: | I17: IČO: | J17: ='Rekapitulácia stavby'!AN13 -> Vyplň údaj
E18: ='Rekapitulácia stavby'!E14 -> Vyplň údaj | I18: IČ DPH: | J18: ='Rekapitulácia stavby'!AN14 -> Vyplň údaj
D20: Projektant: | I20: IČO:
E21: SOAR - ING. BÁRTA JIŘÍ | I21: IČ DPH:
D23: Spracovateľ: | I23: IČO:
E24: SOAR - ING. BÁRTA JIŘÍ | I24: IČ DPH:
D26: Poznámka:
D30: Cena bez DPH | J30: =ROUND(J121, 2) -> 0
F32: Základ dane | I32: Sadzba dane | J32: Výška dane
D33: DPH | E33: základná | F33: =ROUND((SUM(BE121:BE171)), 2) -> 0 | I33: 0.2 | J33: =ROUND(((SUM(BE121:BE171))*I33), 2) -> 0
E34: znížená | F34: =ROUND((SUM(BF121:BF171)), 2) -> 0 | I34: 0.2 | J34: =ROUND(((SUM(BF121:BF171))*I34), 2) -> 0
E35: zákl. prenesená | F35: =ROUND((SUM(BG121:BG171)), 2) -> 0 | I35: 0.2 | J35: =0 -> 0
E36: zníž. prenesená | F36: =ROUND((SUM(BH121:BH171)), 2) -> 0 | I36: 0.2 | J36: =0 -> 0
E37: nulová | F37: =ROUND((SUM(BI121:BI171)), 2) -> 0 | I37: 0 | J37: =0 -> 0
D39: Cena s DPH | G39: v | H39: EUR | J39: =SUM(J30:J37) -> 0
D50: Projektant | G50: Spracovateľ
D61: Dátum a podpis: | F61: Pečiatka | G61: Dátum a podpis: | J61: Pečiatka
D65: Objednávateľ | G65: Zhotoviteľ
D76: Dátum a podpis: | F76: Pečiatka | G76: Dátum a podpis: | J76: Pečiatka
C82: REKAPITULÁCIA ROZPOČTU
C84: Stavba:
E85: =E7 -> Rekonštrukcia objektu Biovetská 36, Nitra - 1.etapa
C86: Objekt:
E87: =E9 -> 07 - Vonkajšie osvetlenie
C89: Miesto: | F89: =F12 -> Biovetská | I89: Dátum: | J89: =IF(J12="","",J12) -> 14. 12. 2022
C91: Objednávateľ: | F91: =E15 -> Mesto Nitra | I91: Projektant: | J91: =E21 -> SOAR - ING. BÁRTA JIŘÍ
C92: Zhotoviteľ: | F92: =IF(E18="","",E18) -> Vyplň údaj | I92: Spracovateľ: | J92: =E24 -> SOAR - ING. BÁRTA JIŘÍ
C94: Kód dielu - Popis | J94: Cena celkom [EUR]
C96: Náklady z rozpočtu | J96: =J121 -> 0 | AU96: -1
...

Sheet 08 - Vonkajšie rozvody NN
L2: >> skryté stĺpce << | AT2: {718bd448-97ba-40ec-b856-d22af6ebb251}
AT3: 0
D4: KRYCÍ LIST ROZPOČTU | M4: v --- nižšie sa nachádzajú doplnkové a pomocné údaje k zostavám --- v | AT4: False
D6: Stavba:
E7: ='Rekapitulácia stavby'!K6 -> Rekonštrukcia objektu Biovetská 36, Nitra - 1.etapa
D8: Objekt:
E9: 08 - Vonkajšie rozvody NN
D11: JKSO: | I11: KS:
D12: Miesto: | F12: Biovetská | I12: Dátum: | J12: ='Rekapitulácia stavby'!AN8 -> 14. 12. 2022
D14: Objednávateľ: | I14: IČO:
E15: Mesto Nitra | I15: IČ DPH:
D17: Zhotoviteľ: | I17: IČO: | J17: ='Rekapitulácia stavby'!AN13 -> Vyplň údaj
E18: ='Rekapitulácia stavby'!E14 -> Vyplň údaj | I18: IČ DPH: | J18: ='Rekapitulácia stavby'!AN14 -> Vyplň údaj
D20: Projektant: | I20: IČO:
E21: SOAR - ING. BÁRTA JIŘÍ | I21: IČ DPH:
D23: Spracovateľ: | I23: IČO:
E24: SOAR - ING. BÁRTA JIŘÍ | I24: IČ DPH:
D26: Poznámka:
D30: Cena bez DPH | J30: =ROUND(J121, 2) -> 0
F32: Základ dane | I32: Sadzba dane | J32: Výška dane
D33: DPH | E33: základná | F33: =ROUND((SUM(BE121:BE153)), 2) -> 0 | I33: 0.2 | J33: =ROUND(((SUM(BE121:BE153))*I33), 2) -> 0
E34: znížená | F34: =ROUND((SUM(BF121:BF153)), 2) -> 0 | I34: 0.2 | J34: =ROUND(((SUM(BF121:BF153))*I34), 2) -> 0
E35: zákl. prenesená | F35: =ROUND((SUM(BG121:BG153)), 2) -> 0 | I35: 0.2 | J35: =0 -> 0
E36: zníž. prenesená | F36: =ROUND((SUM(BH121:BH153)), 2) -> 0 | I36: 0.2 | J36: =0 -> 0
E37: nulová | F37: =ROUND((SUM(BI121:BI153)), 2) -> 0 | I37: 0 | J37: =0 -> 0
D39: Cena s DPH | G39: v | H39: EUR | J39: =SUM(J30:J37) -> 0
D50: Projektant | G50: Spracovateľ
D61: Dátum a podpis: | F61: Pečiatka | G61: Dátum a podpis: | J61: Pečiatka
D65: Objednávateľ | G65: Zhotoviteľ
D76: Dátum a podpis: | F76: Pečiatka | G76: Dátum a podpis: | J76: Pečiatka
C82: REKAPITULÁCIA ROZPOČTU
C84: Stavba:
E85: =E7 -> Rekonštrukcia objektu Biovetská 36, Nitra - 1.etapa
C86: Objekt:
E87: =E9 -> 08 - Vonkajšie rozvody NN
C89: Miesto: | F89: =F12 -> Biovetská | I89: Dátum: | J89: =IF(J12="","",J12) -> 14. 12. 2022
C91: Objednávateľ: | F91: =E15 -> Mesto Nitra | I91: Projektant: | J91: =E21 -> SOAR - ING. BÁRTA JIŘÍ
C92: Zhotoviteľ: | F92: =IF(E18="","",E18) -> Vyplň údaj | I92: Spracovateľ: | J92: =E24 -> SOAR - ING. BÁRTA JIŘÍ
C94: Kód dielu - Popis | J94: Cena celkom [EUR]
C96: Náklady z rozpočtu | J96: =J121 -> 0 | AU96: -1
...

Sheet 09 - SO 02 Oplotenie - do...
L2: >> skryté stĺpce << | AT2: {4ea58c56-ec69-4685-ba9a-410715d2b3d3}
AT3: 0
D4: KRYCÍ LIST ROZPOČTU | M4: v --- nižšie sa nachádzajú doplnkové a pomocné údaje k zostavám --- v | AT4: False
D6: Stavba:
E7: ='Rekapitulácia stavby'!K6 -> Rekonštrukcia objektu Biovetská 36, Nitra - 1.etapa
D8: Objekt:
E9: 09 - SO 02 Oplotenie - doplnenie plného oplotenia v prednej časti pozemku v.1,8 m
D11: JKSO: | I11: KS:
D12: Miesto: | F12: Biovetská | I12: Dátum: | J12: ='Rekapitulácia stavby'!AN8 -> 14. 12. 2022
D14: Objednávateľ: | I14: IČO:
E15: Mesto Nitra | I15: IČ DPH:
D17: Zhotoviteľ: | I17: IČO: | J17: ='Rekapitulácia stavby'!AN13 -> Vyplň údaj
E18: ='Rekapitulácia stavby'!E14 -> Vyplň údaj | I18: IČ DPH: | J18: ='Rekapitulácia stavby'!AN14 -> Vyplň údaj
D20: Projektant: | I20: IČO:
E21: SOAR - ING. BÁRTA JIŘÍ | I21: IČ DPH:
D23: Spracovateľ: | I23: IČO:
E24: SOAR - ING. BÁRTA JIŘÍ | I24: IČ DPH:
D26: Poznámka:
D30: Cena bez DPH | J30: =ROUND(J124, 2) -> 0
F32: Základ dane | I32: Sadzba dane | J32: Výška dane
D33: DPH | E33: základná | F33: =ROUND((SUM(BE124:BE165)), 2) -> 0 | I33: 0.2 | J33: =ROUND(((SUM(BE124:BE165))*I33), 2) -> 0
E34: znížená | F34: =ROUND((SUM(BF124:BF165)), 2) -> 0 | I34: 0.2 | J34: =ROUND(((SUM(BF124:BF165))*I34), 2) -> 0
E35: zákl. prenesená | F35: =ROUND((SUM(BG124:BG165)), 2) -> 0 | I35: 0.2 | J35: =0 -> 0
E36: zníž. prenesená | F36: =ROUND((SUM(BH124:BH165)), 2) -> 0 | I36: 0.2 | J36: =0 -> 0
E37: nulová | F37: =ROUND((SUM(BI124:BI165)), 2) -> 0 | I37: 0 | J37: =0 -> 0
D39: Cena s DPH | G39: v | H39: EUR | J39: =SUM(J30:J37) -> 0
D50: Projektant | G50: Spracovateľ
D61: Dátum a podpis: | F61: Pečiatka | G61: Dátum a podpis: | J61: Pečiatka
D65: Objednávateľ | G65: Zhotoviteľ
D76: Dátum a podpis: | F76: Pečiatka | G76: Dátum a podpis: | J76: Pečiatka
C82: REKAPITULÁCIA ROZPOČTU
C84: Stavba:
E85: =E7 -> Rekonštrukcia objektu Biovetská 36, Nitra - 1.etapa
C86: Objekt:
E87: =E9 -> 09 - SO 02 Oplotenie - doplnenie plného oplotenia v prednej časti pozemku v.1,8 m
C89: Miesto: | F89: =F12 -> Biovetská | I89: Dátum: | J89: =IF(J12="","",J12) -> 14. 12. 2022
C91: Objednávateľ: | F91: =E15 -> Mesto Nitra | I91: Projektant: | J91: =E21 -> SOAR - ING. BÁRTA JIŘÍ
C92: Zhotoviteľ: | F92: =IF(E18="","",E18) -> Vyplň údaj | I92: Spracovateľ: | J92: =E24 -> SOAR - ING. BÁRTA JIŘÍ
C94: Kód dielu - Popis | J94: Cena celkom [EUR]
C96: Náklady z rozpočtu | J96: =J124 -> 0 | AU96: -1
...

Sheet 10 - SO 03 Spevnené plochy
L2: >> skryté stĺpce << | AT2: {0c98cda8-55e4-4b11-94de-5761b81cc018}
AT3: 0
D4: KRYCÍ LIST ROZPOČTU | M4: v --- nižšie sa nachádzajú doplnkové a pomocné údaje k zostavám --- v | AT4: False
D6: Stavba:
E7: ='Rekapitulácia stavby'!K6 -> Rekonštrukcia objektu Biovetská 36, Nitra - 1.etapa
D8: Objekt:
E9: 10 - SO 03 Spevnené plochy
D11: JKSO: | I11: KS:
D12: Miesto: | F12: Biovetská | I12: Dátum: | J12: ='Rekapitulácia stavby'!AN8 -> 14. 12. 2022
D14: Objednávateľ: | I14: IČO:
E15: Mesto Nitra | I15: IČ DPH:
D17: Zhotoviteľ: | I17: IČO: | J17: ='Rekapitulácia stavby'!AN13 -> Vyplň údaj
E18: ='Rekapitulácia stavby'!E14 -> Vyplň údaj | I18: IČ DPH: | J18: ='Rekapitulácia stavby'!AN14 -> Vyplň údaj
D20: Projektant: | I20: IČO:
E21: SOAR - ING. BÁRTA JIŘÍ | I21: IČ DPH:
D23: Spracovateľ: | I23: IČO:
E24: SOAR - ING. BÁRTA JIŘÍ | I24: IČ DPH:
D26: Poznámka:
D30: Cena bez DPH | J30: =ROUND(J127, 2) -> 0
F32: Základ dane | I32: Sadzba dane | J32: Výška dane
D33: DPH | E33: základná | F33: =ROUND((SUM(BE127:BE191)), 2) -> 0 | I33: 0.2 | J33: =ROUND(((SUM(BE127:BE191))*I33), 2) -> 0
E34: znížená | F34: =ROUND((SUM(BF127:BF191)), 2) -> 0 | I34: 0.2 | J34: =ROUND(((SUM(BF127:BF191))*I34), 2) -> 0
E35: zákl. prenesená | F35: =ROUND((SUM(BG127:BG191)), 2) -> 0 | I35: 0.2 | J35: =0 -> 0
E36: zníž. prenesená | F36: =ROUND((SUM(BH127:BH191)), 2) -> 0 | I36: 0.2 | J36: =0 -> 0
E37: nulová | F37: =ROUND((SUM(BI127:BI191)), 2) -> 0 | I37: 0 | J37: =0 -> 0
D39: Cena s DPH | G39: v | H39: EUR | J39: =SUM(J30:J37) -> 0
D50: Projektant | G50: Spracovateľ
D61: Dátum a podpis: | F61: Pečiatka | G61: Dátum a podpis: | J61: Pečiatka
D65: Objednávateľ | G65: Zhotoviteľ
D76: Dátum a podpis: | F76: Pečiatka | G76: Dátum a podpis: | J76: Pečiatka
C82: REKAPITULÁCIA ROZPOČTU
C84: Stavba:
E85: =E7 -> Rekonštrukcia objektu Biovetská 36, Nitra - 1.etapa
C86: Objekt:
E87: =E9 -> 10 - SO 03 Spevnené plochy
C89: Miesto: | F89: =F12 -> Biovetská | I89: Dátum: | J89: =IF(J12="","",J12) -> 14. 12. 2022
C91: Objednávateľ: | F91: =E15 -> Mesto Nitra | I91: Projektant: | J91: =E21 -> SOAR - ING. BÁRTA JIŘÍ
C92: Zhotoviteľ: | F92: =IF(E18="","",E18) -> Vyplň údaj | I92: Spracovateľ: | J92: =E24 -> SOAR - ING. BÁRTA JIŘÍ
C94: Kód dielu - Popis | J94: Cena celkom [EUR]
C96: Náklady z rozpočtu | J96: =J127 -> 0 | AU96: -1
...

Sheet 11 - SO 04 Oplotenie - na...
L2: >> skryté stĺpce << | AT2: {38cef1da-9c3f-433e-88cf-e9947fb49489}
AT3: 0
D4: KRYCÍ LIST ROZPOČTU | M4: v --- nižšie sa nachádzajú doplnkové a pomocné údaje k zostavám --- v | AT4: False
D6: Stavba:
E7: ='Rekapitulácia stavby'!K6 -> Rekonštrukcia objektu Biovetská 36, Nitra - 1.etapa
D8: Objekt:
E9: 11 - SO 04 Oplotenie - navýš. pletivo. oplotenie okolo celého pozemku v. 1,8m
D11: JKSO: | I11: KS:
D12: Miesto: | F12: Biovetská | I12: Dátum: | J12: ='Rekapitulácia stavby'!AN8 -> 14. 12. 2022
D14: Objednávateľ: | I14: IČO:
E15: Mesto Nitra | I15: IČ DPH:
D17: Zhotoviteľ: | I17: IČO: | J17: ='Rekapitulácia stavby'!AN13 -> Vyplň údaj
E18: ='Rekapitulácia stavby'!E14 -> Vyplň údaj | I18: IČ DPH: | J18: ='Rekapitulácia stavby'!AN14 -> Vyplň údaj
D20: Projektant: | I20: IČO:
E21: SOAR - ING. BÁRTA JIŘÍ | I21: IČ DPH:
D23: Spracovateľ: | I23: IČO:
E24: SOAR - ING. BÁRTA JIŘÍ | I24: IČ DPH:
D26: Poznámka:
D30: Cena bez DPH | J30: =ROUND(J122, 2) -> 0
F32: Základ dane | I32: Sadzba dane | J32: Výška dane
D33: DPH | E33: základná | F33: =ROUND((SUM(BE122:BE158)), 2) -> 0 | I33: 0.2 | J33: =ROUND(((SUM(BE122:BE158))*I33), 2) -> 0
E34: znížená | F34: =ROUND((SUM(BF122:BF158)), 2) -> 0 | I34: 0.2 | J34: =ROUND(((SUM(BF122:BF158))*I34), 2) -> 0
E35: zákl. prenesená | F35: =ROUND((SUM(BG122:BG158)), 2) -> 0 | I35: 0.2 | J35: =0 -> 0
E36: zníž. prenesená | F36: =ROUND((SUM(BH122:BH158)), 2) -> 0 | I36: 0.2 | J36: =0 -> 0
E37: nulová | F37: =ROUND((SUM(BI122:BI158)), 2) -> 0 | I37: 0 | J37: =0 -> 0
D39: Cena s DPH | G39: v | H39: EUR | J39: =SUM(J30:J37) -> 0
D50: Projektant | G50: Spracovateľ
D61: Dátum a podpis: | F61: Pečiatka | G61: Dátum a podpis: | J61: Pečiatka
D65: Objednávateľ | G65: Zhotoviteľ
D76: Dátum a podpis: | F76: Pečiatka | G76: Dátum a podpis: | J76: Pečiatka
C82: REKAPITULÁCIA ROZPOČTU
C84: Stavba:
E85: =E7 -> Rekonštrukcia objektu Biovetská 36, Nitra - 1.etapa
C86: Objekt:
E87: =E9 -> 11 - SO 04 Oplotenie - navýš. pletivo. oplotenie okolo celého pozemku v. 1,8m
C89: Miesto: | F89: =F12 -> Biovetská | I89: Dátum: | J89: =IF(J12="","",J12) -> 14. 12. 2022
C91: Objednávateľ: | F91: =E15 -> Mesto Nitra | I91: Projektant: | J91: =E21 -> SOAR - ING. BÁRTA JIŘÍ
C92: Zhotoviteľ: | F92: =IF(E18="","",E18) -> Vyplň údaj | I92: Spracovateľ: | J92: =E24 -> SOAR - ING. BÁRTA JIŘÍ
C94: Kód dielu - Popis | J94: Cena celkom [EUR]
C96: Náklady z rozpočtu | J96: =J122 -> 0 | AU96: -1
...
