Workbook

Sheet Rekapitulácia stavby
A1: Export Komplet | BA1: 2.0 | BT1: False | BU1: False | BV1: {9fa2018b-3256-4ef1-b9d2-3680a238ce15}
AR2: >> skryté stĺpce << | BS2: 0,01 | BT2: 20
BS3: 0,01 | BT3: 20
D4: REKAPITULÁCIA STAVBY | AS4: v --- nižšie sa nachádzajú doplnkové a pomocné údaje k zostavám --- v | BE4: Návod na vyplnenie | BS4: 0,001
D5: Kód: | BE5: Meniť je možné iba bunky so žltým podfarbením!_x000D_ _x000D_ 1) na prvom liste Rekapitulácie stavby vyplňte v zostave_x000D_ _x000D_ a) Rekapitulácia stavby_x000D_ - údaje o Zhotoviteľovi_x000D_ (prenesú sa do ostatných zostáv aj v iných listoch)_x000D_ _x000D_ b) Rekapitulácia objektov stavby_x000D_ - potrebné Ostatné náklady_x000D_ _x000D_ 2) na vybraných listoch vyplňte v zostave_x000D_ _x000D_ a) Krycí list_x000D_ - údaje o Zhotoviteľovi, pokiaľ sa líšia od údajov o Zhotoviteľovi na Rekapitulácii stavby_x000D_ (údaje se prenesú do ostatných zostav v danom liste)_x000D_ _x000D_ b) Rekapitulácia rozpočtu_x000D_ - potrebné Ostatné náklady_x000D_ _x000D_ c) Celkové náklady za stavbu_x000D_ - ceny na položkách_x000D_ - množstvo, pokiaľ má žlté podfarbenie_x000D_ - a v prípade potreby poznámku (tá je v skrytom stĺpci) | BS5: 0,01
D6: Stavba: | K6: Rekonštrukcia objektu Biovetská 36, Nitra - 1.etapa | BS6: 0,01
D7: JKSO: | AK7: KS: | BS7: 0,01
D8: Miesto: | K8: Biovetská | AK8: Dátum: | AN8: 14. 12. 2022 | BS8: 0,01
BS9: 0,01
D10: Objednávateľ: | AK10: IČO: | BS10: 0,01
E11: Mesto Nitra | AK11: IČ DPH: | BS11: 0,01
BS12: 0,01
D13: Zhotoviteľ: | AK13: IČO: | AN13: Vyplň údaj | BS13: 0,01
E14: Vyplň údaj | AK14: IČ DPH: | AN14: Vyplň údaj | BS14: 0,01
BS15: False
D16: Projektant: | AK16: IČO: | BS16: False
E17: SOAR - ING. BÁRTA JIŘÍ | AK17: IČ DPH: | BS17: True
BS18: 0,01
D19: Spracovateľ: | AK19: IČO: | BS19: 0,01
E20: SOAR - ING. BÁRTA JIŘÍ | AK20: IČ DPH: | BS20: True
D22: Poznámka:
D26: Cena bez DPH | AK26: =ROUND(AG94,2) -> 0
L28: Sadzba dane | W28: Základ dane | AK28: Výška dane
D29: DPH | F29: základná | L29: 0.2 | W29: =ROUND(AZ94, 2) -> 0 | AK29: =ROUND(AV94, 2) -> 0
F30: znížená | L30: 0.2 | W30: =ROUND(BA94, 2) -> 0 | AK30: =ROUND(AW94, 2) -> 0
F31: zákl. prenesená | L31: 0.2 | W31: =ROUND(BB94, 2) -> 0 | AK31: 0
F32: zníž. prenesená | L32: 0.2 | W32: =ROUND(BC94, 2) -> 0 | AK32: 0
F33: nulová | L33: 0 | W33: =ROUND(BD94, 2) -> 0 | AK33: 0
D35: Cena s DPH | T35: v | X35: EUR | AK35: =SUM(AK26:AK33) -> 0
D49: Projektant | AH49: Spracovateľ
D60: Dátum a podpis: | V60: Pečiatka | AH60: Dátum a podpis: | AM60: Pečiatka
D64: Objednávateľ | AH64: Zhotoviteľ
D75: Dátum a podpis: | V75: Pečiatka | AH75: Dátum a podpis: | AM75: Pečiatka
C82: REKAPITULÁCIA OBJEKTOV STAVBY
C84: Kód:
C85: Stavba: | L85: =K6 -> Rekonštrukcia objektu Biovetská 36, Nitra - 1.etapa
C87: Miesto: | L87: =IF(K8="","",K8) -> Biovetská | AI87: Dátum: | AM87: =IF(AN8= "","",AN8) -> 14. 12. 2022
C89: Objednávateľ: | L89: =IF(E11= "","",E11) -> Mesto Nitra | AI89: Projektant: | AM89: =IF(E17="","",E17) -> SOAR - ING. BÁRTA JIŘÍ | AS89: Informatívne údaje z listov zákaziek
C90: Zhotoviteľ: | L90: =IF(E14= "Vyplň údaj","",E14) | AI90: Spracovateľ: | AM90: =IF(E20="","",E20) -> SOAR - ING. BÁRTA JIŘÍ
C92: Kód | I92: Popis | AG92: Cena bez DPH [EUR] | AN92: Cena s DPH [EUR] | AQ92: Typ | AS92: z toho Ostat._x000D_ náklady [EUR] | AT92: DPH [EUR] | AU92: Normohodiny [h] | AV92: DPH základná [EUR] | AW92: DPH znížená [EUR] | AX92: DPH základná prenesená_x000D_ [EUR] | AY92: DPH znížená prenesená_x000D_ [EUR] | AZ92: Základňa_x000D_ DPH základná | BA92: Základňa_x000D_ DPH znížená | BB92: Základňa_x000D_ DPH zákl. prenesená | BC92: Základňa_x000D_ DPH zníž. prenesená | BD92: Základňa_x000D_ DPH nulová
C94: Náklady z rozpočtov | AG94: =ROUND(SUM(AG95:AG105),2) -> 0 | AN94: =SUM(AG94,AT94) -> 0 | AS94: =ROUND(SUM(AS95:AS105),2) -> 0 | AT94: =ROUND(SUM(AV94:AW94),2) -> 0 | AU94: =ROUND(SUM(AU95:AU105),5) -> 0 | AV94: =ROUND(AZ94*L29,2) -> 0 | AW94: =ROUND(BA94*L30,2) -> 0 | AX94: =ROUND(BB94*L29,2) -> 0 | AY94: =ROUND(BC94*L30,2) -> 0 | AZ94: =ROUND(SUM(AZ95:AZ105),2) -> 0 | BA94: =ROUND(SUM(BA95:BA105),2) -> 0 | BB94: =ROUND(SUM(BB95:BB105),2) -> 0 | BC94: =ROUND(SUM(BC95:BC105),2) -> 0 | BD94: =ROUND(SUM(BD95:BD105),2) -> 0 | BS94: D | BT94: 0 | BU94: ###NOIMPORT### | BV94: IMPORT | BW94: {9fa2018b-3256-4ef1-b9d2-3680a238ce15} | BX94: {00000000-0000-0000-0000-000000000000}
A95: / | D95: 01 | J95: SO 01 Dvojdom | AG95: ='01 - SO 01 Dvojdom '!J30 -> 0 | AN95: =SUM(AG95,AT95) -> 0 | AQ95: STA | AS95: 0 | AT95: =ROUND(SUM(AV95:AW95),2) -> 0 | AU95: ='01 - SO 01 Dvojdom '!P137 -> 0 | AV95: ='01 - SO 01 Dvojdom '!J33 -> 0 | AW95: ='01 - SO 01 Dvojdom '!J34 -> 0 | AX95: ='01 - SO 01 Dvojdom '!J35 -> 0 | AY95: ='01 - SO 01 Dvojdom '!J36 -> 0 | AZ95: ='01 - SO 01 Dvojdom '!F33 -> 0 | BA95: ='01 - SO 01 Dvojdom '!F34 -> 0 | BB95: ='01 - SO 01 Dvojdom '!F35 -> 0 | BC95: ='01 - SO 01 Dvojdom '!F36 -> 0 | BD95: ='01 - SO 01 Dvojdom '!F37 -> 0 | BT95: 1 | BV95: IMPORT | BW95: {39df12b8-e79a-479d-acf3-1ffc363ac8e6} | BX95: {9fa2018b-3256-4ef1-b9d2-3680a238ce15} | CM95: 0
A96: / | D96: 02 | J96: SO 01 Zdravotechnika | AG96: ='02 - SO 01 Zdravotechnika '!J30 -> 0 | AN96: =SUM(AG96,AT96) -> 0 | AQ96: STA | AS96: 0 | AT96: =ROUND(SUM(AV96:AW96),2) -> 0 | AU96: ='02 - SO 01 Zdravotechnika '!P120 -> 0 | AV96: ='02 - SO 01 Zdravotechnika '!J33 -> 0 | AW96: ='02 - SO 01 Zdravotechnika '!J34 -> 0 | AX96: ='02 - SO 01 Zdravotechnika '!J35 -> 0 | AY96: ='02 - SO 01 Zdravotechnika '!J36 -> 0 | AZ96: ='02 - SO 01 Zdravotechnika '!F33 -> 0 | BA96: ='02 - SO 01 Zdravotechnika '!F34 -> 0 | BB96: ='02 - SO 01 Zdravotechnika '!F35 -> 0 | BC96: ='02 - SO 01 Zdravotechnika '!F36 -> 0 | BD96: ='02 - SO 01 Zdravotechnika '!F37 -> 0 | BT96: 1 | BV96: IMPORT | BW96: {248cff28-a163-47cd-aa67-b7e292d0f437} | BX96: {9fa2018b-3256-4ef1-b9d2-3680a238ce15} | CM96: 0
A97: / | D97: 03 | J97: SO 01 Eletroinštalácia | AG97: ='03 - SO 01 Eletroinštalácia '!J30 -> 0 | AN97: =SUM(AG97,AT97) -> 0 | AQ97: STA | AS97: 0 | AT97: =ROUND(SUM(AV97:AW97),2) -> 0 | AU97: ='03 - SO 01 Eletroinštalácia '!P121 -> 0 | AV97: ='03 - SO 01 Eletroinštalácia '!J33 -> 0 | AW97: ='03 - SO 01 Eletroinštalácia '!J34 -> 0 | AX97: ='03 - SO 01 Eletroinštalácia '!J35 -> 0 | AY97: ='03 - SO 01 Eletroinštalácia '!J36 -> 0 | AZ97: ='03 - SO 01 Eletroinštalácia '!F33 -> 0 | BA97: ='03 - SO 01 Eletroinštalácia '!F34 -> 0 | BB97: ='03 - SO 01 Eletroinštalácia '!F35 -> 0 | BC97: ='03 - SO 01 Eletroinštalácia '!F36 -> 0 | BD97: ='03 - SO 01 Eletroinštalácia '!F37 -> 0 | BT97: 1 | BV97: IMPORT | BW97: {7b7631d1-8ce7-410e-9151-63a7dfbc3252} | BX97: {9fa2018b-3256-4ef1-b9d2-3680a238ce15} | CM97: 0
A98: / | D98: 04 | J98: SO 01 Ústredné vykurovanie | AG98: ='04 - SO 01 Ústredné vykur...'!J30 -> 0 | AN98: =SUM(AG98,AT98) -> 0 | AQ98: STA | AS98: 0 | AT98: =ROUND(SUM(AV98:AW98),2) -> 0 | AU98: ='04 - SO 01 Ústredné vykur...'!P123 -> 0 | AV98: ='04 - SO 01 Ústredné vykur...'!J33 -> 0 | AW98: ='04 - SO 01 Ústredné vykur...'!J34 -> 0 | AX98: ='04 - SO 01 Ústredné vykur...'!J35 -> 0 | AY98: ='04 - SO 01 Ústredné vykur...'!J36 -> 0 | AZ98: ='04 - SO 01 Ústredné vykur...'!F33 -> 0 | BA98: ='04 - SO 01 Ústredné vykur...'!F34 -> 0 | BB98: ='04 - SO 01 Ústredné vykur...'!F35 -> 0 | BC98: ='04 - SO 01 Ústredné vykur...'!F36 -> 0 | BD98: ='04 - SO 01 Ústredné vykur...'!F37 -> 0 | BT98: 1 | BV98: IMPORT | BW98: {e108d427-a24c-4b35-877a-f4d72341b8de} | BX98: {9fa2018b-3256-4ef1-b9d2-3680a238ce15} | CM98: 0
A99: / | D99: 05 | J99: SO 01 Strecha | AG99: ='05 - SO 01 Strecha '!J30 -> 0 | AN99: =SUM(AG99,AT99) -> 0 | AQ99: STA | AS99: 0 | AT99: =ROUND(SUM(AV99:AW99),2) -> 0 | AU99: ='05 - SO 01 Strecha '!P118 -> 0 | AV99: ='05 - SO 01 Strecha '!J33 -> 0 | AW99: ='05 - SO 01 Strecha '!J34 -> 0 | AX99: ='05 - SO 01 Strecha '!J35 -> 0 | AY99: ='05 - SO 01 Strecha '!J36 -> 0 | AZ99: ='05 - SO 01 Strecha '!F33 -> 0 | BA99: ='05 - SO 01 Strecha '!F34 -> 0 | BB99: ='05 - SO 01 Strecha '!F35 -> 0 | BC99: ='05 - SO 01 Strecha '!F36 -> 0 | BD99: ='05 - SO 01 Strecha '!F37 -> 0 | BT99: 1 | BV99: IMPORT | BW99: {57578ba5-03c3-44ef-9421-6d73cb15acba} | BX99: {9fa2018b-3256-4ef1-b9d2-3680a238ce15} | CM99: 0
A100: / | D100: 06 | J100: Vonkajšia kanalizácia | AG100: ='06 - Vonkajšia kanalizácia '!J30 -> 0 | AN100: =SUM(AG100,AT100) -> 0 | AQ100: STA | AS100: 0 | AT100: =ROUND(SUM(AV100:AW100),2) -> 0 | AU100: ='06 - Vonkajšia kanalizácia '!P121 -> 0 | AV100: ='06 - Vonkajšia kanalizácia '!J33 -> 0 | AW100: ='06 - Vonkajšia kanalizácia '!J34 -> 0 | AX100: ='06 - Vonkajšia kanalizácia '!J35 -> 0 | AY100: ='06 - Vonkajšia kanalizácia '!J36 -> 0 | AZ100: ='06 - Vonkajšia kanalizácia '!F33 -> 0 | BA100: ='06 - Vonkajšia kanalizácia '!F34 -> 0 | BB100: ='06 - Vonkajšia kanalizácia '!F35 -> 0 | BC100: ='06 - Vonkajšia kanalizácia '!F36 -> 0 | BD100: ='06 - Vonkajšia kanalizácia '!F37 -> 0 | BT100: 1 | BV100: IMPORT | BW100: {91b107ef-f2aa-47d2-ab0d-4b98e5ebd438} | BX100: {9fa2018b-3256-4ef1-b9d2-3680a238ce15} | CM100: 0
A101: / | D101: 07 | J101: Vonkajšie osvetlenie | AG101: ='07 - Vonkajšie osvetlenie'!J30 -> 0 | AN101: =SUM(AG101,AT101) -> 0 | AQ101: STA | AS101: 0 | AT101: =ROUND(SUM(AV101:AW101),2) -> 0 | AU101: ='07 - Vonkajšie osvetlenie'!P121 -> 0 | AV101: ='07 - Vonkajšie osvetlenie'!J33 -> 0 | AW101: ='07 - Vonkajšie osvetlenie'!J34 -> 0 | AX101: ='07 - Vonkajšie osvetlenie'!J35 -> 0 | AY101: ='07 - Vonkajšie osvetlenie'!J36 -> 0 | AZ101: ='07 - Vonkajšie osvetlenie'!F33 -> 0 | BA101: ='07 - Vonkajšie osvetlenie'!F34 -> 0 | BB101: ='07 - Vonkajšie osvetlenie'!F35 -> 0 | BC101: ='07 - Vonkajšie osvetlenie'!F36 -> 0 | BD101: ='07 - Vonkajšie osvetlenie'!F37 -> 0 | BT101: 1 | BV101: IMPORT | BW101: {933f0415-d9f5-4dd0-946f-6f11d1d4ec40} | BX101: {9fa2018b-3256-4ef1-b9d2-3680a238ce15} | CM101: 0
A102: / | D102: 08 | J102: Vonkajšie rozvody NN | AG102: ='08 - Vonkajšie rozvody NN'!J30 -> 0 | AN102: =SUM(AG102,AT102) -> 0 | AQ102: STA | AS102: 0 | AT102: =ROUND(SUM(AV102:AW102),2) -> 0 | AU102: ='08 - Vonkajšie rozvody NN'!P121 -> 0 | AV102: ='08 - Vonkajšie rozvody NN'!J33 -> 0 | AW102: ='08 - Vonkajšie rozvody NN'!J34 -> 0 | AX102: ='08 - Vonkajšie rozvody NN'!J35 -> 0 | AY102: ='08 - Vonkajšie rozvody NN'!J36 -> 0 | AZ102: ='08 - Vonkajšie rozvody NN'!F33 -> 0 | BA102: ='08 - Vonkajšie rozvody NN'!F34 -> 0 | BB102: ='08 - Vonkajšie rozvody NN'!F35 -> 0 | BC102: ='08 - Vonkajšie rozvody NN'!F36 -> 0 | BD102: ='08 - Vonkajšie rozvody NN'!F37 -> 0 | BT102: 1 | BV102: IMPORT | BW102: {718bd448-97ba-40ec-b856-d22af6ebb251} | BX102: {9fa2018b-3256-4ef1-b9d2-3680a238ce15} | CM102: 0
A103: / | D103: 09 | J103: SO 02 Oplotenie - doplnenie plného oplotenia v prednej časti pozemku v.1,8 m | AG103: ='09 - SO 02 Oplotenie - do...'!J30 -> 0 | AN103: =SUM(AG103,AT103) -> 0 | AQ103: STA | AS103: 0 | AT103: =ROUND(SUM(AV103:AW103),2) -> 0 | AU103: ='09 - SO 02 Oplotenie - do...'!P124 -> 0 | AV103: ='09 - SO 02 Oplotenie - do...'!J33 -> 0 | AW103: ='09 - SO 02 Oplotenie - do...'!J34 -> 0 | AX103: ='09 - SO 02 Oplotenie - do...'!J35 -> 0 | AY103: ='09 - SO 02 Oplotenie - do...'!J36 -> 0 | AZ103: ='09 - SO 02 Oplotenie - do...'!F33 -> 0 | BA103: ='09 - SO 02 Oplotenie - do...'!F34 -> 0 | BB103: ='09 - SO 02 Oplotenie - do...'!F35 -> 0 | BC103: ='09 - SO 02 Oplotenie - do...'!F36 -> 0 | BD103: ='09 - SO 02 Oplotenie - do...'!F37 -> 0 | BT103: 1 | BV103: IMPORT | BW103: {4ea58c56-ec69-4685-ba9a-410715d2b3d3} | BX103: {9fa2018b-3256-4ef1-b9d2-3680a238ce15} | CM103: 0
A104: / | D104: 10 | J104: SO 03 Spevnené plochy | AG104: ='10 - SO 03 Spevnené plochy'!J30 -> 0 | AN104: =SUM(AG104,AT104) -> 0 | AQ104: STA | AS104: 0 | AT104: =ROUND(SUM(AV104:AW104),2) -> 0 | AU104: ='10 - SO 03 Spevnené plochy'!P127 -> 0 | AV104: ='10 - SO 03 Spevnené plochy'!J33 -> 0 | AW104: ='10 - SO 03 Spevnené plochy'!J34 -> 0 | AX104: ='10 - SO 03 Spevnené plochy'!J35 -> 0 | AY104: ='10 - SO 03 Spevnené plochy'!J36 -> 0 | AZ104: ='10 - SO 03 Spevnené plochy'!F33 -> 0 | BA104: ='10 - SO 03 Spevnené plochy'!F34 -> 0 | BB104: ='10 - SO 03 Spevnené plochy'!F35 -> 0 | BC104: ='10 - SO 03 Spevnené plochy'!F36 -> 0 | BD104: ='10 - SO 03 Spevnené plochy'!F37 -> 0 | BT104: 1 | BV104: IMPORT | BW104: {0c98cda8-55e4-4b11-94de-5761b81cc018} | BX104: {9fa2018b-3256-4ef1-b9d2-3680a238ce15} | CM104: 0
A105: / | D105: 11 | J105: SO 04 Oplotenie - navýš. pletivo. oplotenie okolo celého pozemku v. 1,8m | AG105: ='11 - SO 04 Oplotenie - na...'!J30 -> 0 | AN105: =SUM(AG105,AT105) -> 0 | AQ105: STA | AS105: 0 | AT105: =ROUND(SUM(AV105:AW105),2) -> 0 | AU105: ='11 - SO 04 Oplotenie - na...'!P122 -> 0 | AV105: ='11 - SO 04 Oplotenie - na...'!J33 -> 0 | AW105: ='11 - SO 04 Oplotenie - na...'!J34 -> 0 | AX105: ='11 - SO 04 Oplotenie - na...'!J35 -> 0 | AY105: ='11 - SO 04 Oplotenie - na...'!J36 -> 0 | AZ105: ='11 - SO 04 Oplotenie - na...'!F33 -> 0 | BA105: ='11 - SO 04 Oplotenie - na...'!F34 -> 0 | BB105: ='11 - SO 04 Oplotenie - na...'!F35 -> 0 | BC105: ='11 - SO 04 Oplotenie - na...'!F36 -> 0 | BD105: ='11 - SO 04 Oplotenie - na...'!F37 -> 0 | BT105: 1 | BV105: IMPORT | BW105: {38cef1da-9c3f-433e-88cf-e9947fb49489} | BX105: {9fa2018b-3256-4ef1-b9d2-3680a238ce15} | CM105: 0

Sheet 01 - SO 01 Dvojdom 
L2: >> skryté stĺpce << | AT2: {39df12b8-e79a-479d-acf3-1ffc363ac8e6}
AT3: 0
D4: KRYCÍ LIST ROZPOČTU | M4: v --- nižšie sa nachádzajú doplnkové a pomocné údaje k zostavám --- v | AT4: False
D6: Stavba:
E7: ='Rekapitulácia stavby'!K6 -> Rekonštrukcia objektu Biovetská 36, Nitra - 1.etapa
D8: Objekt:
E9: 01 - SO 01 Dvojdom
D11: JKSO: | I11: KS:
D12: Miesto: | F12: Biovetská | I12: Dátum: | J12: ='Rekapitulácia stavby'!AN8 -> 14. 12. 2022
D14: Objednávateľ: | I14: IČO:
E15: Mesto Nitra | I15: IČ DPH:
D17: Zhotoviteľ: | I17: IČO: | J17: ='Rekapitulácia stavby'!AN13 -> Vyplň údaj
E18: ='Rekapitulácia stavby'!E14 -> Vyplň údaj | I18: IČ DPH: | J18: ='Rekapitulácia stavby'!AN14 -> Vyplň údaj
D20: Projektant: | I20: IČO:
E21: SOAR - ING. BÁRTA JIŘÍ | I21: IČ DPH:
D23: Spracovateľ: | I23: IČO:
E24: SOAR - ING. BÁRTA JIŘÍ | I24: IČ DPH:
D26: Poznámka:
D30: Cena bez DPH | J30: =ROUND(J137, 2) -> 0
F32: Základ dane | I32: Sadzba dane | J32: Výška dane
D33: DPH | E33: základná | F33: =ROUND((SUM(BE137:BE348)), 2) -> 0 | I33: 0.2 | J33: =ROUND(((SUM(BE137:BE348))*I33), 2) -> 0
E34: znížená | F34: =ROUND((SUM(BF137:BF348)), 2) -> 0 | I34: 0.2 | J34: =ROUND(((SUM(BF137:BF348))*I34), 2) -> 0
E35: zákl. prenesená | F35: =ROUND((SUM(BG137:BG348)), 2) -> 0 | I35: 0.2 | J35: =0 -> 0
E36: zníž. prenesená | F36: =ROUND((SUM(BH137:BH348)), 2) -> 0 | I36: 0.2 | J36: =0 -> 0
E37: nulová | F37: =ROUND((SUM(BI137:BI348)), 2) -> 0 | I37: 0 | J37: =0 -> 0
D39: Cena s DPH | G39: v | H39: EUR | J39: =SUM(J30:J37) -> 0
D50: Projektant | G50: Spracovateľ
D61: Dátum a podpis: | F61: Pečiatka | G61: Dátum a podpis: | J61: Pečiatka
D65: Objednávateľ | G65: Zhotoviteľ
D76: Dátum a podpis: | F76: Pečiatka | G76: Dátum a podpis: | J76: Pečiatka
C82: REKAPITULÁCIA ROZPOČTU
C84: Stavba:
E85: =E7 -> Rekonštrukcia objektu Biovetská 36, Nitra - 1.etapa
C86: Objekt:
E87: =E9 -> 01 - SO 01 Dvojdom
C89: Miesto: | F89: =F12 -> Biovetská | I89: Dátum: | J89: =IF(J12="","",J12) -> 14. 12. 2022
C91: Objednávateľ: | F91: =E15 -> Mesto Nitra | I91: Projektant: | J91: =E21 -> SOAR - ING. BÁRTA JIŘÍ
C92: Zhotoviteľ: | F92: =IF(E18="","",E18) -> Vyplň údaj | I92: Spracovateľ: | J92: =E24 -> SOAR - ING. BÁRTA JIŘÍ
C94: Kód dielu - Popis | J94: Cena celkom [EUR]
C96: Náklady z rozpočtu | J96: =J137 -> 0 | AU96: -1
D97: HSV - Práce a dodávky HSV | J97: =J138 -> 0
D98: 1 - Zemné práce | J98: =J139 -> 0
D99: 3 - ZVISLÉ A KOMPLETNÉ KONŠTRUKCIE | J99: =J143 -> 0
D100: 6 - ÚPRAVY POVRCHOV, PODLAHY, VÝPLNE | J100: =J153 -> 0
D101: 9 - OSTATNÉ KONŠTRUKCIE A PRÁCE | J101: =J178 -> 0
D102: D2 - PRÁCE A DODÁVKY PSV | J102: =J214 -> 0
D103: 711 - Izolácie proti vode a vlhkosti | J103: =J215 -> 0
D104: 713 - Izolácie tepelné | J104: =J223 -> 0
D105: 721 - Vnútorná kanalizácia | J105: =J230 -> 0
D106: 722 - Vnútorný vodovod | J106: =J235 -> 0
D107: 725 - Zariaďovacie predmety | J107: =J237 -> 0
D108: 763 - Konštrukcie - drevostavby | J108: =J262 -> 0
D109: 764 - Konštrukcie klampiarske | J109: =J266 -> 0
D110: 766 - Konštrukcie stolárske | J110: =J272 -> 0
D111: 767 - Konštrukcie doplnk. kovové stavebné | J111: =J289 -> 0
D112: 771 - Podlahy z dlaždíc keramických | J112: =J319 -> 0
D113: 775 - Podlahy vlysové a parketové | J113: =J329 -> 0
D114: 776 - Podlahy povlakové | J114: =J331 -> 0
D115: 781 - Obklady z obkladačiek a dosiek | J115: =J339 -> 0
D116: 783 - Nátery | J116: =J343 -> 0
D117: 784 - Maľby | J117: =J345 -> 0
C124: ROZPOČET
C126: Stavba:
E127: =E7 -> Rekonštrukcia objektu Biovetská 36, Nitra - 1.etapa
C128: Objekt:
E129: =E9 -> 01 - SO 01 Dvojdom
C131: Miesto: | F131: =F12 -> Biovetská | I131: Dátum: | J131: =IF(J12="","",J12) -> 14. 12. 2022
C133: Objednávateľ: | F133: =E15 -> Mesto Nitra | I133: Projektant: | J133: =E21 -> SOAR - ING. BÁRTA JIŘÍ
C134: Zhotoviteľ: | F134: =IF(E18="","",E18) -> Vyplň údaj | I134: Spracovateľ: | J134: =E24 -> SOAR - ING. BÁRTA JIŘÍ
C136: PČ | D136: Typ | E136: Kód | F136: Popis | G136: MJ | H136: Množstvo | I136: J.cena [EUR] | J136: Cena celkom [EUR] | K136: Cenová sústava | N136: DPH | O136: J. Nh [h] | P136: Nh celkom [h] | Q136: J. hmotnosť [t] | R136: Hmotnosť celkom [t] | S136: J. suť [t] | T136: Suť Celkom [t]
C137: Náklady z rozpočtu | J137: =BK137 -> 0 | P137: =P138+P214 -> 0 | R137: =R138+R214 -> 61.425669 | T137: =T138+T214 -> 55.729106 | AT137: D | AU137: -1 | BK137: =BK138+BK214 -> 0
D138: D | E138: HSV | F138: Práce a dodávky HSV | J138: =BK138 -> 0 | P138: =P139+P143+P153+P178 -> 0 | R138: =R139+R143+R153+R178 -> 52.960302 | T138: =T139+T143+T153+T178 -> 55.279846 | AR138: 1 | AT138: D | AU138: 0 | AY138: ROZPOCET | BK138: =BK139+BK143+BK153+BK178 -> 0
D139: D | E139: 1 | F139: Zemné práce | J139: =BK139 -> 0 | P139: =SUM(P140:P142) -> 0 | R139: =SUM(R140:R142) -> 0 | T139: =SUM(T140:T142) -> 0 | AR139: 1 | AT139: D | AU139: 1 | AY139: ROZPOCET | BK139: =SUM(BK140:BK142) -> 0
C140: 175 | D140: K | E140: 111201101.S | F140: Odstránenie krovín a stromov s koreňom s priemerom kmeňa do 100 mm, do 1000 m2 | G140: m2 | H140: 60 | J140: =ROUND(I140*H140,2) -> 0 | N140: znížená | P140: =O140*H140 -> 0 | Q140: 0 | R140: =Q140*H140 -> 0 | S140: 0 | T140: =S140*H140 -> 0 | AR140: 4 | AT140: K | AU140: 2 | AY140: ROZPOCET | BE140: =IF(N140="základná",J140,0) -> 0 | BF140: =IF(N140="znížená",J140,0) -> 0 | BG140: =IF(N140="zákl. prenesená",J140,0) -> 0 | BH140: =IF(N140="zníž. prenesená",J140,0) -> 0 | BI140: =IF(N140="nulová",J140,0) -> 0 | BJ140: 2 | BK140: =ROUND(I140*H140,2) -> 0 | BL140: 4 | BM140: 2142954984
C141: 176 | D141: K | E141: 112101224.S | F141: Vyrúbanie stromu ihl. priemer kmeňa nad 400 do 500 mm+ úprava na prersun (orezanie vetiev)+naloženie na dopravný prostriedok | G141: ks | H141: 1 | J141: =ROUND(I141*H141,2) -> 0 | N141: znížená | P141: =O141*H141 -> 0 | Q141: 0 | R141: =Q141*H141 -> 0 | S141: 0 | T141: =S141*H141 -> 0 | AR141: 4 | AT141: K | AU141: 2 | AY141: ROZPOCET | BE141: =IF(N141="základná",J141,0) -> 0 | BF141: =IF(N141="znížená",J141,0) -> 0 | BG141: =IF(N141="zákl. prenesená",J141,0) -> 0 | BH141: =IF(N141="zníž. prenesená",J141,0) -> 0 | BI141: =IF(N141="nulová",J141,0) -> 0 | BJ141: 2 | BK141: =ROUND(I141*H141,2) -> 0 | BL141: 4 | BM141: 1763165197
C142: 177 | D142: K | E142: 998231311.S | F142: Presun hmôt pre sadovnícke a krajinárske úpravy do 5000 m vodorovne bez zvislého presunu | G142: t | H142: 1.5 | J142: =ROUND(I142*H142,2) -> 0 | N142: znížená | P142: =O142*H142 -> 0 | Q142: 0 | R142: =Q142*H142 -> 0 | S142: 0 | T142: =S142*H142 -> 0 | AR142: 4 | AT142: K | AU142: 2 | AY142: ROZPOCET | BE142: =IF(N142="základná",J142,0) -> 0 | BF142: =IF(N142="znížená",J142,0) -> 0 | BG142: =IF(N142="zákl. prenesená",J142,0) -> 0 | BH142: =IF(N142="zníž. prenesená",J142,0) -> 0 | BI142: =IF(N142="nulová",J142,0) -> 0 | BJ142: 2 | BK142: =ROUND(I142*H142,2) -> 0 | BL142: 4 | BM142: -508021736
D143: D | E143: 3 | F143: ZVISLÉ A KOMPLETNÉ KONŠTRUKCIE | J143: =BK143 -> 0 | P143: =SUM(P144:P152) -> 0 | R143: =SUM(R144:R152) -> 7.6065639 | T143: =SUM(T144:T152) -> 0 | AR143: 1 | AT143: D | AU143: 1 | AY143: ROZPOCET | BK143: =SUM(BK144:BK152) -> 0
C144: 1 | D144: K | E144: 310239211 | F144: Zamurovanie otvoru do 4 m2 pálenými tehlami v murive akejkoľvek hr. na maltu MVC | G144: m3 | H144: 0.879 | J144: =ROUND(I144*H144,2) -> 0 | N144: znížená | P144: =O144*H144 -> 0 | Q144: 1.77807 | R144: =Q144*H144 -> 1.5629235 | S144: 0 | T144: =S144*H144 -> 0 | AR144: 4 | AT144: K | AU144: 2 | AY144: ROZPOCET | BE144: =IF(N144="základná",J144,0) -> 0 | BF144: =IF(N144="znížená",J144,0) -> 0 | BG144: =IF(N144="zákl. prenesená",J144,0) -> 0 | BH144: =IF(N144="zníž. prenesená",J144,0) -> 0 | BI144: =IF(N144="nulová",J144,0) -> 0 | BJ144: 2 | BK144: =ROUND(I144*H144,2) -> 0 | BL144: 4 | BM144: 2
C145: 2 | D145: K | E145: 311271141 | F145: Murivo nosné z pórobetónových tvárnic HEBEL P2-500 hr. 250 mm | G145: m3 | H145: 0.564 | J145: =ROUND(I145*H145,2) -> 0 | N145: znížená | P145: =O145*H145 -> 0 | Q145: 0.77903 | R145: =Q145*H145 -> 0.43937292 | S145: 0 | T145: =S145*H145 -> 0 | AR145: 4 | AT145: K | AU145: 2 | AY145: ROZPOCET | BE145: =IF(N145="základná",J145,0) -> 0 | BF145: =IF(N145="znížená",J145,0) -> 0 | BG145: =IF(N145="zákl. prenesená",J145,0) -> 0 | BH145: =IF(N145="zníž. prenesená",J145,0) -> 0 | BI145: =IF(N145="nulová",J145,0) -> 0 | BJ145: 2 | BK145: =ROUND(I145*H145,2) -> 0 | BL145: 4 | BM145: 4
C146: 3 | D146: K | E146: 311271142 | F146: Murivo nosné z pórobetónových tvárnic HEBEL P2-400 hr. 300 mm | G146: m3 | H146: 1.65 | J146: =ROUND(I146*H146,2) -> 0 | N146: znížená | P146: =O146*H146 -> 0 | Q146: 0.65345 | R146: =Q146*H146 -> 1.0781925 | S146: 0 | T146: =S146*H146 -> 0 | AR146: 4 | AT146: K | AU146: 2 | AY146: ROZPOCET | BE146: =IF(N146="základná",J146,0) -> 0 | BF146: =IF(N146="znížená",J146,0) -> 0 | BG146: =IF(N146="zákl. prenesená",J146,0) -> 0 | BH146: =IF(N146="zníž. prenesená",J146,0) -> 0 | BI146: =IF(N146="nulová",J146,0) -> 0 | BJ146: 2 | BK146: =ROUND(I146*H146,2) -> 0 | BL146: 4 | BM146: 6
C147: 4 | D147: K | E147: 317121101 | F147: Montáž prefabrik. prekladov pre svetlosť otvoru do 105 cm | G147: kus | H147: 2 | J147: =ROUND(I147*H147,2) -> 0 | N147: znížená | P147: =O147*H147 -> 0 | Q147: 0.00688 | R147: =Q147*H147 -> 0.01376 | S147: 0 | T147: =S147*H147 -> 0 | AR147: 4 | AT147: K | AU147: 2 | AY147: ROZPOCET | BE147: =IF(N147="základná",J147,0) -> 0 | BF147: =IF(N147="znížená",J147,0) -> 0 | BG147: =IF(N147="zákl. prenesená",J147,0) -> 0 | BH147: =IF(N147="zníž. prenesená",J147,0) -> 0 | BI147: =IF(N147="nulová",J147,0) -> 0 | BJ147: 2 | BK147: =ROUND(I147*H147,2) -> 0 | BL147: 4 | BM147: 8
C148: 5 | D148: M | E148: 593407860 | F148: Keramické preklady POROTHERM KP23,8 125x23,8x7 | G148: kus | H148: 2 | J148: =ROUND(I148*H148,2) -> 0 | N148: znížená | P148: =O148*H148 -> 0 | Q148: 0.04875 | R148: =Q148*H148 -> 0.0975 | S148: 0 | T148: =S148*H148 -> 0 | AR148: 8 | AT148: M | AU148: 2 | AY148: ROZPOCET | BE148: =IF(N148="základná",J148,0) -> 0 | BF148: =IF(N148="znížená",J148,0) -> 0 | BG148: =IF(N148="zákl. prenesená",J148,0) -> 0 | BH148: =IF(N148="zníž. prenesená",J148,0) -> 0 | BI148: =IF(N148="nulová",J148,0) -> 0 | BJ148: 2 | BK148: =ROUND(I148*H148,2) -> 0 | BL148: 4 | BM148: 10
C149: 6 | D149: K | E149: 317121102 | F149: Montáž prefabrik. prekladov pre svetlosť otvoru do 180 cm | G149: kus | H149: 10 | J149: =ROUND(I149*H149,2) -> 0 | N149: znížená | P149: =O149*H149 -> 0 | Q149: 0.00918 | R149: =Q149*H149 -> 0.0918 | S149: 0 | T149: =S149*H149 -> 0 | AR149: 4 | AT149: K | AU149: 2 | AY149: ROZPOCET | BE149: =IF(N149="základná",J149,0) -> 0 | BF149: =IF(N149="znížená",J149,0) -> 0 | BG149: =IF(N149="zákl. prenesená",J149,0) -> 0 | BH149: =IF(N149="zníž. prenesená",J149,0) -> 0 | BI149: =IF(N149="nulová",J149,0) -> 0 | BJ149: 2 | BK149: =ROUND(I149*H149,2) -> 0 | BL149: 4 | BM149: 12
C150: 7 | D150: M | E150: 593407870 | F150: Keramické preklady POROTHERM KP23,8 150x23,8x7 | G150: kus | H150: 10 | J150: =ROUND(I150*H150,2) -> 0 | N150: znížená | P150: =O150*H150 -> 0 | Q150: 0.0585 | R150: =Q150*H150 -> 0.585 | S150: 0 | T150: =S150*H150 -> 0 | AR150: 8 | AT150: M | AU150: 2 | AY150: ROZPOCET | BE150: =IF(N150="základná",J150,0) -> 0 | BF150: =IF(N150="znížená",J150,0) -> 0 | BG150: =IF(N150="zákl. prenesená",J150,0) -> 0 | BH150: =IF(N150="zníž. prenesená",J150,0) -> 0 | BI150: =IF(N150="nulová",J150,0) -> 0 | BJ150: 2 | BK150: =ROUND(I150*H150,2) -> 0 | BL150: 4 | BM150: 14
C151: 8 | D151: K | E151: 342243112 | F151: Priečky POROTHERM P8 hr. 80mm 8x50x23,8 P+D | G151: m2 | H151: 4.025 | J151: =ROUND(I151*H151,2) -> 0 | N151: znížená | P151: =O151*H151 -> 0 | Q151: 0.08764 | R151: =Q151*H151 -> 0.352751 | S151: 0 | T151: =S151*H151 -> 0 | AR151: 4 | AT151: K | AU151: 2 | AY151: ROZPOCET | BE151: =IF(N151="základná",J151,0) -> 0 | BF151: =IF(N151="znížená",J151,0) -> 0 | BG151: =IF(N151="zákl. prenesená",J151,0) -> 0 | BH151: =IF(N151="zníž. prenesená",J151,0) -> 0 | BI151: =IF(N151="nulová",J151,0) -> 0 | BJ151: 2 | BK151: =ROUND(I151*H151,2) -> 0 | BL151: 4 | BM151: 16
C152: 9 | D152: K | E152: 342243311 | F152: Priečky POROTHERM 10 Profi P8 hr. 100mm 10X50X24,9 na maltu Porotherm Profi | G152: m2 | H152: 39.136 | J152: =ROUND(I152*H152,2) -> 0 | N152: znížená | P152: =O152*H152 -> 0 | Q152: 0.0865 | R152: =Q152*H152 -> 3.385264 | S152: 0 | T152: =S152*H152 -> 0 | AR152: 4 | AT152: K | AU152: 2 | AY152: ROZPOCET | BE152: =IF(N152="základná",J152,0) -> 0 | BF152: =IF(N152="znížená",J152,0) -> 0 | BG152: =IF(N152="zákl. prenesená",J152,0) -> 0 | BH152: =IF(N152="zníž. prenesená",J152,0) -> 0 | BI152: =IF(N152="nulová",J152,0) -> 0 | BJ152: 2 | BK152: =ROUND(I152*H152,2) -> 0 | BL152: 4 | BM152: 18
D153: D | E153: 6 | F153: ÚPRAVY POVRCHOV, PODLAHY, VÝPLNE | J153: =BK153 -> 0 | P153: =SUM(P154:P177) -> 0 | R153: =SUM(R154:R177) -> 44.62953 | T153: =SUM(T154:T177) -> 0 | AR153: 1 | AT153: D | AU153: 1 | AY153: ROZPOCET | BK153: =SUM(BK154:BK177) -> 0
C154: 10 | D154: K | E154: 610991111 | F154: Zakrývanie vnút. okenných otvorov, predmetov a konštrukcií | G154: m2 | H154: 341.59 | J154: =ROUND(I154*H154,2) -> 0 | N154: znížená | P154: =O154*H154 -> 0 | Q154: 1e-05 | R154: =Q154*H154 -> 0.0034159 | S154: 0 | T154: =S154*H154 -> 0 | AR154: 4 | AT154: K | AU154: 2 | AY154: ROZPOCET | BE154: =IF(N154="základná",J154,0) -> 0 | BF154: =IF(N154="znížená",J154,0) -> 0 | BG154: =IF(N154="zákl. prenesená",J154,0) -> 0 | BH154: =IF(N154="zníž. prenesená",J154,0) -> 0 | BI154: =IF(N154="nulová",J154,0) -> 0 | BJ154: 2 | BK154: =ROUND(I154*H154,2) -> 0 | BL154: 4 | BM154: 20
C155: 11 | D155: K | E155: 612425921 | F155: Omietka vnútorného ostenia okenného alebo dverného vápenná hladká | G155: m2 | H155: 30.464 | J155: =ROUND(I155*H155,2) -> 0 | N155: znížená | P155: =O155*H155 -> 0 | Q155: 0.05285 | R155: =Q155*H155 -> 1.6100224 | S155: 0 | T155: =S155*H155 -> 0 | AR155: 4 | AT155: K | AU155: 2 | AY155: ROZPOCET | BE155: =IF(N155="základná",J155,0) -> 0 | BF155: =IF(N155="znížená",J155,0) -> 0 | BG155: =IF(N155="zákl. prenesená",J155,0) -> 0 | BH155: =IF(N155="zníž. prenesená",J155,0) -> 0 | BI155: =IF(N155="nulová",J155,0) -> 0 | BJ155: 2 | BK155: =ROUND(I155*H155,2) -> 0 | BL155: 4 | BM155: 22
C156: 12 | D156: K | E156: 612465111 | F156: Príprava podkl.BAUMIT,pod omietky vnút.stien, strojne, nanášanie ručne hr.2 mm | G156: m2 | H156: 90.922 | J156: =ROUND(I156*H156,2) -> 0 | N156: znížená | P156: =O156*H156 -> 0 | Q156: 0.007 | R156: =Q156*H156 -> 0.636454 | S156: 0 | T156: =S156*H156 -> 0 | AR156: 4 | AT156: K | AU156: 2 | AY156: ROZPOCET | BE156: =IF(N156="základná",J156,0) -> 0 | BF156: =IF(N156="znížená",J156,0) -> 0 | BG156: =IF(N156="zákl. prenesená",J156,0) -> 0 | BH156: =IF(N156="zníž. prenesená",J156,0) -> 0 | BI156: =IF(N156="nulová",J156,0) -> 0 | BJ156: 2 | BK156: =ROUND(I156*H156,2) -> 0 | BL156: 4 | BM156: 24
C157: 13 | D157: K | E157: 612465138 | F157: Vnútorná omietka stien BAUMIT,váp.biela,jemná štuk.,strojne, nanáš.ručne hr.4 mm | G157: m2 | H157: 86.322 | J157: =ROUND(I157*H157,2) -> 0 | N157: znížená | P157: =O157*H157 -> 0 | Q157: 0.006 | R157: =Q157*H157 -> 0.517932 | S157: 0 | T157: =S157*H157 -> 0 | AR157: 4 | AT157: K | AU157: 2 | AY157: ROZPOCET | BE157: =IF(N157="základná",J157,0) -> 0 | BF157: =IF(N157="znížená",J157,0) -> 0 | BG157: =IF(N157="zákl. prenesená",J157,0) -> 0 | BH157: =IF(N157="zníž. prenesená",J157,0) -> 0 | BI157: =IF(N157="nulová",J157,0) -> 0 | BJ157: 2 | BK157: =ROUND(I157*H157,2) -> 0 | BL157: 4 | BM157: 26
C158: 14 | D158: K | E158: 622457R00 | F158: Vonkajšia omietka stien mramorové zrná jemnozrnná hr. 1,5 mm + (sieťka, kleber) | G158: m2 | H158: 46.128 | J158: =ROUND(I158*H158,2) -> 0 | N158: znížená | P158: =O158*H158 -> 0 | Q158: 0.01312 | R158: =Q158*H158 -> 0.60519936 | S158: 0 | T158: =S158*H158 -> 0 | AR158: 4 | AT158: K | AU158: 2 | AY158: ROZPOCET | BE158: =IF(N158="základná",J158,0) -> 0 | BF158: =IF(N158="znížená",J158,0) -> 0 | BG158: =IF(N158="zákl. prenesená",J158,0) -> 0 | BH158: =IF(N158="zníž. prenesená",J158,0) -> 0 | BI158: =IF(N158="nulová",J158,0) -> 0 | BJ158: 2 | BK158: =ROUND(I158*H158,2) -> 0 | BL158: 4 | BM158: 28
C159: 15 | D159: K | E159: 622464113 | F159: Omietka vonk. stien tenkovrstv. Terranova Terrasil silikátová roztieraná strednozrná | G159: m2 | H159: 358.326 | J159: =ROUND(I159*H159,2) -> 0 | N159: znížená | P159: =O159*H159 -> 0 | Q159: 0.0034 | R159: =Q159*H159 -> 1.2183084 | S159: 0 | T159: =S159*H159 -> 0 | AR159: 4 | AT159: K | AU159: 2 | AY159: ROZPOCET | BE159: =IF(N159="základná",J159,0) -> 0 | BF159: =IF(N159="znížená",J159,0) -> 0 | BG159: =IF(N159="zákl. prenesená",J159,0) -> 0 | BH159: =IF(N159="zníž. prenesená",J159,0) -> 0 | BI159: =IF(N159="nulová",J159,0) -> 0 | BJ159: 2 | BK159: =ROUND(I159*H159,2) -> 0 | BL159: 4 | BM159: 30
C160: 16 | D160: K | E160: 625254212 | F160: Kontaktný zateplovací systém hr. 120 mm Weber Terranova THERM TERRANOVA ( EPS ) skrutkovacie kotvy | G160: m2 | H160: 313.896 | J160: =ROUND(I160*H160,2) -> 0 | N160: znížená | P160: =O160*H160 -> 0 | Q160: 0.00716 | R160: =Q160*H160 -> 2.2474954 | S160: 0 | T160: =S160*H160 -> 0 | AR160: 4 | AT160: K | AU160: 2 | AY160: ROZPOCET | BE160: =IF(N160="základná",J160,0) -> 0 | BF160: =IF(N160="znížená",J160,0) -> 0 | BG160: =IF(N160="zákl. prenesená",J160,0) -> 0 | BH160: =IF(N160="zníž. prenesená",J160,0) -> 0 | BI160: =IF(N160="nulová",J160,0) -> 0 | BJ160: 2 | BK160: =ROUND(I160*H160,2) -> 0 | BL160: 4 | BM160: 32
C161: 17 | D161: K | E161: 625254502 | F161: Kontaktný zateplovací systém hr. 20 mm Weber Terranova THERM CLIMA ( perforovaný EPS ) zatepl. ostenia okien a dvier | G161: m2 | H161: 44.43 | J161: =ROUND(I161*H161,2) -> 0 | N161: znížená | P161: =O161*H161 -> 0 | Q161: 0.00868 | R161: =Q161*H161 -> 0.3856524 | S161: 0 | T161: =S161*H161 -> 0 | AR161: 4 | AT161: K | AU161: 2 | AY161: ROZPOCET | BE161: =IF(N161="základná",J161,0) -> 0 | BF161: =IF(N161="znížená",J161,0) -> 0 | BG161: =IF(N161="zákl. prenesená",J161,0) -> 0 | BH161: =IF(N161="zníž. prenesená",J161,0) -> 0 | BI161: =IF(N161="nulová",J161,0) -> 0 | BJ161: 2 | BK161: =ROUND(I161*H161,2) -> 0 | BL161: 4 | BM161: 34
C162: 18 | D162: K | E162: 625259502 | F162: PROFI soklový zatepľovací systém z EPS hr. 60 mm skrut. kotvy | G162: m2 | H162: 46.128 | J162: =ROUND(I162*H162,2) -> 0 | N162: znížená | P162: =O162*H162 -> 0 | Q162: 0.01832 | R162: =Q162*H162 -> 0.84506496 | S162: 0 | T162: =S162*H162 -> 0 | AR162: 4 | AT162: K | AU162: 2 | AY162: ROZPOCET | BE162: =IF(N162="základná",J162,0) -> 0 | BF162: =IF(N162="znížená",J162,0) -> 0 | BG162: =IF(N162="zákl. prenesená",J162,0) -> 0 | BH162: =IF(N162="zníž. prenesená",J162,0) -> 0 | BI162: =IF(N162="nulová",J162,0) -> 0 | BJ162: 2 | BK162: =ROUND(I162*H162,2) -> 0 | BL162: 4 | BM162: 36
C163: 19 | D163: K | E163: 625259519 | F163: PROFI soklový zatepľovací systém z EPS ostenia hr. 20 mm | G163: m2 | H163: 7 | J163: =ROUND(I163*H163,2) -> 0 | N163: znížená | P163: =O163*H163 -> 0 | Q163: 0.01736 | R163: =Q163*H163 -> 0.12152 | S163: 0 | T163: =S163*H163 -> 0 | AR163: 4 | AT163: K | AU163: 2 | AY163: ROZPOCET | BE163: =IF(N163="základná",J163,0) -> 0 | BF163: =IF(N163="znížená",J163,0) -> 0 | BG163: =IF(N163="zákl. prenesená",J163,0) -> 0 | BH163: =IF(N163="zníž. prenesená",J163,0) -> 0 | BI163: =IF(N163="nulová",J163,0) -> 0 | BJ163: 2 | BK163: =ROUND(I163*H163,2) -> 0 | BL163: 4 | BM163: 38
C164: 20 | D164: K | E164: 631312511 | F164: Mazanina z betónu prostého tr. C12/15 hr. 5-8 cm | G164: m3 | H164: 4.857 | J164: =ROUND(I164*H164,2) -> 0 | N164: znížená | P164: =O164*H164 -> 0 | Q164: 2.37931 | R164: =Q164*H164 -> 11.556309 | S164: 0 | T164: =S164*H164 -> 0 | AR164: 4 | AT164: K | AU164: 2 | AY164: ROZPOCET | BE164: =IF(N164="základná",J164,0) -> 0 | BF164: =IF(N164="znížená",J164,0) -> 0 | BG164: =IF(N164="zákl. prenesená",J164,0) -> 0 | BH164: =IF(N164="zníž. prenesená",J164,0) -> 0 | BI164: =IF(N164="nulová",J164,0) -> 0 | BJ164: 2 | BK164: =ROUND(I164*H164,2) -> 0 | BL164: 4 | BM164: 40
C165: 21 | D165: K | E165: 631313711 | F165: Mazanina z betónu prostého tr. C25/30 hr. 8-12 cm | G165: m3 | H165: 9.713 | J165: =ROUND(I165*H165,2) -> 0 | N165: znížená | P165: =O165*H165 -> 0 | Q165: 2.45421 | R165: =Q165*H165 -> 23.837742 | S165: 0 | T165: =S165*H165 -> 0 | AR165: 4 | AT165: K | AU165: 2 | AY165: ROZPOCET | BE165: =IF(N165="základná",J165,0) -> 0 | BF165: =IF(N165="znížená",J165,0) -> 0 | BG165: =IF(N165="zákl. prenesená",J165,0) -> 0 | BH165: =IF(N165="zníž. prenesená",J165,0) -> 0 | BI165: =IF(N165="nulová",J165,0) -> 0 | BJ165: 2 | BK165: =ROUND(I165*H165,2) -> 0 | BL165: 4 | BM165: 42
... C177: 33 | D177: M | E177: 6119A0201 | F177: Parapeta vnútorná komôrková plastová šír.180 mm | G177: m | H177: 31.662 | J177: =ROUND(I177*H177,2) -> 0 | N177: znížená | P177: =O177*H177 -> 0 | Q177: 0 | R177: =Q177*H177 -> 0 | S177: 0 | T177: =S177*H177 -> 0 | AR177: 8 | AT177: M | AU177: 2 | AY177: ROZPOCET | BE177: =IF(N177="základná",J177,0) -> 0 | BF177: =IF(N177="znížená",J177,0) -> 0 | BG177: =IF(N177="zákl. prenesená",J177,0) -> 0 | BH177: =IF(N177="zníž. prenesená",J177,0) -> 0 | BI177: =IF(N177="nulová",J177,0) -> 0 | BJ177: 2 | BK177: =ROUND(I177*H177,2) -> 0 | BL177: 4 | BM177: 66
...

Sheet 02 - SO 01 Zdravotechnika 
L2: >> skryté stĺpce << | AT2: {248cff28-a163-47cd-aa67-b7e292d0f437}
AT3: 0
D4: KRYCÍ LIST ROZPOČTU | M4: v --- nižšie sa nachádzajú doplnkové a pomocné údaje k zostavám --- v | AT4: False
D6: Stavba:
E7: ='Rekapitulácia stavby'!K6 -> Rekonštrukcia objektu Biovetská 36, Nitra - 1.etapa
D8: Objekt:
E9: 02 - SO 01 Zdravotechnika
D11: JKSO: | I11: KS:
D12: Miesto: | F12: Biovetská | I12: Dátum: | J12: ='Rekapitulácia stavby'!AN8 -> 14. 12. 2022
D14: Objednávateľ: | I14: IČO:
E15: Mesto Nitra | I15: IČ DPH:
D17: Zhotoviteľ: | I17: IČO: | J17: ='Rekapitulácia stavby'!AN13 -> Vyplň údaj
E18: ='Rekapitulácia stavby'!E14 -> Vyplň údaj | I18: IČ DPH: | J18: ='Rekapitulácia stavby'!AN14 -> Vyplň údaj
D20: Projektant: | I20: IČO:
E21: SOAR - ING. BÁRTA JIŘÍ | I21: IČ DPH:
D23: Spracovateľ: | I23: IČO:
E24: SOAR - ING. BÁRTA JIŘÍ | I24: IČ DPH:
D26: Poznámka:
D30: Cena bez DPH | J30: =ROUND(J120, 2) -> 0
F32: Základ dane | I32: Sadzba dane | J32: Výška dane
D33: DPH | E33: základná | F33: =ROUND((SUM(BE120:BE161)), 2) -> 0 | I33: 0.2 | J33: =ROUND(((SUM(BE120:BE161))*I33), 2) -> 0
E34: znížená | F34: =ROUND((SUM(BF120:BF161)), 2) -> 0 | I34: 0.2 | J34: =ROUND(((SUM(BF120:BF161))*I34), 2) -> 0
E35: zákl. prenesená | F35: =ROUND((SUM(BG120:BG161)), 2) -> 0 | I35: 0.2 | J35: =0 -> 0
E36: zníž. prenesená | F36: =ROUND((SUM(BH120:BH161)), 2) -> 0 | I36: 0.2 | J36: =0 -> 0
E37: nulová | F37: =ROUND((SUM(BI120:BI161)), 2) -> 0 | I37: 0 | J37: =0 -> 0
D39: Cena s DPH | G39: v | H39: EUR | J39: =SUM(J30:J37) -> 0
D50: Projektant | G50: Spracovateľ
D61: Dátum a podpis: | F61: Pečiatka | G61: Dátum a podpis: | J61: Pečiatka
D65: Objednávateľ | G65: Zhotoviteľ
D76: Dátum a podpis: | F76: Pečiatka | G76: Dátum a podpis: | J76: Pečiatka
C82: REKAPITULÁCIA ROZPOČTU
C84: Stavba:
E85: =E7 -> Rekonštrukcia objektu Biovetská 36, Nitra - 1.etapa
C86: Objekt:
E87: =E9 -> 02 - SO 01 Zdravotechnika
C89: Miesto: | F89: =F12 -> Biovetská | I89: Dátum: | J89: =IF(J12="","",J12) -> 14. 12. 2022
C91: Objednávateľ: | F91: =E15 -> Mesto Nitra | I91: Projektant: | J91: =E21 -> SOAR - ING. BÁRTA JIŘÍ
C92: Zhotoviteľ: | F92: =IF(E18="","",E18) -> Vyplň údaj | I92: Spracovateľ: | J92: =E24 -> SOAR - ING. BÁRTA JIŘÍ
C94: Kód dielu - Popis | J94: Cena celkom [EUR]
C96: Náklady z rozpočtu | J96: =J120 -> 0 | AU96: -1
D97: D1 - PRÁCE A DODÁVKY PSV | J97: =J121 -> 0
D98: 721 - Vnútorná kanalizácia | J98: =J122 -> 0
D99: 722 - Vnútorný vodovod | J99: =J137 -> 0
D100: 724 - Strojné vybavenie | J100: =J159 -> 0
C107: ROZPOČET
C109: Stavba:
E110: =E7 -> Rekonštrukcia objektu Biovetská 36, Nitra - 1.etapa
C111: Objekt:
E112: =E9 -> 02 - SO 01 Zdravotechnika
C114: Miesto: | F114: =F12 -> Biovetská | I114: Dátum: | J114: =IF(J12="","",J12) -> 14. 12. 2022
C116: Objednávateľ: | F116: =E15 -> Mesto Nitra | I116: Projektant: | J116: =E21 -> SOAR - ING. BÁRTA JIŘÍ
C117: Zhotoviteľ: | F117: =IF(E18="","",E18) -> Vyplň údaj | I117: Spracovateľ: | J117: =E24 -> SOAR - ING. BÁRTA JIŘÍ
C119: PČ | D119: Typ | E119: Kód | F119: Popis | G119: MJ | H119: Množstvo | I119: J.cena [EUR] | J119: Cena celkom [EUR] | K119: Cenová sústava | N119: DPH | O119: J. Nh [h] | P119: Nh celkom [h] | Q119: J. hmotnosť [t] | R119: Hmotnosť celkom [t] | S119: J. suť [t] | T119: Suť Celkom [t]
C120: Náklady z rozpočtu | J120: =BK120 -> 0 | P120: =P121 -> 0 | R120: =R121 -> 0.48426 | T120: =T121 -> 2.76 | AT120: D | AU120: -1 | BK120: =BK121 -> 0
D121: D | E121: D1 | F121: PRÁCE A DODÁVKY PSV | J121: =BK121 -> 0 | P121: =P122+P137+P159 -> 0 | R121: =R122+R137+R159 -> 0.48426 | T121: =T122+T137+T159 -> 2.76 | AR121: 1 | AT121: D | AU121: 0 | AY121: ROZPOCET | BK121: =BK122+BK137+BK159 -> 0
D122: D | E122: 721 | F122: Vnútorná kanalizácia | J122: =BK122 -> 0 | P122: =SUM(P123:P136) -> 0 | R122: =SUM(R123:R136) -> 0.2922 | T122: =SUM(T123:T136) -> 1.6 | AR122: 2 | AT122: D | AU122: 1 | AY122: ROZPOCET | BK122: =SUM(BK123:BK136) -> 0
C123: 1 | D123: K | E123: 721140806 | F123: Demontáž potrubia z liatinových rúr DN do 200 | G123: m | H123: 40 | J123: =ROUND(I123*H123,2) -> 0 | N123: znížená | P123: =O123*H123 -> 0 | Q123: 0 | R123: =Q123*H123 -> 0 | S123: 0.03 | T123: =S123*H123 -> 1.2 | AR123: 16 | AT123: K | AU123: 2 | AY123: ROZPOCET | BE123: =IF(N123="základná",J123,0) -> 0 | BF123: =IF(N123="znížená",J123,0) -> 0 | BG123: =IF(N123="zákl. prenesená",J123,0) -> 0 | BH123: =IF(N123="zníž. prenesená",J123,0) -> 0 | BI123: =IF(N123="nulová",J123,0) -> 0 | BJ123: 2 | BK123: =ROUND(I123*H123,2) -> 0 | BL123: 16 | BM123: 2
C124: 2 | D124: K | E124: 721171107 | F124: Potrubie kanal. z PVC-U rúr hrdlových odpadné D 75x1,8 | G124: m | H124: 34 | J124: =ROUND(I124*H124,2) -> 0 | N124: znížená | P124: =O124*H124 -> 0 | Q124: 0.00161 | R124: =Q124*H124 -> 0.05474 | S124: 0 | T124: =S124*H124 -> 0 | AR124: 16 | AT124: K | AU124: 2 | AY124: ROZPOCET | BE124: =IF(N124="základná",J124,0) -> 0 | BF124: =IF(N124="znížená",J124,0) -> 0 | BG124: =IF(N124="zákl. prenesená",J124,0) -> 0 | BH124: =IF(N124="zníž. prenesená",J124,0) -> 0 | BI124: =IF(N124="nulová",J124,0) -> 0 | BJ124: 2 | BK124: =ROUND(I124*H124,2) -> 0 | BL124: 16 | BM124: 4
C125: 3 | D125: K | E125: 721171109 | F125: Potrubie kanal. z PVC-U rúr hrdlových odpadné D 110x2,2 | G125: m | H125: 54 | J125: =ROUND(I125*H125,2) -> 0 | N125: znížená | P125: =O125*H125 -> 0 | Q125: 0.00203 | R125: =Q125*H125 -> 0.10962 | S125: 0 | T125: =S125*H125 -> 0 | AR125: 16 | AT125: K | AU125: 2 | AY125: ROZPOCET | BE125: =IF(N125="základná",J125,0) -> 0 | BF125: =IF(N125="znížená",J125,0) -> 0 | BG125: =IF(N125="zákl. prenesená",J125,0) -> 0 | BH125: =IF(N125="zníž. prenesená",J125,0) -> 0 | BI125: =IF(N125="nulová",J125,0) -> 0 | BJ125: 2 | BK125: =ROUND(I125*H125,2) -> 0 | BL125: 16 | BM125: 6
C126: 4 | D126: K | E126: 721171111 | F126: Potrubie kanal. z PVC-U rúr hrdlových odpadné D 140x2,8 | G126: m | H126: 16 | J126: =ROUND(I126*H126,2) -> 0 | N126: znížená | P126: =O126*H126 -> 0 | Q126: 0.00309 | R126: =Q126*H126 -> 0.04944 | S126: 0 | T126: =S126*H126 -> 0 | AR126: 16 | AT126: K | AU126: 2 | AY126: ROZPOCET | BE126: =IF(N126="základná",J126,0) -> 0 | BF126: =IF(N126="znížená",J126,0) -> 0 | BG126: =IF(N126="zákl. prenesená",J126,0) -> 0 | BH126: =IF(N126="zníž. prenesená",J126,0) -> 0 | BI126: =IF(N126="nulová",J126,0) -> 0 | BJ126: 2 | BK126: =ROUND(I126*H126,2) -> 0 | BL126: 16 | BM126: 8
C127: 5 | D127: K | E127: 721171112 | F127: Potrubie kanal. z PVC-U rúr hrdlových odpadné D 160/3,2 | G127: m | H127: 16 | J127: =ROUND(I127*H127,2) -> 0 | N127: znížená | P127: =O127*H127 -> 0 | Q127: 0.00352 | R127: =Q127*H127 -> 0.05632 | S127: 0 | T127: =S127*H127 -> 0 | AR127: 16 | AT127: K | AU127: 2 | AY127: ROZPOCET | BE127: =IF(N127="základná",J127,0) -> 0 | BF127: =IF(N127="znížená",J127,0) -> 0 | BG127: =IF(N127="zákl. prenesená",J127,0) -> 0 | BH127: =IF(N127="zníž. prenesená",J127,0) -> 0 | BI127: =IF(N127="nulová",J127,0) -> 0 | BJ127: 2 | BK127: =ROUND(I127*H127,2) -> 0 | BL127: 16 | BM127: 10
C128: 6 | D128: K | E128: 721171809 | F128: Demontáž potrubia z PVC rúr D do 160 | G128: m | H128: 120 | J128: =ROUND(I128*H128,2) -> 0 | N128: znížená | P128: =O128*H128 -> 0 | Q128: 0 | R128: =Q128*H128 -> 0 | S128: 0.002 | T128: =S128*H128 -> 0.24 | AR128: 16 | AT128: K | AU128: 2 | AY128: ROZPOCET | BE128: =IF(N128="základná",J128,0) -> 0 | BF128: =IF(N128="znížená",J128,0) -> 0 | BG128: =IF(N128="zákl. prenesená",J128,0) -> 0 | BH128: =IF(N128="zníž. prenesená",J128,0) -> 0 | BI128: =IF(N128="nulová",J128,0) -> 0 | BJ128: 2 | BK128: =ROUND(I128*H128,2) -> 0 | BL128: 16 | BM128: 12
C129: 7 | D129: K | E129: 721173204 | F129: Potrubie kanal. z PVC rúr pripojovacie D 40x1.8 | G129: m | H129: 16 | J129: =ROUND(I129*H129,2) -> 0 | N129: znížená | P129: =O129*H129 -> 0 | Q129: 0.00038 | R129: =Q129*H129 -> 0.00608 | S129: 0 | T129: =S129*H129 -> 0 | AR129: 16 | AT129: K | AU129: 2 | AY129: ROZPOCET | BE129: =IF(N129="základná",J129,0) -> 0 | BF129: =IF(N129="znížená",J129,0) -> 0 | BG129: =IF(N129="zákl. prenesená",J129,0) -> 0 | BH129: =IF(N129="zníž. prenesená",J129,0) -> 0 | BI129: =IF(N129="nulová",J129,0) -> 0 | BJ129: 2 | BK129: =ROUND(I129*H129,2) -> 0 | BL129: 16 | BM129: 14
C130: 8 | D130: K | E130: 721173205 | F130: Potrubie kanal. z PVC rúr pripojovacie D 50x1.8 | G130: m | H130: 40 | J130: =ROUND(I130*H130,2) -> 0 | N130: znížená | P130: =O130*H130 -> 0 | Q130: 0.0004 | R130: =Q130*H130 -> 0.016 | S130: 0 | T130: =S130*H130 -> 0 | AR130: 16 | AT130: K | AU130: 2 | AY130: ROZPOCET | BE130: =IF(N130="základná",J130,0) -> 0 | BF130: =IF(N130="znížená",J130,0) -> 0 | BG130: =IF(N130="zákl. prenesená",J130,0) -> 0 | BH130: =IF(N130="zníž. prenesená",J130,0) -> 0 | BI130: =IF(N130="nulová",J130,0) -> 0 | BJ130: 2 | BK130: =ROUND(I130*H130,2) -> 0 | BL130: 16 | BM130: 16
C131: 9 | D131: K | E131: 721194109 | F131: Vyvedenie a upevnenie kanal. výpustiek D 110x2.3 | G131: kus | H131: 34 | J131: =ROUND(I131*H131,2) -> 0 | N131: znížená | P131: =O131*H131 -> 0 | Q131: 0 | R131: =Q131*H131 -> 0 | S131: 0 | T131: =S131*H131 -> 0 | AR131: 16 | AT131: K | AU131: 2 | AY131: ROZPOCET | BE131: =IF(N131="základná",J131,0) -> 0 | BF131: =IF(N131="znížená",J131,0) -> 0 | BG131: =IF(N131="zákl. prenesená",J131,0) -> 0 | BH131: =IF(N131="zníž. prenesená",J131,0) -> 0 | BI131: =IF(N131="nulová",J131,0) -> 0 | BJ131: 2 | BK131: =ROUND(I131*H131,2) -> 0 | BL131: 16 | BM131: 18
C132: 10 | D132: K | E132: 721220802 | F132: Demontáž zápachových uzáverov DN 100 | G132: kus | H132: 40 | J132: =ROUND(I132*H132,2) -> 0 | N132: znížená | P132: =O132*H132 -> 0 | Q132: 0 | R132: =Q132*H132 -> 0 | S132: 0.004 | T132: =S132*H132 -> 0.16 | AR132: 16 | AT132: K | AU132: 2 | AY132: ROZPOCET | BE132: =IF(N132="základná",J132,0) -> 0 | BF132: =IF(N132="znížená",J132,0) -> 0 | BG132: =IF(N132="zákl. prenesená",J132,0) -> 0 | BH132: =IF(N132="zníž. prenesená",J132,0) -> 0 | BI132: =IF(N132="nulová",J132,0) -> 0 | BJ132: 2 | BK132: =ROUND(I132*H132,2) -> 0 | BL132: 16 | BM132: 20
C133: 11 | D133: K | E133: 721290112 | F133: Skúška tesnosti kanalizácie vodou DN 125-200 | G133: m | H133: 176 | J133: =ROUND(I133*H133,2) -> 0 | N133: znížená | P133: =O133*H133 -> 0 | Q133: 0 | R133: =Q133*H133 -> 0 | S133: 0 | T133: =S133*H133 -> 0 | AR133: 16 | AT133: K | AU133: 2 | AY133: ROZPOCET | BE133: =IF(N133="základná",J133,0) -> 0 | BF133: =IF(N133="znížená",J133,0) -> 0 | BG133: =IF(N133="zákl. prenesená",J133,0) -> 0 | BH133: =IF(N133="zníž. prenesená",J133,0) -> 0 | BI133: =IF(N133="nulová",J133,0) -> 0 | BJ133: 2 | BK133: =ROUND(I133*H133,2) -> 0 | BL133: 16 | BM133: 22
C134: 12 | D134: K | E134: 721290821 | F134: Vnútrost. prem. vybúr. kanaliz. vodor. do 100m v obj. do 6m | G134: t | H134: 1.6 | J134: =ROUND(I134*H134,2) -> 0 | N134: znížená | P134: =O134*H134 -> 0 | Q134: 0 | R134: =Q134*H134 -> 0 | S134: 0 | T134: =S134*H134 -> 0 | AR134: 16 | AT134: K | AU134: 2 | AY134: ROZPOCET | BE134: =IF(N134="základná",J134,0) -> 0 | BF134: =IF(N134="znížená",J134,0) -> 0 | BG134: =IF(N134="zákl. prenesená",J134,0) -> 0 | BH134: =IF(N134="zníž. prenesená",J134,0) -> 0 | BI134: =IF(N134="nulová",J134,0) -> 0 | BJ134: 2 | BK134: =ROUND(I134*H134,2) -> 0 | BL134: 16 | BM134: 24
... C136: 14 | D136: K | E136: 998721101 | F136: Presun hmôt pre vnút. kanalizáciu v objektoch výšky do 6 m | G136: t | H136: 0.292 | J136: =ROUND(I136*H136,2) -> 0 | N136: znížená | P136: =O136*H136 -> 0 | Q136: 0 | R136: =Q136*H136 -> 0 | S136: 0 | T136: =S136*H136 -> 0 | AR136: 16 | AT136: K | AU136: 2 | AY136: ROZPOCET | BE136: =IF(N136="základná",J136,0) -> 0 | BF136: =IF(N136="znížená",J136,0) -> 0 | BG136: =IF(N136="zákl. prenesená",J136,0) -> 0 | BH136: =IF(N136="zníž. prenesená",J136,0) -> 0 | BI136: =IF(N136="nulová",J136,0) -> 0 | BJ136: 2 | BK136: =ROUND(I136*H136,2) -> 0 | BL136: 16 | BM136: 28
D137: D | E137: 722 | F137: Vnútorný vodovod | J137: =BK137 -> 0 | P137: =SUM(P138:P158) -> 0 | R137: =SUM(R138:R158) -> 0.19206 | T137: =SUM(T138:T158) -> 1.16 | AR137: 2 | AT137: D | AU137: 1 | AY137: ROZPOCET | BK137: =SUM(BK138:BK158) -> 0
C138: 15 | D138: K | E138: 722130802 | F138: Demontáž potrubia z oceľ. rúrok závitových DN do 40 | G138: m | H138: 200 | J138: =ROUND(I138*H138,2) -> 0 | N138: znížená | P138: =O138*H138 -> 0 | Q138: 0 | R138: =Q138*H138 -> 0 | S138: 0.004 | T138: =S138*H138 -> 0.8 | AR138: 16 | AT138: K | AU138: 2 | AY138: ROZPOCET | BE138: =IF(N138="základná",J138,0) -> 0 | BF138: =IF(N138="znížená",J138,0) -> 0 | BG138: =IF(N138="zákl. prenesená",J138,0) -> 0 | BH138: =IF(N138="zníž. prenesená",J138,0) -> 0 | BI138: =IF(N138="nulová",J138,0) -> 0 | BJ138: 2 | BK138: =ROUND(I138*H138,2) -> 0 | BL138: 16 | BM138: 30
C139: 16 | D139: K | E139: 722171211 | F139: Potrubie vodov. z rúrok PE rad stred. ťažk. rPE D 20/2,0 | G139: m | H139: 166 | J139: =ROUND(I139*H139,2) -> 0 | N139: znížená | P139: =O139*H139 -> 0 | Q139: 0.00014 | R139: =Q139*H139 -> 0.02324 | S139: 0 | T139: =S139*H139 -> 0 | AR139: 16 | AT139: K | AU139: 2 | AY139: ROZPOCET | BE139: =IF(N139="základná",J139,0) -> 0 | BF139: =IF(N139="znížená",J139,0) -> 0 | BG139: =IF(N139="zákl. prenesená",J139,0) -> 0 | BH139: =IF(N139="zníž. prenesená",J139,0) -> 0 | BI139: =IF(N139="nulová",J139,0) -> 0 | BJ139: 2 | BK139: =ROUND(I139*H139,2) -> 0 | BL139: 16 | BM139: 32
C140: 17 | D140: K | E140: 722171212 | F140: Potrubie vodov. z rúrok PE rad stred. ťažk. rPE D 25/2,7 | G140: m | H140: 62 | J140: =ROUND(I140*H140,2) -> 0 | N140: znížená | P140: =O140*H140 -> 0 | Q140: 0.00023 | R140: =Q140*H140 -> 0.01426 | S140: 0 | T140: =S140*H140 -> 0 | AR140: 16 | AT140: K | AU140: 2 | AY140: ROZPOCET | BE140: =IF(N140="základná",J140,0) -> 0 | BF140: =IF(N140="znížená",J140,0) -> 0 | BG140: =IF(N140="zákl. prenesená",J140,0) -> 0 | BH140: =IF(N140="zníž. prenesená",J140,0) -> 0 | BI140: =IF(N140="nulová",J140,0) -> 0 | BJ140: 2 | BK140: =ROUND(I140*H140,2) -> 0 | BL140: 16 | BM140: 34
C141: 18 | D141: K | E141: 722182113 | F141: Ochrana potrubia izoláciou Mirelon DN 25 | G141: m | H141: 228 | J141: =ROUND(I141*H141,2) -> 0 | N141: znížená | P141: =O141*H141 -> 0 | Q141: 6e-05 | R141: =Q141*H141 -> 0.01368 | S141: 0 | T141: =S141*H141 -> 0 | AR141: 16 | AT141: K | AU141: 2 | AY141: ROZPOCET | BE141: =IF(N141="základná",J141,0) -> 0 | BF141: =IF(N141="znížená",J141,0) -> 0 | BG141: =IF(N141="zákl. prenesená",J141,0) -> 0 | BH141: =IF(N141="zníž. prenesená",J141,0) -> 0 | BI141: =IF(N141="nulová",J141,0) -> 0 | BJ141: 2 | BK141: =ROUND(I141*H141,2) -> 0 | BL141: 16 | BM141: 36
C142: 19 | D142: K | E142: 722190221 | F142: Prípojky vod. ocel. rúrky záv. poz. 11353 pevné pripoj. DN 15 | G142: súbor | H142: 6 | J142: =ROUND(I142*H142,2) -> 0 | N142: znížená | P142: =O142*H142 -> 0 | Q142: 0.00435 | R142: =Q142*H142 -> 0.0261 | S142: 0 | T142: =S142*H142 -> 0 | AR142: 16 | AT142: K | AU142: 2 | AY142: ROZPOCET | BE142: =IF(N142="základná",J142,0) -> 0 | BF142: =IF(N142="znížená",J142,0) -> 0 | BG142: =IF(N142="zákl. prenesená",J142,0) -> 0 | BH142: =IF(N142="zníž. prenesená",J142,0) -> 0 | BI142: =IF(N142="nulová",J142,0) -> 0 | BJ142: 2 | BK142: =ROUND(I142*H142,2) -> 0 | BL142: 16 | BM142: 38
C143: 20 | D143: K | E143: 722190222 | F143: Prípojky vod. ocel. rúrky záv. poz. 11353 pevné pripoj. DN 20 | G143: súbor | H143: 6 | J143: =ROUND(I143*H143,2) -> 0 | N143: znížená | P143: =O143*H143 -> 0 | Q143: 0.00518 | R143: =Q143*H143 -> 0.03108 | S143: 0 | T143: =S143*H143 -> 0 | AR143: 16 | AT143: K | AU143: 2 | AY143: ROZPOCET | BE143: =IF(N143="základná",J143,0) -> 0 | BF143: =IF(N143="znížená",J143,0) -> 0 | BG143: =IF(N143="zákl. prenesená",J143,0) -> 0 | BH143: =IF(N143="zníž. prenesená",J143,0) -> 0 | BI143: =IF(N143="nulová",J143,0) -> 0 | BJ143: 2 | BK143: =ROUND(I143*H143,2) -> 0 | BL143: 16 | BM143: 40
C144: 21 | D144: K | E144: 722190223 | F144: Prípojky vod. ocel. rúrky záv. poz. 11353 pevné pripoj. DN 25 | G144: súbor | H144: 4 | J144: =ROUND(I144*H144,2) -> 0 | N144: znížená | P144: =O144*H144 -> 0 | Q144: 0.0074 | R144: =Q144*H144 -> 0.0296 | S144: 0 | T144: =S144*H144 -> 0 | AR144: 16 | AT144: K | AU144: 2 | AY144: ROZPOCET | BE144: =IF(N144="základná",J144,0) -> 0 | BF144: =IF(N144="znížená",J144,0) -> 0 | BG144: =IF(N144="zákl. prenesená",J144,0) -> 0 | BH144: =IF(N144="zníž. prenesená",J144,0) -> 0 | BI144: =IF(N144="nulová",J144,0) -> 0 | BJ144: 2 | BK144: =ROUND(I144*H144,2) -> 0 | BL144: 16 | BM144: 42
C145: 22 | D145: K | E145: 722190401 | F145: Prípojky vod. ocel. rúrky záv. poz. 11353 upev. výpust. DN 15 | G145: kus | H145: 40 | J145: =ROUND(I145*H145,2) -> 0 | N145: znížená | P145: =O145*H145 -> 0 | Q145: 0 | R145: =Q145*H145 -> 0 | S145: 0 | T145: =S145*H145 -> 0 | AR145: 16 | AT145: K | AU145: 2 | AY145: ROZPOCET | BE145: =IF(N145="základná",J145,0) -> 0 | BF145: =IF(N145="znížená",J145,0) -> 0 | BG145: =IF(N145="zákl. prenesená",J145,0) -> 0 | BH145: =IF(N145="zníž. prenesená",J145,0) -> 0 | BI145: =IF(N145="nulová",J145,0) -> 0 | BJ145: 2 | BK145: =ROUND(I145*H145,2) -> 0 | BL145: 16 | BM145: 44
C146: 23 | D146: K | E146: 722220874 | F146: Demontáž armatúr vodov. so závitom a šróbením G 5/4 | G146: kus | H146: 60 | J146: =ROUND(I146*H146,2) -> 0 | N146: znížená | P146: =O146*H146 -> 0 | Q146: 0 | R146: =Q146*H146 -> 0 | S146: 0.006 | T146: =S146*H146 -> 0.36 | AR146: 16 | AT146: K | AU146: 2 | AY146: ROZPOCET | BE146: =IF(N146="základná",J146,0) -> 0 | BF146: =IF(N146="znížená",J146,0) -> 0 | BG146: =IF(N146="zákl. prenesená",J146,0) -> 0 | BH146: =IF(N146="zníž. prenesená",J146,0) -> 0 | BI146: =IF(N146="nulová",J146,0) -> 0 | BJ146: 2 | BK146: =ROUND(I146*H146,2) -> 0 | BL146: 16 | BM146: 46
C147: 24 | D147: K | E147: 722224111 | F147: Armat. vodov. s 1 závitom, kohút plniaci a vypúšťací G 1/2 | G147: kus | H147: 6 | J147: =ROUND(I147*H147,2) -> 0 | N147: znížená | P147: =O147*H147 -> 0 | Q147: 0.00041 | R147: =Q147*H147 -> 0.00246 | S147: 0 | T147: =S147*H147 -> 0 | AR147: 16 | AT147: K | AU147: 2 | AY147: ROZPOCET | BE147: =IF(N147="základná",J147,0) -> 0 | BF147: =IF(N147="znížená",J147,0) -> 0 | BG147: =IF(N147="zákl. prenesená",J147,0) -> 0 | BH147: =IF(N147="zníž. prenesená",J147,0) -> 0 | BI147: =IF(N147="nulová",J147,0) -> 0 | BJ147: 2 | BK147: =ROUND(I147*H147,2) -> 0 | BL147: 16 | BM147: 48
C148: 25 | D148: K | E148: 722232044 | F148: Kohút guľový priamy G 3/4 PN 42 do 185°C vnútorný závit | G148: kus | H148: 12 | J148: =ROUND(I148*H148,2) -> 0 | N148: znížená | P148: =O148*H148 -> 0 | Q148: 0.00034 | R148: =Q148*H148 -> 0.00408 | S148: 0 | T148: =S148*H148 -> 0 | AR148: 16 | AT148: K | AU148: 2 | AY148: ROZPOCET | BE148: =IF(N148="základná",J148,0) -> 0 | BF148: =IF(N148="znížená",J148,0) -> 0 | BG148: =IF(N148="zákl. prenesená",J148,0) -> 0 | BH148: =IF(N148="zníž. prenesená",J148,0) -> 0 | BI148: =IF(N148="nulová",J148,0) -> 0 | BJ148: 2 | BK148: =ROUND(I148*H148,2) -> 0 | BL148: 16 | BM148: 50
C149: 26 | D149: K | E149: 722232045 | F149: Kohút guľový priamy G 1 PN 42 do 185°C vnútorný závit | G149: kus | H149: 10 | J149: =ROUND(I149*H149,2) -> 0 | N149: znížená | P149: =O149*H149 -> 0 | Q149: 0.0005 | R149: =Q149*H149 -> 0.005 | S149: 0 | T149: =S149*H149 -> 0 | AR149: 16 | AT149: K | AU149: 2 | AY149: ROZPOCET | BE149: =IF(N149="základná",J149,0) -> 0 | BF149: =IF(N149="znížená",J149,0) -> 0 | BG149: =IF(N149="zákl. prenesená",J149,0) -> 0 | BH149: =IF(N149="zníž. prenesená",J149,0) -> 0 | BI149: =IF(N149="nulová",J149,0) -> 0 | BJ149: 2 | BK149: =ROUND(I149*H149,2) -> 0 | BL149: 16 | BM149: 52
... C158: 35 | D158: K | E158: 998722101 | F158: Presun hmôt pre vnút. vodovod v objektoch výšky do 6 m | G158: t | H158: 0.192 | J158: =ROUND(I158*H158,2) -> 0 | N158: znížená | P158: =O158*H158 -> 0 | Q158: 0 | R158: =Q158*H158 -> 0 | S158: 0 | T158: =S158*H158 -> 0 | AR158: 16 | AT158: K | AU158: 2 | AY158: ROZPOCET | BE158: =IF(N158="základná",J158,0) -> 0 | BF158: =IF(N158="znížená",J158,0) -> 0 | BG158: =IF(N158="zákl. prenesená",J158,0) -> 0 | BH158: =IF(N158="zníž. prenesená",J158,0) -> 0 | BI158: =IF(N158="nulová",J158,0) -> 0 | BJ158: 2 | BK158: =ROUND(I158*H158,2) -> 0 | BL158: 16 | BM158: 70
D159: D | E159: 724 | F159: Strojné vybavenie | J159: =BK159 -> 0 | P159: =SUM(P160:P161) -> 0 | R159: =SUM(R160:R161) -> 0 | T159: =SUM(T160:T161) -> 0 | AR159: 2 | AT159: D | AU159: 1 | AY159: ROZPOCET | BK159: =SUM(BK160:BK161) -> 0
C160: 36 | D160: K | E160: 724149101 | F160: Montáž čerpadiel vodov. ponor. do 40l bez potrubia a prísluš | G160: kus | H160: 2 | J160: =ROUND(I160*H160,2) -> 0 | N160: znížená | P160: =O160*H160 -> 0 | Q160: 0 | R160: =Q160*H160 -> 0 | S160: 0 | T160: =S160*H160 -> 0 | AR160: 16 | AT160: K | AU160: 2 | AY160: ROZPOCET | BE160: =IF(N160="základná",J160,0) -> 0 | BF160: =IF(N160="znížená",J160,0) -> 0 | BG160: =IF(N160="zákl. prenesená",J160,0) -> 0 | BH160: =IF(N160="zníž. prenesená",J160,0) -> 0 | BI160: =IF(N160="nulová",J160,0) -> 0 | BJ160: 2 | BK160: =ROUND(I160*H160,2) -> 0 | BL160: 16 | BM160: 72
C161: 37 | D161: M | E161: 4261F0323 | F161: Cirkulačné čerpadlo WILLO na TUV dn 20 | G161: kus | H161: 2 | J161: =ROUND(I161*H161,2) -> 0 | N161: znížená | P161: =O161*H161 -> 0 | Q161: 0 | R161: =Q161*H161 -> 0 | S161: 0 | T161: =S161*H161 -> 0 | AR161: 32 | AT161: M | AU161: 2 | AY161: ROZPOCET | BE161: =IF(N161="základná",J161,0) -> 0 | BF161: =IF(N161="znížená",J161,0) -> 0 | BG161: =IF(N161="zákl. prenesená",J161,0) -> 0 | BH161: =IF(N161="zníž. prenesená",J161,0) -> 0 | BI161: =IF(N161="nulová",J161,0) -> 0 | BJ161: 2 | BK161: =ROUND(I161*H161,2) -> 0 | BL161: 16 | BM161: 74

Sheet 03 - SO 01 Eletroinštalácia 
L2: >> skryté stĺpce << | AT2: {7b7631d1-8ce7-410e-9151-63a7dfbc3252}
AT3: 0
D4: KRYCÍ LIST ROZPOČTU | M4: v --- nižšie sa nachádzajú doplnkové a pomocné údaje k zostavám --- v | AT4: False
D6: Stavba:
E7: ='Rekapitulácia stavby'!K6 -> Rekonštrukcia objektu Biovetská 36, Nitra - 1.etapa
D8: Objekt:
E9: 03 - SO 01 Eletroinštalácia
D11: JKSO: | I11: KS:
D12: Miesto: | F12: Biovetská | I12: Dátum: | J12: ='Rekapitulácia stavby'!AN8 -> 14. 12. 2022
D14: Objednávateľ: | I14: IČO:
E15: Mesto Nitra | I15: IČ DPH:
D17: Zhotoviteľ: | I17: IČO: | J17: ='Rekapitulácia stavby'!AN13 -> Vyplň údaj
E18: ='Rekapitulácia stavby'!E14 -> Vyplň údaj | I18: IČ DPH: | J18: ='Rekapitulácia stavby'!AN14 -> Vyplň údaj
D20: Projektant: | I20: IČO:
E21: SOAR - ING. BÁRTA JIŘÍ | I21: IČ DPH:
D23: Spracovateľ: | I23: IČO:
E24: SOAR - ING. BÁRTA JIŘÍ | I24: IČ DPH:
D26: Poznámka:
D30: Cena bez DPH | J30: =ROUND(J121, 2) -> 0
F32: Základ dane | I32: Sadzba dane | J32: Výška dane
D33: DPH | E33: základná | F33: =ROUND((SUM(BE121:BE238)), 2) -> 0 | I33: 0.2 | J33: =ROUND(((SUM(BE121:BE238))*I33), 2) -> 0
E34: znížená | F34: =ROUND((SUM(BF121:BF238)), 2) -> 0 | I34: 0.2 | J34: =ROUND(((SUM(BF121:BF238))*I34), 2) -> 0
E35: zákl. prenesená | F35: =ROUND((SUM(BG121:BG238)), 2) -> 0 | I35: 0.2 | J35: =0 -> 0
E36: zníž. prenesená | F36: =ROUND((SUM(BH121:BH238)), 2) -> 0 | I36: 0.2 | J36: =0 -> 0
E37: nulová | F37: =ROUND((SUM(BI121:BI238)), 2) -> 0 | I37: 0 | J37: =0 -> 0
D39: Cena s DPH | G39: v | H39: EUR | J39: =SUM(J30:J37) -> 0
D50: Projektant | G50: Spracovateľ
D61: Dátum a podpis: | F61: Pečiatka | G61: Dátum a podpis: | J61: Pečiatka
D65: Objednávateľ | G65: Zhotoviteľ
D76: Dátum a podpis: | F76: Pečiatka | G76: Dátum a podpis: | J76: Pečiatka
C82: REKAPITULÁCIA ROZPOČTU
C84: Stavba:
E85: =E7 -> Rekonštrukcia objektu Biovetská 36, Nitra - 1.etapa
C86: Objekt:
E87: =E9 -> 03 - SO 01 Eletroinštalácia
C89: Miesto: | F89: =F12 -> Biovetská | I89: Dátum: | J89: =IF(J12="","",J12) -> 14. 12. 2022
C91: Objednávateľ: | F91: =E15 -> Mesto Nitra | I91: Projektant: | J91: =E21 -> SOAR - ING. BÁRTA JIŘÍ
C92: Zhotoviteľ: | F92: =IF(E18="","",E18) -> Vyplň údaj | I92: Spracovateľ: | J92: =E24 -> SOAR - ING. BÁRTA JIŘÍ
C94: Kód dielu - Popis | J94: Cena celkom [EUR]
C96: Náklady z rozpočtu | J96: =J121 -> 0 | AU96: -1
D97: M - Práce a dodávky M | J97: =J122 -> 0
D98: 21-M - Elektromontáže | J98: =J123 -> 0
D99: 22-M - Montáže oznamovacích a zabezpečovacích zariadení | J99: =J192 -> 0
D100: HZS - Hodinové zúčtovacie sadzby | J100: =J197 -> 0
D101: OST - Doplnenie | J101: =J200 -> 0
C108: ROZPOČET
C110: Stavba:
E111: =E7 -> Rekonštrukcia objektu Biovetská 36, Nitra - 1.etapa
C112: Objekt:
E113: =E9 -> 03 - SO 01 Eletroinštalácia
C115: Miesto: | F115: =F12 -> Biovetská | I115: Dátum: | J115: =IF(J12="","",J12) -> 14. 12. 2022
C117: Objednávateľ: | F117: =E15 -> Mesto Nitra | I117: Projektant: | J117: =E21 -> SOAR - ING. BÁRTA JIŘÍ
C118: Zhotoviteľ: | F118: =IF(E18="","",E18) -> Vyplň údaj | I118: Spracovateľ: | J118: =E24 -> SOAR - ING. BÁRTA JIŘÍ
C120: PČ | D120: Typ | E120: Kód | F120: Popis | G120: MJ | H120: Množstvo | I120: J.cena [EUR] | J120: Cena celkom [EUR] | K120: Cenová sústava | N120: DPH | O120: J. Nh [h] | P120: Nh celkom [h] | Q120: J. hmotnosť [t] | R120: Hmotnosť celkom [t] | S120: J. suť [t] | T120: Suť Celkom [t]
C121: Náklady z rozpočtu | J121: =BK121 -> 0 | P121: =P122+P197+P200 -> 0 | R121: =R122+R197+R200 -> 0.61954 | T121: =T122+T197+T200 -> 0 | AT121: D | AU121: -1 | BK121: =BK122+BK197+BK200 -> 0
D122: D | E122: M | F122: Práce a dodávky M | J122: =BK122 -> 0 | P122: =P123+P192 -> 0 | R122: =R123+R192 -> 0.50888 | T122: =T123+T192 -> 0 | AR122: 3 | AT122: D | AU122: 0 | AY122: ROZPOCET | BK122: =BK123+BK192 -> 0
D123: D | E123: 21-M | F123: Elektromontáže | J123: =BK123 -> 0 | P123: =SUM(P124:P191) -> 0 | R123: =SUM(R124:R191) -> 0.503 | T123: =SUM(T124:T191) -> 0 | AR123: 3 | AT123: D | AU123: 1 | AY123: ROZPOCET | BK123: =SUM(BK124:BK191) -> 0
C124: 1 | D124: K | E124: 210010301.S | F124: Krabica prístrojová bez zapojenia (1901, KP 68, KZ 3) | G124: ks | H124: 261 | J124: =ROUND(I124*H124,2) -> 0 | N124: znížená | P124: =O124*H124 -> 0 | Q124: 0 | R124: =Q124*H124 -> 0 | S124: 0 | T124: =S124*H124 -> 0 | AR124: 64 | AT124: K | AU124: 2 | AY124: ROZPOCET | BE124: =IF(N124="základná",J124,0) -> 0 | BF124: =IF(N124="znížená",J124,0) -> 0 | BG124: =IF(N124="zákl. prenesená",J124,0) -> 0 | BH124: =IF(N124="zníž. prenesená",J124,0) -> 0 | BI124: =IF(N124="nulová",J124,0) -> 0 | BJ124: 2 | BK124: =ROUND(I124*H124,2) -> 0 | BL124: 64 | BM124: 2
C125: 2 | D125: M | E125: 345410002300.S | F125: Krabica prístrojová rozvodná z PVC pod omietku KPR 68 | G125: ks | H125: 48 | J125: =ROUND(I125*H125,2) -> 0 | N125: znížená | P125: =O125*H125 -> 0 | Q125: 5e-05 | R125: =Q125*H125 -> 0.0024 | S125: 0 | T125: =S125*H125 -> 0 | AR125: 256 | AT125: M | AU125: 2 | AY125: ROZPOCET | BE125: =IF(N125="základná",J125,0) -> 0 | BF125: =IF(N125="znížená",J125,0) -> 0 | BG125: =IF(N125="zákl. prenesená",J125,0) -> 0 | BH125: =IF(N125="zníž. prenesená",J125,0) -> 0 | BI125: =IF(N125="nulová",J125,0) -> 0 | BJ125: 2 | BK125: =ROUND(I125*H125,2) -> 0 | BL125: 64 | BM125: 4
C126: 3 | D126: M | E126: 345410002400.S | F126: Krabica inštalačná KU 68-1901 KA pod omietku | G126: ks | H126: 213 | J126: =ROUND(I126*H126,2) -> 0 | N126: znížená | P126: =O126*H126 -> 0 | Q126: 3e-05 | R126: =Q126*H126 -> 0.00639 | S126: 0 | T126: =S126*H126 -> 0 | AR126: 256 | AT126: M | AU126: 2 | AY126: ROZPOCET | BE126: =IF(N126="základná",J126,0) -> 0 | BF126: =IF(N126="znížená",J126,0) -> 0 | BG126: =IF(N126="zákl. prenesená",J126,0) -> 0 | BH126: =IF(N126="zníž. prenesená",J126,0) -> 0 | BI126: =IF(N126="nulová",J126,0) -> 0 | BJ126: 2 | BK126: =ROUND(I126*H126,2) -> 0 | BL126: 64 | BM126: 6
C127: 4 | D127: K | E127: 210100001.S | F127: Ukončenie vodičov v rozvádzač. vrátane zapojenia a vodičovej koncovky do 2,5 mm2 | G127: ks | H127: 103 | J127: =ROUND(I127*H127,2) -> 0 | N127: znížená | P127: =O127*H127 -> 0 | Q127: 0 | R127: =Q127*H127 -> 0 | S127: 0 | T127: =S127*H127 -> 0 | AR127: 64 | AT127: K | AU127: 2 | AY127: ROZPOCET | BE127: =IF(N127="základná",J127,0) -> 0 | BF127: =IF(N127="znížená",J127,0) -> 0 | BG127: =IF(N127="zákl. prenesená",J127,0) -> 0 | BH127: =IF(N127="zníž. prenesená",J127,0) -> 0 | BI127: =IF(N127="nulová",J127,0) -> 0 | BJ127: 2 | BK127: =ROUND(I127*H127,2) -> 0 | BL127: 64 | BM127: 8
C128: 5 | D128: K | E128: 210100002.S | F128: Ukončenie vodičov v rozvádzač. vrátane zapojenia a vodičovej koncovky do 6 mm2 | G128: ks | H128: 25 | J128: =ROUND(I128*H128,2) -> 0 | N128: znížená | P128: =O128*H128 -> 0 | Q128: 0 | R128: =Q128*H128 -> 0 | S128: 0 | T128: =S128*H128 -> 0 | AR128: 64 | AT128: K | AU128: 2 | AY128: ROZPOCET | BE128: =IF(N128="základná",J128,0) -> 0 | BF128: =IF(N128="znížená",J128,0) -> 0 | BG128: =IF(N128="zákl. prenesená",J128,0) -> 0 | BH128: =IF(N128="zníž. prenesená",J128,0) -> 0 | BI128: =IF(N128="nulová",J128,0) -> 0 | BJ128: 2 | BK128: =ROUND(I128*H128,2) -> 0 | BL128: 64 | BM128: 10
C129: 6 | D129: K | E129: 210100259.S | F129: Ukončenie celoplastových káblov zmrašť. záklopkou alebo páskou do 5 x 10 mm2 | G129: ks | H129: 2 | J129: =ROUND(I129*H129,2) -> 0 | N129: znížená | P129: =O129*H129 -> 0 | Q129: 0 | R129: =Q129*H129 -> 0 | S129: 0 | T129: =S129*H129 -> 0 | AR129: 64 | AT129: K | AU129: 2 | AY129: ROZPOCET | BE129: =IF(N129="základná",J129,0) -> 0 | BF129: =IF(N129="znížená",J129,0) -> 0 | BG129: =IF(N129="zákl. prenesená",J129,0) -> 0 | BH129: =IF(N129="zníž. prenesená",J129,0) -> 0 | BI129: =IF(N129="nulová",J129,0) -> 0 | BJ129: 2 | BK129: =ROUND(I129*H129,2) -> 0 | BL129: 64 | BM129: 12
C130: 7 | D130: K | E130: 210110041.S | F130: Spínač polozapustený a zapustený vrátane zapojenia jednopólový - radenie 1 | G130: ks | H130: 28 | J130: =ROUND(I130*H130,2) -> 0 | N130: znížená | P130: =O130*H130 -> 0 | Q130: 0 | R130: =Q130*H130 -> 0 | S130: 0 | T130: =S130*H130 -> 0 | AR130: 64 | AT130: K | AU130: 2 | AY130: ROZPOCET | BE130: =IF(N130="základná",J130,0) -> 0 | BF130: =IF(N130="znížená",J130,0) -> 0 | BG130: =IF(N130="zákl. prenesená",J130,0) -> 0 | BH130: =IF(N130="zníž. prenesená",J130,0) -> 0 | BI130: =IF(N130="nulová",J130,0) -> 0 | BJ130: 2 | BK130: =ROUND(I130*H130,2) -> 0 | BL130: 64 | BM130: 14
C131: 8 | D131: M | E131: 345330003510 | F131: Prepínač Valena Life striedavý polozapustený a zapustený, radenie č.6, biely, LEGRAND | G131: ks | H131: 28 | J131: =ROUND(I131*H131,2) -> 0 | N131: znížená | P131: =O131*H131 -> 0 | Q131: 7e-05 | R131: =Q131*H131 -> 0.00196 | S131: 0 | T131: =S131*H131 -> 0 | AR131: 256 | AT131: M | AU131: 2 | AY131: ROZPOCET | BE131: =IF(N131="základná",J131,0) -> 0 | BF131: =IF(N131="znížená",J131,0) -> 0 | BG131: =IF(N131="zákl. prenesená",J131,0) -> 0 | BH131: =IF(N131="zníž. prenesená",J131,0) -> 0 | BI131: =IF(N131="nulová",J131,0) -> 0 | BJ131: 2 | BK131: =ROUND(I131*H131,2) -> 0 | BL131: 64 | BM131: 16
C132: 9 | D132: M | E132: 345350004320 | F132: Rámik Valena Life jednoduchý biely, LEGRAND | G132: ks | H132: 28 | J132: =ROUND(I132*H132,2) -> 0 | N132: znížená | P132: =O132*H132 -> 0 | Q132: 3e-05 | R132: =Q132*H132 -> 0.00084 | S132: 0 | T132: =S132*H132 -> 0 | AR132: 256 | AT132: M | AU132: 2 | AY132: ROZPOCET | BE132: =IF(N132="základná",J132,0) -> 0 | BF132: =IF(N132="znížená",J132,0) -> 0 | BG132: =IF(N132="zákl. prenesená",J132,0) -> 0 | BH132: =IF(N132="zníž. prenesená",J132,0) -> 0 | BI132: =IF(N132="nulová",J132,0) -> 0 | BJ132: 2 | BK132: =ROUND(I132*H132,2) -> 0 | BL132: 64 | BM132: 18
C133: 10 | D133: K | E133: 210110044.S | F133: Spínač polozapustený a zapustený vrátane zapojenia dvojitý prep.stried. - radenie 5 B | G133: ks | H133: 4 | J133: =ROUND(I133*H133,2) -> 0 | N133: znížená | P133: =O133*H133 -> 0 | Q133: 0 | R133: =Q133*H133 -> 0 | S133: 0 | T133: =S133*H133 -> 0 | AR133: 64 | AT133: K | AU133: 2 | AY133: ROZPOCET | BE133: =IF(N133="základná",J133,0) -> 0 | BF133: =IF(N133="znížená",J133,0) -> 0 | BG133: =IF(N133="zákl. prenesená",J133,0) -> 0 | BH133: =IF(N133="zníž. prenesená",J133,0) -> 0 | BI133: =IF(N133="nulová",J133,0) -> 0 | BJ133: 2 | BK133: =ROUND(I133*H133,2) -> 0 | BL133: 64 | BM133: 20
C134: 11 | D134: M | E134: 345330003490 | F134: Prepínač Valena Life dvojitý striedavý polozapustený a zapustený, radenie 6+6, biely, LEGRAND | G134: ks | H134: 4 | J134: =ROUND(I134*H134,2) -> 0 | N134: znížená | P134: =O134*H134 -> 0 | Q134: 7e-05 | R134: =Q134*H134 -> 0.00028 | S134: 0 | T134: =S134*H134 -> 0 | AR134: 256 | AT134: M | AU134: 2 | AY134: ROZPOCET | BE134: =IF(N134="základná",J134,0) -> 0 | BF134: =IF(N134="znížená",J134,0) -> 0 | BG134: =IF(N134="zákl. prenesená",J134,0) -> 0 | BH134: =IF(N134="zníž. prenesená",J134,0) -> 0 | BI134: =IF(N134="nulová",J134,0) -> 0 | BJ134: 2 | BK134: =ROUND(I134*H134,2) -> 0 | BL134: 64 | BM134: 22
C135: 12 | D135: M | E135: 345350004320 | F135: Rámik Valena Life jednoduchý biely, LEGRAND | G135: ks | H135: 4 | J135: =ROUND(I135*H135,2) -> 0 | N135: znížená | P135: =O135*H135 -> 0 | Q135: 3e-05 | R135: =Q135*H135 -> 0.00012 | S135: 0 | T135: =S135*H135 -> 0 | AR135: 256 | AT135: M | AU135: 2 | AY135: ROZPOCET | BE135: =IF(N135="základná",J135,0) -> 0 | BF135: =IF(N135="znížená",J135,0) -> 0 | BG135: =IF(N135="zákl. prenesená",J135,0) -> 0 | BH135: =IF(N135="zníž. prenesená",J135,0) -> 0 | BI135: =IF(N135="nulová",J135,0) -> 0 | BJ135: 2 | BK135: =ROUND(I135*H135,2) -> 0 | BL135: 64 | BM135: 24
... C191: 68 | D191: M | E191: 341110001900.S | F191: Kábel medený CYKY 5x1,5 mm2 | G191: m | H191: 90 | J191: =ROUND(I191*H191,2) -> 0 | N191: znížená | P191: =O191*H191 -> 0 | Q191: 0.00019 | R191: =Q191*H191 -> 0.0171 | S191: 0 | T191: =S191*H191 -> 0 | AR191: 256 | AT191: M | AU191: 2 | AY191: ROZPOCET | BE191: =IF(N191="základná",J191,0) -> 0 | BF191: =IF(N191="znížená",J191,0) -> 0 | BG191: =IF(N191="zákl. prenesená",J191,0) -> 0 | BH191: =IF(N191="zníž. prenesená",J191,0) -> 0 | BI191: =IF(N191="nulová",J191,0) -> 0 | BJ191: 2 | BK191: =ROUND(I191*H191,2) -> 0 | BL191: 64 | BM191: 136
D192: D | E192: 22-M | F192: Montáže oznamovacích a zabezpečovacích zariadení | J192: =BK192 -> 0 | P192: =SUM(P193:P196) -> 0 | R192: =SUM(R193:R196) -> 0.00588 | T192: =SUM(T193:T196) -> 0 | AR192: 3 | AT192: D | AU192: 1 | AY192: ROZPOCET | BK192: =SUM(BK193:BK196) -> 0
C193: 69 | D193: K | E193: 220732306.S | F193: Montáž dátového káblu kombinovaného UTP Cat5E+2x0.88mm uložený v omietke | G193: m | H193: 135 | J193: =ROUND(I193*H193,2) -> 0 | N193: znížená | P193: =O193*H193 -> 0 | Q193: 0 | R193: =Q193*H193 -> 0 | S193: 0 | T193: =S193*H193 -> 0 | AR193: 64 | AT193: K | AU193: 2 | AY193: ROZPOCET | BE193: =IF(N193="základná",J193,0) -> 0 | BF193: =IF(N193="znížená",J193,0) -> 0 | BG193: =IF(N193="zákl. prenesená",J193,0) -> 0 | BH193: =IF(N193="zníž. prenesená",J193,0) -> 0 | BI193: =IF(N193="nulová",J193,0) -> 0 | BJ193: 2 | BK193: =ROUND(I193*H193,2) -> 0 | BL193: 64 | BM193: 138
C194: 70 | D194: M | E194: 341230001800.S | F194: Kábel medený dátový FTP-AWG Patch 4x2x24 mm2 | G194: m | H194: 135 | J194: =ROUND(I194*H194,2) -> 0 | N194: znížená | P194: =O194*H194 -> 0 | Q194: 4e-05 | R194: =Q194*H194 -> 0.0054 | S194: 0 | T194: =S194*H194 -> 0 | AR194: 256 | AT194: M | AU194: 2 | AY194: ROZPOCET | BE194: =IF(N194="základná",J194,0) -> 0 | BF194: =IF(N194="znížená",J194,0) -> 0 | BG194: =IF(N194="zákl. prenesená",J194,0) -> 0 | BH194: =IF(N194="zníž. prenesená",J194,0) -> 0 | BI194: =IF(N194="nulová",J194,0) -> 0 | BJ194: 2 | BK194: =ROUND(I194*H194,2) -> 0 | BL194: 64 | BM194: 140
C195: 71 | D195: K | E195: 2207330412.S | F195: Montáž a inštalácia zásuvky Cat6 STP 2x RJ45 | G195: ks | H195: 12 | J195: =ROUND(I195*H195,2) -> 0 | N195: znížená | P195: =O195*H195 -> 0 | Q195: 0 | R195: =Q195*H195 -> 0 | S195: 0 | T195: =S195*H195 -> 0 | AR195: 64 | AT195: K | AU195: 2 | AY195: ROZPOCET | BE195: =IF(N195="základná",J195,0) -> 0 | BF195: =IF(N195="znížená",J195,0) -> 0 | BG195: =IF(N195="zákl. prenesená",J195,0) -> 0 | BH195: =IF(N195="zníž. prenesená",J195,0) -> 0 | BI195: =IF(N195="nulová",J195,0) -> 0 | BJ195: 2 | BK195: =ROUND(I195*H195,2) -> 0 | BL195: 64 | BM195: 142
C196: 72 | D196: M | E196: 383150000200.S | F196: Zásuvka dátová 2x RJ45 Cat 6 FTP komplet | G196: ks | H196: 12 | J196: =ROUND(I196*H196,2) -> 0 | N196: znížená | P196: =O196*H196 -> 0 | Q196: 4e-05 | R196: =Q196*H196 -> 0.00048 | S196: 0 | T196: =S196*H196 -> 0 | AR196: 256 | AT196: M | AU196: 2 | AY196: ROZPOCET | BE196: =IF(N196="základná",J196,0) -> 0 | BF196: =IF(N196="znížená",J196,0) -> 0 | BG196: =IF(N196="zákl. prenesená",J196,0) -> 0 | BH196: =IF(N196="zníž. prenesená",J196,0) -> 0 | BI196: =IF(N196="nulová",J196,0) -> 0 | BJ196: 2 | BK196: =ROUND(I196*H196,2) -> 0 | BL196: 64 | BM196: 144
D197: D | E197: HZS | F197: Hodinové zúčtovacie sadzby | J197: =BK197 -> 0 | P197: =SUM(P198:P199) -> 0 | R197: =SUM(R198:R199) -> 0 | T197: =SUM(T198:T199) -> 0 | AR197: 4 | AT197: D | AU197: 0 | AY197: ROZPOCET | BK197: =SUM(BK198:BK199) -> 0
C198: 73 | D198: K | E198: HZS00011B.S | F198: Revízia bleskozvodu | G198: kpl | H198: 1 | J198: =ROUND(I198*H198,2) -> 0 | N198: znížená | P198: =O198*H198 -> 0 | Q198: 0 | R198: =Q198*H198 -> 0 | S198: 0 | T198: =S198*H198 -> 0 | AR198: 262144 | AT198: K | AU198: 1 | AY198: ROZPOCET | BE198: =IF(N198="základná",J198,0) -> 0 | BF198: =IF(N198="znížená",J198,0) -> 0 | BG198: =IF(N198="zákl. prenesená",J198,0) -> 0 | BH198: =IF(N198="zníž. prenesená",J198,0) -> 0 | BI198: =IF(N198="nulová",J198,0) -> 0 | BJ198: 2 | BK198: =ROUND(I198*H198,2) -> 0 | BL198: 262144 | BM198: 146
C199: 74 | D199: K | E199: HZS00011E.S | F199: Revízia elektroinštalácie | G199: kpl | H199: 1 | J199: =ROUND(I199*H199,2) -> 0 | N199: znížená | P199: =O199*H199 -> 0 | Q199: 0 | R199: =Q199*H199 -> 0 | S199: 0 | T199: =S199*H199 -> 0 | AR199: 262144 | AT199: K | AU199: 1 | AY199: ROZPOCET | BE199: =IF(N199="základná",J199,0) -> 0 | BF199: =IF(N199="znížená",J199,0) -> 0 | BG199: =IF(N199="zákl. prenesená",J199,0) -> 0 | BH199: =IF(N199="zníž. prenesená",J199,0) -> 0 | BI199: =IF(N199="nulová",J199,0) -> 0 | BJ199: 2 | BK199: =ROUND(I199*H199,2) -> 0 | BL199: 262144 | BM199: 148
D200: D | E200: OST | F200: Doplnenie | J200: =BK200 -> 0 | P200: =SUM(P201:P238) -> 0 | R200: =SUM(R201:R238) -> 0.11066 | T200: =SUM(T201:T238) -> 0 | AR200: 4 | AT200: D | AU200: 0 | AY200: ROZPOCET | BK200: =SUM(BK201:BK238) -> 0
C201: 75 | D201: K | E201: 210010028.S | F201: Rúrka ohybná elektroinštalačná z PVC typ FXP 40, uložená pevne | G201: m | H201: 24 | J201: =ROUND(I201*H201,2) -> 0 | N201: znížená | P201: =O201*H201 -> 0 | Q201: 0 | R201: =Q201*H201 -> 0 | S201: 0 | T201: =S201*H201 -> 0 | AR201: 262144 | AT201: K | AU201: 1 | AY201: ROZPOCET | BE201: =IF(N201="základná",J201,0) -> 0 | BF201: =IF(N201="znížená",J201,0) -> 0 | BG201: =IF(N201="zákl. prenesená",J201,0) -> 0 | BH201: =IF(N201="zníž. prenesená",J201,0) -> 0 | BI201: =IF(N201="nulová",J201,0) -> 0 | BJ201: 2 | BK201: =ROUND(I201*H201,2) -> 0 | BL201: 262144 | BM201: 150
C202: 76 | D202: M | E202: 345710009400 | F202: Rúrka ohybná vlnitá pancierová PVC-U, FXP D 40 | G202: m | H202: 24 | J202: =ROUND(I202*H202,2) -> 0 | N202: znížená | P202: =O202*H202 -> 0 | Q202: 0.00025 | R202: =Q202*H202 -> 0.006 | S202: 0 | T202: =S202*H202 -> 0 | AR202: 262144 | AT202: M | AU202: 1 | AY202: ROZPOCET | BE202: =IF(N202="základná",J202,0) -> 0 | BF202: =IF(N202="znížená",J202,0) -> 0 | BG202: =IF(N202="zákl. prenesená",J202,0) -> 0 | BH202: =IF(N202="zníž. prenesená",J202,0) -> 0 | BI202: =IF(N202="nulová",J202,0) -> 0 | BJ202: 2 | BK202: =ROUND(I202*H202,2) -> 0 | BL202: 262144 | BM202: 152
C203: 77 | D203: M | E203: 345710037600.S | F203: Príchytka z PVC pre elektroinštal. rúrky D 40 mm, samozhášavé | G203: ks | H203: 40 | J203: =ROUND(I203*H203,2) -> 0 | N203: znížená | P203: =O203*H203 -> 0 | Q203: 1e-05 | R203: =Q203*H203 -> 0.0004 | S203: 0 | T203: =S203*H203 -> 0 | AR203: 262144 | AT203: M | AU203: 1 | AY203: ROZPOCET | BE203: =IF(N203="základná",J203,0) -> 0 | BF203: =IF(N203="znížená",J203,0) -> 0 | BG203: =IF(N203="zákl. prenesená",J203,0) -> 0 | BH203: =IF(N203="zníž. prenesená",J203,0) -> 0 | BI203: =IF(N203="nulová",J203,0) -> 0 | BJ203: 2 | BK203: =ROUND(I203*H203,2) -> 0 | BL203: 262144 | BM203: 154
C204: 78 | D204: K | E204: 210010372.S | F204: Elektromontážna krabica s viečkom do zateplenia 85-140mm 156x196x86, IP 30 | G204: ks | H204: 4 | J204: =ROUND(I204*H204,2) -> 0 | N204: znížená | P204: =O204*H204 -> 0 | Q204: 0 | R204: =Q204*H204 -> 0 | S204: 0 | T204: =S204*H204 -> 0 | AR204: 262144 | AT204: K | AU204: 1 | AY204: ROZPOCET | BE204: =IF(N204="základná",J204,0) -> 0 | BF204: =IF(N204="znížená",J204,0) -> 0 | BG204: =IF(N204="zákl. prenesená",J204,0) -> 0 | BH204: =IF(N204="zníž. prenesená",J204,0) -> 0 | BI204: =IF(N204="nulová",J204,0) -> 0 | BJ204: 2 | BK204: =ROUND(I204*H204,2) -> 0 | BL204: 262144 | BM204: 156
C205: 79 | D205: M | E205: 345410007700 | F205: Krabica do zateplenia z PC-ABS s viečkom KUZ-V KB, hĺbka 85-140 mm , KOPOS | G205: ks | H205: 4 | J205: =ROUND(I205*H205,2) -> 0 | N205: znížená | P205: =O205*H205 -> 0 | Q205: 0.00059 | R205: =Q205*H205 -> 0.00236 | S205: 0 | T205: =S205*H205 -> 0 | AR205: 262144 | AT205: M | AU205: 1 | AY205: ROZPOCET | BE205: =IF(N205="základná",J205,0) -> 0 | BF205: =IF(N205="znížená",J205,0) -> 0 | BG205: =IF(N205="zákl. prenesená",J205,0) -> 0 | BH205: =IF(N205="zníž. prenesená",J205,0) -> 0 | BI205: =IF(N205="nulová",J205,0) -> 0 | BJ205: 2 | BK205: =ROUND(I205*H205,2) -> 0 | BL205: 262144 | BM205: 158
C206: 80 | D206: K | E206: 210140431 | F206: Ovládač pomocných obvodov v Al skrini vrátane zapojenia jednotlačidlový | G206: ks | H206: 1 | J206: =ROUND(I206*H206,2) -> 0 | N206: znížená | P206: =O206*H206 -> 0 | Q206: 0 | R206: =Q206*H206 -> 0 | S206: 0 | T206: =S206*H206 -> 0 | AR206: 262144 | AT206: K | AU206: 1 | AY206: ROZPOCET | BE206: =IF(N206="základná",J206,0) -> 0 | BF206: =IF(N206="znížená",J206,0) -> 0 | BG206: =IF(N206="zákl. prenesená",J206,0) -> 0 | BH206: =IF(N206="zníž. prenesená",J206,0) -> 0 | BI206: =IF(N206="nulová",J206,0) -> 0 | BJ206: 2 | BK206: =ROUND(I206*H206,2) -> 0 | BL206: 262144 | BM206: 160
C207: 81 | D207: M | E207: 3458011890 | F207: Bezpečnostné tlačítko STOP | G207: ks | H207: 1 | J207: =ROUND(I207*H207,2) -> 0 | N207: znížená | P207: =O207*H207 -> 0 | Q207: 0.00012 | R207: =Q207*H207 -> 0.00012 | S207: 0 | T207: =S207*H207 -> 0 | AR207: 262144 | AT207: M | AU207: 1 | AY207: ROZPOCET | BE207: =IF(N207="základná",J207,0) -> 0 | BF207: =IF(N207="znížená",J207,0) -> 0 | BG207: =IF(N207="zákl. prenesená",J207,0) -> 0 | BH207: =IF(N207="zníž. prenesená",J207,0) -> 0 | BI207: =IF(N207="nulová",J207,0) -> 0 | BJ207: 2 | BK207: =ROUND(I207*H207,2) -> 0 | BL207: 262144 | BM207: 162
C208: 82 | D208: K | E208: 210201512.S | F208: Zapojenie núdzového svietidla IP40, 1x svetelný LED zdroj - núdzový režim | G208: ks | H208: 14 | J208: =ROUND(I208*H208,2) -> 0 | N208: znížená | P208: =O208*H208 -> 0 | Q208: 0 | R208: =Q208*H208 -> 0 | S208: 0 | T208: =S208*H208 -> 0 | AR208: 262144 | AT208: K | AU208: 1 | AY208: ROZPOCET | BE208: =IF(N208="základná",J208,0) -> 0 | BF208: =IF(N208="znížená",J208,0) -> 0 | BG208: =IF(N208="zákl. prenesená",J208,0) -> 0 | BH208: =IF(N208="zníž. prenesená",J208,0) -> 0 | BI208: =IF(N208="nulová",J208,0) -> 0 | BJ208: 2 | BK208: =ROUND(I208*H208,2) -> 0 | BL208: 262144 | BM208: 164
C209: 83 | D209: M | E209: 348150001204 | F209: LED svietidlo núdzové ARROW N 2W, STANDARD, IP40, 3h stály/núdzový režim, 200 lm, AMI | G209: ks | H209: 14 | J209: =ROUND(I209*H209,2) -> 0 | N209: znížená | P209: =O209*H209 -> 0 | Q209: 0.0018 | R209: =Q209*H209 -> 0.0252 | S209: 0 | T209: =S209*H209 -> 0 | AR209: 262144 | AT209: M | AU209: 1 | AY209: ROZPOCET | BE209: =IF(N209="základná",J209,0) -> 0 | BF209: =IF(N209="znížená",J209,0) -> 0 | BG209: =IF(N209="zákl. prenesená",J209,0) -> 0 | BH209: =IF(N209="zníž. prenesená",J209,0) -> 0 | BI209: =IF(N209="nulová",J209,0) -> 0 | BJ209: 2 | BK209: =ROUND(I209*H209,2) -> 0 | BL209: 262144 | BM209: 166
C210: 84 | D210: K | E210: 210220021.S | F210: Uzemňovacie vedenie v zemi FeZn vrátane izolácie spojov O 10 mm | G210: m | H210: 24 | J210: =ROUND(I210*H210,2) -> 0 | N210: znížená | P210: =O210*H210 -> 0 | Q210: 0 | R210: =Q210*H210 -> 0 | S210: 0 | T210: =S210*H210 -> 0 | AR210: 262144 | AT210: K | AU210: 1 | AY210: ROZPOCET | BE210: =IF(N210="základná",J210,0) -> 0 | BF210: =IF(N210="znížená",J210,0) -> 0 | BG210: =IF(N210="zákl. prenesená",J210,0) -> 0 | BH210: =IF(N210="zníž. prenesená",J210,0) -> 0 | BI210: =IF(N210="nulová",J210,0) -> 0 | BJ210: 2 | BK210: =ROUND(I210*H210,2) -> 0 | BL210: 262144 | BM210: 168
C211: 85 | D211: M | E211: 354410054800.S | F211: Drôt bleskozvodový FeZn, d 10 mm | G211: kg | H211: 15 | J211: =ROUND(I211*H211,2) -> 0 | N211: znížená | P211: =O211*H211 -> 0 | Q211: 0.001 | R211: =Q211*H211 -> 0.015 | S211: 0 | T211: =S211*H211 -> 0 | AR211: 262144 | AT211: M | AU211: 1 | AY211: ROZPOCET | BE211: =IF(N211="základná",J211,0) -> 0 | BF211: =IF(N211="znížená",J211,0) -> 0 | BG211: =IF(N211="zákl. prenesená",J211,0) -> 0 | BH211: =IF(N211="zníž. prenesená",J211,0) -> 0 | BI211: =IF(N211="nulová",J211,0) -> 0 | BJ211: 2 | BK211: =ROUND(I211*H211,2) -> 0 | BL211: 262144 | BM211: 170
C212: 86 | D212: K | E212: 210220031.S | F212: Ekvipotenciálna svorkovnica EPS 2 v krabici KO 125 E | G212: ks | H212: 2 | J212: =ROUND(I212*H212,2) -> 0 | N212: znížená | P212: =O212*H212 -> 0 | Q212: 0 | R212: =Q212*H212 -> 0 | S212: 0 | T212: =S212*H212 -> 0 | AR212: 262144 | AT212: K | AU212: 1 | AY212: ROZPOCET | BE212: =IF(N212="základná",J212,0) -> 0 | BF212: =IF(N212="znížená",J212,0) -> 0 | BG212: =IF(N212="zákl. prenesená",J212,0) -> 0 | BH212: =IF(N212="zníž. prenesená",J212,0) -> 0 | BI212: =IF(N212="nulová",J212,0) -> 0 | BJ212: 2 | BK212: =ROUND(I212*H212,2) -> 0 | BL212: 262144 | BM212: 172
... C238: 112 | D238: K | E238: 460560164 | F238: Ručný zásyp nezap. káblovej ryhy bez zhutn. zeminy, 35 cm širokej, 80 cm hlbokej v zemine tr. 4 | G238: m | H238: 18 | J238: =ROUND(I238*H238,2) -> 0 | N238: znížená | P238: =O238*H238 -> 0 | Q238: 0 | R238: =Q238*H238 -> 0 | S238: 0 | T238: =S238*H238 -> 0 | AR238: 262144 | AT238: K | AU238: 1 | AY238: ROZPOCET | BE238: =IF(N238="základná",J238,0) -> 0 | BF238: =IF(N238="znížená",J238,0) -> 0 | BG238: =IF(N238="zákl. prenesená",J238,0) -> 0 | BH238: =IF(N238="zníž. prenesená",J238,0) -> 0 | BI238: =IF(N238="nulová",J238,0) -> 0 | BJ238: 2 | BK238: =ROUND(I238*H238,2) -> 0 | BL238: 262144 | BM238: 224

Sheet 04 - SO 01 Ústredné vykur...
L2: >> skryté stĺpce << | AT2: {e108d427-a24c-4b35-877a-f4d72341b8de}
AT3: 0
D4: KRYCÍ LIST ROZPOČTU | M4: v --- nižšie sa nachádzajú doplnkové a pomocné údaje k zostavám --- v | AT4: False
D6: Stavba:
E7: ='Rekapitulácia stavby'!K6 -> Rekonštrukcia objektu Biovetská 36, Nitra - 1.etapa
D8: Objekt:
E9: 04 - SO 01 Ústredné vykurovanie
D11: JKSO: | I11: KS:
D12: Miesto: | F12: Biovetská | I12: Dátum: | J12: ='Rekapitulácia stavby'!AN8 -> 14. 12. 2022
D14: Objednávateľ: | I14: IČO:
E15: Mesto Nitra | I15: IČ DPH:
D17: Zhotoviteľ: | I17: IČO: | J17: ='Rekapitulácia stavby'!AN13 -> Vyplň údaj
E18: ='Rekapitulácia stavby'!E14 -> Vyplň údaj | I18: IČ DPH: | J18: ='Rekapitulácia stavby'!AN14 -> Vyplň údaj
D20: Projektant: | I20: IČO:
E21: SOAR - ING. BÁRTA JIŘÍ | I21: IČ DPH:
D23: Spracovateľ: | I23: IČO:
E24: SOAR - ING. BÁRTA JIŘÍ | I24: IČ DPH:
D26: Poznámka:
D30: Cena bez DPH | J30: =ROUND(J123, 2) -> 0
F32: Základ dane | I32: Sadzba dane | J32: Výška dane
D33: DPH | E33: základná | F33: =ROUND((SUM(BE123:BE172)), 2) -> 0 | I33: 0.2 | J33: =ROUND(((SUM(BE123:BE172))*I33), 2) -> 0
E34: znížená | F34: =ROUND((SUM(BF123:BF172)), 2) -> 0 | I34: 0.2 | J34: =ROUND(((SUM(BF123:BF172))*I34), 2) -> 0
E35: zákl. prenesená | F35: =ROUND((SUM(BG123:BG172)), 2) -> 0 | I35: 0.2 | J35: =0 -> 0
E36: zníž. prenesená | F36: =ROUND((SUM(BH123:BH172)), 2) -> 0 | I36: 0.2 | J36: =0 -> 0
E37: nulová | F37: =ROUND((SUM(BI123:BI172)), 2) -> 0 | I37: 0 | J37: =0 -> 0
D39: Cena s DPH | G39: v | H39: EUR | J39: =SUM(J30:J37) -> 0
D50: Projektant | G50: Spracovateľ
D61: Dátum a podpis: | F61: Pečiatka | G61: Dátum a podpis: | J61: Pečiatka
D65: Objednávateľ | G65: Zhotoviteľ
D76: Dátum a podpis: | F76: Pečiatka | G76: Dátum a podpis: | J76: Pečiatka
C82: REKAPITULÁCIA ROZPOČTU
C84: Stavba:
E85: =E7 -> Rekonštrukcia objektu Biovetská 36, Nitra - 1.etapa
C86: Objekt:
E87: =E9 -> 04 - SO 01 Ústredné vykurovanie
C89: Miesto: | F89: =F12 -> Biovetská | I89: Dátum: | J89: =IF(J12="","",J12) -> 14. 12. 2022
C91: Objednávateľ: | F91: =E15 -> Mesto Nitra | I91: Projektant: | J91: =E21 -> SOAR - ING. BÁRTA JIŘÍ
C92: Zhotoviteľ: | F92: =IF(E18="","",E18) -> Vyplň údaj | I92: Spracovateľ: | J92: =E24 -> SOAR - ING. BÁRTA JIŘÍ
C94: Kód dielu - Popis | J94: Cena celkom [EUR]
C96: Náklady z rozpočtu | J96: =J123 -> 0 | AU96: -1
D97: D1 - PRÁCE A DODÁVKY PSV | J97: =J124 -> 0
D98: 713 - Izolácie tepelné | J98: =J125 -> 0
D99: 731 - Kotolne | J99: =J129 -> 0
D100: 732 - Strojovne | J100: =J133 -> 0
D101: 733 - Rozvod potrubia | J101: =J137 -> 0
D102: 734 - Armatúry | J102: =J145 -> 0
D103: 735 - Vykurovacie telesá | J103: =J158 -> 0
C110: ROZPOČET
C112: Stavba:
E113: =E7 -> Rekonštrukcia objektu Biovetská 36, Nitra - 1.etapa
C114: Objekt:
E115: =E9 -> 04 - SO 01 Ústredné vykurovanie
C117: Miesto: | F117: =F12 -> Biovetská | I117: Dátum: | J117: =IF(J12="","",J12) -> 14. 12. 2022
C119: Objednávateľ: | F119: =E15 -> Mesto Nitra | I119: Projektant: | J119: =E21 -> SOAR - ING. BÁRTA JIŘÍ
C120: Zhotoviteľ: | F120: =IF(E18="","",E18) -> Vyplň údaj | I120: Spracovateľ: | J120: =E24 -> SOAR - ING. BÁRTA JIŘÍ
C122: PČ | D122: Typ | E122: Kód | F122: Popis | G122: MJ | H122: Množstvo | I122: J.cena [EUR] | J122: Cena celkom [EUR] | K122: Cenová sústava | N122: DPH | O122: J. Nh [h] | P122: Nh celkom [h] | Q122: J. hmotnosť [t] | R122: Hmotnosť celkom [t] | S122: J. suť [t] | T122: Suť Celkom [t]
C123: Náklady z rozpočtu | J123: =BK123 -> 0 | P123: =P124 -> 0 | R123: =R124 -> 0.84873 | T123: =T124 -> 2.076 | AT123: D | AU123: -1 | BK123: =BK124 -> 0
D124: D | E124: D1 | F124: PRÁCE A DODÁVKY PSV | J124: =BK124 -> 0 | P124: =P125+P129+P133+P137+P145+P158 -> 0 | R124: =R125+R129+R133+R137+R145+R158 -> 0.84873 | T124: =T125+T129+T133+T137+T145+T158 -> 2.076 | AR124: 1 | AT124: D | AU124: 0 | AY124: ROZPOCET | BK124: =BK125+BK129+BK133+BK137+BK145+BK158 -> 0
D125: D | E125: 713 | F125: Izolácie tepelné | J125: =BK125 -> 0 | P125: =SUM(P126:P128) -> 0 | R125: =SUM(R126:R128) -> 0.00476 | T125: =SUM(T126:T128) -> 0 | AR125: 2 | AT125: D | AU125: 1 | AY125: ROZPOCET | BK125: =SUM(BK126:BK128) -> 0
C126: 1 | D126: K | E126: 713401204 | F126: Montáž rúrok z PE hr. 15-20 mm, vnút. priemer do 38 | G126: m | H126: 238 | J126: =ROUND(I126*H126,2) -> 0 | N126: znížená | P126: =O126*H126 -> 0 | Q126: 2e-05 | R126: =Q126*H126 -> 0.00476 | S126: 0 | T126: =S126*H126 -> 0 | AR126: 16 | AT126: K | AU126: 2 | AY126: ROZPOCET | BE126: =IF(N126="základná",J126,0) -> 0 | BF126: =IF(N126="znížená",J126,0) -> 0 | BG126: =IF(N126="zákl. prenesená",J126,0) -> 0 | BH126: =IF(N126="zníž. prenesená",J126,0) -> 0 | BI126: =IF(N126="nulová",J126,0) -> 0 | BJ126: 2 | BK126: =ROUND(I126*H126,2) -> 0 | BL126: 16 | BM126: 2
C127: 2 | D127: M | E127: 283771209 | F127: Izolácia potrubie IZOFLEX R 28/20 | G127: m | H127: 238 | J127: =ROUND(I127*H127,2) -> 0 | N127: znížená | P127: =O127*H127 -> 0 | Q127: 0 | R127: =Q127*H127 -> 0 | S127: 0 | T127: =S127*H127 -> 0 | AR127: 32 | AT127: M | AU127: 2 | AY127: ROZPOCET | BE127: =IF(N127="základná",J127,0) -> 0 | BF127: =IF(N127="znížená",J127,0) -> 0 | BG127: =IF(N127="zákl. prenesená",J127,0) -> 0 | BH127: =IF(N127="zníž. prenesená",J127,0) -> 0 | BI127: =IF(N127="nulová",J127,0) -> 0 | BJ127: 2 | BK127: =ROUND(I127*H127,2) -> 0 | BL127: 16 | BM127: 4
C128: 3 | D128: K | E128: 998713101 | F128: Presun hmôt pre izolácie tepelné v objektoch výšky do 6 m | G128: t | H128: 0.005 | J128: =ROUND(I128*H128,2) -> 0 | N128: znížená | P128: =O128*H128 -> 0 | Q128: 0 | R128: =Q128*H128 -> 0 | S128: 0 | T128: =S128*H128 -> 0 | AR128: 16 | AT128: K | AU128: 2 | AY128: ROZPOCET | BE128: =IF(N128="základná",J128,0) -> 0 | BF128: =IF(N128="znížená",J128,0) -> 0 | BG128: =IF(N128="zákl. prenesená",J128,0) -> 0 | BH128: =IF(N128="zníž. prenesená",J128,0) -> 0 | BI128: =IF(N128="nulová",J128,0) -> 0 | BJ128: 2 | BK128: =ROUND(I128*H128,2) -> 0 | BL128: 16 | BM128: 6
D129: D | E129: 731 | F129: Kotolne | J129: =BK129 -> 0 | P129: =SUM(P130:P132) -> 0 | R129: =SUM(R130:R132) -> 2e-05 | T129: =SUM(T130:T132) -> 0.612 | AR129: 2 | AT129: D | AU129: 1 | AY129: ROZPOCET | BK129: =SUM(BK130:BK132) -> 0
C130: 4 | D130: K | E130: 731200825 | F130: Demontáž kotlov ocel. na kvap. alebo plyn. palivo do 40 kW | G130: kus | H130: 2 | J130: =ROUND(I130*H130,2) -> 0 | N130: znížená | P130: =O130*H130 -> 0 | Q130: 1e-05 | R130: =Q130*H130 -> 2e-05 | S130: 0.306 | T130: =S130*H130 -> 0.612 | AR130: 16 | AT130: K | AU130: 2 | AY130: ROZPOCET | BE130: =IF(N130="základná",J130,0) -> 0 | BF130: =IF(N130="znížená",J130,0) -> 0 | BG130: =IF(N130="zákl. prenesená",J130,0) -> 0 | BH130: =IF(N130="zníž. prenesená",J130,0) -> 0 | BI130: =IF(N130="nulová",J130,0) -> 0 | BJ130: 2 | BK130: =ROUND(I130*H130,2) -> 0 | BL130: 16 | BM130: 8
C131: 5 | D131: K | E131: 731314828 | F131: Montáž kotla nástenného na plyn kondenzačného vyhotovenie turbo do 28 kW | G131: súbor | H131: 2 | J131: =ROUND(I131*H131,2) -> 0 | N131: znížená | P131: =O131*H131 -> 0 | Q131: 0 | R131: =Q131*H131 -> 0 | S131: 0 | T131: =S131*H131 -> 0 | AR131: 16 | AT131: K | AU131: 2 | AY131: ROZPOCET | BE131: =IF(N131="základná",J131,0) -> 0 | BF131: =IF(N131="znížená",J131,0) -> 0 | BG131: =IF(N131="zákl. prenesená",J131,0) -> 0 | BH131: =IF(N131="zníž. prenesená",J131,0) -> 0 | BI131: =IF(N131="nulová",J131,0) -> 0 | BJ131: 2 | BK131: =ROUND(I131*H131,2) -> 0 | BL131: 16 | BM131: 10
C132: 6 | D132: M | E132: 484174301 | F132: Kotol plynový PROTHERM CONDES 12 KKO+ 120 S bojler | G132: kus | H132: 2 | J132: =ROUND(I132*H132,2) -> 0 | N132: znížená | P132: =O132*H132 -> 0 | Q132: 0 | R132: =Q132*H132 -> 0 | S132: 0 | T132: =S132*H132 -> 0 | AR132: 32 | AT132: M | AU132: 2 | AY132: ROZPOCET | BE132: =IF(N132="základná",J132,0) -> 0 | BF132: =IF(N132="znížená",J132,0) -> 0 | BG132: =IF(N132="zákl. prenesená",J132,0) -> 0 | BH132: =IF(N132="zníž. prenesená",J132,0) -> 0 | BI132: =IF(N132="nulová",J132,0) -> 0 | BJ132: 2 | BK132: =ROUND(I132*H132,2) -> 0 | BL132: 16 | BM132: 12
D133: D | E133: 732 | F133: Strojovne | J133: =BK133 -> 0 | P133: =SUM(P134:P136) -> 0 | R133: =SUM(R134:R136) -> 0.0121 | T133: =SUM(T134:T136) -> 0 | AR133: 2 | AT133: D | AU133: 1 | AY133: ROZPOCET | BK133: =SUM(BK134:BK136) -> 0
C134: 7 | D134: K | E134: 732331512 | F134: Nádoby expanzné tlakové s membránou Expanzomat I 12 l | G134: súbor | H134: 2 | J134: =ROUND(I134*H134,2) -> 0 | N134: znížená | P134: =O134*H134 -> 0 | Q134: 0.00605 | R134: =Q134*H134 -> 0.0121 | S134: 0 | T134: =S134*H134 -> 0 | AR134: 16 | AT134: K | AU134: 2 | AY134: ROZPOCET | BE134: =IF(N134="základná",J134,0) -> 0 | BF134: =IF(N134="znížená",J134,0) -> 0 | BG134: =IF(N134="zákl. prenesená",J134,0) -> 0 | BH134: =IF(N134="zníž. prenesená",J134,0) -> 0 | BI134: =IF(N134="nulová",J134,0) -> 0 | BJ134: 2 | BK134: =ROUND(I134*H134,2) -> 0 | BL134: 16 | BM134: 14
C135: 8 | D135: K | E135: 732429111 | F135: Montáž čerpadiel obehových špirál. DN 25 | G135: súbor | H135: 2 | J135: =ROUND(I135*H135,2) -> 0 | N135: znížená | P135: =O135*H135 -> 0 | Q135: 0 | R135: =Q135*H135 -> 0 | S135: 0 | T135: =S135*H135 -> 0 | AR135: 16 | AT135: K | AU135: 2 | AY135: ROZPOCET | BE135: =IF(N135="základná",J135,0) -> 0 | BF135: =IF(N135="znížená",J135,0) -> 0 | BG135: =IF(N135="zákl. prenesená",J135,0) -> 0 | BH135: =IF(N135="zníž. prenesená",J135,0) -> 0 | BI135: =IF(N135="nulová",J135,0) -> 0 | BJ135: 2 | BK135: =ROUND(I135*H135,2) -> 0 | BL135: 16 | BM135: 16
C136: 9 | D136: M | E136: 4261F0324 | F136: Obehové čerpadlo WILLO dn 25 | G136: kus | H136: 2 | J136: =ROUND(I136*H136,2) -> 0 | N136: znížená | P136: =O136*H136 -> 0 | Q136: 0 | R136: =Q136*H136 -> 0 | S136: 0 | T136: =S136*H136 -> 0 | AR136: 32 | AT136: M | AU136: 2 | AY136: ROZPOCET | BE136: =IF(N136="základná",J136,0) -> 0 | BF136: =IF(N136="znížená",J136,0) -> 0 | BG136: =IF(N136="zákl. prenesená",J136,0) -> 0 | BH136: =IF(N136="zníž. prenesená",J136,0) -> 0 | BI136: =IF(N136="nulová",J136,0) -> 0 | BJ136: 2 | BK136: =ROUND(I136*H136,2) -> 0 | BL136: 16 | BM136: 18
D137: D | E137: 733 | F137: Rozvod potrubia | J137: =BK137 -> 0 | P137: =SUM(P138:P144) -> 0 | R137: =SUM(R138:R144) -> 0.13732 | T137: =SUM(T138:T144) -> 0.69 | AR137: 2 | AT137: D | AU137: 1 | AY137: ROZPOCET | BK137: =SUM(BK138:BK144) -> 0
C138: 10 | D138: K | E138: 733110808 | F138: Demontáž potrubia z ocel. rúrok závitových do DN 50 | G138: m | H138: 90 | J138: =ROUND(I138*H138,2) -> 0 | N138: znížená | P138: =O138*H138 -> 0 | Q138: 7e-05 | R138: =Q138*H138 -> 0.0063 | S138: 0.005 | T138: =S138*H138 -> 0.45 | AR138: 16 | AT138: K | AU138: 2 | AY138: ROZPOCET | BE138: =IF(N138="základná",J138,0) -> 0 | BF138: =IF(N138="znížená",J138,0) -> 0 | BG138: =IF(N138="zákl. prenesená",J138,0) -> 0 | BH138: =IF(N138="zníž. prenesená",J138,0) -> 0 | BI138: =IF(N138="nulová",J138,0) -> 0 | BJ138: 2 | BK138: =ROUND(I138*H138,2) -> 0 | BL138: 16 | BM138: 20
C139: 11 | D139: K | E139: 733111305 | F139: Potrubie z rúrok závit. zváraných bežných nízkotlak. DN 25 | G139: m | H139: 20 | J139: =ROUND(I139*H139,2) -> 0 | N139: znížená | P139: =O139*H139 -> 0 | Q139: 0.0028 | R139: =Q139*H139 -> 0.056 | S139: 0 | T139: =S139*H139 -> 0 | AR139: 16 | AT139: K | AU139: 2 | AY139: ROZPOCET | BE139: =IF(N139="základná",J139,0) -> 0 | BF139: =IF(N139="znížená",J139,0) -> 0 | BG139: =IF(N139="zákl. prenesená",J139,0) -> 0 | BH139: =IF(N139="zníž. prenesená",J139,0) -> 0 | BI139: =IF(N139="nulová",J139,0) -> 0 | BJ139: 2 | BK139: =ROUND(I139*H139,2) -> 0 | BL139: 16 | BM139: 22
C140: 12 | D140: K | E140: 733165316 | F140: Potrubie z rúrok REHAU RAUTITAN stabil DN 16,2x2,6 mm v tyčiach | G140: m | H140: 68 | J140: =ROUND(I140*H140,2) -> 0 | N140: znížená | P140: =O140*H140 -> 0 | Q140: 0.00024 | R140: =Q140*H140 -> 0.01632 | S140: 0 | T140: =S140*H140 -> 0 | AR140: 16 | AT140: K | AU140: 2 | AY140: ROZPOCET | BE140: =IF(N140="základná",J140,0) -> 0 | BF140: =IF(N140="znížená",J140,0) -> 0 | BG140: =IF(N140="zákl. prenesená",J140,0) -> 0 | BH140: =IF(N140="zníž. prenesená",J140,0) -> 0 | BI140: =IF(N140="nulová",J140,0) -> 0 | BJ140: 2 | BK140: =ROUND(I140*H140,2) -> 0 | BL140: 16 | BM140: 24
C141: 13 | D141: K | E141: 733165320 | F141: Potrubie z rúrok REHAU RAUTITAN stabil DN 20,00x2,9 mm v tyčiach | G141: m | H141: 104 | J141: =ROUND(I141*H141,2) -> 0 | N141: znížená | P141: =O141*H141 -> 0 | Q141: 0.00033 | R141: =Q141*H141 -> 0.03432 | S141: 0 | T141: =S141*H141 -> 0 | AR141: 16 | AT141: K | AU141: 2 | AY141: ROZPOCET | BE141: =IF(N141="základná",J141,0) -> 0 | BF141: =IF(N141="znížená",J141,0) -> 0 | BG141: =IF(N141="zákl. prenesená",J141,0) -> 0 | BH141: =IF(N141="zníž. prenesená",J141,0) -> 0 | BI141: =IF(N141="nulová",J141,0) -> 0 | BJ141: 2 | BK141: =ROUND(I141*H141,2) -> 0 | BL141: 16 | BM141: 26
C142: 14 | D142: K | E142: 733165325 | F142: Potrubie z rúrok REHAU RAUTITAN stabil DN 25,0x3,7 mm v tyčiach | G142: m | H142: 46 | J142: =ROUND(I142*H142,2) -> 0 | N142: znížená | P142: =O142*H142 -> 0 | Q142: 0.00053 | R142: =Q142*H142 -> 0.02438 | S142: 0 | T142: =S142*H142 -> 0 | AR142: 16 | AT142: K | AU142: 2 | AY142: ROZPOCET | BE142: =IF(N142="základná",J142,0) -> 0 | BF142: =IF(N142="znížená",J142,0) -> 0 | BG142: =IF(N142="zákl. prenesená",J142,0) -> 0 | BH142: =IF(N142="zníž. prenesená",J142,0) -> 0 | BI142: =IF(N142="nulová",J142,0) -> 0 | BJ142: 2 | BK142: =ROUND(I142*H142,2) -> 0 | BL142: 16 | BM142: 28
C143: 15 | D143: K | E143: 733390802 | F143: Demontáž potrubia plastového do d 50 | G143: m | H143: 80 | J143: =ROUND(I143*H143,2) -> 0 | N143: znížená | P143: =O143*H143 -> 0 | Q143: 0 | R143: =Q143*H143 -> 0 | S143: 0.003 | T143: =S143*H143 -> 0.24 | AR143: 16 | AT143: K | AU143: 2 | AY143: ROZPOCET | BE143: =IF(N143="základná",J143,0) -> 0 | BF143: =IF(N143="znížená",J143,0) -> 0 | BG143: =IF(N143="zákl. prenesená",J143,0) -> 0 | BH143: =IF(N143="zníž. prenesená",J143,0) -> 0 | BI143: =IF(N143="nulová",J143,0) -> 0 | BJ143: 2 | BK143: =ROUND(I143*H143,2) -> 0 | BL143: 16 | BM143: 30
C144: 16 | D144: K | E144: 998733101 | F144: Presun hmôt pre potrubie UK v objektoch výšky do 6 m | G144: t | H144: 0.137 | J144: =ROUND(I144*H144,2) -> 0 | N144: znížená | P144: =O144*H144 -> 0 | Q144: 0 | R144: =Q144*H144 -> 0 | S144: 0 | T144: =S144*H144 -> 0 | AR144: 16 | AT144: K | AU144: 2 | AY144: ROZPOCET | BE144: =IF(N144="základná",J144,0) -> 0 | BF144: =IF(N144="znížená",J144,0) -> 0 | BG144: =IF(N144="zákl. prenesená",J144,0) -> 0 | BH144: =IF(N144="zníž. prenesená",J144,0) -> 0 | BI144: =IF(N144="nulová",J144,0) -> 0 | BJ144: 2 | BK144: =ROUND(I144*H144,2) -> 0 | BL144: 16 | BM144: 32
D145: D | E145: 734 | F145: Armatúry | J145: =BK145 -> 0 | P145: =SUM(P146:P157) -> 0 | R145: =SUM(R146:R157) -> 0.06338 | T145: =SUM(T146:T157) -> 0.24 | AR145: 2 | AT145: D | AU145: 1 | AY145: ROZPOCET | BK145: =SUM(BK146:BK157) -> 0
C146: 17 | D146: K | E146: 734211112 | F146: Ventil odvzdušňovací závitový vykur. telies V 4320 G 1/4 | G146: kus | H146: 23 | J146: =ROUND(I146*H146,2) -> 0 | N146: znížená | P146: =O146*H146 -> 0 | Q146: 0.00013 | R146: =Q146*H146 -> 0.00299 | S146: 0 | T146: =S146*H146 -> 0 | AR146: 16 | AT146: K | AU146: 2 | AY146: ROZPOCET | BE146: =IF(N146="základná",J146,0) -> 0 | BF146: =IF(N146="znížená",J146,0) -> 0 | BG146: =IF(N146="zákl. prenesená",J146,0) -> 0 | BH146: =IF(N146="zníž. prenesená",J146,0) -> 0 | BI146: =IF(N146="nulová",J146,0) -> 0 | BJ146: 2 | BK146: =ROUND(I146*H146,2) -> 0 | BL146: 16 | BM146: 34
C147: 18 | D147: K | E147: 734220103 | F147: Ventil závitový regulačný priamy G 5/4 PN 20 do 100°C vyvažovací | G147: kus | H147: 2 | J147: =ROUND(I147*H147,2) -> 0 | N147: znížená | P147: =O147*H147 -> 0 | Q147: 0.0007 | R147: =Q147*H147 -> 0.0014 | S147: 0 | T147: =S147*H147 -> 0 | AR147: 16 | AT147: K | AU147: 2 | AY147: ROZPOCET | BE147: =IF(N147="základná",J147,0) -> 0 | BF147: =IF(N147="znížená",J147,0) -> 0 | BG147: =IF(N147="zákl. prenesená",J147,0) -> 0 | BH147: =IF(N147="zníž. prenesená",J147,0) -> 0 | BI147: =IF(N147="nulová",J147,0) -> 0 | BJ147: 2 | BK147: =ROUND(I147*H147,2) -> 0 | BL147: 16 | BM147: 36
C148: 19 | D148: K | E148: 734222612 | F148: Ventil regul. závit. s hlavicou termost. ovlád. V4262A G 1/2 | G148: kus | H148: 23 | J148: =ROUND(I148*H148,2) -> 0 | N148: znížená | P148: =O148*H148 -> 0 | Q148: 0 | R148: =Q148*H148 -> 0 | S148: 0 | T148: =S148*H148 -> 0 | AR148: 16 | AT148: K | AU148: 2 | AY148: ROZPOCET | BE148: =IF(N148="základná",J148,0) -> 0 | BF148: =IF(N148="znížená",J148,0) -> 0 | BG148: =IF(N148="zákl. prenesená",J148,0) -> 0 | BH148: =IF(N148="zníž. prenesená",J148,0) -> 0 | BI148: =IF(N148="nulová",J148,0) -> 0 | BJ148: 2 | BK148: =ROUND(I148*H148,2) -> 0 | BL148: 16 | BM148: 38
C149: 20 | D149: K | E149: 734231215 | F149: Ventily uzavieracie závitové Ve 3001 G 1 | G149: kus | H149: 40 | J149: =ROUND(I149*H149,2) -> 0 | N149: znížená | P149: =O149*H149 -> 0 | Q149: 0.00073 | R149: =Q149*H149 -> 0.0292 | S149: 0 | T149: =S149*H149 -> 0 | AR149: 16 | AT149: K | AU149: 2 | AY149: ROZPOCET | BE149: =IF(N149="základná",J149,0) -> 0 | BF149: =IF(N149="znížená",J149,0) -> 0 | BG149: =IF(N149="zákl. prenesená",J149,0) -> 0 | BH149: =IF(N149="zníž. prenesená",J149,0) -> 0 | BI149: =IF(N149="nulová",J149,0) -> 0 | BJ149: 2 | BK149: =ROUND(I149*H149,2) -> 0 | BL149: 16 | BM149: 40
C150: 21 | D150: K | E150: 734242414 | F150: Ventily spätné závitové priame R 60 GIACOMINI PN 16 do 110°C G 1 | G150: kus | H150: 2 | J150: =ROUND(I150*H150,2) -> 0 | N150: znížená | P150: =O150*H150 -> 0 | Q150: 3e-05 | R150: =Q150*H150 -> 6e-05 | S150: 0 | T150: =S150*H150 -> 0 | AR150: 16 | AT150: K | AU150: 2 | AY150: ROZPOCET | BE150: =IF(N150="základná",J150,0) -> 0 | BF150: =IF(N150="znížená",J150,0) -> 0 | BG150: =IF(N150="zákl. prenesená",J150,0) -> 0 | BH150: =IF(N150="zníž. prenesená",J150,0) -> 0 | BI150: =IF(N150="nulová",J150,0) -> 0 | BJ150: 2 | BK150: =ROUND(I150*H150,2) -> 0 | BL150: 16 | BM150: 42
C151: 22 | D151: K | E151: 734261412 | F151: Skrutkovanie regulačné radiátorové rohové G 1/2 bez vypúšťania | G151: kus | H151: 23 | J151: =ROUND(I151*H151,2) -> 0 | N151: znížená | P151: =O151*H151 -> 0 | Q151: 0.00027 | R151: =Q151*H151 -> 0.00621 | S151: 0 | T151: =S151*H151 -> 0 | AR151: 16 | AT151: K | AU151: 2 | AY151: ROZPOCET | BE151: =IF(N151="základná",J151,0) -> 0 | BF151: =IF(N151="znížená",J151,0) -> 0 | BG151: =IF(N151="zákl. prenesená",J151,0) -> 0 | BH151: =IF(N151="zníž. prenesená",J151,0) -> 0 | BI151: =IF(N151="nulová",J151,0) -> 0 | BJ151: 2 | BK151: =ROUND(I151*H151,2) -> 0 | BL151: 16 | BM151: 44
C152: 23 | D152: K | E152: 734291113 | F152: Kohúty plniace a vypúšťacie G 1/2 | G152: kus | H152: 23 | J152: =ROUND(I152*H152,2) -> 0 | N152: znížená | P152: =O152*H152 -> 0 | Q152: 0.00046 | R152: =Q152*H152 -> 0.01058 | S152: 0 | T152: =S152*H152 -> 0 | AR152: 16 | AT152: K | AU152: 2 | AY152: ROZPOCET | BE152: =IF(N152="základná",J152,0) -> 0 | BF152: =IF(N152="znížená",J152,0) -> 0 | BG152: =IF(N152="zákl. prenesená",J152,0) -> 0 | BH152: =IF(N152="zníž. prenesená",J152,0) -> 0 | BI152: =IF(N152="nulová",J152,0) -> 0 | BJ152: 2 | BK152: =ROUND(I152*H152,2) -> 0 | BL152: 16 | BM152: 46
C153: 24 | D153: K | E153: 734291215 | F153: Filter závitový PICAL G 1 | G153: kus | H153: 2 | J153: =ROUND(I153*H153,2) -> 0 | N153: znížená | P153: =O153*H153 -> 0 | Q153: 0.0005 | R153: =Q153*H153 -> 0.001 | S153: 0 | T153: =S153*H153 -> 0 | AR153: 16 | AT153: K | AU153: 2 | AY153: ROZPOCET | BE153: =IF(N153="základná",J153,0) -> 0 | BF153: =IF(N153="znížená",J153,0) -> 0 | BG153: =IF(N153="zákl. prenesená",J153,0) -> 0 | BH153: =IF(N153="zníž. prenesená",J153,0) -> 0 | BI153: =IF(N153="nulová",J153,0) -> 0 | BJ153: 2 | BK153: =ROUND(I153*H153,2) -> 0 | BL153: 16 | BM153: 48
C154: 25 | D154: K | E154: 734292725 | F154: Kohút guľový priamy G 1 PN 42 do 185°C vnútorný závit s vypúšťaním | G154: kus | H154: 10 | J154: =ROUND(I154*H154,2) -> 0 | N154: znížená | P154: =O154*H154 -> 0 | Q154: 0.00057 | R154: =Q154*H154 -> 0.0057 | S154: 0 | T154: =S154*H154 -> 0 | AR154: 16 | AT154: K | AU154: 2 | AY154: ROZPOCET | BE154: =IF(N154="základná",J154,0) -> 0 | BF154: =IF(N154="znížená",J154,0) -> 0 | BG154: =IF(N154="zákl. prenesená",J154,0) -> 0 | BH154: =IF(N154="zníž. prenesená",J154,0) -> 0 | BI154: =IF(N154="nulová",J154,0) -> 0 | BJ154: 2 | BK154: =ROUND(I154*H154,2) -> 0 | BL154: 16 | BM154: 50
C155: 26 | D155: K | E155: 734300813 | F155: Demontáž horúcovodných armatúr, ventilov do DN 40 | G155: kus | H155: 80 | J155: =ROUND(I155*H155,2) -> 0 | N155: znížená | P155: =O155*H155 -> 0 | Q155: 3e-05 | R155: =Q155*H155 -> 0.0024 | S155: 0.003 | T155: =S155*H155 -> 0.24 | AR155: 16 | AT155: K | AU155: 2 | AY155: ROZPOCET | BE155: =IF(N155="základná",J155,0) -> 0 | BF155: =IF(N155="znížená",J155,0) -> 0 | BG155: =IF(N155="zákl. prenesená",J155,0) -> 0 | BH155: =IF(N155="zníž. prenesená",J155,0) -> 0 | BI155: =IF(N155="nulová",J155,0) -> 0 | BJ155: 2 | BK155: =ROUND(I155*H155,2) -> 0 | BL155: 16 | BM155: 52
C156: 27 | D156: K | E156: 734411111 | F156: Teplomery s ochranným púzdrom priame typ 160 prev. A | G156: kus | H156: 6 | J156: =ROUND(I156*H156,2) -> 0 | N156: znížená | P156: =O156*H156 -> 0 | Q156: 0.00064 | R156: =Q156*H156 -> 0.00384 | S156: 0 | T156: =S156*H156 -> 0 | AR156: 16 | AT156: K | AU156: 2 | AY156: ROZPOCET | BE156: =IF(N156="základná",J156,0) -> 0 | BF156: =IF(N156="znížená",J156,0) -> 0 | BG156: =IF(N156="zákl. prenesená",J156,0) -> 0 | BH156: =IF(N156="zníž. prenesená",J156,0) -> 0 | BI156: =IF(N156="nulová",J156,0) -> 0 | BJ156: 2 | BK156: =ROUND(I156*H156,2) -> 0 | BL156: 16 | BM156: 54
C157: 28 | D157: K | E157: 998734101 | F157: Presun hmôt pre armatúry UK v objektoch výšky do 6 m | G157: t | H157: 0.063 | J157: =ROUND(I157*H157,2) -> 0 | N157: znížená | P157: =O157*H157 -> 0 | Q157: 0 | R157: =Q157*H157 -> 0 | S157: 0 | T157: =S157*H157 -> 0 | AR157: 16 | AT157: K | AU157: 2 | AY157: ROZPOCET | BE157: =IF(N157="základná",J157,0) -> 0 | BF157: =IF(N157="znížená",J157,0) -> 0 | BG157: =IF(N157="zákl. prenesená",J157,0) -> 0 | BH157: =IF(N157="zníž. prenesená",J157,0) -> 0 | BI157: =IF(N157="nulová",J157,0) -> 0 | BJ157: 2 | BK157: =ROUND(I157*H157,2) -> 0 | BL157: 16 | BM157: 56
D158: D | E158: 735 | F158: Vykurovacie telesá | J158: =BK158 -> 0 | P158: =SUM(P159:P172) -> 0 | R158: =SUM(R159:R172) -> 0.63115 | T158: =SUM(T159:T172) -> 0.534 | AR158: 2 | AT158: D | AU158: 1 | AY158: ROZPOCET | BK158: =SUM(BK159:BK172) -> 0
C159: 29 | D159: K | E159: 735121810 | F159: Demontáž vykurovacích telies oceľových článkových | G159: m2 | H159: 3 | J159: =ROUND(I159*H159,2) -> 0 | N159: znížená | P159: =O159*H159 -> 0 | Q159: 0 | R159: =Q159*H159 -> 0 | S159: 0.01 | T159: =S159*H159 -> 0.03 | AR159: 16 | AT159: K | AU159: 2 | AY159: ROZPOCET | BE159: =IF(N159="základná",J159,0) -> 0 | BF159: =IF(N159="znížená",J159,0) -> 0 | BG159: =IF(N159="zákl. prenesená",J159,0) -> 0 | BH159: =IF(N159="zníž. prenesená",J159,0) -> 0 | BI159: =IF(N159="nulová",J159,0) -> 0 | BJ159: 2 | BK159: =ROUND(I159*H159,2) -> 0 | BL159: 16 | BM159: 58
C160: 30 | D160: K | E160: 735151821 | F160: Demontáž vykurovacích telies panelových dvojrad. do 1500 mm | G160: kus | H160: 21 | J160: =ROUND(I160*H160,2) -> 0 | N160: znížená | P160: =O160*H160 -> 0 | Q160: 0.0001 | R160: =Q160*H160 -> 0.0021 | S160: 0.024 | T160: =S160*H160 -> 0.504 | AR160: 16 | AT160: K | AU160: 2 | AY160: ROZPOCET | BE160: =IF(N160="základná",J160,0) -> 0 | BF160: =IF(N160="znížená",J160,0) -> 0 | BG160: =IF(N160="zákl. prenesená",J160,0) -> 0 | BH160: =IF(N160="zníž. prenesená",J160,0) -> 0 | BI160: =IF(N160="nulová",J160,0) -> 0 | BJ160: 2 | BK160: =ROUND(I160*H160,2) -> 0 | BL160: 16 | BM160: 60
C161: 31 | D161: K | E161: 735159639 | F161: Montáž vyhr. telies oc.doskové dvojité bez odvzd. KORAD-21K Hdo600/Ldo2000mm | G161: kus | H161: 10 | J161: =ROUND(I161*H161,2) -> 0 | N161: znížená | P161: =O161*H161 -> 0 | Q161: 0.00014 | R161: =Q161*H161 -> 0.0014 | S161: 0 | T161: =S161*H161 -> 0 | AR161: 16 | AT161: K | AU161: 2 | AY161: ROZPOCET | BE161: =IF(N161="základná",J161,0) -> 0 | BF161: =IF(N161="znížená",J161,0) -> 0 | BG161: =IF(N161="zákl. prenesená",J161,0) -> 0 | BH161: =IF(N161="zníž. prenesená",J161,0) -> 0 | BI161: =IF(N161="nulová",J161,0) -> 0 | BJ161: 2 | BK161: =ROUND(I161*H161,2) -> 0 | BL161: 16 | BM161: 62
C162: 32 | D162: M | E162: 484521031 | F162: Teleso vyh.doskové dvojité s 1xkonverkt. typ 21K s krytmi H600 L700 Korad P90 | G162: kus | H162: 4 | J162: =ROUND(I162*H162,2) -> 0 | N162: znížená | P162: =O162*H162 -> 0 | Q162: 0.0217 | R162: =Q162*H162 -> 0.0868 | S162: 0 | T162: =S162*H162 -> 0 | AR162: 32 | AT162: M | AU162: 2 | AY162: ROZPOCET | BE162: =IF(N162="základná",J162,0) -> 0 | BF162: =IF(N162="znížená",J162,0) -> 0 | BG162: =IF(N162="zákl. prenesená",J162,0) -> 0 | BH162: =IF(N162="zníž. prenesená",J162,0) -> 0 | BI162: =IF(N162="nulová",J162,0) -> 0 | BJ162: 2 | BK162: =ROUND(I162*H162,2) -> 0 | BL162: 16 | BM162: 64
C163: 33 | D163: M | E163: 484521071 | F163: Teleso vyh.doskové dvojité s 1xkonverkt. typ 21K s krytmi H600 L1100 Korad P90 | G163: kus | H163: 5 | J163: =ROUND(I163*H163,2) -> 0 | N163: znížená | P163: =O163*H163 -> 0 | Q163: 0.0341 | R163: =Q163*H163 -> 0.1705 | S163: 0 | T163: =S163*H163 -> 0 | AR163: 32 | AT163: M | AU163: 2 | AY163: ROZPOCET | BE163: =IF(N163="základná",J163,0) -> 0 | BF163: =IF(N163="znížená",J163,0) -> 0 | BG163: =IF(N163="zákl. prenesená",J163,0) -> 0 | BH163: =IF(N163="zníž. prenesená",J163,0) -> 0 | BI163: =IF(N163="nulová",J163,0) -> 0 | BJ163: 2 | BK163: =ROUND(I163*H163,2) -> 0 | BL163: 16 | BM163: 66
C164: 34 | D164: M | E164: 484521111 | F164: Teleso vyh.doskové dvojité s 1xkonverkt. typ 21K s krytmi H600 L1500 Korad P90 | G164: kus | H164: 1 | J164: =ROUND(I164*H164,2) -> 0 | N164: znížená | P164: =O164*H164 -> 0 | Q164: 0.0465 | R164: =Q164*H164 -> 0.0465 | S164: 0 | T164: =S164*H164 -> 0 | AR164: 32 | AT164: M | AU164: 2 | AY164: ROZPOCET | BE164: =IF(N164="základná",J164,0) -> 0 | BF164: =IF(N164="znížená",J164,0) -> 0 | BG164: =IF(N164="zákl. prenesená",J164,0) -> 0 | BH164: =IF(N164="zníž. prenesená",J164,0) -> 0 | BI164: =IF(N164="nulová",J164,0) -> 0 | BJ164: 2 | BK164: =ROUND(I164*H164,2) -> 0 | BL164: 16 | BM164: 68
C165: 35 | D165: K | E165: 735159641 | F165: Montáž vyhr. telies oc.doskové dvojité bez odvzd. KORAD-21K Hdo900/Ldo2000mm | G165: kus | H165: 9 | J165: =ROUND(I165*H165,2) -> 0 | N165: znížená | P165: =O165*H165 -> 0 | Q165: 0.00014 | R165: =Q165*H165 -> 0.00126 | S165: 0 | T165: =S165*H165 -> 0 | AR165: 16 | AT165: K | AU165: 2 | AY165: ROZPOCET | BE165: =IF(N165="základná",J165,0) -> 0 | BF165: =IF(N165="znížená",J165,0) -> 0 | BG165: =IF(N165="zákl. prenesená",J165,0) -> 0 | BH165: =IF(N165="zníž. prenesená",J165,0) -> 0 | BI165: =IF(N165="nulová",J165,0) -> 0 | BJ165: 2 | BK165: =ROUND(I165*H165,2) -> 0 | BL165: 16 | BM165: 70
C166: 36 | D166: M | E166: 484531459 | F166: Teleso vyh.doskové dvojité s 1xkonvekt. typ 21K s krytmi H900 L500 Korad P90 | G166: kus | H166: 1 | J166: =ROUND(I166*H166,2) -> 0 | N166: znížená | P166: =O166*H166 -> 0 | Q166: 0.02303 | R166: =Q166*H166 -> 0.02303 | S166: 0 | T166: =S166*H166 -> 0 | AR166: 32 | AT166: M | AU166: 2 | AY166: ROZPOCET | BE166: =IF(N166="základná",J166,0) -> 0 | BF166: =IF(N166="znížená",J166,0) -> 0 | BG166: =IF(N166="zákl. prenesená",J166,0) -> 0 | BH166: =IF(N166="zníž. prenesená",J166,0) -> 0 | BI166: =IF(N166="nulová",J166,0) -> 0 | BJ166: 2 | BK166: =ROUND(I166*H166,2) -> 0 | BL166: 16 | BM166: 72
...

Sheet 05 - SO 01 Strecha 
L2: >> skryté stĺpce << | AT2: {57578ba5-03c3-44ef-9421-6d73cb15acba}
AT3: 0
D4: KRYCÍ LIST ROZPOČTU | M4: v --- nižšie sa nachádzajú doplnkové a pomocné údaje k zostavám --- v | AT4: False
D6: Stavba:
E7: ='Rekapitulácia stavby'!K6 -> Rekonštrukcia objektu Biovetská 36, Nitra - 1.etapa
D8: Objekt:
E9: 05 - SO 01 Strecha
D11: JKSO: | I11: KS:
D12: Miesto: | F12: Biovetská | I12: Dátum: | J12: ='Rekapitulácia stavby'!AN8 -> 14. 12. 2022
D14: Objednávateľ: | I14: IČO:
E15: Mesto Nitra | I15: IČ DPH:
D17: Zhotoviteľ: | I17: IČO: | J17: ='Rekapitulácia stavby'!AN13 -> Vyplň údaj
E18: ='Rekapitulácia stavby'!E14 -> Vyplň údaj | I18: IČ DPH: | J18: ='Rekapitulácia stavby'!AN14 -> Vyplň údaj
D20: Projektant: | I20: IČO:
E21: SOAR - ING. BÁRTA JIŘÍ | I21: IČ DPH:
D23: Spracovateľ: | I23: IČO:
E24: SOAR - ING. BÁRTA JIŘÍ | I24: IČ DPH:
D26: Poznámka:
D30: Cena bez DPH | J30: =ROUND(J118, 2) -> 0
F32: Základ dane | I32: Sadzba dane | J32: Výška dane
D33: DPH | E33: základná | F33: =ROUND((SUM(BE118:BE135)), 2) -> 0 | I33: 0.2 | J33: =ROUND(((SUM(BE118:BE135))*I33), 2) -> 0
E34: znížená | F34: =ROUND((SUM(BF118:BF135)), 2) -> 0 | I34: 0.2 | J34: =ROUND(((SUM(BF118:BF135))*I34), 2) -> 0
E35: zákl. prenesená | F35: =ROUND((SUM(BG118:BG135)), 2) -> 0 | I35: 0.2 | J35: =0 -> 0
E36: zníž. prenesená | F36: =ROUND((SUM(BH118:BH135)), 2) -> 0 | I36: 0.2 | J36: =0 -> 0
E37: nulová | F37: =ROUND((SUM(BI118:BI135)), 2) -> 0 | I37: 0 | J37: =0 -> 0
D39: Cena s DPH | G39: v | H39: EUR | J39: =SUM(J30:J37) -> 0
D50: Projektant | G50: Spracovateľ
D61: Dátum a podpis: | F61: Pečiatka | G61: Dátum a podpis: | J61: Pečiatka
D65: Objednávateľ | G65: Zhotoviteľ
D76: Dátum a podpis: | F76: Pečiatka | G76: Dátum a podpis: | J76: Pečiatka
C82: REKAPITULÁCIA ROZPOČTU
C84: Stavba:
E85: =E7 -> Rekonštrukcia objektu Biovetská 36, Nitra - 1.etapa
C86: Objekt:
E87: =E9 -> 05 - SO 01 Strecha
C89: Miesto: | F89: =F12 -> Biovetská | I89: Dátum: | J89: =IF(J12="","",J12) -> 14. 12. 2022
C91: Objednávateľ: | F91: =E15 -> Mesto Nitra | I91: Projektant: | J91: =E21 -> SOAR - ING. BÁRTA JIŘÍ
C92: Zhotoviteľ: | F92: =IF(E18="","",E18) -> Vyplň údaj | I92: Spracovateľ: | J92: =E24 -> SOAR - ING. BÁRTA JIŘÍ
C94: Kód dielu - Popis | J94: Cena celkom [EUR]
C96: Náklady z rozpočtu | J96: =J118 -> 0 | AU96: -1
D97: PSV - Práce a dodávky PSV | J97: =J119 -> 0
D98: 712 - Izolácie striech, povlakové krytiny | J98: =J120 -> 0
C105: ROZPOČET
C107: Stavba:
E108: =E7 -> Rekonštrukcia objektu Biovetská 36, Nitra - 1.etapa
C109: Objekt:
E110: =E9 -> 05 - SO 01 Strecha
C112: Miesto: | F112: =F12 -> Biovetská | I112: Dátum: | J112: =IF(J12="","",J12) -> 14. 12. 2022
C114: Objednávateľ: | F114: =E15 -> Mesto Nitra | I114: Projektant: | J114: =E21 -> SOAR - ING. BÁRTA JIŘÍ
C115: Zhotoviteľ: | F115: =IF(E18="","",E18) -> Vyplň údaj | I115: Spracovateľ: | J115: =E24 -> SOAR - ING. BÁRTA JIŘÍ
C117: PČ | D117: Typ | E117: Kód | F117: Popis | G117: MJ | H117: Množstvo | I117: J.cena [EUR] | J117: Cena celkom [EUR] | K117: Cenová sústava | N117: DPH | O117: J. Nh [h] | P117: Nh celkom [h] | Q117: J. hmotnosť [t] | R117: Hmotnosť celkom [t] | S117: J. suť [t] | T117: Suť Celkom [t]
C118: Náklady z rozpočtu | J118: =BK118 -> 0 | P118: =P119 -> 0 | R118: =R119 -> 0 | T118: =T119 -> 0 | AT118: D | AU118: -1 | BK118: =BK119 -> 0
D119: D | E119: PSV | F119: Práce a dodávky PSV | J119: =BK119 -> 0 | P119: =P120 -> 0 | R119: =R120 -> 0 | T119: =T120 -> 0 | AR119: 2 | AT119: D | AU119: 0 | AY119: ROZPOCET | BK119: =BK120 -> 0
D120: D | E120: 712 | F120: Izolácie striech, povlakové krytiny | J120: =BK120 -> 0 | P120: =SUM(P121:P135) -> 0 | R120: =SUM(R121:R135) -> 0 | T120: =SUM(T121:T135) -> 0 | AR120: 2 | AT120: D | AU120: 1 | AY120: ROZPOCET | BK120: =SUM(BK121:BK135) -> 0
C121: 1 | D121: K | E121: Pol1 | F121: Zhotovenie povlakovej krytiny striech fóliou PVC vodorovne + zvislo | G121: m2 | H121: 173 | J121: =ROUND(I121*H121,2) -> 0 | N121: znížená | P121: =O121*H121 -> 0 | Q121: 0 | R121: =Q121*H121 -> 0 | S121: 0 | T121: =S121*H121 -> 0 | AR121: 16 | AT121: K | AU121: 2 | AY121: ROZPOCET | BE121: =IF(N121="základná",J121,0) -> 0 | BF121: =IF(N121="znížená",J121,0) -> 0 | BG121: =IF(N121="zákl. prenesená",J121,0) -> 0 | BH121: =IF(N121="zníž. prenesená",J121,0) -> 0 | BI121: =IF(N121="nulová",J121,0) -> 0 | BJ121: 2 | BK121: =ROUND(I121*H121,2) -> 0 | BL121: 16 | BM121: 2
C122: 2 | D122: K | E122: Pol2 | F122: Zhotovenie povlakovej krytiny striech podkladnou textíliou vodorovne + zvislo | G122: m2 | H122: 173 | J122: =ROUND(I122*H122,2) -> 0 | N122: znížená | P122: =O122*H122 -> 0 | Q122: 0 | R122: =Q122*H122 -> 0 | S122: 0 | T122: =S122*H122 -> 0 | AR122: 16 | AT122: K | AU122: 2 | AY122: ROZPOCET | BE122: =IF(N122="základná",J122,0) -> 0 | BF122: =IF(N122="znížená",J122,0) -> 0 | BG122: =IF(N122="zákl. prenesená",J122,0) -> 0 | BH122: =IF(N122="zníž. prenesená",J122,0) -> 0 | BI122: =IF(N122="nulová",J122,0) -> 0 | BJ122: 2 | BK122: =ROUND(I122*H122,2) -> 0 | BL122: 16 | BM122: 4
C123: 3 | D123: K | E123: Pol3 | F123: Pripevnenie izolácie kotvacimi profilmi | G123: m | H123: 116 | J123: =ROUND(I123*H123,2) -> 0 | N123: znížená | P123: =O123*H123 -> 0 | Q123: 0 | R123: =Q123*H123 -> 0 | S123: 0 | T123: =S123*H123 -> 0 | AR123: 16 | AT123: K | AU123: 2 | AY123: ROZPOCET | BE123: =IF(N123="základná",J123,0) -> 0 | BF123: =IF(N123="znížená",J123,0) -> 0 | BG123: =IF(N123="zákl. prenesená",J123,0) -> 0 | BH123: =IF(N123="zníž. prenesená",J123,0) -> 0 | BI123: =IF(N123="nulová",J123,0) -> 0 | BJ123: 2 | BK123: =ROUND(I123*H123,2) -> 0 | BL123: 16 | BM123: 6
C124: 4 | D124: K | E124: Pol4 | F124: Kotviace terče | G124: ks | H124: 450 | J124: =ROUND(I124*H124,2) -> 0 | N124: znížená | P124: =O124*H124 -> 0 | Q124: 0 | R124: =Q124*H124 -> 0 | S124: 0 | T124: =S124*H124 -> 0 | AR124: 16 | AT124: K | AU124: 2 | AY124: ROZPOCET | BE124: =IF(N124="základná",J124,0) -> 0 | BF124: =IF(N124="znížená",J124,0) -> 0 | BG124: =IF(N124="zákl. prenesená",J124,0) -> 0 | BH124: =IF(N124="zníž. prenesená",J124,0) -> 0 | BI124: =IF(N124="nulová",J124,0) -> 0 | BJ124: 2 | BK124: =ROUND(I124*H124,2) -> 0 | BL124: 16 | BM124: 10
C125: 5 | D125: K | E125: Pol5 | F125: Montáž tepelnej izoilácie | G125: m2 | H125: 72 | J125: =ROUND(I125*H125,2) -> 0 | N125: znížená | P125: =O125*H125 -> 0 | Q125: 0 | R125: =Q125*H125 -> 0 | S125: 0 | T125: =S125*H125 -> 0 | AR125: 16 | AT125: K | AU125: 2 | AY125: ROZPOCET | BE125: =IF(N125="základná",J125,0) -> 0 | BF125: =IF(N125="znížená",J125,0) -> 0 | BG125: =IF(N125="zákl. prenesená",J125,0) -> 0 | BH125: =IF(N125="zníž. prenesená",J125,0) -> 0 | BI125: =IF(N125="nulová",J125,0) -> 0 | BJ125: 2 | BK125: =ROUND(I125*H125,2) -> 0 | BL125: 16 | BM125: 12
C126: 6 | D126: K | E126: Pol6 | F126: Parozábranová fólia D+ M | G126: m2 | H126: 120 | J126: =ROUND(I126*H126,2) -> 0 | N126: znížená | P126: =O126*H126 -> 0 | Q126: 0 | R126: =Q126*H126 -> 0 | S126: 0 | T126: =S126*H126 -> 0 | AR126: 16 | AT126: K | AU126: 2 | AY126: ROZPOCET | BE126: =IF(N126="základná",J126,0) -> 0 | BF126: =IF(N126="znížená",J126,0) -> 0 | BG126: =IF(N126="zákl. prenesená",J126,0) -> 0 | BH126: =IF(N126="zníž. prenesená",J126,0) -> 0 | BI126: =IF(N126="nulová",J126,0) -> 0 | BJ126: 2 | BK126: =ROUND(I126*H126,2) -> 0 | BL126: 16 | BM126: 14
C127: 7 | D127: M | E127: Pol7 | F127: EPS 150 hr. 50 mm | G127: m2 | H127: 74 | J127: =ROUND(I127*H127,2) -> 0 | N127: znížená | P127: =O127*H127 -> 0 | Q127: 0 | R127: =Q127*H127 -> 0 | S127: 0 | T127: =S127*H127 -> 0 | AR127: 32 | AT127: M | AU127: 2 | AY127: ROZPOCET | BE127: =IF(N127="základná",J127,0) -> 0 | BF127: =IF(N127="znížená",J127,0) -> 0 | BG127: =IF(N127="zákl. prenesená",J127,0) -> 0 | BH127: =IF(N127="zníž. prenesená",J127,0) -> 0 | BI127: =IF(N127="nulová",J127,0) -> 0 | BJ127: 2 | BK127: =ROUND(I127*H127,2) -> 0 | BL127: 16 | BM127: -238043064
C128: 8 | D128: M | E128: Pol8 | F128: EPS 150 hr. 50 mm | G128: m2 | H128: 74 | J128: =ROUND(I128*H128,2) -> 0 | N128: znížená | P128: =O128*H128 -> 0 | Q128: 0 | R128: =Q128*H128 -> 0 | S128: 0 | T128: =S128*H128 -> 0 | AR128: 32 | AT128: M | AU128: 2 | AY128: ROZPOCET | BE128: =IF(N128="základná",J128,0) -> 0 | BF128: =IF(N128="znížená",J128,0) -> 0 | BG128: =IF(N128="zákl. prenesená",J128,0) -> 0 | BH128: =IF(N128="zníž. prenesená",J128,0) -> 0 | BI128: =IF(N128="nulová",J128,0) -> 0 | BJ128: 2 | BK128: =ROUND(I128*H128,2) -> 0 | BL128: 16 | BM128: 387562251
C129: 9 | D129: K | E129: Pol9 | F129: D+M OSB dosky hr.25 mm (rozšírenie atík+ok) | G129: m | H129: 56 | J129: =ROUND(I129*H129,2) -> 0 | N129: znížená | P129: =O129*H129 -> 0 | Q129: 0 | R129: =Q129*H129 -> 0 | S129: 0 | T129: =S129*H129 -> 0 | AR129: 16 | AT129: K | AU129: 2 | AY129: ROZPOCET | BE129: =IF(N129="základná",J129,0) -> 0 | BF129: =IF(N129="znížená",J129,0) -> 0 | BG129: =IF(N129="zákl. prenesená",J129,0) -> 0 | BH129: =IF(N129="zníž. prenesená",J129,0) -> 0 | BI129: =IF(N129="nulová",J129,0) -> 0 | BJ129: 2 | BK129: =ROUND(I129*H129,2) -> 0 | BL129: 16 | BM129: 20
C130: 10 | D130: K | E130: Pol10 | F130: D+M zateplenie atík XPS hr.50 mm vodorovne + zvislo | G130: m2 | H130: 28 | J130: =ROUND(I130*H130,2) -> 0 | N130: znížená | P130: =O130*H130 -> 0 | Q130: 0 | R130: =Q130*H130 -> 0 | S130: 0 | T130: =S130*H130 -> 0 | AR130: 16 | AT130: K | AU130: 2 | AY130: ROZPOCET | BE130: =IF(N130="základná",J130,0) -> 0 | BF130: =IF(N130="znížená",J130,0) -> 0 | BG130: =IF(N130="zákl. prenesená",J130,0) -> 0 | BH130: =IF(N130="zníž. prenesená",J130,0) -> 0 | BI130: =IF(N130="nulová",J130,0) -> 0 | BJ130: 2 | BK130: =ROUND(I130*H130,2) -> 0 | BL130: 16 | BM130: 22
C131: 11 | D131: K | E131: Pol11 | F131: D+M zateplenie zvislých stien komína minerálnou vlnou hr. 30 mm | G131: ks | H131: 1 | J131: =ROUND(I131*H131,2) -> 0 | N131: znížená | P131: =O131*H131 -> 0 | Q131: 0 | R131: =Q131*H131 -> 0 | S131: 0 | T131: =S131*H131 -> 0 | AR131: 16 | AT131: K | AU131: 2 | AY131: ROZPOCET | BE131: =IF(N131="základná",J131,0) -> 0 | BF131: =IF(N131="znížená",J131,0) -> 0 | BG131: =IF(N131="zákl. prenesená",J131,0) -> 0 | BH131: =IF(N131="zníž. prenesená",J131,0) -> 0 | BI131: =IF(N131="nulová",J131,0) -> 0 | BJ131: 2 | BK131: =ROUND(I131*H131,2) -> 0 | BL131: 16 | BM131: 24
C132: 12 | D132: K | E132: Pol12 | F132: Odstránenie pôvodnej asfaltovej izolácie | G132: m2 | H132: 69.28 | J132: =ROUND(I132*H132,2) -> 0 | N132: znížená | P132: =O132*H132 -> 0 | Q132: 0 | R132: =Q132*H132 -> 0 | S132: 0 | T132: =S132*H132 -> 0 | AR132: 16 | AT132: K | AU132: 2 | AY132: ROZPOCET | BE132: =IF(N132="základná",J132,0) -> 0 | BF132: =IF(N132="znížená",J132,0) -> 0 | BG132: =IF(N132="zákl. prenesená",J132,0) -> 0 | BH132: =IF(N132="zníž. prenesená",J132,0) -> 0 | BI132: =IF(N132="nulová",J132,0) -> 0 | BJ132: 2 | BK132: =ROUND(I132*H132,2) -> 0 | BL132: 16 | BM132: 26
... C135: 15 | D135: K | E135: Pol15 | F135: presun hmôt | G135: t | H135: 2.25 | J135: =ROUND(I135*H135,2) -> 0 | N135: znížená | P135: =O135*H135 -> 0 | Q135: 0 | R135: =Q135*H135 -> 0 | S135: 0 | T135: =S135*H135 -> 0 | AR135: 16 | AT135: K | AU135: 2 | AY135: ROZPOCET | BE135: =IF(N135="základná",J135,0) -> 0 | BF135: =IF(N135="znížená",J135,0) -> 0 | BG135: =IF(N135="zákl. prenesená",J135,0) -> 0 | BH135: =IF(N135="zníž. prenesená",J135,0) -> 0 | BI135: =IF(N135="nulová",J135,0) -> 0 | BJ135: 2 | BK135: =ROUND(I135*H135,2) -> 0 | BL135: 16 | BM135: 32

Sheet 06 - Vonkajšia kanalizácia 
L2: >> skryté stĺpce << | AT2: {91b107ef-f2aa-47d2-ab0d-4b98e5ebd438}
AT3: 0
D4: KRYCÍ LIST ROZPOČTU | M4: v --- nižšie sa nachádzajú doplnkové a pomocné údaje k zostavám --- v | AT4: False
D6: Stavba:
E7: ='Rekapitulácia stavby'!K6 -> Rekonštrukcia objektu Biovetská 36, Nitra - 1.etapa
D8: Objekt:
E9: 06 - Vonkajšia kanalizácia
D11: JKSO: | I11: KS:
D12: Miesto: | F12: Biovetská | I12: Dátum: | J12: ='Rekapitulácia stavby'!AN8 -> 14. 12. 2022
D14: Objednávateľ: | I14: IČO:
E15: Mesto Nitra | I15: IČ DPH:
D17: Zhotoviteľ: | I17: IČO: | J17: ='Rekapitulácia stavby'!AN13 -> Vyplň údaj
E18: ='Rekapitulácia stavby'!E14 -> Vyplň údaj | I18: IČ DPH: | J18: ='Rekapitulácia stavby'!AN14 -> Vyplň údaj
D20: Projektant: | I20: IČO:
E21: SOAR - ING. BÁRTA JIŘÍ | I21: IČ DPH:
D23: Spracovateľ: | I23: IČO:
E24: SOAR - ING. BÁRTA JIŘÍ | I24: IČ DPH:
D26: Poznámka:
D30: Cena bez DPH | J30: =ROUND(J121, 2) -> 0
F32: Základ dane | I32: Sadzba dane | J32: Výška dane
D33: DPH | E33: základná | F33: =ROUND((SUM(BE121:BE167)), 2) -> 0 | I33: 0.2 | J33: =ROUND(((SUM(BE121:BE167))*I33), 2) -> 0
E34: znížená | F34: =ROUND((SUM(BF121:BF167)), 2) -> 0 | I34: 0.2 | J34: =ROUND(((SUM(BF121:BF167))*I34), 2) -> 0
E35: zákl. prenesená | F35: =ROUND((SUM(BG121:BG167)), 2) -> 0 | I35: 0.2 | J35: =0 -> 0
E36: zníž. prenesená | F36: =ROUND((SUM(BH121:BH167)), 2) -> 0 | I36: 0.2 | J36: =0 -> 0
E37: nulová | F37: =ROUND((SUM(BI121:BI167)), 2) -> 0 | I37: 0 | J37: =0 -> 0
D39: Cena s DPH | G39: v | H39: EUR | J39: =SUM(J30:J37) -> 0
D50: Projektant | G50: Spracovateľ
D61: Dátum a podpis: | F61: Pečiatka | G61: Dátum a podpis: | J61: Pečiatka
D65: Objednávateľ | G65: Zhotoviteľ
D76: Dátum a podpis: | F76: Pečiatka | G76: Dátum a podpis: | J76: Pečiatka
C82: REKAPITULÁCIA ROZPOČTU
C84: Stavba:
E85: =E7 -> Rekonštrukcia objektu Biovetská 36, Nitra - 1.etapa
C86: Objekt:
E87: =E9 -> 06 - Vonkajšia kanalizácia
C89: Miesto: | F89: =F12 -> Biovetská | I89: Dátum: | J89: =IF(J12="","",J12) -> 14. 12. 2022
C91: Objednávateľ: | F91: =E15 -> Mesto Nitra | I91: Projektant: | J91: =E21 -> SOAR - ING. BÁRTA JIŘÍ
C92: Zhotoviteľ: | F92: =IF(E18="","",E18) -> Vyplň údaj | I92: Spracovateľ: | J92: =E24 -> SOAR - ING. BÁRTA JIŘÍ
C94: Kód dielu - Popis | J94: Cena celkom [EUR]
C96: Náklady z rozpočtu | J96: =J121 -> 0 | AU96: -1
D97: D1 - PRÁCE A DODÁVKY HSV | J97: =J122 -> 0
D98: 1 - ZEMNE PRÁCE | J98: =J123 -> 0
D99: 4 - VODOROVNÉ KONŠTRUKCIE | J99: =J131 -> 0
D100: 8 - RÚROVÉ VEDENIA | J100: =J134 -> 0
D101: 9 - OSTATNÉ KONŠTRUKCIE A PRÁCE | J101: =J159 -> 0
C108: ROZPOČET
C110: Stavba:
E111: =E7 -> Rekonštrukcia objektu Biovetská 36, Nitra - 1.etapa
C112: Objekt:
E113: =E9 -> 06 - Vonkajšia kanalizácia
C115: Miesto: | F115: =F12 -> Biovetská | I115: Dátum: | J115: =IF(J12="","",J12) -> 14. 12. 2022
C117: Objednávateľ: | F117: =E15 -> Mesto Nitra | I117: Projektant: | J117: =E21 -> SOAR - ING. BÁRTA JIŘÍ
C118: Zhotoviteľ: | F118: =IF(E18="","",E18) -> Vyplň údaj | I118: Spracovateľ: | J118: =E24 -> SOAR - ING. BÁRTA JIŘÍ
C120: PČ | D120: Typ | E120: Kód | F120: Popis | G120: MJ | H120: Množstvo | I120: J.cena [EUR] | J120: Cena celkom [EUR] | K120: Cenová sústava | N120: DPH | O120: J. Nh [h] | P120: Nh celkom [h] | Q120: J. hmotnosť [t] | R120: Hmotnosť celkom [t] | S120: J. suť [t] | T120: Suť Celkom [t]
C121: Náklady z rozpočtu | J121: =BK121 -> 0 | P121: =P122 -> 0 | R121: =R122 -> 13.92422 | T121: =T122 -> 0.3896 | AT121: D | AU121: -1 | BK121: =BK122 -> 0
D122: D | E122: D1 | F122: PRÁCE A DODÁVKY HSV | J122: =BK122 -> 0 | P122: =P123+P131+P134+P159 -> 0 | R122: =R123+R131+R134+R159 -> 13.92422 | T122: =T123+T131+T134+T159 -> 0.3896 | AR122: 1 | AT122: D | AU122: 0 | AY122: ROZPOCET | BK122: =BK123+BK131+BK134+BK159 -> 0
D123: D | E123: 1 | F123: ZEMNE PRÁCE | J123: =BK123 -> 0 | P123: =SUM(P124:P130) -> 0 | R123: =SUM(R124:R130) -> 0 | T123: =SUM(T124:T130) -> 0 | AR123: 1 | AT123: D | AU123: 1 | AY123: ROZPOCET | BK123: =SUM(BK124:BK130) -> 0
C124: 1 | D124: K | E124: 132201101 | F124: Hĺbenie rýh šírka do 60 cm v horn. tr. 3 do 100 m3 | G124: m3 | H124: 55.68 | J124: =ROUND(I124*H124,2) -> 0 | N124: znížená | P124: =O124*H124 -> 0 | Q124: 0 | R124: =Q124*H124 -> 0 | S124: 0 | T124: =S124*H124 -> 0 | AR124: 4 | AT124: K | AU124: 2 | AY124: ROZPOCET | BE124: =IF(N124="základná",J124,0) -> 0 | BF124: =IF(N124="znížená",J124,0) -> 0 | BG124: =IF(N124="zákl. prenesená",J124,0) -> 0 | BH124: =IF(N124="zníž. prenesená",J124,0) -> 0 | BI124: =IF(N124="nulová",J124,0) -> 0 | BJ124: 2 | BK124: =ROUND(I124*H124,2) -> 0 | BL124: 4 | BM124: 2
C125: 2 | D125: K | E125: 132201109 | F125: Príplatok za lepivosť horniny tr. 3 v rýhach š. do 60 cm | G125: m3 | H125: 55.68 | J125: =ROUND(I125*H125,2) -> 0 | N125: znížená | P125: =O125*H125 -> 0 | Q125: 0 | R125: =Q125*H125 -> 0 | S125: 0 | T125: =S125*H125 -> 0 | AR125: 4 | AT125: K | AU125: 2 | AY125: ROZPOCET | BE125: =IF(N125="základná",J125,0) -> 0 | BF125: =IF(N125="znížená",J125,0) -> 0 | BG125: =IF(N125="zákl. prenesená",J125,0) -> 0 | BH125: =IF(N125="zníž. prenesená",J125,0) -> 0 | BI125: =IF(N125="nulová",J125,0) -> 0 | BJ125: 2 | BK125: =ROUND(I125*H125,2) -> 0 | BL125: 4 | BM125: 4
C126: 3 | D126: K | E126: 133201101 | F126: Hĺbenie šachiet v horn. tr. 3 do 100 m3 | G126: m3 | H126: 9.295 | J126: =ROUND(I126*H126,2) -> 0 | N126: znížená | P126: =O126*H126 -> 0 | Q126: 0 | R126: =Q126*H126 -> 0 | S126: 0 | T126: =S126*H126 -> 0 | AR126: 4 | AT126: K | AU126: 2 | AY126: ROZPOCET | BE126: =IF(N126="základná",J126,0) -> 0 | BF126: =IF(N126="znížená",J126,0) -> 0 | BG126: =IF(N126="zákl. prenesená",J126,0) -> 0 | BH126: =IF(N126="zníž. prenesená",J126,0) -> 0 | BI126: =IF(N126="nulová",J126,0) -> 0 | BJ126: 2 | BK126: =ROUND(I126*H126,2) -> 0 | BL126: 4 | BM126: 6
C127: 4 | D127: K | E127: 133201109 | F127: Príplatok za lepivosť horniny tr.3 | G127: m3 | H127: 9.295 | J127: =ROUND(I127*H127,2) -> 0 | N127: znížená | P127: =O127*H127 -> 0 | Q127: 0 | R127: =Q127*H127 -> 0 | S127: 0 | T127: =S127*H127 -> 0 | AR127: 4 | AT127: K | AU127: 2 | AY127: ROZPOCET | BE127: =IF(N127="základná",J127,0) -> 0 | BF127: =IF(N127="znížená",J127,0) -> 0 | BG127: =IF(N127="zákl. prenesená",J127,0) -> 0 | BH127: =IF(N127="zníž. prenesená",J127,0) -> 0 | BI127: =IF(N127="nulová",J127,0) -> 0 | BJ127: 2 | BK127: =ROUND(I127*H127,2) -> 0 | BL127: 4 | BM127: 8
C128: 5 | D128: K | E128: 162201101 | F128: Vodorovné premiestnenie výkopu do 20 m horn. tr. 1-4 | G128: m3 | H128: 9.295 | J128: =ROUND(I128*H128,2) -> 0 | N128: znížená | P128: =O128*H128 -> 0 | Q128: 0 | R128: =Q128*H128 -> 0 | S128: 0 | T128: =S128*H128 -> 0 | AR128: 4 | AT128: K | AU128: 2 | AY128: ROZPOCET | BE128: =IF(N128="základná",J128,0) -> 0 | BF128: =IF(N128="znížená",J128,0) -> 0 | BG128: =IF(N128="zákl. prenesená",J128,0) -> 0 | BH128: =IF(N128="zníž. prenesená",J128,0) -> 0 | BI128: =IF(N128="nulová",J128,0) -> 0 | BJ128: 2 | BK128: =ROUND(I128*H128,2) -> 0 | BL128: 4 | BM128: 10
C129: 6 | D129: K | E129: 174101001 | F129: Zásyp zhutnený jám, šachiet, rýh, zárezov alebo okolo objektov do 100 m3 | G129: m3 | H129: 41.12 | J129: =ROUND(I129*H129,2) -> 0 | N129: znížená | P129: =O129*H129 -> 0 | Q129: 0 | R129: =Q129*H129 -> 0 | S129: 0 | T129: =S129*H129 -> 0 | AR129: 4 | AT129: K | AU129: 2 | AY129: ROZPOCET | BE129: =IF(N129="základná",J129,0) -> 0 | BF129: =IF(N129="znížená",J129,0) -> 0 | BG129: =IF(N129="zákl. prenesená",J129,0) -> 0 | BH129: =IF(N129="zníž. prenesená",J129,0) -> 0 | BI129: =IF(N129="nulová",J129,0) -> 0 | BJ129: 2 | BK129: =ROUND(I129*H129,2) -> 0 | BL129: 4 | BM129: 12
C130: 7 | D130: K | E130: 175101101 | F130: Obsyp potrubia bez prehodenia sypaniny | G130: m3 | H130: 11.52 | J130: =ROUND(I130*H130,2) -> 0 | N130: znížená | P130: =O130*H130 -> 0 | Q130: 0 | R130: =Q130*H130 -> 0 | S130: 0 | T130: =S130*H130 -> 0 | AR130: 4 | AT130: K | AU130: 2 | AY130: ROZPOCET | BE130: =IF(N130="základná",J130,0) -> 0 | BF130: =IF(N130="znížená",J130,0) -> 0 | BG130: =IF(N130="zákl. prenesená",J130,0) -> 0 | BH130: =IF(N130="zníž. prenesená",J130,0) -> 0 | BI130: =IF(N130="nulová",J130,0) -> 0 | BJ130: 2 | BK130: =ROUND(I130*H130,2) -> 0 | BL130: 4 | BM130: 14
D131: D | E131: 4 | F131: VODOROVNÉ KONŠTRUKCIE | J131: =BK131 -> 0 | P131: =SUM(P132:P133) -> 0 | R131: =SUM(R132:R133) -> 4.9511296 | T131: =SUM(T132:T133) -> 0 | AR131: 1 | AT131: D | AU131: 1 | AY131: ROZPOCET | BK131: =SUM(BK132:BK133) -> 0
C132: 8 | D132: K | E132: 451573111 | F132: Lôžko pod potrubie, stoky v otvorenom výkope z piesku a štrkopiesku | G132: m3 | H132: 2.117 | J132: =ROUND(I132*H132,2) -> 0 | N132: znížená | P132: =O132*H132 -> 0 | Q132: 1.89077 | R132: =Q132*H132 -> 4.0027601 | S132: 0 | T132: =S132*H132 -> 0 | AR132: 4 | AT132: K | AU132: 2 | AY132: ROZPOCET | BE132: =IF(N132="základná",J132,0) -> 0 | BF132: =IF(N132="znížená",J132,0) -> 0 | BG132: =IF(N132="zákl. prenesená",J132,0) -> 0 | BH132: =IF(N132="zníž. prenesená",J132,0) -> 0 | BI132: =IF(N132="nulová",J132,0) -> 0 | BJ132: 2 | BK132: =ROUND(I132*H132,2) -> 0 | BL132: 4 | BM132: 16
C133: 9 | D133: K | E133: 452303114 | F133: Podkladné konštrukcie z betónu tr. C16/20 | G133: m3 | H133: 0.392 | J133: =ROUND(I133*H133,2) -> 0 | N133: znížená | P133: =O133*H133 -> 0 | Q133: 2.41931 | R133: =Q133*H133 -> 0.94836952 | S133: 0 | T133: =S133*H133 -> 0 | AR133: 4 | AT133: K | AU133: 2 | AY133: ROZPOCET | BE133: =IF(N133="základná",J133,0) -> 0 | BF133: =IF(N133="znížená",J133,0) -> 0 | BG133: =IF(N133="zákl. prenesená",J133,0) -> 0 | BH133: =IF(N133="zníž. prenesená",J133,0) -> 0 | BI133: =IF(N133="nulová",J133,0) -> 0 | BJ133: 2 | BK133: =ROUND(I133*H133,2) -> 0 | BL133: 4 | BM133: 18
D134: D | E134: 8 | F134: RÚROVÉ VEDENIA | J134: =BK134 -> 0 | P134: =SUM(P135:P158) -> 0 | R134: =SUM(R135:R158) -> 8.57285 | T134: =SUM(T135:T158) -> 0 | AR134: 1 | AT134: D | AU134: 1 | AY134: ROZPOCET | BK134: =SUM(BK135:BK158) -> 0
C135: 10 | D135: K | E135: 871181121 | F135: Montáž potrubia z tlakových rúrok polyetylénových d 50 | G135: m | H135: 20 | J135: =ROUND(I135*H135,2) -> 0 | N135: znížená | P135: =O135*H135 -> 0 | Q135: 0 | R135: =Q135*H135 -> 0 | S135: 0 | T135: =S135*H135 -> 0 | AR135: 4 | AT135: K | AU135: 2 | AY135: ROZPOCET | BE135: =IF(N135="základná",J135,0) -> 0 | BF135: =IF(N135="znížená",J135,0) -> 0 | BG135: =IF(N135="zákl. prenesená",J135,0) -> 0 | BH135: =IF(N135="zníž. prenesená",J135,0) -> 0 | BI135: =IF(N135="nulová",J135,0) -> 0 | BJ135: 2 | BK135: =ROUND(I135*H135,2) -> 0 | BL135: 4 | BM135: 20
C136: 11 | D136: M | E136: 286136545 | F136: Rúra polyetylénová tlaková PN 10 LDPE (rPE) d 50x6,9 | G136: m | H136: 20 | J136: =ROUND(I136*H136,2) -> 0 | N136: znížená | P136: =O136*H136 -> 0 | Q136: 0.00091 | R136: =Q136*H136 -> 0.0182 | S136: 0 | T136: =S136*H136 -> 0 | AR136: 8 | AT136: M | AU136: 2 | AY136: ROZPOCET | BE136: =IF(N136="základná",J136,0) -> 0 | BF136: =IF(N136="znížená",J136,0) -> 0 | BG136: =IF(N136="zákl. prenesená",J136,0) -> 0 | BH136: =IF(N136="zníž. prenesená",J136,0) -> 0 | BI136: =IF(N136="nulová",J136,0) -> 0 | BJ136: 2 | BK136: =ROUND(I136*H136,2) -> 0 | BL136: 4 | BM136: 22
C137: 12 | D137: K | E137: 871251111 | F137: Montáž potrubia z tlakových rúrok z tvrdého PVC d 110, tesnených gumovým krúžkom | G137: m | H137: 4 | J137: =ROUND(I137*H137,2) -> 0 | N137: znížená | P137: =O137*H137 -> 0 | Q137: 6e-05 | R137: =Q137*H137 -> 0.00024 | S137: 0 | T137: =S137*H137 -> 0 | AR137: 4 | AT137: K | AU137: 2 | AY137: ROZPOCET | BE137: =IF(N137="základná",J137,0) -> 0 | BF137: =IF(N137="znížená",J137,0) -> 0 | BG137: =IF(N137="zákl. prenesená",J137,0) -> 0 | BH137: =IF(N137="zníž. prenesená",J137,0) -> 0 | BI137: =IF(N137="nulová",J137,0) -> 0 | BJ137: 2 | BK137: =ROUND(I137*H137,2) -> 0 | BL137: 4 | BM137: 24
C138: 13 | D138: M | E138: 2863N8016 | F138: Rúra kanalizačná PVC-U hladká s hrdlom 140x3,6x1000 - 41 10 21 | G138: kus | H138: 4 | J138: =ROUND(I138*H138,2) -> 0 | N138: znížená | P138: =O138*H138 -> 0 | Q138: 0.00187 | R138: =Q138*H138 -> 0.00748 | S138: 0 | T138: =S138*H138 -> 0 | AR138: 8 | AT138: M | AU138: 2 | AY138: ROZPOCET | BE138: =IF(N138="základná",J138,0) -> 0 | BF138: =IF(N138="znížená",J138,0) -> 0 | BG138: =IF(N138="zákl. prenesená",J138,0) -> 0 | BH138: =IF(N138="zníž. prenesená",J138,0) -> 0 | BI138: =IF(N138="nulová",J138,0) -> 0 | BJ138: 2 | BK138: =ROUND(I138*H138,2) -> 0 | BL138: 4 | BM138: 26
C139: 14 | D139: M | E139: 286504490 | F139: Koleno odpadové PVC d140/2,9mm 87st. | G139: kus | H139: 3 | J139: =ROUND(I139*H139,2) -> 0 | N139: znížená | P139: =O139*H139 -> 0 | Q139: 0.0011 | R139: =Q139*H139 -> 0.0033 | S139: 0 | T139: =S139*H139 -> 0 | AR139: 8 | AT139: M | AU139: 2 | AY139: ROZPOCET | BE139: =IF(N139="základná",J139,0) -> 0 | BF139: =IF(N139="znížená",J139,0) -> 0 | BG139: =IF(N139="zákl. prenesená",J139,0) -> 0 | BH139: =IF(N139="zníž. prenesená",J139,0) -> 0 | BI139: =IF(N139="nulová",J139,0) -> 0 | BJ139: 2 | BK139: =ROUND(I139*H139,2) -> 0 | BL139: 4 | BM139: 28
C140: 15 | D140: K | E140: 871311111 | F140: Montáž potrubia z tlakových rúrok z tvrdého PVC d 160, tesnených gumovým krúžkom | G140: m | H140: 40 | J140: =ROUND(I140*H140,2) -> 0 | N140: znížená | P140: =O140*H140 -> 0 | Q140: 0.0001 | R140: =Q140*H140 -> 0.004 | S140: 0 | T140: =S140*H140 -> 0 | AR140: 4 | AT140: K | AU140: 2 | AY140: ROZPOCET | BE140: =IF(N140="základná",J140,0) -> 0 | BF140: =IF(N140="znížená",J140,0) -> 0 | BG140: =IF(N140="zákl. prenesená",J140,0) -> 0 | BH140: =IF(N140="zníž. prenesená",J140,0) -> 0 | BI140: =IF(N140="nulová",J140,0) -> 0 | BJ140: 2 | BK140: =ROUND(I140*H140,2) -> 0 | BL140: 4 | BM140: 30
C141: 16 | D141: M | E141: 2863N8021 | F141: Rúra kanalizačná PVC-U hladká s hrdlom 160x4,0x1000 - 41 10 35 | G141: kus | H141: 40 | J141: =ROUND(I141*H141,2) -> 0 | N141: znížená | P141: =O141*H141 -> 0 | Q141: 0.00235 | R141: =Q141*H141 -> 0.094 | S141: 0 | T141: =S141*H141 -> 0 | AR141: 8 | AT141: M | AU141: 2 | AY141: ROZPOCET | BE141: =IF(N141="základná",J141,0) -> 0 | BF141: =IF(N141="znížená",J141,0) -> 0 | BG141: =IF(N141="zákl. prenesená",J141,0) -> 0 | BH141: =IF(N141="zníž. prenesená",J141,0) -> 0 | BI141: =IF(N141="nulová",J141,0) -> 0 | BJ141: 2 | BK141: =ROUND(I141*H141,2) -> 0 | BL141: 4 | BM141: 32
C142: 17 | D142: M | E142: 286506630 | F142: Koleno kanalizačné PVC d 160/87° | G142: kus | H142: 6 | J142: =ROUND(I142*H142,2) -> 0 | N142: znížená | P142: =O142*H142 -> 0 | Q142: 0.0008 | R142: =Q142*H142 -> 0.0048 | S142: 0 | T142: =S142*H142 -> 0 | AR142: 8 | AT142: M | AU142: 2 | AY142: ROZPOCET | BE142: =IF(N142="základná",J142,0) -> 0 | BF142: =IF(N142="znížená",J142,0) -> 0 | BG142: =IF(N142="zákl. prenesená",J142,0) -> 0 | BH142: =IF(N142="zníž. prenesená",J142,0) -> 0 | BI142: =IF(N142="nulová",J142,0) -> 0 | BJ142: 2 | BK142: =ROUND(I142*H142,2) -> 0 | BL142: 4 | BM142: 34
C143: 18 | D143: M | E143: 286507050 | F143: Odbočky kanalizačné PVC d160/140 mm | G143: kus | H143: 3 | J143: =ROUND(I143*H143,2) -> 0 | N143: znížená | P143: =O143*H143 -> 0 | Q143: 0.00145 | R143: =Q143*H143 -> 0.00435 | S143: 0 | T143: =S143*H143 -> 0 | AR143: 8 | AT143: M | AU143: 2 | AY143: ROZPOCET | BE143: =IF(N143="základná",J143,0) -> 0 | BF143: =IF(N143="znížená",J143,0) -> 0 | BG143: =IF(N143="zákl. prenesená",J143,0) -> 0 | BH143: =IF(N143="zníž. prenesená",J143,0) -> 0 | BI143: =IF(N143="nulová",J143,0) -> 0 | BJ143: 2 | BK143: =ROUND(I143*H143,2) -> 0 | BL143: 4 | BM143: 36
C144: 19 | D144: K | E144: 891173111 | F144: Montáž vodovodných ventilov hlavných pre prípojky DN 32 | G144: kus | H144: 2 | J144: =ROUND(I144*H144,2) -> 0 | N144: znížená | P144: =O144*H144 -> 0 | Q144: 1e-05 | R144: =Q144*H144 -> 2e-05 | S144: 0 | T144: =S144*H144 -> 0 | AR144: 4 | AT144: K | AU144: 2 | AY144: ROZPOCET | BE144: =IF(N144="základná",J144,0) -> 0 | BF144: =IF(N144="znížená",J144,0) -> 0 | BG144: =IF(N144="zákl. prenesená",J144,0) -> 0 | BH144: =IF(N144="zníž. prenesená",J144,0) -> 0 | BI144: =IF(N144="nulová",J144,0) -> 0 | BJ144: 2 | BK144: =ROUND(I144*H144,2) -> 0 | BL144: 4 | BM144: 38
C145: 20 | D145: M | E145: 143212180 | F145: Rúrky závitové bežné 11343 pozinkované 5/4 | G145: m | H145: 8 | J145: =ROUND(I145*H145,2) -> 0 | N145: znížená | P145: =O145*H145 -> 0 | Q145: 0.00317 | R145: =Q145*H145 -> 0.02536 | S145: 0 | T145: =S145*H145 -> 0 | AR145: 8 | AT145: M | AU145: 2 | AY145: ROZPOCET | BE145: =IF(N145="základná",J145,0) -> 0 | BF145: =IF(N145="znížená",J145,0) -> 0 | BG145: =IF(N145="zákl. prenesená",J145,0) -> 0 | BH145: =IF(N145="zníž. prenesená",J145,0) -> 0 | BI145: =IF(N145="nulová",J145,0) -> 0 | BJ145: 2 | BK145: =ROUND(I145*H145,2) -> 0 | BL145: 4 | BM145: 40
C146: 21 | D146: M | E146: 422123101 | F146: Ventil uztvárací priamy dn 32 | G146: kus | H146: 2 | J146: =ROUND(I146*H146,2) -> 0 | N146: znížená | P146: =O146*H146 -> 0 | Q146: 0 | R146: =Q146*H146 -> 0 | S146: 0 | T146: =S146*H146 -> 0 | AR146: 8 | AT146: M | AU146: 2 | AY146: ROZPOCET | BE146: =IF(N146="základná",J146,0) -> 0 | BF146: =IF(N146="znížená",J146,0) -> 0 | BG146: =IF(N146="zákl. prenesená",J146,0) -> 0 | BH146: =IF(N146="zníž. prenesená",J146,0) -> 0 | BI146: =IF(N146="nulová",J146,0) -> 0 | BJ146: 2 | BK146: =ROUND(I146*H146,2) -> 0 | BL146: 4 | BM146: 42
... C158: 30 | D158: M | E158: 552434440 | F158: Poklop kruhový d 600 B | G158: kus | H158: 2 | J158: =ROUND(I158*H158,2) -> 0 | N158: znížená | P158: =O158*H158 -> 0 | Q158: 0.065 | R158: =Q158*H158 -> 0.13 | S158: 0 | T158: =S158*H158 -> 0 | AR158: 8 | AT158: M | AU158: 2 | AY158: ROZPOCET | BE158: =IF(N158="základná",J158,0) -> 0 | BF158: =IF(N158="znížená",J158,0) -> 0 | BG158: =IF(N158="zákl. prenesená",J158,0) -> 0 | BH158: =IF(N158="zníž. prenesená",J158,0) -> 0 | BI158: =IF(N158="nulová",J158,0) -> 0 | BJ158: 2 | BK158: =ROUND(I158*H158,2) -> 0 | BL158: 4 | BM158: 60
D159: D | E159: 9 | F159: OSTATNÉ KONŠTRUKCIE A PRÁCE | J159: =BK159 -> 0 | P159: =SUM(P160:P167) -> 0 | R159: =SUM(R160:R167) -> 0.40024 | T159: =SUM(T160:T167) -> 0.3896 | AR159: 1 | AT159: D | AU159: 1 | AY159: ROZPOCET | BK159: =SUM(BK160:BK167) -> 0
C160: 31 | D160: K | E160: 935113311 | F160: Osadenie odvodňovacieho polymérbetónového žľabu Drain N100 s krycým roštom A 15 šírky do 100 mm | G160: m | H160: 3 | J160: =ROUND(I160*H160,2) -> 0 | N160: znížená | P160: =O160*H160 -> 0 | Q160: 0.09628 | R160: =Q160*H160 -> 0.28884 | S160: 0 | T160: =S160*H160 -> 0 | AR160: 4 | AT160: K | AU160: 2 | AY160: ROZPOCET | BE160: =IF(N160="základná",J160,0) -> 0 | BF160: =IF(N160="znížená",J160,0) -> 0 | BG160: =IF(N160="zákl. prenesená",J160,0) -> 0 | BH160: =IF(N160="zníž. prenesená",J160,0) -> 0 | BI160: =IF(N160="nulová",J160,0) -> 0 | BJ160: 2 | BK160: =ROUND(I160*H160,2) -> 0 | BL160: 4 | BM160: 62
C161: 32 | D161: M | E161: 5922A0141 | F161: Rošt môstkový ACO Drain N100 - A15 1,0m, ZN | G161: kus | H161: 2 | J161: =ROUND(I161*H161,2) -> 0 | N161: znížená | P161: =O161*H161 -> 0 | Q161: 0.0022 | R161: =Q161*H161 -> 0.0044 | S161: 0 | T161: =S161*H161 -> 0 | AR161: 8 | AT161: M | AU161: 2 | AY161: ROZPOCET | BE161: =IF(N161="základná",J161,0) -> 0 | BF161: =IF(N161="znížená",J161,0) -> 0 | BG161: =IF(N161="zákl. prenesená",J161,0) -> 0 | BH161: =IF(N161="zníž. prenesená",J161,0) -> 0 | BI161: =IF(N161="nulová",J161,0) -> 0 | BJ161: 2 | BK161: =ROUND(I161*H161,2) -> 0 | BL161: 4 | BM161: 64
C162: 33 | D162: M | E162: 5922A0142 | F162: Rošt môstkový ACO Drain N100 - A15 0,5m, ZN | G162: kus | H162: 2 | J162: =ROUND(I162*H162,2) -> 0 | N162: znížená | P162: =O162*H162 -> 0 | Q162: 0.0011 | R162: =Q162*H162 -> 0.0022 | S162: 0 | T162: =S162*H162 -> 0 | AR162: 8 | AT162: M | AU162: 2 | AY162: ROZPOCET | BE162: =IF(N162="základná",J162,0) -> 0 | BF162: =IF(N162="znížená",J162,0) -> 0 | BG162: =IF(N162="zákl. prenesená",J162,0) -> 0 | BH162: =IF(N162="zníž. prenesená",J162,0) -> 0 | BI162: =IF(N162="nulová",J162,0) -> 0 | BJ162: 2 | BK162: =ROUND(I162*H162,2) -> 0 | BL162: 4 | BM162: 66
C163: 34 | D163: M | E163: 5922A0180 | F163: Žľab 0,5m odtok predtv.DN100 ACO PowerDrain V75P - 0.1 | G163: kus | H163: 2 | J163: =ROUND(I163*H163,2) -> 0 | N163: znížená | P163: =O163*H163 -> 0 | Q163: 0.0177 | R163: =Q163*H163 -> 0.0354 | S163: 0 | T163: =S163*H163 -> 0 | AR163: 8 | AT163: M | AU163: 2 | AY163: ROZPOCET | BE163: =IF(N163="základná",J163,0) -> 0 | BF163: =IF(N163="znížená",J163,0) -> 0 | BG163: =IF(N163="zákl. prenesená",J163,0) -> 0 | BH163: =IF(N163="zníž. prenesená",J163,0) -> 0 | BI163: =IF(N163="nulová",J163,0) -> 0 | BJ163: 2 | BK163: =ROUND(I163*H163,2) -> 0 | BL163: 4 | BM163: 68
C164: 35 | D164: M | E164: 5922A0191 | F164: Žľab 1,0m, spád 0,5% ACO PowerDrain V75P - 1 | G164: kus | H164: 2 | J164: =ROUND(I164*H164,2) -> 0 | N164: znížená | P164: =O164*H164 -> 0 | Q164: 0.0347 | R164: =Q164*H164 -> 0.0694 | S164: 0 | T164: =S164*H164 -> 0 | AR164: 8 | AT164: M | AU164: 2 | AY164: ROZPOCET | BE164: =IF(N164="základná",J164,0) -> 0 | BF164: =IF(N164="znížená",J164,0) -> 0 | BG164: =IF(N164="zákl. prenesená",J164,0) -> 0 | BH164: =IF(N164="zníž. prenesená",J164,0) -> 0 | BI164: =IF(N164="nulová",J164,0) -> 0 | BJ164: 2 | BK164: =ROUND(I164*H164,2) -> 0 | BL164: 4 | BM164: 70
C165: 36 | D165: K | E165: 961044111 | F165: Búranie základov z betónu prostého alebo otvorov nad 4 m2 | G165: m3 | H165: 0.12 | J165: =ROUND(I165*H165,2) -> 0 | N165: znížená | P165: =O165*H165 -> 0 | Q165: 0 | R165: =Q165*H165 -> 0 | S165: 2 | T165: =S165*H165 -> 0.24 | AR165: 4 | AT165: K | AU165: 2 | AY165: ROZPOCET | BE165: =IF(N165="základná",J165,0) -> 0 | BF165: =IF(N165="znížená",J165,0) -> 0 | BG165: =IF(N165="zákl. prenesená",J165,0) -> 0 | BH165: =IF(N165="zníž. prenesená",J165,0) -> 0 | BI165: =IF(N165="nulová",J165,0) -> 0 | BJ165: 2 | BK165: =ROUND(I165*H165,2) -> 0 | BL165: 4 | BM165: 72
C166: 37 | D166: K | E166: 965043441 | F166: Búranie bet. podkladu s poterom hr. do 15 cm nad 4 m2 | G166: m3 | H166: 0.068 | J166: =ROUND(I166*H166,2) -> 0 | N166: znížená | P166: =O166*H166 -> 0 | Q166: 0 | R166: =Q166*H166 -> 0 | S166: 2.2 | T166: =S166*H166 -> 0.1496 | AR166: 4 | AT166: K | AU166: 2 | AY166: ROZPOCET | BE166: =IF(N166="základná",J166,0) -> 0 | BF166: =IF(N166="znížená",J166,0) -> 0 | BG166: =IF(N166="zákl. prenesená",J166,0) -> 0 | BH166: =IF(N166="zníž. prenesená",J166,0) -> 0 | BI166: =IF(N166="nulová",J166,0) -> 0 | BJ166: 2 | BK166: =ROUND(I166*H166,2) -> 0 | BL166: 4 | BM166: 74
C167: 38 | D167: K | E167: 998276101 | F167: Presun hmôt pre potrubie z rúr plastových alebo sklolaminátových v otvorenom výkope | G167: t | H167: 9.671 | J167: =ROUND(I167*H167,2) -> 0 | N167: znížená | P167: =O167*H167 -> 0 | Q167: 0 | R167: =Q167*H167 -> 0 | S167: 0 | T167: =S167*H167 -> 0 | AR167: 4 | AT167: K | AU167: 2 | AY167: ROZPOCET | BE167: =IF(N167="základná",J167,0) -> 0 | BF167: =IF(N167="znížená",J167,0) -> 0 | BG167: =IF(N167="zákl. prenesená",J167,0) -> 0 | BH167: =IF(N167="zníž. prenesená",J167,0) -> 0 | BI167: =IF(N167="nulová",J167,0) -> 0 | BJ167: 2 | BK167: =ROUND(I167*H167,2) -> 0 | BL167: 4 | BM167: 76

Sheet 07 - Vonkajšie osvetlenie
L2: >> skryté stĺpce << | AT2: {933f0415-d9f5-4dd0-946f-6f11d1d4ec40}
AT3: 0
D4: KRYCÍ LIST ROZPOČTU | M4: v --- nižšie sa nachádzajú doplnkové a pomocné údaje k zostavám --- v | AT4: False
D6: Stavba:
E7: ='Rekapitulácia stavby'!K6 -> Rekonštrukcia objektu Biovetská 36, Nitra - 1.etapa
D8: Objekt:
E9: 07 - Vonkajšie osvetlenie
D11: JKSO: | I11: KS:
D12: Miesto: | F12: Biovetská | I12: Dátum: | J12: ='Rekapitulácia stavby'!AN8 -> 14. 12. 2022
D14: Objednávateľ: | I14: IČO:
E15: Mesto Nitra | I15: IČ DPH:
D17: Zhotoviteľ: | I17: IČO: | J17: ='Rekapitulácia stavby'!AN13 -> Vyplň údaj
E18: ='Rekapitulácia stavby'!E14 -> Vyplň údaj | I18: IČ DPH: | J18: ='Rekapitulácia stavby'!AN14 -> Vyplň údaj
D20: Projektant: | I20: IČO:
E21: SOAR - ING. BÁRTA JIŘÍ | I21: IČ DPH:
D23: Spracovateľ: | I23: IČO:
E24: SOAR - ING. BÁRTA JIŘÍ | I24: IČ DPH:
D26: Poznámka:
D30: Cena bez DPH | J30: =ROUND(J121, 2) -> 0
F32: Základ dane | I32: Sadzba dane | J32: Výška dane
D33: DPH | E33: základná | F33: =ROUND((SUM(BE121:BE171)), 2) -> 0 | I33: 0.2 | J33: =ROUND(((SUM(BE121:BE171))*I33), 2) -> 0
E34: znížená | F34: =ROUND((SUM(BF121:BF171)), 2) -> 0 | I34: 0.2 | J34: =ROUND(((SUM(BF121:BF171))*I34), 2) -> 0
E35: zákl. prenesená | F35: =ROUND((SUM(BG121:BG171)), 2) -> 0 | I35: 0.2 | J35: =0 -> 0
E36: zníž. prenesená | F36: =ROUND((SUM(BH121:BH171)), 2) -> 0 | I36: 0.2 | J36: =0 -> 0
E37: nulová | F37: =ROUND((SUM(BI121:BI171)), 2) -> 0 | I37: 0 | J37: =0 -> 0
D39: Cena s DPH | G39: v | H39: EUR | J39: =SUM(J30:J37) -> 0
D50: Projektant | G50: Spracovateľ
D61: Dátum a podpis: | F61: Pečiatka | G61: Dátum a podpis: | J61: Pečiatka
D65: Objednávateľ | G65: Zhotoviteľ
D76: Dátum a podpis: | F76: Pečiatka | G76: Dátum a podpis: | J76: Pečiatka
C82: REKAPITULÁCIA ROZPOČTU
C84: Stavba:
E85: =E7 -> Rekonštrukcia objektu Biovetská 36, Nitra - 1.etapa
C86: Objekt:
E87: =E9 -> 07 - Vonkajšie osvetlenie
C89: Miesto: | F89: =F12 -> Biovetská | I89: Dátum: | J89: =IF(J12="","",J12) -> 14. 12. 2022
C91: Objednávateľ: | F91: =E15 -> Mesto Nitra | I91: Projektant: | J91: =E21 -> SOAR - ING. BÁRTA JIŘÍ
C92: Zhotoviteľ: | F92: =IF(E18="","",E18) -> Vyplň údaj | I92: Spracovateľ: | J92: =E24 -> SOAR - ING. BÁRTA JIŘÍ
C94: Kód dielu - Popis | J94: Cena celkom [EUR]
C96: Náklady z rozpočtu | J96: =J121 -> 0 | AU96: -1
D97: M - Práce a dodávky M | J97: =J122 -> 0
D98: 21-M - Elektromontáže | J98: =J123 -> 0
D99: 46-M - Zemné práce pri extr.mont.prácach | J99: =J152 -> 0
D100: HZS - Hodinové zúčtovacie sadzby | J100: =J165 -> 0
D101: OST - Ostatné | J101: =J167 -> 0
C108: ROZPOČET
C110: Stavba:
E111: =E7 -> Rekonštrukcia objektu Biovetská 36, Nitra - 1.etapa
C112: Objekt:
E113: =E9 -> 07 - Vonkajšie osvetlenie
C115: Miesto: | F115: =F12 -> Biovetská | I115: Dátum: | J115: =IF(J12="","",J12) -> 14. 12. 2022
C117: Objednávateľ: | F117: =E15 -> Mesto Nitra | I117: Projektant: | J117: =E21 -> SOAR - ING. BÁRTA JIŘÍ
C118: Zhotoviteľ: | F118: =IF(E18="","",E18) -> Vyplň údaj | I118: Spracovateľ: | J118: =E24 -> SOAR - ING. BÁRTA JIŘÍ
C120: PČ | D120: Typ | E120: Kód | F120: Popis | G120: MJ | H120: Množstvo | I120: J.cena [EUR] | J120: Cena celkom [EUR] | K120: Cenová sústava | N120: DPH | O120: J. Nh [h] | P120: Nh celkom [h] | Q120: J. hmotnosť [t] | R120: Hmotnosť celkom [t] | S120: J. suť [t] | T120: Suť Celkom [t]
C121: Náklady z rozpočtu | J121: =BK121 -> 0 | P121: =P122+P165+P167 -> 0 | R121: =R122+R165+R167 -> 0.95511 | T121: =T122+T165+T167 -> 0 | AT121: D | AU121: -1 | BK121: =BK122+BK165+BK167 -> 0
D122: D | E122: M | F122: Práce a dodávky M | J122: =BK122 -> 0 | P122: =P123+P152 -> 0 | R122: =R123+R152 -> 0.95511 | T122: =T123+T152 -> 0 | AR122: 3 | AT122: D | AU122: 0 | AY122: ROZPOCET | BK122: =BK123+BK152 -> 0
D123: D | E123: 21-M | F123: Elektromontáže | J123: =BK123 -> 0 | P123: =SUM(P124:P151) -> 0 | R123: =SUM(R124:R151) -> 0.13189 | T123: =SUM(T124:T151) -> 0 | AR123: 3 | AT123: D | AU123: 1 | AY123: ROZPOCET | BK123: =SUM(BK124:BK151) -> 0
C124: 1 | D124: K | E124: 210100258 | F124: Ukončenie celoplastových káblov zmrašť. záklopkou alebo páskou do 5 x 4 mm2 | G124: ks | H124: 4 | J124: =ROUND(I124*H124,2) -> 0 | N124: znížená | P124: =O124*H124 -> 0 | Q124: 0 | R124: =Q124*H124 -> 0 | S124: 0 | T124: =S124*H124 -> 0 | AR124: 64 | AT124: K | AU124: 2 | AY124: ROZPOCET | BE124: =IF(N124="základná",J124,0) -> 0 | BF124: =IF(N124="znížená",J124,0) -> 0 | BG124: =IF(N124="zákl. prenesená",J124,0) -> 0 | BH124: =IF(N124="zníž. prenesená",J124,0) -> 0 | BI124: =IF(N124="nulová",J124,0) -> 0 | BJ124: 2 | BK124: =ROUND(I124*H124,2) -> 0 | BL124: 64 | BM124: 2
C125: 2 | D125: K | E125: 210101432 | F125: Rúrka dvojplášťová KOPOFLEX | G125: m | H125: 25 | J125: =ROUND(I125*H125,2) -> 0 | N125: znížená | P125: =O125*H125 -> 0 | Q125: 0 | R125: =Q125*H125 -> 0 | S125: 0 | T125: =S125*H125 -> 0 | AR125: 64 | AT125: K | AU125: 2 | AY125: ROZPOCET | BE125: =IF(N125="základná",J125,0) -> 0 | BF125: =IF(N125="znížená",J125,0) -> 0 | BG125: =IF(N125="zákl. prenesená",J125,0) -> 0 | BH125: =IF(N125="zníž. prenesená",J125,0) -> 0 | BI125: =IF(N125="nulová",J125,0) -> 0 | BJ125: 2 | BK125: =ROUND(I125*H125,2) -> 0 | BL125: 64 | BM125: 4
C126: 3 | D126: M | E126: 286130072400 | F126: Chránička delená KOPODUR KD 09040 | G126: m | H126: 25 | J126: =ROUND(I126*H126,2) -> 0 | N126: znížená | P126: =O126*H126 -> 0 | Q126: 0.00027 | R126: =Q126*H126 -> 0.00675 | S126: 0 | T126: =S126*H126 -> 0 | AR126: 256 | AT126: M | AU126: 2 | AY126: ROZPOCET | BE126: =IF(N126="základná",J126,0) -> 0 | BF126: =IF(N126="znížená",J126,0) -> 0 | BG126: =IF(N126="zákl. prenesená",J126,0) -> 0 | BH126: =IF(N126="zníž. prenesená",J126,0) -> 0 | BI126: =IF(N126="nulová",J126,0) -> 0 | BJ126: 2 | BK126: =ROUND(I126*H126,2) -> 0 | BL126: 64 | BM126: 6
C127: 4 | D127: K | E127: 210110071 | F127: Spínač špeciálny vrátane zapojenia, spínač osvetlenia 941 A 001, 002 | G127: ks | H127: 1 | J127: =ROUND(I127*H127,2) -> 0 | N127: znížená | P127: =O127*H127 -> 0 | Q127: 0 | R127: =Q127*H127 -> 0 | S127: 0 | T127: =S127*H127 -> 0 | AR127: 64 | AT127: K | AU127: 2 | AY127: ROZPOCET | BE127: =IF(N127="základná",J127,0) -> 0 | BF127: =IF(N127="znížená",J127,0) -> 0 | BG127: =IF(N127="zákl. prenesená",J127,0) -> 0 | BH127: =IF(N127="zníž. prenesená",J127,0) -> 0 | BI127: =IF(N127="nulová",J127,0) -> 0 | BJ127: 2 | BK127: =ROUND(I127*H127,2) -> 0 | BL127: 64 | BM127: 8
C128: 5 | D128: M | E128: 345340004400 | F128: Spínač nočného osvetlenia 960 | G128: ks | H128: 1 | J128: =ROUND(I128*H128,2) -> 0 | N128: znížená | P128: =O128*H128 -> 0 | Q128: 0.0001 | R128: =Q128*H128 -> 0.0001 | S128: 0 | T128: =S128*H128 -> 0 | AR128: 256 | AT128: M | AU128: 2 | AY128: ROZPOCET | BE128: =IF(N128="základná",J128,0) -> 0 | BF128: =IF(N128="znížená",J128,0) -> 0 | BG128: =IF(N128="zákl. prenesená",J128,0) -> 0 | BH128: =IF(N128="zníž. prenesená",J128,0) -> 0 | BI128: =IF(N128="nulová",J128,0) -> 0 | BJ128: 2 | BK128: =ROUND(I128*H128,2) -> 0 | BL128: 64 | BM128: 10
C129: 6 | D129: K | E129: 210201922 | F129: Montáž svietidla exterierového na stenu do 2 kg | G129: ks | H129: 2 | J129: =ROUND(I129*H129,2) -> 0 | N129: znížená | P129: =O129*H129 -> 0 | Q129: 0 | R129: =Q129*H129 -> 0 | S129: 0 | T129: =S129*H129 -> 0 | AR129: 64 | AT129: K | AU129: 2 | AY129: ROZPOCET | BE129: =IF(N129="základná",J129,0) -> 0 | BF129: =IF(N129="znížená",J129,0) -> 0 | BG129: =IF(N129="zákl. prenesená",J129,0) -> 0 | BH129: =IF(N129="zníž. prenesená",J129,0) -> 0 | BI129: =IF(N129="nulová",J129,0) -> 0 | BJ129: 2 | BK129: =ROUND(I129*H129,2) -> 0 | BL129: 64 | BM129: 12
C130: 7 | D130: M | E130: 348SVO | F130: Svietidlo priemyselné nástenné LED MEGIN II M 87W, IP65, s výložníkom | G130: ks | H130: 2 | J130: =ROUND(I130*H130,2) -> 0 | N130: znížená | P130: =O130*H130 -> 0 | Q130: 0.0115 | R130: =Q130*H130 -> 0.023 | S130: 0 | T130: =S130*H130 -> 0 | AR130: 256 | AT130: M | AU130: 2 | AY130: ROZPOCET | BE130: =IF(N130="základná",J130,0) -> 0 | BF130: =IF(N130="znížená",J130,0) -> 0 | BG130: =IF(N130="zákl. prenesená",J130,0) -> 0 | BH130: =IF(N130="zníž. prenesená",J130,0) -> 0 | BI130: =IF(N130="nulová",J130,0) -> 0 | BJ130: 2 | BK130: =ROUND(I130*H130,2) -> 0 | BL130: 64 | BM130: 14
C131: 8 | D131: K | E131: 210220020 | F131: Uzemňovacie vedenie v zemi FeZn vrátane izolácie spojov | G131: m | H131: 25 | J131: =ROUND(I131*H131,2) -> 0 | N131: znížená | P131: =O131*H131 -> 0 | Q131: 0 | R131: =Q131*H131 -> 0 | S131: 0 | T131: =S131*H131 -> 0 | AR131: 64 | AT131: K | AU131: 2 | AY131: ROZPOCET | BE131: =IF(N131="základná",J131,0) -> 0 | BF131: =IF(N131="znížená",J131,0) -> 0 | BG131: =IF(N131="zákl. prenesená",J131,0) -> 0 | BH131: =IF(N131="zníž. prenesená",J131,0) -> 0 | BI131: =IF(N131="nulová",J131,0) -> 0 | BJ131: 2 | BK131: =ROUND(I131*H131,2) -> 0 | BL131: 64 | BM131: 16
C132: 9 | D132: M | E132: 354410058800 | F132: Pásovina uzemňovacia FeZn 30 x 4 mm | G132: kg | H132: 25 | J132: =ROUND(I132*H132,2) -> 0 | N132: znížená | P132: =O132*H132 -> 0 | Q132: 0.001 | R132: =Q132*H132 -> 0.025 | S132: 0 | T132: =S132*H132 -> 0 | AR132: 256 | AT132: M | AU132: 2 | AY132: ROZPOCET | BE132: =IF(N132="základná",J132,0) -> 0 | BF132: =IF(N132="znížená",J132,0) -> 0 | BG132: =IF(N132="zákl. prenesená",J132,0) -> 0 | BH132: =IF(N132="zníž. prenesená",J132,0) -> 0 | BI132: =IF(N132="nulová",J132,0) -> 0 | BJ132: 2 | BK132: =ROUND(I132*H132,2) -> 0 | BL132: 64 | BM132: 18
C133: 10 | D133: K | E133: 210220022 | F133: Uzemňovacie vedenie v zemi včít. svoriek,prepojenia, izolácie spojov FeZn D 8 - 10 mm | G133: m | H133: 6 | J133: =ROUND(I133*H133,2) -> 0 | N133: znížená | P133: =O133*H133 -> 0 | Q133: 0 | R133: =Q133*H133 -> 0 | S133: 0 | T133: =S133*H133 -> 0 | AR133: 64 | AT133: K | AU133: 2 | AY133: ROZPOCET | BE133: =IF(N133="základná",J133,0) -> 0 | BF133: =IF(N133="znížená",J133,0) -> 0 | BG133: =IF(N133="zákl. prenesená",J133,0) -> 0 | BH133: =IF(N133="zníž. prenesená",J133,0) -> 0 | BI133: =IF(N133="nulová",J133,0) -> 0 | BJ133: 2 | BK133: =ROUND(I133*H133,2) -> 0 | BL133: 64 | BM133: 20
C134: 11 | D134: M | E134: 156140002400 | F134: Drôt ťahaný D 10,00 mm mäkký nepatentovaný z neušľachtilých ocelí pozinkovaný ozn. 11 343 (EN S195T) | G134: kg | H134: 3.6 | J134: =ROUND(I134*H134,2) -> 0 | N134: znížená | P134: =O134*H134 -> 0 | Q134: 0.001 | R134: =Q134*H134 -> 0.0036 | S134: 0 | T134: =S134*H134 -> 0 | AR134: 256 | AT134: M | AU134: 2 | AY134: ROZPOCET | BE134: =IF(N134="základná",J134,0) -> 0 | BF134: =IF(N134="znížená",J134,0) -> 0 | BG134: =IF(N134="zákl. prenesená",J134,0) -> 0 | BH134: =IF(N134="zníž. prenesená",J134,0) -> 0 | BI134: =IF(N134="nulová",J134,0) -> 0 | BJ134: 2 | BK134: =ROUND(I134*H134,2) -> 0 | BL134: 64 | BM134: 22
C135: 12 | D135: K | E135: 210220252 | F135: Svorka FeZn odbočovacia spojovacia SR01-02 | G135: ks | H135: 2 | J135: =ROUND(I135*H135,2) -> 0 | N135: znížená | P135: =O135*H135 -> 0 | Q135: 0 | R135: =Q135*H135 -> 0 | S135: 0 | T135: =S135*H135 -> 0 | AR135: 64 | AT135: K | AU135: 2 | AY135: ROZPOCET | BE135: =IF(N135="základná",J135,0) -> 0 | BF135: =IF(N135="znížená",J135,0) -> 0 | BG135: =IF(N135="zákl. prenesená",J135,0) -> 0 | BH135: =IF(N135="zníž. prenesená",J135,0) -> 0 | BI135: =IF(N135="nulová",J135,0) -> 0 | BJ135: 2 | BK135: =ROUND(I135*H135,2) -> 0 | BL135: 64 | BM135: 24
... C151: 28 | D151: M | E151: 2830002000 | F151: Fólia červená v m | G151: m | H151: 25 | J151: =ROUND(I151*H151,2) -> 0 | N151: znížená | P151: =O151*H151 -> 0 | Q151: 0 | R151: =Q151*H151 -> 0 | S151: 0 | T151: =S151*H151 -> 0 | AR151: 256 | AT151: M | AU151: 2 | AY151: ROZPOCET | BE151: =IF(N151="základná",J151,0) -> 0 | BF151: =IF(N151="znížená",J151,0) -> 0 | BG151: =IF(N151="zákl. prenesená",J151,0) -> 0 | BH151: =IF(N151="zníž. prenesená",J151,0) -> 0 | BI151: =IF(N151="nulová",J151,0) -> 0 | BJ151: 2 | BK151: =ROUND(I151*H151,2) -> 0 | BL151: 64 | BM151: 56
D152: D | E152: 46-M | F152: Zemné práce pri extr.mont.prácach | J152: =BK152 -> 0 | P152: =SUM(P153:P164) -> 0 | R152: =SUM(R153:R164) -> 0.82322 | T152: =SUM(T153:T164) -> 0 | AR152: 3 | AT152: D | AU152: 1 | AY152: ROZPOCET | BK152: =SUM(BK153:BK164) -> 0
C153: 29 | D153: K | E153: 460010011 | F153: Vytýčenie trasy vonkajšieho silového vedenia,v prehľadnom teréne vedenie NN (tiež v obci) | G153: KM | H153: 0.3 | J153: =ROUND(I153*H153,2) -> 0 | N153: znížená | P153: =O153*H153 -> 0 | Q153: 0 | R153: =Q153*H153 -> 0 | S153: 0 | T153: =S153*H153 -> 0 | AR153: 64 | AT153: K | AU153: 2 | AY153: ROZPOCET | BE153: =IF(N153="základná",J153,0) -> 0 | BF153: =IF(N153="znížená",J153,0) -> 0 | BG153: =IF(N153="zákl. prenesená",J153,0) -> 0 | BH153: =IF(N153="zníž. prenesená",J153,0) -> 0 | BI153: =IF(N153="nulová",J153,0) -> 0 | BJ153: 2 | BK153: =ROUND(I153*H153,2) -> 0 | BL153: 64 | BM153: 58
C154: 30 | D154: K | E154: 460050003 | F154: Jama pre jednoduchý stožiar nepätkovaný dĺžky 6-8 m,v rovine,zásyp a zhutnenie,zemina tr.3 | G154: ks | H154: 2 | J154: =ROUND(I154*H154,2) -> 0 | N154: znížená | P154: =O154*H154 -> 0 | Q154: 0 | R154: =Q154*H154 -> 0 | S154: 0 | T154: =S154*H154 -> 0 | AR154: 64 | AT154: K | AU154: 2 | AY154: ROZPOCET | BE154: =IF(N154="základná",J154,0) -> 0 | BF154: =IF(N154="znížená",J154,0) -> 0 | BG154: =IF(N154="zákl. prenesená",J154,0) -> 0 | BH154: =IF(N154="zníž. prenesená",J154,0) -> 0 | BI154: =IF(N154="nulová",J154,0) -> 0 | BJ154: 2 | BK154: =ROUND(I154*H154,2) -> 0 | BL154: 64 | BM154: 60
C155: 31 | D155: K | E155: 460080001 | F155: Základ z prostého betónu s dopravou zmesi a betonážou do prírodnej zeminy bez debnenia | G155: M3 | H155: 1.06 | J155: =ROUND(I155*H155,2) -> 0 | N155: znížená | P155: =O155*H155 -> 0 | Q155: 0 | R155: =Q155*H155 -> 0 | S155: 0 | T155: =S155*H155 -> 0 | AR155: 64 | AT155: K | AU155: 2 | AY155: ROZPOCET | BE155: =IF(N155="základná",J155,0) -> 0 | BF155: =IF(N155="znížená",J155,0) -> 0 | BG155: =IF(N155="zákl. prenesená",J155,0) -> 0 | BH155: =IF(N155="zníž. prenesená",J155,0) -> 0 | BI155: =IF(N155="nulová",J155,0) -> 0 | BJ155: 2 | BK155: =ROUND(I155*H155,2) -> 0 | BL155: 64 | BM155: 62
C156: 32 | D156: K | E156: 460100022 | F156: Púzdrový základ pre stožiar verejného osvetlenia v ose trasy kábl 250 x 1500 mm | G156: ks | H156: 2 | J156: =ROUND(I156*H156,2) -> 0 | N156: znížená | P156: =O156*H156 -> 0 | Q156: 0 | R156: =Q156*H156 -> 0 | S156: 0 | T156: =S156*H156 -> 0 | AR156: 64 | AT156: K | AU156: 2 | AY156: ROZPOCET | BE156: =IF(N156="základná",J156,0) -> 0 | BF156: =IF(N156="znížená",J156,0) -> 0 | BG156: =IF(N156="zákl. prenesená",J156,0) -> 0 | BH156: =IF(N156="zníž. prenesená",J156,0) -> 0 | BI156: =IF(N156="nulová",J156,0) -> 0 | BJ156: 2 | BK156: =ROUND(I156*H156,2) -> 0 | BL156: 64 | BM156: 64
C157: 33 | D157: M | E157: 1371464400 | F157: Plech oceľový tenký 11373.1 1,00x1000x2000 mm | G157: t | H157: 0.1 | J157: =ROUND(I157*H157,2) -> 0 | N157: znížená | P157: =O157*H157 -> 0 | Q157: 1 | R157: =Q157*H157 -> 0.1 | S157: 0 | T157: =S157*H157 -> 0 | AR157: 256 | AT157: M | AU157: 2 | AY157: ROZPOCET | BE157: =IF(N157="základná",J157,0) -> 0 | BF157: =IF(N157="znížená",J157,0) -> 0 | BG157: =IF(N157="zákl. prenesená",J157,0) -> 0 | BH157: =IF(N157="zníž. prenesená",J157,0) -> 0 | BI157: =IF(N157="nulová",J157,0) -> 0 | BJ157: 2 | BK157: =ROUND(I157*H157,2) -> 0 | BL157: 64 | BM157: 66
C158: 34 | D158: M | E158: 3450716200 | F158: Rúrka kopex 3336 | G158: m | H158: 4 | J158: =ROUND(I158*H158,2) -> 0 | N158: znížená | P158: =O158*H158 -> 0 | Q158: 0 | R158: =Q158*H158 -> 0 | S158: 0 | T158: =S158*H158 -> 0 | AR158: 256 | AT158: M | AU158: 2 | AY158: ROZPOCET | BE158: =IF(N158="základná",J158,0) -> 0 | BF158: =IF(N158="znížená",J158,0) -> 0 | BG158: =IF(N158="zákl. prenesená",J158,0) -> 0 | BH158: =IF(N158="zníž. prenesená",J158,0) -> 0 | BI158: =IF(N158="nulová",J158,0) -> 0 | BJ158: 2 | BK158: =ROUND(I158*H158,2) -> 0 | BL158: 64 | BM158: 68
C159: 35 | D159: M | E159: 5893230700 | F159: Betón C 12/15 cem. portl.,fr. do 22mm,spr. nad 100mm | G159: m3 | H159: 0.28 | J159: =ROUND(I159*H159,2) -> 0 | N159: znížená | P159: =O159*H159 -> 0 | Q159: 2.3543571 | R159: =Q159*H159 -> 0.65922 | S159: 0 | T159: =S159*H159 -> 0 | AR159: 256 | AT159: M | AU159: 2 | AY159: ROZPOCET | BE159: =IF(N159="základná",J159,0) -> 0 | BF159: =IF(N159="znížená",J159,0) -> 0 | BG159: =IF(N159="zákl. prenesená",J159,0) -> 0 | BH159: =IF(N159="zníž. prenesená",J159,0) -> 0 | BI159: =IF(N159="nulová",J159,0) -> 0 | BJ159: 2 | BK159: =ROUND(I159*H159,2) -> 0 | BL159: 64 | BM159: 70
C160: 36 | D160: M | E160: 5922150200 | F160: Rúra betónová pre dažďové vody TBP 2-15 Ms 15x100x2,8 | G160: ks | H160: 1.6 | J160: =ROUND(I160*H160,2) -> 0 | N160: znížená | P160: =O160*H160 -> 0 | Q160: 0.04 | R160: =Q160*H160 -> 0.064 | S160: 0 | T160: =S160*H160 -> 0 | AR160: 256 | AT160: M | AU160: 2 | AY160: ROZPOCET | BE160: =IF(N160="základná",J160,0) -> 0 | BF160: =IF(N160="znížená",J160,0) -> 0 | BG160: =IF(N160="zákl. prenesená",J160,0) -> 0 | BH160: =IF(N160="zníž. prenesená",J160,0) -> 0 | BI160: =IF(N160="nulová",J160,0) -> 0 | BJ160: 2 | BK160: =ROUND(I160*H160,2) -> 0 | BL160: 64 | BM160: 72
C161: 37 | D161: K | E161: 460120002 | F161: Zásyp jamy so zhutnením a s úpravou povrchu,zemina triedy 3 - 4 | G161: m3 | H161: 2 | J161: =ROUND(I161*H161,2) -> 0 | N161: znížená | P161: =O161*H161 -> 0 | Q161: 0 | R161: =Q161*H161 -> 0 | S161: 0 | T161: =S161*H161 -> 0 | AR161: 64 | AT161: K | AU161: 2 | AY161: ROZPOCET | BE161: =IF(N161="základná",J161,0) -> 0 | BF161: =IF(N161="znížená",J161,0) -> 0 | BG161: =IF(N161="zákl. prenesená",J161,0) -> 0 | BH161: =IF(N161="zníž. prenesená",J161,0) -> 0 | BI161: =IF(N161="nulová",J161,0) -> 0 | BJ161: 2 | BK161: =ROUND(I161*H161,2) -> 0 | BL161: 64 | BM161: 74
C162: 38 | D162: K | E162: 460200164 | F162: Hĺbenie káblovej ryhy 35 cm širokej a 80 cm hlbokej, v zemine triedy 4 | G162: m | H162: 25 | J162: =ROUND(I162*H162,2) -> 0 | N162: znížená | P162: =O162*H162 -> 0 | Q162: 0 | R162: =Q162*H162 -> 0 | S162: 0 | T162: =S162*H162 -> 0 | AR162: 64 | AT162: K | AU162: 2 | AY162: ROZPOCET | BE162: =IF(N162="základná",J162,0) -> 0 | BF162: =IF(N162="znížená",J162,0) -> 0 | BG162: =IF(N162="zákl. prenesená",J162,0) -> 0 | BH162: =IF(N162="zníž. prenesená",J162,0) -> 0 | BI162: =IF(N162="nulová",J162,0) -> 0 | BJ162: 2 | BK162: =ROUND(I162*H162,2) -> 0 | BL162: 64 | BM162: 76
C163: 39 | D163: K | E163: 460560164 | F163: Ručný zásyp nezap. káblovej ryhy bez zhutn. zeminy, 35 cm širokej, 80 cm hlbokej v zemine tr. 4 | G163: m | H163: 25 | J163: =ROUND(I163*H163,2) -> 0 | N163: znížená | P163: =O163*H163 -> 0 | Q163: 0 | R163: =Q163*H163 -> 0 | S163: 0 | T163: =S163*H163 -> 0 | AR163: 64 | AT163: K | AU163: 2 | AY163: ROZPOCET | BE163: =IF(N163="základná",J163,0) -> 0 | BF163: =IF(N163="znížená",J163,0) -> 0 | BG163: =IF(N163="zákl. prenesená",J163,0) -> 0 | BH163: =IF(N163="zníž. prenesená",J163,0) -> 0 | BI163: =IF(N163="nulová",J163,0) -> 0 | BJ163: 2 | BK163: =ROUND(I163*H163,2) -> 0 | BL163: 64 | BM163: 78
C164: 40 | D164: K | E164: 460600001 | F164: Naloženie zeminy, odvoz do 1 km a zloženie na skládke a jazda späť | G164: m3 | H164: 1 | J164: =ROUND(I164*H164,2) -> 0 | N164: znížená | P164: =O164*H164 -> 0 | Q164: 0 | R164: =Q164*H164 -> 0 | S164: 0 | T164: =S164*H164 -> 0 | AR164: 64 | AT164: K | AU164: 2 | AY164: ROZPOCET | BE164: =IF(N164="základná",J164,0) -> 0 | BF164: =IF(N164="znížená",J164,0) -> 0 | BG164: =IF(N164="zákl. prenesená",J164,0) -> 0 | BH164: =IF(N164="zníž. prenesená",J164,0) -> 0 | BI164: =IF(N164="nulová",J164,0) -> 0 | BJ164: 2 | BK164: =ROUND(I164*H164,2) -> 0 | BL164: 64 | BM164: 80
D165: D | E165: HZS | F165: Hodinové zúčtovacie sadzby | J165: =BK165 -> 0 | P165: =P166 -> 0 | R165: =R166 -> 0 | T165: =T166 -> 0 | AR165: 4 | AT165: D | AU165: 0 | AY165: ROZPOCET | BK165: =BK166 -> 0
C166: 41 | D166: K | E166: HZS00011E.S | F166: Revízia elektroinštalácie VO | G166: kpl | H166: 1 | J166: =ROUND(I166*H166,2) -> 0 | N166: znížená | P166: =O166*H166 -> 0 | Q166: 0 | R166: =Q166*H166 -> 0 | S166: 0 | T166: =S166*H166 -> 0 | AR166: 262144 | AT166: K | AU166: 1 | AY166: ROZPOCET | BE166: =IF(N166="základná",J166,0) -> 0 | BF166: =IF(N166="znížená",J166,0) -> 0 | BG166: =IF(N166="zákl. prenesená",J166,0) -> 0 | BH166: =IF(N166="zníž. prenesená",J166,0) -> 0 | BI166: =IF(N166="nulová",J166,0) -> 0 | BJ166: 2 | BK166: =ROUND(I166*H166,2) -> 0 | BL166: 262144 | BM166: 82
D167: D | E167: OST | F167: Ostatné | J167: =BK167 -> 0 | P167: =SUM(P168:P171) -> 0 | R167: =SUM(R168:R171) -> 0 | T167: =SUM(T168:T171) -> 0 | AR167: 4 | AT167: D | AU167: 0 | AY167: ROZPOCET | BK167: =SUM(BK168:BK171) -> 0
C168: 42 | D168: K | E168: 210000100 | F168: Zapožíčanie autožeriavu | G168: hod | H168: 2 | J168: =ROUND(I168*H168,2) -> 0 | N168: znížená | P168: =O168*H168 -> 0 | Q168: 0 | R168: =Q168*H168 -> 0 | S168: 0 | T168: =S168*H168 -> 0 | AR168: 262144 | AT168: K | AU168: 1 | AY168: ROZPOCET | BE168: =IF(N168="základná",J168,0) -> 0 | BF168: =IF(N168="znížená",J168,0) -> 0 | BG168: =IF(N168="zákl. prenesená",J168,0) -> 0 | BH168: =IF(N168="zníž. prenesená",J168,0) -> 0 | BI168: =IF(N168="nulová",J168,0) -> 0 | BJ168: 2 | BK168: =ROUND(I168*H168,2) -> 0 | BL168: 262144 | BM168: 84
C169: 43 | D169: K | E169: 210000200 | F169: Prenájom plošiny | G169: hod | H169: 2 | J169: =ROUND(I169*H169,2) -> 0 | N169: znížená | P169: =O169*H169 -> 0 | Q169: 0 | R169: =Q169*H169 -> 0 | S169: 0 | T169: =S169*H169 -> 0 | AR169: 262144 | AT169: K | AU169: 1 | AY169: ROZPOCET | BE169: =IF(N169="základná",J169,0) -> 0 | BF169: =IF(N169="znížená",J169,0) -> 0 | BG169: =IF(N169="zákl. prenesená",J169,0) -> 0 | BH169: =IF(N169="zníž. prenesená",J169,0) -> 0 | BI169: =IF(N169="nulová",J169,0) -> 0 | BJ169: 2 | BK169: =ROUND(I169*H169,2) -> 0 | BL169: 262144 | BM169: 86
C170: 44 | D170: K | E170: GEO | F170: Geodetické zameranie | G170: kpl | H170: 1 | J170: =ROUND(I170*H170,2) -> 0 | N170: znížená | P170: =O170*H170 -> 0 | Q170: 0 | R170: =Q170*H170 -> 0 | S170: 0 | T170: =S170*H170 -> 0 | AR170: 262144 | AT170: K | AU170: 1 | AY170: ROZPOCET | BE170: =IF(N170="základná",J170,0) -> 0 | BF170: =IF(N170="znížená",J170,0) -> 0 | BG170: =IF(N170="zákl. prenesená",J170,0) -> 0 | BH170: =IF(N170="zníž. prenesená",J170,0) -> 0 | BI170: =IF(N170="nulová",J170,0) -> 0 | BJ170: 2 | BK170: =ROUND(I170*H170,2) -> 0 | BL170: 262144 | BM170: 88
C171: 45 | D171: K | E171: HZS000313 | F171: Odpojenie a zapojenie zariadenia | G171: hod | H171: 4 | J171: =ROUND(I171*H171,2) -> 0 | N171: znížená | P171: =O171*H171 -> 0 | Q171: 0 | R171: =Q171*H171 -> 0 | S171: 0 | T171: =S171*H171 -> 0 | AR171: 262144 | AT171: K | AU171: 1 | AY171: ROZPOCET | BE171: =IF(N171="základná",J171,0) -> 0 | BF171: =IF(N171="znížená",J171,0) -> 0 | BG171: =IF(N171="zákl. prenesená",J171,0) -> 0 | BH171: =IF(N171="zníž. prenesená",J171,0) -> 0 | BI171: =IF(N171="nulová",J171,0) -> 0 | BJ171: 2 | BK171: =ROUND(I171*H171,2) -> 0 | BL171: 262144 | BM171: 90

Sheet 08 - Vonkajšie rozvody NN
L2: >> skryté stĺpce << | AT2: {718bd448-97ba-40ec-b856-d22af6ebb251}
AT3: 0
D4: KRYCÍ LIST ROZPOČTU | M4: v --- nižšie sa nachádzajú doplnkové a pomocné údaje k zostavám --- v | AT4: False
D6: Stavba:
E7: ='Rekapitulácia stavby'!K6 -> Rekonštrukcia objektu Biovetská 36, Nitra - 1.etapa
D8: Objekt:
E9: 08 - Vonkajšie rozvody NN
D11: JKSO: | I11: KS:
D12: Miesto: | F12: Biovetská | I12: Dátum: | J12: ='Rekapitulácia stavby'!AN8 -> 14. 12. 2022
D14: Objednávateľ: | I14: IČO:
E15: Mesto Nitra | I15: IČ DPH:
D17: Zhotoviteľ: | I17: IČO: | J17: ='Rekapitulácia stavby'!AN13 -> Vyplň údaj
E18: ='Rekapitulácia stavby'!E14 -> Vyplň údaj | I18: IČ DPH: | J18: ='Rekapitulácia stavby'!AN14 -> Vyplň údaj
D20: Projektant: | I20: IČO:
E21: SOAR - ING. BÁRTA JIŘÍ | I21: IČ DPH:
D23: Spracovateľ: | I23: IČO:
E24: SOAR - ING. BÁRTA JIŘÍ | I24: IČ DPH:
D26: Poznámka:
D30: Cena bez DPH | J30: =ROUND(J121, 2) -> 0
F32: Základ dane | I32: Sadzba dane | J32: Výška dane
D33: DPH | E33: základná | F33: =ROUND((SUM(BE121:BE153)), 2) -> 0 | I33: 0.2 | J33: =ROUND(((SUM(BE121:BE153))*I33), 2) -> 0
E34: znížená | F34: =ROUND((SUM(BF121:BF153)), 2) -> 0 | I34: 0.2 | J34: =ROUND(((SUM(BF121:BF153))*I34), 2) -> 0
E35: zákl. prenesená | F35: =ROUND((SUM(BG121:BG153)), 2) -> 0 | I35: 0.2 | J35: =0 -> 0
E36: zníž. prenesená | F36: =ROUND((SUM(BH121:BH153)), 2) -> 0 | I36: 0.2 | J36: =0 -> 0
E37: nulová | F37: =ROUND((SUM(BI121:BI153)), 2) -> 0 | I37: 0 | J37: =0 -> 0
D39: Cena s DPH | G39: v | H39: EUR | J39: =SUM(J30:J37) -> 0
D50: Projektant | G50: Spracovateľ
D61: Dátum a podpis: | F61: Pečiatka | G61: Dátum a podpis: | J61: Pečiatka
D65: Objednávateľ | G65: Zhotoviteľ
D76: Dátum a podpis: | F76: Pečiatka | G76: Dátum a podpis: | J76: Pečiatka
C82: REKAPITULÁCIA ROZPOČTU
C84: Stavba:
E85: =E7 -> Rekonštrukcia objektu Biovetská 36, Nitra - 1.etapa
C86: Objekt:
E87: =E9 -> 08 - Vonkajšie rozvody NN
C89: Miesto: | F89: =F12 -> Biovetská | I89: Dátum: | J89: =IF(J12="","",J12) -> 14. 12. 2022
C91: Objednávateľ: | F91: =E15 -> Mesto Nitra | I91: Projektant: | J91: =E21 -> SOAR - ING. BÁRTA JIŘÍ
C92: Zhotoviteľ: | F92: =IF(E18="","",E18) -> Vyplň údaj | I92: Spracovateľ: | J92: =E24 -> SOAR - ING. BÁRTA JIŘÍ
C94: Kód dielu - Popis | J94: Cena celkom [EUR]
C96: Náklady z rozpočtu | J96: =J121 -> 0 | AU96: -1
D97: M - Práce a dodávky M | J97: =J122 -> 0
D98: 21-M - Elektromontáže | J98: =J123 -> 0
D99: 46-M - Zemné práce pri extr.mont.prácach | J99: =J143 -> 0
D100: HZS - Hodinové zúčtovacie sadzby | J100: =J147 -> 0
D101: OST - Ostatné | J101: =J149 -> 0
C108: ROZPOČET
C110: Stavba:
E111: =E7 -> Rekonštrukcia objektu Biovetská 36, Nitra - 1.etapa
C112: Objekt:
E113: =E9 -> 08 - Vonkajšie rozvody NN
C115: Miesto: | F115: =F12 -> Biovetská | I115: Dátum: | J115: =IF(J12="","",J12) -> 14. 12. 2022
C117: Objednávateľ: | F117: =E15 -> Mesto Nitra | I117: Projektant: | J117: =E21 -> SOAR - ING. BÁRTA JIŘÍ
C118: Zhotoviteľ: | F118: =IF(E18="","",E18) -> Vyplň údaj | I118: Spracovateľ: | J118: =E24 -> SOAR - ING. BÁRTA JIŘÍ
C120: PČ | D120: Typ | E120: Kód | F120: Popis | G120: MJ | H120: Množstvo | I120: J.cena [EUR] | J120: Cena celkom [EUR] | K120: Cenová sústava | N120: DPH | O120: J. Nh [h] | P120: Nh celkom [h] | Q120: J. hmotnosť [t] | R120: Hmotnosť celkom [t] | S120: J. suť [t] | T120: Suť Celkom [t]
C121: Náklady z rozpočtu | J121: =BK121 -> 0 | P121: =P122+P147+P149 -> 0 | R121: =R122+R147+R149 -> 0.06744 | T121: =T122+T147+T149 -> 0 | AT121: D | AU121: -1 | BK121: =BK122+BK147+BK149 -> 0
D122: D | E122: M | F122: Práce a dodávky M | J122: =BK122 -> 0 | P122: =P123+P143 -> 0 | R122: =R123+R143 -> 0.06744 | T122: =T123+T143 -> 0 | AR122: 3 | AT122: D | AU122: 0 | AY122: ROZPOCET | BK122: =BK123+BK143 -> 0
D123: D | E123: 21-M | F123: Elektromontáže | J123: =BK123 -> 0 | P123: =SUM(P124:P142) -> 0 | R123: =SUM(R124:R142) -> 0.06744 | T123: =SUM(T124:T142) -> 0 | AR123: 3 | AT123: D | AU123: 1 | AY123: ROZPOCET | BK123: =SUM(BK124:BK142) -> 0
C124: 1 | D124: K | E124: 210100258 | F124: Ukončenie celoplastových káblov zmrašť. záklopkou alebo páskou do 5 x 4 mm2 | G124: ks | H124: 4 | J124: =ROUND(I124*H124,2) -> 0 | N124: znížená | P124: =O124*H124 -> 0 | Q124: 0 | R124: =Q124*H124 -> 0 | S124: 0 | T124: =S124*H124 -> 0 | AR124: 64 | AT124: K | AU124: 2 | AY124: ROZPOCET | BE124: =IF(N124="základná",J124,0) -> 0 | BF124: =IF(N124="znížená",J124,0) -> 0 | BG124: =IF(N124="zákl. prenesená",J124,0) -> 0 | BH124: =IF(N124="zníž. prenesená",J124,0) -> 0 | BI124: =IF(N124="nulová",J124,0) -> 0 | BJ124: 2 | BK124: =ROUND(I124*H124,2) -> 0 | BL124: 64 | BM124: 2
C125: 2 | D125: K | E125: 210101432 | F125: Rúrka dvojplášťová KOPOFLEX | G125: m | H125: 50 | J125: =ROUND(I125*H125,2) -> 0 | N125: znížená | P125: =O125*H125 -> 0 | Q125: 0 | R125: =Q125*H125 -> 0 | S125: 0 | T125: =S125*H125 -> 0 | AR125: 64 | AT125: K | AU125: 2 | AY125: ROZPOCET | BE125: =IF(N125="základná",J125,0) -> 0 | BF125: =IF(N125="znížená",J125,0) -> 0 | BG125: =IF(N125="zákl. prenesená",J125,0) -> 0 | BH125: =IF(N125="zníž. prenesená",J125,0) -> 0 | BI125: =IF(N125="nulová",J125,0) -> 0 | BJ125: 2 | BK125: =ROUND(I125*H125,2) -> 0 | BL125: 64 | BM125: 4
C126: 3 | D126: M | E126: 286130072400 | F126: Chránička delená KOPODUR KD 09040 | G126: m | H126: 50 | J126: =ROUND(I126*H126,2) -> 0 | N126: znížená | P126: =O126*H126 -> 0 | Q126: 0.00027 | R126: =Q126*H126 -> 0.0135 | S126: 0 | T126: =S126*H126 -> 0 | AR126: 256 | AT126: M | AU126: 2 | AY126: ROZPOCET | BE126: =IF(N126="základná",J126,0) -> 0 | BF126: =IF(N126="znížená",J126,0) -> 0 | BG126: =IF(N126="zákl. prenesená",J126,0) -> 0 | BH126: =IF(N126="zníž. prenesená",J126,0) -> 0 | BI126: =IF(N126="nulová",J126,0) -> 0 | BJ126: 2 | BK126: =ROUND(I126*H126,2) -> 0 | BL126: 64 | BM126: 6
C127: 4 | D127: K | E127: 210220020 | F127: Uzemňovacie vedenie v zemi FeZn vrátane izolácie spojov | G127: m | H127: 30 | J127: =ROUND(I127*H127,2) -> 0 | N127: znížená | P127: =O127*H127 -> 0 | Q127: 0 | R127: =Q127*H127 -> 0 | S127: 0 | T127: =S127*H127 -> 0 | AR127: 64 | AT127: K | AU127: 2 | AY127: ROZPOCET | BE127: =IF(N127="základná",J127,0) -> 0 | BF127: =IF(N127="znížená",J127,0) -> 0 | BG127: =IF(N127="zákl. prenesená",J127,0) -> 0 | BH127: =IF(N127="zníž. prenesená",J127,0) -> 0 | BI127: =IF(N127="nulová",J127,0) -> 0 | BJ127: 2 | BK127: =ROUND(I127*H127,2) -> 0 | BL127: 64 | BM127: 8
C128: 5 | D128: M | E128: 354410058800 | F128: Pásovina uzemňovacia FeZn 30 x 4 mm | G128: kg | H128: 30 | J128: =ROUND(I128*H128,2) -> 0 | N128: znížená | P128: =O128*H128 -> 0 | Q128: 0.001 | R128: =Q128*H128 -> 0.03 | S128: 0 | T128: =S128*H128 -> 0 | AR128: 256 | AT128: M | AU128: 2 | AY128: ROZPOCET | BE128: =IF(N128="základná",J128,0) -> 0 | BF128: =IF(N128="znížená",J128,0) -> 0 | BG128: =IF(N128="zákl. prenesená",J128,0) -> 0 | BH128: =IF(N128="zníž. prenesená",J128,0) -> 0 | BI128: =IF(N128="nulová",J128,0) -> 0 | BJ128: 2 | BK128: =ROUND(I128*H128,2) -> 0 | BL128: 64 | BM128: 10
C129: 6 | D129: K | E129: 210220022 | F129: Uzemňovacie vedenie v zemi včít. svoriek,prepojenia, izolácie spojov FeZn D 8 - 10 mm | G129: m | H129: 8 | J129: =ROUND(I129*H129,2) -> 0 | N129: znížená | P129: =O129*H129 -> 0 | Q129: 0 | R129: =Q129*H129 -> 0 | S129: 0 | T129: =S129*H129 -> 0 | AR129: 64 | AT129: K | AU129: 2 | AY129: ROZPOCET | BE129: =IF(N129="základná",J129,0) -> 0 | BF129: =IF(N129="znížená",J129,0) -> 0 | BG129: =IF(N129="zákl. prenesená",J129,0) -> 0 | BH129: =IF(N129="zníž. prenesená",J129,0) -> 0 | BI129: =IF(N129="nulová",J129,0) -> 0 | BJ129: 2 | BK129: =ROUND(I129*H129,2) -> 0 | BL129: 64 | BM129: 12
C130: 7 | D130: M | E130: 156140002400 | F130: Drôt ťahaný D 10,00 mm mäkký nepatentovaný z neušľachtilých ocelí pozinkovaný ozn. 11 343 (EN S195T) | G130: kg | H130: 4.8 | J130: =ROUND(I130*H130,2) -> 0 | N130: znížená | P130: =O130*H130 -> 0 | Q130: 0.001 | R130: =Q130*H130 -> 0.0048 | S130: 0 | T130: =S130*H130 -> 0 | AR130: 256 | AT130: M | AU130: 2 | AY130: ROZPOCET | BE130: =IF(N130="základná",J130,0) -> 0 | BF130: =IF(N130="znížená",J130,0) -> 0 | BG130: =IF(N130="zákl. prenesená",J130,0) -> 0 | BH130: =IF(N130="zníž. prenesená",J130,0) -> 0 | BI130: =IF(N130="nulová",J130,0) -> 0 | BJ130: 2 | BK130: =ROUND(I130*H130,2) -> 0 | BL130: 64 | BM130: 14
C131: 8 | D131: K | E131: 210220252 | F131: Svorka FeZn odbočovacia spojovacia SR01-02 | G131: ks | H131: 2 | J131: =ROUND(I131*H131,2) -> 0 | N131: znížená | P131: =O131*H131 -> 0 | Q131: 0 | R131: =Q131*H131 -> 0 | S131: 0 | T131: =S131*H131 -> 0 | AR131: 64 | AT131: K | AU131: 2 | AY131: ROZPOCET | BE131: =IF(N131="základná",J131,0) -> 0 | BF131: =IF(N131="znížená",J131,0) -> 0 | BG131: =IF(N131="zákl. prenesená",J131,0) -> 0 | BH131: =IF(N131="zníž. prenesená",J131,0) -> 0 | BI131: =IF(N131="nulová",J131,0) -> 0 | BJ131: 2 | BK131: =ROUND(I131*H131,2) -> 0 | BL131: 64 | BM131: 16
C132: 9 | D132: M | E132: 354410000500 | F132: Svorka FeZn odbočovacia spojovacia označenie SR 02 (M6) | G132: ks | H132: 2 | J132: =ROUND(I132*H132,2) -> 0 | N132: znížená | P132: =O132*H132 -> 0 | Q132: 0.00018 | R132: =Q132*H132 -> 0.00036 | S132: 0 | T132: =S132*H132 -> 0 | AR132: 256 | AT132: M | AU132: 2 | AY132: ROZPOCET | BE132: =IF(N132="základná",J132,0) -> 0 | BF132: =IF(N132="znížená",J132,0) -> 0 | BG132: =IF(N132="zákl. prenesená",J132,0) -> 0 | BH132: =IF(N132="zníž. prenesená",J132,0) -> 0 | BI132: =IF(N132="nulová",J132,0) -> 0 | BJ132: 2 | BK132: =ROUND(I132*H132,2) -> 0 | BL132: 64 | BM132: 18
C133: 10 | D133: K | E133: 210220253 | F133: Svorka FeZn uzemňovacia SR03 | G133: ks | H133: 8 | J133: =ROUND(I133*H133,2) -> 0 | N133: znížená | P133: =O133*H133 -> 0 | Q133: 0 | R133: =Q133*H133 -> 0 | S133: 0 | T133: =S133*H133 -> 0 | AR133: 64 | AT133: K | AU133: 2 | AY133: ROZPOCET | BE133: =IF(N133="základná",J133,0) -> 0 | BF133: =IF(N133="znížená",J133,0) -> 0 | BG133: =IF(N133="zákl. prenesená",J133,0) -> 0 | BH133: =IF(N133="zníž. prenesená",J133,0) -> 0 | BI133: =IF(N133="nulová",J133,0) -> 0 | BJ133: 2 | BK133: =ROUND(I133*H133,2) -> 0 | BL133: 64 | BM133: 20
C134: 11 | D134: M | E134: 354410000900 | F134: Svorka FeZn uzemňovacia označenie SR 03 A | G134: ks | H134: 8 | J134: =ROUND(I134*H134,2) -> 0 | N134: znížená | P134: =O134*H134 -> 0 | Q134: 0.00021 | R134: =Q134*H134 -> 0.00168 | S134: 0 | T134: =S134*H134 -> 0 | AR134: 256 | AT134: M | AU134: 2 | AY134: ROZPOCET | BE134: =IF(N134="základná",J134,0) -> 0 | BF134: =IF(N134="znížená",J134,0) -> 0 | BG134: =IF(N134="zákl. prenesená",J134,0) -> 0 | BH134: =IF(N134="zníž. prenesená",J134,0) -> 0 | BI134: =IF(N134="nulová",J134,0) -> 0 | BJ134: 2 | BK134: =ROUND(I134*H134,2) -> 0 | BL134: 64 | BM134: 22
C135: 12 | D135: K | E135: 210220301 | F135: Bleskozvodová svorka do 2 skrutiek (SS, SR 03) | G135: ks | H135: 4 | J135: =ROUND(I135*H135,2) -> 0 | N135: znížená | P135: =O135*H135 -> 0 | Q135: 0 | R135: =Q135*H135 -> 0 | S135: 0 | T135: =S135*H135 -> 0 | AR135: 64 | AT135: K | AU135: 2 | AY135: ROZPOCET | BE135: =IF(N135="základná",J135,0) -> 0 | BF135: =IF(N135="znížená",J135,0) -> 0 | BG135: =IF(N135="zákl. prenesená",J135,0) -> 0 | BH135: =IF(N135="zníž. prenesená",J135,0) -> 0 | BI135: =IF(N135="nulová",J135,0) -> 0 | BJ135: 2 | BK135: =ROUND(I135*H135,2) -> 0 | BL135: 64 | BM135: 24
... C142: 19 | D142: M | E142: 2830002000 | F142: Fólia červená v m | G142: m | H142: 25 | J142: =ROUND(I142*H142,2) -> 0 | N142: znížená | P142: =O142*H142 -> 0 | Q142: 0 | R142: =Q142*H142 -> 0 | S142: 0 | T142: =S142*H142 -> 0 | AR142: 256 | AT142: M | AU142: 2 | AY142: ROZPOCET | BE142: =IF(N142="základná",J142,0) -> 0 | BF142: =IF(N142="znížená",J142,0) -> 0 | BG142: =IF(N142="zákl. prenesená",J142,0) -> 0 | BH142: =IF(N142="zníž. prenesená",J142,0) -> 0 | BI142: =IF(N142="nulová",J142,0) -> 0 | BJ142: 2 | BK142: =ROUND(I142*H142,2) -> 0 | BL142: 64 | BM142: 38
D143: D | E143: 46-M | F143: Zemné práce pri extr.mont.prácach | J143: =BK143 -> 0 | P143: =SUM(P144:P146) -> 0 | R143: =SUM(R144:R146) -> 0 | T143: =SUM(T144:T146) -> 0 | AR143: 3 | AT143: D | AU143: 1 | AY143: ROZPOCET | BK143: =SUM(BK144:BK146) -> 0
C144: 20 | D144: K | E144: 460010011 | F144: Vytýčenie trasy vonkajšieho silového vedenia,v prehľadnom teréne vedenie NN (tiež v obci) | G144: KM | H144: 0.3 | J144: =ROUND(I144*H144,2) -> 0 | N144: znížená | P144: =O144*H144 -> 0 | Q144: 0 | R144: =Q144*H144 -> 0 | S144: 0 | T144: =S144*H144 -> 0 | AR144: 64 | AT144: K | AU144: 2 | AY144: ROZPOCET | BE144: =IF(N144="základná",J144,0) -> 0 | BF144: =IF(N144="znížená",J144,0) -> 0 | BG144: =IF(N144="zákl. prenesená",J144,0) -> 0 | BH144: =IF(N144="zníž. prenesená",J144,0) -> 0 | BI144: =IF(N144="nulová",J144,0) -> 0 | BJ144: 2 | BK144: =ROUND(I144*H144,2) -> 0 | BL144: 64 | BM144: 40
C145: 21 | D145: K | E145: 460200164 | F145: Hĺbenie káblovej ryhy 35 cm širokej a 80 cm hlbokej, v zemine triedy 4 | G145: m | H145: 25 | J145: =ROUND(I145*H145,2) -> 0 | N145: znížená | P145: =O145*H145 -> 0 | Q145: 0 | R145: =Q145*H145 -> 0 | S145: 0 | T145: =S145*H145 -> 0 | AR145: 64 | AT145: K | AU145: 2 | AY145: ROZPOCET | BE145: =IF(N145="základná",J145,0) -> 0 | BF145: =IF(N145="znížená",J145,0) -> 0 | BG145: =IF(N145="zákl. prenesená",J145,0) -> 0 | BH145: =IF(N145="zníž. prenesená",J145,0) -> 0 | BI145: =IF(N145="nulová",J145,0) -> 0 | BJ145: 2 | BK145: =ROUND(I145*H145,2) -> 0 | BL145: 64 | BM145: 42
C146: 22 | D146: K | E146: 460560164 | F146: Ručný zásyp nezap. káblovej ryhy bez zhutn. zeminy, 35 cm širokej, 80 cm hlbokej v zemine tr. 4 | G146: m | H146: 25 | J146: =ROUND(I146*H146,2) -> 0 | N146: znížená | P146: =O146*H146 -> 0 | Q146: 0 | R146: =Q146*H146 -> 0 | S146: 0 | T146: =S146*H146 -> 0 | AR146: 64 | AT146: K | AU146: 2 | AY146: ROZPOCET | BE146: =IF(N146="základná",J146,0) -> 0 | BF146: =IF(N146="znížená",J146,0) -> 0 | BG146: =IF(N146="zákl. prenesená",J146,0) -> 0 | BH146: =IF(N146="zníž. prenesená",J146,0) -> 0 | BI146: =IF(N146="nulová",J146,0) -> 0 | BJ146: 2 | BK146: =ROUND(I146*H146,2) -> 0 | BL146: 64 | BM146: 44
D147: D | E147: HZS | F147: Hodinové zúčtovacie sadzby | J147: =BK147 -> 0 | P147: =P148 -> 0 | R147: =R148 -> 0 | T147: =T148 -> 0 | AR147: 4 | AT147: D | AU147: 0 | AY147: ROZPOCET | BK147: =BK148 -> 0
C148: 23 | D148: K | E148: HZS00011E.S | F148: Revízia elektroinštalácie vonkajšie NN | G148: kpl | H148: 1 | J148: =ROUND(I148*H148,2) -> 0 | N148: znížená | P148: =O148*H148 -> 0 | Q148: 0 | R148: =Q148*H148 -> 0 | S148: 0 | T148: =S148*H148 -> 0 | AR148: 262144 | AT148: K | AU148: 1 | AY148: ROZPOCET | BE148: =IF(N148="základná",J148,0) -> 0 | BF148: =IF(N148="znížená",J148,0) -> 0 | BG148: =IF(N148="zákl. prenesená",J148,0) -> 0 | BH148: =IF(N148="zníž. prenesená",J148,0) -> 0 | BI148: =IF(N148="nulová",J148,0) -> 0 | BJ148: 2 | BK148: =ROUND(I148*H148,2) -> 0 | BL148: 262144 | BM148: 46
D149: D | E149: OST | F149: Ostatné | J149: =BK149 -> 0 | P149: =SUM(P150:P153) -> 0 | R149: =SUM(R150:R153) -> 0 | T149: =SUM(T150:T153) -> 0 | AR149: 4 | AT149: D | AU149: 0 | AY149: ROZPOCET | BK149: =SUM(BK150:BK153) -> 0
C150: 24 | D150: K | E150: 210000100 | F150: Zapožíčanie autožeriavu | G150: hod | H150: 2 | J150: =ROUND(I150*H150,2) -> 0 | N150: znížená | P150: =O150*H150 -> 0 | Q150: 0 | R150: =Q150*H150 -> 0 | S150: 0 | T150: =S150*H150 -> 0 | AR150: 512 | AT150: K | AU150: 1 | AY150: ROZPOCET | BE150: =IF(N150="základná",J150,0) -> 0 | BF150: =IF(N150="znížená",J150,0) -> 0 | BG150: =IF(N150="zákl. prenesená",J150,0) -> 0 | BH150: =IF(N150="zníž. prenesená",J150,0) -> 0 | BI150: =IF(N150="nulová",J150,0) -> 0 | BJ150: 2 | BK150: =ROUND(I150*H150,2) -> 0 | BL150: 512 | BM150: 48
C151: 25 | D151: K | E151: 210000200 | F151: Prenájom plošiny | G151: hod | H151: 2 | J151: =ROUND(I151*H151,2) -> 0 | N151: znížená | P151: =O151*H151 -> 0 | Q151: 0 | R151: =Q151*H151 -> 0 | S151: 0 | T151: =S151*H151 -> 0 | AR151: 512 | AT151: K | AU151: 1 | AY151: ROZPOCET | BE151: =IF(N151="základná",J151,0) -> 0 | BF151: =IF(N151="znížená",J151,0) -> 0 | BG151: =IF(N151="zákl. prenesená",J151,0) -> 0 | BH151: =IF(N151="zníž. prenesená",J151,0) -> 0 | BI151: =IF(N151="nulová",J151,0) -> 0 | BJ151: 2 | BK151: =ROUND(I151*H151,2) -> 0 | BL151: 512 | BM151: 50
C152: 26 | D152: K | E152: GEO | F152: Geodetické zameranie | G152: kpl | H152: 1 | J152: =ROUND(I152*H152,2) -> 0 | N152: znížená | P152: =O152*H152 -> 0 | Q152: 0 | R152: =Q152*H152 -> 0 | S152: 0 | T152: =S152*H152 -> 0 | AR152: 262144 | AT152: K | AU152: 1 | AY152: ROZPOCET | BE152: =IF(N152="základná",J152,0) -> 0 | BF152: =IF(N152="znížená",J152,0) -> 0 | BG152: =IF(N152="zákl. prenesená",J152,0) -> 0 | BH152: =IF(N152="zníž. prenesená",J152,0) -> 0 | BI152: =IF(N152="nulová",J152,0) -> 0 | BJ152: 2 | BK152: =ROUND(I152*H152,2) -> 0 | BL152: 262144 | BM152: 52
C153: 27 | D153: K | E153: HZS000313 | F153: Odpojenie a zapojenie zariadenia | G153: hod | H153: 4 | J153: =ROUND(I153*H153,2) -> 0 | N153: znížená | P153: =O153*H153 -> 0 | Q153: 0 | R153: =Q153*H153 -> 0 | S153: 0 | T153: =S153*H153 -> 0 | AR153: 512 | AT153: K | AU153: 1 | AY153: ROZPOCET | BE153: =IF(N153="základná",J153,0) -> 0 | BF153: =IF(N153="znížená",J153,0) -> 0 | BG153: =IF(N153="zákl. prenesená",J153,0) -> 0 | BH153: =IF(N153="zníž. prenesená",J153,0) -> 0 | BI153: =IF(N153="nulová",J153,0) -> 0 | BJ153: 2 | BK153: =ROUND(I153*H153,2) -> 0 | BL153: 512 | BM153: 54

Sheet 09 - SO 02 Oplotenie - do...
L2: >> skryté stĺpce << | AT2: {4ea58c56-ec69-4685-ba9a-410715d2b3d3}
AT3: 0
D4: KRYCÍ LIST ROZPOČTU | M4: v --- nižšie sa nachádzajú doplnkové a pomocné údaje k zostavám --- v | AT4: False
D6: Stavba:
E7: ='Rekapitulácia stavby'!K6 -> Rekonštrukcia objektu Biovetská 36, Nitra - 1.etapa
D8: Objekt:
E9: 09 - SO 02 Oplotenie - doplnenie plného oplotenia v prednej časti pozemku v.1,8 m
D11: JKSO: | I11: KS:
D12: Miesto: | F12: Biovetská | I12: Dátum: | J12: ='Rekapitulácia stavby'!AN8 -> 14. 12. 2022
D14: Objednávateľ: | I14: IČO:
E15: Mesto Nitra | I15: IČ DPH:
D17: Zhotoviteľ: | I17: IČO: | J17: ='Rekapitulácia stavby'!AN13 -> Vyplň údaj
E18: ='Rekapitulácia stavby'!E14 -> Vyplň údaj | I18: IČ DPH: | J18: ='Rekapitulácia stavby'!AN14 -> Vyplň údaj
D20: Projektant: | I20: IČO:
E21: SOAR - ING. BÁRTA JIŘÍ | I21: IČ DPH:
D23: Spracovateľ: | I23: IČO:
E24: SOAR - ING. BÁRTA JIŘÍ | I24: IČ DPH:
D26: Poznámka:
D30: Cena bez DPH | J30: =ROUND(J124, 2) -> 0
F32: Základ dane | I32: Sadzba dane | J32: Výška dane
D33: DPH | E33: základná | F33: =ROUND((SUM(BE124:BE165)), 2) -> 0 | I33: 0.2 | J33: =ROUND(((SUM(BE124:BE165))*I33), 2) -> 0
E34: znížená | F34: =ROUND((SUM(BF124:BF165)), 2) -> 0 | I34: 0.2 | J34: =ROUND(((SUM(BF124:BF165))*I34), 2) -> 0
E35: zákl. prenesená | F35: =ROUND((SUM(BG124:BG165)), 2) -> 0 | I35: 0.2 | J35: =0 -> 0
E36: zníž. prenesená | F36: =ROUND((SUM(BH124:BH165)), 2) -> 0 | I36: 0.2 | J36: =0 -> 0
E37: nulová | F37: =ROUND((SUM(BI124:BI165)), 2) -> 0 | I37: 0 | J37: =0 -> 0
D39: Cena s DPH | G39: v | H39: EUR | J39: =SUM(J30:J37) -> 0
D50: Projektant | G50: Spracovateľ
D61: Dátum a podpis: | F61: Pečiatka | G61: Dátum a podpis: | J61: Pečiatka
D65: Objednávateľ | G65: Zhotoviteľ
D76: Dátum a podpis: | F76: Pečiatka | G76: Dátum a podpis: | J76: Pečiatka
C82: REKAPITULÁCIA ROZPOČTU
C84: Stavba:
E85: =E7 -> Rekonštrukcia objektu Biovetská 36, Nitra - 1.etapa
C86: Objekt:
E87: =E9 -> 09 - SO 02 Oplotenie - doplnenie plného oplotenia v prednej časti pozemku v.1,8 m
C89: Miesto: | F89: =F12 -> Biovetská | I89: Dátum: | J89: =IF(J12="","",J12) -> 14. 12. 2022
C91: Objednávateľ: | F91: =E15 -> Mesto Nitra | I91: Projektant: | J91: =E21 -> SOAR - ING. BÁRTA JIŘÍ
C92: Zhotoviteľ: | F92: =IF(E18="","",E18) -> Vyplň údaj | I92: Spracovateľ: | J92: =E24 -> SOAR - ING. BÁRTA JIŘÍ
C94: Kód dielu - Popis | J94: Cena celkom [EUR]
C96: Náklady z rozpočtu | J96: =J124 -> 0 | AU96: -1
D97: D1 - PRÁCE A DODÁVKY HSV | J97: =J125 -> 0
D98: 1 - ZEMNE PRÁCE | J98: =J126 -> 0
D99: 2 - ZÁKLADY | J99: =J131 -> 0
D100: 3 - ZVISLÉ A KOMPLETNÉ KONŠTRUKCIE | J100: =J136 -> 0
D101: 6 - ÚPRAVY POVRCHOV, PODLAHY, VÝPLNE | J101: =J140 -> 0
D102: 9 - OSTATNÉ KONŠTRUKCIE A PRÁCE | J102: =J146 -> 0
D103: D2 - PRÁCE A DODÁVKY PSV | J103: =J159 -> 0
D104: 767 - Konštrukcie doplnk. kovové stavebné | J104: =J160 -> 0
C111: ROZPOČET
C113: Stavba:
E114: =E7 -> Rekonštrukcia objektu Biovetská 36, Nitra - 1.etapa
C115: Objekt:
E116: =E9 -> 09 - SO 02 Oplotenie - doplnenie plného oplotenia v prednej časti pozemku v.1,8 m
C118: Miesto: | F118: =F12 -> Biovetská | I118: Dátum: | J118: =IF(J12="","",J12) -> 14. 12. 2022
C120: Objednávateľ: | F120: =E15 -> Mesto Nitra | I120: Projektant: | J120: =E21 -> SOAR - ING. BÁRTA JIŘÍ
C121: Zhotoviteľ: | F121: =IF(E18="","",E18) -> Vyplň údaj | I121: Spracovateľ: | J121: =E24 -> SOAR - ING. BÁRTA JIŘÍ
C123: PČ | D123: Typ | E123: Kód | F123: Popis | G123: MJ | H123: Množstvo | I123: J.cena [EUR] | J123: Cena celkom [EUR] | K123: Cenová sústava | N123: DPH | O123: J. Nh [h] | P123: Nh celkom [h] | Q123: J. hmotnosť [t] | R123: Hmotnosť celkom [t] | S123: J. suť [t] | T123: Suť Celkom [t]
C124: Náklady z rozpočtu | J124: =BK124 -> 0 | P124: =P125+P159 -> 0 | R124: =R125+R159 -> 40.50312 | T124: =T125+T159 -> 14.31295 | AT124: D | AU124: -1 | BK124: =BK125+BK159 -> 0
D125: D | E125: D1 | F125: PRÁCE A DODÁVKY HSV | J125: =BK125 -> 0 | P125: =P126+P131+P136+P140+P146 -> 0 | R125: =R126+R131+R136+R140+R146 -> 40.50312 | T125: =T126+T131+T136+T140+T146 -> 13.6222 | AR125: 1 | AT125: D | AU125: 0 | AY125: ROZPOCET | BK125: =BK126+BK131+BK136+BK140+BK146 -> 0
D126: D | E126: 1 | F126: ZEMNE PRÁCE | J126: =BK126 -> 0 | P126: =SUM(P127:P130) -> 0 | R126: =SUM(R127:R130) -> 0 | T126: =SUM(T127:T130) -> 0 | AR126: 1 | AT126: D | AU126: 1 | AY126: ROZPOCET | BK126: =SUM(BK127:BK130) -> 0
C127: 1 | D127: K | E127: 132301101 | F127: Hĺbenie rýh šírka do 60 cm v horn. tr. 4 do 100 m3 | G127: m3 | H127: 5.168 | J127: =ROUND(I127*H127,2) -> 0 | N127: znížená | P127: =O127*H127 -> 0 | Q127: 0 | R127: =Q127*H127 -> 0 | S127: 0 | T127: =S127*H127 -> 0 | AR127: 4 | AT127: K | AU127: 2 | AY127: ROZPOCET | BE127: =IF(N127="základná",J127,0) -> 0 | BF127: =IF(N127="znížená",J127,0) -> 0 | BG127: =IF(N127="zákl. prenesená",J127,0) -> 0 | BH127: =IF(N127="zníž. prenesená",J127,0) -> 0 | BI127: =IF(N127="nulová",J127,0) -> 0 | BJ127: 2 | BK127: =ROUND(I127*H127,2) -> 0 | BL127: 4 | BM127: 2
C128: 2 | D128: K | E128: 132301109 | F128: Príplatok za lepivosť horniny tr.4 v rýhach š. do 60 cm | G128: m3 | H128: 5.168 | J128: =ROUND(I128*H128,2) -> 0 | N128: znížená | P128: =O128*H128 -> 0 | Q128: 0 | R128: =Q128*H128 -> 0 | S128: 0 | T128: =S128*H128 -> 0 | AR128: 4 | AT128: K | AU128: 2 | AY128: ROZPOCET | BE128: =IF(N128="základná",J128,0) -> 0 | BF128: =IF(N128="znížená",J128,0) -> 0 | BG128: =IF(N128="zákl. prenesená",J128,0) -> 0 | BH128: =IF(N128="zníž. prenesená",J128,0) -> 0 | BI128: =IF(N128="nulová",J128,0) -> 0 | BJ128: 2 | BK128: =ROUND(I128*H128,2) -> 0 | BL128: 4 | BM128: 4
C129: 3 | D129: K | E129: 162601102 | F129: Vodorovné premiestnenie výkopu do 5000 m horn. tr. 1-4 | G129: m3 | H129: 5.168 | J129: =ROUND(I129*H129,2) -> 0 | N129: znížená | P129: =O129*H129 -> 0 | Q129: 0 | R129: =Q129*H129 -> 0 | S129: 0 | T129: =S129*H129 -> 0 | AR129: 4 | AT129: K | AU129: 2 | AY129: ROZPOCET | BE129: =IF(N129="základná",J129,0) -> 0 | BF129: =IF(N129="znížená",J129,0) -> 0 | BG129: =IF(N129="zákl. prenesená",J129,0) -> 0 | BH129: =IF(N129="zníž. prenesená",J129,0) -> 0 | BI129: =IF(N129="nulová",J129,0) -> 0 | BJ129: 2 | BK129: =ROUND(I129*H129,2) -> 0 | BL129: 4 | BM129: 6
C130: 4 | D130: K | E130: 171201201 | F130: Uloženie sypaniny na skládku | G130: m3 | H130: 5.168 | J130: =ROUND(I130*H130,2) -> 0 | N130: znížená | P130: =O130*H130 -> 0 | Q130: 0 | R130: =Q130*H130 -> 0 | S130: 0 | T130: =S130*H130 -> 0 | AR130: 4 | AT130: K | AU130: 2 | AY130: ROZPOCET | BE130: =IF(N130="základná",J130,0) -> 0 | BF130: =IF(N130="znížená",J130,0) -> 0 | BG130: =IF(N130="zákl. prenesená",J130,0) -> 0 | BH130: =IF(N130="zníž. prenesená",J130,0) -> 0 | BI130: =IF(N130="nulová",J130,0) -> 0 | BJ130: 2 | BK130: =ROUND(I130*H130,2) -> 0 | BL130: 4 | BM130: 8
D131: D | E131: 2 | F131: ZÁKLADY | J131: =BK131 -> 0 | P131: =SUM(P132:P135) -> 0 | R131: =SUM(R132:R135) -> 21.760853 | T131: =SUM(T132:T135) -> 0 | AR131: 1 | AT131: D | AU131: 1 | AY131: ROZPOCET | BK131: =SUM(BK132:BK135) -> 0
C132: 5 | D132: K | E132: 271531111 | F132: Vankúš pod základy z kameniva hrubého drveného 16-63 mm | G132: m3 | H132: 0.656 | J132: =ROUND(I132*H132,2) -> 0 | N132: znížená | P132: =O132*H132 -> 0 | Q132: 1.78164 | R132: =Q132*H132 -> 1.1687558 | S132: 0 | T132: =S132*H132 -> 0 | AR132: 4 | AT132: K | AU132: 2 | AY132: ROZPOCET | BE132: =IF(N132="základná",J132,0) -> 0 | BF132: =IF(N132="znížená",J132,0) -> 0 | BG132: =IF(N132="zákl. prenesená",J132,0) -> 0 | BH132: =IF(N132="zníž. prenesená",J132,0) -> 0 | BI132: =IF(N132="nulová",J132,0) -> 0 | BJ132: 2 | BK132: =ROUND(I132*H132,2) -> 0 | BL132: 4 | BM132: 10
C133: 6 | D133: K | E133: 274313711 | F133: Základové pásy z betónu prostého tr. C25/30 | G133: m3 | H133: 4.863 | J133: =ROUND(I133*H133,2) -> 0 | N133: znížená | P133: =O133*H133 -> 0 | Q133: 2.20755 | R133: =Q133*H133 -> 10.735316 | S133: 0 | T133: =S133*H133 -> 0 | AR133: 4 | AT133: K | AU133: 2 | AY133: ROZPOCET | BE133: =IF(N133="základná",J133,0) -> 0 | BF133: =IF(N133="znížená",J133,0) -> 0 | BG133: =IF(N133="zákl. prenesená",J133,0) -> 0 | BH133: =IF(N133="zníž. prenesená",J133,0) -> 0 | BI133: =IF(N133="nulová",J133,0) -> 0 | BJ133: 2 | BK133: =ROUND(I133*H133,2) -> 0 | BL133: 4 | BM133: 12
C134: 7 | D134: K | E134: 274362011 | F134: Výstuž pre murivo základových pásov PREMAC s betónovou výplňou z ocele 10505 | G134: t | H134: 0.129 | J134: =ROUND(I134*H134,2) -> 0 | N134: znížená | P134: =O134*H134 -> 0 | Q134: 1.03586 | R134: =Q134*H134 -> 0.13362594 | S134: 0 | T134: =S134*H134 -> 0 | AR134: 4 | AT134: K | AU134: 2 | AY134: ROZPOCET | BE134: =IF(N134="základná",J134,0) -> 0 | BF134: =IF(N134="znížená",J134,0) -> 0 | BG134: =IF(N134="zákl. prenesená",J134,0) -> 0 | BH134: =IF(N134="zníž. prenesená",J134,0) -> 0 | BI134: =IF(N134="nulová",J134,0) -> 0 | BJ134: 2 | BK134: =ROUND(I134*H134,2) -> 0 | BL134: 4 | BM134: 14
C135: 8 | D135: K | E135: 279113134 | F135: Základový múr hr. do 30 cm z tvárnic strateného debnenia vr. výplne, betón C16/20 | G135: m2 | H135: 13.475 | J135: =ROUND(I135*H135,2) -> 0 | N135: znížená | P135: =O135*H135 -> 0 | Q135: 0.72157 | R135: =Q135*H135 -> 9.7231558 | S135: 0 | T135: =S135*H135 -> 0 | AR135: 4 | AT135: K | AU135: 2 | AY135: ROZPOCET | BE135: =IF(N135="základná",J135,0) -> 0 | BF135: =IF(N135="znížená",J135,0) -> 0 | BG135: =IF(N135="zákl. prenesená",J135,0) -> 0 | BH135: =IF(N135="zníž. prenesená",J135,0) -> 0 | BI135: =IF(N135="nulová",J135,0) -> 0 | BJ135: 2 | BK135: =ROUND(I135*H135,2) -> 0 | BL135: 4 | BM135: 16
D136: D | E136: 3 | F136: ZVISLÉ A KOMPLETNÉ KONŠTRUKCIE | J136: =BK136 -> 0 | P136: =SUM(P137:P139) -> 0 | R136: =SUM(R137:R139) -> 16.180652 | T136: =SUM(T137:T139) -> 0 | AR136: 1 | AT136: D | AU136: 1 | AY136: ROZPOCET | BK136: =SUM(BK137:BK139) -> 0
C137: 9 | D137: K | E137: 348278401 | F137: Plotová strieška 270 x 390 mm betónová | G137: kus | H137: 69.103 | J137: =ROUND(I137*H137,2) -> 0 | N137: znížená | P137: =O137*H137 -> 0 | Q137: 0.0024 | R137: =Q137*H137 -> 0.1658472 | S137: 0 | T137: =S137*H137 -> 0 | AR137: 4 | AT137: K | AU137: 2 | AY137: ROZPOCET | BE137: =IF(N137="základná",J137,0) -> 0 | BF137: =IF(N137="znížená",J137,0) -> 0 | BG137: =IF(N137="zákl. prenesená",J137,0) -> 0 | BH137: =IF(N137="zníž. prenesená",J137,0) -> 0 | BI137: =IF(N137="nulová",J137,0) -> 0 | BJ137: 2 | BK137: =ROUND(I137*H137,2) -> 0 | BL137: 4 | BM137: 18
C138: 10 | D138: K | E138: 348363821 | F138: Výstuž plotových múrikov BSt 500 (10505) | G138: t | H138: 0.195 | J138: =ROUND(I138*H138,2) -> 0 | N138: znížená | P138: =O138*H138 -> 0 | Q138: 1.0448 | R138: =Q138*H138 -> 0.203736 | S138: 0 | T138: =S138*H138 -> 0 | AR138: 4 | AT138: K | AU138: 2 | AY138: ROZPOCET | BE138: =IF(N138="základná",J138,0) -> 0 | BF138: =IF(N138="znížená",J138,0) -> 0 | BG138: =IF(N138="zákl. prenesená",J138,0) -> 0 | BH138: =IF(N138="zníž. prenesená",J138,0) -> 0 | BI138: =IF(N138="nulová",J138,0) -> 0 | BJ138: 2 | BK138: =ROUND(I138*H138,2) -> 0 | BL138: 4 | BM138: 20
C139: 11 | D139: K | E139: 348922215 | F139: Plotový múrik z bet.tvárnic PREMAC DT 15 hr. 150 mm výplň betón tr. C 16/20 | G139: m3 | H139: 7.075 | J139: =ROUND(I139*H139,2) -> 0 | N139: znížená | P139: =O139*H139 -> 0 | Q139: 2.23478 | R139: =Q139*H139 -> 15.811069 | S139: 0 | T139: =S139*H139 -> 0 | AR139: 4 | AT139: K | AU139: 2 | AY139: ROZPOCET | BE139: =IF(N139="základná",J139,0) -> 0 | BF139: =IF(N139="znížená",J139,0) -> 0 | BG139: =IF(N139="zákl. prenesená",J139,0) -> 0 | BH139: =IF(N139="zníž. prenesená",J139,0) -> 0 | BI139: =IF(N139="nulová",J139,0) -> 0 | BJ139: 2 | BK139: =ROUND(I139*H139,2) -> 0 | BL139: 4 | BM139: 22
D140: D | E140: 6 | F140: ÚPRAVY POVRCHOV, PODLAHY, VÝPLNE | J140: =BK140 -> 0 | P140: =SUM(P141:P145) -> 0 | R140: =SUM(R141:R145) -> 2.4703295 | T140: =SUM(T141:T145) -> 0 | AR140: 1 | AT140: D | AU140: 1 | AY140: ROZPOCET | BK140: =SUM(BK141:BK145) -> 0
C141: 12 | D141: K | E141: 622464233 | F141: Omietka vonk. stien tenkovrstv. BAUMIT silikónová základ a škrabaná 3 mm | G141: m2 | H141: 95.638 | J141: =ROUND(I141*H141,2) -> 0 | N141: znížená | P141: =O141*H141 -> 0 | Q141: 0.0044 | R141: =Q141*H141 -> 0.4208072 | S141: 0 | T141: =S141*H141 -> 0 | AR141: 4 | AT141: K | AU141: 2 | AY141: ROZPOCET | BE141: =IF(N141="základná",J141,0) -> 0 | BF141: =IF(N141="znížená",J141,0) -> 0 | BG141: =IF(N141="zákl. prenesená",J141,0) -> 0 | BH141: =IF(N141="zníž. prenesená",J141,0) -> 0 | BI141: =IF(N141="nulová",J141,0) -> 0 | BJ141: 2 | BK141: =ROUND(I141*H141,2) -> 0 | BL141: 4 | BM141: 24
C142: 13 | D142: K | E142: 622466115 | F142: Príprava podkladu BAUMIT-Betonkontakt,pod omietky vonk.stien, zvýš. priľnavosti | G142: m2 | H142: 95.638 | J142: =ROUND(I142*H142,2) -> 0 | N142: znížená | P142: =O142*H142 -> 0 | Q142: 0.0003 | R142: =Q142*H142 -> 0.0286914 | S142: 0 | T142: =S142*H142 -> 0 | AR142: 4 | AT142: K | AU142: 2 | AY142: ROZPOCET | BE142: =IF(N142="základná",J142,0) -> 0 | BF142: =IF(N142="znížená",J142,0) -> 0 | BG142: =IF(N142="zákl. prenesená",J142,0) -> 0 | BH142: =IF(N142="zníž. prenesená",J142,0) -> 0 | BI142: =IF(N142="nulová",J142,0) -> 0 | BJ142: 2 | BK142: =ROUND(I142*H142,2) -> 0 | BL142: 4 | BM142: 26
C143: 14 | D143: K | E143: 622466134 | F143: Omietka vonk. stien BAUMIT ,vápennocem., strojne,nanáš. ručne,jadrová ľahká 1 cm | G143: m2 | H143: 95.638 | J143: =ROUND(I143*H143,2) -> 0 | N143: znížená | P143: =O143*H143 -> 0 | Q143: 0.016 | R143: =Q143*H143 -> 1.530208 | S143: 0 | T143: =S143*H143 -> 0 | AR143: 4 | AT143: K | AU143: 2 | AY143: ROZPOCET | BE143: =IF(N143="základná",J143,0) -> 0 | BF143: =IF(N143="znížená",J143,0) -> 0 | BG143: =IF(N143="zákl. prenesená",J143,0) -> 0 | BH143: =IF(N143="zníž. prenesená",J143,0) -> 0 | BI143: =IF(N143="nulová",J143,0) -> 0 | BJ143: 2 | BK143: =ROUND(I143*H143,2) -> 0 | BL143: 4 | BM143: 28
C144: 15 | D144: K | E144: 622466137 | F144: Omietka vonk. stien BAUMIT ,vápennocem.,MVR Uni, ručné, vyrovnávacia hr.4 mm | G144: m2 | H144: 95.638 | J144: =ROUND(I144*H144,2) -> 0 | N144: znížená | P144: =O144*H144 -> 0 | Q144: 0.005 | R144: =Q144*H144 -> 0.47819 | S144: 0 | T144: =S144*H144 -> 0 | AR144: 4 | AT144: K | AU144: 2 | AY144: ROZPOCET | BE144: =IF(N144="základná",J144,0) -> 0 | BF144: =IF(N144="znížená",J144,0) -> 0 | BG144: =IF(N144="zákl. prenesená",J144,0) -> 0 | BH144: =IF(N144="zníž. prenesená",J144,0) -> 0 | BI144: =IF(N144="nulová",J144,0) -> 0 | BJ144: 2 | BK144: =ROUND(I144*H144,2) -> 0 | BL144: 4 | BM144: 30
C145: 16 | D145: K | E145: 622484010 | F145: Potiahnutie vonk. stien sklotextilnou mriežkou Baumit open | G145: m2 | H145: 95.638 | J145: =ROUND(I145*H145,2) -> 0 | N145: znížená | P145: =O145*H145 -> 0 | Q145: 0.00013 | R145: =Q145*H145 -> 0.01243294 | S145: 0 | T145: =S145*H145 -> 0 | AR145: 4 | AT145: K | AU145: 2 | AY145: ROZPOCET | BE145: =IF(N145="základná",J145,0) -> 0 | BF145: =IF(N145="znížená",J145,0) -> 0 | BG145: =IF(N145="zákl. prenesená",J145,0) -> 0 | BH145: =IF(N145="zníž. prenesená",J145,0) -> 0 | BI145: =IF(N145="nulová",J145,0) -> 0 | BJ145: 2 | BK145: =ROUND(I145*H145,2) -> 0 | BL145: 4 | BM145: 32
D146: D | E146: 9 | F146: OSTATNÉ KONŠTRUKCIE A PRÁCE | J146: =BK146 -> 0 | P146: =SUM(P147:P158) -> 0 | R146: =SUM(R147:R158) -> 0.0912854 | T146: =SUM(T147:T158) -> 13.6222 | AR146: 1 | AT146: D | AU146: 1 | AY146: ROZPOCET | BK146: =SUM(BK147:BK158) -> 0
C147: 17 | D147: K | E147: 941955001 | F147: Lešenie ľahké prac. pomocné výš. podlahy do 1,2 m | G147: m2 | H147: 55.4 | J147: =ROUND(I147*H147,2) -> 0 | N147: znížená | P147: =O147*H147 -> 0 | Q147: 0.00127 | R147: =Q147*H147 -> 0.070358 | S147: 0 | T147: =S147*H147 -> 0 | AR147: 4 | AT147: K | AU147: 2 | AY147: ROZPOCET | BE147: =IF(N147="základná",J147,0) -> 0 | BF147: =IF(N147="znížená",J147,0) -> 0 | BG147: =IF(N147="zákl. prenesená",J147,0) -> 0 | BH147: =IF(N147="zníž. prenesená",J147,0) -> 0 | BI147: =IF(N147="nulová",J147,0) -> 0 | BJ147: 2 | BK147: =ROUND(I147*H147,2) -> 0 | BL147: 4 | BM147: 34
C148: 18 | D148: K | E148: 961044111 | F148: Búranie základov z betónu prostého alebo otvorov nad 4 m2 | G148: m3 | H148: 2.183 | J148: =ROUND(I148*H148,2) -> 0 | N148: znížená | P148: =O148*H148 -> 0 | Q148: 0 | R148: =Q148*H148 -> 0 | S148: 2 | T148: =S148*H148 -> 4.366 | AR148: 4 | AT148: K | AU148: 2 | AY148: ROZPOCET | BE148: =IF(N148="základná",J148,0) -> 0 | BF148: =IF(N148="znížená",J148,0) -> 0 | BG148: =IF(N148="zákl. prenesená",J148,0) -> 0 | BH148: =IF(N148="zníž. prenesená",J148,0) -> 0 | BI148: =IF(N148="nulová",J148,0) -> 0 | BJ148: 2 | BK148: =ROUND(I148*H148,2) -> 0 | BL148: 4 | BM148: 36
C149: 19 | D149: K | E149: 962032314 | F149: Búranie pilierov z tehál | G149: m3 | H149: 1.263 | J149: =ROUND(I149*H149,2) -> 0 | N149: znížená | P149: =O149*H149 -> 0 | Q149: 0.0128 | R149: =Q149*H149 -> 0.0161664 | S149: 1.8 | T149: =S149*H149 -> 2.2734 | AR149: 4 | AT149: K | AU149: 2 | AY149: ROZPOCET | BE149: =IF(N149="základná",J149,0) -> 0 | BF149: =IF(N149="znížená",J149,0) -> 0 | BG149: =IF(N149="zákl. prenesená",J149,0) -> 0 | BH149: =IF(N149="zníž. prenesená",J149,0) -> 0 | BI149: =IF(N149="nulová",J149,0) -> 0 | BJ149: 2 | BK149: =ROUND(I149*H149,2) -> 0 | BL149: 4 | BM149: 38
