Workbook

Sheet Rekapitulácia
A2: Rekapitulácia rozpočtu | F2: Sadzby DPH
A3: Stavba Lesná cesta ČERTEŽ - rekonštrukcia | F3: A | G3: B
F4: 0.2 | G4: 0
A6: Názov objektu | B6: ZRN | C6: VRN | D6: HZS | E6: Kompl.čin. | F6: Ostatné náklady stavby | G6: Cena
A7: Lesná cesta ČERTEŽ - rekonštrukcia | B7: =Rozpočet!I171-Rekapitulácia!D7-Kryci_list_rozpočtu!F19-Rekapitulácia!F7 -> 0 | C7: =Kryci_list_rozpočtu!J26+Kryci_list_rozpočtu!F19 -> 0 | E7: =Kryci_list_rozpočtu!J17 -> 0 | G7: =B7+C7+D7+E7+F7 -> 0 | K7: =Rozpočet!K171 -> 0 | Q7: 30.126
A8: Celkom bez DPH | B8: =SUM(B7:B7) -> 0 | C8: =SUM(C7:C7) -> 0 | D8: =SUM(D7:D7) -> 0 | E8: =SUM(E7:E7) -> 0 | F8: =SUM(F7:F7) -> 0 | G8: =SUM(G7:G7)-SUM(Z7:Z7) -> 0
A9: DPH 20% z | B9: =G8-SUM(Rekapitulácia!K7:'Rekapitulácia'!K7)*1 -> 0 | G9: =ROUND(((ROUND(B9,2)*20)/100),2)*1 -> 0
A10: DPH 0% z | B10: =(G8-B9) -> 0 | G10: =ROUND(((ROUND(B10,2)*0)/100),2) -> 0
A11: Celkom v EUR | G11: =SUM(G8:G10) -> 0

Sheet Krycí list stavby
F1: Krycí list stavby | W1: 30.126
B2: Stavba Lesná cesta ČERTEŽ - rekonštrukcia
I3: Miesto: Oščadnica
I4: Ks: 2111 Cestné komunikácie
B5: Zákazka: | F5: Spracoval: Ing. Böhmer | I5: Dňa | J5: 25. 1. 2024
B6: Odberateľ: LESY SR, š.p. organizačná zložka OZ Sever
B7: IČO: 36038351 | G7: DIČ:
B8: Projektant: VIA OPTIMA, spol. s r.o.
B9: IČO: 44 314 132 | G9: DIČ: 2022661597
B10: Dodávateľ: ...
B11: IČO: | G11: DIČ:
B14: A | D14: Montáž | E14: Materiál | F14: ZRN spolu | G14: B
B15: 1 | C15: HSV | D15: =Kryci_list_rozpočtu!D15 -> 0 | E15: =Kryci_list_rozpočtu!E15 -> 0 | F15: =Kryci_list_rozpočtu!F15 -> 0 | G15: 7 | H15: Ostatné náklady stavby | J15: =Kryci_list_rozpočtu!J15 -> 0
B16: 2 | C16: PSV | D16: =Kryci_list_rozpočtu!D16 -> 0 | E16: =Kryci_list_rozpočtu!E16 -> 0 | F16: =Kryci_list_rozpočtu!F16 -> 0
B17: 3 | C17: MONT | D17: =Kryci_list_rozpočtu!D17 -> 0 | E17: =Kryci_list_rozpočtu!E17 -> 0 | F17: =Kryci_list_rozpočtu!F17 -> 0 | G17: 8 | H17: Kompletačná činnosť | J17: =Rekapitulácia!E8 -> 0
B18: 4 | C18: OST | D18: =Kryci_list_rozpočtu!D18 -> 0 | E18: =Kryci_list_rozpočtu!E18 -> 0 | F18: =Kryci_list_rozpočtu!F18 -> 0 | G18: 9 | H18: HZS | J18: =Rekapitulácia!D8 -> 0
B19: 5 | C19: VN | D19: =Kryci_list_rozpočtu!D19 -> 0 | E19: =Kryci_list_rozpočtu!E19 -> 0 | F19: =Kryci_list_rozpočtu!F19 -> 0
B20: 6 | C20: Spolu | F20: =SUM(F15:F19) -> 0 | G20: 10 | H20: Spolu | J20: =SUM(J16:J19) -> 0
B21: C | C21: VRN | G21: D | H21: VRN
B22: 11 | C22: Zariadenie staveniska | F22: =Kryci_list_rozpočtu!F22 -> 0 | G22: 16 | H22: Sťažené podmienky dopravy | J22: =Kryci_list_rozpočtu!J22 -> 0
B23: 12 | C23: Sťažené výrobné podmienky | F23: =Kryci_list_rozpočtu!F23 -> 0 | G23: 17 | H23: Horské oblasti | J23: =Kryci_list_rozpočtu!J23 -> 0
B24: 13 | C24: Prevádzkové vplyvy | F24: =Kryci_list_rozpočtu!F24 -> 0 | G24: 18 | H24: Mimostavenisková doprava | J24: =Kryci_list_rozpočtu!J24 -> 0
B25: 14 | G25: 19
B26: 15 | G26: 20 | H26: Spolu | J26: =SUM(J22:J25)+SUM(F22:F25) -> 0
C27: Projektant,rozpočtár | G27: E | H27: Celkové náklady
G28: 21 | H28: Súčet riadkov 6,10,20 | J28: =F20+J20+F26+J26 -> 0
G29: 22 | H29: DPH 20% z | I29: =Rekapitulácia!B9 -> 0 | J29: =ROUND(((ROUND(I29,2)*20)/100),2)*1 -> 0
G30: 23 | H30: DPH 0% z | I30: =Rekapitulácia!B10 -> 0 | J30: =ROUND(((ROUND(I30,2)*0)/100),2) -> 0
G31: 24 | H31: Spolu v EUR | J31: =SUM(J28:J30) -> 0
G32: F
D33: Odberateľ | H33: Dodávateľ

Sheet Kryci_list_rozpočtu
F1: Krycí list rozpočtu | W1: 30.126
B2: Stavba Lesná cesta ČERTEŽ - rekonštrukcia
B3: Objekt Lesná cesta ČERTEŽ - rekonštrukcia | I3: Miesto: Oščadnica
I4: Ks: 2111 Cestné komunikácie
B5: Zákazka: | F5: Spracoval: Ing. Böhmer | I5: Dňa | J5: 25. 1. 2024
B6: Odberateľ: LESY SR, š.p. organizačná zložka OZ Sever
B7: IČO: 36038351 | G7: DIČ:
B8: Projektant: VIA OPTIMA, spol. s r.o.
B9: IČO: 44 314 132 | G9: DIČ: 2022661597
B10: Dodávateľ: ...
B11: IČO: | G11: DIČ:
B14: A | C14: ZRN | D14: Montáž | E14: Materiál | F14: ZRN spolu | G14: B
B15: 1 | C15: HSV | D15: =Rekap_Oddiely!B19 -> 0 | E15: =Rekap_Oddiely!C19 -> 0 | F15: =Rekap_Oddiely!D19 -> 0 | G15: 7 | H15: Ostatné náklady | J15: 0
B16: 2 | C16: PSV | D16: =Rekap_Oddiely!B23 -> 0 | E16: =Rekap_Oddiely!C23 -> 0 | F16: =Rekap_Oddiely!D23 -> 0
B17: 3 | C17: MONT | G17: 8 | H17: Kompletačná činnos | J17: =Rozpočet!Z171 -> 0
B18: 4 | C18: OST | G18: 9 | H18: HZS | J18: =Rozpočet!Y171 -> 0
B19: 5 | C19: VN
B20: 6 | C20: Spolu | F20: =SUM(F15:F19) -> 0 | G20: 10 | H20: Spolu | J20: =SUM(J15:J19) -> 0
B21: C | C21: VRN | G21: D | H21: VRN
B22: 11 | C22: Zariadenie staveniska | E22: 0% z [H+P+M] | F22: =((F15*U22*0)+(F16*V22*0)+(F17*W22*0))/100 -> 0 | G22: 16 | H22: Sťažené podmienky dopravy | I22: 0% z [H+P+M] | J22: =((F15*X22*0)+(F16*Y22*0)+(F17*Z22*0))/100 -> 0 | U22: 1 | V22: 1 | W22: 1 | X22: 1 | Y22: 1 | Z22: 1
B23: 12 | C23: Sťažené výrobné podmienky | E23: 0% z [H+P] | F23: =((F15*U23*0)+(F16*V23*0)+(F17*W23*0))/100 -> 0 | G23: 17 | H23: Horské oblasti | I23: 0% z [H+P+M] | J23: =((F15*X23*0)+(F16*Y23*0)+(F17*Z23*0))/100 -> 0 | U23: 1 | V23: 1 | W23: 0 | X23: 1 | Y23: 1 | Z23: 1
B24: 13 | C24: Prevádzkové vplyvy | E24: 0% z [H+P+M] | F24: =((F15*U24*0)+(F16*V24*0)+(F17*W24*0))/100 -> 0 | G24: 18 | H24: Mimostavenisková doprava | I24: 0% z [H+P] | J24: =((F15*X24*0)+(F16*Y24*0)+(F17*Z24*0))/100 -> 0 | U24: 1 | V24: 1 | W24: 1 | X24: 1 | Y24: 1 | Z24: 0
B25: 14 | G25: 19
B26: 15 | G26: 20 | H26: Spolu | J26: =SUM(J22:J25)+SUM(F22:F25) -> 0
C27: Projektant,rozpočtár | G27: E | H27: Celkové náklady
G28: 21 | H28: Súčet riadkov 6,10,20 | J28: =F20+J20+F26+J26 -> 0
G29: 22 | H29: DPH 20% z | I29: =J28-SUM(Rozpočet!K9:'Rozpočet'!K170) -> 0 | J29: =ROUND(((ROUND(I29,2)*20)*1/100),2) -> 0
G30: 23 | H30: DPH 0% z | I30: =SUM(Rozpočet!K9:'Rozpočet'!K170) -> 0 | J30: =ROUND(((ROUND(I30,2)*0)/100),2) -> 0
G31: 24 | H31: Spolu v EUR | J31: =SUM(J28:J30) -> 0
G32: F
D33: Odberateľ | G33: 26 | H33: Dodávateľ

Sheet Rekap_Oddiely
A1: Odberateľ: LESY SR, š.p. organizačná zložka OZ Sever | E1: Spracoval: Ing. Böhmer | W1: 30.126
A2: Projektant: VIA OPTIMA, spol. s r.o. | E2: Ks: 2111 Cestné komunikácie
A3: Dodávateľ: ... | E3: Dátum: 25. 1. 2024
A4: Stavba Lesná cesta ČERTEŽ - rekonštrukcia
A5: Objekt Lesná cesta ČERTEŽ - rekonštrukcia
A8: Prehľad rozpočtových nákladov
A9: Oddiel | B9: Montáž | C9: Materiál | D9: Spolu | E9: Hmotnosť (T) | F9: Sutina (T)
A10: Práce HSV
A11: ZEMNÉ PRÁCE | B11: =Rozpočet!L70 -> 0 | C11: =Rozpočet!M70 -> 0 | D11: =Rozpočet!I70 -> 0 | E11: =Rozpočet!S70 -> 678.5 | F11: =Rozpočet!V70 -> 0
A12: ZÁKLADY | B12: =Rozpočet!L82 -> 0 | C12: =Rozpočet!M82 -> 0 | D12: =Rozpočet!I82 -> 0 | E12: =Rozpočet!S82 -> 3645.14 | F12: =Rozpočet!V82 -> 0
A13: ZVISLÉ KONŠTRUKCIE | B13: =Rozpočet!L88 -> 0 | C13: =Rozpočet!M88 -> 0 | D13: =Rozpočet!I88 -> 0 | E13: =Rozpočet!S88 -> 0 | F13: =Rozpočet!V88 -> 0
A14: VODOROVNÉ KONŠTRUKCIE | B14: =Rozpočet!L98 -> 0 | C14: =Rozpočet!M98 -> 0 | D14: =Rozpočet!I98 -> 0 | E14: =Rozpočet!S98 -> 2574.18 | F14: =Rozpočet!V98 -> 0
A15: SPEVNENÉ PLOCHY | B15: =Rozpočet!L113 -> 0 | C15: =Rozpočet!M113 -> 0 | D15: =Rozpočet!I113 -> 0 | E15: =Rozpočet!S113 -> 13651.87 | F15: =Rozpočet!V113 -> 0
A16: POTRUBNÉ ROZVODY | B16: =Rozpočet!L131 -> 0 | C16: =Rozpočet!M131 -> 0 | D16: =Rozpočet!I131 -> 0 | E16: =Rozpočet!S131 -> 10.65 | F16: =Rozpočet!V131 -> 0
A17: OSTATNÉ KONŠTRUKCIE A PRÁCE | B17: =Rozpočet!L157 -> 0 | C17: =Rozpočet!M157 -> 0 | D17: =Rozpočet!I157 -> 0 | E17: =Rozpočet!S157 -> 8.47 | F17: =Rozpočet!V157 -> 968.46
A18: PRESUNY HMÔT | B18: =Rozpočet!L161 -> 0 | C18: =Rozpočet!M161 -> 0 | D18: =Rozpočet!I161 -> 0 | E18: =Rozpočet!S161 -> 0 | F18: =Rozpočet!V161 -> 0
A19: Práce HSV | B19: =Rozpočet!L163 -> 0 | C19: =Rozpočet!M163 -> 0 | D19: =Rozpočet!I163 -> 0 | E19: =Rozpočet!S163 -> 20568.81 | F19: =Rozpočet!V163 -> 968.46
A21: Práce PSV
A22: NÁTERY | B22: =Rozpočet!L168 -> 0 | C22: =Rozpočet!M168 -> 0 | D22: =Rozpočet!I168 -> 0 | E22: =Rozpočet!S168 -> 0 | F22: =Rozpočet!V168 -> 0
A23: Práce PSV | B23: =Rozpočet!L170 -> 0 | C23: =Rozpočet!M170 -> 0 | D23: =Rozpočet!I170 -> 0 | E23: =Rozpočet!S170 -> 0 | F23: =Rozpočet!V170 -> 0
A25: Celkom v EUR | B25: =Rozpočet!L171 -> 0 | C25: =Rozpočet!M171 -> 0 | D25: =Rozpočet!I171 -> 0 | E25: =Rozpočet!S171 -> 20568.81 | F25: =Rozpočet!V171 -> 968.46

Sheet Rozpočet
C1: Odberateľ: LESY SR, š.p. organizačná zložka OZ Sever | I1: Spracoval: | P1: Ing. Böhmer
C2: Projektant: VIA OPTIMA, spol. s r.o. | I2: Ks: | P2: 2111 Cestné komunikácie
C3: Dodávateľ: ... | I3: Dátum: | P3: 25. 1. 2024
C4: Zákazka Lesná cesta ČERTEŽ - rekonštrukcia
C5: Objekt Lesná cesta ČERTEŽ - rekonštrukcia
C7: Prehľad rozpočtových nákladov
A8: Por.č. | B8: Cenník | C8: Kód položky | D8: Názov | E8: Mj | F8: Množstvo | G8: Montáž | H8: Materiál | I8: Cena celkom | P8: Hmotnosť/Mj | S8: Hmotnosť | V8: Sutina
D9: Práce HSV
C10: 1 | D10: ZEMNÉ PRÁCE
A11: 1 | B11: 1/A 1 | C11: 111201101 | D11: Odstránenie stromov s koreňmi a krovín do 1000 m2 | E11: m2 | F11: 2390 | I11: =ROUND(F11*(G11+H11),2) -> 0 | J11: =ROUND(F11*(N11),2) -> 0 | K11: =ROUND(F11*(O11),2) -> 0 | P11: 0 | R11: 0 | S11: =ROUND(F11*(P11),3) -> 0 | V11: =ROUND(F11*(X11),3) -> 0 | X11: 0 | Z11: 0
A12: 2 | B12: 1/A 1 | C12: 112101101 | D12: Vyrúbanie listnatého stromu s priemerom do 300 mm | E12: kus | F12: 1919 | I12: =ROUND(F12*(G12+H12),2) -> 0 | J12: =ROUND(F12*(N12),2) -> 0 | K12: =ROUND(F12*(O12),2) -> 0 | P12: 0 | R12: 0 | S12: =ROUND(F12*(P12),3) -> 0 | V12: =ROUND(F12*(X12),3) -> 0 | X12: 0 | Z12: 0
A13: 3 | B13: 1/A 1 | C13: 112101102 | D13: Vyrúbanie listnatého stromu s priemerom do 500 mm | E13: kus | F13: 84 | I13: =ROUND(F13*(G13+H13),2) -> 0 | J13: =ROUND(F13*(N13),2) -> 0 | K13: =ROUND(F13*(O13),2) -> 0 | P13: 0 | R13: 0 | S13: =ROUND(F13*(P13),3) -> 0 | V13: =ROUND(F13*(X13),3) -> 0 | X13: 0 | Z13: 0
A14: 4 | B14: 1/A 1 | C14: 112101103 | D14: Vyrúbanie listnatého stromu s priemerom do 700 mm | E14: kus | F14: 27 | I14: =ROUND(F14*(G14+H14),2) -> 0 | J14: =ROUND(F14*(N14),2) -> 0 | K14: =ROUND(F14*(O14),2) -> 0 | P14: 0 | R14: 0 | S14: =ROUND(F14*(P14),3) -> 0 | V14: =ROUND(F14*(X14),3) -> 0 | X14: 0 | Z14: 0
A15: 5 | B15: 1/A 1 | C15: 112101104 | D15: Vyrúbanie listnatého stromu s priemerom do 900 mm | E15: kus | F15: 11 | I15: =ROUND(F15*(G15+H15),2) -> 0 | J15: =ROUND(F15*(N15),2) -> 0 | K15: =ROUND(F15*(O15),2) -> 0 | P15: 0 | R15: 0 | S15: =ROUND(F15*(P15),3) -> 0 | V15: =ROUND(F15*(X15),3) -> 0 | X15: 0 | Z15: 0
A16: 6 | B16: 1/A 1 | C16: 112101105 | D16: Vyrúbanie listnatého stromu s priemerom nad 900 mm motorovou pílou | E16: kus | F16: 3 | I16: =ROUND(F16*(G16+H16),2) -> 0 | J16: =ROUND(F16*(N16),2) -> 0 | K16: =ROUND(F16*(O16),2) -> 0 | P16: 0 | R16: 0 | S16: =ROUND(F16*(P16),3) -> 0 | V16: =ROUND(F16*(X16),3) -> 0 | X16: 0 | Z16: 0
A17: 7 | B17: 1/A 1 | C17: 112201101 | D17: Odstránenie pňov na vzdial. 50 m priemeru nad 100 do 300 mm | E17: KUS | F17: 1919 | I17: =ROUND(F17*(G17+H17),2) -> 0 | J17: =ROUND(F17*(N17),2) -> 0 | K17: =ROUND(F17*(O17),2) -> 0 | P17: 1e-05 | R17: 1e-05 | S17: =ROUND(F17*(P17),3) -> 0.019 | V17: =ROUND(F17*(X17),3) -> 0 | X17: 0 | Z17: 0
A18: 8 | B18: 1/A 1 | C18: 112201102 | D18: Odstránenie pňov na vzdial. 50 m priemeru nad 300 do 500 mm | E18: KUS | F18: 84 | I18: =ROUND(F18*(G18+H18),2) -> 0 | J18: =ROUND(F18*(N18),2) -> 0 | K18: =ROUND(F18*(O18),2) -> 0 | P18: 1e-05 | R18: 1e-05 | S18: =ROUND(F18*(P18),3) -> 0.001 | V18: =ROUND(F18*(X18),3) -> 0 | X18: 0 | Z18: 0
A19: 9 | B19: 1/A 1 | C19: 112201103 | D19: Odstránenie pňov na vzdial. 50 m priemeru nad 500 do 700 mm | E19: KUS | F19: 27 | I19: =ROUND(F19*(G19+H19),2) -> 0 | J19: =ROUND(F19*(N19),2) -> 0 | K19: =ROUND(F19*(O19),2) -> 0 | P19: 3e-05 | R19: 3e-05 | S19: =ROUND(F19*(P19),3) -> 0.001 | V19: =ROUND(F19*(X19),3) -> 0 | X19: 0 | Z19: 0
A20: 10 | B20: 1/A 1 | C20: 112201104 | D20: Odstránenie pňov na vzdial. 50 m priemeru nad 700 do 900 mm | E20: KUS | F20: 11 | I20: =ROUND(F20*(G20+H20),2) -> 0 | J20: =ROUND(F20*(N20),2) -> 0 | K20: =ROUND(F20*(O20),2) -> 0 | P20: 3e-05 | R20: 3e-05 | S20: =ROUND(F20*(P20),3) -> 0 | V20: =ROUND(F20*(X20),3) -> 0 | X20: 0 | Z20: 0
A21: 11 | B21: 1/A 1 | C21: 112201105 | D21: Odstránenie pňov na vzdial. 50 m, priemer nad 900 mm | E21: KUS | F21: 3 | I21: =ROUND(F21*(G21+H21),2) -> 0 | J21: =ROUND(F21*(N21),2) -> 0 | K21: =ROUND(F21*(O21),2) -> 0 | P21: 3e-05 | R21: 3e-05 | S21: =ROUND(F21*(P21),3) -> 0 | V21: =ROUND(F21*(X21),3) -> 0 | X21: 0 | Z21: 0
A22: 12 | B22: 1/A 1 | C22: 115001105 | D22: Prevedenie vody potrubím do DN 600 mm | E22: m | F22: 210 | I22: =ROUND(F22*(G22+H22),2) -> 0 | J22: =ROUND(F22*(N22),2) -> 0 | K22: =ROUND(F22*(O22),2) -> 0 | P22: 0.01722 | R22: 0.01722 | S22: =ROUND(F22*(P22),3) -> 3.616 | V22: =ROUND(F22*(X22),3) -> 0 | X22: 0 | Z22: 0
... A69: 59 | B69: S/S60 | C69: 5833333300 | D69: Kamenivo ťažené hrubé, frakcia 8-32, trieda Z | E69: T | F69: 668.885 | I69: =ROUND(F69*(G69+H69),2) -> 0 | J69: =ROUND(F69*(N69),2) -> 0 | K69: =ROUND(F69*(O69),2) -> 0 | P69: 1 | R69: 1 | S69: =ROUND(F69*(P69),3) -> 668.885 | V69: =ROUND(F69*(X69),3) -> 0 | X69: 0 | Z69: 0
C70: 1 | D70: ZEMNÉ PRÁCE | G70: =ROUND((SUM(L10:L69))/1,2) -> 0 | H70: =ROUND((SUM(M10:M69))/1,2) -> 0 | I70: =ROUND((SUM(I10:I69))/1,2) -> 0 | S70: =ROUND((SUM(S10:S69))/1,2) -> 678.5 | V70: =ROUND((SUM(V10:V69))/1,2) -> 0
C72: 2 | D72: ZÁKLADY
A73: 60 | B73: 2/A 1 | C73: 211561111 | D73: Výplň odvodňovacieho rebra alebo trativodu do rýh kamenivom hrubým drveným frakcie 4-16 mm | E73: m3 | F73: 1396.88 | I73: =ROUND(F73*(G73+H73),2) -> 0 | J73: =ROUND(F73*(N73),2) -> 0 | K73: =ROUND(F73*(O73),2) -> 0 | P73: 1.665 | R73: 1.665 | S73: =ROUND(F73*(P73),3) -> 2325.805 | V73: =ROUND(F73*(X73),3) -> 0 | X73: 0 | Z73: 0
A74: 61 | B74: 2/A 1 | C74: 211971121 | D74: Zhotov. oplášt. výplne z geotext. v ryhe alebo v záreze pri rozvinutej šírke oplášt. od 0 do 2, 5 m | E74: M2 | F74: 7932.2 | I74: =ROUND(F74*(G74+H74),2) -> 0 | J74: =ROUND(F74*(N74),2) -> 0 | K74: =ROUND(F74*(O74),2) -> 0 | P74: 0.00035 | R74: 0.00035 | S74: =ROUND(F74*(P74),3) -> 2.776 | V74: =ROUND(F74*(X74),3) -> 0 | X74: 0 | Z74: 0
A75: 62 | B75: 11/A 1 | C75: 274313741 | D75: Betón základových pásov prostý triedy C30/37 | E75: m3 | F75: 47.31 | I75: =ROUND(F75*(G75+H75),2) -> 0 | J75: =ROUND(F75*(N75),2) -> 0 | K75: =ROUND(F75*(O75),2) -> 0 | P75: 2.32234 | R75: 2.32234 | S75: =ROUND(F75*(P75),3) -> 109.87 | V75: =ROUND(F75*(X75),3) -> 0 | X75: 0 | Z75: 0
A76: 63 | B76: 11/A 1 | C76: 274351211 | D76: Debnenie stien základových pásov z dielcov - zhotovenie | E76: m2 | F76: 289.95 | I76: =ROUND(F76*(G76+H76),2) -> 0 | J76: =ROUND(F76*(N76),2) -> 0 | K76: =ROUND(F76*(O76),2) -> 0 | P76: 0.00067 | R76: 0.00067 | S76: =ROUND(F76*(P76),3) -> 0.194 | V76: =ROUND(F76*(X76),3) -> 0 | X76: 0 | Z76: 0
A77: 64 | B77: 11/A 1 | C77: 274351212 | D77: Debnenie stien základových pásov z dielcov - odstránenie | E77: m2 | F77: 289.95 | I77: =ROUND(F77*(G77+H77),2) -> 0 | J77: =ROUND(F77*(N77),2) -> 0 | K77: =ROUND(F77*(O77),2) -> 0 | P77: 0 | R77: 0 | S77: =ROUND(F77*(P77),3) -> 0 | V77: =ROUND(F77*(X77),3) -> 0 | X77: 0 | Z77: 0
A78: 65 | B78: 211/A 1 | C78: 273311116 | D78: Základové dosky mostných konštrukcií z betónu prostého triedy C16/20 | E78: m3 | F78: 56.4 | I78: =ROUND(F78*(G78+H78),2) -> 0 | J78: =ROUND(F78*(N78),2) -> 0 | K78: =ROUND(F78*(O78),2) -> 0 | P78: 2.2457 | R78: 2.2457 | S78: =ROUND(F78*(P78),3) -> 126.657 | V78: =ROUND(F78*(X78),3) -> 0 | X78: 0 | Z78: 0
A79: 66 | B79: 271/A 1 | C79: 212752127 | D79: Trativody z flexodrenážnych rúr DN 160 | E79: M | F79: 4279 | I79: =ROUND(F79*(G79+H79),2) -> 0 | J79: =ROUND(F79*(N79),2) -> 0 | K79: =ROUND(F79*(O79),2) -> 0 | P79: 0.25195 | R79: 0.25195 | S79: =ROUND(F79*(P79),3) -> 1078.094 | V79: =ROUND(F79*(X79),3) -> 0 | X79: 0 | Z79: 0
A80: 67 | B80: S/S20 | C80: 286161131006 | D80: PIPELIFE Zátka 160 pre PVC flexo drenážne rúry | E80: KUS | F80: 49 | I80: =ROUND(F80*(G80+H80),2) -> 0 | J80: =ROUND(F80*(N80),2) -> 0 | K80: =ROUND(F80*(O80),2) -> 0 | P80: 0 | R80: 0 | S80: =ROUND(F80*(P80),3) -> 0 | V80: =ROUND(F80*(X80),3) -> 0 | X80: 0 | Z80: 0
A81: 68 | B81: S/S90 | C81: 6936651000 | D81: Geotextília netkaná polypropylénová Tatratex PP 200 | E81: M2 | F81: 8725.42 | I81: =ROUND(F81*(G81+H81),2) -> 0 | J81: =ROUND(F81*(N81),2) -> 0 | K81: =ROUND(F81*(O81),2) -> 0 | P81: 0.0002 | R81: 0.0002 | S81: =ROUND(F81*(P81),3) -> 1.745 | V81: =ROUND(F81*(X81),3) -> 0 | X81: 0 | Z81: 0
C82: 2 | D82: ZÁKLADY | G82: =ROUND((SUM(L72:L81))/1,2) -> 0 | H82: =ROUND((SUM(M72:M81))/1,2) -> 0 | I82: =ROUND((SUM(I72:I81))/1,2) -> 0 | S82: =ROUND((SUM(S72:S81))/1,2) -> 3645.14 | V82: =ROUND((SUM(V72:V81))/1,2) -> 0
C84: 3 | D84: ZVISLÉ KONŠTRUKCIE
A85: 69 | B85: 15/A 4 | C85: 32721101011 | D85: Montáž oporných a zárubných múrov z drôtokamenných pletených košov, priemer drôtu 2,7 mm | E85: M3 | F85: 76 | I85: =ROUND(F85*(G85+H85),2) -> 0 | J85: =ROUND(F85*(N85),2) -> 0 | K85: =ROUND(F85*(O85),2) -> 0 | P85: 0 | R85: 0 | S85: =ROUND(F85*(P85),3) -> 0 | V85: =ROUND(F85*(X85),3) -> 0 | X85: 0 | Z85: 0
A86: 70 | B86: P/P 1 | C86: 313069030105 | D86: MACCAFERRI Drôtokamenné koše pletené, typ siete 6x8, priemer drôtu 2,7 mm s povrchovou ochrana Galmac (Zn+Al) + PA6 | E86: M3 | F86: 77.52 | I86: =ROUND(F86*(G86+H86),2) -> 0 | J86: =ROUND(F86*(N86),2) -> 0 | K86: =ROUND(F86*(O86),2) -> 0 | P86: 0 | R86: 0 | S86: =ROUND(F86*(P86),3) -> 0 | V86: =ROUND(F86*(X86),3) -> 0 | X86: 0 | Z86: 0
A87: 71 | B87: P/P 1 | C87: 583069120102 | D87: Maccaferri Kamenivo do drôtokamenných košov | E87: M3 | F87: 77.52 | I87: =ROUND(F87*(G87+H87),2) -> 0 | J87: =ROUND(F87*(N87),2) -> 0 | K87: =ROUND(F87*(O87),2) -> 0 | P87: 0 | R87: 0 | S87: =ROUND(F87*(P87),3) -> 0 | V87: =ROUND(F87*(X87),3) -> 0 | X87: 0 | Z87: 0
C88: 3 | D88: ZVISLÉ KONŠTRUKCIE | G88: =ROUND((SUM(L84:L87))/1,2) -> 0 | H88: =ROUND((SUM(M84:M87))/1,2) -> 0 | I88: =ROUND((SUM(I84:I87))/1,2) -> 0 | S88: =ROUND((SUM(S84:S87))/1,2) -> 0 | V88: =ROUND((SUM(V84:V87))/1,2) -> 0
C90: 4 | D90: VODOROVNÉ KONŠTRUKCIE
...
