Workbook

Sheet Rekapitulácia
A2: Rekapitulácia rozpočtu | F2: Sadzby DPH
A3: Stavba Lesná cesta ČERTEŽ - rekonštrukcia | F3: A | G3: B
F4: 0.2 | G4: 0
A6: Názov objektu | B6: ZRN | C6: VRN | D6: HZS | E6: Kompl.čin. | F6: Ostatné náklady stavby | G6: Cena
A7: Lesná cesta ČERTEŽ - rekonštrukcia | B7: =Rozpočet!I171-Rekapitulácia!D7-Kryci_list_rozpočtu!F19-Rekapitulácia!F7 -> 0 | C7: =Kryci_list_rozpočtu!J26+Kryci_list_rozpočtu!F19 -> 0 | E7: =Kryci_list_rozpočtu!J17 -> 0 | G7: =B7+C7+D7+E7+F7 -> 0 | K7: =Rozpočet!K171 -> 0 | Q7: 30.126
A8: Celkom bez DPH | B8: =SUM(B7:B7) -> 0 | C8: =SUM(C7:C7) -> 0 | D8: =SUM(D7:D7) -> 0 | E8: =SUM(E7:E7) -> 0 | F8: =SUM(F7:F7) -> 0 | G8: =SUM(G7:G7)-SUM(Z7:Z7) -> 0
A9: DPH 20% z | B9: =G8-SUM(Rekapitulácia!K7:'Rekapitulácia'!K7)*1 -> 0 | G9: =ROUND(((ROUND(B9,2)*20)/100),2)*1 -> 0
A10: DPH 0% z | B10: =(G8-B9) -> 0 | G10: =ROUND(((ROUND(B10,2)*0)/100),2) -> 0
A11: Celkom v EUR | G11: =SUM(G8:G10) -> 0

Sheet Krycí list stavby
F1: Krycí list stavby | W1: 30.126
B2: Stavba Lesná cesta ČERTEŽ - rekonštrukcia
I3: Miesto: Oščadnica
I4: Ks: 2111 Cestné komunikácie
B5: Zákazka: | F5: Spracoval: Ing. Böhmer | I5: Dňa | J5: 25. 1. 2024
B6: Odberateľ: LESY SR, š.p. organizačná zložka OZ Sever
B7: IČO: 36038351 | G7: DIČ:
B8: Projektant: VIA OPTIMA, spol. s r.o.
B9: IČO: 44 314 132 | G9: DIČ: 2022661597
B10: Dodávateľ: ...
B11: IČO: | G11: DIČ:
B14: A | D14: Montáž | E14: Materiál | F14: ZRN spolu | G14: B
B15: 1 | C15: HSV | D15: =Kryci_list_rozpočtu!D15 -> 0 | E15: =Kryci_list_rozpočtu!E15 -> 0 | F15: =Kryci_list_rozpočtu!F15 -> 0 | G15: 7 | H15: Ostatné náklady stavby | J15: =Kryci_list_rozpočtu!J15 -> 0
B16: 2 | C16: PSV | D16: =Kryci_list_rozpočtu!D16 -> 0 | E16: =Kryci_list_rozpočtu!E16 -> 0 | F16: =Kryci_list_rozpočtu!F16 -> 0
B17: 3 | C17: MONT | D17: =Kryci_list_rozpočtu!D17 -> 0 | E17: =Kryci_list_rozpočtu!E17 -> 0 | F17: =Kryci_list_rozpočtu!F17 -> 0 | G17: 8 | H17: Kompletačná činnosť | J17: =Rekapitulácia!E8 -> 0
B18: 4 | C18: OST | D18: =Kryci_list_rozpočtu!D18 -> 0 | E18: =Kryci_list_rozpočtu!E18 -> 0 | F18: =Kryci_list_rozpočtu!F18 -> 0 | G18: 9 | H18: HZS | J18: =Rekapitulácia!D8 -> 0
B19: 5 | C19: VN | D19: =Kryci_list_rozpočtu!D19 -> 0 | E19: =Kryci_list_rozpočtu!E19 -> 0 | F19: =Kryci_list_rozpočtu!F19 -> 0
B20: 6 | C20: Spolu | F20: =SUM(F15:F19) -> 0 | G20: 10 | H20: Spolu | J20: =SUM(J16:J19) -> 0
B21: C | C21: VRN | G21: D | H21: VRN
B22: 11 | C22: Zariadenie staveniska | F22: =Kryci_list_rozpočtu!F22 -> 0 | G22: 16 | H22: Sťažené podmienky dopravy | J22: =Kryci_list_rozpočtu!J22 -> 0
B23: 12 | C23: Sťažené výrobné podmienky | F23: =Kryci_list_rozpočtu!F23 -> 0 | G23: 17 | H23: Horské oblasti | J23: =Kryci_list_rozpočtu!J23 -> 0
B24: 13 | C24: Prevádzkové vplyvy | F24: =Kryci_list_rozpočtu!F24 -> 0 | G24: 18 | H24: Mimostavenisková doprava | J24: =Kryci_list_rozpočtu!J24 -> 0
B25: 14 | G25: 19
B26: 15 | G26: 20 | H26: Spolu | J26: =SUM(J22:J25)+SUM(F22:F25) -> 0
C27: Projektant,rozpočtár | G27: E | H27: Celkové náklady
G28: 21 | H28: Súčet riadkov 6,10,20 | J28: =F20+J20+F26+J26 -> 0
G29: 22 | H29: DPH 20% z | I29: =Rekapitulácia!B9 -> 0 | J29: =ROUND(((ROUND(I29,2)*20)/100),2)*1 -> 0
G30: 23 | H30: DPH 0% z | I30: =Rekapitulácia!B10 -> 0 | J30: =ROUND(((ROUND(I30,2)*0)/100),2) -> 0
G31: 24 | H31: Spolu v EUR | J31: =SUM(J28:J30) -> 0
G32: F
D33: Odberateľ | H33: Dodávateľ

Sheet Kryci_list_rozpočtu
F1: Krycí list rozpočtu | W1: 30.126
B2: Stavba Lesná cesta ČERTEŽ - rekonštrukcia
B3: Objekt Lesná cesta ČERTEŽ - rekonštrukcia | I3: Miesto: Oščadnica
I4: Ks: 2111 Cestné komunikácie
B5: Zákazka: | F5: Spracoval: Ing. Böhmer | I5: Dňa | J5: 25. 1. 2024
B6: Odberateľ: LESY SR, š.p. organizačná zložka OZ Sever
B7: IČO: 36038351 | G7: DIČ:
B8: Projektant: VIA OPTIMA, spol. s r.o.
B9: IČO: 44 314 132 | G9: DIČ: 2022661597
B10: Dodávateľ: ...
B11: IČO: | G11: DIČ:
B14: A | C14: ZRN | D14: Montáž | E14: Materiál | F14: ZRN spolu | G14: B
B15: 1 | C15: HSV | D15: =Rekap_Oddiely!B19 -> 0 | E15: =Rekap_Oddiely!C19 -> 0 | F15: =Rekap_Oddiely!D19 -> 0 | G15: 7 | H15: Ostatné náklady | J15: 0
B16: 2 | C16: PSV | D16: =Rekap_Oddiely!B23 -> 0 | E16: =Rekap_Oddiely!C23 -> 0 | F16: =Rekap_Oddiely!D23 -> 0
B17: 3 | C17: MONT | G17: 8 | H17: Kompletačná činnos | J17: =Rozpočet!Z171 -> 0
B18: 4 | C18: OST | G18: 9 | H18: HZS | J18: =Rozpočet!Y171 -> 0
B19: 5 | C19: VN
B20: 6 | C20: Spolu | F20: =SUM(F15:F19) -> 0 | G20: 10 | H20: Spolu | J20: =SUM(J15:J19) -> 0
B21: C | C21: VRN | G21: D | H21: VRN
B22: 11 | C22: Zariadenie staveniska | E22: 0% z [H+P+M] | F22: =((F15*U22*0)+(F16*V22*0)+(F17*W22*0))/100 -> 0 | G22: 16 | H22: Sťažené podmienky dopravy | I22: 0% z [H+P+M] | J22: =((F15*X22*0)+(F16*Y22*0)+(F17*Z22*0))/100 -> 0 | U22: 1 | V22: 1 | W22: 1 | X22: 1 | Y22: 1 | Z22: 1
B23: 12 | C23: Sťažené výrobné podmienky | E23: 0% z [H+P] | F23: =((F15*U23*0)+(F16*V23*0)+(F17*W23*0))/100 -> 0 | G23: 17 | H23: Horské oblasti | I23: 0% z [H+P+M] | J23: =((F15*X23*0)+(F16*Y23*0)+(F17*Z23*0))/100 -> 0 | U23: 1 | V23: 1 | W23: 0 | X23: 1 | Y23: 1 | Z23: 1
B24: 13 | C24: Prevádzkové vplyvy | E24: 0% z [H+P+M] | F24: =((F15*U24*0)+(F16*V24*0)+(F17*W24*0))/100 -> 0 | G24: 18 | H24: Mimostavenisková doprava | I24: 0% z [H+P] | J24: =((F15*X24*0)+(F16*Y24*0)+(F17*Z24*0))/100 -> 0 | U24: 1 | V24: 1 | W24: 1 | X24: 1 | Y24: 1 | Z24: 0
B25: 14 | G25: 19
B26: 15 | G26: 20 | H26: Spolu | J26: =SUM(J22:J25)+SUM(F22:F25) -> 0
C27: Projektant,rozpočtár | G27: E | H27: Celkové náklady
G28: 21 | H28: Súčet riadkov 6,10,20 | J28: =F20+J20+F26+J26 -> 0
G29: 22 | H29: DPH 20% z | I29: =J28-SUM(Rozpočet!K9:'Rozpočet'!K170) -> 0 | J29: =ROUND(((ROUND(I29,2)*20)*1/100),2) -> 0
G30: 23 | H30: DPH 0% z | I30: =SUM(Rozpočet!K9:'Rozpočet'!K170) -> 0 | J30: =ROUND(((ROUND(I30,2)*0)/100),2) -> 0
G31: 24 | H31: Spolu v EUR | J31: =SUM(J28:J30) -> 0
G32: F
D33: Odberateľ | G33: 26 | H33: Dodávateľ

Sheet Rekap_Oddiely
A1: Odberateľ: LESY SR, š.p. organizačná zložka OZ Sever | E1: Spracoval: Ing. Böhmer | W1: 30.126
A2: Projektant: VIA OPTIMA, spol. s r.o. | E2: Ks: 2111 Cestné komunikácie
A3: Dodávateľ: ... | E3: Dátum: 25. 1. 2024
A4: Stavba Lesná cesta ČERTEŽ - rekonštrukcia
A5: Objekt Lesná cesta ČERTEŽ - rekonštrukcia
A8: Prehľad rozpočtových nákladov
A9: Oddiel | B9: Montáž | C9: Materiál | D9: Spolu | E9: Hmotnosť (T) | F9: Sutina (T)
A10: Práce HSV
A11: ZEMNÉ PRÁCE | B11: =Rozpočet!L70 -> 0 | C11: =Rozpočet!M70 -> 0 | D11: =Rozpočet!I70 -> 0 | E11: =Rozpočet!S70 -> 678.5 | F11: =Rozpočet!V70 -> 0
A12: ZÁKLADY | B12: =Rozpočet!L82 -> 0 | C12: =Rozpočet!M82 -> 0 | D12: =Rozpočet!I82 -> 0 | E12: =Rozpočet!S82 -> 3645.14 | F12: =Rozpočet!V82 -> 0
A13: ZVISLÉ KONŠTRUKCIE | B13: =Rozpočet!L88 -> 0 | C13: =Rozpočet!M88 -> 0 | D13: =Rozpočet!I88 -> 0 | E13: =Rozpočet!S88 -> 0 | F13: =Rozpočet!V88 -> 0
A14: VODOROVNÉ KONŠTRUKCIE | B14: =Rozpočet!L98 -> 0 | C14: =Rozpočet!M98 -> 0 | D14: =Rozpočet!I98 -> 0 | E14: =Rozpočet!S98 -> 2574.18 | F14: =Rozpočet!V98 -> 0
A15: SPEVNENÉ PLOCHY | B15: =Rozpočet!L113 -> 0 | C15: =Rozpočet!M113 -> 0 | D15: =Rozpočet!I113 -> 0 | E15: =Rozpočet!S113 -> 13651.87 | F15: =Rozpočet!V113 -> 0
A16: POTRUBNÉ ROZVODY | B16: =Rozpočet!L131 -> 0 | C16: =Rozpočet!M131 -> 0 | D16: =Rozpočet!I131 -> 0 | E16: =Rozpočet!S131 -> 10.65 | F16: =Rozpočet!V131 -> 0
A17: OSTATNÉ KONŠTRUKCIE A PRÁCE | B17: =Rozpočet!L157 -> 0 | C17: =Rozpočet!M157 -> 0 | D17: =Rozpočet!I157 -> 0 | E17: =Rozpočet!S157 -> 8.47 | F17: =Rozpočet!V157 -> 968.46
A18: PRESUNY HMÔT | B18: =Rozpočet!L161 -> 0 | C18: =Rozpočet!M161 -> 0 | D18: =Rozpočet!I161 -> 0 | E18: =Rozpočet!S161 -> 0 | F18: =Rozpočet!V161 -> 0
A19: Práce HSV | B19: =Rozpočet!L163 -> 0 | C19: =Rozpočet!M163 -> 0 | D19: =Rozpočet!I163 -> 0 | E19: =Rozpočet!S163 -> 20568.81 | F19: =Rozpočet!V163 -> 968.46
A21: Práce PSV
A22: NÁTERY | B22: =Rozpočet!L168 -> 0 | C22: =Rozpočet!M168 -> 0 | D22: =Rozpočet!I168 -> 0 | E22: =Rozpočet!S168 -> 0 | F22: =Rozpočet!V168 -> 0
A23: Práce PSV | B23: =Rozpočet!L170 -> 0 | C23: =Rozpočet!M170 -> 0 | D23: =Rozpočet!I170 -> 0 | E23: =Rozpočet!S170 -> 0 | F23: =Rozpočet!V170 -> 0
A25: Celkom v EUR | B25: =Rozpočet!L171 -> 0 | C25: =Rozpočet!M171 -> 0 | D25: =Rozpočet!I171 -> 0 | E25: =Rozpočet!S171 -> 20568.81 | F25: =Rozpočet!V171 -> 968.46

Sheet Rozpočet
C1: Odberateľ: LESY SR, š.p. organizačná zložka OZ Sever | I1: Spracoval: | P1: Ing. Böhmer
C2: Projektant: VIA OPTIMA, spol. s r.o. | I2: Ks: | P2: 2111 Cestné komunikácie
C3: Dodávateľ: ... | I3: Dátum: | P3: 25. 1. 2024
C4: Zákazka Lesná cesta ČERTEŽ - rekonštrukcia
C5: Objekt Lesná cesta ČERTEŽ - rekonštrukcia
C7: Prehľad rozpočtových nákladov
A8: Por.č. | B8: Cenník | C8: Kód položky | D8: Názov | E8: Mj | F8: Množstvo | G8: Montáž | H8: Materiál | I8: Cena celkom | P8: Hmotnosť/Mj | S8: Hmotnosť | V8: Sutina
D9: Práce HSV
C10: 1 | D10: ZEMNÉ PRÁCE
A11: 1 | B11: 1/A 1 | C11: 111201101 | D11: Odstránenie stromov s koreňmi a krovín do 1000 m2 | E11: m2 | F11: 2390 | I11: =ROUND(F11*(G11+H11),2) -> 0 | J11: =ROUND(F11*(N11),2) -> 0 | K11: =ROUND(F11*(O11),2) -> 0 | P11: 0 | R11: 0 | S11: =ROUND(F11*(P11),3) -> 0 | V11: =ROUND(F11*(X11),3) -> 0 | X11: 0 | Z11: 0
A12: 2 | B12: 1/A 1 | C12: 112101101 | D12: Vyrúbanie listnatého stromu s priemerom do 300 mm | E12: kus | F12: 1919 | I12: =ROUND(F12*(G12+H12),2) -> 0 | J12: =ROUND(F12*(N12),2) -> 0 | K12: =ROUND(F12*(O12),2) -> 0 | P12: 0 | R12: 0 | S12: =ROUND(F12*(P12),3) -> 0 | V12: =ROUND(F12*(X12),3) -> 0 | X12: 0 | Z12: 0
A13: 3 | B13: 1/A 1 | C13: 112101102 | D13: Vyrúbanie listnatého stromu s priemerom do 500 mm | E13: kus | F13: 84 | I13: =ROUND(F13*(G13+H13),2) -> 0 | J13: =ROUND(F13*(N13),2) -> 0 | K13: =ROUND(F13*(O13),2) -> 0 | P13: 0 | R13: 0 | S13: =ROUND(F13*(P13),3) -> 0 | V13: =ROUND(F13*(X13),3) -> 0 | X13: 0 | Z13: 0
A14: 4 | B14: 1/A 1 | C14: 112101103 | D14: Vyrúbanie listnatého stromu s priemerom do 700 mm | E14: kus | F14: 27 | I14: =ROUND(F14*(G14+H14),2) -> 0 | J14: =ROUND(F14*(N14),2) -> 0 | K14: =ROUND(F14*(O14),2) -> 0 | P14: 0 | R14: 0 | S14: =ROUND(F14*(P14),3) -> 0 | V14: =ROUND(F14*(X14),3) -> 0 | X14: 0 | Z14: 0
A15: 5 | B15: 1/A 1 | C15: 112101104 | D15: Vyrúbanie listnatého stromu s priemerom do 900 mm | E15: kus | F15: 11 | I15: =ROUND(F15*(G15+H15),2) -> 0 | J15: =ROUND(F15*(N15),2) -> 0 | K15: =ROUND(F15*(O15),2) -> 0 | P15: 0 | R15: 0 | S15: =ROUND(F15*(P15),3) -> 0 | V15: =ROUND(F15*(X15),3) -> 0 | X15: 0 | Z15: 0
A16: 6 | B16: 1/A 1 | C16: 112101105 | D16: Vyrúbanie listnatého stromu s priemerom nad 900 mm motorovou pílou | E16: kus | F16: 3 | I16: =ROUND(F16*(G16+H16),2) -> 0 | J16: =ROUND(F16*(N16),2) -> 0 | K16: =ROUND(F16*(O16),2) -> 0 | P16: 0 | R16: 0 | S16: =ROUND(F16*(P16),3) -> 0 | V16: =ROUND(F16*(X16),3) -> 0 | X16: 0 | Z16: 0
A17: 7 | B17: 1/A 1 | C17: 112201101 | D17: Odstránenie pňov na vzdial. 50 m priemeru nad 100 do 300 mm | E17: KUS | F17: 1919 | I17: =ROUND(F17*(G17+H17),2) -> 0 | J17: =ROUND(F17*(N17),2) -> 0 | K17: =ROUND(F17*(O17),2) -> 0 | P17: 1e-05 | R17: 1e-05 | S17: =ROUND(F17*(P17),3) -> 0.019 | V17: =ROUND(F17*(X17),3) -> 0 | X17: 0 | Z17: 0
A18: 8 | B18: 1/A 1 | C18: 112201102 | D18: Odstránenie pňov na vzdial. 50 m priemeru nad 300 do 500 mm | E18: KUS | F18: 84 | I18: =ROUND(F18*(G18+H18),2) -> 0 | J18: =ROUND(F18*(N18),2) -> 0 | K18: =ROUND(F18*(O18),2) -> 0 | P18: 1e-05 | R18: 1e-05 | S18: =ROUND(F18*(P18),3) -> 0.001 | V18: =ROUND(F18*(X18),3) -> 0 | X18: 0 | Z18: 0
A19: 9 | B19: 1/A 1 | C19: 112201103 | D19: Odstránenie pňov na vzdial. 50 m priemeru nad 500 do 700 mm | E19: KUS | F19: 27 | I19: =ROUND(F19*(G19+H19),2) -> 0 | J19: =ROUND(F19*(N19),2) -> 0 | K19: =ROUND(F19*(O19),2) -> 0 | P19: 3e-05 | R19: 3e-05 | S19: =ROUND(F19*(P19),3) -> 0.001 | V19: =ROUND(F19*(X19),3) -> 0 | X19: 0 | Z19: 0
A20: 10 | B20: 1/A 1 | C20: 112201104 | D20: Odstránenie pňov na vzdial. 50 m priemeru nad 700 do 900 mm | E20: KUS | F20: 11 | I20: =ROUND(F20*(G20+H20),2) -> 0 | J20: =ROUND(F20*(N20),2) -> 0 | K20: =ROUND(F20*(O20),2) -> 0 | P20: 3e-05 | R20: 3e-05 | S20: =ROUND(F20*(P20),3) -> 0 | V20: =ROUND(F20*(X20),3) -> 0 | X20: 0 | Z20: 0
A21: 11 | B21: 1/A 1 | C21: 112201105 | D21: Odstránenie pňov na vzdial. 50 m, priemer nad 900 mm | E21: KUS | F21: 3 | I21: =ROUND(F21*(G21+H21),2) -> 0 | J21: =ROUND(F21*(N21),2) -> 0 | K21: =ROUND(F21*(O21),2) -> 0 | P21: 3e-05 | R21: 3e-05 | S21: =ROUND(F21*(P21),3) -> 0 | V21: =ROUND(F21*(X21),3) -> 0 | X21: 0 | Z21: 0
A22: 12 | B22: 1/A 1 | C22: 115001105 | D22: Prevedenie vody potrubím do DN 600 mm | E22: m | F22: 210 | I22: =ROUND(F22*(G22+H22),2) -> 0 | J22: =ROUND(F22*(N22),2) -> 0 | K22: =ROUND(F22*(O22),2) -> 0 | P22: 0.01722 | R22: 0.01722 | S22: =ROUND(F22*(P22),3) -> 3.616 | V22: =ROUND(F22*(X22),3) -> 0 | X22: 0 | Z22: 0
... A69: 59 | B69: S/S60 | C69: 5833333300 | D69: Kamenivo ťažené hrubé, frakcia 8-32, trieda Z | E69: T | F69: 668.885 | I69: =ROUND(F69*(G69+H69),2) -> 0 | J69: =ROUND(F69*(N69),2) -> 0 | K69: =ROUND(F69*(O69),2) -> 0 | P69: 1 | R69: 1 | S69: =ROUND(F69*(P69),3) -> 668.885 | V69: =ROUND(F69*(X69),3) -> 0 | X69: 0 | Z69: 0
C70: 1 | D70: ZEMNÉ PRÁCE | G70: =ROUND((SUM(L10:L69))/1,2) -> 0 | H70: =ROUND((SUM(M10:M69))/1,2) -> 0 | I70: =ROUND((SUM(I10:I69))/1,2) -> 0 | S70: =ROUND((SUM(S10:S69))/1,2) -> 678.5 | V70: =ROUND((SUM(V10:V69))/1,2) -> 0
C72: 2 | D72: ZÁKLADY
A73: 60 | B73: 2/A 1 | C73: 211561111 | D73: Výplň odvodňovacieho rebra alebo trativodu do rýh kamenivom hrubým drveným frakcie 4-16 mm | E73: m3 | F73: 1396.88 | I73: =ROUND(F73*(G73+H73),2) -> 0 | J73: =ROUND(F73*(N73),2) -> 0 | K73: =ROUND(F73*(O73),2) -> 0 | P73: 1.665 | R73: 1.665 | S73: =ROUND(F73*(P73),3) -> 2325.805 | V73: =ROUND(F73*(X73),3) -> 0 | X73: 0 | Z73: 0
A74: 61 | B74: 2/A 1 | C74: 211971121 | D74: Zhotov. oplášt. výplne z geotext. v ryhe alebo v záreze pri rozvinutej šírke oplášt. od 0 do 2, 5 m | E74: M2 | F74: 7932.2 | I74: =ROUND(F74*(G74+H74),2) -> 0 | J74: =ROUND(F74*(N74),2) -> 0 | K74: =ROUND(F74*(O74),2) -> 0 | P74: 0.00035 | R74: 0.00035 | S74: =ROUND(F74*(P74),3) -> 2.776 | V74: =ROUND(F74*(X74),3) -> 0 | X74: 0 | Z74: 0
A75: 62 | B75: 11/A 1 | C75: 274313741 | D75: Betón základových pásov prostý triedy C30/37 | E75: m3 | F75: 47.31 | I75: =ROUND(F75*(G75+H75),2) -> 0 | J75: =ROUND(F75*(N75),2) -> 0 | K75: =ROUND(F75*(O75),2) -> 0 | P75: 2.32234 | R75: 2.32234 | S75: =ROUND(F75*(P75),3) -> 109.87 | V75: =ROUND(F75*(X75),3) -> 0 | X75: 0 | Z75: 0
A76: 63 | B76: 11/A 1 | C76: 274351211 | D76: Debnenie stien základových pásov z dielcov - zhotovenie | E76: m2 | F76: 289.95 | I76: =ROUND(F76*(G76+H76),2) -> 0 | J76: =ROUND(F76*(N76),2) -> 0 | K76: =ROUND(F76*(O76),2) -> 0 | P76: 0.00067 | R76: 0.00067 | S76: =ROUND(F76*(P76),3) -> 0.194 | V76: =ROUND(F76*(X76),3) -> 0 | X76: 0 | Z76: 0
A77: 64 | B77: 11/A 1 | C77: 274351212 | D77: Debnenie stien základových pásov z dielcov - odstránenie | E77: m2 | F77: 289.95 | I77: =ROUND(F77*(G77+H77),2) -> 0 | J77: =ROUND(F77*(N77),2) -> 0 | K77: =ROUND(F77*(O77),2) -> 0 | P77: 0 | R77: 0 | S77: =ROUND(F77*(P77),3) -> 0 | V77: =ROUND(F77*(X77),3) -> 0 | X77: 0 | Z77: 0
A78: 65 | B78: 211/A 1 | C78: 273311116 | D78: Základové dosky mostných konštrukcií z betónu prostého triedy C16/20 | E78: m3 | F78: 56.4 | I78: =ROUND(F78*(G78+H78),2) -> 0 | J78: =ROUND(F78*(N78),2) -> 0 | K78: =ROUND(F78*(O78),2) -> 0 | P78: 2.2457 | R78: 2.2457 | S78: =ROUND(F78*(P78),3) -> 126.657 | V78: =ROUND(F78*(X78),3) -> 0 | X78: 0 | Z78: 0
A79: 66 | B79: 271/A 1 | C79: 212752127 | D79: Trativody z flexodrenážnych rúr DN 160 | E79: M | F79: 4279 | I79: =ROUND(F79*(G79+H79),2) -> 0 | J79: =ROUND(F79*(N79),2) -> 0 | K79: =ROUND(F79*(O79),2) -> 0 | P79: 0.25195 | R79: 0.25195 | S79: =ROUND(F79*(P79),3) -> 1078.094 | V79: =ROUND(F79*(X79),3) -> 0 | X79: 0 | Z79: 0
A80: 67 | B80: S/S20 | C80: 286161131006 | D80: PIPELIFE Zátka 160 pre PVC flexo drenážne rúry | E80: KUS | F80: 49 | I80: =ROUND(F80*(G80+H80),2) -> 0 | J80: =ROUND(F80*(N80),2) -> 0 | K80: =ROUND(F80*(O80),2) -> 0 | P80: 0 | R80: 0 | S80: =ROUND(F80*(P80),3) -> 0 | V80: =ROUND(F80*(X80),3) -> 0 | X80: 0 | Z80: 0
A81: 68 | B81: S/S90 | C81: 6936651000 | D81: Geotextília netkaná polypropylénová Tatratex PP 200 | E81: M2 | F81: 8725.42 | I81: =ROUND(F81*(G81+H81),2) -> 0 | J81: =ROUND(F81*(N81),2) -> 0 | K81: =ROUND(F81*(O81),2) -> 0 | P81: 0.0002 | R81: 0.0002 | S81: =ROUND(F81*(P81),3) -> 1.745 | V81: =ROUND(F81*(X81),3) -> 0 | X81: 0 | Z81: 0
C82: 2 | D82: ZÁKLADY | G82: =ROUND((SUM(L72:L81))/1,2) -> 0 | H82: =ROUND((SUM(M72:M81))/1,2) -> 0 | I82: =ROUND((SUM(I72:I81))/1,2) -> 0 | S82: =ROUND((SUM(S72:S81))/1,2) -> 3645.14 | V82: =ROUND((SUM(V72:V81))/1,2) -> 0
C84: 3 | D84: ZVISLÉ KONŠTRUKCIE
A85: 69 | B85: 15/A 4 | C85: 32721101011 | D85: Montáž oporných a zárubných múrov z drôtokamenných pletených košov, priemer drôtu 2,7 mm | E85: M3 | F85: 76 | I85: =ROUND(F85*(G85+H85),2) -> 0 | J85: =ROUND(F85*(N85),2) -> 0 | K85: =ROUND(F85*(O85),2) -> 0 | P85: 0 | R85: 0 | S85: =ROUND(F85*(P85),3) -> 0 | V85: =ROUND(F85*(X85),3) -> 0 | X85: 0 | Z85: 0
A86: 70 | B86: P/P 1 | C86: 313069030105 | D86: MACCAFERRI Drôtokamenné koše pletené, typ siete 6x8, priemer drôtu 2,7 mm s povrchovou ochrana Galmac (Zn+Al) + PA6 | E86: M3 | F86: 77.52 | I86: =ROUND(F86*(G86+H86),2) -> 0 | J86: =ROUND(F86*(N86),2) -> 0 | K86: =ROUND(F86*(O86),2) -> 0 | P86: 0 | R86: 0 | S86: =ROUND(F86*(P86),3) -> 0 | V86: =ROUND(F86*(X86),3) -> 0 | X86: 0 | Z86: 0
A87: 71 | B87: P/P 1 | C87: 583069120102 | D87: Maccaferri Kamenivo do drôtokamenných košov | E87: M3 | F87: 77.52 | I87: =ROUND(F87*(G87+H87),2) -> 0 | J87: =ROUND(F87*(N87),2) -> 0 | K87: =ROUND(F87*(O87),2) -> 0 | P87: 0 | R87: 0 | S87: =ROUND(F87*(P87),3) -> 0 | V87: =ROUND(F87*(X87),3) -> 0 | X87: 0 | Z87: 0
C88: 3 | D88: ZVISLÉ KONŠTRUKCIE | G88: =ROUND((SUM(L84:L87))/1,2) -> 0 | H88: =ROUND((SUM(M84:M87))/1,2) -> 0 | I88: =ROUND((SUM(I84:I87))/1,2) -> 0 | S88: =ROUND((SUM(S84:S87))/1,2) -> 0 | V88: =ROUND((SUM(V84:V87))/1,2) -> 0
C90: 4 | D90: VODOROVNÉ KONŠTRUKCIE
A91: 72 | B91: 311/A 1 | C91: 465921215 | D91: Ukladanie dlažby z bet. dosiek a tvárnic na sucho, hm. do 60kg so zaliatím maltou MCs hr. do 100 mm | E91: M2 | F91: 2447.4 | I91: =ROUND(F91*(G91+H91),2) -> 0 | J91: =ROUND(F91*(N91),2) -> 0 | K91: =ROUND(F91*(O91),2) -> 0 | P91: 0.01948 | R91: 0.01948 | S91: =ROUND(F91*(P91),3) -> 47.675 | V91: =ROUND(F91*(X91),3) -> 0 | X91: 0 | Z91: 0
A92: 73 | B92: 312/A 1 | C92: 463212300 | D92: Rovnanina z lomového kameňa nad 3 m3 s hmotnosťou jednotlivých kameňov do 200 kg s urovnaním povrchu líca | E92: m3 | F92: 159.96 | I92: =ROUND(F92*(G92+H92),2) -> 0 | J92: =ROUND(F92*(N92),2) -> 0 | K92: =ROUND(F92*(O92),2) -> 0 | P92: 1.848 | R92: 1.848 | S92: =ROUND(F92*(P92),3) -> 295.606 | V92: =ROUND(F92*(X92),3) -> 0 | X92: 0 | Z92: 0
A93: 74 | B93: 312/A 1 | C93: 465511523 | D93: Dlažba kladená do malty s vyplnením škár maltou MC 10 nad.20 m2, 300mm | E93: M2 | F93: 652.75 | I93: =ROUND(F93*(G93+H93),2) -> 0 | J93: =ROUND(F93*(N93),2) -> 0 | K93: =ROUND(F93*(O93),2) -> 0 | P93: 0.90162 | R93: 0.90162 | S93: =ROUND(F93*(P93),3) -> 588.532 | V93: =ROUND(F93*(X93),3) -> 0 | X93: 0 | Z93: 0
A94: 75 | B94: 312/A 1 | C94: 465511525 | D94: Dlažba kladená do malty s vyplnením škár maltou MC 10 s veľkosťou plochy nad 20 m2 hrúbky 500 mm | E94: m2 | F94: 186.45 | I94: =ROUND(F94*(G94+H94),2) -> 0 | J94: =ROUND(F94*(N94),2) -> 0 | K94: =ROUND(F94*(O94),2) -> 0 | P94: 1.56209 | R94: 1.56209 | S94: =ROUND(F94*(P94),3) -> 291.252 | V94: =ROUND(F94*(X94),3) -> 0 | X94: 0 | Z94: 0
A95: 76 | B95: 321/A 1 | C95: 451571112 | D95: Lôžko pod dlažbu zo štrkopiesku hrúbky do 150 mm | E95: m2 | F95: 2447.4 | I95: =ROUND(F95*(G95+H95),2) -> 0 | J95: =ROUND(F95*(N95),2) -> 0 | K95: =ROUND(F95*(O95),2) -> 0 | P95: 0.31879 | R95: 0.31879 | S95: =ROUND(F95*(P95),3) -> 780.207 | V95: =ROUND(F95*(X95),3) -> 0 | X95: 0 | Z95: 0
A96: 77 | B96: 321/A 1 | C96: 462512270 | D96: Záhadzka z lomového kameňa s hmotnosťou jednotlivo do 200 kg s preštrkovaním z terénu | E96: m3 | F96: 10.2 | I96: =ROUND(F96*(G96+H96),2) -> 0 | J96: =ROUND(F96*(N96),2) -> 0 | K96: =ROUND(F96*(O96),2) -> 0 | P96: 2.38416 | R96: 2.38416 | S96: =ROUND(F96*(P96),3) -> 24.318 | V96: =ROUND(F96*(X96),3) -> 0 | X96: 0 | Z96: 0
A97: 78 | B97: S/S70 | C97: 5922789700 | D97: Tvárnica priekopová a melioračná betónová diaľničná TBM 40-50 49, 5 x 59 x 7,6 | E97: KUS | F97: 8158 | I97: =ROUND(F97*(G97+H97),2) -> 0 | J97: =ROUND(F97*(N97),2) -> 0 | K97: =ROUND(F97*(O97),2) -> 0 | P97: 0.067 | R97: 0.067 | S97: =ROUND(F97*(P97),3) -> 546.586 | V97: =ROUND(F97*(X97),3) -> 0 | X97: 0 | Z97: 0
C98: 4 | D98: VODOROVNÉ KONŠTRUKCIE | G98: =ROUND((SUM(L90:L97))/1,2) -> 0 | H98: =ROUND((SUM(M90:M97))/1,2) -> 0 | I98: =ROUND((SUM(I90:I97))/1,2) -> 0 | S98: =ROUND((SUM(S90:S97))/1,2) -> 2574.18 | V98: =ROUND((SUM(V90:V97))/1,2) -> 0
C100: 5 | D100: SPEVNENÉ PLOCHY
A101: 79 | B101: 2/A 1 | C101: 564791111 | D101: Podklad spevnenej plochy z drveného kameniva frakcie 0 až 63 mm so zhutnením | E101: m3 | F101: 1122.4 | I101: =ROUND(F101*(G101+H101),2) -> 0 | J101: =ROUND(F101*(N101),2) -> 0 | K101: =ROUND(F101*(O101),2) -> 0 | P101: 1.93125 | R101: 1.93125 | S101: =ROUND(F101*(P101),3) -> 2167.635 | V101: =ROUND(F101*(X101),3) -> 0 | X101: 0 | Z101: 0
A102: 80 | B102: 221/A 1 | C102: 561261111 | D102: Zhotovenie podkladu z NRM stabilizovaného hydraulickým spojivom, systém Road Mix,hr.200 mm | E102: M2 | F102: 18468.4 | I102: =ROUND(F102*(G102+H102),2) -> 0 | J102: =ROUND(F102*(N102),2) -> 0 | K102: =ROUND(F102*(O102),2) -> 0 | P102: 0.02306 | R102: 0.02306 | S102: =ROUND(F102*(P102),3) -> 425.881 | V102: =ROUND(F102*(X102),3) -> 0 | X102: 0 | Z102: 0
A103: 81 | B103: 221/A 1 | C103: 561511125 | D103: Príprava drviny fr. 0 - 63 recykl. frezou konštr. pôv. krytu účel. komunikácií pre stabilizáciu SIII | E103: M2 | F103: 18927.5 | I103: =ROUND(F103*(G103+H103),2) -> 0 | J103: =ROUND(F103*(N103),2) -> 0 | K103: =ROUND(F103*(O103),2) -> 0 | P103: 0 | R103: 0 | S103: =ROUND(F103*(P103),3) -> 0 | V103: =ROUND(F103*(X103),3) -> 0 | X103: 0 | Z103: 0
A104: 82 | B104: 221/A 1 | C104: 564772111 | D104: Podklad z kameniva hrubého drveného 32 až 63 mm hrúbky 250 mm | E104: m2 | F104: 433.1 | I104: =ROUND(F104*(G104+H104),2) -> 0 | J104: =ROUND(F104*(N104),2) -> 0 | K104: =ROUND(F104*(O104),2) -> 0 | P104: 0.60104 | R104: 0.60104 | S104: =ROUND(F104*(P104),3) -> 260.31 | V104: =ROUND(F104*(X104),3) -> 0 | X104: 0 | Z104: 0
A105: 83 | B105: 221/A 1 | C105: 564831111 | D105: Podklad zo štrkodrviny po zhutnení hrúbky 100 mm | E105: m2 | F105: 2450.5 | I105: =ROUND(F105*(G105+H105),2) -> 0 | J105: =ROUND(F105*(N105),2) -> 0 | K105: =ROUND(F105*(O105),2) -> 0 | P105: 0.18907 | R105: 0.18907 | S105: =ROUND(F105*(P105),3) -> 463.316 | V105: =ROUND(F105*(X105),3) -> 0 | X105: 0 | Z105: 0
A106: 84 | B106: 221/A 1 | C106: 564851111 | D106: Podklad zo štrkodrviny po zhutnení hrúbky 150 mm | E106: m2 | F106: 14968.1 | I106: =ROUND(F106*(G106+H106),2) -> 0 | J106: =ROUND(F106*(N106),2) -> 0 | K106: =ROUND(F106*(O106),2) -> 0 | P106: 0.27994 | R106: 0.27994 | S106: =ROUND(F106*(P106),3) -> 4190.17 | V106: =ROUND(F106*(X106),3) -> 0 | X106: 0 | Z106: 0
A107: 85 | B107: 221/A 1 | C107: 564861111 | D107: Podklad zo štrkodrviny po zhutnení hrúbky 200 mm | E107: m2 | F107: 3979.6 | I107: =ROUND(F107*(G107+H107),2) -> 0 | J107: =ROUND(F107*(N107),2) -> 0 | K107: =ROUND(F107*(O107),2) -> 0 | P107: 0.3708 | R107: 0.3708 | S107: =ROUND(F107*(P107),3) -> 1475.636 | V107: =ROUND(F107*(X107),3) -> 0 | X107: 0 | Z107: 0
A108: 86 | B108: 221/A 1 | C108: 564871111 | D108: Podklad zo štrkodrviny po zhutnení hrúbky 250 mm | E108: m2 | F108: 796.8 | I108: =ROUND(F108*(G108+H108),2) -> 0 | J108: =ROUND(F108*(N108),2) -> 0 | K108: =ROUND(F108*(O108),2) -> 0 | P108: 0.46166 | R108: 0.46166 | S108: =ROUND(F108*(P108),3) -> 367.851 | V108: =ROUND(F108*(X108),3) -> 0 | X108: 0 | Z108: 0
A109: 87 | B109: 221/A 1 | C109: 573111113 | D109: Postrek asfaltový infiltračný s kameninovým posypom z cestného asfaltu v množstve 1,50 kg/m2 | E109: m2 | F109: 18468.4 | I109: =ROUND(F109*(G109+H109),2) -> 0 | J109: =ROUND(F109*(N109),2) -> 0 | K109: =ROUND(F109*(O109),2) -> 0 | P109: 0.00652 | R109: 0.00652 | S109: =ROUND(F109*(P109),3) -> 120.414 | V109: =ROUND(F109*(X109),3) -> 0 | X109: 0 | Z109: 0
A110: 88 | B110: 221/A 1 | C110: 573211111 | D110: Postrek živičný spojovací z cestného asfaltu v množstve do 0,7 kg/m2 | E110: m2 | F110: 16002.48 | I110: =ROUND(F110*(G110+H110),2) -> 0 | J110: =ROUND(F110*(N110),2) -> 0 | K110: =ROUND(F110*(O110),2) -> 0 | P110: 0.00061 | R110: 0.00061 | S110: =ROUND(F110*(P110),3) -> 9.762 | V110: =ROUND(F110*(X110),3) -> 0 | X110: 0 | Z110: 0
A111: 89 | B111: 221/A 1 | C111: 577131211 | D111: Betón asfaltový akostnej triedy II. jemnozrnný AC 8 (ABJ) strednozrnný AC 11 (ABS) alebo hrubozrnný AC 16 (ABH) hrúbky 40 mm | E111: m2 | F111: 15552.28 | I111: =ROUND(F111*(G111+H111),2) -> 0 | J111: =ROUND(F111*(N111),2) -> 0 | K111: =ROUND(F111*(O111),2) -> 0 | P111: 0.10627 | R111: 0.10627 | S111: =ROUND(F111*(P111),3) -> 1652.741 | V111: =ROUND(F111*(X111),3) -> 0 | X111: 0 | Z111: 0
A112: 90 | B112: 221/A 1 | C112: 577151223 | D112: Betón asfaltový akostnej triedy II. lôžkový (ABL) hrúbky 60 mm | E112: m2 | F112: 16002.48 | I112: =ROUND(F112*(G112+H112),2) -> 0 | J112: =ROUND(F112*(N112),2) -> 0 | K112: =ROUND(F112*(O112),2) -> 0 | P112: 0.15736 | R112: 0.15736 | S112: =ROUND(F112*(P112),3) -> 2518.15 | V112: =ROUND(F112*(X112),3) -> 0 | X112: 0 | Z112: 0
C113: 5 | D113: SPEVNENÉ PLOCHY | G113: =ROUND((SUM(L100:L112))/1,2) -> 0 | H113: =ROUND((SUM(M100:M112))/1,2) -> 0 | I113: =ROUND((SUM(I100:I112))/1,2) -> 0 | S113: =ROUND((SUM(S100:S112))/1,2) -> 13651.87 | V113: =ROUND((SUM(V100:V112))/1,2) -> 0
C115: 8 | D115: POTRUBNÉ ROZVODY
A116: 91 | B116: 271/A 3 | C116: 871390410 | D116: Montáž kanalizačného potrubia z polypropylénových korungovaných rúr SN 8 DN 400 mm | E116: m | F116: 7 | I116: =ROUND(F116*(G116+H116),2) -> 0 | J116: =ROUND(F116*(N116),2) -> 0 | K116: =ROUND(F116*(O116),2) -> 0 | P116: 0.0056 | R116: 0.0056 | S116: =ROUND(F116*(P116),3) -> 0.039 | V116: =ROUND(F116*(X116),3) -> 0 | X116: 0 | Z116: 0
A117: 92 | B117: 271/A 3 | C117: 871420410 | D117: Montáž kanalizačného potrubia z polypropylénových rúr korungovaných SN 8 DN 500 mm | E117: m | F117: 25 | I117: =ROUND(F117*(G117+H117),2) -> 0 | J117: =ROUND(F117*(N117),2) -> 0 | K117: =ROUND(F117*(O117),2) -> 0 | P117: 0.00924 | R117: 0.00924 | S117: =ROUND(F117*(P117),3) -> 0.231 | V117: =ROUND(F117*(X117),3) -> 0 | X117: 0 | Z117: 0
A118: 93 | B118: 271/A 3 | C118: 871440410 | D118: Montáž kanalizačného potrubia z polypropylénových korungovaných rúr SN 8 DN 600 mm | E118: M | F118: 347 | I118: =ROUND(F118*(G118+H118),2) -> 0 | J118: =ROUND(F118*(N118),2) -> 0 | K118: =ROUND(F118*(O118),2) -> 0 | P118: 0.01504 | R118: 0.01504 | S118: =ROUND(F118*(P118),3) -> 5.219 | V118: =ROUND(F118*(X118),3) -> 0 | X118: 0 | Z118: 0
A119: 94 | B119: 271/A 3 | C119: 871470410 | D119: Montáž kanalizačného potrubia z polypropylénových rúr korungovaných SN 8 DN 800 mm | E119: m | F119: 72 | I119: =ROUND(F119*(G119+H119),2) -> 0 | J119: =ROUND(F119*(N119),2) -> 0 | K119: =ROUND(F119*(O119),2) -> 0 | P119: 0.0385 | R119: 0.0385 | S119: =ROUND(F119*(P119),3) -> 2.772 | V119: =ROUND(F119*(X119),3) -> 0 | X119: 0 | Z119: 0
A120: 95 | B120: 271/A 3 | C120: 871490410 | D120: Montáž kanalizačného potrubia z polypropylénových rúr korungovaných SN 8 DN 1000 mm | E120: m | F120: 31 | I120: =ROUND(F120*(G120+H120),2) -> 0 | J120: =ROUND(F120*(N120),2) -> 0 | K120: =ROUND(F120*(O120),2) -> 0 | P120: 0.077 | R120: 0.077 | S120: =ROUND(F120*(P120),3) -> 2.387 | V120: =ROUND(F120*(X120),3) -> 0 | X120: 0 | Z120: 0
A121: 96 | B121: S/S20 | C121: 286161080104 | D121: PIPELIFE PRAGMA + ID rúra SN 8 DN 400/6 m | E121: KUS | F121: 1.9996667 | I121: =ROUND(F121*(G121+H121),2) -> 0 | J121: =ROUND(F121*(N121),2) -> 0 | K121: =ROUND(F121*(O121),2) -> 0 | P121: 0 | R121: 0 | S121: =ROUND(F121*(P121),3) -> 0 | V121: =ROUND(F121*(X121),3) -> 0 | X121: 0 | Z121: 0
A122: 97 | B122: S/S20 | C122: 286161080105 | D122: PIPELIFE PRAGMA + ID rúra SN 8 DN 500/6 m | E122: KUS | F122: 4.9996667 | I122: =ROUND(F122*(G122+H122),2) -> 0 | J122: =ROUND(F122*(N122),2) -> 0 | K122: =ROUND(F122*(O122),2) -> 0 | P122: 0 | R122: 0 | S122: =ROUND(F122*(P122),3) -> 0 | V122: =ROUND(F122*(X122),3) -> 0 | X122: 0 | Z122: 0
A123: 98 | B123: S/S20 | C123: 286161080106 | D123: PIPELIFE PRAGMA + ID rúra SN 8 DN 600/6 m | E123: KUS | F123: 58.000333 | I123: =ROUND(F123*(G123+H123),2) -> 0 | J123: =ROUND(F123*(N123),2) -> 0 | K123: =ROUND(F123*(O123),2) -> 0 | P123: 0 | R123: 0 | S123: =ROUND(F123*(P123),3) -> 0 | V123: =ROUND(F123*(X123),3) -> 0 | X123: 0 | Z123: 0
A124: 99 | B124: S/S20 | C124: 286161080107 | D124: PIPELIFE PRAGMA + ID rúra SN 8 DN 800/6 m | E124: KUS | F124: 12 | I124: =ROUND(F124*(G124+H124),2) -> 0 | J124: =ROUND(F124*(N124),2) -> 0 | K124: =ROUND(F124*(O124),2) -> 0 | P124: 0 | R124: 0 | S124: =ROUND(F124*(P124),3) -> 0 | V124: =ROUND(F124*(X124),3) -> 0 | X124: 0 | Z124: 0
A125: 100 | B125: S/S20 | C125: 286161080108 | D125: PIPELIFE PRAGMA + ID rúra SN 8 DN 1000/6 m | E125: KUS | F125: 5.9996667 | I125: =ROUND(F125*(G125+H125),2) -> 0 | J125: =ROUND(F125*(N125),2) -> 0 | K125: =ROUND(F125*(O125),2) -> 0 | P125: 0 | R125: 0 | S125: =ROUND(F125*(P125),3) -> 0 | V125: =ROUND(F125*(X125),3) -> 0 | X125: 0 | Z125: 0
A126: 101 | B126: S/S20 | C126: 286161081904 | D126: PIPELIFE ID spojka korugovaná so záražkou bez tesnenia ID PRKSN 8 - SN 10,400 pre PP ID PRAGMA | E126: KUS | F126: 0 | I126: =ROUND(F126*(G126+H126),2) -> 0 | J126: =ROUND(F126*(N126),2) -> 0 | K126: =ROUND(F126*(O126),2) -> 0 | P126: 0 | R126: 0 | S126: =ROUND(F126*(P126),3) -> 0 | V126: =ROUND(F126*(X126),3) -> 0 | X126: 0 | Z126: 0
A127: 102 | B127: S/S20 | C127: 286161081905 | D127: PIPELIFE ID spojka korugovaná so záražkou bez tesnenia ID PRKSN 8 - SN 10,500 pre PP ID PRAGMA | E127: KUS | F127: 2 | I127: =ROUND(F127*(G127+H127),2) -> 0 | J127: =ROUND(F127*(N127),2) -> 0 | K127: =ROUND(F127*(O127),2) -> 0 | P127: 0 | R127: 0 | S127: =ROUND(F127*(P127),3) -> 0 | V127: =ROUND(F127*(X127),3) -> 0 | X127: 0 | Z127: 0
... A130: 105 | B130: S/S20 | C130: 286161081908 | D130: PIPELIFE ID spojka korugovaná so záražkou bez tesnenia ID PRKSN 8 - SN 10,1000 pre PP ID PRAGMA | E130: KUS | F130: 3 | I130: =ROUND(F130*(G130+H130),2) -> 0 | J130: =ROUND(F130*(N130),2) -> 0 | K130: =ROUND(F130*(O130),2) -> 0 | P130: 0 | R130: 0 | S130: =ROUND(F130*(P130),3) -> 0 | V130: =ROUND(F130*(X130),3) -> 0 | X130: 0 | Z130: 0
C131: 8 | D131: POTRUBNÉ ROZVODY | G131: =ROUND((SUM(L115:L130))/1,2) -> 0 | H131: =ROUND((SUM(M115:M130))/1,2) -> 0 | I131: =ROUND((SUM(I115:I130))/1,2) -> 0 | S131: =ROUND((SUM(S115:S130))/1,2) -> 10.65 | V131: =ROUND((SUM(V115:V130))/1,2) -> 0
C133: 9 | D133: OSTATNÉ KONŠTRUKCIE A PRÁCE
A134: 106 | B134: 6/B 1 | C134: 979083112 | D134: Vodorovné premiestnenie sutiny na skládku s naložením a zložením nad 100 do 1000 m | E134: t | F134: 1960.004 | I134: =ROUND(F134*(G134+H134),2) -> 0 | J134: =ROUND(F134*(N134),2) -> 0 | K134: =ROUND(F134*(O134),2) -> 0 | P134: 0 | R134: 0 | S134: =ROUND(F134*(P134),3) -> 0 | V134: =ROUND(F134*(X134),3) -> 0 | X134: 0 | Z134: 0
A135: 107 | B135: 6/B 1 | C135: 979093513 | D135: Drvenie stavebného odpadu z demolácie betónového muriva z betónu železového | E135: t | F135: 980.002 | I135: =ROUND(F135*(G135+H135),2) -> 0 | J135: =ROUND(F135*(N135),2) -> 0 | K135: =ROUND(F135*(O135),2) -> 0 | P135: 0 | R135: 0 | S135: =ROUND(F135*(P135),3) -> 0 | V135: =ROUND(F135*(X135),3) -> 0 | X135: 0 | Z135: 0
A136: 108 | B136: 13/B 1 | C136: 979081111 | D136: Odvoz sutiny a vybúraných hmôt na skládku do 1 km | E136: t | F136: 0.719 | I136: =ROUND(F136*(G136+H136),2) -> 0 | J136: =ROUND(F136*(N136),2) -> 0 | K136: =ROUND(F136*(O136),2) -> 0 | P136: 0 | R136: 0 | S136: =ROUND(F136*(P136),3) -> 0 | V136: =ROUND(F136*(X136),3) -> 0 | X136: 0 | Z136: 0
A137: 109 | B137: 13/B 1 | C137: 979081121 | D137: Odvoz sutiny a vybúraných hmôt na skládku za každý ďalší 1 km | E137: t | F137: 19.413 | I137: =ROUND(F137*(G137+H137),2) -> 0 | J137: =ROUND(F137*(N137),2) -> 0 | K137: =ROUND(F137*(O137),2) -> 0 | P137: 0 | R137: 0 | S137: =ROUND(F137*(P137),3) -> 0 | V137: =ROUND(F137*(X137),3) -> 0 | X137: 0 | Z137: 0
A138: 110 | B138: 13/B 1 | C138: 979089112 | D138: Poplatok za skládku odpadov zo stavieb a demolácií /drevo, sklo, plasty/ kategórie "O" - ostatné" | E138: t | F138: 0.719 | I138: =ROUND(F138*(G138+H138),2) -> 0 | J138: =ROUND(F138*(N138),2) -> 0 | K138: =ROUND(F138*(O138),2) -> 0 | P138: 0 | R138: 0 | S138: =ROUND(F138*(P138),3) -> 0 | V138: =ROUND(F138*(X138),3) -> 0 | X138: 0 | Z138: 0
A139: 111 | B139: 221/A 1 | C139: 911131111 | D139: Osadenie a montáž cestného zábradlia oceľového s oceľovými stĺpikmi | E139: m | F139: 14 | I139: =ROUND(F139*(G139+H139),2) -> 0 | J139: =ROUND(F139*(N139),2) -> 0 | K139: =ROUND(F139*(O139),2) -> 0 | P139: 0.10421 | R139: 0.10421 | S139: =ROUND(F139*(P139),3) -> 1.459 | V139: =ROUND(F139*(X139),3) -> 0 | X139: 0 | Z139: 0
A140: 112 | B140: 221/A 1 | C140: 914001111 | D140: Osadenie a montáž cestnej zvislej dopravnej značky na stľpik, stľp,konzolu alebo objekt | E140: kus | F140: 2 | I140: =ROUND(F140*(G140+H140),2) -> 0 | J140: =ROUND(F140*(N140),2) -> 0 | K140: =ROUND(F140*(O140),2) -> 0 | P140: 0.22684 | R140: 0.22684 | S140: =ROUND(F140*(P140),3) -> 0.454 | V140: =ROUND(F140*(X140),3) -> 0 | X140: 0 | Z140: 0
A141: 113 | B141: 221/B 1 | C141: 919735113 | D141: Rezanie existujúceho asfaltového krytu alebo podkladu hĺbky nad 100 do 150 mm | E141: m | F141: 3.25 | I141: =ROUND(F141*(G141+H141),2) -> 0 | J141: =ROUND(F141*(N141),2) -> 0 | K141: =ROUND(F141*(O141),2) -> 0 | P141: 7e-05 | R141: 7e-05 | S141: =ROUND(F141*(P141),3) -> 0 | V141: =ROUND(F141*(X141),3) -> 0 | X141: 0 | Z141: 0
A142: 114 | B142: 221/B 1 | C142: 966005211 | D142: Rozobratie a odstránenie cestných zábradlí so stĺpikmi osadenými do ríms alebo krycích dosiek | E142: m | F142: 14 | I142: =ROUND(F142*(G142+H142),2) -> 0 | J142: =ROUND(F142*(N142),2) -> 0 | K142: =ROUND(F142*(O142),2) -> 0 | P142: 0 | R142: 0 | S142: =ROUND(F142*(P142),3) -> 0 | V142: =ROUND(F142*(X142),3) -> 0.35 | X142: 0.025 | Z142: 0
A143: 115 | B143: 221/B 1 | C143: 966006132 | D143: Odstránenie značky, pre staničenie a ohraničenie so stľpikmi s bet. pätkami, -0,08200t | E143: kus | F143: 2 | I143: =ROUND(F143*(G143+H143),2) -> 0 | J143: =ROUND(F143*(N143),2) -> 0 | K143: =ROUND(F143*(O143),2) -> 0 | P143: 0 | R143: 0 | S143: =ROUND(F143*(P143),3) -> 0 | V143: =ROUND(F143*(X143),3) -> 0.164 | X143: 0.082 | Z143: 0
A144: 116 | B144: 221/B 1 | C144: 966008112 | D144: Búranie rúrových priepustov z rúr do DN 500 mm | E144: m | F144: 75 | I144: =ROUND(F144*(G144+H144),2) -> 0 | J144: =ROUND(F144*(N144),2) -> 0 | K144: =ROUND(F144*(O144),2) -> 0 | P144: 0 | R144: 0 | S144: =ROUND(F144*(P144),3) -> 0 | V144: =ROUND(F144*(X144),3) -> 73.5 | X144: 0.98 | Z144: 0
A145: 117 | B145: 221/B 1 | C145: 966008113 | D145: Búranie rúrového priepustu, z rúr DN 500 do 800 mm, -2,05500t | E145: m | F145: 100 | I145: =ROUND(F145*(G145+H145),2) -> 0 | J145: =ROUND(F145*(N145),2) -> 0 | K145: =ROUND(F145*(O145),2) -> 0 | P145: 0 | R145: 0 | S145: =ROUND(F145*(P145),3) -> 0 | V145: =ROUND(F145*(X145),3) -> 205.5 | X145: 2.055 | Z145: 0
... A156: 128 | B156: S/S80 | C156: 605327350 | D156: Prírezy ihličnaté hranoly SM/JD ak.II, dl.400-650, hr.100, š.120-140 | E156: M3 | F156: 0.2 | I156: =ROUND(F156*(G156+H156),2) -> 0 | J156: =ROUND(F156*(N156),2) -> 0 | K156: =ROUND(F156*(O156),2) -> 0 | P156: 0.55 | R156: 0.55 | S156: =ROUND(F156*(P156),3) -> 0.11 | V156: =ROUND(F156*(X156),3) -> 0 | X156: 0 | Z156: 0
C157: 9 | D157: OSTATNÉ KONŠTRUKCIE A PRÁCE | G157: =ROUND((SUM(L133:L156))/1,2) -> 0 | H157: =ROUND((SUM(M133:M156))/1,2) -> 0 | I157: =ROUND((SUM(I133:I156))/1,2) -> 0 | S157: =ROUND((SUM(S133:S156))/1,2) -> 8.47 | V157: =ROUND((SUM(V133:V156))/1,2) -> 968.46
C159: 99 | D159: PRESUNY HMÔT
A160: 129 | B160: 221/A 1 | C160: 998225111 | D160: Presun hmôt pre pozemnú komunikáciu a letisko s krytom asfaltovým akejkoľvek dĺžky objektu | E160: T | F160: 20568.805 | I160: =ROUND(F160*(G160+H160),2) -> 0 | J160: =ROUND(F160*(N160),2) -> 0 | K160: =ROUND(F160*(O160),2) -> 0 | P160: 0 | R160: 0 | S160: =ROUND(F160*(P160),3) -> 0 | V160: =ROUND(F160*(X160),3) -> 0 | X160: 0 | Z160: 0
C161: 99 | D161: PRESUNY HMÔT | G161: =ROUND((SUM(L159:L160))/1,2) -> 0 | H161: =ROUND((SUM(M159:M160))/1,2) -> 0 | I161: =ROUND((SUM(I159:I160))/1,2) -> 0 | S161: =ROUND((SUM(S159:S160))/1,2) -> 0 | V161: =ROUND((SUM(V159:V160))/1,2) -> 0
D163: Práce HSV | G163: =ROUND((SUM(L9:L162))/2,2) -> 0 | H163: =ROUND((SUM(M9:M162))/2,2) -> 0 | I163: =ROUND((SUM(I9:I162))/2,2) -> 0 | S163: =ROUND((SUM(S9:S162))/2,2) -> 20568.81 | V163: =ROUND((SUM(V9:V162))/2,2) -> 968.46
D165: Práce PSV
C166: 783 | D166: NÁTERY
A167: 130 | B167: 783/A 1 | C167: 783125530 | D167: Náter oceľovej konštrukcie ľahkej "C" alebo veľmi ľahkej "CC" syntetický dvojnásobný + 1x emailovanie | E167: m2 | F167: 8.352 | I167: =ROUND(F167*(G167+H167),2) -> 0 | J167: =ROUND(F167*(N167),2) -> 0 | K167: =ROUND(F167*(O167),2) -> 0 | P167: 0.00045 | R167: 0.00045 | S167: =ROUND(F167*(P167),3) -> 0.004 | V167: =ROUND(F167*(X167),3) -> 0 | X167: 0 | Z167: 0
C168: 783 | D168: NÁTERY | G168: =ROUND((SUM(L166:L167))/1,2) -> 0 | H168: =ROUND((SUM(M166:M167))/1,2) -> 0 | I168: =ROUND((SUM(I166:I167))/1,2) -> 0 | S168: =ROUND((SUM(S166:S167))/1,2) -> 0 | V168: =ROUND((SUM(V166:V167))/1,2) -> 0
...
