Workbook

Sheet Rekapitulácia stavby
A1: 2012 | D1: Hárok obsahuje: | K1: 1) Súhrnný list stavby | W1: 2) Rekapitulácia objektov | BA1: 2.0 | BT1: False | BU1: False
C2: optimalizované pre tlač zostáv vo formáte A4 - na výšku | AR2: >> skryté stĺpce << | BS2: 0,001 | BT2: 20
BS3: 0,001 | BT3: 20
C4: SÚHRNNÝ LIST STAVBY | AS4: v --- nižšie sa nachádzajú doplnkové a pomocné údaje k zostavám --- v | BS4: 0,001
D5: Kód: | K5: Holcikovce | BS5: 0,001
D6: Stavba: | K6: REKONŠTRUKCIA ČOV TYPU 2XPESL25 | BS6: 0,001
D7: JKSO: | AK7: KS: | BS7: 0,001
D8: Miesto: | AK8: Dátum: | BS8: 0,001
BS9: 0,001
D10: Objednávateľ: | AK10: IČO: | BS10: 0,001
AK11: IČO DPH: | BS11: 0,001
BS12: 0,001
D13: Zhotoviteľ: | AK13: IČO: | BS13: 0,001
AK14: IČO DPH: | BS14: 0,001
BS15: False
D16: Projektant: | AK16: IČO: | BS16: False
E17: Ing. Milan Bizub, MARMI s.r.o. | AK17: IČO DPH: | BS17: True
BS18: 0,01
D19: Spracovateľ: | AK19: IČO: | BS19: 0,01
AK20: IČO DPH:
D22: Poznámka:
D26: Náklady z rozpočtov
D27: Ostatné náklady zo súhrnného listu
D29: Cena bez DPH
D31: DPH | F31: základná | L31: 0.2 | T31: z
F32: znížená | L32: 0.2 | T32: z
F33: zákl. prenesená | L33: 0.2 | T33: z | W33: =ROUND(BB87+SUM(CF93),2) -> 0
F34: zníž. prenesená | L34: 0.2 | T34: z | W34: =ROUND(BC87+SUM(CG93),2) -> 0
F35: nulová | L35: 0 | T35: z | W35: =ROUND(BD87+SUM(CH93),2) -> 0
D37: Cena s DPH | T37: v | X37: EUR
D49: Projektant | AC49: Spracovateľ
D58: Dátum a podpis: | R58: Pečiatka | AC58: Dátum a podpis: | AM58: Pečiatka
D60: Objednávateľ | AC60: Zhotoviteľ
D69: Dátum a podpis: | R69: Pečiatka | AC69: Dátum a podpis: | AM69: Pečiatka
C76: REKAPITULÁCIA OBJEKTOV STAVBY
C77: Kód: | L77: =K5 -> Holcikovce
C78: Stavba: | L78: =K6 -> REKONŠTRUKCIA ČOV TYPU 2XPESL25
C80: Miesto: | L80: =IF(K8="","",K8) | AI80: Dátum: | AM80: =IF(AN8= "","",AN8)
C82: Objednávateľ: | L82: =IF(E11= "","",E11) | AI82: Projektant: | AM82: =IF(E17="","",E17) -> Ing. Milan Bizub, MARMI s.r.o. | AS82: Informatívne údaje z listov zákaziek
C83: Zhotoviteľ: | L83: =IF(E14="","",E14) | AI83: Spracovateľ: | AM83: =IF(E20="","",E20)
C85: Kód | I85: Objekt | AG85: Cena bez DPH [EUR] | AN85: Cena s DPH [EUR] | AS85: z toho Ostat._x000D_ náklady [EUR] | AT85: DPH [EUR] | AU85: Normohodiny [h] | AV85: DPH základná [EUR] | AW85: DPH znížená [EUR] | AX85: DPH základná prenesená_x000D_ [EUR] | AY85: DPH znížená prenesená_x000D_ [EUR] | AZ85: Základňa_x000D_ DPH základná | BA85: Základňa_x000D_ DPH znížená | BB85: Základňa_x000D_ DPH zákl. prenesená | BC85: Základňa_x000D_ DPH zníž. prenesená | BD85: Základňa_x000D_ DPH nulová
C87: 1) Náklady z rozpočtov | AS87: =ROUND(SUM(AS88:AS90),2) -> 0 | AT87: =ROUND(SUM(AV87:AW87),2) -> 0 | AU87: =ROUND(SUM(AU88:AU90),5) -> 150.21367 | AV87: =ROUND(AZ87*L31,2) -> 0 | AW87: =ROUND(BA87*L32,2) -> 0 | AX87: =ROUND(BB87*L31,2) -> 0 | AY87: =ROUND(BC87*L32,2) -> 0 | AZ87: =ROUND(SUM(AZ88:AZ90),2) -> 0 | BA87: =ROUND(SUM(BA88:BA90),2) -> 0 | BB87: =ROUND(SUM(BB88:BB90),2) -> 0 | BC87: =ROUND(SUM(BC88:BC90),2) -> 0 | BD87: =ROUND(SUM(BD88:BD90),2) -> 0 | BS87: D | BT87: 0 | BU87: ###NOIMPORT### | BV87: IMPORT | BW87: {12a16aba-20a1-409c-a7c1-a08591abe072} | BX87: {00000000-0000-0000-0000-000000000000}
A88: / | D88: SO01 | J88: STAVEBNÉ ÚPRAVY ČOV | AS88: ='SO01 - STAVEBNÉ ÚPRAVY ČOV'!M28 -> 0 | AT88: =ROUND(SUM(AV88:AW88),2) -> 0 | AU88: ='SO01 - STAVEBNÉ ÚPRAVY ČOV'!W120 -> 150.21367 | AV88: ='SO01 - STAVEBNÉ ÚPRAVY ČOV'!M32 -> 0 | AW88: ='SO01 - STAVEBNÉ ÚPRAVY ČOV'!M33 -> 0 | AX88: ='SO01 - STAVEBNÉ ÚPRAVY ČOV'!M34 -> 0 | AY88: ='SO01 - STAVEBNÉ ÚPRAVY ČOV'!M35 -> 0 | AZ88: ='SO01 - STAVEBNÉ ÚPRAVY ČOV'!H32 -> 0 | BA88: ='SO01 - STAVEBNÉ ÚPRAVY ČOV'!H33 -> 0 | BB88: ='SO01 - STAVEBNÉ ÚPRAVY ČOV'!H34 -> 0 | BC88: ='SO01 - STAVEBNÉ ÚPRAVY ČOV'!H35 -> 0 | BD88: ='SO01 - STAVEBNÉ ÚPRAVY ČOV'!H36 -> 0 | BT88: 1 | BV88: IMPORT | BW88: {632a8e02-19db-4a2e-8e77-5da573867841} | BX88: {12a16aba-20a1-409c-a7c1-a08591abe072}
A89: / | D89: PS01 | J89: STROJNOTECHNOLOGICKÁ ČASŤ ČOV | AS89: ='PS01 - STROJNOTECHNOLOGIC...'!M28 -> 0 | AT89: =ROUND(SUM(AV89:AW89),2) -> 0 | AU89: ='PS01 - STROJNOTECHNOLOGIC...'!W109 -> 0 | AV89: ='PS01 - STROJNOTECHNOLOGIC...'!M32 -> 0 | AW89: ='PS01 - STROJNOTECHNOLOGIC...'!M33 -> 0 | AX89: ='PS01 - STROJNOTECHNOLOGIC...'!M34 -> 0 | AY89: ='PS01 - STROJNOTECHNOLOGIC...'!M35 -> 0 | AZ89: ='PS01 - STROJNOTECHNOLOGIC...'!H32 -> 0 | BA89: ='PS01 - STROJNOTECHNOLOGIC...'!H33 -> 0 | BB89: ='PS01 - STROJNOTECHNOLOGIC...'!H34 -> 0 | BC89: ='PS01 - STROJNOTECHNOLOGIC...'!H35 -> 0 | BD89: ='PS01 - STROJNOTECHNOLOGIC...'!H36 -> 0 | BT89: 1 | BV89: IMPORT | BW89: {a7e028bd-524e-46d9-b2b9-10eae599f134} | BX89: {12a16aba-20a1-409c-a7c1-a08591abe072}
A90: / | D90: PS02 | J90: ELEKTROINŠTALÁCIA | AS90: ='PS02 - ELEKTROINŠTALÁCIA'!M28 -> 0 | AT90: =ROUND(SUM(AV90:AW90),2) -> 0 | AU90: ='PS02 - ELEKTROINŠTALÁCIA'!W111 -> 0 | AV90: ='PS02 - ELEKTROINŠTALÁCIA'!M32 -> 0 | AW90: ='PS02 - ELEKTROINŠTALÁCIA'!M33 -> 0 | AX90: ='PS02 - ELEKTROINŠTALÁCIA'!M34 -> 0 | AY90: ='PS02 - ELEKTROINŠTALÁCIA'!M35 -> 0 | AZ90: ='PS02 - ELEKTROINŠTALÁCIA'!H32 -> 0 | BA90: ='PS02 - ELEKTROINŠTALÁCIA'!H33 -> 0 | BB90: ='PS02 - ELEKTROINŠTALÁCIA'!H34 -> 0 | BC90: ='PS02 - ELEKTROINŠTALÁCIA'!H35 -> 0 | BD90: ='PS02 - ELEKTROINŠTALÁCIA'!H36 -> 0 | BT90: 1 | BV90: IMPORT | BW90: {a4760090-849f-4436-8cd1-894965652aa5} | BX90: {12a16aba-20a1-409c-a7c1-a08591abe072}
C92: 2) Ostatné náklady zo súhrnného listu | AS92: Percent. zadanie_x000D_ [% nákladov rozpočtu] | AT92: Zaradenie nákladov | AU92: DPH | AV92: DPH [EUR]
C94: Celkové náklady za stavbu 1) + 2)

Sheet SO01 - STAVEBNÉ ÚPRAVY ČOV
D1: Hárok obsahuje: | F1: 1) Krycí list rozpočtu | H1: 2) Rekapitulácia rozpočtu | L1: 3) Rozpočet | O1: Späť na hárok: | S1: Rekapitulácia stavby
C2: optimalizované pre tlač zostáv vo formáte A4 - na výšku | S2: >> skryté stĺpce << | AT2: {632a8e02-19db-4a2e-8e77-5da573867841}
AT3: 0
C4: KRYCÍ LIST ROZPOČTU | T4: v --- nižšie sa nachádzajú doplnkové a pomocné údaje k zostavám --- v | AT4: False
D6: Stavba: | F6: ='Rekapitulácia stavby'!K6 -> REKONŠTRUKCIA ČOV TYPU 2XPESL25
D7: Objekt: | F7: SO01 - STAVEBNÉ ÚPRAVY ČOV
D8: JKSO: | M8: KS:
D9: Miesto: | M9: Dátum:
D11: Objednávateľ: | M11: IČO: | O11: =IF('Rekapitulácia stavby'!AN10="","",'Rekapitulácia stavby'!AN10)
E12: =IF('Rekapitulácia stavby'!E11="","",'Rekapitulácia stavby'!E11) | M12: IČO DPH: | O12: =IF('Rekapitulácia stavby'!AN11="","",'Rekapitulácia stavby'!AN11)
D14: Zhotoviteľ: | M14: IČO: | O14: =IF('Rekapitulácia stavby'!AN13="","",'Rekapitulácia stavby'!AN13)
E15: =IF('Rekapitulácia stavby'!E14="","",'Rekapitulácia stavby'!E14) | M15: IČO DPH: | O15: =IF('Rekapitulácia stavby'!AN14="","",'Rekapitulácia stavby'!AN14)
D17: Projektant: | M17: IČO: | O17: =IF('Rekapitulácia stavby'!AN16="","",'Rekapitulácia stavby'!AN16)
E18: =IF('Rekapitulácia stavby'!E17="","",'Rekapitulácia stavby'!E17) -> Ing. Milan Bizub, MARMI s.r.o. | M18: IČO DPH: | O18: =IF('Rekapitulácia stavby'!AN17="","",'Rekapitulácia stavby'!AN17)
D20: Spracovateľ: | M20: IČO: | O20: =IF('Rekapitulácia stavby'!AN19="","",'Rekapitulácia stavby'!AN19)
E21: =IF('Rekapitulácia stavby'!E20="","",'Rekapitulácia stavby'!E20) | M21: IČO DPH: | O21: =IF('Rekapitulácia stavby'!AN20="","",'Rekapitulácia stavby'!AN20)
D23: Poznámka:
D27: Náklady z rozpočtu
D28: Ostatné náklady
D30: Cena bez DPH
D32: DPH | E32: základná | F32: 0.2 | G32: z
E33: znížená | F33: 0.2 | G33: z
E34: zákl. prenesená | F34: 0.2 | G34: z | H34: =ROUND((SUM(BG101:BG102)+SUM(BG120:BG160)), 2) -> 0
E35: zníž. prenesená | F35: 0.2 | G35: z | H35: =ROUND((SUM(BH101:BH102)+SUM(BH120:BH160)), 2) -> 0
E36: nulová | F36: 0 | G36: z | H36: =ROUND((SUM(BI101:BI102)+SUM(BI120:BI160)), 2) -> 0
D38: Cena s DPH | G38: v | H38: EUR
D50: Projektant | J50: Spracovateľ
D59: Dátum a podpis: | G59: Pečiatka | J59: Dátum a podpis: | N59: Pečiatka
D61: Objednávateľ | J61: Zhotoviteľ
D70: Dátum a podpis: | G70: Pečiatka | J70: Dátum a podpis: | N70: Pečiatka
C76: REKAPITULÁCIA ROZPOČTU
C78: Stavba: | F78: =F6 -> REKONŠTRUKCIA ČOV TYPU 2XPESL25
C79: Objekt: | F79: =F7 -> SO01 - STAVEBNÉ ÚPRAVY ČOV
C81: Miesto: | F81: =F9 | K81: Dátum: | M81: =IF(O9="","",O9)
C83: Objednávateľ: | F83: =E12 | K83: Projektant: | M83: =E18 -> Ing. Milan Bizub, MARMI s.r.o.
C84: Zhotoviteľ: | F84: =IF(E15="","",E15) | K84: Spracovateľ: | M84: =E21
C86: Kód - Popis | N86: Cena celkom [EUR]
C88: 1) Náklady z rozpočtu | AU88: -1
D89: HSV - Práce a dodávky HSV
D90: 1 - Zemné práce
D91: 2 - Zakladanie
D92: 3 - Zvislé a kompletné konštrukcie
D93: 4 - Vodorovné konštrukcie
D94: 5 - Komunikácie
D95: 8 - Rúrové vedenie
D96: 9 - Ostatné konštrukcie a práce-búranie
D97: 99 - Presun hmôt HSV
D98: PSV - Práce a dodávky PSV
D99: 767 - Konštrukcie doplnkové kovové
C101: 2) Ostatné náklady | U101: DPH
C103: Celkové náklady za stavbu 1) + 2)
C109: ROZPOČET
C111: Stavba: | F111: =F6 -> REKONŠTRUKCIA ČOV TYPU 2XPESL25
C112: Objekt: | F112: =F7 -> SO01 - STAVEBNÉ ÚPRAVY ČOV
C114: Miesto: | F114: =F9 | K114: Dátum: | M114: =IF(O9="","",O9)
C116: Objednávateľ: | F116: =E12 | K116: Projektant: | M116: =E18 -> Ing. Milan Bizub, MARMI s.r.o.
C117: Zhotoviteľ: | F117: =IF(E15="","",E15) | K117: Spracovateľ: | M117: =E21
C119: PČ | D119: Typ | E119: Kód | F119: Popis | J119: MJ | K119: Množstvo | L119: J.cena [EUR] | N119: Cena celkom [EUR] | T119: Poznámka | U119: DPH | V119: J. Nh [h] | W119: Nh celkom [h] | X119: J. hmotnosť_x000D_ [t] | Y119: Hmotnosť_x000D_ celkom [t] | Z119: J. suť [t] | AA119: Suť Celkom [t]
C120: Náklady z rozpočtu | W120: =W121+W151 -> 150.21367 | Y120: =Y121+Y151 -> 119.43891 | AA120: =AA121+AA151 -> 0 | AT120: D | AU120: -1 | BK120: =BK121+BK151 -> 0
D121: HSV - Práce a dodávky HSV | W121: =W122+W132+W136+W138+W140+W143+W145+W148 -> 146.6174 | Y121: =Y122+Y132+Y136+Y138+Y140+Y143+Y145+Y148 -> 118.99523 | AA121: =AA122+AA132+AA136+AA138+AA140+AA143+AA145+AA148 -> 0 | AR121: 1 | AT121: D | AU121: 0 | AY121: ROZPOCET | BK121: =BK122+BK132+BK136+BK138+BK140+BK143+BK145+BK148 -> 0
D122: 1 - Zemné práce | W122: =SUM(W123:W131) -> 90.724817 | Y122: =SUM(Y123:Y131) -> 0 | AA122: =SUM(AA123:AA131) -> 0 | AR122: 1 | AT122: D | AU122: 1 | AY122: ROZPOCET | BK122: =SUM(BK123:BK131) -> 0
C123: 1 | D123: K | E123: 131201101 | F123: Výkop nezapaženej jamy v hornine 3, do 100 m3 | J123: m3 | K123: 50.725 | U123: znížená | V123: 0.838 | W123: =V123*K123 -> 42.50755 | X123: 0 | Y123: =X123*K123 -> 0 | Z123: 0 | AA123: =Z123*K123 -> 0 | AR123: 4 | AT123: K | AU123: 2 | AY123: ROZPOCET | BE123: =IF(U123="základná",N123,0) -> 0 | BF123: =IF(U123="znížená",N123,0) -> 0 | BG123: =IF(U123="zákl. prenesená",N123,0) -> 0 | BH123: =IF(U123="zníž. prenesená",N123,0) -> 0 | BI123: =IF(U123="nulová",N123,0) -> 0 | BJ123: 2 | BK123: =ROUND(L123*K123,3) -> 0 | BL123: 4 | BM123: 1553316924
C124: 2 | D124: K | E124: 131201109 | F124: Hĺbenie nezapažených jám a zárezov. Príplatok za lepivosť horniny 3 | J124: m3 | K124: 50.725 | U124: znížená | V124: 0 | W124: =V124*K124 -> 0 | X124: 0 | Y124: =X124*K124 -> 0 | Z124: 0 | AA124: =Z124*K124 -> 0 | AR124: 4 | AT124: K | AU124: 2 | AY124: ROZPOCET | BE124: =IF(U124="základná",N124,0) -> 0 | BF124: =IF(U124="znížená",N124,0) -> 0 | BG124: =IF(U124="zákl. prenesená",N124,0) -> 0 | BH124: =IF(U124="zníž. prenesená",N124,0) -> 0 | BI124: =IF(U124="nulová",N124,0) -> 0 | BJ124: 2 | BK124: =ROUND(L124*K124,3) -> 0 | BL124: 4 | BM124: -690011679
C125: 3 | D125: K | E125: 132201201 | F125: Výkop ryhy šírky 600-2000mm horn.3 do 100m3 | J125: m3 | K125: 9.864 | U125: znížená | V125: 1.509 | W125: =V125*K125 -> 14.884776 | X125: 0 | Y125: =X125*K125 -> 0 | Z125: 0 | AA125: =Z125*K125 -> 0 | AR125: 4 | AT125: K | AU125: 2 | AY125: ROZPOCET | BE125: =IF(U125="základná",N125,0) -> 0 | BF125: =IF(U125="znížená",N125,0) -> 0 | BG125: =IF(U125="zákl. prenesená",N125,0) -> 0 | BH125: =IF(U125="zníž. prenesená",N125,0) -> 0 | BI125: =IF(U125="nulová",N125,0) -> 0 | BJ125: 2 | BK125: =ROUND(L125*K125,3) -> 0 | BL125: 4 | BM125: -559424964
C126: 4 | D126: K | E126: 162301111 | F126: Vodorovné premiestnenie výkopku po nespevnenej ceste z horniny tr.1-4, do 100 m3 na vzdialenosť nad 50 do 500 m | J126: m3 | K126: 50.407 | U126: znížená | V126: 0.03158 | W126: =V126*K126 -> 1.5918531 | X126: 0 | Y126: =X126*K126 -> 0 | Z126: 0 | AA126: =Z126*K126 -> 0 | AR126: 4 | AT126: K | AU126: 2 | AY126: ROZPOCET | BE126: =IF(U126="základná",N126,0) -> 0 | BF126: =IF(U126="znížená",N126,0) -> 0 | BG126: =IF(U126="zákl. prenesená",N126,0) -> 0 | BH126: =IF(U126="zníž. prenesená",N126,0) -> 0 | BI126: =IF(U126="nulová",N126,0) -> 0 | BJ126: 2 | BK126: =ROUND(L126*K126,3) -> 0 | BL126: 4 | BM126: -1098109330
C127: 5 | D127: K | E127: 167101101 | F127: Nakladanie neuľahnutého výkopku z hornín tr.1-4 do 100 m3 | J127: m3 | K127: 50.407 | U127: znížená | V127: 0.617 | W127: =V127*K127 -> 31.101119 | X127: 0 | Y127: =X127*K127 -> 0 | Z127: 0 | AA127: =Z127*K127 -> 0 | AR127: 4 | AT127: K | AU127: 2 | AY127: ROZPOCET | BE127: =IF(U127="základná",N127,0) -> 0 | BF127: =IF(U127="znížená",N127,0) -> 0 | BG127: =IF(U127="zákl. prenesená",N127,0) -> 0 | BH127: =IF(U127="zníž. prenesená",N127,0) -> 0 | BI127: =IF(U127="nulová",N127,0) -> 0 | BJ127: 2 | BK127: =ROUND(L127*K127,3) -> 0 | BL127: 4 | BM127: 1114558344
C128: 6 | D128: K | E128: 171201201 | F128: Uloženie sypaniny na skládky do 100 m3 | J128: m3 | K128: 50.407 | U128: znížená | V128: 0.009 | W128: =V128*K128 -> 0.453663 | X128: 0 | Y128: =X128*K128 -> 0 | Z128: 0 | AA128: =Z128*K128 -> 0 | AR128: 4 | AT128: K | AU128: 2 | AY128: ROZPOCET | BE128: =IF(U128="základná",N128,0) -> 0 | BF128: =IF(U128="znížená",N128,0) -> 0 | BG128: =IF(U128="zákl. prenesená",N128,0) -> 0 | BH128: =IF(U128="zníž. prenesená",N128,0) -> 0 | BI128: =IF(U128="nulová",N128,0) -> 0 | BJ128: 2 | BK128: =ROUND(L128*K128,3) -> 0 | BL128: 4 | BM128: 1808816597
C129: 7 | D129: K | E129: 174101001 | F129: Zásyp sypaninou so zhutnením jám, šachiet, rýh, zárezov alebo okolo objektov do 100 m3 | J129: m3 | K129: 0.768 | U129: znížená | V129: 0.242 | W129: =V129*K129 -> 0.185856 | X129: 0 | Y129: =X129*K129 -> 0 | Z129: 0 | AA129: =Z129*K129 -> 0 | AR129: 4 | AT129: K | AU129: 2 | AY129: ROZPOCET | BE129: =IF(U129="základná",N129,0) -> 0 | BF129: =IF(U129="znížená",N129,0) -> 0 | BG129: =IF(U129="zákl. prenesená",N129,0) -> 0 | BH129: =IF(U129="zníž. prenesená",N129,0) -> 0 | BI129: =IF(U129="nulová",N129,0) -> 0 | BJ129: 2 | BK129: =ROUND(L129*K129,3) -> 0 | BL129: 4 | BM129: -953422875
C130: 8 | D130: K | E130: 175101101 | F130: Obsyp potrubia bez prehodenia sypaniny | J130: m3 | K130: 4.968 | U130: znížená | V130: 0 | W130: =V130*K130 -> 0 | X130: 0 | Y130: =X130*K130 -> 0 | Z130: 0 | AA130: =Z130*K130 -> 0 | AR130: 4 | AT130: K | AU130: 2 | AY130: ROZPOCET | BE130: =IF(U130="základná",N130,0) -> 0 | BF130: =IF(U130="znížená",N130,0) -> 0 | BG130: =IF(U130="zákl. prenesená",N130,0) -> 0 | BH130: =IF(U130="zníž. prenesená",N130,0) -> 0 | BI130: =IF(U130="nulová",N130,0) -> 0 | BJ130: 2 | BK130: =ROUND(L130*K130,3) -> 0 | BL130: 4 | BM130: 1741875353
C131: 9 | D131: K | E131: 175101109 | F131: Obsyp potrubia príplatok za prehodenie sypaniny | J131: m3 | K131: 4.968 | U131: znížená | V131: 0 | W131: =V131*K131 -> 0 | X131: 0 | Y131: =X131*K131 -> 0 | Z131: 0 | AA131: =Z131*K131 -> 0 | AR131: 4 | AT131: K | AU131: 2 | AY131: ROZPOCET | BE131: =IF(U131="základná",N131,0) -> 0 | BF131: =IF(U131="znížená",N131,0) -> 0 | BG131: =IF(U131="zákl. prenesená",N131,0) -> 0 | BH131: =IF(U131="zníž. prenesená",N131,0) -> 0 | BI131: =IF(U131="nulová",N131,0) -> 0 | BJ131: 2 | BK131: =ROUND(L131*K131,3) -> 0 | BL131: 4 | BM131: -1051856516
D132: 2 - Zakladanie | W132: =SUM(W133:W135) -> 0.72732568 | Y132: =SUM(Y133:Y135) -> 2.4814624 | AA132: =SUM(AA133:AA135) -> 0 | AR132: 1 | AT132: D | AU132: 1 | AY132: ROZPOCET | BK132: =SUM(BK133:BK135) -> 0
C133: 10 | D133: K | E133: 273313612 | F133: Betón základových dosiek, prostý tr. C 20/25 | J133: m3 | K133: 0.52 | U133: znížená | V133: 0.61771 | W133: =V133*K133 -> 0.3212092 | X133: 2.33543 | Y133: =X133*K133 -> 1.2144236 | Z133: 0 | AA133: =Z133*K133 -> 0 | AR133: 4 | AT133: K | AU133: 2 | AY133: ROZPOCET | BE133: =IF(U133="základná",N133,0) -> 0 | BF133: =IF(U133="znížená",N133,0) -> 0 | BG133: =IF(U133="zákl. prenesená",N133,0) -> 0 | BH133: =IF(U133="zníž. prenesená",N133,0) -> 0 | BI133: =IF(U133="nulová",N133,0) -> 0 | BJ133: 2 | BK133: =ROUND(L133*K133,3) -> 0 | BL133: 4 | BM133: 176319500
C134: 11 | D134: K | E134: 273362441 | F134: Výstuž základových dosiek zo zvár. sietí KARI, priemer drôtu 8/8 mm, veľkosť oka 100x100 mm | J134: m2 | K134: 1.968 | U134: znížená | V134: 0.04706 | W134: =V134*K134 -> 0.09261408 | X134: 0.00878 | Y134: =X134*K134 -> 0.01727904 | Z134: 0 | AA134: =Z134*K134 -> 0 | AR134: 4 | AT134: K | AU134: 2 | AY134: ROZPOCET | BE134: =IF(U134="základná",N134,0) -> 0 | BF134: =IF(U134="znížená",N134,0) -> 0 | BG134: =IF(U134="zákl. prenesená",N134,0) -> 0 | BH134: =IF(U134="zníž. prenesená",N134,0) -> 0 | BI134: =IF(U134="nulová",N134,0) -> 0 | BJ134: 2 | BK134: =ROUND(L134*K134,3) -> 0 | BL134: 4 | BM134: -352880666
C135: 12 | D135: K | E135: 275313611 | F135: Betón základových pätiek, prostý tr. C 16/20 | J135: m3 | K135: 0.54 | U135: znížená | V135: 0.58056 | W135: =V135*K135 -> 0.3135024 | X135: 2.31437 | Y135: =X135*K135 -> 1.2497598 | Z135: 0 | AA135: =Z135*K135 -> 0 | AR135: 4 | AT135: K | AU135: 2 | AY135: ROZPOCET | BE135: =IF(U135="základná",N135,0) -> 0 | BF135: =IF(U135="znížená",N135,0) -> 0 | BG135: =IF(U135="zákl. prenesená",N135,0) -> 0 | BH135: =IF(U135="zníž. prenesená",N135,0) -> 0 | BI135: =IF(U135="nulová",N135,0) -> 0 | BJ135: 2 | BK135: =ROUND(L135*K135,3) -> 0 | BL135: 4 | BM135: -998921538
D136: 3 - Zvislé a kompletné konštrukcie | W136: =W137 -> 1.8793585 | Y136: =Y137 -> 4.6230662 | AA136: =AA137 -> 0 | AR136: 1 | AT136: D | AU136: 1 | AY136: ROZPOCET | BK136: =BK137 -> 0
C137: 13 | D137: K | E137: 311311951 | F137: Výplň dvojplášťovej nádrže betón prostý tr. C 25/30 | J137: m3 | K137: 1.794 | U137: znížená | V137: 1.04758 | W137: =V137*K137 -> 1.8793585 | X137: 2.57696 | Y137: =X137*K137 -> 4.6230662 | Z137: 0 | AA137: =Z137*K137 -> 0 | AR137: 4 | AT137: K | AU137: 2 | AY137: ROZPOCET | BE137: =IF(U137="základná",N137,0) -> 0 | BF137: =IF(U137="znížená",N137,0) -> 0 | BG137: =IF(U137="zákl. prenesená",N137,0) -> 0 | BH137: =IF(U137="zníž. prenesená",N137,0) -> 0 | BI137: =IF(U137="nulová",N137,0) -> 0 | BJ137: 2 | BK137: =ROUND(L137*K137,3) -> 0 | BL137: 4 | BM137: 1911020480
D138: 4 - Vodorovné konštrukcie | W138: =W139 -> 2.215136 | Y138: =Y139 -> 3.0627132 | AA138: =AA139 -> 0 | AR138: 1 | AT138: D | AU138: 1 | AY138: ROZPOCET | BK138: =BK139 -> 0
C139: 14 | D139: K | E139: 451541111 | F139: Lôžko pod potrubie, stoky a drobné objekty, v otvorenom výkope zo štrkodrvy 0-63 mm | J139: m3 | K139: 1.798 | U139: znížená | V139: 1.232 | W139: =V139*K139 -> 2.215136 | X139: 1.7034 | Y139: =X139*K139 -> 3.0627132 | Z139: 0 | AA139: =Z139*K139 -> 0 | AR139: 4 | AT139: K | AU139: 2 | AY139: ROZPOCET | BE139: =IF(U139="základná",N139,0) -> 0 | BF139: =IF(U139="znížená",N139,0) -> 0 | BG139: =IF(U139="zákl. prenesená",N139,0) -> 0 | BH139: =IF(U139="zníž. prenesená",N139,0) -> 0 | BI139: =IF(U139="nulová",N139,0) -> 0 | BJ139: 2 | BK139: =ROUND(L139*K139,3) -> 0 | BL139: 4 | BM139: -1711955896
D140: 5 - Komunikácie | W140: =SUM(W141:W142) -> 6.846252 | Y140: =SUM(Y141:Y142) -> 94.184217 | AA140: =SUM(AA141:AA142) -> 0 | AR140: 1 | AT140: D | AU140: 1 | AY140: ROZPOCET | BK140: =SUM(BK141:BK142) -> 0
C141: 15 | D141: K | E141: 564661111 | F141: Podklad z kameniva hrubého drveného veľ. 0-63 mm s rozprestretím a zhutnením, po zhutnení hr. 200 mm | J141: m2 | K141: 101.74 | U141: znížená | V141: 0.035 | W141: =V141*K141 -> 3.5609 | X141: 0.38626 | Y141: =X141*K141 -> 39.298092 | Z141: 0 | AA141: =Z141*K141 -> 0 | AR141: 4 | AT141: K | AU141: 2 | AY141: ROZPOCET | BE141: =IF(U141="základná",N141,0) -> 0 | BF141: =IF(U141="znížená",N141,0) -> 0 | BG141: =IF(U141="zákl. prenesená",N141,0) -> 0 | BH141: =IF(U141="zníž. prenesená",N141,0) -> 0 | BI141: =IF(U141="nulová",N141,0) -> 0 | BJ141: 2 | BK141: =ROUND(L141*K141,3) -> 0 | BL141: 4 | BM141: 1129180999
C142: 16 | D142: K | E142: 564761111 | F142: Podklad alebo kryt z kameniva hrubého drveného veľ. 0-32 mm s rozprestretím a zhutn.hr. 200 mm | J142: m2 | K142: 142.1 | U142: znížená | V142: 0.02312 | W142: =V142*K142 -> 3.285352 | X142: 0.38625 | Y142: =X142*K142 -> 54.886125 | Z142: 0 | AA142: =Z142*K142 -> 0 | AR142: 4 | AT142: K | AU142: 2 | AY142: ROZPOCET | BE142: =IF(U142="základná",N142,0) -> 0 | BF142: =IF(U142="znížená",N142,0) -> 0 | BG142: =IF(U142="zákl. prenesená",N142,0) -> 0 | BH142: =IF(U142="zníž. prenesená",N142,0) -> 0 | BI142: =IF(U142="nulová",N142,0) -> 0 | BJ142: 2 | BK142: =ROUND(L142*K142,3) -> 0 | BL142: 4 | BM142: 1583072350
D143: 8 - Rúrové vedenie | W143: =W144 -> 0 | Y143: =Y144 -> 0 | AA143: =AA144 -> 0 | AR143: 1 | AT143: D | AU143: 1 | AY143: ROZPOCET | BK143: =BK144 -> 0
C144: 29 | D144: K | E144: polVO | F144: Zhotovenie výustného objektu | J144: kpl | K144: 1 | U144: znížená | V144: 0 | W144: =V144*K144 -> 0 | X144: 0 | Y144: =X144*K144 -> 0 | Z144: 0 | AA144: =Z144*K144 -> 0 | AR144: 4 | AT144: K | AU144: 2 | AY144: ROZPOCET | BE144: =IF(U144="základná",N144,0) -> 0 | BF144: =IF(U144="znížená",N144,0) -> 0 | BG144: =IF(U144="zákl. prenesená",N144,0) -> 0 | BH144: =IF(U144="zníž. prenesená",N144,0) -> 0 | BI144: =IF(U144="nulová",N144,0) -> 0 | BJ144: 2 | BK144: =ROUND(L144*K144,3) -> 0 | BL144: 4 | BM144: 837185784
D145: 9 - Ostatné konštrukcie a práce-búranie | W145: =SUM(W146:W147) -> 17.517588 | Y145: =SUM(Y146:Y147) -> 14.643774 | AA145: =SUM(AA146:AA147) -> 0 | AR145: 1 | AT145: D | AU145: 1 | AY145: ROZPOCET | BK145: =SUM(BK146:BK147) -> 0
C146: 17 | D146: K | E146: 916561111 | F146: Osadenie záhonového alebo parkového obrubníka betón., do lôžka z bet. pros. tr. C 16/20 s bočnou oporou | J146: m | K146: 132.709 | U146: znížená | V146: 0.132 | W146: =V146*K146 -> 17.517588 | X146: 0.09873 | Y146: =X146*K146 -> 13.10236 | Z146: 0 | AA146: =Z146*K146 -> 0 | AR146: 4 | AT146: K | AU146: 2 | AY146: ROZPOCET | BE146: =IF(U146="základná",N146,0) -> 0 | BF146: =IF(U146="znížená",N146,0) -> 0 | BG146: =IF(U146="zákl. prenesená",N146,0) -> 0 | BH146: =IF(U146="zníž. prenesená",N146,0) -> 0 | BI146: =IF(U146="nulová",N146,0) -> 0 | BJ146: 2 | BK146: =ROUND(L146*K146,3) -> 0 | BL146: 4 | BM146: 71745521
C147: 18 | D147: M | E147: 5921954590 | F147: Premac obrubník parkový 50x20x5 cm, sivý | J147: ks | K147: 134.036 | U147: znížená | V147: 0 | W147: =V147*K147 -> 0 | X147: 0.0115 | Y147: =X147*K147 -> 1.541414 | Z147: 0 | AA147: =Z147*K147 -> 0 | AR147: 8 | AT147: M | AU147: 2 | AY147: ROZPOCET | BE147: =IF(U147="základná",N147,0) -> 0 | BF147: =IF(U147="znížená",N147,0) -> 0 | BG147: =IF(U147="zákl. prenesená",N147,0) -> 0 | BH147: =IF(U147="zníž. prenesená",N147,0) -> 0 | BI147: =IF(U147="nulová",N147,0) -> 0 | BJ147: 2 | BK147: =ROUND(L147*K147,3) -> 0 | BL147: 4 | BM147: -2105201929
D148: 99 - Presun hmôt HSV | W148: =SUM(W149:W150) -> 26.706926 | Y148: =SUM(Y149:Y150) -> 0 | AA148: =SUM(AA149:AA150) -> 0 | AR148: 1 | AT148: D | AU148: 1 | AY148: ROZPOCET | BK148: =SUM(BK149:BK150) -> 0
C149: 19 | D149: K | E149: 998011001 | F149: Presun hmôt pre budovy (801, 803, 812), zvislá konštr. z tehál, tvárnic, z kovu výšky do 6 m | J149: t | K149: 24.811 | U149: znížená | V149: 0.898 | W149: =V149*K149 -> 22.280278 | X149: 0 | Y149: =X149*K149 -> 0 | Z149: 0 | AA149: =Z149*K149 -> 0 | AR149: 4 | AT149: K | AU149: 2 | AY149: ROZPOCET | BE149: =IF(U149="základná",N149,0) -> 0 | BF149: =IF(U149="znížená",N149,0) -> 0 | BG149: =IF(U149="zákl. prenesená",N149,0) -> 0 | BH149: =IF(U149="zníž. prenesená",N149,0) -> 0 | BI149: =IF(U149="nulová",N149,0) -> 0 | BJ149: 2 | BK149: =ROUND(L149*K149,3) -> 0 | BL149: 4 | BM149: -1500496691
C150: 20 | D150: K | E150: 998222011 | F150: Presun hmôt pre pozemné komunikácie s krytom z kameniva (8222, 8225) akejkoľvek dĺžky objektu | J150: t | K150: 94.184 | U150: znížená | V150: 0.047 | W150: =V150*K150 -> 4.426648 | X150: 0 | Y150: =X150*K150 -> 0 | Z150: 0 | AA150: =Z150*K150 -> 0 | AR150: 4 | AT150: K | AU150: 2 | AY150: ROZPOCET | BE150: =IF(U150="základná",N150,0) -> 0 | BF150: =IF(U150="znížená",N150,0) -> 0 | BG150: =IF(U150="zákl. prenesená",N150,0) -> 0 | BH150: =IF(U150="zníž. prenesená",N150,0) -> 0 | BI150: =IF(U150="nulová",N150,0) -> 0 | BJ150: 2 | BK150: =ROUND(L150*K150,3) -> 0 | BL150: 4 | BM150: -954943037
D151: PSV - Práce a dodávky PSV | W151: =W152 -> 3.59627 | Y151: =Y152 -> 0.44368 | AA151: =AA152 -> 0 | AR151: 1 | AT151: D | AU151: 0 | AY151: ROZPOCET | BK151: =BK152 -> 0
D152: 767 - Konštrukcie doplnkové kovové | W152: =SUM(W153:W160) -> 3.59627 | Y152: =SUM(Y153:Y160) -> 0.44368 | AA152: =SUM(AA153:AA160) -> 0 | AR152: 1 | AT152: D | AU152: 1 | AY152: ROZPOCET | BK152: =SUM(BK153:BK160) -> 0
C153: 21 | D153: M | E153: 3133106250 | F153: Stĺpik pre plot (zelený) poplastovaný na pozinkovanej oceli 2,10m , ekvivalent alebo lepší | J153: ks | K153: 2 | U153: znížená | V153: 0 | W153: =V153*K153 -> 0 | X153: 0 | Y153: =X153*K153 -> 0 | Z153: 0 | AA153: =Z153*K153 -> 0 | AR153: 8 | AT153: M | AU153: 2 | AY153: ROZPOCET | BE153: =IF(U153="základná",N153,0) -> 0 | BF153: =IF(U153="znížená",N153,0) -> 0 | BG153: =IF(U153="zákl. prenesená",N153,0) -> 0 | BH153: =IF(U153="zníž. prenesená",N153,0) -> 0 | BI153: =IF(U153="nulová",N153,0) -> 0 | BJ153: 2 | BK153: =ROUND(L153*K153,3) -> 0 | BL153: 4 | BM153: -147280342
C154: 22 | D154: M | E154: 3133106270 | F154: Rúrka pre vzperu 2,10m , ekvivalent alebo lepší | J154: ks | K154: 2 | U154: znížená | V154: 0 | W154: =V154*K154 -> 0 | X154: 0 | Y154: =X154*K154 -> 0 | Z154: 0 | AA154: =Z154*K154 -> 0 | AR154: 8 | AT154: M | AU154: 2 | AY154: ROZPOCET | BE154: =IF(U154="základná",N154,0) -> 0 | BF154: =IF(U154="znížená",N154,0) -> 0 | BG154: =IF(U154="zákl. prenesená",N154,0) -> 0 | BH154: =IF(U154="zníž. prenesená",N154,0) -> 0 | BI154: =IF(U154="nulová",N154,0) -> 0 | BJ154: 2 | BK154: =ROUND(L154*K154,3) -> 0 | BL154: 4 | BM154: 175575910
C155: 23 | D155: K | E155: 338171122 | F155: Osadenie stĺpika oceľového plotového do výšky 2.60m so zabetónovaním | J155: ks | K155: 4 | U155: znížená | V155: 0.35152 | W155: =V155*K155 -> 1.40608 | X155: 0.11092 | Y155: =X155*K155 -> 0.44368 | Z155: 0 | AA155: =Z155*K155 -> 0 | AR155: 4 | AT155: K | AU155: 2 | AY155: ROZPOCET | BE155: =IF(U155="základná",N155,0) -> 0 | BF155: =IF(U155="znížená",N155,0) -> 0 | BG155: =IF(U155="zákl. prenesená",N155,0) -> 0 | BH155: =IF(U155="zníž. prenesená",N155,0) -> 0 | BI155: =IF(U155="nulová",N155,0) -> 0 | BJ155: 2 | BK155: =ROUND(L155*K155,3) -> 0 | BL155: 4 | BM155: -1681811460
C156: 24 | D156: K | E156: 767911130 | F156: Montáž oplotenia strojového pletiva, s výškou do 1,6 do 2,0 m | J156: m | K156: 76.1 | U156: znížená | V156: 0 | W156: =V156*K156 -> 0 | X156: 0 | Y156: =X156*K156 -> 0 | Z156: 0 | AA156: =Z156*K156 -> 0 | AR156: 4 | AT156: K | AU156: 2 | AY156: ROZPOCET | BE156: =IF(U156="základná",N156,0) -> 0 | BF156: =IF(U156="znížená",N156,0) -> 0 | BG156: =IF(U156="zákl. prenesená",N156,0) -> 0 | BH156: =IF(U156="zníž. prenesená",N156,0) -> 0 | BI156: =IF(U156="nulová",N156,0) -> 0 | BJ156: 2 | BK156: =ROUND(L156*K156,3) -> 0 | BL156: 4 | BM156: 1543637067
C157: 25 | D157: M | E157: 3133102300 | F157: Oplotenie pozink oceľ, 50/50, 25 m | J157: ks | K157: 3.044 | U157: znížená | V157: 0 | W157: =V157*K157 -> 0 | X157: 0 | Y157: =X157*K157 -> 0 | Z157: 0 | AA157: =Z157*K157 -> 0 | AR157: 8 | AT157: M | AU157: 2 | AY157: ROZPOCET | BE157: =IF(U157="základná",N157,0) -> 0 | BF157: =IF(U157="znížená",N157,0) -> 0 | BG157: =IF(U157="zákl. prenesená",N157,0) -> 0 | BH157: =IF(U157="zníž. prenesená",N157,0) -> 0 | BI157: =IF(U157="nulová",N157,0) -> 0 | BJ157: 2 | BK157: =ROUND(L157*K157,3) -> 0 | BL157: 4 | BM157: 1046199019
C158: 26 | D158: M | E158: 1561530200 | F158: Napínací drôt poplast D 100m | J158: ks | K158: 2.283 | U158: znížená | V158: 0 | W158: =V158*K158 -> 0 | X158: 0 | Y158: =X158*K158 -> 0 | Z158: 0 | AA158: =Z158*K158 -> 0 | AR158: 8 | AT158: M | AU158: 2 | AY158: ROZPOCET | BE158: =IF(U158="základná",N158,0) -> 0 | BF158: =IF(U158="znížená",N158,0) -> 0 | BG158: =IF(U158="zákl. prenesená",N158,0) -> 0 | BH158: =IF(U158="zníž. prenesená",N158,0) -> 0 | BI158: =IF(U158="nulová",N158,0) -> 0 | BJ158: 2 | BK158: =ROUND(L158*K158,3) -> 0 | BL158: 4 | BM158: 744021333
C159: 27 | D159: M | E159: 5534371200 | F159: Brána dvojkrídlová 3,6m | J159: ks | K159: 1 | U159: znížená | V159: 0 | W159: =V159*K159 -> 0 | X159: 0 | Y159: =X159*K159 -> 0 | Z159: 0 | AA159: =Z159*K159 -> 0 | AR159: 8 | AT159: M | AU159: 2 | AY159: ROZPOCET | BE159: =IF(U159="základná",N159,0) -> 0 | BF159: =IF(U159="znížená",N159,0) -> 0 | BG159: =IF(U159="zákl. prenesená",N159,0) -> 0 | BH159: =IF(U159="zníž. prenesená",N159,0) -> 0 | BI159: =IF(U159="nulová",N159,0) -> 0 | BJ159: 2 | BK159: =ROUND(L159*K159,3) -> 0 | BL159: 4 | BM159: -423487083
C160: 28 | D160: K | E160: 767920240 | F160: Montáž vrát a vrátok k oploteniu osadzovaných na stĺpiky oceľové, s plochou jednotlivo nad 6 do 8 m2 | J160: ks | K160: 1 | U160: znížená | V160: 2.19019 | W160: =V160*K160 -> 2.19019 | X160: 0 | Y160: =X160*K160 -> 0 | Z160: 0 | AA160: =Z160*K160 -> 0 | AR160: 4 | AT160: K | AU160: 2 | AY160: ROZPOCET | BE160: =IF(U160="základná",N160,0) -> 0 | BF160: =IF(U160="znížená",N160,0) -> 0 | BG160: =IF(U160="zákl. prenesená",N160,0) -> 0 | BH160: =IF(U160="zníž. prenesená",N160,0) -> 0 | BI160: =IF(U160="nulová",N160,0) -> 0 | BJ160: 2 | BK160: =ROUND(L160*K160,3) -> 0 | BL160: 4 | BM160: 538626527

Sheet PS01 - STROJNOTECHNOLOGIC...
D1: Hárok obsahuje: | F1: 1) Krycí list rozpočtu | H1: 2) Rekapitulácia rozpočtu | L1: 3) Rozpočet | O1: Späť na hárok: | S1: Rekapitulácia stavby
C2: optimalizované pre tlač zostáv vo formáte A4 - na výšku | S2: >> skryté stĺpce << | AT2: {a7e028bd-524e-46d9-b2b9-10eae599f134}
AT3: 0
C4: KRYCÍ LIST ROZPOČTU | T4: v --- nižšie sa nachádzajú doplnkové a pomocné údaje k zostavám --- v | AT4: False
D6: Stavba: | F6: ='Rekapitulácia stavby'!K6 -> REKONŠTRUKCIA ČOV TYPU 2XPESL25
D7: Objekt: | F7: PS01 - STROJNOTECHNOLOGICKÁ ČASŤ ČOV
D8: JKSO: | M8: KS:
D9: Miesto: | M9: Dátum:
D11: Objednávateľ: | M11: IČO: | O11: =IF('Rekapitulácia stavby'!AN10="","",'Rekapitulácia stavby'!AN10)
E12: =IF('Rekapitulácia stavby'!E11="","",'Rekapitulácia stavby'!E11) | M12: IČO DPH: | O12: =IF('Rekapitulácia stavby'!AN11="","",'Rekapitulácia stavby'!AN11)
D14: Zhotoviteľ: | M14: IČO: | O14: =IF('Rekapitulácia stavby'!AN13="","",'Rekapitulácia stavby'!AN13)
E15: =IF('Rekapitulácia stavby'!E14="","",'Rekapitulácia stavby'!E14) | M15: IČO DPH: | O15: =IF('Rekapitulácia stavby'!AN14="","",'Rekapitulácia stavby'!AN14)
D17: Projektant: | M17: IČO: | O17: =IF('Rekapitulácia stavby'!AN16="","",'Rekapitulácia stavby'!AN16)
E18: =IF('Rekapitulácia stavby'!E17="","",'Rekapitulácia stavby'!E17) -> Ing. Milan Bizub, MARMI s.r.o. | M18: IČO DPH: | O18: =IF('Rekapitulácia stavby'!AN17="","",'Rekapitulácia stavby'!AN17)
D20: Spracovateľ: | M20: IČO: | O20: =IF('Rekapitulácia stavby'!AN19="","",'Rekapitulácia stavby'!AN19)
E21: =IF('Rekapitulácia stavby'!E20="","",'Rekapitulácia stavby'!E20) | M21: IČO DPH: | O21: =IF('Rekapitulácia stavby'!AN20="","",'Rekapitulácia stavby'!AN20)
D23: Poznámka:
D27: Náklady z rozpočtu
D28: Ostatné náklady
D30: Cena bez DPH
D32: DPH | E32: základná | F32: 0.2 | G32: z
E33: znížená | F33: 0.2 | G33: z
E34: zákl. prenesená | F34: 0.2 | G34: z | H34: =ROUND((SUM(BG90:BG91)+SUM(BG109:BG148)), 2) -> 0
E35: zníž. prenesená | F35: 0.2 | G35: z | H35: =ROUND((SUM(BH90:BH91)+SUM(BH109:BH148)), 2) -> 0
E36: nulová | F36: 0 | G36: z | H36: =ROUND((SUM(BI90:BI91)+SUM(BI109:BI148)), 2) -> 0
D38: Cena s DPH | G38: v | H38: EUR
D50: Projektant | J50: Spracovateľ
D59: Dátum a podpis: | G59: Pečiatka | J59: Dátum a podpis: | N59: Pečiatka
D61: Objednávateľ | J61: Zhotoviteľ
D70: Dátum a podpis: | G70: Pečiatka | J70: Dátum a podpis: | N70: Pečiatka
C76: REKAPITULÁCIA ROZPOČTU
C78: Stavba: | F78: =F6 -> REKONŠTRUKCIA ČOV TYPU 2XPESL25
C79: Objekt: | F79: =F7 -> PS01 - STROJNOTECHNOLOGICKÁ ČASŤ ČOV
C81: Miesto: | F81: =F9 | K81: Dátum: | M81: =IF(O9="","",O9)
C83: Objednávateľ: | F83: =E12 | K83: Projektant: | M83: =E18 -> Ing. Milan Bizub, MARMI s.r.o.
C84: Zhotoviteľ: | F84: =IF(E15="","",E15) | K84: Spracovateľ: | M84: =E21
C86: Kód - Popis | N86: Cena celkom [EUR]
C88: 1) Náklady z rozpočtu | AU88: -1
C90: 2) Ostatné náklady | U90: DPH
C92: Celkové náklady za stavbu 1) + 2)
C98: ROZPOČET
C100: Stavba: | F100: =F6 -> REKONŠTRUKCIA ČOV TYPU 2XPESL25
C101: Objekt: | F101: =F7 -> PS01 - STROJNOTECHNOLOGICKÁ ČASŤ ČOV
C103: Miesto: | F103: =F9 | K103: Dátum: | M103: =IF(O9="","",O9)
C105: Objednávateľ: | F105: =E12 | K105: Projektant: | M105: =E18 -> Ing. Milan Bizub, MARMI s.r.o.
C106: Zhotoviteľ: | F106: =IF(E15="","",E15) | K106: Spracovateľ: | M106: =E21
C108: PČ | D108: Typ | E108: Kód | F108: Popis | J108: MJ | K108: Množstvo | L108: J.cena [EUR] | N108: Cena celkom [EUR] | T108: Poznámka | U108: DPH | V108: J. Nh [h] | W108: Nh celkom [h] | X108: J. hmotnosť_x000D_ [t] | Y108: Hmotnosť_x000D_ celkom [t] | Z108: J. suť [t] | AA108: Suť Celkom [t]
C109: Náklady z rozpočtu | W109: =SUM(W110:W148) -> 0 | Y109: =SUM(Y110:Y148) -> 0 | AA109: =SUM(AA110:AA148) -> 0 | AT109: D | AU109: -1 | BK109: =SUM(BK110:BK148) -> 0
C110: 1 | D110: K | E110: 1 | F110: P1a,b Čerpadlo surovej vody Q= 2,78 l/s, H=5,5 m p= 0,70kW/400V | J110: ks | K110: 2 | U110: znížená | V110: 0 | W110: =V110*K110 -> 0 | X110: 0 | Y110: =X110*K110 -> 0 | Z110: 0 | AA110: =Z110*K110 -> 0 | AR110: 4 | AT110: K | AU110: 0 | AY110: ROZPOCET | BE110: =IF(U110="základná",N110,0) -> 0 | BF110: =IF(U110="znížená",N110,0) -> 0 | BG110: =IF(U110="zákl. prenesená",N110,0) -> 0 | BH110: =IF(U110="zníž. prenesená",N110,0) -> 0 | BI110: =IF(U110="nulová",N110,0) -> 0 | BJ110: 2 | BK110: =ROUND(L110*K110,3) -> 0 | BL110: 4 | BM110: 57631154
C111: 10 | D111: K | E111: 10 | F111: PP koleno d63/90° | J111: ks | K111: 8 | U111: znížená | V111: 0 | W111: =V111*K111 -> 0 | X111: 0 | Y111: =X111*K111 -> 0 | Z111: 0 | AA111: =Z111*K111 -> 0 | AR111: 4 | AT111: K | AU111: 0 | AY111: ROZPOCET | BE111: =IF(U111="základná",N111,0) -> 0 | BF111: =IF(U111="znížená",N111,0) -> 0 | BG111: =IF(U111="zákl. prenesená",N111,0) -> 0 | BH111: =IF(U111="zníž. prenesená",N111,0) -> 0 | BI111: =IF(U111="nulová",N111,0) -> 0 | BJ111: 2 | BK111: =ROUND(L111*K111,3) -> 0 | BL111: 4 | BM111: 1574173392
C112: 11 | D112: K | E112: 11 | F112: PVC kanál Rúra hladká SN8 - KG SW DN 200 | J112: m | K112: 4.6 | U112: znížená | V112: 0 | W112: =V112*K112 -> 0 | X112: 0 | Y112: =X112*K112 -> 0 | Z112: 0 | AA112: =Z112*K112 -> 0 | AR112: 4 | AT112: K | AU112: 0 | AY112: ROZPOCET | BE112: =IF(U112="základná",N112,0) -> 0 | BF112: =IF(U112="znížená",N112,0) -> 0 | BG112: =IF(U112="zákl. prenesená",N112,0) -> 0 | BH112: =IF(U112="zníž. prenesená",N112,0) -> 0 | BI112: =IF(U112="nulová",N112,0) -> 0 | BJ112: 2 | BK112: =ROUND(L112*K112,3) -> 0 | BL112: 4 | BM112: 435564463
C113: 12 | D113: K | E113: 12 | F113: PVC kanál Koleno KG 200 x45° | J113: ks | K113: 2 | U113: znížená | V113: 0 | W113: =V113*K113 -> 0 | X113: 0 | Y113: =X113*K113 -> 0 | Z113: 0 | AA113: =Z113*K113 -> 0 | AR113: 4 | AT113: K | AU113: 0 | AY113: ROZPOCET | BE113: =IF(U113="základná",N113,0) -> 0 | BF113: =IF(U113="znížená",N113,0) -> 0 | BG113: =IF(U113="zákl. prenesená",N113,0) -> 0 | BH113: =IF(U113="zníž. prenesená",N113,0) -> 0 | BI113: =IF(U113="nulová",N113,0) -> 0 | BJ113: 2 | BK113: =ROUND(L113*K113,3) -> 0 | BL113: 4 | BM113: -2099364737
C114: 13 | D114: K | E114: 13 | F114: Nátokový kôš | J114: ks | K114: 2 | U114: znížená | V114: 0 | W114: =V114*K114 -> 0 | X114: 0 | Y114: =X114*K114 -> 0 | Z114: 0 | AA114: =Z114*K114 -> 0 | AR114: 4 | AT114: K | AU114: 0 | AY114: ROZPOCET | BE114: =IF(U114="základná",N114,0) -> 0 | BF114: =IF(U114="znížená",N114,0) -> 0 | BG114: =IF(U114="zákl. prenesená",N114,0) -> 0 | BH114: =IF(U114="zníž. prenesená",N114,0) -> 0 | BI114: =IF(U114="nulová",N114,0) -> 0 | BJ114: 2 | BK114: =ROUND(L114*K114,3) -> 0 | BL114: 4 | BM114: -1083147402
C115: 14 | D115: K | E115: 14 | F115: Da,b Dúchadlo Q= 76,0 m3/h, ?p = 35 kPa, p= 1,5kW | J115: ks | K115: 2 | U115: znížená | V115: 0 | W115: =V115*K115 -> 0 | X115: 0 | Y115: =X115*K115 -> 0 | Z115: 0 | AA115: =Z115*K115 -> 0 | AR115: 4 | AT115: K | AU115: 0 | AY115: ROZPOCET | BE115: =IF(U115="základná",N115,0) -> 0 | BF115: =IF(U115="znížená",N115,0) -> 0 | BG115: =IF(U115="zákl. prenesená",N115,0) -> 0 | BH115: =IF(U115="zníž. prenesená",N115,0) -> 0 | BI115: =IF(U115="nulová",N115,0) -> 0 | BJ115: 2 | BK115: =ROUND(L115*K115,3) -> 0 | BL115: 4 | BM115: -907378346
C116: 15 | D116: K | E116: 15 | F116: Hlavný rozvod vzduchu nerez DN50 | J116: m | K116: 7.8 | U116: znížená | V116: 0 | W116: =V116*K116 -> 0 | X116: 0 | Y116: =X116*K116 -> 0 | Z116: 0 | AA116: =Z116*K116 -> 0 | AR116: 4 | AT116: K | AU116: 0 | AY116: ROZPOCET | BE116: =IF(U116="základná",N116,0) -> 0 | BF116: =IF(U116="znížená",N116,0) -> 0 | BG116: =IF(U116="zákl. prenesená",N116,0) -> 0 | BH116: =IF(U116="zníž. prenesená",N116,0) -> 0 | BI116: =IF(U116="nulová",N116,0) -> 0 | BJ116: 2 | BK116: =ROUND(L116*K116,3) -> 0 | BL116: 4 | BM116: 1490378676
C117: 16 | D117: K | E117: 16 | F117: Koleno nerez DN50/90° | J117: ks | K117: 6 | U117: znížená | V117: 0 | W117: =V117*K117 -> 0 | X117: 0 | Y117: =X117*K117 -> 0 | Z117: 0 | AA117: =Z117*K117 -> 0 | AR117: 4 | AT117: K | AU117: 0 | AY117: ROZPOCET | BE117: =IF(U117="základná",N117,0) -> 0 | BF117: =IF(U117="znížená",N117,0) -> 0 | BG117: =IF(U117="zákl. prenesená",N117,0) -> 0 | BH117: =IF(U117="zníž. prenesená",N117,0) -> 0 | BI117: =IF(U117="nulová",N117,0) -> 0 | BJ117: 2 | BK117: =ROUND(L117*K117,3) -> 0 | BL117: 4 | BM117: 1194385314
C118: 17 | D118: K | E118: 17 | F118: T-kus nerez DN50/90° | J118: ks | K118: 2 | U118: znížená | V118: 0 | W118: =V118*K118 -> 0 | X118: 0 | Y118: =X118*K118 -> 0 | Z118: 0 | AA118: =Z118*K118 -> 0 | AR118: 4 | AT118: K | AU118: 0 | AY118: ROZPOCET | BE118: =IF(U118="základná",N118,0) -> 0 | BF118: =IF(U118="znížená",N118,0) -> 0 | BG118: =IF(U118="zákl. prenesená",N118,0) -> 0 | BH118: =IF(U118="zníž. prenesená",N118,0) -> 0 | BI118: =IF(U118="nulová",N118,0) -> 0 | BJ118: 2 | BK118: =ROUND(L118*K118,3) -> 0 | BL118: 4 | BM118: -1383963140
C119: 18 | D119: K | E119: 18 | F119: Rozdeľovač vzduchu 3 ventil | J119: ks | K119: 2 | U119: znížená | V119: 0 | W119: =V119*K119 -> 0 | X119: 0 | Y119: =X119*K119 -> 0 | Z119: 0 | AA119: =Z119*K119 -> 0 | AR119: 4 | AT119: K | AU119: 0 | AY119: ROZPOCET | BE119: =IF(U119="základná",N119,0) -> 0 | BF119: =IF(U119="znížená",N119,0) -> 0 | BG119: =IF(U119="zákl. prenesená",N119,0) -> 0 | BH119: =IF(U119="zníž. prenesená",N119,0) -> 0 | BI119: =IF(U119="nulová",N119,0) -> 0 | BJ119: 2 | BK119: =ROUND(L119*K119,3) -> 0 | BL119: 4 | BM119: 1752593678
C120: 19 | D120: K | E120: 19 | F120: Rozdeľovač vzduchu 2 ventil | J120: ks | K120: 2 | U120: znížená | V120: 0 | W120: =V120*K120 -> 0 | X120: 0 | Y120: =X120*K120 -> 0 | Z120: 0 | AA120: =Z120*K120 -> 0 | AR120: 4 | AT120: K | AU120: 0 | AY120: ROZPOCET | BE120: =IF(U120="základná",N120,0) -> 0 | BF120: =IF(U120="znížená",N120,0) -> 0 | BG120: =IF(U120="zákl. prenesená",N120,0) -> 0 | BH120: =IF(U120="zníž. prenesená",N120,0) -> 0 | BI120: =IF(U120="nulová",N120,0) -> 0 | BJ120: 2 | BK120: =ROUND(L120*K120,3) -> 0 | BL120: 4 | BM120: -162029560
C121: 2 | D121: K | E121: 2 | F121: Vodiace tyče O 33,7 x 2 mm | J121: m | K121: 14 | U121: znížená | V121: 0 | W121: =V121*K121 -> 0 | X121: 0 | Y121: =X121*K121 -> 0 | Z121: 0 | AA121: =Z121*K121 -> 0 | AR121: 4 | AT121: K | AU121: 0 | AY121: ROZPOCET | BE121: =IF(U121="základná",N121,0) -> 0 | BF121: =IF(U121="znížená",N121,0) -> 0 | BG121: =IF(U121="zákl. prenesená",N121,0) -> 0 | BH121: =IF(U121="zníž. prenesená",N121,0) -> 0 | BI121: =IF(U121="nulová",N121,0) -> 0 | BJ121: 2 | BK121: =ROUND(L121*K121,3) -> 0 | BL121: 4 | BM121: 1705573128
... C148: 9 | D148: K | E148: 9 | F148: PP koleno d63/45° | J148: ks | K148: 2 | U148: znížená | V148: 0 | W148: =V148*K148 -> 0 | X148: 0 | Y148: =X148*K148 -> 0 | Z148: 0 | AA148: =Z148*K148 -> 0 | AR148: 4 | AT148: K | AU148: 0 | AY148: ROZPOCET | BE148: =IF(U148="základná",N148,0) -> 0 | BF148: =IF(U148="znížená",N148,0) -> 0 | BG148: =IF(U148="zákl. prenesená",N148,0) -> 0 | BH148: =IF(U148="zníž. prenesená",N148,0) -> 0 | BI148: =IF(U148="nulová",N148,0) -> 0 | BJ148: 2 | BK148: =ROUND(L148*K148,3) -> 0 | BL148: 4 | BM148: -1900102173

Sheet PS02 - ELEKTROINŠTALÁCIA
D1: Hárok obsahuje: | F1: 1) Krycí list rozpočtu | H1: 2) Rekapitulácia rozpočtu | L1: 3) Rozpočet | O1: Späť na hárok: | S1: Rekapitulácia stavby
C2: optimalizované pre tlač zostáv vo formáte A4 - na výšku | S2: >> skryté stĺpce << | AT2: {a4760090-849f-4436-8cd1-894965652aa5}
AT3: 0
C4: KRYCÍ LIST ROZPOČTU | T4: v --- nižšie sa nachádzajú doplnkové a pomocné údaje k zostavám --- v | AT4: False
D6: Stavba: | F6: ='Rekapitulácia stavby'!K6 -> REKONŠTRUKCIA ČOV TYPU 2XPESL25
D7: Objekt: | F7: PS02 - ELEKTROINŠTALÁCIA
D8: JKSO: | M8: KS:
D9: Miesto: | M9: Dátum:
D11: Objednávateľ: | M11: IČO: | O11: =IF('Rekapitulácia stavby'!AN10="","",'Rekapitulácia stavby'!AN10)
E12: =IF('Rekapitulácia stavby'!E11="","",'Rekapitulácia stavby'!E11) | M12: IČO DPH: | O12: =IF('Rekapitulácia stavby'!AN11="","",'Rekapitulácia stavby'!AN11)
D14: Zhotoviteľ: | M14: IČO: | O14: =IF('Rekapitulácia stavby'!AN13="","",'Rekapitulácia stavby'!AN13)
E15: =IF('Rekapitulácia stavby'!E14="","",'Rekapitulácia stavby'!E14) | M15: IČO DPH: | O15: =IF('Rekapitulácia stavby'!AN14="","",'Rekapitulácia stavby'!AN14)
D17: Projektant: | M17: IČO: | O17: =IF('Rekapitulácia stavby'!AN16="","",'Rekapitulácia stavby'!AN16)
E18: =IF('Rekapitulácia stavby'!E17="","",'Rekapitulácia stavby'!E17) -> Ing. Milan Bizub, MARMI s.r.o. | M18: IČO DPH: | O18: =IF('Rekapitulácia stavby'!AN17="","",'Rekapitulácia stavby'!AN17)
D20: Spracovateľ: | M20: IČO: | O20: =IF('Rekapitulácia stavby'!AN19="","",'Rekapitulácia stavby'!AN19)
E21: =IF('Rekapitulácia stavby'!E20="","",'Rekapitulácia stavby'!E20) | M21: IČO DPH: | O21: =IF('Rekapitulácia stavby'!AN20="","",'Rekapitulácia stavby'!AN20)
D23: Poznámka:
D27: Náklady z rozpočtu
D28: Ostatné náklady
D30: Cena bez DPH
D32: DPH | E32: základná | F32: 0.2 | G32: z
E33: znížená | F33: 0.2 | G33: z
E34: zákl. prenesená | F34: 0.2 | G34: z | H34: =ROUND((SUM(BG92:BG93)+SUM(BG111:BG122)), 2) -> 0
E35: zníž. prenesená | F35: 0.2 | G35: z | H35: =ROUND((SUM(BH92:BH93)+SUM(BH111:BH122)), 2) -> 0
E36: nulová | F36: 0 | G36: z | H36: =ROUND((SUM(BI92:BI93)+SUM(BI111:BI122)), 2) -> 0
D38: Cena s DPH | G38: v | H38: EUR
D50: Projektant | J50: Spracovateľ
D59: Dátum a podpis: | G59: Pečiatka | J59: Dátum a podpis: | N59: Pečiatka
D61: Objednávateľ | J61: Zhotoviteľ
D70: Dátum a podpis: | G70: Pečiatka | J70: Dátum a podpis: | N70: Pečiatka
C76: REKAPITULÁCIA ROZPOČTU
C78: Stavba: | F78: =F6 -> REKONŠTRUKCIA ČOV TYPU 2XPESL25
C79: Objekt: | F79: =F7 -> PS02 - ELEKTROINŠTALÁCIA
C81: Miesto: | F81: =F9 | K81: Dátum: | M81: =IF(O9="","",O9)
C83: Objednávateľ: | F83: =E12 | K83: Projektant: | M83: =E18 -> Ing. Milan Bizub, MARMI s.r.o.
C84: Zhotoviteľ: | F84: =IF(E15="","",E15) | K84: Spracovateľ: | M84: =E21
C86: Kód - Popis | N86: Cena celkom [EUR]
C88: 1) Náklady z rozpočtu | AU88: -1
D89: M - Práce a dodávky M
D90: 21-M - Elektromontáže
C92: 2) Ostatné náklady | U92: DPH
C94: Celkové náklady za stavbu 1) + 2)
C100: ROZPOČET
C102: Stavba: | F102: =F6 -> REKONŠTRUKCIA ČOV TYPU 2XPESL25
C103: Objekt: | F103: =F7 -> PS02 - ELEKTROINŠTALÁCIA
C105: Miesto: | F105: =F9 | K105: Dátum: | M105: =IF(O9="","",O9)
C107: Objednávateľ: | F107: =E12 | K107: Projektant: | M107: =E18 -> Ing. Milan Bizub, MARMI s.r.o.
C108: Zhotoviteľ: | F108: =IF(E15="","",E15) | K108: Spracovateľ: | M108: =E21
C110: PČ | D110: Typ | E110: Kód | F110: Popis | J110: MJ | K110: Množstvo | L110: J.cena [EUR] | N110: Cena celkom [EUR] | T110: Poznámka | U110: DPH | V110: J. Nh [h] | W110: Nh celkom [h] | X110: J. hmotnosť_x000D_ [t] | Y110: Hmotnosť_x000D_ celkom [t] | Z110: J. suť [t] | AA110: Suť Celkom [t]
C111: Náklady z rozpočtu | W111: =W112 -> 0 | Y111: =Y112 -> 0 | AA111: =AA112 -> 0 | AT111: D | AU111: -1 | BK111: =BK112 -> 0
D112: M - Práce a dodávky M | W112: =W113 -> 0 | Y112: =Y113 -> 0 | AA112: =AA113 -> 0 | AR112: 3 | AT112: D | AU112: 0 | AY112: ROZPOCET | BK112: =BK113 -> 0
D113: 21-M - Elektromontáže | W113: =SUM(W114:W122) -> 0 | Y113: =SUM(Y114:Y122) -> 0 | AA113: =SUM(AA114:AA122) -> 0 | AR113: 3 | AT113: D | AU113: 1 | AY113: ROZPOCET | BK113: =SUM(BK114:BK122) -> 0
C114: 1 | D114: K | E114: el1 | F114: Rozvádzač | J114: kpl | K114: 1 | U114: znížená | V114: 0 | W114: =V114*K114 -> 0 | X114: 0 | Y114: =X114*K114 -> 0 | Z114: 0 | AA114: =Z114*K114 -> 0 | AR114: 512 | AT114: K | AU114: 2 | AY114: ROZPOCET | BE114: =IF(U114="základná",N114,0) -> 0 | BF114: =IF(U114="znížená",N114,0) -> 0 | BG114: =IF(U114="zákl. prenesená",N114,0) -> 0 | BH114: =IF(U114="zníž. prenesená",N114,0) -> 0 | BI114: =IF(U114="nulová",N114,0) -> 0 | BJ114: 2 | BK114: =ROUND(L114*K114,3) -> 0 | BL114: 512 | BM114: 960353759
C115: 2 | D115: K | E115: el2 | F115: Deblokačné skrinky | J115: kpl | K115: 2 | U115: znížená | V115: 0 | W115: =V115*K115 -> 0 | X115: 0 | Y115: =X115*K115 -> 0 | Z115: 0 | AA115: =Z115*K115 -> 0 | AR115: 512 | AT115: K | AU115: 2 | AY115: ROZPOCET | BE115: =IF(U115="základná",N115,0) -> 0 | BF115: =IF(U115="znížená",N115,0) -> 0 | BG115: =IF(U115="zákl. prenesená",N115,0) -> 0 | BH115: =IF(U115="zníž. prenesená",N115,0) -> 0 | BI115: =IF(U115="nulová",N115,0) -> 0 | BJ115: 2 | BK115: =ROUND(L115*K115,3) -> 0 | BL115: 512 | BM115: 1722664323
C116: 3 | D116: K | E116: el3 | F116: Nosný materiál | J116: kpl | K116: 1 | U116: znížená | V116: 0 | W116: =V116*K116 -> 0 | X116: 0 | Y116: =X116*K116 -> 0 | Z116: 0 | AA116: =Z116*K116 -> 0 | AR116: 512 | AT116: K | AU116: 2 | AY116: ROZPOCET | BE116: =IF(U116="základná",N116,0) -> 0 | BF116: =IF(U116="znížená",N116,0) -> 0 | BG116: =IF(U116="zákl. prenesená",N116,0) -> 0 | BH116: =IF(U116="zníž. prenesená",N116,0) -> 0 | BI116: =IF(U116="nulová",N116,0) -> 0 | BJ116: 2 | BK116: =ROUND(L116*K116,3) -> 0 | BL116: 512 | BM116: 1730259172
C117: 4 | D117: K | E117: el4 | F117: Konštrukcia rozvádzača | J117: kpl | K117: 1 | U117: znížená | V117: 0 | W117: =V117*K117 -> 0 | X117: 0 | Y117: =X117*K117 -> 0 | Z117: 0 | AA117: =Z117*K117 -> 0 | AR117: 512 | AT117: K | AU117: 2 | AY117: ROZPOCET | BE117: =IF(U117="základná",N117,0) -> 0 | BF117: =IF(U117="znížená",N117,0) -> 0 | BG117: =IF(U117="zákl. prenesená",N117,0) -> 0 | BH117: =IF(U117="zníž. prenesená",N117,0) -> 0 | BI117: =IF(U117="nulová",N117,0) -> 0 | BJ117: 2 | BK117: =ROUND(L117*K117,3) -> 0 | BL117: 512 | BM117: -218070136
C118: 5 | D118: K | E118: el5 | F118: Montáž+uvedenie do chodu | J118: kpl | K118: 1 | U118: znížená | V118: 0 | W118: =V118*K118 -> 0 | X118: 0 | Y118: =X118*K118 -> 0 | Z118: 0 | AA118: =Z118*K118 -> 0 | AR118: 512 | AT118: K | AU118: 2 | AY118: ROZPOCET | BE118: =IF(U118="základná",N118,0) -> 0 | BF118: =IF(U118="znížená",N118,0) -> 0 | BG118: =IF(U118="zákl. prenesená",N118,0) -> 0 | BH118: =IF(U118="zníž. prenesená",N118,0) -> 0 | BI118: =IF(U118="nulová",N118,0) -> 0 | BJ118: 2 | BK118: =ROUND(L118*K118,3) -> 0 | BL118: 512 | BM118: 1025361854
C119: 6 | D119: K | E119: el6 | F119: OPaS el.zariadenia | J119: kpl | K119: 1 | U119: znížená | V119: 0 | W119: =V119*K119 -> 0 | X119: 0 | Y119: =X119*K119 -> 0 | Z119: 0 | AA119: =Z119*K119 -> 0 | AR119: 512 | AT119: K | AU119: 2 | AY119: ROZPOCET | BE119: =IF(U119="základná",N119,0) -> 0 | BF119: =IF(U119="znížená",N119,0) -> 0 | BG119: =IF(U119="zákl. prenesená",N119,0) -> 0 | BH119: =IF(U119="zníž. prenesená",N119,0) -> 0 | BI119: =IF(U119="nulová",N119,0) -> 0 | BJ119: 2 | BK119: =ROUND(L119*K119,3) -> 0 | BL119: 512 | BM119: -1848586516
C120: 7 | D120: K | E120: el7 | F120: Projekt skutočného vyhotovenia | J120: kpl | K120: 1 | U120: znížená | V120: 0 | W120: =V120*K120 -> 0 | X120: 0 | Y120: =X120*K120 -> 0 | Z120: 0 | AA120: =Z120*K120 -> 0 | AR120: 512 | AT120: K | AU120: 2 | AY120: ROZPOCET | BE120: =IF(U120="základná",N120,0) -> 0 | BF120: =IF(U120="znížená",N120,0) -> 0 | BG120: =IF(U120="zákl. prenesená",N120,0) -> 0 | BH120: =IF(U120="zníž. prenesená",N120,0) -> 0 | BI120: =IF(U120="nulová",N120,0) -> 0 | BJ120: 2 | BK120: =ROUND(L120*K120,3) -> 0 | BL120: 512 | BM120: -1862654686
C121: 8 | D121: K | E121: el8 | F121: Doprava | J121: kpl | K121: 1 | U121: znížená | V121: 0 | W121: =V121*K121 -> 0 | X121: 0 | Y121: =X121*K121 -> 0 | Z121: 0 | AA121: =Z121*K121 -> 0 | AR121: 512 | AT121: K | AU121: 2 | AY121: ROZPOCET | BE121: =IF(U121="základná",N121,0) -> 0 | BF121: =IF(U121="znížená",N121,0) -> 0 | BG121: =IF(U121="zákl. prenesená",N121,0) -> 0 | BH121: =IF(U121="zníž. prenesená",N121,0) -> 0 | BI121: =IF(U121="nulová",N121,0) -> 0 | BJ121: 2 | BK121: =ROUND(L121*K121,3) -> 0 | BL121: 512 | BM121: 50544762
C122: 9 | D122: K | E122: el9 | F122: Zemné práce | J122: kpl | K122: 1 | U122: znížená | V122: 0 | W122: =V122*K122 -> 0 | X122: 0 | Y122: =X122*K122 -> 0 | Z122: 0 | AA122: =Z122*K122 -> 0 | AR122: 512 | AT122: K | AU122: 2 | AY122: ROZPOCET | BE122: =IF(U122="základná",N122,0) -> 0 | BF122: =IF(U122="znížená",N122,0) -> 0 | BG122: =IF(U122="zákl. prenesená",N122,0) -> 0 | BH122: =IF(U122="zníž. prenesená",N122,0) -> 0 | BI122: =IF(U122="nulová",N122,0) -> 0 | BJ122: 2 | BK122: =ROUND(L122*K122,3) -> 0 | BL122: 512 | BM122: -79956641
