Workbook

Sheet Rekapitulácia stavby
A1: 2012 | D1: Hárok obsahuje: | K1: 1) Súhrnný list stavby | W1: 2) Rekapitulácia objektov | BA1: 2.0 | BT1: False | BU1: False
C2: optimalizované pre tlač zostáv vo formáte A4 - na výšku | AR2: >> skryté stĺpce << | BS2: 0,001 | BT2: 20
BS3: 0,001 | BT3: 20
C4: SÚHRNNÝ LIST STAVBY | AS4: v --- nižšie sa nachádzajú doplnkové a pomocné údaje k zostavám --- v | BS4: 0,001
D5: Kód: | K5: Holcikovce | BS5: 0,001
D6: Stavba: | K6: REKONŠTRUKCIA ČOV TYPU 2XPESL25 | BS6: 0,001
D7: JKSO: | AK7: KS: | BS7: 0,001
D8: Miesto: | AK8: Dátum: | BS8: 0,001
BS9: 0,001
D10: Objednávateľ: | AK10: IČO: | BS10: 0,001
AK11: IČO DPH: | BS11: 0,001
BS12: 0,001
D13: Zhotoviteľ: | AK13: IČO: | BS13: 0,001
AK14: IČO DPH: | BS14: 0,001
BS15: False
D16: Projektant: | AK16: IČO: | BS16: False
E17: Ing. Milan Bizub, MARMI s.r.o. | AK17: IČO DPH: | BS17: True
BS18: 0,01
D19: Spracovateľ: | AK19: IČO: | BS19: 0,01
AK20: IČO DPH:
D22: Poznámka:
D26: Náklady z rozpočtov
D27: Ostatné náklady zo súhrnného listu
D29: Cena bez DPH
D31: DPH | F31: základná | L31: 0.2 | T31: z
F32: znížená | L32: 0.2 | T32: z
F33: zákl. prenesená | L33: 0.2 | T33: z | W33: =ROUND(BB87+SUM(CF93),2) -> 0
F34: zníž. prenesená | L34: 0.2 | T34: z | W34: =ROUND(BC87+SUM(CG93),2) -> 0
F35: nulová | L35: 0 | T35: z | W35: =ROUND(BD87+SUM(CH93),2) -> 0
D37: Cena s DPH | T37: v | X37: EUR
D49: Projektant | AC49: Spracovateľ
D58: Dátum a podpis: | R58: Pečiatka | AC58: Dátum a podpis: | AM58: Pečiatka
D60: Objednávateľ | AC60: Zhotoviteľ
D69: Dátum a podpis: | R69: Pečiatka | AC69: Dátum a podpis: | AM69: Pečiatka
C76: REKAPITULÁCIA OBJEKTOV STAVBY
C77: Kód: | L77: =K5 -> Holcikovce
C78: Stavba: | L78: =K6 -> REKONŠTRUKCIA ČOV TYPU 2XPESL25
C80: Miesto: | L80: =IF(K8="","",K8) | AI80: Dátum: | AM80: =IF(AN8= "","",AN8)
C82: Objednávateľ: | L82: =IF(E11= "","",E11) | AI82: Projektant: | AM82: =IF(E17="","",E17) -> Ing. Milan Bizub, MARMI s.r.o. | AS82: Informatívne údaje z listov zákaziek
C83: Zhotoviteľ: | L83: =IF(E14="","",E14) | AI83: Spracovateľ: | AM83: =IF(E20="","",E20)
...

Sheet SO01 - STAVEBNÉ ÚPRAVY ČOV
D1: Hárok obsahuje: | F1: 1) Krycí list rozpočtu | H1: 2) Rekapitulácia rozpočtu | L1: 3) Rozpočet | O1: Späť na hárok: | S1: Rekapitulácia stavby
C2: optimalizované pre tlač zostáv vo formáte A4 - na výšku | S2: >> skryté stĺpce << | AT2: {632a8e02-19db-4a2e-8e77-5da573867841}
AT3: 0
C4: KRYCÍ LIST ROZPOČTU | T4: v --- nižšie sa nachádzajú doplnkové a pomocné údaje k zostavám --- v | AT4: False
D6: Stavba: | F6: ='Rekapitulácia stavby'!K6 -> REKONŠTRUKCIA ČOV TYPU 2XPESL25
D7: Objekt: | F7: SO01 - STAVEBNÉ ÚPRAVY ČOV
D8: JKSO: | M8: KS:
D9: Miesto: | M9: Dátum:
D11: Objednávateľ: | M11: IČO: | O11: =IF('Rekapitulácia stavby'!AN10="","",'Rekapitulácia stavby'!AN10)
E12: =IF('Rekapitulácia stavby'!E11="","",'Rekapitulácia stavby'!E11) | M12: IČO DPH: | O12: =IF('Rekapitulácia stavby'!AN11="","",'Rekapitulácia stavby'!AN11)
D14: Zhotoviteľ: | M14: IČO: | O14: =IF('Rekapitulácia stavby'!AN13="","",'Rekapitulácia stavby'!AN13)
E15: =IF('Rekapitulácia stavby'!E14="","",'Rekapitulácia stavby'!E14) | M15: IČO DPH: | O15: =IF('Rekapitulácia stavby'!AN14="","",'Rekapitulácia stavby'!AN14)
D17: Projektant: | M17: IČO: | O17: =IF('Rekapitulácia stavby'!AN16="","",'Rekapitulácia stavby'!AN16)
E18: =IF('Rekapitulácia stavby'!E17="","",'Rekapitulácia stavby'!E17) -> Ing. Milan Bizub, MARMI s.r.o. | M18: IČO DPH: | O18: =IF('Rekapitulácia stavby'!AN17="","",'Rekapitulácia stavby'!AN17)
D20: Spracovateľ: | M20: IČO: | O20: =IF('Rekapitulácia stavby'!AN19="","",'Rekapitulácia stavby'!AN19)
E21: =IF('Rekapitulácia stavby'!E20="","",'Rekapitulácia stavby'!E20) | M21: IČO DPH: | O21: =IF('Rekapitulácia stavby'!AN20="","",'Rekapitulácia stavby'!AN20)
D23: Poznámka:
D27: Náklady z rozpočtu
D28: Ostatné náklady
D30: Cena bez DPH
D32: DPH | E32: základná | F32: 0.2 | G32: z
E33: znížená | F33: 0.2 | G33: z
E34: zákl. prenesená | F34: 0.2 | G34: z | H34: =ROUND((SUM(BG101:BG102)+SUM(BG120:BG160)), 2) -> 0
E35: zníž. prenesená | F35: 0.2 | G35: z | H35: =ROUND((SUM(BH101:BH102)+SUM(BH120:BH160)), 2) -> 0
E36: nulová | F36: 0 | G36: z | H36: =ROUND((SUM(BI101:BI102)+SUM(BI120:BI160)), 2) -> 0
D38: Cena s DPH | G38: v | H38: EUR
D50: Projektant | J50: Spracovateľ
D59: Dátum a podpis: | G59: Pečiatka | J59: Dátum a podpis: | N59: Pečiatka
D61: Objednávateľ | J61: Zhotoviteľ
D70: Dátum a podpis: | G70: Pečiatka | J70: Dátum a podpis: | N70: Pečiatka
C76: REKAPITULÁCIA ROZPOČTU
C78: Stavba: | F78: =F6 -> REKONŠTRUKCIA ČOV TYPU 2XPESL25
C79: Objekt: | F79: =F7 -> SO01 - STAVEBNÉ ÚPRAVY ČOV
C81: Miesto: | F81: =F9 | K81: Dátum: | M81: =IF(O9="","",O9)
C83: Objednávateľ: | F83: =E12 | K83: Projektant: | M83: =E18 -> Ing. Milan Bizub, MARMI s.r.o.
C84: Zhotoviteľ: | F84: =IF(E15="","",E15) | K84: Spracovateľ: | M84: =E21
C86: Kód - Popis | N86: Cena celkom [EUR]
C88: 1) Náklady z rozpočtu | AU88: -1
D89: HSV - Práce a dodávky HSV
D90: 1 - Zemné práce
...

Sheet PS01 - STROJNOTECHNOLOGIC...
D1: Hárok obsahuje: | F1: 1) Krycí list rozpočtu | H1: 2) Rekapitulácia rozpočtu | L1: 3) Rozpočet | O1: Späť na hárok: | S1: Rekapitulácia stavby
C2: optimalizované pre tlač zostáv vo formáte A4 - na výšku | S2: >> skryté stĺpce << | AT2: {a7e028bd-524e-46d9-b2b9-10eae599f134}
AT3: 0
C4: KRYCÍ LIST ROZPOČTU | T4: v --- nižšie sa nachádzajú doplnkové a pomocné údaje k zostavám --- v | AT4: False
D6: Stavba: | F6: ='Rekapitulácia stavby'!K6 -> REKONŠTRUKCIA ČOV TYPU 2XPESL25
D7: Objekt: | F7: PS01 - STROJNOTECHNOLOGICKÁ ČASŤ ČOV
D8: JKSO: | M8: KS:
D9: Miesto: | M9: Dátum:
D11: Objednávateľ: | M11: IČO: | O11: =IF('Rekapitulácia stavby'!AN10="","",'Rekapitulácia stavby'!AN10)
E12: =IF('Rekapitulácia stavby'!E11="","",'Rekapitulácia stavby'!E11) | M12: IČO DPH: | O12: =IF('Rekapitulácia stavby'!AN11="","",'Rekapitulácia stavby'!AN11)
D14: Zhotoviteľ: | M14: IČO: | O14: =IF('Rekapitulácia stavby'!AN13="","",'Rekapitulácia stavby'!AN13)
E15: =IF('Rekapitulácia stavby'!E14="","",'Rekapitulácia stavby'!E14) | M15: IČO DPH: | O15: =IF('Rekapitulácia stavby'!AN14="","",'Rekapitulácia stavby'!AN14)
D17: Projektant: | M17: IČO: | O17: =IF('Rekapitulácia stavby'!AN16="","",'Rekapitulácia stavby'!AN16)
E18: =IF('Rekapitulácia stavby'!E17="","",'Rekapitulácia stavby'!E17) -> Ing. Milan Bizub, MARMI s.r.o. | M18: IČO DPH: | O18: =IF('Rekapitulácia stavby'!AN17="","",'Rekapitulácia stavby'!AN17)
D20: Spracovateľ: | M20: IČO: | O20: =IF('Rekapitulácia stavby'!AN19="","",'Rekapitulácia stavby'!AN19)
E21: =IF('Rekapitulácia stavby'!E20="","",'Rekapitulácia stavby'!E20) | M21: IČO DPH: | O21: =IF('Rekapitulácia stavby'!AN20="","",'Rekapitulácia stavby'!AN20)
D23: Poznámka:
D27: Náklady z rozpočtu
D28: Ostatné náklady
D30: Cena bez DPH
D32: DPH | E32: základná | F32: 0.2 | G32: z
E33: znížená | F33: 0.2 | G33: z
E34: zákl. prenesená | F34: 0.2 | G34: z | H34: =ROUND((SUM(BG90:BG91)+SUM(BG109:BG148)), 2) -> 0
E35: zníž. prenesená | F35: 0.2 | G35: z | H35: =ROUND((SUM(BH90:BH91)+SUM(BH109:BH148)), 2) -> 0
E36: nulová | F36: 0 | G36: z | H36: =ROUND((SUM(BI90:BI91)+SUM(BI109:BI148)), 2) -> 0
D38: Cena s DPH | G38: v | H38: EUR
D50: Projektant | J50: Spracovateľ
D59: Dátum a podpis: | G59: Pečiatka | J59: Dátum a podpis: | N59: Pečiatka
D61: Objednávateľ | J61: Zhotoviteľ
D70: Dátum a podpis: | G70: Pečiatka | J70: Dátum a podpis: | N70: Pečiatka
C76: REKAPITULÁCIA ROZPOČTU
C78: Stavba: | F78: =F6 -> REKONŠTRUKCIA ČOV TYPU 2XPESL25
C79: Objekt: | F79: =F7 -> PS01 - STROJNOTECHNOLOGICKÁ ČASŤ ČOV
C81: Miesto: | F81: =F9 | K81: Dátum: | M81: =IF(O9="","",O9)
C83: Objednávateľ: | F83: =E12 | K83: Projektant: | M83: =E18 -> Ing. Milan Bizub, MARMI s.r.o.
C84: Zhotoviteľ: | F84: =IF(E15="","",E15) | K84: Spracovateľ: | M84: =E21
C86: Kód - Popis | N86: Cena celkom [EUR]
C88: 1) Náklady z rozpočtu | AU88: -1
C90: 2) Ostatné náklady | U90: DPH
C92: Celkové náklady za stavbu 1) + 2)
...

Sheet PS02 - ELEKTROINŠTALÁCIA
D1: Hárok obsahuje: | F1: 1) Krycí list rozpočtu | H1: 2) Rekapitulácia rozpočtu | L1: 3) Rozpočet | O1: Späť na hárok: | S1: Rekapitulácia stavby
C2: optimalizované pre tlač zostáv vo formáte A4 - na výšku | S2: >> skryté stĺpce << | AT2: {a4760090-849f-4436-8cd1-894965652aa5}
AT3: 0
C4: KRYCÍ LIST ROZPOČTU | T4: v --- nižšie sa nachádzajú doplnkové a pomocné údaje k zostavám --- v | AT4: False
D6: Stavba: | F6: ='Rekapitulácia stavby'!K6 -> REKONŠTRUKCIA ČOV TYPU 2XPESL25
D7: Objekt: | F7: PS02 - ELEKTROINŠTALÁCIA
D8: JKSO: | M8: KS:
D9: Miesto: | M9: Dátum:
D11: Objednávateľ: | M11: IČO: | O11: =IF('Rekapitulácia stavby'!AN10="","",'Rekapitulácia stavby'!AN10)
E12: =IF('Rekapitulácia stavby'!E11="","",'Rekapitulácia stavby'!E11) | M12: IČO DPH: | O12: =IF('Rekapitulácia stavby'!AN11="","",'Rekapitulácia stavby'!AN11)
D14: Zhotoviteľ: | M14: IČO: | O14: =IF('Rekapitulácia stavby'!AN13="","",'Rekapitulácia stavby'!AN13)
E15: =IF('Rekapitulácia stavby'!E14="","",'Rekapitulácia stavby'!E14) | M15: IČO DPH: | O15: =IF('Rekapitulácia stavby'!AN14="","",'Rekapitulácia stavby'!AN14)
D17: Projektant: | M17: IČO: | O17: =IF('Rekapitulácia stavby'!AN16="","",'Rekapitulácia stavby'!AN16)
E18: =IF('Rekapitulácia stavby'!E17="","",'Rekapitulácia stavby'!E17) -> Ing. Milan Bizub, MARMI s.r.o. | M18: IČO DPH: | O18: =IF('Rekapitulácia stavby'!AN17="","",'Rekapitulácia stavby'!AN17)
D20: Spracovateľ: | M20: IČO: | O20: =IF('Rekapitulácia stavby'!AN19="","",'Rekapitulácia stavby'!AN19)
E21: =IF('Rekapitulácia stavby'!E20="","",'Rekapitulácia stavby'!E20) | M21: IČO DPH: | O21: =IF('Rekapitulácia stavby'!AN20="","",'Rekapitulácia stavby'!AN20)
D23: Poznámka:
D27: Náklady z rozpočtu
D28: Ostatné náklady
D30: Cena bez DPH
D32: DPH | E32: základná | F32: 0.2 | G32: z
E33: znížená | F33: 0.2 | G33: z
E34: zákl. prenesená | F34: 0.2 | G34: z | H34: =ROUND((SUM(BG92:BG93)+SUM(BG111:BG122)), 2) -> 0
E35: zníž. prenesená | F35: 0.2 | G35: z | H35: =ROUND((SUM(BH92:BH93)+SUM(BH111:BH122)), 2) -> 0
E36: nulová | F36: 0 | G36: z | H36: =ROUND((SUM(BI92:BI93)+SUM(BI111:BI122)), 2) -> 0
D38: Cena s DPH | G38: v | H38: EUR
D50: Projektant | J50: Spracovateľ
D59: Dátum a podpis: | G59: Pečiatka | J59: Dátum a podpis: | N59: Pečiatka
D61: Objednávateľ | J61: Zhotoviteľ
D70: Dátum a podpis: | G70: Pečiatka | J70: Dátum a podpis: | N70: Pečiatka
C76: REKAPITULÁCIA ROZPOČTU
C78: Stavba: | F78: =F6 -> REKONŠTRUKCIA ČOV TYPU 2XPESL25
C79: Objekt: | F79: =F7 -> PS02 - ELEKTROINŠTALÁCIA
C81: Miesto: | F81: =F9 | K81: Dátum: | M81: =IF(O9="","",O9)
C83: Objednávateľ: | F83: =E12 | K83: Projektant: | M83: =E18 -> Ing. Milan Bizub, MARMI s.r.o.
C84: Zhotoviteľ: | F84: =IF(E15="","",E15) | K84: Spracovateľ: | M84: =E21
C86: Kód - Popis | N86: Cena celkom [EUR]
C88: 1) Náklady z rozpočtu | AU88: -1
D89: M - Práce a dodávky M
D90: 21-M - Elektromontáže
...
