Workbook
Name fakt1R: #REF!

Sheet Kryci list
F1: =CONCATENATE(AA2," ",AB2," ",AC2," ",AD2) -> Krycí list rozpočtu v EUR | Z1: V module | AA1: Hlavička1 | AB1: Mena | AC1: Hlavička2 | AD1: Obdobie
C2: Stavba : Dobudovanie vodovodu Dravce - Dlhé Stráže | G2: Miesto: | Z2: Rozpočet | AA2: Krycí list rozpočtu v | AB2: EUR
G3: JKSO : | Z3: Čerpanie | AA3: Krycí list splátky v | AB3: EUR | AC3: za obdobie | AD3: Mesiac 2011
Z4: VK | AA4: Krycí list výrobnej kalkulácie v | AB4: EUR
C5: Rozpočet: | E5: Zmluva č.: | G5: Spracoval: | I5: Dňa: | J5: 15.03.2023 | Z5: VF | AA5: Krycí list splátky v | AB5: EUR | AC5: za obdobie | AD5: Mesiac 2011
C6: Odberateľ: | D6: PVS a.s. Poprad, Hraničná 662/17 | G6: IČO:
G7: DIČ:
C8: Dodávateľ: | G8: IČO:
G9: DIČ:
C10: Projektant: | G10: IČO:
G11: DIČ:
F12: =IF(B12<>0,ROUND($J$31/B12,0),0) -> 0 | J12: =IF(G12<>0,ROUND($J$31/G12,0),0) -> 0
F13: =IF(B13<>0,ROUND($J$31/B13,0),0) -> 0 | J13: =IF(G13<>0,ROUND($J$31/G13,0),0) -> 0
F14: =IF(B14<>0,ROUND($J$31/B14,0),0) -> 0 | J14: =IF(G14<>0,ROUND($J$31/G14,0),0) -> 0
B15: A | C15: ZRN | D15: Konštrukcie | E15: Špecifikovaný materiál | F15: Spolu ZRN | G15: B | H15: IN - Individuálne náklady
B16: 1 | C16: HSV: | D16: =Prehlad!H156 -> 0 | E16: =Prehlad!I156 -> 0 | F16: =D16+E16 -> 0 | G16: 6 | H16: Práce nadčas | J16: 0
B17: 2 | C17: PSV: | F17: =D17+E17 -> 0 | G17: 7 | H17: Murárske výpomoce | J17: 0
B18: 3 | C18: MCE: | D18: =Prehlad!H163 -> 0 | E18: =Prehlad!I163 -> 0 | F18: =D18+E18 -> 0 | G18: 8 | H18: Bez pevnej podlahy | J18: 0
B19: 4 | C19: Iné: | F19: =D19+E19 -> 0 | G19: 9 | J19: 0
B20: 5 | C20: Súčet: | D20: =SUM(D16:D19) -> 0 | E20: =SUM(E16:E19) -> 0 | F20: =SUM(F16:F19) -> 0 | G20: 10 | I20: Súčet riadkov 6 až 9: | J20: =SUM(J16:J19) -> 0
B21: C | D21: NUS - náklady umiestnenia stavby | G21: D | H21: ON - ostatné náklady
B22: 11 | C22: Zariadenie staveniska | E22: 0 | F22: =ROUND(((D16+E16+D17+E17+D18)*E22),2) -> 0 | G22: 16 | H22: Ostatné náklady uvedené v rozpočte | J22: =Prehlad!J171 -> 0
B23: 12 | C23: Prevádzkové vplyvy | E23: 0 | F23: =ROUND(((D16+E16+D17+E17+D18)*E23),2) -> 0 | G23: 17 | H23: Inžinierska činnosť | J23: 0
B24: 13 | C24: Sťažené podmienky | E24: 0 | F24: =ROUND(((D16+E16+D17+E17+D18)*E24),2) -> 0 | G24: 18 | H24: Projektové práce | J24: 0
B25: 14 | E25: 0 | F25: =ROUND(((D16+E16+D17+E17+D18+E18)*E25),2) -> 0 | G25: 19 | J25: 0
B26: 15 | E26: Sučet riadkov 11 až 14: | F26: =SUM(F22:F25) -> 0 | G26: 20 | I26: Sučet riadkov 16 až 19: | J26: =SUM(J22:J25) -> 0
C27: projektant, rozpočtár cenár | E27: pečiatka: | G27: E | H27: Celkové náklady
G28: 21 | I28: Súčet riadkov 5, 10, 15 a 20: | J28: =ROUND(F20,2)+J20+F26+J26 -> 0
C29: podpis: | G29: 22 | H29: DPH 20% z: | I29: =J28-I30 -> 0 | J29: =ROUND((I29*20)/100,2) -> 0
C30: dátum: | G30: 23 | H30: DPH 0% z: | I30: =SUMIF(Prehlad!O11:O9999,0,Prehlad!J11:J9999) -> 0 | J30: =ROUND((I30*0)/100,1) -> 0
G31: 24 | I31: Sučet riadkov 21 až 23: | J31: =SUM(J28:J30) -> 0
G32: F | H32: Odpočet - prípočet | J32: 0
D33: odberateľ, obstarávateľ | H33: dodávateľ, zhotoviteľ
C35: podpis: | G35: podpis:
C36: dátum: | G36: dátum:
C37: pečiatka: | G37: pečiatka:

Sheet Rekapitulacia
A1: Odberateľ: PVS a.s. Poprad, Hraničná 662/17 | E1: Spracoval: | Z1: V module | AA1: Hlavička1 | AB1: Mena | AC1: Hlavička2 | AD1: Obdobie
A2: Projektant: | E2: JKSO : | Z2: Rozpočet | AA2: Rekapitulácia rozpočtu v | AB2: EUR
A3: Dodávateľ: | E3: Dátum: 15.03.2023 | Z3: Čerpanie | AA3: Rekapitulácia splátky v | AB3: EUR | AC3: za obdobie | AD3: Mesiac 2011
Z4: VK | AA4: Rekapitulácia výrobnej kalkulácie v | AB4: EUR
A5: Stavba : Dobudovanie vodovodu Dravce - Dlhé Stráže | Z5: VF | AA5: Rekapitulácia splátky v | AB5: EUR | AC5: za obdobie | AD5: Mesiac 2011
B8: =CONCATENATE(AA2," ",AB2," ",AC2," ",AD2) -> Rekapitulácia rozpočtu v EUR
A9: Popis položky, stavebného dielu, remesla | B9: Konštrukcie | C9: Špecifikovaný | D9: Spolu | E9: Hmotnosť v t | F9: Suť v tonách | G9: Nh
C10: materiál | E10: Spolu | F10: Spolu | G10: Spolu
A12: 1 - ZEMNE PRÁCE | B12: =Prehlad!H40 -> 0 | C12: =Prehlad!I40 -> 0 | D12: =Prehlad!J40 -> 0 | E12: =Prehlad!L40 -> 112.83003 | F12: =Prehlad!N40 -> 12.2532 | G12: =Prehlad!W40 -> 8991.779
A13: 2 - ZÁKLADY | B13: =Prehlad!H46 -> 0 | C13: =Prehlad!I46 -> 0 | D13: =Prehlad!J46 -> 0 | E13: =Prehlad!L46 -> 8.9851248 | F13: =Prehlad!N46 -> 0 | G13: =Prehlad!W46 -> 22.323
A14: 3 - ZVISLÉ A KOMPLETNÉ KONŠTRUKCIE | B14: =Prehlad!H51 -> 0 | C14: =Prehlad!I51 -> 0 | D14: =Prehlad!J51 -> 0 | E14: =Prehlad!L51 -> 2.52034 | F14: =Prehlad!N51 -> 0 | G14: =Prehlad!W51 -> 9.108
A15: 4 - VODOROVNÉ KONŠTRUKCIE | B15: =Prehlad!H59 -> 0 | C15: =Prehlad!I59 -> 0 | D15: =Prehlad!J59 -> 0 | E15: =Prehlad!L59 -> 22.924479 | F15: =Prehlad!N59 -> 0 | G15: =Prehlad!W59 -> 763.838
A16: 5 - KOMUNIKÁCIE | B16: =Prehlad!H68 -> 0 | C16: =Prehlad!I68 -> 0 | D16: =Prehlad!J68 -> 0 | E16: =Prehlad!L68 -> 42.37776 | F16: =Prehlad!N68 -> 0 | G16: =Prehlad!W68 -> 34.396
A17: 8 - RÚROVÉ VEDENIA | B17: =Prehlad!H142 -> 0 | C17: =Prehlad!I142 -> 0 | D17: =Prehlad!J142 -> 0 | E17: =Prehlad!L142 -> 2.75465 | F17: =Prehlad!N142 -> 0 | G17: =Prehlad!W142 -> 1951.105
A18: 9 - OSTATNÉ KONŠTRUKCIE A PRÁCE | B18: =Prehlad!H154 -> 0 | C18: =Prehlad!I154 -> 0 | D18: =Prehlad!J154 -> 0 | E18: =Prehlad!L154 -> 0.00124 | F18: =Prehlad!N154 -> 0 | G18: =Prehlad!W154 -> 455.975
A19: PRÁCE A DODÁVKY HSV spolu: | B19: =Prehlad!H156 -> 0 | C19: =Prehlad!I156 -> 0 | D19: =Prehlad!J156 -> 0 | E19: =Prehlad!L156 -> 192.39362 | F19: =Prehlad!N156 -> 12.2532 | G19: =Prehlad!W156 -> 12228.524
A21: 272 - Vedenia rúrové vonkajšie - plynovody | B21: =Prehlad!H161 -> 0 | C21: =Prehlad!I161 -> 0 | D21: =Prehlad!J161 -> 0 | E21: =Prehlad!L161 -> 0.13075 | F21: =Prehlad!N161 -> 0 | G21: =Prehlad!W161 -> 52.3
A22: PRÁCE A DODÁVKY M spolu: | B22: =Prehlad!H163 -> 0 | C22: =Prehlad!I163 -> 0 | D22: =Prehlad!J163 -> 0 | E22: =Prehlad!L163 -> 0.13075 | F22: =Prehlad!N163 -> 0 | G22: =Prehlad!W163 -> 52.3
A24: OST - vedľajšie rozpočtové náklady | B24: =Prehlad!H169 -> 0 | C24: =Prehlad!I169 -> 0 | D24: =Prehlad!J169 -> 0 | E24: =Prehlad!L169 -> 0 | F24: =Prehlad!N169 -> 0 | G24: =Prehlad!W169 -> 0
A25: OSTATNÉ spolu: | B25: =Prehlad!H171 -> 0 | C25: =Prehlad!I171 -> 0 | D25: =Prehlad!J171 -> 0 | E25: =Prehlad!L171 -> 0 | F25: =Prehlad!N171 -> 0 | G25: =Prehlad!W171 -> 0
A28: Za rozpočet celkom | B28: =Prehlad!H173 -> 0 | C28: =Prehlad!I173 -> 0 | D28: =Prehlad!J173 -> 0 | E28: =Prehlad!L173 -> 192.52437 | F28: =Prehlad!N173 -> 12.2532 | G28: =Prehlad!W173 -> 12280.824

Sheet Prehlad
A1: Odberateľ: PVS a.s. Poprad, Hraničná 662/17 | E1: Spracoval: | Z1: V module | AA1: Hlavička1 | AB1: Mena | AC1: Hlavička2 | AD1: Obdobie | AE1: Počet des.miest | AF1: Formát
A2: Projektant: | E2: JKSO : | Z2: Rozpočet | AA2: Prehľad rozpočtových nákladov v | AB2: EUR | AE2: 1 | AF2: 123.5
A3: Dodávateľ: | E3: Dátum: 15.03.2023 | Z3: Čerpanie | AA3: Súpis vykonaných prác a dodávok v | AB3: EUR | AC3: za obdobie | AD3: Mesiac 2011 | AE3: 2 | AF3: 123.46
Z4: VK | AA4: Prehľad kalkulovaných nákladov v | AB4: EUR | AE4: 3 | AF4: 123.457
A5: Stavba : Dobudovanie vodovodu Dravce - Dlhé Stráže | Z5: VF | AA5: Súpis vykonaných prác a dodávok v | AB5: EUR | AC5: za obdobie | AD5: Mesiac 2011 | AE5: 4 | AF5: 123.4567
AE6: N | AF6: 123.46
D8: =CONCATENATE(AA2," ",AB2," ",AC2," ",AD2) -> Prehľad rozpočtových nákladov v EUR
A9: Por. | B9: Kód | C9: Kód položky | D9: Popis položky, stavebného dielu, remesla, | E9: Množstvo | F9: Merná | G9: Jednotková | H9: Konštrukcie | I9: Špecifikovaný | J9: Spolu | K9: Hmotnosť v tonách | M9: Suť v tonách | O9: DPH | P9: Pozícia | Q9: Množstvo | R9: Množstvo | S9: Množstvo | T9: Vyňatý | U9: Vysoká sadzba | V9: Typ | W9: Nh | X9: X | Y9: Y | Z9: Klasifikácia | AA9: Katalógové | AB9: Typ | AC9: AC | AD9: AD | AE9: Jedn. cena | AF9: Index JC | AG9: Množstvo | AH9: Index mn. | AJ9: Zaradenie | AK9: Lev0
A10: číslo | B10: cen. | D10: výkaz-výmer | E10: výmera | F10: jednotka | G10: cena | H10: a práce | I10: materiál | K10: Jednotková | L10: Spolu | M10: Jednotková | N10: Spolu | O10: % | Q10: rozpočtované | R10: od začiatku | S10: dodatok | T10: z režimu stavba | U10: DPH ( materiál ) | V10: položky | Z10: produkcie | AA10: číslo | AB10: ceny | AJ10: pre KL | AK10: pozícia
B12: PRÁCE A DODÁVKY HSV
B13: 1 - ZEMNE PRÁCE
A14: 1 | B14: 272 | C14: 105120050 | D14: Vyrúbanie stromov s priemerom kmeňa do 50 cm, s odstranením pňa a ich likvidáciou | E14: 55 | F14: kus | L14: =E14*K14 -> 0 | N14: =E14*M14 -> 0 | O14: 20 | P14: E1 | V14: E | X14: 10512-0050 | Y14: 105120050 | Z14: . . | AB14: 1 | AJ14: EK | AK14: S
A15: 2 | B15: 271 | C15: 110011020 | D15: Vytýčenie trasy vodovodu, kanalizácie vo svahu | E15: 2.615 | F15: km | K15: 0.61313 | L15: =E15*K15 -> 1.603335 | N15: =E15*M15 -> 0 | O15: 20 | P15: E1 | V15: E | W15: 256.076 | X15: 11001-1020 | Y15: 110011020 | Z15: 45.11.21 | AB15: 1 | AJ15: EK | AK15: S
A16: 3 | B16: 272 | C16: 113106600 | D16: Rozobratie zámkovej dlažby vrátane uloženia na paletu | E16: 24 | F16: m2 | L16: =E16*K16 -> 0 | M16: 0.23 | N16: =E16*M16 -> 5.52 | O16: 20 | P16: E1 | V16: E | W16: 5.688 | X16: 11310-6600 | Y16: 113106600 | Z16: 45.11.11 | AB16: 1 | AJ16: EK | AK16: S
A17: 4 | B17: 221 | C17: 113107142 | D17: Odstránenie podkladov alebo krytov živičných hr. 50-100 mm, do 200 m2 | E17: 37.2 | F17: m2 | L17: =E17*K17 -> 0 | M17: 0.181 | N17: =E17*M17 -> 6.7332 | O17: 20 | P17: E1 | V17: E | W17: 13.95 | X17: 11310-7142 | Y17: 113107142 | Z17: 45.11.11 | AB17: 1 | AJ17: EK | AK17: S
A18: 5 | B18: 272 | C18: 119001401 | D18: Dočasné zaistenie potrubia oceľ. alebo liat. DN do 200 mm | E18: 3 | F18: m | K18: 0.00331 | L18: =E18*K18 -> 0.00993 | N18: =E18*M18 -> 0 | O18: 20 | P18: E1 | V18: E | W18: 2.079 | X18: 11900-1401 | Y18: 119001401 | Z18: 45.11.21 | AB18: 1 | AJ18: EK | AK18: S
A19: 6 | B19: 272 | C19: 119001422 | D19: Dočasné zaistenie káblov do 6 káblov | E19: 1 | F19: m | K19: 0.05516 | L19: =E19*K19 -> 0.05516 | N19: =E19*M19 -> 0 | O19: 20 | P19: E1 | V19: E | W19: 0.74 | X19: 11900-1422 | Y19: 119001422 | Z19: 45.11.21 | AB19: 1 | AJ19: EK | AK19: S
A20: 7 | B20: 001 | C20: 120001101 | D20: Príplatok za sťaženú vykopávku v blízkosti podzem. vedenia | E20: 20 | F20: m3 | L20: =E20*K20 -> 0 | N20: =E20*M20 -> 0 | O20: 20 | P20: E1 | V20: E | W20: 30.96 | X20: 12000-1101 | Y20: 120001101 | Z20: 45.11.21 | AB20: 1 | AJ20: EK | AK20: S
A21: 8 | B21: 272 | C21: 121101101 | D21: Odstránenie ornice s premiestnením do 50 m | E21: 317.7 | F21: m3 | L21: =E21*K21 -> 0 | N21: =E21*M21 -> 0 | O21: 20 | P21: E1 | V21: E | W21: 11.12 | X21: 12110-1101 | Y21: 121101101 | Z21: 45.11.21 | AB21: 1 | AJ21: EK | AK21: S
A22: 9 | B22: 272 | C22: 131201201 | D22: Hĺbenie jám zapaž. v horn. tr. 3 do 100 m3 | E22: 352.098 | F22: m3 | L22: =E22*K22 -> 0 | N22: =E22*M22 -> 0 | O22: 20 | P22: E1 | V22: E | W22: 786.235 | X22: 13120-1201 | Y22: 131201201 | Z22: 45.11.21 | AB22: 1 | AJ22: EK | AK22: S
A23: 10 | B23: 272 | C23: 131201209 | D23: Príplatok za lepivosť horn. tr. 3 | E23: 105.629 | F23: m3 | L23: =E23*K23 -> 0 | N23: =E23*M23 -> 0 | O23: 20 | P23: E1 | V23: E | W23: 10.246 | X23: 13120-1209 | Y23: 131201209 | Z23: 45.11.21 | AB23: 1 | AJ23: EK | AK23: S
A24: 11 | B24: 001 | C24: 132201203 | D24: Hĺbenie rýh šírka do 2 m v horn. tr. 3 nad 1 000 do 10 000 m3 | E24: 3904.61 | F24: m3 | L24: =E24*K24 -> 0 | N24: =E24*M24 -> 0 | O24: 20 | P24: E1 | V24: E | W24: 1226.048 | X24: 13220-1203 | Y24: 132201203 | Z24: 45.11.21 | AB24: 1 | AJ24: EK | AK24: S
A25: 12 | B25: 272 | C25: 132201209 | D25: Príplatok za lepivosť horniny tr.3 v rýhach š. do 200 cm | E25: 1171.383 | F25: m3 | L25: =E25*K25 -> 0 | N25: =E25*M25 -> 0 | O25: 20 | P25: E1 | V25: E | W25: 98.396 | X25: 13220-1209 | Y25: 132201209 | Z25: 45.11.21 | AB25: 1 | AJ25: EK | AK25: S
A26: 13 | B26: 272 | C26: 132401201 | D26: Hĺbenie rýh šírka do 2 m v horn. tr. 5 ľubovoľné množstvo | E26: 682.37 | F26: m3 | K26: 0.01044 | L26: =E26*K26 -> 7.1239428 | N26: =E26*M26 -> 0 | O26: 20 | P26: E1 | V26: E | W26: 1143.652 | X26: 13240-1201 | Y26: 132401201 | Z26: 45.11.24 | AB26: 1 | AJ26: EK | AK26: S
A27: 14 | B27: 272 | C27: 141802132 | D27: Riadené mikrotunelovanie do 25 m, priemer do 160 mm, tr. 3 | E27: 12 | F27: m | K27: 0.0166 | L27: =E27*K27 -> 0.1992 | N27: =E27*M27 -> 0 | O27: 20 | P27: E1 | V27: E | W27: 53.208 | X27: 14180-2132 | Y27: 141802132 | Z27: 45.11.21 | AB27: 1 | AJ27: EK | AK27: S
A28: 15 | B28: MAT | C28: 2861D0444 | D28: Potrubie vodovodné Wavin TS, SDR17 - 160 x 9,5 x 12m | E28: 12 | F28: m | L28: =E28*K28 -> 0 | N28: =E28*M28 -> 0 | O28: 20 | P28: E1 | V28: D | X28: 2861D0444 | Y28: 2861D0444 | Z28: 25.21.22 | AA28: 3015553 | AB28: 2 | AJ28: EZ | AK28: S
A29: 16 | B29: 272 | C29: 151101101 | D29: Zhotovenie paženia rýh pre podz. vedenie príložné hl. do 2 m | E29: 3932.03 | F29: m2 | K29: 0.00021 | L29: =E29*K29 -> 0.8257263 | N29: =E29*M29 -> 0 | O29: 20 | P29: E1 | V29: E | W29: 927.959 | X29: 15110-1101 | Y29: 151101101 | Z29: 45.11.21 | AB29: 1 | AJ29: EK | AK29: S
A30: 17 | B30: 272 | C30: 151101102 | D30: Zhotovenie paženia rýh pre podz. vedenie príložné hl. do 4 m | E30: 423.76 | F30: m2 | K30: 0.00062 | L30: =E30*K30 -> 0.2627312 | N30: =E30*M30 -> 0 | O30: 20 | P30: E1 | V30: E | W30: 202.981 | X30: 15110-1102 | Y30: 151101102 | Z30: 45.11.21 | AB30: 1 | AJ30: EK | AK30: S
A31: 18 | B31: 272 | C31: 151101111 | D31: Odstránenie paženia rýh pre podz. vedenie príložné hl. do 2 m | E31: 3932.03 | F31: m2 | L31: =E31*K31 -> 0 | N31: =E31*M31 -> 0 | O31: 20 | P31: E1 | V31: E | W31: 275.242 | X31: 15110-1111 | Y31: 151101111 | Z31: 45.11.21 | AB31: 1 | AJ31: EK | AK31: S
A32: 19 | B32: 272 | C32: 151101112 | D32: Odstránenie paženia rýh pre podz. vedenie príložné hl. do 4 m | E32: 423.76 | F32: m2 | L32: =E32*K32 -> 0 | N32: =E32*M32 -> 0 | O32: 20 | P32: E1 | V32: E | W32: 138.57 | X32: 15110-1112 | Y32: 151101112 | Z32: 45.11.21 | AB32: 1 | AJ32: EK | AK32: S
A33: 20 | B33: 272 | C33: 174101101 | D33: Zásyp zhutnený jám, rýh, šachiet alebo okolo objektu | E33: 3320.215 | F33: m3 | L33: =E33*K33 -> 0 | N33: =E33*M33 -> 0 | O33: 20 | P33: E1 | V33: E | W33: 916.379 | X33: 17410-1101 | Y33: 174101101 | Z33: 45.11.21 | AB33: 1 | AJ33: EK | AK33: S
A34: 21 | B34: MAT | C34: 583373680 | D34: Štrkopiesok 0-63 | E34: 102.75 | F34: t | K34: 1 | L34: =E34*K34 -> 102.75 | N34: =E34*M34 -> 0 | O34: 20 | P34: E1 | V34: D | X34: 583373680 | Y34: 583373680 | Z34: 14.21.11 | AB34: 2 | AJ34: EZ | AK34: S
A35: 22 | B35: 001 | C35: 175101201 | D35: Obsyp objektu bez prehodenia sypaniny | E35: 43.875 | F35: m3 | L35: =E35*K35 -> 0 | N35: =E35*M35 -> 0 | O35: 20 | P35: E1 | V35: E | W35: 88.759 | X35: 17510-1201 | Y35: 175101201 | Z35: 45.11.21 | AB35: 1 | AJ35: EK | AK35: S
A36: 23 | B36: 001 | C36: 175101209 | D36: Obsyp objektu príplatok za prehodenie sypaniny | E36: 43.875 | F36: m3 | L36: =E36*K36 -> 0 | N36: =E36*M36 -> 0 | O36: 20 | P36: E1 | V36: E | W36: 40.233 | X36: 17510-1209 | Y36: 175101209 | Z36: 45.11.21 | AB36: 1 | AJ36: EK | AK36: S
A37: 24 | B37: 272 | C37: 17530110-P | D37: Obsyp potrubia vodovodného potrubia z RC rúr s prehodením výkopku | E37: 1146.429 | F37: m3 | L37: =E37*K37 -> 0 | N37: =E37*M37 -> 0 | O37: 20 | P37: E1 | V37: E | W37: 2196.558 | X37: 17530-1104 | Y37: 17530110-P | Z37: 45.11.21 | AB37: 7 | AJ37: EK | AK37: S
A38: 25 | B38: 001 | C38: 181301114 | D38: Rozprestretie ornice, sklon do 1:5 nad 500 m2 hr. do 25 cm | E38: 1270.8 | F38: m2 | L38: =E38*K38 -> 0 | N38: =E38*M38 -> 0 | O38: 20 | P38: E1 | V38: E | W38: 47.02 | X38: 18130-1114 | Y38: 181301114 | Z38: 45.11.21 | AB38: 1 | AJ38: EK | AK38: S
A39: 26 | B39: 231 | C39: 182001121 | D39: Plošná úprava terénu, nerovnosti do +-150 mm v rovine | E39: 4480 | F39: m2 | L39: =E39*K39 -> 0 | N39: =E39*M39 -> 0 | O39: 20 | P39: E1 | V39: E | W39: 519.68 | X39: 18200-1121 | Y39: 182001121 | Z39: 45.11.21 | AB39: 1 | AJ39: EK | AK39: S
D40: 1 - ZEMNE PRÁCE spolu: | E40: =J40 -> 0 | L40: =SUM(L12:L39) -> 112.83003 | N40: =SUM(N12:N39) -> 12.2532 | W40: =SUM(W12:W39) -> 8991.779
B42: 2 - ZÁKLADY
A43: 27 | B43: 011 | C43: 275313611 | D43: Základové pätky z betónu prostého tr. C16/20 | E43: 3.68 | F43: m3 | K43: 2.41931 | L43: =E43*K43 -> 8.9030608 | N43: =E43*M43 -> 0 | O43: 20 | P43: E2 | V43: E | W43: 1.678 | X43: 27531-3611 | Y43: 275313611 | Z43: 45.25.32 | AB43: 1 | AJ43: EK | AK43: S
...
