Workbook
Name fakt1R: #REF!

Sheet Kryci list
F1: =CONCATENATE(AA2," ",AB2," ",AC2," ",AD2) -> Krycí list rozpočtu v EUR | Z1: V module | AA1: Hlavička1 | AB1: Mena | AC1: Hlavička2 | AD1: Obdobie
C2: Stavba : Dobudovanie vodovodu Dravce - Dlhé Stráže | G2: Miesto: | Z2: Rozpočet | AA2: Krycí list rozpočtu v | AB2: EUR
G3: JKSO : | Z3: Čerpanie | AA3: Krycí list splátky v | AB3: EUR | AC3: za obdobie | AD3: Mesiac 2011
Z4: VK | AA4: Krycí list výrobnej kalkulácie v | AB4: EUR
C5: Rozpočet: | E5: Zmluva č.: | G5: Spracoval: | I5: Dňa: | J5: 15.03.2023 | Z5: VF | AA5: Krycí list splátky v | AB5: EUR | AC5: za obdobie | AD5: Mesiac 2011
C6: Odberateľ: | D6: PVS a.s. Poprad, Hraničná 662/17 | G6: IČO:
G7: DIČ:
C8: Dodávateľ: | G8: IČO:
G9: DIČ:
C10: Projektant: | G10: IČO:
G11: DIČ:
F12: =IF(B12<>0,ROUND($J$31/B12,0),0) -> 0 | J12: =IF(G12<>0,ROUND($J$31/G12,0),0) -> 0
F13: =IF(B13<>0,ROUND($J$31/B13,0),0) -> 0 | J13: =IF(G13<>0,ROUND($J$31/G13,0),0) -> 0
F14: =IF(B14<>0,ROUND($J$31/B14,0),0) -> 0 | J14: =IF(G14<>0,ROUND($J$31/G14,0),0) -> 0
B15: A | C15: ZRN | D15: Konštrukcie | E15: Špecifikovaný materiál | F15: Spolu ZRN | G15: B | H15: IN - Individuálne náklady
B16: 1 | C16: HSV: | D16: =Prehlad!H156 -> 0 | E16: =Prehlad!I156 -> 0 | F16: =D16+E16 -> 0 | G16: 6 | H16: Práce nadčas | J16: 0
B17: 2 | C17: PSV: | F17: =D17+E17 -> 0 | G17: 7 | H17: Murárske výpomoce | J17: 0
B18: 3 | C18: MCE: | D18: =Prehlad!H163 -> 0 | E18: =Prehlad!I163 -> 0 | F18: =D18+E18 -> 0 | G18: 8 | H18: Bez pevnej podlahy | J18: 0
B19: 4 | C19: Iné: | F19: =D19+E19 -> 0 | G19: 9 | J19: 0
B20: 5 | C20: Súčet: | D20: =SUM(D16:D19) -> 0 | E20: =SUM(E16:E19) -> 0 | F20: =SUM(F16:F19) -> 0 | G20: 10 | I20: Súčet riadkov 6 až 9: | J20: =SUM(J16:J19) -> 0
B21: C | D21: NUS - náklady umiestnenia stavby | G21: D | H21: ON - ostatné náklady
B22: 11 | C22: Zariadenie staveniska | E22: 0 | F22: =ROUND(((D16+E16+D17+E17+D18)*E22),2) -> 0 | G22: 16 | H22: Ostatné náklady uvedené v rozpočte | J22: =Prehlad!J171 -> 0
B23: 12 | C23: Prevádzkové vplyvy | E23: 0 | F23: =ROUND(((D16+E16+D17+E17+D18)*E23),2) -> 0 | G23: 17 | H23: Inžinierska činnosť | J23: 0
B24: 13 | C24: Sťažené podmienky | E24: 0 | F24: =ROUND(((D16+E16+D17+E17+D18)*E24),2) -> 0 | G24: 18 | H24: Projektové práce | J24: 0
B25: 14 | E25: 0 | F25: =ROUND(((D16+E16+D17+E17+D18+E18)*E25),2) -> 0 | G25: 19 | J25: 0
B26: 15 | E26: Sučet riadkov 11 až 14: | F26: =SUM(F22:F25) -> 0 | G26: 20 | I26: Sučet riadkov 16 až 19: | J26: =SUM(J22:J25) -> 0
C27: projektant, rozpočtár cenár | E27: pečiatka: | G27: E | H27: Celkové náklady
G28: 21 | I28: Súčet riadkov 5, 10, 15 a 20: | J28: =ROUND(F20,2)+J20+F26+J26 -> 0
C29: podpis: | G29: 22 | H29: DPH 20% z: | I29: =J28-I30 -> 0 | J29: =ROUND((I29*20)/100,2) -> 0
C30: dátum: | G30: 23 | H30: DPH 0% z: | I30: =SUMIF(Prehlad!O11:O9999,0,Prehlad!J11:J9999) -> 0 | J30: =ROUND((I30*0)/100,1) -> 0
G31: 24 | I31: Sučet riadkov 21 až 23: | J31: =SUM(J28:J30) -> 0
G32: F | H32: Odpočet - prípočet | J32: 0
D33: odberateľ, obstarávateľ | H33: dodávateľ, zhotoviteľ
C35: podpis: | G35: podpis:
C36: dátum: | G36: dátum:
C37: pečiatka: | G37: pečiatka:

Sheet Rekapitulacia
A1: Odberateľ: PVS a.s. Poprad, Hraničná 662/17 | E1: Spracoval: | Z1: V module | AA1: Hlavička1 | AB1: Mena | AC1: Hlavička2 | AD1: Obdobie
A2: Projektant: | E2: JKSO : | Z2: Rozpočet | AA2: Rekapitulácia rozpočtu v | AB2: EUR
A3: Dodávateľ: | E3: Dátum: 15.03.2023 | Z3: Čerpanie | AA3: Rekapitulácia splátky v | AB3: EUR | AC3: za obdobie | AD3: Mesiac 2011
Z4: VK | AA4: Rekapitulácia výrobnej kalkulácie v | AB4: EUR
A5: Stavba : Dobudovanie vodovodu Dravce - Dlhé Stráže | Z5: VF | AA5: Rekapitulácia splátky v | AB5: EUR | AC5: za obdobie | AD5: Mesiac 2011
B8: =CONCATENATE(AA2," ",AB2," ",AC2," ",AD2) -> Rekapitulácia rozpočtu v EUR
A9: Popis položky, stavebného dielu, remesla | B9: Konštrukcie | C9: Špecifikovaný | D9: Spolu | E9: Hmotnosť v t | F9: Suť v tonách | G9: Nh
C10: materiál | E10: Spolu | F10: Spolu | G10: Spolu
A12: 1 - ZEMNE PRÁCE | B12: =Prehlad!H40 -> 0 | C12: =Prehlad!I40 -> 0 | D12: =Prehlad!J40 -> 0 | E12: =Prehlad!L40 -> 112.83003 | F12: =Prehlad!N40 -> 12.2532 | G12: =Prehlad!W40 -> 8991.779
A13: 2 - ZÁKLADY | B13: =Prehlad!H46 -> 0 | C13: =Prehlad!I46 -> 0 | D13: =Prehlad!J46 -> 0 | E13: =Prehlad!L46 -> 8.9851248 | F13: =Prehlad!N46 -> 0 | G13: =Prehlad!W46 -> 22.323
A14: 3 - ZVISLÉ A KOMPLETNÉ KONŠTRUKCIE | B14: =Prehlad!H51 -> 0 | C14: =Prehlad!I51 -> 0 | D14: =Prehlad!J51 -> 0 | E14: =Prehlad!L51 -> 2.52034 | F14: =Prehlad!N51 -> 0 | G14: =Prehlad!W51 -> 9.108
A15: 4 - VODOROVNÉ KONŠTRUKCIE | B15: =Prehlad!H59 -> 0 | C15: =Prehlad!I59 -> 0 | D15: =Prehlad!J59 -> 0 | E15: =Prehlad!L59 -> 22.924479 | F15: =Prehlad!N59 -> 0 | G15: =Prehlad!W59 -> 763.838
A16: 5 - KOMUNIKÁCIE | B16: =Prehlad!H68 -> 0 | C16: =Prehlad!I68 -> 0 | D16: =Prehlad!J68 -> 0 | E16: =Prehlad!L68 -> 42.37776 | F16: =Prehlad!N68 -> 0 | G16: =Prehlad!W68 -> 34.396
A17: 8 - RÚROVÉ VEDENIA | B17: =Prehlad!H142 -> 0 | C17: =Prehlad!I142 -> 0 | D17: =Prehlad!J142 -> 0 | E17: =Prehlad!L142 -> 2.75465 | F17: =Prehlad!N142 -> 0 | G17: =Prehlad!W142 -> 1951.105
A18: 9 - OSTATNÉ KONŠTRUKCIE A PRÁCE | B18: =Prehlad!H154 -> 0 | C18: =Prehlad!I154 -> 0 | D18: =Prehlad!J154 -> 0 | E18: =Prehlad!L154 -> 0.00124 | F18: =Prehlad!N154 -> 0 | G18: =Prehlad!W154 -> 455.975
A19: PRÁCE A DODÁVKY HSV spolu: | B19: =Prehlad!H156 -> 0 | C19: =Prehlad!I156 -> 0 | D19: =Prehlad!J156 -> 0 | E19: =Prehlad!L156 -> 192.39362 | F19: =Prehlad!N156 -> 12.2532 | G19: =Prehlad!W156 -> 12228.524
A21: 272 - Vedenia rúrové vonkajšie - plynovody | B21: =Prehlad!H161 -> 0 | C21: =Prehlad!I161 -> 0 | D21: =Prehlad!J161 -> 0 | E21: =Prehlad!L161 -> 0.13075 | F21: =Prehlad!N161 -> 0 | G21: =Prehlad!W161 -> 52.3
A22: PRÁCE A DODÁVKY M spolu: | B22: =Prehlad!H163 -> 0 | C22: =Prehlad!I163 -> 0 | D22: =Prehlad!J163 -> 0 | E22: =Prehlad!L163 -> 0.13075 | F22: =Prehlad!N163 -> 0 | G22: =Prehlad!W163 -> 52.3
A24: OST - vedľajšie rozpočtové náklady | B24: =Prehlad!H169 -> 0 | C24: =Prehlad!I169 -> 0 | D24: =Prehlad!J169 -> 0 | E24: =Prehlad!L169 -> 0 | F24: =Prehlad!N169 -> 0 | G24: =Prehlad!W169 -> 0
A25: OSTATNÉ spolu: | B25: =Prehlad!H171 -> 0 | C25: =Prehlad!I171 -> 0 | D25: =Prehlad!J171 -> 0 | E25: =Prehlad!L171 -> 0 | F25: =Prehlad!N171 -> 0 | G25: =Prehlad!W171 -> 0
A28: Za rozpočet celkom | B28: =Prehlad!H173 -> 0 | C28: =Prehlad!I173 -> 0 | D28: =Prehlad!J173 -> 0 | E28: =Prehlad!L173 -> 192.52437 | F28: =Prehlad!N173 -> 12.2532 | G28: =Prehlad!W173 -> 12280.824

Sheet Prehlad
A1: Odberateľ: PVS a.s. Poprad, Hraničná 662/17 | E1: Spracoval: | Z1: V module | AA1: Hlavička1 | AB1: Mena | AC1: Hlavička2 | AD1: Obdobie | AE1: Počet des.miest | AF1: Formát
A2: Projektant: | E2: JKSO : | Z2: Rozpočet | AA2: Prehľad rozpočtových nákladov v | AB2: EUR | AE2: 1 | AF2: 123.5
A3: Dodávateľ: | E3: Dátum: 15.03.2023 | Z3: Čerpanie | AA3: Súpis vykonaných prác a dodávok v | AB3: EUR | AC3: za obdobie | AD3: Mesiac 2011 | AE3: 2 | AF3: 123.46
Z4: VK | AA4: Prehľad kalkulovaných nákladov v | AB4: EUR | AE4: 3 | AF4: 123.457
A5: Stavba : Dobudovanie vodovodu Dravce - Dlhé Stráže | Z5: VF | AA5: Súpis vykonaných prác a dodávok v | AB5: EUR | AC5: za obdobie | AD5: Mesiac 2011 | AE5: 4 | AF5: 123.4567
AE6: N | AF6: 123.46
D8: =CONCATENATE(AA2," ",AB2," ",AC2," ",AD2) -> Prehľad rozpočtových nákladov v EUR
A9: Por. | B9: Kód | C9: Kód položky | D9: Popis položky, stavebného dielu, remesla, | E9: Množstvo | F9: Merná | G9: Jednotková | H9: Konštrukcie | I9: Špecifikovaný | J9: Spolu | K9: Hmotnosť v tonách | M9: Suť v tonách | O9: DPH | P9: Pozícia | Q9: Množstvo | R9: Množstvo | S9: Množstvo | T9: Vyňatý | U9: Vysoká sadzba | V9: Typ | W9: Nh | X9: X | Y9: Y | Z9: Klasifikácia | AA9: Katalógové | AB9: Typ | AC9: AC | AD9: AD | AE9: Jedn. cena | AF9: Index JC | AG9: Množstvo | AH9: Index mn. | AJ9: Zaradenie | AK9: Lev0
A10: číslo | B10: cen. | D10: výkaz-výmer | E10: výmera | F10: jednotka | G10: cena | H10: a práce | I10: materiál | K10: Jednotková | L10: Spolu | M10: Jednotková | N10: Spolu | O10: % | Q10: rozpočtované | R10: od začiatku | S10: dodatok | T10: z režimu stavba | U10: DPH ( materiál ) | V10: položky | Z10: produkcie | AA10: číslo | AB10: ceny | AJ10: pre KL | AK10: pozícia
B12: PRÁCE A DODÁVKY HSV
B13: 1 - ZEMNE PRÁCE
A14: 1 | B14: 272 | C14: 105120050 | D14: Vyrúbanie stromov s priemerom kmeňa do 50 cm, s odstranením pňa a ich likvidáciou | E14: 55 | F14: kus | L14: =E14*K14 -> 0 | N14: =E14*M14 -> 0 | O14: 20 | P14: E1 | V14: E | X14: 10512-0050 | Y14: 105120050 | Z14: . . | AB14: 1 | AJ14: EK | AK14: S
A15: 2 | B15: 271 | C15: 110011020 | D15: Vytýčenie trasy vodovodu, kanalizácie vo svahu | E15: 2.615 | F15: km | K15: 0.61313 | L15: =E15*K15 -> 1.603335 | N15: =E15*M15 -> 0 | O15: 20 | P15: E1 | V15: E | W15: 256.076 | X15: 11001-1020 | Y15: 110011020 | Z15: 45.11.21 | AB15: 1 | AJ15: EK | AK15: S
A16: 3 | B16: 272 | C16: 113106600 | D16: Rozobratie zámkovej dlažby vrátane uloženia na paletu | E16: 24 | F16: m2 | L16: =E16*K16 -> 0 | M16: 0.23 | N16: =E16*M16 -> 5.52 | O16: 20 | P16: E1 | V16: E | W16: 5.688 | X16: 11310-6600 | Y16: 113106600 | Z16: 45.11.11 | AB16: 1 | AJ16: EK | AK16: S
A17: 4 | B17: 221 | C17: 113107142 | D17: Odstránenie podkladov alebo krytov živičných hr. 50-100 mm, do 200 m2 | E17: 37.2 | F17: m2 | L17: =E17*K17 -> 0 | M17: 0.181 | N17: =E17*M17 -> 6.7332 | O17: 20 | P17: E1 | V17: E | W17: 13.95 | X17: 11310-7142 | Y17: 113107142 | Z17: 45.11.11 | AB17: 1 | AJ17: EK | AK17: S
A18: 5 | B18: 272 | C18: 119001401 | D18: Dočasné zaistenie potrubia oceľ. alebo liat. DN do 200 mm | E18: 3 | F18: m | K18: 0.00331 | L18: =E18*K18 -> 0.00993 | N18: =E18*M18 -> 0 | O18: 20 | P18: E1 | V18: E | W18: 2.079 | X18: 11900-1401 | Y18: 119001401 | Z18: 45.11.21 | AB18: 1 | AJ18: EK | AK18: S
A19: 6 | B19: 272 | C19: 119001422 | D19: Dočasné zaistenie káblov do 6 káblov | E19: 1 | F19: m | K19: 0.05516 | L19: =E19*K19 -> 0.05516 | N19: =E19*M19 -> 0 | O19: 20 | P19: E1 | V19: E | W19: 0.74 | X19: 11900-1422 | Y19: 119001422 | Z19: 45.11.21 | AB19: 1 | AJ19: EK | AK19: S
A20: 7 | B20: 001 | C20: 120001101 | D20: Príplatok za sťaženú vykopávku v blízkosti podzem. vedenia | E20: 20 | F20: m3 | L20: =E20*K20 -> 0 | N20: =E20*M20 -> 0 | O20: 20 | P20: E1 | V20: E | W20: 30.96 | X20: 12000-1101 | Y20: 120001101 | Z20: 45.11.21 | AB20: 1 | AJ20: EK | AK20: S
A21: 8 | B21: 272 | C21: 121101101 | D21: Odstránenie ornice s premiestnením do 50 m | E21: 317.7 | F21: m3 | L21: =E21*K21 -> 0 | N21: =E21*M21 -> 0 | O21: 20 | P21: E1 | V21: E | W21: 11.12 | X21: 12110-1101 | Y21: 121101101 | Z21: 45.11.21 | AB21: 1 | AJ21: EK | AK21: S
A22: 9 | B22: 272 | C22: 131201201 | D22: Hĺbenie jám zapaž. v horn. tr. 3 do 100 m3 | E22: 352.098 | F22: m3 | L22: =E22*K22 -> 0 | N22: =E22*M22 -> 0 | O22: 20 | P22: E1 | V22: E | W22: 786.235 | X22: 13120-1201 | Y22: 131201201 | Z22: 45.11.21 | AB22: 1 | AJ22: EK | AK22: S
A23: 10 | B23: 272 | C23: 131201209 | D23: Príplatok za lepivosť horn. tr. 3 | E23: 105.629 | F23: m3 | L23: =E23*K23 -> 0 | N23: =E23*M23 -> 0 | O23: 20 | P23: E1 | V23: E | W23: 10.246 | X23: 13120-1209 | Y23: 131201209 | Z23: 45.11.21 | AB23: 1 | AJ23: EK | AK23: S
A24: 11 | B24: 001 | C24: 132201203 | D24: Hĺbenie rýh šírka do 2 m v horn. tr. 3 nad 1 000 do 10 000 m3 | E24: 3904.61 | F24: m3 | L24: =E24*K24 -> 0 | N24: =E24*M24 -> 0 | O24: 20 | P24: E1 | V24: E | W24: 1226.048 | X24: 13220-1203 | Y24: 132201203 | Z24: 45.11.21 | AB24: 1 | AJ24: EK | AK24: S
A25: 12 | B25: 272 | C25: 132201209 | D25: Príplatok za lepivosť horniny tr.3 v rýhach š. do 200 cm | E25: 1171.383 | F25: m3 | L25: =E25*K25 -> 0 | N25: =E25*M25 -> 0 | O25: 20 | P25: E1 | V25: E | W25: 98.396 | X25: 13220-1209 | Y25: 132201209 | Z25: 45.11.21 | AB25: 1 | AJ25: EK | AK25: S
A26: 13 | B26: 272 | C26: 132401201 | D26: Hĺbenie rýh šírka do 2 m v horn. tr. 5 ľubovoľné množstvo | E26: 682.37 | F26: m3 | K26: 0.01044 | L26: =E26*K26 -> 7.1239428 | N26: =E26*M26 -> 0 | O26: 20 | P26: E1 | V26: E | W26: 1143.652 | X26: 13240-1201 | Y26: 132401201 | Z26: 45.11.24 | AB26: 1 | AJ26: EK | AK26: S
A27: 14 | B27: 272 | C27: 141802132 | D27: Riadené mikrotunelovanie do 25 m, priemer do 160 mm, tr. 3 | E27: 12 | F27: m | K27: 0.0166 | L27: =E27*K27 -> 0.1992 | N27: =E27*M27 -> 0 | O27: 20 | P27: E1 | V27: E | W27: 53.208 | X27: 14180-2132 | Y27: 141802132 | Z27: 45.11.21 | AB27: 1 | AJ27: EK | AK27: S
A28: 15 | B28: MAT | C28: 2861D0444 | D28: Potrubie vodovodné Wavin TS, SDR17 - 160 x 9,5 x 12m | E28: 12 | F28: m | L28: =E28*K28 -> 0 | N28: =E28*M28 -> 0 | O28: 20 | P28: E1 | V28: D | X28: 2861D0444 | Y28: 2861D0444 | Z28: 25.21.22 | AA28: 3015553 | AB28: 2 | AJ28: EZ | AK28: S
A29: 16 | B29: 272 | C29: 151101101 | D29: Zhotovenie paženia rýh pre podz. vedenie príložné hl. do 2 m | E29: 3932.03 | F29: m2 | K29: 0.00021 | L29: =E29*K29 -> 0.8257263 | N29: =E29*M29 -> 0 | O29: 20 | P29: E1 | V29: E | W29: 927.959 | X29: 15110-1101 | Y29: 151101101 | Z29: 45.11.21 | AB29: 1 | AJ29: EK | AK29: S
A30: 17 | B30: 272 | C30: 151101102 | D30: Zhotovenie paženia rýh pre podz. vedenie príložné hl. do 4 m | E30: 423.76 | F30: m2 | K30: 0.00062 | L30: =E30*K30 -> 0.2627312 | N30: =E30*M30 -> 0 | O30: 20 | P30: E1 | V30: E | W30: 202.981 | X30: 15110-1102 | Y30: 151101102 | Z30: 45.11.21 | AB30: 1 | AJ30: EK | AK30: S
A31: 18 | B31: 272 | C31: 151101111 | D31: Odstránenie paženia rýh pre podz. vedenie príložné hl. do 2 m | E31: 3932.03 | F31: m2 | L31: =E31*K31 -> 0 | N31: =E31*M31 -> 0 | O31: 20 | P31: E1 | V31: E | W31: 275.242 | X31: 15110-1111 | Y31: 151101111 | Z31: 45.11.21 | AB31: 1 | AJ31: EK | AK31: S
A32: 19 | B32: 272 | C32: 151101112 | D32: Odstránenie paženia rýh pre podz. vedenie príložné hl. do 4 m | E32: 423.76 | F32: m2 | L32: =E32*K32 -> 0 | N32: =E32*M32 -> 0 | O32: 20 | P32: E1 | V32: E | W32: 138.57 | X32: 15110-1112 | Y32: 151101112 | Z32: 45.11.21 | AB32: 1 | AJ32: EK | AK32: S
A33: 20 | B33: 272 | C33: 174101101 | D33: Zásyp zhutnený jám, rýh, šachiet alebo okolo objektu | E33: 3320.215 | F33: m3 | L33: =E33*K33 -> 0 | N33: =E33*M33 -> 0 | O33: 20 | P33: E1 | V33: E | W33: 916.379 | X33: 17410-1101 | Y33: 174101101 | Z33: 45.11.21 | AB33: 1 | AJ33: EK | AK33: S
A34: 21 | B34: MAT | C34: 583373680 | D34: Štrkopiesok 0-63 | E34: 102.75 | F34: t | K34: 1 | L34: =E34*K34 -> 102.75 | N34: =E34*M34 -> 0 | O34: 20 | P34: E1 | V34: D | X34: 583373680 | Y34: 583373680 | Z34: 14.21.11 | AB34: 2 | AJ34: EZ | AK34: S
A35: 22 | B35: 001 | C35: 175101201 | D35: Obsyp objektu bez prehodenia sypaniny | E35: 43.875 | F35: m3 | L35: =E35*K35 -> 0 | N35: =E35*M35 -> 0 | O35: 20 | P35: E1 | V35: E | W35: 88.759 | X35: 17510-1201 | Y35: 175101201 | Z35: 45.11.21 | AB35: 1 | AJ35: EK | AK35: S
A36: 23 | B36: 001 | C36: 175101209 | D36: Obsyp objektu príplatok za prehodenie sypaniny | E36: 43.875 | F36: m3 | L36: =E36*K36 -> 0 | N36: =E36*M36 -> 0 | O36: 20 | P36: E1 | V36: E | W36: 40.233 | X36: 17510-1209 | Y36: 175101209 | Z36: 45.11.21 | AB36: 1 | AJ36: EK | AK36: S
A37: 24 | B37: 272 | C37: 17530110-P | D37: Obsyp potrubia vodovodného potrubia z RC rúr s prehodením výkopku | E37: 1146.429 | F37: m3 | L37: =E37*K37 -> 0 | N37: =E37*M37 -> 0 | O37: 20 | P37: E1 | V37: E | W37: 2196.558 | X37: 17530-1104 | Y37: 17530110-P | Z37: 45.11.21 | AB37: 7 | AJ37: EK | AK37: S
A38: 25 | B38: 001 | C38: 181301114 | D38: Rozprestretie ornice, sklon do 1:5 nad 500 m2 hr. do 25 cm | E38: 1270.8 | F38: m2 | L38: =E38*K38 -> 0 | N38: =E38*M38 -> 0 | O38: 20 | P38: E1 | V38: E | W38: 47.02 | X38: 18130-1114 | Y38: 181301114 | Z38: 45.11.21 | AB38: 1 | AJ38: EK | AK38: S
A39: 26 | B39: 231 | C39: 182001121 | D39: Plošná úprava terénu, nerovnosti do +-150 mm v rovine | E39: 4480 | F39: m2 | L39: =E39*K39 -> 0 | N39: =E39*M39 -> 0 | O39: 20 | P39: E1 | V39: E | W39: 519.68 | X39: 18200-1121 | Y39: 182001121 | Z39: 45.11.21 | AB39: 1 | AJ39: EK | AK39: S
D40: 1 - ZEMNE PRÁCE spolu: | E40: =J40 -> 0 | L40: =SUM(L12:L39) -> 112.83003 | N40: =SUM(N12:N39) -> 12.2532 | W40: =SUM(W12:W39) -> 8991.779
B42: 2 - ZÁKLADY
A43: 27 | B43: 011 | C43: 275313611 | D43: Základové pätky z betónu prostého tr. C16/20 | E43: 3.68 | F43: m3 | K43: 2.41931 | L43: =E43*K43 -> 8.9030608 | N43: =E43*M43 -> 0 | O43: 20 | P43: E2 | V43: E | W43: 1.678 | X43: 27531-3611 | Y43: 275313611 | Z43: 45.25.32 | AB43: 1 | AJ43: EK | AK43: S
A44: 28 | B44: 011 | C44: 275351215 | D44: Debnenie základových pätiek zhotovenie | E44: 36.8 | F44: m2 | K44: 0.00223 | L44: =E44*K44 -> 0.082064 | N44: =E44*M44 -> 0 | O44: 20 | P44: E2 | V44: E | W44: 13.432 | X44: 27535-1215 | Y44: 275351215 | Z44: 45.25.32 | AB44: 1 | AJ44: EK | AK44: S
A45: 29 | B45: 011 | C45: 275351216 | D45: Debnenie základových pätiek odstránenie | E45: 36.8 | F45: m2 | L45: =E45*K45 -> 0 | N45: =E45*M45 -> 0 | O45: 20 | P45: E2 | V45: E | W45: 7.213 | X45: 27535-1216 | Y45: 275351216 | Z45: 45.25.32 | AB45: 1 | AJ45: EK | AK45: S
D46: 2 - ZÁKLADY spolu: | E46: =J46 -> 0 | L46: =SUM(L42:L45) -> 8.9851248 | N46: =SUM(N42:N45) -> 0 | W46: =SUM(W42:W45) -> 22.323
B48: 3 - ZVISLÉ A KOMPLETNÉ KONŠTRUKCIE
A49: 30 | B49: 015 | C49: 338171222-R | D49: Osadzovanie smerových stĺpikov do výšky 3 m so zabet. bet. tr. C 25/30 | E49: 23 | F49: kus | K49: 0.10958 | L49: =E49*K49 -> 2.52034 | N49: =E49*M49 -> 0 | O49: 20 | P49: E3 | V49: E | W49: 9.108 | X49: 33817-1222 | Y49: 338171222-R | Z49: . . | AB49: 7 | AJ49: EK | AK49: S
A50: 31 | B50: MAT | C50: 4046A0321 | D50: Stĺpik orientačný /oceľový s PE ochranou, zátkou a fóliou, bez pätky/ - VK 14 071 | E50: 23 | F50: kus | L50: =E50*K50 -> 0 | N50: =E50*M50 -> 0 | O50: 20 | P50: E3 | V50: D | X50: 4046A0321 | Y50: 4046A0321 | Z50: 31.62.11 | AA50: VK 14 071 | AB50: 2 | AJ50: EZ | AK50: S
D51: 3 - ZVISLÉ A KOMPLETNÉ KONŠTRUKCIE spolu: | E51: =J51 -> 0 | L51: =SUM(L48:L50) -> 2.52034 | N51: =SUM(N48:N50) -> 0 | W51: =SUM(W48:W50) -> 9.108
B53: 4 - VODOROVNÉ KONŠTRUKCIE
A54: 32 | B54: 254 | C54: 451575111 | D54: Podkladná vrstva hr. do 250 mm zo štrkopiesku | E54: 1.6 | F54: m3 | K54: 2.0875 | L54: =E54*K54 -> 3.34 | N54: =E54*M54 -> 0 | O54: 20 | P54: E4 | V54: E | W54: 1.896 | X54: 45157-5111 | Y54: 451575111 | Z54: 45.21.22 | AB54: 1 | AJ54: EK | AK54: S
A55: 33 | B55: 271 | C55: 451595111 | D55: Lôžko pod potrubie, stoky v otvorenom výkope z prehodenej zeminy | E55: 426.855 | F55: m3 | L55: =E55*K55 -> 0 | N55: =E55*M55 -> 0 | O55: 20 | P55: E4 | V55: E | W55: 741.02 | X55: 45159-5111 | Y55: 451595111 | Z55: 45.21.41 | AB55: 1 | AJ55: EK | AK55: S
A56: 34 | B56: 271 | C56: 452311141 | D56: Podkladové dosky z betónu prostého tr. C 16/20 v otvorenom výkope pod potrubie - pod redukčnu šachtu | E56: 0.45 | F56: m3 | K56: 2.40736 | L56: =E56*K56 -> 1.083312 | N56: =E56*M56 -> 0 | O56: 20 | P56: E4 | V56: E | W56: 0.569 | X56: 45231-1141 | Y56: 452311141 | Z56: 45.21.41 | AB56: 1 | AJ56: EK | AK56: S
A57: 35 | B57: 271 | C57: 452313141 | D57: Podkladové bloky z betónu prostého tr. C 16/20 v otvorenom výkope pod potrubie | E57: 7.707 | F57: m3 | K57: 2.39967 | L57: =E57*K57 -> 18.494257 | N57: =E57*M57 -> 0 | O57: 20 | P57: E4 | V57: E | W57: 9.31 | X57: 45231-3141 | Y57: 452313141 | Z57: 45.21.41 | AB57: 1 | AJ57: EK | AK57: S
A58: 36 | B58: 271 | C58: 452353101 | D58: Debnenie podkladových blokov pod potrubie v otvorenom výkope | E58: 13.55 | F58: m2 | K58: 0.00051 | L58: =E58*K58 -> 0.0069105 | N58: =E58*M58 -> 0 | O58: 20 | P58: E4 | V58: E | W58: 11.043 | X58: 45235-3101 | Y58: 452353101 | Z58: 45.21.41 | AB58: 1 | AJ58: EK | AK58: S
D59: 4 - VODOROVNÉ KONŠTRUKCIE spolu: | E59: =J59 -> 0 | L59: =SUM(L53:L58) -> 22.924479 | N59: =SUM(N53:N58) -> 0 | W59: =SUM(W53:W58) -> 763.838
B61: 5 - KOMUNIKÁCIE
A62: 37 | B62: 221 | C62: 564851111 | D62: Podklad zo štrkodrte hr. 150 mm | E62: 62 | F62: m2 | K62: 0.27994 | L62: =E62*K62 -> 17.35628 | N62: =E62*M62 -> 0 | O62: 20 | P62: E5 | V62: E | W62: 1.55 | X62: 56485-1111 | Y62: 564851111 | Z62: 45.23.11 | AB62: 1 | AJ62: EK | AK62: S
A63: 38 | B63: 221 | C63: 567121122 | D63: Podklad z prostého betónu tr. C 12/15 hr. 120 mm | E63: 62 | F63: m2 | K63: 0.29105 | L63: =E63*K63 -> 18.0451 | N63: =E63*M63 -> 0 | O63: 20 | P63: E5 | V63: E | W63: 8.99 | X63: 56712-1122 | Y63: 567121122 | Z63: 45.23.11 | AB63: 1 | AJ63: EK | AK63: S
A64: 39 | B64: 272 | C64: 573231111 | D64: Postrek živičný spojovací z cestnej emulzie 0,5-0,8 kg/m2 | E64: 38 | F64: m2 | K64: 0.00071 | L64: =E64*K64 -> 0.02698 | N64: =E64*M64 -> 0 | O64: 20 | P64: E5 | V64: E | W64: 0.076 | X64: 57323-1111 | Y64: 573231111 | Z64: 45.23.12 | AB64: 1 | AJ64: EK | AK64: S
A65: 40 | B65: 221 | C65: 577143131 | D65: Asfaltový betón AC 8 (ABJ I) z modifikovaného asfaltu hr. 50 mm, š. do 3 m | E65: 38 | F65: m2 | K65: 0.1297 | L65: =E65*K65 -> 4.9286 | N65: =E65*M65 -> 0 | O65: 20 | P65: E5 | V65: E | W65: 4.94 | X65: 57714-3131 | Y65: 577143131 | Z65: 45.23.12 | AB65: 1 | AJ65: EK | AK65: S
A66: 41 | B66: 221 | C66: 596211130 | D66: Kladenie zámkovej dlažby pre chodcov hr. 60 mm sk. C do 50 m2 | E66: 24 | F66: m2 | K66: 0.0842 | L66: =E66*K66 -> 2.0208 | N66: =E66*M66 -> 0 | O66: 20 | P66: E5 | V66: E | W66: 18.84 | X66: 59621-1130 | Y66: 596211130 | Z66: 45.23.12 | AB66: 1 | AJ66: EK | AK66: S
A67: 42 | B67: MAT | C67: 5924E0111 | D67: Dlažba zámková hr.6cm normál sivá | E67: 2.4 | F67: m2 | L67: =E67*K67 -> 0 | N67: =E67*M67 -> 0 | O67: 20 | P67: E5 | V67: D | X67: 5924E0111 | Y67: 5924E0111 | Z67: . . | AB67: 2 | AJ67: EZ | AK67: S
D68: 5 - KOMUNIKÁCIE spolu: | E68: =J68 -> 0 | L68: =SUM(L61:L67) -> 42.37776 | N68: =SUM(N61:N67) -> 0 | W68: =SUM(W61:W67) -> 34.396
B70: 8 - RÚROVÉ VEDENIA
A71: 43 | B71: 271 | C71: 857222121 | D71: Montáž tvaroviek liatinových 1-osových na potrubí prírubovom v otvorenom výkope DN 50 | E71: 3 | F71: kus | K71: 0.00083 | L71: =E71*K71 -> 0.00249 | N71: =E71*M71 -> 0 | O71: 20 | P71: E8 | V71: E | W71: 1.899 | X71: 85722-2121 | Y71: 857222121 | Z71: 45.21.41 | AB71: 1 | AJ71: EK | AK71: S
A72: 44 | B72: MAT | C72: 3193A2701 | D72: Tvarovka liatinová FFR-kus DN 65/50 | E72: 2 | F72: kus | K72: 0.007 | L72: =E72*K72 -> 0.014 | N72: =E72*M72 -> 0 | O72: 20 | P72: E8 | V72: D | X72: 3193A2701 | Y72: 3193A2701 | Z72: 27.22.20 | AA72: 8550 | AB72: 2 | AJ72: EZ | AK72: S
A73: 45 | B73: MAT | C73: 4226F0102 | D73: Filter zo spodu - DN 50 | E73: 1 | F73: kus | K73: 0.011 | L73: =E73*K73 -> 0.011 | N73: =E73*M73 -> 0 | O73: 20 | P73: E8 | V73: D | X73: 4226F0102 | Y73: 4226F0102 | Z73: 27.22.20 | AA73: 9910 | AB73: 2 | AJ73: EZ | AK73: S
A74: 46 | B74: 271 | C74: 857242121 | D74: Montáž tvaroviek liatinových 1-osových na potrubí prírubovom v otvorenom výkope DN 80 | E74: 26 | F74: kus | K74: 0.00083 | L74: =E74*K74 -> 0.02158 | N74: =E74*M74 -> 0 | O74: 20 | P74: E8 | V74: E | W74: 19.734 | X74: 85724-2121 | Y74: 857242121 | Z74: 45.21.41 | AB74: 1 | AJ74: EK | AK74: S
A75: 47 | B75: MAT | C75: 3193A1724 | D75: Tvarovka liatinová FF-kus - DN 80/400 | E75: 10 | F75: kus | K75: 0.012 | L75: =E75*K75 -> 0.12 | N75: =E75*M75 -> 0 | O75: 20 | P75: E8 | V75: D | X75: 3193A1724 | Y75: 3193A1724 | Z75: 27.22.20 | AA75: 8500 | AB75: 2 | AJ75: EZ | AK75: S
A76: 48 | B76: MAT | C76: 3193A1725 | D76: Tvarovka liatinová FF-kus - DN 80/500 | E76: 1 | F76: kus | K76: 0.014 | L76: =E76*K76 -> 0.014 | N76: =E76*M76 -> 0 | O76: 20 | P76: E8 | V76: D | X76: 3193A1725 | Y76: 3193A1725 | Z76: 27.22.20 | AA76: 8500 | AB76: 2 | AJ76: EZ | AK76: S
A77: 49 | B77: MAT | C77: 3193A2303 | D77: Tvarovka liatinová Q - koleno 90° - DN 80 | E77: 5 | F77: kus | K77: 0.0099 | L77: =E77*K77 -> 0.0495 | N77: =E77*M77 -> 0 | O77: 20 | P77: E8 | V77: D | X77: 3193A2303 | Y77: 3193A2303 | Z77: 27.22.20 | AA77: 8530 | AB77: 2 | AJ77: EZ | AK77: S
A78: 50 | B78: MAT | C78: 3193A2702 | D78: Tvarovka liatinová FFR-kus DN 80/50 | E78: 5 | F78: kus | K78: 0.007 | L78: =E78*K78 -> 0.035 | N78: =E78*M78 -> 0 | O78: 20 | P78: E8 | V78: D | X78: 3193A2702 | Y78: 3193A2702 | Z78: 27.22.20 | AA78: 8550 | AB78: 2 | AJ78: EZ | AK78: S
A79: 51 | B79: MAT | C79: 3194I3107 | D79: Koleno prírubové 90° s pätkou - DN 80 | E79: 5 | F79: kus | K79: 0.0134 | L79: =E79*K79 -> 0.067 | N79: =E79*M79 -> 0 | O79: 20 | P79: E8 | V79: D | X79: 3194I3107 | Y79: 3194I3107 | Z79: 27.22.20 | AA79: 5049 | AB79: 2 | AJ79: EZ | AK79: S
A80: 52 | B80: 271 | C80: 857262121 | D80: Montáž tvaroviek liatinových 1-osových na potrubí prírubovom v otvorenom výkope DN 100 | E80: 44 | F80: kus | K80: 0.00163 | L80: =E80*K80 -> 0.07172 | N80: =E80*M80 -> 0 | O80: 20 | P80: E8 | V80: E | W80: 37.664 | X80: 85726-2121 | Y80: 857262121 | Z80: 45.21.41 | AB80: 1 | AJ80: EK | AK80: S
A81: 53 | B81: MAT | C81: 3193A1909 | D81: Tvarovka liatinová T-kus - DN 100/80 | E81: 10 | F81: kus | K81: 0.019 | L81: =E81*K81 -> 0.19 | N81: =E81*M81 -> 0 | O81: 20 | P81: E8 | V81: D | X81: 3193A1909 | Y81: 3193A1909 | Z81: 27.22.20 | AA81: 8510 | AB81: 2 | AJ81: EZ | AK81: S
A82: 54 | B82: MAT | C82: 3193A2706 | D82: Tvarovka liatinová FFR-kus DN 100/80 | E82: 1 | F82: kus | K82: 0.01 | L82: =E82*K82 -> 0.01 | N82: =E82*M82 -> 0 | O82: 20 | P82: E8 | V82: D | X82: 3193A2706 | Y82: 3193A2706 | Z82: 27.22.20 | AA82: 8550 | AB82: 2 | AJ82: EZ | AK82: S
A83: 55 | B83: MAT | C83: 3194I0310 | D83: Príruba špeciálna - Systém 2000 - DN 100/110 | E83: 33 | F83: kus | K83: 0.0062 | L83: =E83*K83 -> 0.2046 | N83: =E83*M83 -> 0 | O83: 20 | P83: E8 | V83: D | X83: 3194I0310 | Y83: 3194I0310 | Z83: 27.22.20 | AA83: 400 | AB83: 2 | AJ83: EZ | AK83: S
A84: 56 | B84: 271 | C84: 871211121-R | D84: Montáž vodvod. potrubia z rúr HDPE zvárných PE 100RS PN16 D 63x5,8 | E84: 2 | F84: m | L84: =E84*K84 -> 0 | N84: =E84*M84 -> 0 | O84: 20 | P84: E8 | V84: E | W84: 0.048 | X84: 87121-1121 | Y84: 871211121-R | Z84: 45.21.41 | AB84: 7 | AJ84: EK | AK84: S
A85: 57 | B85: MAT | C85: 2861D0205 | D85: Potrubie vodovodné PE100, PN16, SDR11 - 63 x 5,8 | E85: 2 | F85: m | L85: =E85*K85 -> 0 | N85: =E85*M85 -> 0 | O85: 20 | P85: E8 | V85: D | X85: 2861D0205 | Y85: 2861D0205 | Z85: 25.21.22 | AA85: 3058904 | AB85: 2 | AJ85: EZ | AK85: S
A86: 58 | B86: 271 | C86: 871251211-R | D86: Montáž vodvod. potrubia z rúr HDPE zvárných PE 100RS PN10 D 110x6,6 | E86: 1237.5 | F86: m | L86: =E86*K86 -> 0 | N86: =E86*M86 -> 0 | O86: 20 | P86: E8 | V86: E | W86: 305.663 | X86: 87125-1211 | Y86: 871251211-R | Z86: . . | AB86: 7 | AJ86: EK | AK86: S
A87: 59 | B87: MAT | C87: 2861D0364 | D87: Potrubie vodovodné SafeTech RCn, SDR17 - 110 x 6,6 x 12,0m | E87: 1238 | F87: m | L87: =E87*K87 -> 0 | N87: =E87*M87 -> 0 | O87: 20 | P87: E8 | V87: D | X87: 2861D0364 | Y87: 2861D0364 | Z87: 25.21.22 | AA87: 3053716 | AB87: 2 | AJ87: EZ | AK87: S
A88: 60 | B88: 271 | C88: 871252111-R | D88: Montáž vodvod. potrubia z rúr HDPE zváraných PE 100RS PN16 110x10,0 | E88: 1377.5 | F88: m | L88: =E88*K88 -> 0 | N88: =E88*M88 -> 0 | O88: 20 | P88: E8 | V88: E | W88: 464.218 | X88: 87125-2111 | Y88: 871252111-R | Z88: . . | AB88: 7 | AJ88: EK | AK88: S
A89: 61 | B89: MAT | C89: 2861D0335 | D89: Potrubie vodovodné SafeTech RCn, SDR11 - 110 x 10,0 x 12,0m | E89: 1378 | F89: m | L89: =E89*K89 -> 0 | N89: =E89*M89 -> 0 | O89: 20 | P89: E8 | V89: D | X89: 2861D0335 | Y89: 2861D0335 | Z89: 25.21.22 | AA89: 3072741 | AB89: 2 | AJ89: EZ | AK89: S
A90: 62 | B90: 271 | C90: 871311100-R | D90: Montáž chráničky D 160 | E90: 33 | F90: m | K90: 0.0001 | L90: =E90*K90 -> 0.0033 | N90: =E90*M90 -> 0 | O90: 20 | P90: E8 | V90: E | W90: 3.927 | X90: 87131-1111 | Y90: 871311100-R | Z90: 45.21.41 | AB90: 7 | AJ90: EK | AK90: S
A91: 63 | B91: MAT | C91: 2861F0912 | D91: Rúra z PE na chráničku, d 160x9,1 mm | E91: 25 | F91: m | K91: 0.00432 | L91: =E91*K91 -> 0.108 | N91: =E91*M91 -> 0 | O91: 20 | P91: E8 | V91: D | X91: 2861F0912 | Y91: 2861F0912 | Z91: 25.21.22 | AA91: 15782 GCt | AB91: 2 | AJ91: EZ | AK91: S
A92: 64 | B92: 721 | C92: 872229104-R | D92: Montáž vodov. armatúr ostatných so závitom G 5/4 | E92: 3 | F92: kus | K92: 0.00072 | L92: =E92*K92 -> 0.00216 | N92: =E92*M92 -> 0 | O92: 20 | P92: E1 | V92: I | W92: 0.837 | X92: 72222-9104 | Y92: 722229104 | Z92: 45.33.20 | AB92: 1 | AJ92: EK | AK92: S
A93: 65 | B93: MAT | C93: 2863G5000-01 | D93: Vsuvka s tesnením DN32 | E93: 1 | F93: kus | K93: 0.0001 | L93: =E93*K93 -> 0.0001 | N93: =E93*M93 -> 0 | O93: 20 | P93: E1 | V93: D | X93: 2863G5004 | Y93: 2863G5000-01 | Z93: 27.22.20 | AA93: R189DY007 | AB93: 8 | AJ93: EZ | AK93: S
A94: 66 | B94: MAT | C94: 4222G1402-01 | D94: Ventil odvzdušňovací , DN 1", PN 16 | E94: 1 | F94: kus | L94: =E94*K94 -> 0 | N94: =E94*M94 -> 0 | O94: 20 | P94: E1 | V94: D | X94: 4222G1402 | Y94: 4222G1402-01 | Z94: 29.13.13 | AA94: 701-025-40-99003 | AB94: 8 | AJ94: EZ | AK94: S
A95: 67 | B95: MAT | C95: 4223D1000-01 | D95: Ventil guľový DN32 | E95: 1 | F95: kus | K95: 0.0005 | L95: =E95*K95 -> 0.0005 | N95: =E95*M95 -> 0 | O95: 20 | P95: E1 | V95: D | X95: 4223D1010 | Y95: 4223D1000-01 | Z95: 29.13.11 | AA95: R951X006 | AB95: 8 | AJ95: EZ | AK95: S
A96: 68 | B96: 271 | C96: 877211121-R | D96: Montáž elektrotvaroviek na potrubí PE v šachte, zvárané DN 63 | E96: 8 | F96: kus | L96: =E96*K96 -> 0 | N96: =E96*M96 -> 0 | O96: 20 | P96: E1 | V96: E | W96: 1.52 | X96: 87721-1121 | Y96: 877211121-R | Z96: 45.21.41 | AB96: 7 | AJ96: EK | AK96: S
A97: 69 | B97: MAT | C97: 2863N3156 | D97: Objímka so zarážkou MB - 612 685 d 63 | E97: 1 | F97: kus | K97: 0.00021 | L97: =E97*K97 -> 0.00021 | N97: =E97*M97 -> 0 | O97: 20 | P97: E1 | V97: D | X97: 2863N3156 | Y97: 2863N3156 | Z97: 25.21.22 | AA97: 612 685 | AB97: 2 | AJ97: EZ | AK97: S
A98: 70 | B98: MAT | C98: 2863N3459 | D98: Koleno elektrotvarovkové W 90° - 612 099 d 63 | E98: 1 | F98: kus | K98: 0.00031 | L98: =E98*K98 -> 0.00031 | N98: =E98*M98 -> 0 | O98: 20 | P98: E1 | V98: D | X98: 2863N3459 | Y98: 2863N3459 | Z98: 25.21.22 | AA98: 612 099 | AB98: 2 | AJ98: EZ | AK98: S
A99: 71 | B99: MAT | C99: 2863N3546 | D99: T-kus TA s predĺženou odbočkou d 63/63 | E99: 1 | F99: kus | K99: 0.00079 | L99: =E99*K99 -> 0.00079 | N99: =E99*M99 -> 0 | O99: 20 | P99: E1 | V99: D | X99: 2863N3546 | Y99: 2863N3546 | Z99: 25.21.22 | AA99: 615722 | AB99: 2 | AJ99: EZ | AK99: S
A100: 72 | B100: MAT | C100: 2863N4084 | D100: Kohút guľový d 63 plnoprietočný | E100: 2 | F100: kus | K100: 0.00233 | L100: =E100*K100 -> 0.00466 | N100: =E100*M100 -> 0 | O100: 20 | P100: E1 | V100: D | X100: 2863N4084 | Y100: 2863N4084 | Z100: 25.21.22 | AA100: 50063122 | AB100: 2 | AJ100: EZ | AK100: S
A101: 73 | B101: MAT | C101: 2863N4332 | D101: Elektrotvarovka odbočková hrdlová SA d1 110, d2 63 | E101: 2 | F101: kus | K101: 0.00095 | L101: =E101*K101 -> 0.0019 | N101: =E101*M101 -> 0 | O101: 20 | P101: E1 | V101: D | X101: 2863N4332 | Y101: 2863N4332 | Z101: 25.21.22 | AA101: 612 760 | AB101: 2 | AJ101: EZ | AK101: S
A102: 74 | B102: MAT | C102: 2863N4606 | D102: Prechodka USTR PE/oceľ - 612 780 d/DN 32/25 | E102: 1 | F102: kus | K102: 0.00119 | L102: =E102*K102 -> 0.00119 | N102: =E102*M102 -> 0 | O102: 20 | P102: E1 | V102: D | X102: 2863N4606 | Y102: 2863N4606 | Z102: 25.21.22 | AA102: 612780 | AB102: 2 | AJ102: EZ | AK102: S
A103: 75 | B103: 271 | C103: 877251121 | D103: Montáž elektrotvaroviek na potrubí PE v otvorenom výkope, zvárané DN 110 | E103: 16 | F103: kus | L103: =E103*K103 -> 0 | N103: =E103*M103 -> 0 | O103: 20 | P103: E8 | V103: E | W103: 4.64 | X103: 87725-1121 | Y103: 877251121 | Z103: 45.21.41 | AB103: 7 | AJ103: EK | AK103: S
A104: 76 | B104: MAT | C104: 2863M3237 | D104: PET Oblúk 90° PE100 RC SDR11 L, D110 | E104: 4 | F104: kus | L104: =E104*K104 -> 0 | N104: =E104*M104 -> 0 | O104: 20 | P104: E8 | V104: D | X104: 2863M3237 | Y104: 2863M3237 | Z104: 25.21.22 | AA104: FFD01014W | AB104: 8 | AJ104: EZ | AK104: S
A105: 77 | B105: MAT | C105: 2863M3307 | D105: PET Oblúk 60° PE100 SDR11 L, D110 | E105: 3 | F105: kus | L105: =E105*K105 -> 0 | N105: =E105*M105 -> 0 | O105: 20 | P105: E8 | V105: D | X105: 2863M3307 | Y105: 2863M3307 | Z105: 25.21.22 | AA105: FF071014W | AB105: 2 | AJ105: EZ | AK105: S
A106: 78 | B106: MAT | C106: 2863M3467 | D106: PET Oblúk 30° PE100 RC SDR11 L, D110 | E106: 9 | F106: kus | L106: =E106*K106 -> 0 | N106: =E106*M106 -> 0 | O106: 20 | P106: E8 | V106: D | X106: 2863M3467 | Y106: 2863M3467 | Z106: 25.21.22 | AA106: FFD61014W | AB106: 2 | AJ106: EZ | AK106: S
A107: 79 | B107: 271 | C107: 891211221 | D107: Montáž vodovodných posúvačov v šachte s ručným kolieskom DN 50 | E107: 5 | F107: kus | K107: 0.0007 | L107: =E107*K107 -> 0.0035 | N107: =E107*M107 -> 0 | O107: 20 | P107: E8 | V107: E | W107: 3.3 | X107: 89121-1221 | Y107: 891211221 | Z107: 45.21.41 | AB107: 1 | AJ107: EK | AK107: S
...
