Workbook

Sheet Rekapitulácia stavby
A1: Export Komplet | BA1: 2.0 | BT1: False | BU1: False | BV1: {8df9de25-b1a5-4d54-8383-af40b97fc45c}
AR2: >> skryté stĺpce << | BS2: 0,01 | BT2: 20
BS3: 0,01 | BT3: 20
D4: REKAPITULÁCIA STAVBY | AS4: v --- nižšie sa nachádzajú doplnkové a pomocné údaje k zostavám --- v | BS4: 0,001
D5: Kód: | BS5: 0,01
D6: Stavba: | K6: Modernizácia farmy Bzince pod Javorinou | BS6: 0,01
D7: JKSO: | AK7: KS: | BS7: 0,01
D8: Miesto: | K8: Bzince pod Javorinou | AK8: Dátum: | BS8: 0,01
BS9: 0,01
D10: Objednávateľ: | AK10: IČO: | BS10: 0,01
E11: Poľnohospodárske družstvo Bzince pod Javorinou | AK11: IČ DPH: | BS11: 0,01
BS12: 0,01
D13: Zhotoviteľ: | AK13: IČO: | BS13: 0,01
AK14: IČ DPH: | BS14: 0,01
BS15: False
D16: Projektant: | AK16: IČO: | BS16: False
AK17: IČ DPH: | BS17: True
BS18: 0,01
D19: Spracovateľ: | AK19: IČO: | BS19: 0,01
AK20: IČ DPH: | BS20: True
D22: Poznámka:
D26: Cena bez DPH | AK26: =ROUND(AG94,2) -> 0
L28: Sadzba dane | W28: Základ dane | AK28: Výška dane
D29: DPH | F29: základná | L29: 0.2 | W29: =ROUND(AZ94, 2) -> #REF! | AK29: =ROUND(AV94, 2) -> #REF!
F30: znížená | L30: 0.2 | W30: =AK26 -> 0 | AK30: =ROUND(W30*0.2,2) -> 0
F31: zákl. prenesená | L31: 0.2 | W31: =ROUND(BB94, 2) -> #REF! | AK31: 0
F32: zníž. prenesená | L32: 0.2 | W32: =ROUND(BC94, 2) -> #REF! | AK32: 0
F33: nulová | L33: 0 | W33: =ROUND(BD94, 2) -> #REF! | AK33: 0
D35: Cena s DPH | T35: v | X35: EUR | AK35: =SUM(AK26,AK30) -> 0
D49: Projektant | AH49: Spracovateľ
D60: Dátum a podpis: | V60: Pečiatka | AH60: Dátum a podpis: | AM60: Pečiatka
D64: Objednávateľ | AH64: Zhotoviteľ
D75: Dátum a podpis: | V75: Pečiatka | AH75: Dátum a podpis: | AM75: Pečiatka
C82: REKAPITULÁCIA OBJEKTOV STAVBY
C84: Kód: | L84: =K5 -> 0
C85: Stavba: | L85: =K6 -> Modernizácia farmy Bzince pod Javorinou
C87: Miesto: | L87: =IF(K8="","",K8) -> Bzince pod Javorinou | AI87: Dátum: | AM87: =IF(AN8= "","",AN8)
C89: Objednávateľ: | L89: =IF(E11= "","",E11) -> Poľnohospodárske družstvo Bzince pod Javorinou | AI89: Projektant: | AM89: =IF(E17="","",E17) | AS89: Informatívne údaje z listov zákaziek
C90: Zhotoviteľ: | L90: =IF(E14="","",E14) | AI90: Spracovateľ: | AM90: =IF(E20="","",E20)
C92: Kód | I92: Popis | AG92: Cena bez DPH [EUR] | AN92: Cena s DPH [EUR] | AQ92: Typ | AS92: z toho Ostat._x000D_ náklady [EUR] | AT92: DPH [EUR] | AU92: Normohodiny [h] | AV92: DPH základná [EUR] | AW92: DPH znížená [EUR] | AX92: DPH základná prenesená_x000D_ [EUR] | AY92: DPH znížená prenesená_x000D_ [EUR] | AZ92: Základňa_x000D_ DPH základná | BA92: Základňa_x000D_ DPH znížená | BB92: Základňa_x000D_ DPH zákl. prenesená | BC92: Základňa_x000D_ DPH zníž. prenesená | BD92: Základňa_x000D_ DPH nulová
...

Sheet SO 01 - Plachtová maštaľ 
L2: >> skryté stĺpce << | AT2: {324f5ff6-7b6e-4733-bb46-0fed6b1f55d6}
AT3: 0
D4: KRYCÍ LIST ROZPOČTU | M4: v --- nižšie sa nachádzajú doplnkové a pomocné údaje k zostavám --- v | AT4: False
D6: Stavba:
E7: ='Rekapitulácia stavby'!K6 -> Modernizácia farmy Bzince pod Javorinou
D8: Objekt:
E9: SO 01 - Plachtová maštaľ
D10: Časť:
E11: =E9 -> SO 01 - Plachtová maštaľ
D13: JKSO: | I13: KS:
D14: Miesto: | F14: Bzince pod Javorinou | I14: Dátum: | J14: ='Rekapitulácia stavby'!AN8 -> 0
D16: Objednávateľ: | I16: IČO:
E17: Poľnohospodárske družstvo Bzince pod Javorinou | I17: IČ DPH:
D19: Zhotoviteľ: | I19: IČO: | J19: ='Rekapitulácia stavby'!AN13
E20: ='Rekapitulácia stavby'!E14 | I20: IČ DPH: | J20: ='Rekapitulácia stavby'!AN14
D22: Projektant: | I22: IČO: | J22: =IF('Rekapitulácia stavby'!AN16="","",'Rekapitulácia stavby'!AN16)
E23: =IF('Rekapitulácia stavby'!E17="","",'Rekapitulácia stavby'!E17) | I23: IČ DPH: | J23: =IF('Rekapitulácia stavby'!AN17="","",'Rekapitulácia stavby'!AN17)
D25: Spracovateľ: | I25: IČO: | J25: =IF('Rekapitulácia stavby'!AN19="","",'Rekapitulácia stavby'!AN19)
E26: =IF('Rekapitulácia stavby'!E20="","",'Rekapitulácia stavby'!E20) | I26: IČ DPH: | J26: =IF('Rekapitulácia stavby'!AN20="","",'Rekapitulácia stavby'!AN20)
D28: Poznámka:
D32: Cena bez DPH | J32: =ROUND(J130, 2) -> 0
F34: Základ dane | I34: Sadzba dane | J34: Výška dane
D35: DPH | E35: základná | F35: =ROUND((SUM(BE130:BE175)), 2) -> 0 | I35: 0.2 | J35: =ROUND(((SUM(BE130:BE175))*I35), 2) -> 0
E36: znížená | F36: =ROUND((SUM(BF130:BF175)), 2) -> 0 | I36: 0.2 | J36: =ROUND(((SUM(BF130:BF175))*I36), 2) -> 0
E37: zákl. prenesená | F37: =ROUND((SUM(BG130:BG175)), 2) -> 0 | I37: 0.2 | J37: =0 -> 0
E38: zníž. prenesená | F38: =ROUND((SUM(BH130:BH175)), 2) -> 0 | I38: 0.2 | J38: =0 -> 0
E39: nulová | F39: =ROUND((SUM(BI130:BI175)), 2) -> 0 | I39: 0 | J39: =0 -> 0
D41: Cena s DPH | G41: v | H41: EUR | J41: =SUM(J32:J39) -> 0
D50: Projektant | G50: Spracovateľ
D61: Dátum a podpis: | F61: Pečiatka | G61: Dátum a podpis: | J61: Pečiatka
D65: Objednávateľ | G65: Zhotoviteľ
D76: Dátum a podpis: | F76: Pečiatka | G76: Dátum a podpis: | J76: Pečiatka
C82: REKAPITULÁCIA ROZPOČTU
C84: Stavba:
E85: =E7 -> Modernizácia farmy Bzince pod Javorinou
C86: Objekt:
E87: SO 01 - Plachtová maštaľ
C88: Časť:
E89: =E11 -> SO 01 - Plachtová maštaľ
C91: Miesto: | F91: =F14 -> Bzince pod Javorinou | I91: Dátum: | J91: =IF(J14="","",J14) -> 0
...

Sheet SO 02.1 - Štrbina a rolov...
L2: >> skryté stĺpce << | AT2: {86c479be-8666-409e-afac-a8768069f048}
AT3: 0
D4: KRYCÍ LIST ROZPOČTU | M4: v --- nižšie sa nachádzajú doplnkové a pomocné údaje k zostavám --- v | AT4: False
D6: Stavba:
E7: ='Rekapitulácia stavby'!K6 -> Modernizácia farmy Bzince pod Javorinou
D8: Objekt:
E9: SO 02 - Stará maštaľ
D10: Časť:
E11: SO 02.1 - Štrbina a rolovacie brány, protiprievanové plachty
D13: JKSO: | I13: KS:
D14: Miesto: | I14: Dátum: | J14: ='Rekapitulácia stavby'!AN8 -> 0
D16: Objednávateľ: | I16: IČO:
E17: Poľnohospodárske družstvo Bzince pod Javorinou | I17: IČ DPH:
D19: Zhotoviteľ: | I19: IČO: | J19: ='Rekapitulácia stavby'!AN13
E20: ='Rekapitulácia stavby'!E14 | I20: IČ DPH: | J20: ='Rekapitulácia stavby'!AN14
D22: Projektant: | I22: IČO: | J22: =IF('Rekapitulácia stavby'!AN16="","",'Rekapitulácia stavby'!AN16)
E23: =IF('Rekapitulácia stavby'!E17="","",'Rekapitulácia stavby'!E17) | I23: IČ DPH: | J23: =IF('Rekapitulácia stavby'!AN17="","",'Rekapitulácia stavby'!AN17)
D25: Spracovateľ: | I25: IČO: | J25: =IF('Rekapitulácia stavby'!AN19="","",'Rekapitulácia stavby'!AN19)
E26: =IF('Rekapitulácia stavby'!E20="","",'Rekapitulácia stavby'!E20) | I26: IČ DPH: | J26: =IF('Rekapitulácia stavby'!AN20="","",'Rekapitulácia stavby'!AN20)
D28: Poznámka:
D32: Cena bez DPH | J32: =ROUND(J121, 2) -> 0
F34: Základ dane | I34: Sadzba dane | J34: Výška dane
D35: DPH | E35: základná | F35: =ROUND((SUM(BE121:BE134)), 2) -> 0 | I35: 0.2 | J35: =ROUND(((SUM(BE121:BE134))*I35), 2) -> 0
E36: znížená | F36: =ROUND((SUM(BF121:BF134)), 2) -> 0 | I36: 0.2 | J36: =ROUND(((SUM(BF121:BF134))*I36), 2) -> 0
E37: zákl. prenesená | F37: =ROUND((SUM(BG121:BG134)), 2) -> 0 | I37: 0.2 | J37: =0 -> 0
E38: zníž. prenesená | F38: =ROUND((SUM(BH121:BH134)), 2) -> 0 | I38: 0.2 | J38: =0 -> 0
E39: nulová | F39: =ROUND((SUM(BI121:BI134)), 2) -> 0 | I39: 0 | J39: =0 -> 0
D41: Cena s DPH | G41: v | H41: EUR | J41: =SUM(J32:J39) -> 0
D50: Projektant | G50: Spracovateľ
D61: Dátum a podpis: | F61: Pečiatka | G61: Dátum a podpis: | J61: Pečiatka
D65: Objednávateľ | G65: Zhotoviteľ
D76: Dátum a podpis: | F76: Pečiatka | G76: Dátum a podpis: | J76: Pečiatka
C82: REKAPITULÁCIA ROZPOČTU
C84: Stavba:
E85: =E7 -> Modernizácia farmy Bzince pod Javorinou
C86: Objekt:
E87: SO 02 - Stará maštaľ
C88: Časť:
E89: =E11 -> SO 02.1 - Štrbina a rolovacie brány, protiprievanové plachty
C91: Miesto: | F91: =F14 | I91: Dátum: | J91: =IF(J14="","",J14) -> 0
...

Sheet SO 02.2 - Stavebné úpravy...
L2: >> skryté stĺpce << | AT2: {427c3c13-7888-41cd-9c20-56079622fd83}
AT3: 0
D4: KRYCÍ LIST ROZPOČTU | M4: v --- nižšie sa nachádzajú doplnkové a pomocné údaje k zostavám --- v | AT4: False
D6: Stavba:
E7: ='Rekapitulácia stavby'!K6 -> Modernizácia farmy Bzince pod Javorinou
D8: Objekt:
E9: SO 02 - Stará maštaľ
D10: Časť:
E11: SO 02.2 - Stavebné úpravy, búranie, betonáž,...
D13: JKSO: | I13: KS:
D14: Miesto: | F14: Bzince pod Javorinou | I14: Dátum: | J14: ='Rekapitulácia stavby'!AN8 -> 0
D16: Objednávateľ: | I16: IČO:
E17: Poľnohospodárske družstvo Bzince pod Javorinou | I17: IČ DPH:
D19: Zhotoviteľ: | I19: IČO: | J19: ='Rekapitulácia stavby'!AN13
E20: ='Rekapitulácia stavby'!E14 | I20: IČ DPH: | J20: ='Rekapitulácia stavby'!AN14
D22: Projektant: | I22: IČO: | J22: =IF('Rekapitulácia stavby'!AN16="","",'Rekapitulácia stavby'!AN16)
E23: =IF('Rekapitulácia stavby'!E17="","",'Rekapitulácia stavby'!E17) | I23: IČ DPH: | J23: =IF('Rekapitulácia stavby'!AN17="","",'Rekapitulácia stavby'!AN17)
D25: Spracovateľ: | I25: IČO: | J25: =IF('Rekapitulácia stavby'!AN19="","",'Rekapitulácia stavby'!AN19)
E26: =IF('Rekapitulácia stavby'!E20="","",'Rekapitulácia stavby'!E20) | I26: IČ DPH: | J26: =IF('Rekapitulácia stavby'!AN20="","",'Rekapitulácia stavby'!AN20)
D28: Poznámka:
D32: Cena bez DPH | J32: =ROUND(J130, 2) -> 0
F34: Základ dane | I34: Sadzba dane | J34: Výška dane
D35: DPH | E35: základná | F35: =ROUND((SUM(BE130:BE203)), 2) -> 0 | I35: 0.2 | J35: =ROUND(((SUM(BE130:BE203))*I35), 2) -> 0
E36: znížená | F36: =ROUND((SUM(BF130:BF203)), 2) -> 0 | I36: 0.2 | J36: =ROUND(((SUM(BF130:BF203))*I36), 2) -> 0
E37: zákl. prenesená | F37: =ROUND((SUM(BG130:BG203)), 2) -> 0 | I37: 0.2 | J37: =0 -> 0
E38: zníž. prenesená | F38: =ROUND((SUM(BH130:BH203)), 2) -> 0 | I38: 0.2 | J38: =0 -> 0
E39: nulová | F39: =ROUND((SUM(BI130:BI203)), 2) -> 0 | I39: 0 | J39: =0 -> 0
D41: Cena s DPH | G41: v | H41: EUR | J41: =SUM(J32:J39) -> 0
D50: Projektant | G50: Spracovateľ
D61: Dátum a podpis: | F61: Pečiatka | G61: Dátum a podpis: | J61: Pečiatka
D65: Objednávateľ | G65: Zhotoviteľ
D76: Dátum a podpis: | F76: Pečiatka | G76: Dátum a podpis: | J76: Pečiatka
C82: REKAPITULÁCIA ROZPOČTU
C84: Stavba:
E85: =E7 -> Modernizácia farmy Bzince pod Javorinou
C86: Objekt:
E87: SO 02 - Stará maštaľ
C88: Časť:
E89: =E11 -> SO 02.2 - Stavebné úpravy, búranie, betonáž,...
C91: Miesto: | F91: =F14 -> Bzince pod Javorinou | I91: Dátum: | J91: =IF(J14="","",J14) -> 0
...

Sheet SO 02.3 - Uzemnenie konšt...
L2: >> skryté stĺpce << | AT2: {44a5189e-a453-4b28-9a17-f080f3a7ff88}
AT3: 0
D4: KRYCÍ LIST ROZPOČTU | M4: v --- nižšie sa nachádzajú doplnkové a pomocné údaje k zostavám --- v | AT4: False
D6: Stavba:
E7: ='Rekapitulácia stavby'!K6 -> Modernizácia farmy Bzince pod Javorinou
D8: Objekt:
E9: SO 02 - Stará maštaľ
D10: Časť:
E11: SO 02.3 - Uzemnenie konštrukcie, L profil, vodovod
D13: JKSO: | I13: KS:
D14: Miesto: | F14: Bzince pod Javorinou | I14: Dátum: | J14: ='Rekapitulácia stavby'!AN8 -> 0
D16: Objednávateľ: | I16: IČO:
E17: Poľnohospodárske družstvo Bzince pod Javorinou | I17: IČ DPH:
D19: Zhotoviteľ: | I19: IČO: | J19: ='Rekapitulácia stavby'!AN13
E20: ='Rekapitulácia stavby'!E14 | I20: IČ DPH: | J20: ='Rekapitulácia stavby'!AN14
D22: Projektant: | I22: IČO: | J22: =IF('Rekapitulácia stavby'!AN16="","",'Rekapitulácia stavby'!AN16)
E23: =IF('Rekapitulácia stavby'!E17="","",'Rekapitulácia stavby'!E17) | I23: IČ DPH: | J23: =IF('Rekapitulácia stavby'!AN17="","",'Rekapitulácia stavby'!AN17)
D25: Spracovateľ: | I25: IČO: | J25: =IF('Rekapitulácia stavby'!AN19="","",'Rekapitulácia stavby'!AN19)
E26: =IF('Rekapitulácia stavby'!E20="","",'Rekapitulácia stavby'!E20) | I26: IČ DPH: | J26: =IF('Rekapitulácia stavby'!AN20="","",'Rekapitulácia stavby'!AN20)
D28: Poznámka:
D32: Cena bez DPH | J32: =ROUND(J129, 2) -> 0
F34: Základ dane | I34: Sadzba dane | J34: Výška dane
D35: DPH | E35: základná | F35: =ROUND((SUM(BE129:BE173)), 2) -> 0 | I35: 0.2 | J35: =ROUND(((SUM(BE129:BE173))*I35), 2) -> 0
E36: znížená | F36: =ROUND((SUM(BF129:BF173)), 2) -> 0 | I36: 0.2 | J36: =ROUND(((SUM(BF129:BF173))*I36), 2) -> 0
E37: zákl. prenesená | F37: =ROUND((SUM(BG129:BG173)), 2) -> 0 | I37: 0.2 | J37: =0 -> 0
E38: zníž. prenesená | F38: =ROUND((SUM(BH129:BH173)), 2) -> 0 | I38: 0.2 | J38: =0 -> 0
E39: nulová | F39: =ROUND((SUM(BI129:BI173)), 2) -> 0 | I39: 0 | J39: =0 -> 0
D41: Cena s DPH | G41: v | H41: EUR | J41: =SUM(J32:J39) -> 0
D50: Projektant | G50: Spracovateľ
D61: Dátum a podpis: | F61: Pečiatka | G61: Dátum a podpis: | J61: Pečiatka
D65: Objednávateľ | G65: Zhotoviteľ
D76: Dátum a podpis: | F76: Pečiatka | G76: Dátum a podpis: | J76: Pečiatka
C82: REKAPITULÁCIA ROZPOČTU
C84: Stavba:
E85: =E7 -> Modernizácia farmy Bzince pod Javorinou
C86: Objekt:
E87: SO 02 - Stará maštaľ
C88: Časť:
E89: =E11 -> SO 02.3 - Uzemnenie konštrukcie, L profil, vodovod
C91: Miesto: | F91: =F14 -> Bzince pod Javorinou | I91: Dátum: | J91: =IF(J14="","",J14) -> 0
...

Sheet SO 03.1 - Miešacie a skla...
L2: >> skryté stĺpce << | AT2: {dd448007-0255-4c86-8312-45876e612fda}
AT3: 0
D4: KRYCÍ LIST ROZPOČTU | M4: v --- nižšie sa nachádzajú doplnkové a pomocné údaje k zostavám --- v | AT4: False
D6: Stavba:
E7: ='Rekapitulácia stavby'!K6 -> Modernizácia farmy Bzince pod Javorinou
D8: Objekt:
E9: SO 03 - Hnojná koncovka
D10: Časť:
E11: SO 03.1 - Miešacie a skladovacie zariadenie na hnojovnicu 6000 m3
D13: JKSO: | I13: KS:
D14: Miesto: | F14: Bzince pod Javorinou | I14: Dátum: | J14: ='Rekapitulácia stavby'!AN8 -> 0
D16: Objednávateľ: | I16: IČO:
E17: Poľnohospodárske družstvo Bzince pod Javorinou | I17: IČ DPH:
D19: Zhotoviteľ: | I19: IČO: | J19: ='Rekapitulácia stavby'!AN13
E20: ='Rekapitulácia stavby'!E14 | I20: IČ DPH: | J20: ='Rekapitulácia stavby'!AN14
D22: Projektant: | I22: IČO: | J22: =IF('Rekapitulácia stavby'!AN16="","",'Rekapitulácia stavby'!AN16)
E23: =IF('Rekapitulácia stavby'!E17="","",'Rekapitulácia stavby'!E17) | I23: IČ DPH: | J23: =IF('Rekapitulácia stavby'!AN17="","",'Rekapitulácia stavby'!AN17)
D25: Spracovateľ: | I25: IČO: | J25: =IF('Rekapitulácia stavby'!AN19="","",'Rekapitulácia stavby'!AN19)
E26: =IF('Rekapitulácia stavby'!E20="","",'Rekapitulácia stavby'!E20) | I26: IČ DPH: | J26: =IF('Rekapitulácia stavby'!AN20="","",'Rekapitulácia stavby'!AN20)
D28: Poznámka:
D32: Cena bez DPH | J32: =ROUND(J120, 2) -> 0
F34: Základ dane | I34: Sadzba dane | J34: Výška dane
D35: DPH | E35: základná | F35: =ROUND((SUM(BE120:BE121)), 2) -> 0 | I35: 0.2 | J35: =ROUND(((SUM(BE120:BE121))*I35), 2) -> 0
E36: znížená | F36: =ROUND((SUM(BF120:BF121)), 2) -> 0 | I36: 0.2 | J36: =ROUND(((SUM(BF120:BF121))*I36), 2) -> 0
E37: zákl. prenesená | F37: =ROUND((SUM(BG120:BG121)), 2) -> 0 | I37: 0.2 | J37: =0 -> 0
E38: zníž. prenesená | F38: =ROUND((SUM(BH120:BH121)), 2) -> 0 | I38: 0.2 | J38: =0 -> 0
E39: nulová | F39: =ROUND((SUM(BI120:BI121)), 2) -> 0 | I39: 0 | J39: =0 -> 0
D41: Cena s DPH | G41: v | H41: EUR | J41: =SUM(J32:J39) -> 0
D50: Projektant | G50: Spracovateľ
D61: Dátum a podpis: | F61: Pečiatka | G61: Dátum a podpis: | J61: Pečiatka
D65: Objednávateľ | G65: Zhotoviteľ
D76: Dátum a podpis: | F76: Pečiatka | G76: Dátum a podpis: | J76: Pečiatka
C82: REKAPITULÁCIA ROZPOČTU
C84: Stavba:
E85: =E7 -> Modernizácia farmy Bzince pod Javorinou
C86: Objekt:
E87: SO 03 - Hnojná koncovka
C88: Časť:
E89: =E11 -> SO 03.1 - Miešacie a skladovacie zariadenie na hnojovnicu 6000 m3
C91: Miesto: | F91: =F14 -> Bzince pod Javorinou | I91: Dátum: | J91: =IF(J14="","",J14) -> 0
...

Sheet SO 03.2 - Technologické v...
L2: >> skryté stĺpce << | AT2: {69b1b5b6-f064-497e-b1d9-8433821cda5b}
AT3: 0
D4: KRYCÍ LIST ROZPOČTU | M4: v --- nižšie sa nachádzajú doplnkové a pomocné údaje k zostavám --- v | AT4: False
D6: Stavba:
E7: ='Rekapitulácia stavby'!K6 -> Modernizácia farmy Bzince pod Javorinou
D8: Objekt:
E9: SO 03 - Hnojná koncovka
D10: Časť:
E11: SO 03.2 - Technologické vybavenie prečerpávacej nádrže na hnojovnicu
D13: JKSO: | I13: KS:
D14: Miesto: | F14: Bzince pod Javorinou | I14: Dátum: | J14: ='Rekapitulácia stavby'!AN8 -> 0
D16: Objednávateľ: | I16: IČO:
E17: Poľnohospodárske družstvo Bzince pod Javorinou | I17: IČ DPH:
D19: Zhotoviteľ: | I19: IČO: | J19: ='Rekapitulácia stavby'!AN13
E20: ='Rekapitulácia stavby'!E14 | I20: IČ DPH: | J20: ='Rekapitulácia stavby'!AN14
D22: Projektant: | I22: IČO: | J22: =IF('Rekapitulácia stavby'!AN16="","",'Rekapitulácia stavby'!AN16)
E23: =IF('Rekapitulácia stavby'!E17="","",'Rekapitulácia stavby'!E17) | I23: IČ DPH: | J23: =IF('Rekapitulácia stavby'!AN17="","",'Rekapitulácia stavby'!AN17)
D25: Spracovateľ: | I25: IČO: | J25: =IF('Rekapitulácia stavby'!AN19="","",'Rekapitulácia stavby'!AN19)
E26: =IF('Rekapitulácia stavby'!E20="","",'Rekapitulácia stavby'!E20) | I26: IČ DPH: | J26: =IF('Rekapitulácia stavby'!AN20="","",'Rekapitulácia stavby'!AN20)
D28: Poznámka:
D32: Cena bez DPH | J32: =ROUND(J120, 2) -> 0
F34: Základ dane | I34: Sadzba dane | J34: Výška dane
D35: DPH | E35: základná | F35: =ROUND((SUM(BE120:BE121)), 2) -> 0 | I35: 0.2 | J35: =ROUND(((SUM(BE120:BE121))*I35), 2) -> 0
E36: znížená | F36: =ROUND((SUM(BF120:BF121)), 2) -> 0 | I36: 0.2 | J36: =ROUND(((SUM(BF120:BF121))*I36), 2) -> 0
E37: zákl. prenesená | F37: =ROUND((SUM(BG120:BG121)), 2) -> 0 | I37: 0.2 | J37: =0 -> 0
E38: zníž. prenesená | F38: =ROUND((SUM(BH120:BH121)), 2) -> 0 | I38: 0.2 | J38: =0 -> 0
E39: nulová | F39: =ROUND((SUM(BI120:BI121)), 2) -> 0 | I39: 0 | J39: =0 -> 0
D41: Cena s DPH | G41: v | H41: EUR | J41: =SUM(J32:J39) -> 0
D50: Projektant | G50: Spracovateľ
D61: Dátum a podpis: | F61: Pečiatka | G61: Dátum a podpis: | J61: Pečiatka
D65: Objednávateľ | G65: Zhotoviteľ
D76: Dátum a podpis: | F76: Pečiatka | G76: Dátum a podpis: | J76: Pečiatka
C82: REKAPITULÁCIA ROZPOČTU
C84: Stavba:
E85: =E7 -> Modernizácia farmy Bzince pod Javorinou
C86: Objekt:
E87: SO 03 - Hnojná koncovka
C88: Časť:
E89: =E11 -> SO 03.2 - Technologické vybavenie prečerpávacej nádrže na hnojovnicu
C91: Miesto: | F91: =F14 -> Bzince pod Javorinou | I91: Dátum: | J91: =IF(J14="","",J14) -> 0
...

Sheet SO 03.3 - Separátor na vý...
L2: >> skryté stĺpce << | AT2: {d239b299-99fb-48f0-8244-9e03bcafa3aa}
AT3: 0
D4: KRYCÍ LIST ROZPOČTU | M4: v --- nižšie sa nachádzajú doplnkové a pomocné údaje k zostavám --- v | AT4: False
D6: Stavba:
E7: ='Rekapitulácia stavby'!K6 -> Modernizácia farmy Bzince pod Javorinou
D8: Objekt:
E9: SO 03 - Hnojná koncovka
D10: Časť:
E11: SO 03.3 - Separátor na výrobu podstieľky
D13: JKSO: | I13: KS:
D14: Miesto: | F14: Bzince pod Javorinou | I14: Dátum: | J14: ='Rekapitulácia stavby'!AN8 -> 0
D16: Objednávateľ: | I16: IČO:
E17: Poľnohospodárske družstvo Bzince pod Javorinou | I17: IČ DPH:
D19: Zhotoviteľ: | I19: IČO: | J19: ='Rekapitulácia stavby'!AN13
E20: ='Rekapitulácia stavby'!E14 | I20: IČ DPH: | J20: ='Rekapitulácia stavby'!AN14
D22: Projektant: | I22: IČO: | J22: =IF('Rekapitulácia stavby'!AN16="","",'Rekapitulácia stavby'!AN16)
E23: =IF('Rekapitulácia stavby'!E17="","",'Rekapitulácia stavby'!E17) | I23: IČ DPH: | J23: =IF('Rekapitulácia stavby'!AN17="","",'Rekapitulácia stavby'!AN17)
D25: Spracovateľ: | I25: IČO: | J25: =IF('Rekapitulácia stavby'!AN19="","",'Rekapitulácia stavby'!AN19)
E26: =IF('Rekapitulácia stavby'!E20="","",'Rekapitulácia stavby'!E20) | I26: IČ DPH: | J26: =IF('Rekapitulácia stavby'!AN20="","",'Rekapitulácia stavby'!AN20)
D28: Poznámka:
D32: Cena bez DPH | J32: =ROUND(J120, 2) -> 0
F34: Základ dane | I34: Sadzba dane | J34: Výška dane
D35: DPH | E35: základná | F35: =ROUND((SUM(BE120:BE121)), 2) -> 0 | I35: 0.2 | J35: =ROUND(((SUM(BE120:BE121))*I35), 2) -> 0
E36: znížená | F36: =ROUND((SUM(BF120:BF121)), 2) -> 0 | I36: 0.2 | J36: =ROUND(((SUM(BF120:BF121))*I36), 2) -> 0
E37: zákl. prenesená | F37: =ROUND((SUM(BG120:BG121)), 2) -> 0 | I37: 0.2 | J37: =0 -> 0
E38: zníž. prenesená | F38: =ROUND((SUM(BH120:BH121)), 2) -> 0 | I38: 0.2 | J38: =0 -> 0
E39: nulová | F39: =ROUND((SUM(BI120:BI121)), 2) -> 0 | I39: 0 | J39: =0 -> 0
D41: Cena s DPH | G41: v | H41: EUR | J41: =SUM(J32:J39) -> 0
D50: Projektant | G50: Spracovateľ
D61: Dátum a podpis: | F61: Pečiatka | G61: Dátum a podpis: | J61: Pečiatka
D65: Objednávateľ | G65: Zhotoviteľ
D76: Dátum a podpis: | F76: Pečiatka | G76: Dátum a podpis: | J76: Pečiatka
C82: REKAPITULÁCIA ROZPOČTU
C84: Stavba:
E85: =E7 -> Modernizácia farmy Bzince pod Javorinou
C86: Objekt:
E87: SO 03 - Hnojná koncovka
C88: Časť:
E89: =E11 -> SO 03.3 - Separátor na výrobu podstieľky
C91: Miesto: | F91: =F14 -> Bzince pod Javorinou | I91: Dátum: | J91: =IF(J14="","",J14) -> 0
...

Sheet SO 03.4 - Stavebné úpravy
L2: >> skryté stĺpce << | AT2: {6fdfaa27-9c09-4836-b294-9691ab5addc7}
AT3: 0
D4: KRYCÍ LIST ROZPOČTU | M4: v --- nižšie sa nachádzajú doplnkové a pomocné údaje k zostavám --- v | AT4: False
D6: Stavba:
E7: ='Rekapitulácia stavby'!K6 -> Modernizácia farmy Bzince pod Javorinou
D8: Objekt:
E9: SO 03 - Hnojná koncovka
D10: Časť:
E11: SO 03.4 - Stavebné úpravy
D13: JKSO: | I13: KS:
D14: Miesto: | F14: Bzince pod Javorinou | I14: Dátum: | J14: ='Rekapitulácia stavby'!AN8 -> 0
D16: Objednávateľ: | I16: IČO:
E17: Poľnohospodárske družstvo Bzince pod Javorinou | I17: IČ DPH:
D19: Zhotoviteľ: | I19: IČO: | J19: ='Rekapitulácia stavby'!AN13
E20: ='Rekapitulácia stavby'!E14 | I20: IČ DPH: | J20: ='Rekapitulácia stavby'!AN14
D22: Projektant: | I22: IČO: | J22: =IF('Rekapitulácia stavby'!AN16="","",'Rekapitulácia stavby'!AN16)
E23: =IF('Rekapitulácia stavby'!E17="","",'Rekapitulácia stavby'!E17) | I23: IČ DPH: | J23: =IF('Rekapitulácia stavby'!AN17="","",'Rekapitulácia stavby'!AN17)
D25: Spracovateľ: | I25: IČO: | J25: =IF('Rekapitulácia stavby'!AN19="","",'Rekapitulácia stavby'!AN19)
E26: =IF('Rekapitulácia stavby'!E20="","",'Rekapitulácia stavby'!E20) | I26: IČ DPH: | J26: =IF('Rekapitulácia stavby'!AN20="","",'Rekapitulácia stavby'!AN20)
D28: Poznámka:
D32: Cena bez DPH | J32: =ROUND(J134, 2) -> 0
F34: Základ dane | I34: Sadzba dane | J34: Výška dane
D35: DPH | E35: základná | F35: =ROUND((SUM(BE134:BE198)), 2) -> 0 | I35: 0.2 | J35: =ROUND(((SUM(BE134:BE198))*I35), 2) -> 0
E36: znížená | F36: =ROUND((SUM(BF134:BF198)), 2) -> 0 | I36: 0.2 | J36: =ROUND(((SUM(BF134:BF198))*I36), 2) -> 0
E37: zákl. prenesená | F37: =ROUND((SUM(BG134:BG198)), 2) -> 0 | I37: 0.2 | J37: =0 -> 0
E38: zníž. prenesená | F38: =ROUND((SUM(BH134:BH198)), 2) -> 0 | I38: 0.2 | J38: =0 -> 0
E39: nulová | F39: =ROUND((SUM(BI134:BI198)), 2) -> 0 | I39: 0 | J39: =0 -> 0
D41: Cena s DPH | G41: v | H41: EUR | J41: =SUM(J32:J39) -> 0
D50: Projektant | G50: Spracovateľ
D61: Dátum a podpis: | F61: Pečiatka | G61: Dátum a podpis: | J61: Pečiatka
D65: Objednávateľ | G65: Zhotoviteľ
D76: Dátum a podpis: | F76: Pečiatka | G76: Dátum a podpis: | J76: Pečiatka
C82: REKAPITULÁCIA ROZPOČTU
C84: Stavba:
E85: =E7 -> Modernizácia farmy Bzince pod Javorinou
C86: Objekt:
E87: SO 03 - Hnojná koncovka
C88: Časť:
E89: =E11 -> SO 03.4 - Stavebné úpravy
C91: Miesto: | F91: =F14 -> Bzince pod Javorinou | I91: Dátum: | J91: =IF(J14="","",J14) -> 0
...

Sheet SO 03.5 - Búracie práce m...
L2: >> skryté stĺpce << | AT2: {b0ed488d-8e6e-407e-b275-ebb5f9efc9a2}
AT3: 0
D4: KRYCÍ LIST ROZPOČTU | M4: v --- nižšie sa nachádzajú doplnkové a pomocné údaje k zostavám --- v | AT4: False
D6: Stavba:
E7: ='Rekapitulácia stavby'!K6 -> Modernizácia farmy Bzince pod Javorinou
D8: Objekt:
E9: SO 03 - Hnojná koncovka
D10: Časť:
E11: SO 03.5 - Búracie práce maštaľ 1275/24 (výkrm ošípaných)
D13: JKSO: | I13: KS:
D14: Miesto: | F14: Bzince pod Javorinou | I14: Dátum: | J14: ='Rekapitulácia stavby'!AN8 -> 0
D16: Objednávateľ: | I16: IČO:
E17: Poľnohospodárske družstvo Bzince pod Javorinou | I17: IČ DPH:
D19: Zhotoviteľ: | I19: IČO: | J19: ='Rekapitulácia stavby'!AN13
E20: ='Rekapitulácia stavby'!E14 | I20: IČ DPH: | J20: ='Rekapitulácia stavby'!AN14
D22: Projektant: | I22: IČO: | J22: =IF('Rekapitulácia stavby'!AN16="","",'Rekapitulácia stavby'!AN16)
E23: =IF('Rekapitulácia stavby'!E17="","",'Rekapitulácia stavby'!E17) | I23: IČ DPH: | J23: =IF('Rekapitulácia stavby'!AN17="","",'Rekapitulácia stavby'!AN17)
D25: Spracovateľ: | I25: IČO: | J25: =IF('Rekapitulácia stavby'!AN19="","",'Rekapitulácia stavby'!AN19)
E26: =IF('Rekapitulácia stavby'!E20="","",'Rekapitulácia stavby'!E20) | I26: IČ DPH: | J26: =IF('Rekapitulácia stavby'!AN20="","",'Rekapitulácia stavby'!AN20)
D28: Poznámka:
D32: Cena bez DPH | J32: =ROUND(J120, 2) -> 0
F34: Základ dane | I34: Sadzba dane | J34: Výška dane
D35: DPH | E35: základná | F35: =ROUND((SUM(BE120:BE124)), 2) -> 0 | I35: 0.2 | J35: =ROUND(((SUM(BE120:BE124))*I35), 2) -> 0
E36: znížená | F36: =ROUND((SUM(BF120:BF124)), 2) -> 0 | I36: 0.2 | J36: =ROUND(((SUM(BF120:BF124))*I36), 2) -> 0
E37: zákl. prenesená | F37: =ROUND((SUM(BG120:BG124)), 2) -> 0 | I37: 0.2 | J37: =0 -> 0
E38: zníž. prenesená | F38: =ROUND((SUM(BH120:BH124)), 2) -> 0 | I38: 0.2 | J38: =0 -> 0
E39: nulová | F39: =ROUND((SUM(BI120:BI124)), 2) -> 0 | I39: 0 | J39: =0 -> 0
D41: Cena s DPH | G41: v | H41: EUR | J41: =SUM(J32:J39) -> 0
D50: Projektant | G50: Spracovateľ
D61: Dátum a podpis: | F61: Pečiatka | G61: Dátum a podpis: | J61: Pečiatka
D65: Objednávateľ | G65: Zhotoviteľ
D76: Dátum a podpis: | F76: Pečiatka | G76: Dátum a podpis: | J76: Pečiatka
C82: REKAPITULÁCIA ROZPOČTU
C84: Stavba:
E85: =E7 -> Modernizácia farmy Bzince pod Javorinou
C86: Objekt:
E87: SO 03 - Hnojná koncovka
C88: Časť:
E89: =E11 -> SO 03.5 - Búracie práce maštaľ 1275/24 (výkrm ošípaných)
C91: Miesto: | F91: =F14 -> Bzince pod Javorinou | I91: Dátum: | J91: =IF(J14="","",J14) -> 0
...

Sheet SO 03.6 - Príprava staven...
L2: >> skryté stĺpce << | AT2: {aba2ad95-29b1-4de0-b2ab-6801c6286442}
AT3: 0
D4: KRYCÍ LIST ROZPOČTU | M4: v --- nižšie sa nachádzajú doplnkové a pomocné údaje k zostavám --- v | AT4: False
D6: Stavba:
E7: ='Rekapitulácia stavby'!K6 -> Modernizácia farmy Bzince pod Javorinou
D8: Objekt:
E9: SO 03 - Hnojná koncovka
D10: Časť:
E11: SO 03.6 - Príprava staveniska
D13: JKSO: | I13: KS:
D14: Miesto: | F14: Bzince pod Javorinou | I14: Dátum: | J14: ='Rekapitulácia stavby'!AN8 -> 0
D16: Objednávateľ: | I16: IČO:
E17: Poľnohospodárske družstvo Bzince pod Javorinou | I17: IČ DPH:
D19: Zhotoviteľ: | I19: IČO: | J19: ='Rekapitulácia stavby'!AN13
E20: ='Rekapitulácia stavby'!E14 | I20: IČ DPH: | J20: ='Rekapitulácia stavby'!AN14
D22: Projektant: | I22: IČO: | J22: =IF('Rekapitulácia stavby'!AN16="","",'Rekapitulácia stavby'!AN16)
E23: =IF('Rekapitulácia stavby'!E17="","",'Rekapitulácia stavby'!E17) | I23: IČ DPH: | J23: =IF('Rekapitulácia stavby'!AN17="","",'Rekapitulácia stavby'!AN17)
D25: Spracovateľ: | I25: IČO: | J25: =IF('Rekapitulácia stavby'!AN19="","",'Rekapitulácia stavby'!AN19)
E26: =IF('Rekapitulácia stavby'!E20="","",'Rekapitulácia stavby'!E20) | I26: IČ DPH: | J26: =IF('Rekapitulácia stavby'!AN20="","",'Rekapitulácia stavby'!AN20)
D28: Poznámka:
D32: Cena bez DPH | J32: =ROUND(J120, 2) -> 0
F34: Základ dane | I34: Sadzba dane | J34: Výška dane
D35: DPH | E35: základná | F35: =ROUND((SUM(BE120:BE121)), 2) -> 0 | I35: 0.2 | J35: =ROUND(((SUM(BE120:BE121))*I35), 2) -> 0
E36: znížená | F36: =ROUND((SUM(BF120:BF121)), 2) -> 0 | I36: 0.2 | J36: =ROUND(((SUM(BF120:BF121))*I36), 2) -> 0
E37: zákl. prenesená | F37: =ROUND((SUM(BG120:BG121)), 2) -> 0 | I37: 0.2 | J37: =0 -> 0
E38: zníž. prenesená | F38: =ROUND((SUM(BH120:BH121)), 2) -> 0 | I38: 0.2 | J38: =0 -> 0
E39: nulová | F39: =ROUND((SUM(BI120:BI121)), 2) -> 0 | I39: 0 | J39: =0 -> 0
D41: Cena s DPH | G41: v | H41: EUR | J41: =SUM(J32:J39) -> 0
D50: Projektant | G50: Spracovateľ
D61: Dátum a podpis: | F61: Pečiatka | G61: Dátum a podpis: | J61: Pečiatka
D65: Objednávateľ | G65: Zhotoviteľ
D76: Dátum a podpis: | F76: Pečiatka | G76: Dátum a podpis: | J76: Pečiatka
C82: REKAPITULÁCIA ROZPOČTU
C84: Stavba:
E85: =E7 -> Modernizácia farmy Bzince pod Javorinou
C86: Objekt:
E87: SO 03 - Hnojná koncovka
C88: Časť:
E89: =E11 -> SO 03.6 - Príprava staveniska
C91: Miesto: | F91: =F14 -> Bzince pod Javorinou | I91: Dátum: | J91: =IF(J14="","",J14) -> 0
...

Sheet SO 03.7 - Spevnené plochy...
L2: >> skryté stĺpce << | AT2: {4c6a3c14-f527-4e8b-a16b-bd45e4bf2a0e}
AT3: 0
D4: KRYCÍ LIST ROZPOČTU | M4: v --- nižšie sa nachádzajú doplnkové a pomocné údaje k zostavám --- v | AT4: False
D6: Stavba:
E7: ='Rekapitulácia stavby'!K6 -> Modernizácia farmy Bzince pod Javorinou
D8: Objekt:
E9: SO 03 - Hnojná koncovka
D10: Časť:
E11: SO 03.7 - Spevnené plochy - nové 10% z N na stavbu
D13: JKSO: | I13: KS:
D14: Miesto: | F14: Bzince pod Javorinou | I14: Dátum: | J14: ='Rekapitulácia stavby'!AN8 -> 0
D16: Objednávateľ: | I16: IČO:
E17: Poľnohospodárske družstvo Bzince pod Javorinou | I17: IČ DPH:
D19: Zhotoviteľ: | I19: IČO: | J19: ='Rekapitulácia stavby'!AN13
E20: ='Rekapitulácia stavby'!E14 | I20: IČ DPH: | J20: ='Rekapitulácia stavby'!AN14
D22: Projektant: | I22: IČO: | J22: =IF('Rekapitulácia stavby'!AN16="","",'Rekapitulácia stavby'!AN16)
E23: =IF('Rekapitulácia stavby'!E17="","",'Rekapitulácia stavby'!E17) | I23: IČ DPH: | J23: =IF('Rekapitulácia stavby'!AN17="","",'Rekapitulácia stavby'!AN17)
D25: Spracovateľ: | I25: IČO: | J25: =IF('Rekapitulácia stavby'!AN19="","",'Rekapitulácia stavby'!AN19)
E26: =IF('Rekapitulácia stavby'!E20="","",'Rekapitulácia stavby'!E20) | I26: IČ DPH: | J26: =IF('Rekapitulácia stavby'!AN20="","",'Rekapitulácia stavby'!AN20)
D28: Poznámka:
D32: Cena bez DPH | J32: =ROUND(J124, 2) -> 0
F34: Základ dane | I34: Sadzba dane | J34: Výška dane
D35: DPH | E35: základná | F35: =ROUND((SUM(BE124:BE135)), 2) -> 0 | I35: 0.2 | J35: =ROUND(((SUM(BE124:BE135))*I35), 2) -> 0
E36: znížená | F36: =ROUND((SUM(BF124:BF135)), 2) -> 0 | I36: 0.2 | J36: =ROUND(((SUM(BF124:BF135))*I36), 2) -> 0
E37: zákl. prenesená | F37: =ROUND((SUM(BG124:BG135)), 2) -> 0 | I37: 0.2 | J37: =0 -> 0
E38: zníž. prenesená | F38: =ROUND((SUM(BH124:BH135)), 2) -> 0 | I38: 0.2 | J38: =0 -> 0
E39: nulová | F39: =ROUND((SUM(BI124:BI135)), 2) -> 0 | I39: 0 | J39: =0 -> 0
D41: Cena s DPH | G41: v | H41: EUR | J41: =SUM(J32:J39) -> 0
D50: Projektant | G50: Spracovateľ
D61: Dátum a podpis: | F61: Pečiatka | G61: Dátum a podpis: | J61: Pečiatka
D65: Objednávateľ | G65: Zhotoviteľ
D76: Dátum a podpis: | F76: Pečiatka | G76: Dátum a podpis: | J76: Pečiatka
C82: REKAPITULÁCIA ROZPOČTU
C84: Stavba:
E85: =E7 -> Modernizácia farmy Bzince pod Javorinou
C86: Objekt:
E87: SO 03 - Hnojná koncovka
C88: Časť:
E89: =E11 -> SO 03.7 - Spevnené plochy - nové 10% z N na stavbu
C91: Miesto: | F91: =F14 -> Bzince pod Javorinou | I91: Dátum: | J91: =IF(J14="","",J14) -> 0
...

Sheet SO 04 - Rotačné kefy pre ...
L2: >> skryté stĺpce << | AT2: {b5c4b642-fd4e-407b-bb54-78e2bbf91059}
AT3: 0
D4: KRYCÍ LIST ROZPOČTU | M4: v --- nižšie sa nachádzajú doplnkové a pomocné údaje k zostavám --- v | AT4: False
D6: Stavba:
E7: ='Rekapitulácia stavby'!K6 -> Modernizácia farmy Bzince pod Javorinou
D8: Objekt:
E9: SO 04 - Rotačné kefy pre dobytok
D11: JKSO: | I11: KS:
D12: Miesto: | F12: Bzince pod Javorinou | I12: Dátum: | J12: ='Rekapitulácia stavby'!AN8 -> 0
D14: Objednávateľ: | I14: IČO:
E15: Poľnohospodárske družstvo Bzince pod Javorinou | I15: IČ DPH:
D17: Zhotoviteľ: | I17: IČO: | J17: ='Rekapitulácia stavby'!AN13
E18: ='Rekapitulácia stavby'!E14 | I18: IČ DPH: | J18: ='Rekapitulácia stavby'!AN14
D20: Projektant: | I20: IČO: | J20: =IF('Rekapitulácia stavby'!AN16="","",'Rekapitulácia stavby'!AN16)
E21: =IF('Rekapitulácia stavby'!E17="","",'Rekapitulácia stavby'!E17) | I21: IČ DPH: | J21: =IF('Rekapitulácia stavby'!AN17="","",'Rekapitulácia stavby'!AN17)
D23: Spracovateľ: | I23: IČO: | J23: =IF('Rekapitulácia stavby'!AN19="","",'Rekapitulácia stavby'!AN19)
E24: =IF('Rekapitulácia stavby'!E20="","",'Rekapitulácia stavby'!E20) | I24: IČ DPH: | J24: =IF('Rekapitulácia stavby'!AN20="","",'Rekapitulácia stavby'!AN20)
D26: Poznámka:
D30: Cena bez DPH | J30: =ROUND(J117, 2) -> 0
F32: Základ dane | I32: Sadzba dane | J32: Výška dane
D33: DPH | E33: základná | F33: =ROUND((SUM(BE117:BE119)), 2) -> 0 | I33: 0.2 | J33: =ROUND(((SUM(BE117:BE119))*I33), 2) -> 0
E34: znížená | F34: =ROUND((SUM(BF117:BF119)), 2) -> 0 | I34: 0.2 | J34: =ROUND(((SUM(BF117:BF119))*I34), 2) -> 0
E35: zákl. prenesená | F35: =ROUND((SUM(BG117:BG119)), 2) -> 0 | I35: 0.2 | J35: =0 -> 0
E36: zníž. prenesená | F36: =ROUND((SUM(BH117:BH119)), 2) -> 0 | I36: 0.2 | J36: =0 -> 0
E37: nulová | F37: =ROUND((SUM(BI117:BI119)), 2) -> 0 | I37: 0 | J37: =0 -> 0
D39: Cena s DPH | G39: v | H39: EUR | J39: =SUM(J30:J37) -> 0
D50: Projektant | G50: Spracovateľ
D61: Dátum a podpis: | F61: Pečiatka | G61: Dátum a podpis: | J61: Pečiatka
D65: Objednávateľ | G65: Zhotoviteľ
D76: Dátum a podpis: | F76: Pečiatka | G76: Dátum a podpis: | J76: Pečiatka
C82: REKAPITULÁCIA ROZPOČTU
C84: Stavba:
E85: =E7 -> Modernizácia farmy Bzince pod Javorinou
C86: Objekt:
E87: =E9 -> SO 04 - Rotačné kefy pre dobytok
C89: Miesto: | F89: =F12 -> Bzince pod Javorinou | I89: Dátum: | J89: =IF(J12="","",J12) -> 0
C91: Objednávateľ: | F91: =E15 -> Poľnohospodárske družstvo Bzince pod Javorinou | I91: Projektant: | J91: =E21
C92: Zhotoviteľ: | F92: =IF(E18="","",E18) | I92: Spracovateľ: | J92: =E24
C94: Kód dielu - Popis | J94: Cena celkom [EUR]
C96: Náklady z rozpočtu | J96: =J117 -> 0 | AU96: -1
...

Sheet SO 05 - Šnekový prihrňova...
L2: >> skryté stĺpce << | AT2: {0ceb864d-b795-4524-ba8a-72a26c7ac218}
AT3: 0
D4: KRYCÍ LIST ROZPOČTU | M4: v --- nižšie sa nachádzajú doplnkové a pomocné údaje k zostavám --- v | AT4: False
D6: Stavba:
E7: ='Rekapitulácia stavby'!K6 -> Modernizácia farmy Bzince pod Javorinou
D8: Objekt:
E9: SO 05 - Šnekový prihrňovač krmiva
D11: JKSO: | I11: KS:
D12: Miesto: | F12: Bzince pod Javorinou | I12: Dátum: | J12: ='Rekapitulácia stavby'!AN8 -> 0
D14: Objednávateľ: | I14: IČO:
E15: Poľnohospodárske družstvo Bzince pod Javorinou | I15: IČ DPH:
D17: Zhotoviteľ: | I17: IČO: | J17: ='Rekapitulácia stavby'!AN13
E18: ='Rekapitulácia stavby'!E14 | I18: IČ DPH: | J18: ='Rekapitulácia stavby'!AN14
D20: Projektant: | I20: IČO: | J20: =IF('Rekapitulácia stavby'!AN16="","",'Rekapitulácia stavby'!AN16)
E21: =IF('Rekapitulácia stavby'!E17="","",'Rekapitulácia stavby'!E17) | I21: IČ DPH: | J21: =IF('Rekapitulácia stavby'!AN17="","",'Rekapitulácia stavby'!AN17)
D23: Spracovateľ: | I23: IČO: | J23: =IF('Rekapitulácia stavby'!AN19="","",'Rekapitulácia stavby'!AN19)
E24: =IF('Rekapitulácia stavby'!E20="","",'Rekapitulácia stavby'!E20) | I24: IČ DPH: | J24: =IF('Rekapitulácia stavby'!AN20="","",'Rekapitulácia stavby'!AN20)
D26: Poznámka:
D30: Cena bez DPH | J30: =ROUND(J117, 2) -> 0
F32: Základ dane | I32: Sadzba dane | J32: Výška dane
D33: DPH | E33: základná | F33: =ROUND((SUM(BE117:BE119)), 2) -> 0 | I33: 0.2 | J33: =ROUND(((SUM(BE117:BE119))*I33), 2) -> 0
E34: znížená | F34: =ROUND((SUM(BF117:BF119)), 2) -> 0 | I34: 0.2 | J34: =ROUND(((SUM(BF117:BF119))*I34), 2) -> 0
E35: zákl. prenesená | F35: =ROUND((SUM(BG117:BG119)), 2) -> 0 | I35: 0.2 | J35: =0 -> 0
E36: zníž. prenesená | F36: =ROUND((SUM(BH117:BH119)), 2) -> 0 | I36: 0.2 | J36: =0 -> 0
E37: nulová | F37: =ROUND((SUM(BI117:BI119)), 2) -> 0 | I37: 0 | J37: =0 -> 0
D39: Cena s DPH | G39: v | H39: EUR | J39: =SUM(J30:J37) -> 0
D50: Projektant | G50: Spracovateľ
D61: Dátum a podpis: | F61: Pečiatka | G61: Dátum a podpis: | J61: Pečiatka
D65: Objednávateľ | G65: Zhotoviteľ
D76: Dátum a podpis: | F76: Pečiatka | G76: Dátum a podpis: | J76: Pečiatka
C82: REKAPITULÁCIA ROZPOČTU
C84: Stavba:
E85: =E7 -> Modernizácia farmy Bzince pod Javorinou
C86: Objekt:
E87: =E9 -> SO 05 - Šnekový prihrňovač krmiva
C89: Miesto: | F89: =F12 -> Bzince pod Javorinou | I89: Dátum: | J89: =IF(J12="","",J12) -> 0
C91: Objednávateľ: | F91: =E15 -> Poľnohospodárske družstvo Bzince pod Javorinou | I91: Projektant: | J91: =E21
C92: Zhotoviteľ: | F92: =IF(E18="","",E18) | I92: Spracovateľ: | J92: =E24
C94: Kód dielu - Popis | J94: Cena celkom [EUR]
C96: Náklady z rozpočtu | J96: =J117 -> 0 | AU96: -1
...
