Workbook

Sheet Rekapitulácia stavby
A1: Export Komplet | BA1: 2.0 | BT1: False | BU1: False | BV1: {8df9de25-b1a5-4d54-8383-af40b97fc45c}
AR2: >> skryté stĺpce << | BS2: 0,01 | BT2: 20
BS3: 0,01 | BT3: 20
D4: REKAPITULÁCIA STAVBY | AS4: v --- nižšie sa nachádzajú doplnkové a pomocné údaje k zostavám --- v | BS4: 0,001
D5: Kód: | BS5: 0,01
D6: Stavba: | K6: Modernizácia farmy Bzince pod Javorinou | BS6: 0,01
D7: JKSO: | AK7: KS: | BS7: 0,01
D8: Miesto: | K8: Bzince pod Javorinou | AK8: Dátum: | BS8: 0,01
BS9: 0,01
D10: Objednávateľ: | AK10: IČO: | BS10: 0,01
E11: Poľnohospodárske družstvo Bzince pod Javorinou | AK11: IČ DPH: | BS11: 0,01
BS12: 0,01
D13: Zhotoviteľ: | AK13: IČO: | BS13: 0,01
AK14: IČ DPH: | BS14: 0,01
BS15: False
D16: Projektant: | AK16: IČO: | BS16: False
AK17: IČ DPH: | BS17: True
BS18: 0,01
D19: Spracovateľ: | AK19: IČO: | BS19: 0,01
AK20: IČ DPH: | BS20: True
D22: Poznámka:
D26: Cena bez DPH | AK26: =ROUND(AG94,2) -> 0
L28: Sadzba dane | W28: Základ dane | AK28: Výška dane
D29: DPH | F29: základná | L29: 0.2 | W29: =ROUND(AZ94, 2) -> #REF! | AK29: =ROUND(AV94, 2) -> #REF!
F30: znížená | L30: 0.2 | W30: =AK26 -> 0 | AK30: =ROUND(W30*0.2,2) -> 0
F31: zákl. prenesená | L31: 0.2 | W31: =ROUND(BB94, 2) -> #REF! | AK31: 0
F32: zníž. prenesená | L32: 0.2 | W32: =ROUND(BC94, 2) -> #REF! | AK32: 0
F33: nulová | L33: 0 | W33: =ROUND(BD94, 2) -> #REF! | AK33: 0
D35: Cena s DPH | T35: v | X35: EUR | AK35: =SUM(AK26,AK30) -> 0
D49: Projektant | AH49: Spracovateľ
D60: Dátum a podpis: | V60: Pečiatka | AH60: Dátum a podpis: | AM60: Pečiatka
D64: Objednávateľ | AH64: Zhotoviteľ
D75: Dátum a podpis: | V75: Pečiatka | AH75: Dátum a podpis: | AM75: Pečiatka
C82: REKAPITULÁCIA OBJEKTOV STAVBY
C84: Kód: | L84: =K5 -> 0
C85: Stavba: | L85: =K6 -> Modernizácia farmy Bzince pod Javorinou
C87: Miesto: | L87: =IF(K8="","",K8) -> Bzince pod Javorinou | AI87: Dátum: | AM87: =IF(AN8= "","",AN8)
C89: Objednávateľ: | L89: =IF(E11= "","",E11) -> Poľnohospodárske družstvo Bzince pod Javorinou | AI89: Projektant: | AM89: =IF(E17="","",E17) | AS89: Informatívne údaje z listov zákaziek
C90: Zhotoviteľ: | L90: =IF(E14="","",E14) | AI90: Spracovateľ: | AM90: =IF(E20="","",E20)
C92: Kód | I92: Popis | AG92: Cena bez DPH [EUR] | AN92: Cena s DPH [EUR] | AQ92: Typ | AS92: z toho Ostat._x000D_ náklady [EUR] | AT92: DPH [EUR] | AU92: Normohodiny [h] | AV92: DPH základná [EUR] | AW92: DPH znížená [EUR] | AX92: DPH základná prenesená_x000D_ [EUR] | AY92: DPH znížená prenesená_x000D_ [EUR] | AZ92: Základňa_x000D_ DPH základná | BA92: Základňa_x000D_ DPH znížená | BB92: Základňa_x000D_ DPH zákl. prenesená | BC92: Základňa_x000D_ DPH zníž. prenesená | BD92: Základňa_x000D_ DPH nulová
C94: Náklady z rozpočtov | AG94: =ROUND(AG95+AG96+AG100+AG108+AG109,2) -> 0 | AN94: =SUM(AN95,AN96,AN100,AN108,AN109) -> 0 | AS94: =ROUND(AS95+AS96+AS100+AS108+AS109,2) -> #REF! | AT94: =ROUND(SUM(AV94:AW94),2) -> #REF! | AU94: =ROUND(AU95+AU96+AU100+AU108+AU109,5) -> #REF! | AV94: =ROUND(AZ94*L29,2) -> #REF! | AW94: =ROUND(BA94*L30,2) -> #REF! | AX94: =ROUND(BB94*L29,2) -> #REF! | AY94: =ROUND(BC94*L30,2) -> #REF! | AZ94: =ROUND(AZ95+AZ96+AZ100+AZ108+AZ109,2) -> #REF! | BA94: =ROUND(BA95+BA96+BA100+BA108+BA109,2) -> #REF! | BB94: =ROUND(BB95+BB96+BB100+BB108+BB109,2) -> #REF! | BC94: =ROUND(BC95+BC96+BC100+BC108+BC109,2) -> #REF! | BD94: =ROUND(BD95+BD96+BD100+BD108+BD109,2) -> #REF! | BS94: D | BT94: 0 | BU94: ###NOIMPORT### | BV94: IMPORT | BW94: {8df9de25-b1a5-4d54-8383-af40b97fc45c} | BX94: {00000000-0000-0000-0000-000000000000}
D95: SO 01 | J95: Plachtová maštaľ | AG95: ='SO 01 - Plachtová maštaľ '!J32 -> 0 | AN95: ='SO 01 - Plachtová maštaľ '!J41 -> 0 | AQ95: STA | AS95: =ROUND(#REF!,2) -> #REF! | AT95: =ROUND(SUM(AV95:AW95),2) -> #REF! | AU95: =ROUND(#REF!,5) -> #REF! | AV95: =ROUND(AZ95*L29,2) -> #REF! | AW95: =ROUND(BA95*L30,2) -> #REF! | AX95: =ROUND(BB95*L29,2) -> #REF! | AY95: =ROUND(BC95*L30,2) -> #REF! | AZ95: =ROUND(#REF!,2) -> #REF! | BA95: =ROUND(#REF!,2) -> #REF! | BB95: =ROUND(#REF!,2) -> #REF! | BC95: =ROUND(#REF!,2) -> #REF! | BD95: =ROUND(#REF!,2) -> #REF! | BS95: D | BT95: 1 | BU95: ###NOIMPORT### | BV95: IMPORT | BW95: {8fc221de-911d-4e8c-9824-3a1605d4fe4a} | BX95: {8df9de25-b1a5-4d54-8383-af40b97fc45c} | CM95: 0
D96: SO 02 | J96: Stará maštaľ | AG96: =ROUND(SUM(AG97:AG99),2) -> 0 | AN96: =SUM(AG96,AT96) -> 0 | AQ96: STA | AS96: =ROUND(SUM(AS97:AS99),2) -> 0 | AT96: =ROUND(SUM(AV96:AW96),2) -> 0 | AU96: =ROUND(SUM(AU97:AU99),5) -> 9180.6721 | AV96: =ROUND(AZ96*L29,2) -> 0 | AW96: =ROUND(BA96*L30,2) -> 0 | AX96: =ROUND(BB96*L29,2) -> 0 | AY96: =ROUND(BC96*L30,2) -> 0 | AZ96: =ROUND(SUM(AZ97:AZ99),2) -> 0 | BA96: =ROUND(SUM(BA97:BA99),2) -> 0 | BB96: =ROUND(SUM(BB97:BB99),2) -> 0 | BC96: =ROUND(SUM(BC97:BC99),2) -> 0 | BD96: =ROUND(SUM(BD97:BD99),2) -> 0 | BS96: D | BT96: 1 | BU96: ###NOIMPORT### | BV96: IMPORT | BW96: {f996a49e-a21a-4eb8-9947-eab6f1e97bf3} | BX96: {8df9de25-b1a5-4d54-8383-af40b97fc45c} | CM96: 0
A97: / | E97: SO 02.1 | K97: Štrbina a rolovacie brány, protiprievanové plachty | AG97: ='SO 02.1 - Štrbina a rolov...'!J32 -> 0 | AN97: =SUM(AG97,AT97) -> 0 | AQ97: Časť | AS97: 0 | AT97: =ROUND(SUM(AV97:AW97),2) -> 0 | AU97: ='SO 02.1 - Štrbina a rolov...'!P121 -> 0 | AV97: ='SO 02.1 - Štrbina a rolov...'!J35 -> 0 | AW97: ='SO 02.1 - Štrbina a rolov...'!J36 -> 0 | AX97: ='SO 02.1 - Štrbina a rolov...'!J37 -> 0 | AY97: ='SO 02.1 - Štrbina a rolov...'!J38 -> 0 | AZ97: ='SO 02.1 - Štrbina a rolov...'!F35 -> 0 | BA97: ='SO 02.1 - Štrbina a rolov...'!F36 -> 0 | BB97: ='SO 02.1 - Štrbina a rolov...'!F37 -> 0 | BC97: ='SO 02.1 - Štrbina a rolov...'!F38 -> 0 | BD97: ='SO 02.1 - Štrbina a rolov...'!F39 -> 0 | BT97: 2 | BV97: IMPORT | BW97: {86c479be-8666-409e-afac-a8768069f048} | BX97: {f996a49e-a21a-4eb8-9947-eab6f1e97bf3}
A98: / | E98: SO 02.2 | K98: Stavebné úpravy, búranie, betonáž,... | AG98: ='SO 02.2 - Stavebné úpravy...'!J32 -> 0 | AN98: =SUM(AG98,AT98) -> 0 | AQ98: Časť | AS98: 0 | AT98: =ROUND(SUM(AV98:AW98),2) -> 0 | AU98: ='SO 02.2 - Stavebné úpravy...'!P130 -> 7515.7245 | AV98: ='SO 02.2 - Stavebné úpravy...'!J35 -> 0 | AW98: ='SO 02.2 - Stavebné úpravy...'!J36 -> 0 | AX98: ='SO 02.2 - Stavebné úpravy...'!J37 -> 0 | AY98: ='SO 02.2 - Stavebné úpravy...'!J38 -> 0 | AZ98: ='SO 02.2 - Stavebné úpravy...'!F35 -> 0 | BA98: ='SO 02.2 - Stavebné úpravy...'!F36 -> 0 | BB98: ='SO 02.2 - Stavebné úpravy...'!F37 -> 0 | BC98: ='SO 02.2 - Stavebné úpravy...'!F38 -> 0 | BD98: ='SO 02.2 - Stavebné úpravy...'!F39 -> 0 | BT98: 2 | BV98: IMPORT | BW98: {427c3c13-7888-41cd-9c20-56079622fd83} | BX98: {f996a49e-a21a-4eb8-9947-eab6f1e97bf3}
A99: / | E99: SO 02.3 | K99: Uzemnenie konštrukcie, L profil, vodovod | AG99: ='SO 02.3 - Uzemnenie konšt...'!J32 -> 0 | AN99: =SUM(AG99,AT99) -> 0 | AQ99: Časť | AS99: 0 | AT99: =ROUND(SUM(AV99:AW99),2) -> 0 | AU99: ='SO 02.3 - Uzemnenie konšt...'!P129 -> 1664.9476 | AV99: ='SO 02.3 - Uzemnenie konšt...'!J35 -> 0 | AW99: ='SO 02.3 - Uzemnenie konšt...'!J36 -> 0 | AX99: ='SO 02.3 - Uzemnenie konšt...'!J37 -> 0 | AY99: ='SO 02.3 - Uzemnenie konšt...'!J38 -> 0 | AZ99: ='SO 02.3 - Uzemnenie konšt...'!F35 -> 0 | BA99: ='SO 02.3 - Uzemnenie konšt...'!F36 -> 0 | BB99: ='SO 02.3 - Uzemnenie konšt...'!F37 -> 0 | BC99: ='SO 02.3 - Uzemnenie konšt...'!F38 -> 0 | BD99: ='SO 02.3 - Uzemnenie konšt...'!F39 -> 0 | BT99: 2 | BV99: IMPORT | BW99: {44a5189e-a453-4b28-9a17-f080f3a7ff88} | BX99: {f996a49e-a21a-4eb8-9947-eab6f1e97bf3}
D100: SO 03 | J100: Hnojná koncovka | AG100: =ROUND(SUM(AG101:AG107),2) -> 0 | AN100: =SUM(AG100,AT100) -> 0 | AQ100: STA | AS100: =ROUND(SUM(AS101:AS107),2) -> 0 | AT100: =ROUND(SUM(AV100:AW100),2) -> 0 | AU100: =ROUND(SUM(AU101:AU107),5) -> 2959.9059 | AV100: =ROUND(AZ100*L29,2) -> 0 | AW100: =ROUND(BA100*L30,2) -> 0 | AX100: =ROUND(BB100*L29,2) -> 0 | AY100: =ROUND(BC100*L30,2) -> 0 | AZ100: =ROUND(SUM(AZ101:AZ107),2) -> 0 | BA100: =ROUND(SUM(BA101:BA107),2) -> 0 | BB100: =ROUND(SUM(BB101:BB107),2) -> 0 | BC100: =ROUND(SUM(BC101:BC107),2) -> 0 | BD100: =ROUND(SUM(BD101:BD107),2) -> 0 | BS100: D | BT100: 1 | BU100: ###NOIMPORT### | BV100: IMPORT | BW100: {7b702e88-10d7-4a6f-ba99-d71240f21f28} | BX100: {8df9de25-b1a5-4d54-8383-af40b97fc45c} | CM100: 0
A101: / | E101: SO 03.1 | K101: Miešacie a skladovacie zariadenie na hnojovnicu 6000 m3 | AG101: ='SO 03.1 - Miešacie a skla...'!J32 -> 0 | AN101: =SUM(AG101,AT101) -> 0 | AQ101: Časť | AS101: 0 | AT101: =ROUND(SUM(AV101:AW101),2) -> 0 | AU101: ='SO 03.1 - Miešacie a skla...'!P120 -> 0 | AV101: ='SO 03.1 - Miešacie a skla...'!J35 -> 0 | AW101: ='SO 03.1 - Miešacie a skla...'!J36 -> 0 | AX101: ='SO 03.1 - Miešacie a skla...'!J37 -> 0 | AY101: ='SO 03.1 - Miešacie a skla...'!J38 -> 0 | AZ101: ='SO 03.1 - Miešacie a skla...'!F35 -> 0 | BA101: ='SO 03.1 - Miešacie a skla...'!F36 -> 0 | BB101: ='SO 03.1 - Miešacie a skla...'!F37 -> 0 | BC101: ='SO 03.1 - Miešacie a skla...'!F38 -> 0 | BD101: ='SO 03.1 - Miešacie a skla...'!F39 -> 0 | BT101: 2 | BV101: IMPORT | BW101: {dd448007-0255-4c86-8312-45876e612fda} | BX101: {7b702e88-10d7-4a6f-ba99-d71240f21f28}
A102: / | E102: SO 03.2 | K102: Technologické vybavenie prečerpávacej nádrže na hnojovnicu | AG102: ='SO 03.2 - Technologické v...'!J32 -> 0 | AN102: =SUM(AG102,AT102) -> 0 | AQ102: Časť | AS102: 0 | AT102: =ROUND(SUM(AV102:AW102),2) -> 0 | AU102: ='SO 03.2 - Technologické v...'!P120 -> 0 | AV102: ='SO 03.2 - Technologické v...'!J35 -> 0 | AW102: ='SO 03.2 - Technologické v...'!J36 -> 0 | AX102: ='SO 03.2 - Technologické v...'!J37 -> 0 | AY102: ='SO 03.2 - Technologické v...'!J38 -> 0 | AZ102: ='SO 03.2 - Technologické v...'!F35 -> 0 | BA102: ='SO 03.2 - Technologické v...'!F36 -> 0 | BB102: ='SO 03.2 - Technologické v...'!F37 -> 0 | BC102: ='SO 03.2 - Technologické v...'!F38 -> 0 | BD102: ='SO 03.2 - Technologické v...'!F39 -> 0 | BT102: 2 | BV102: IMPORT | BW102: {69b1b5b6-f064-497e-b1d9-8433821cda5b} | BX102: {7b702e88-10d7-4a6f-ba99-d71240f21f28}
A103: / | E103: SO 03.3 | K103: Separátor na výrobu podstieľky | AG103: ='SO 03.3 - Separátor na vý...'!J32 -> 0 | AN103: =SUM(AG103,AT103) -> 0 | AQ103: Časť | AS103: 0 | AT103: =ROUND(SUM(AV103:AW103),2) -> 0 | AU103: ='SO 03.3 - Separátor na vý...'!P120 -> 0 | AV103: ='SO 03.3 - Separátor na vý...'!J35 -> 0 | AW103: ='SO 03.3 - Separátor na vý...'!J36 -> 0 | AX103: ='SO 03.3 - Separátor na vý...'!J37 -> 0 | AY103: ='SO 03.3 - Separátor na vý...'!J38 -> 0 | AZ103: ='SO 03.3 - Separátor na vý...'!F35 -> 0 | BA103: ='SO 03.3 - Separátor na vý...'!F36 -> 0 | BB103: ='SO 03.3 - Separátor na vý...'!F37 -> 0 | BC103: ='SO 03.3 - Separátor na vý...'!F38 -> 0 | BD103: ='SO 03.3 - Separátor na vý...'!F39 -> 0 | BT103: 2 | BV103: IMPORT | BW103: {d239b299-99fb-48f0-8244-9e03bcafa3aa} | BX103: {7b702e88-10d7-4a6f-ba99-d71240f21f28}
A104: / | E104: SO 03.4 | K104: Stavebné úpravy | AG104: ='SO 03.4 - Stavebné úpravy'!J32 -> 0 | AN104: =SUM(AG104,AT104) -> 0 | AQ104: Časť | AS104: 0 | AT104: =ROUND(SUM(AV104:AW104),2) -> 0 | AU104: ='SO 03.4 - Stavebné úpravy'!P134 -> 1953.4861 | AV104: ='SO 03.4 - Stavebné úpravy'!J35 -> 0 | AW104: ='SO 03.4 - Stavebné úpravy'!J36 -> 0 | AX104: ='SO 03.4 - Stavebné úpravy'!J37 -> 0 | AY104: ='SO 03.4 - Stavebné úpravy'!J38 -> 0 | AZ104: ='SO 03.4 - Stavebné úpravy'!F35 -> 0 | BA104: ='SO 03.4 - Stavebné úpravy'!F36 -> 0 | BB104: ='SO 03.4 - Stavebné úpravy'!F37 -> 0 | BC104: ='SO 03.4 - Stavebné úpravy'!F38 -> 0 | BD104: ='SO 03.4 - Stavebné úpravy'!F39 -> 0 | BT104: 2 | BV104: IMPORT | BW104: {6fdfaa27-9c09-4836-b294-9691ab5addc7} | BX104: {7b702e88-10d7-4a6f-ba99-d71240f21f28}
A105: / | E105: SO 03.5 | K105: Búracie práce maštaľ 1275/24 (výkrm ošípaných) | AG105: ='SO 03.5 - Búracie práce m...'!J32 -> 0 | AN105: =SUM(AG105,AT105) -> 0 | AQ105: Časť | AS105: 0 | AT105: =ROUND(SUM(AV105:AW105),2) -> 0 | AU105: ='SO 03.5 - Búracie práce m...'!P120 -> 0 | AV105: ='SO 03.5 - Búracie práce m...'!J35 -> 0 | AW105: ='SO 03.5 - Búracie práce m...'!J36 -> 0 | AX105: ='SO 03.5 - Búracie práce m...'!J37 -> 0 | AY105: ='SO 03.5 - Búracie práce m...'!J38 -> 0 | AZ105: ='SO 03.5 - Búracie práce m...'!F35 -> 0 | BA105: ='SO 03.5 - Búracie práce m...'!F36 -> 0 | BB105: ='SO 03.5 - Búracie práce m...'!F37 -> 0 | BC105: ='SO 03.5 - Búracie práce m...'!F38 -> 0 | BD105: ='SO 03.5 - Búracie práce m...'!F39 -> 0 | BT105: 2 | BV105: IMPORT | BW105: {b0ed488d-8e6e-407e-b275-ebb5f9efc9a2} | BX105: {7b702e88-10d7-4a6f-ba99-d71240f21f28}
A106: / | E106: SO 03.6 | K106: Príprava staveniska | AG106: ='SO 03.6 - Príprava staven...'!J32 -> 0 | AN106: =SUM(AG106,AT106) -> 0 | AQ106: Časť | AS106: 0 | AT106: =ROUND(SUM(AV106:AW106),2) -> 0 | AU106: ='SO 03.6 - Príprava staven...'!P120 -> 0 | AV106: ='SO 03.6 - Príprava staven...'!J35 -> 0 | AW106: ='SO 03.6 - Príprava staven...'!J36 -> 0 | AX106: ='SO 03.6 - Príprava staven...'!J37 -> 0 | AY106: ='SO 03.6 - Príprava staven...'!J38 -> 0 | AZ106: ='SO 03.6 - Príprava staven...'!F35 -> 0 | BA106: ='SO 03.6 - Príprava staven...'!F36 -> 0 | BB106: ='SO 03.6 - Príprava staven...'!F37 -> 0 | BC106: ='SO 03.6 - Príprava staven...'!F38 -> 0 | BD106: ='SO 03.6 - Príprava staven...'!F39 -> 0 | BT106: 2 | BV106: IMPORT | BW106: {aba2ad95-29b1-4de0-b2ab-6801c6286442} | BX106: {7b702e88-10d7-4a6f-ba99-d71240f21f28}
A107: / | E107: SO 03.7 | K107: Spevnené plochy - nové 10% z N na stavbu | AG107: ='SO 03.7 - Spevnené plochy...'!J32 -> 0 | AN107: =SUM(AG107,AT107) -> 0 | AQ107: Časť | AS107: 0 | AT107: =ROUND(SUM(AV107:AW107),2) -> 0 | AU107: ='SO 03.7 - Spevnené plochy...'!P124 -> 1006.4198 | AV107: ='SO 03.7 - Spevnené plochy...'!J35 -> 0 | AW107: ='SO 03.7 - Spevnené plochy...'!J36 -> 0 | AX107: ='SO 03.7 - Spevnené plochy...'!J37 -> 0 | AY107: ='SO 03.7 - Spevnené plochy...'!J38 -> 0 | AZ107: ='SO 03.7 - Spevnené plochy...'!F35 -> 0 | BA107: ='SO 03.7 - Spevnené plochy...'!F36 -> 0 | BB107: ='SO 03.7 - Spevnené plochy...'!F37 -> 0 | BC107: ='SO 03.7 - Spevnené plochy...'!F38 -> 0 | BD107: ='SO 03.7 - Spevnené plochy...'!F39 -> 0 | BT107: 2 | BV107: IMPORT | BW107: {4c6a3c14-f527-4e8b-a16b-bd45e4bf2a0e} | BX107: {7b702e88-10d7-4a6f-ba99-d71240f21f28}
A108: / | D108: SO 04 | J108: Rotačné kefy pre dobytok | AG108: ='SO 04 - Rotačné kefy pre ...'!J30 -> 0 | AN108: =SUM(AG108,AT108) -> 0 | AQ108: STA | AS108: 0 | AT108: =ROUND(SUM(AV108:AW108),2) -> 0 | AU108: ='SO 04 - Rotačné kefy pre ...'!P117 -> 0 | AV108: ='SO 04 - Rotačné kefy pre ...'!J33 -> 0 | AW108: ='SO 04 - Rotačné kefy pre ...'!J34 -> 0 | AX108: ='SO 04 - Rotačné kefy pre ...'!J35 -> 0 | AY108: ='SO 04 - Rotačné kefy pre ...'!J36 -> 0 | AZ108: ='SO 04 - Rotačné kefy pre ...'!F33 -> 0 | BA108: ='SO 04 - Rotačné kefy pre ...'!F34 -> 0 | BB108: ='SO 04 - Rotačné kefy pre ...'!F35 -> 0 | BC108: ='SO 04 - Rotačné kefy pre ...'!F36 -> 0 | BD108: ='SO 04 - Rotačné kefy pre ...'!F37 -> 0 | BT108: 1 | BV108: IMPORT | BW108: {b5c4b642-fd4e-407b-bb54-78e2bbf91059} | BX108: {8df9de25-b1a5-4d54-8383-af40b97fc45c} | CM108: 0
A109: / | D109: SO 05 | J109: Šnekový prihrňovač krmiva | AG109: ='SO 05 - Šnekový prihrňova...'!J30 -> 0 | AN109: =SUM(AG109,AT109) -> 0 | AQ109: STA | AS109: 0 | AT109: =ROUND(SUM(AV109:AW109),2) -> 0 | AU109: ='SO 05 - Šnekový prihrňova...'!P117 -> 0 | AV109: ='SO 05 - Šnekový prihrňova...'!J33 -> 0 | AW109: ='SO 05 - Šnekový prihrňova...'!J34 -> 0 | AX109: ='SO 05 - Šnekový prihrňova...'!J35 -> 0 | AY109: ='SO 05 - Šnekový prihrňova...'!J36 -> 0 | AZ109: ='SO 05 - Šnekový prihrňova...'!F33 -> 0 | BA109: ='SO 05 - Šnekový prihrňova...'!F34 -> 0 | BB109: ='SO 05 - Šnekový prihrňova...'!F35 -> 0 | BC109: ='SO 05 - Šnekový prihrňova...'!F36 -> 0 | BD109: ='SO 05 - Šnekový prihrňova...'!F37 -> 0 | BT109: 1 | BV109: IMPORT | BW109: {0ceb864d-b795-4524-ba8a-72a26c7ac218} | BX109: {8df9de25-b1a5-4d54-8383-af40b97fc45c} | CM109: 0

Sheet SO 01 - Plachtová maštaľ 
L2: >> skryté stĺpce << | AT2: {324f5ff6-7b6e-4733-bb46-0fed6b1f55d6}
AT3: 0
D4: KRYCÍ LIST ROZPOČTU | M4: v --- nižšie sa nachádzajú doplnkové a pomocné údaje k zostavám --- v | AT4: False
D6: Stavba:
E7: ='Rekapitulácia stavby'!K6 -> Modernizácia farmy Bzince pod Javorinou
D8: Objekt:
E9: SO 01 - Plachtová maštaľ
D10: Časť:
E11: =E9 -> SO 01 - Plachtová maštaľ
D13: JKSO: | I13: KS:
D14: Miesto: | F14: Bzince pod Javorinou | I14: Dátum: | J14: ='Rekapitulácia stavby'!AN8 -> 0
D16: Objednávateľ: | I16: IČO:
E17: Poľnohospodárske družstvo Bzince pod Javorinou | I17: IČ DPH:
D19: Zhotoviteľ: | I19: IČO: | J19: ='Rekapitulácia stavby'!AN13
E20: ='Rekapitulácia stavby'!E14 | I20: IČ DPH: | J20: ='Rekapitulácia stavby'!AN14
D22: Projektant: | I22: IČO: | J22: =IF('Rekapitulácia stavby'!AN16="","",'Rekapitulácia stavby'!AN16)
E23: =IF('Rekapitulácia stavby'!E17="","",'Rekapitulácia stavby'!E17) | I23: IČ DPH: | J23: =IF('Rekapitulácia stavby'!AN17="","",'Rekapitulácia stavby'!AN17)
D25: Spracovateľ: | I25: IČO: | J25: =IF('Rekapitulácia stavby'!AN19="","",'Rekapitulácia stavby'!AN19)
E26: =IF('Rekapitulácia stavby'!E20="","",'Rekapitulácia stavby'!E20) | I26: IČ DPH: | J26: =IF('Rekapitulácia stavby'!AN20="","",'Rekapitulácia stavby'!AN20)
D28: Poznámka:
D32: Cena bez DPH | J32: =ROUND(J130, 2) -> 0
F34: Základ dane | I34: Sadzba dane | J34: Výška dane
D35: DPH | E35: základná | F35: =ROUND((SUM(BE130:BE175)), 2) -> 0 | I35: 0.2 | J35: =ROUND(((SUM(BE130:BE175))*I35), 2) -> 0
E36: znížená | F36: =ROUND((SUM(BF130:BF175)), 2) -> 0 | I36: 0.2 | J36: =ROUND(((SUM(BF130:BF175))*I36), 2) -> 0
E37: zákl. prenesená | F37: =ROUND((SUM(BG130:BG175)), 2) -> 0 | I37: 0.2 | J37: =0 -> 0
E38: zníž. prenesená | F38: =ROUND((SUM(BH130:BH175)), 2) -> 0 | I38: 0.2 | J38: =0 -> 0
E39: nulová | F39: =ROUND((SUM(BI130:BI175)), 2) -> 0 | I39: 0 | J39: =0 -> 0
D41: Cena s DPH | G41: v | H41: EUR | J41: =SUM(J32:J39) -> 0
D50: Projektant | G50: Spracovateľ
D61: Dátum a podpis: | F61: Pečiatka | G61: Dátum a podpis: | J61: Pečiatka
D65: Objednávateľ | G65: Zhotoviteľ
D76: Dátum a podpis: | F76: Pečiatka | G76: Dátum a podpis: | J76: Pečiatka
C82: REKAPITULÁCIA ROZPOČTU
C84: Stavba:
E85: =E7 -> Modernizácia farmy Bzince pod Javorinou
C86: Objekt:
E87: SO 01 - Plachtová maštaľ
C88: Časť:
E89: =E11 -> SO 01 - Plachtová maštaľ
C91: Miesto: | F91: =F14 -> Bzince pod Javorinou | I91: Dátum: | J91: =IF(J14="","",J14) -> 0
C93: Objednávateľ: | F93: =E17 -> Poľnohospodárske družstvo Bzince pod Javorinou | I93: Projektant: | J93: =E23
C94: Zhotoviteľ: | F94: =IF(E20="","",E20) | I94: Spracovateľ: | J94: =E26
C96: Kód dielu - Popis | J96: Cena celkom [EUR]
C98: Náklady z rozpočtu | J98: =J130 -> 0 | AU98: -1
D99: HSV - Práce a dodávky HSV | J99: =J131 -> 0
D100: 2 - Zakladanie | J100: =J132 -> 0
D101: 8 - Rúrové vedenie | J101: =J140 -> 0
D102: 9 - Ostatné konštrukcie a práce-búranie | J102: =J155 -> 0
D103: 99 - Presun hmôt HSV | J103: =J162 -> 0
D104: PSV - Práce a dodávky PSV | J104: =J164 -> 0
D105: 767 - Konštrukcie doplnkové kovové | J105: =J165 -> 0
D106: 783 - Nátery | J106: =J170 -> 0
D107: M - Práce a dodávky M | J107: =J173 -> 0
D108: 21-M - Elektromontáže | J108: =J174 -> 0
C115: ROZPOČET
C117: Stavba:
E118: =E7 -> Modernizácia farmy Bzince pod Javorinou
C119: Objekt:
E120: SO 01 - Plachtová maštaľ
C121: Časť:
E122: =E11 -> SO 01 - Plachtová maštaľ
C124: Miesto: | F124: =F14 -> Bzince pod Javorinou | I124: Dátum: | J124: =IF(J14="","",J14) -> 0
C126: Objednávateľ: | F126: =E17 -> Poľnohospodárske družstvo Bzince pod Javorinou | I126: Projektant: | J126: =E23
C127: Zhotoviteľ: | F127: =IF(E20="","",E20) | I127: Spracovateľ: | J127: =E26
C129: PČ | D129: Typ | E129: Kód | F129: Popis | G129: MJ | H129: Množstvo | I129: J.cena [EUR] | J129: Cena celkom [EUR] | K129: Cenová sústava | N129: DPH | O129: J. Nh [h] | P129: Nh celkom [h] | Q129: J. hmotnosť [t] | R129: Hmotnosť celkom [t] | S129: J. suť [t] | T129: Suť Celkom [t]
C130: Náklady z rozpočtu | J130: =BK130 -> 0 | P130: =P131+P164+P173 -> 950.65191 | R130: =R131+R164+R173 -> 99.913633 | T130: =T131+T164+T173 -> 110 | AT130: D | AU130: -1 | BK130: =BK131+BK164+BK173 -> 0
D131: D | E131: HSV | F131: Práce a dodávky HSV | J131: =BK131 -> 0 | P131: =P132+P140+P155+P162 -> 752.01375 | R131: =R132+R140+R155+R162 -> 98.62678 | T131: =T132+T140+T155+T162 -> 110 | AR131: 1 | AT131: D | AU131: 0 | AY131: ROZPOCET | BK131: =BK132+BK140+BK155+BK162 -> 0
D132: D | E132: 2 | F132: Zakladanie | J132: =BK132 -> 0 | P132: =SUM(P133:P139) -> 142.0322 | R132: =SUM(R133:R139) -> 97.319238 | T132: =SUM(T133:T139) -> 0 | AR132: 1 | AT132: D | AU132: 1 | AY132: ROZPOCET | BK132: =SUM(BK133:BK139) -> 0
C133: 1 | D133: K | E133: 273321411.S | F133: Betón základových dosiek, železový (bez výstuže), tr. C 25/30 | G133: m3 | H133: 2.35 | J133: =ROUND(I133*H133,2) -> 0 | N133: znížená | O133: 0.61891 | P133: =O133*H133 -> 1.4544385 | Q133: 2.4157202 | R133: =Q133*H133 -> 5.6769425 | S133: 0 | T133: =S133*H133 -> 0 | AR133: 4 | AT133: K | AU133: 2 | AY133: ROZPOCET | BE133: =IF(N133="základná",J133,0) -> 0 | BF133: =IF(N133="znížená",J133,0) -> 0 | BG133: =IF(N133="zákl. prenesená",J133,0) -> 0 | BH133: =IF(N133="zníž. prenesená",J133,0) -> 0 | BI133: =IF(N133="nulová",J133,0) -> 0 | BJ133: 2 | BK133: =ROUND(I133*H133,2) -> 0 | BL133: 4 | BM133: 1209447870
C134: 2 | D134: K | E134: 273351217.S | F134: Debnenie stien základových dosiek, zhotovenie-tradičné | G134: m2 | H134: 18.4 | J134: =ROUND(I134*H134,2) -> 0 | N134: znížená | O134: 0.788 | P134: =O134*H134 -> 14.4992 | Q134: 0.00376776 | R134: =Q134*H134 -> 0.069326784 | S134: 0 | T134: =S134*H134 -> 0 | AR134: 4 | AT134: K | AU134: 2 | AY134: ROZPOCET | BE134: =IF(N134="základná",J134,0) -> 0 | BF134: =IF(N134="znížená",J134,0) -> 0 | BG134: =IF(N134="zákl. prenesená",J134,0) -> 0 | BH134: =IF(N134="zníž. prenesená",J134,0) -> 0 | BI134: =IF(N134="nulová",J134,0) -> 0 | BJ134: 2 | BK134: =ROUND(I134*H134,2) -> 0 | BL134: 4 | BM134: -1506207023
C135: 3 | D135: K | E135: 273351218.S | F135: Debnenie stien základových dosiek, odstránenie-tradičné | G135: m2 | H135: 18.4 | J135: =ROUND(I135*H135,2) -> 0 | N135: znížená | O135: 0.322 | P135: =O135*H135 -> 5.9248 | Q135: 0 | R135: =Q135*H135 -> 0 | S135: 0 | T135: =S135*H135 -> 0 | AR135: 4 | AT135: K | AU135: 2 | AY135: ROZPOCET | BE135: =IF(N135="základná",J135,0) -> 0 | BF135: =IF(N135="znížená",J135,0) -> 0 | BG135: =IF(N135="zákl. prenesená",J135,0) -> 0 | BH135: =IF(N135="zníž. prenesená",J135,0) -> 0 | BI135: =IF(N135="nulová",J135,0) -> 0 | BJ135: 2 | BK135: =ROUND(I135*H135,2) -> 0 | BL135: 4 | BM135: 952444907
C136: 4 | D136: K | E136: 273362422.S | F136: Výstuž základových dosiek zo zvár. sietí KARI, priemer drôtu 6/6 mm, veľkosť oka 150x150 mm | G136: m2 | H136: 15 | J136: =ROUND(I136*H136,2) -> 0 | N136: znížená | O136: 0.04092 | P136: =O136*H136 -> 0.6138 | Q136: 0.00352441 | R136: =Q136*H136 -> 0.05286615 | S136: 0 | T136: =S136*H136 -> 0 | AR136: 4 | AT136: K | AU136: 2 | AY136: ROZPOCET | BE136: =IF(N136="základná",J136,0) -> 0 | BF136: =IF(N136="znížená",J136,0) -> 0 | BG136: =IF(N136="zákl. prenesená",J136,0) -> 0 | BH136: =IF(N136="zníž. prenesená",J136,0) -> 0 | BI136: =IF(N136="nulová",J136,0) -> 0 | BJ136: 2 | BK136: =ROUND(I136*H136,2) -> 0 | BL136: 4 | BM136: 760739690
C137: 5 | D137: K | E137: 274313711.S | F137: Betón, prostý tr. C 25/30 - kanál | G137: m3 | H137: 37.75 | J137: =ROUND(I137*H137,2) -> 0 | N137: znížená | O137: 0.58055 | P137: =O137*H137 -> 21.915762 | Q137: 2.4157202 | R137: =Q137*H137 -> 91.193438 | S137: 0 | T137: =S137*H137 -> 0 | AR137: 4 | AT137: K | AU137: 2 | AY137: ROZPOCET | BE137: =IF(N137="základná",J137,0) -> 0 | BF137: =IF(N137="znížená",J137,0) -> 0 | BG137: =IF(N137="zákl. prenesená",J137,0) -> 0 | BH137: =IF(N137="zníž. prenesená",J137,0) -> 0 | BI137: =IF(N137="nulová",J137,0) -> 0 | BJ137: 2 | BK137: =ROUND(I137*H137,2) -> 0 | BL137: 4 | BM137: -1153501807
C138: 6 | D138: K | E138: 274351217.S | F138: Debnenie stien základových pásov, zhotovenie-tradičné | G138: m2 | H138: 86.7 | J138: =ROUND(I138*H138,2) -> 0 | N138: znížená | O138: 0.799 | P138: =O138*H138 -> 69.2733 | Q138: 0.00376776 | R138: =Q138*H138 -> 0.32666479 | S138: 0 | T138: =S138*H138 -> 0 | AR138: 4 | AT138: K | AU138: 2 | AY138: ROZPOCET | BE138: =IF(N138="základná",J138,0) -> 0 | BF138: =IF(N138="znížená",J138,0) -> 0 | BG138: =IF(N138="zákl. prenesená",J138,0) -> 0 | BH138: =IF(N138="zníž. prenesená",J138,0) -> 0 | BI138: =IF(N138="nulová",J138,0) -> 0 | BJ138: 2 | BK138: =ROUND(I138*H138,2) -> 0 | BL138: 4 | BM138: -1970782739
C139: 7 | D139: K | E139: 274351218.S | F139: Debnenie stien základových pásov, odstránenie-tradičné | G139: m2 | H139: 86.7 | J139: =ROUND(I139*H139,2) -> 0 | N139: znížená | O139: 0.327 | P139: =O139*H139 -> 28.3509 | Q139: 0 | R139: =Q139*H139 -> 0 | S139: 0 | T139: =S139*H139 -> 0 | AR139: 4 | AT139: K | AU139: 2 | AY139: ROZPOCET | BE139: =IF(N139="základná",J139,0) -> 0 | BF139: =IF(N139="znížená",J139,0) -> 0 | BG139: =IF(N139="zákl. prenesená",J139,0) -> 0 | BH139: =IF(N139="zníž. prenesená",J139,0) -> 0 | BI139: =IF(N139="nulová",J139,0) -> 0 | BJ139: 2 | BK139: =ROUND(I139*H139,2) -> 0 | BL139: 4 | BM139: -1752027540
D140: D | E140: 8 | F140: Rúrové vedenie | J140: =BK140 -> 0 | P140: =SUM(P141:P154) -> 21.958 | R140: =SUM(R141:R154) -> 1.306408 | T140: =SUM(T141:T154) -> 0 | AR140: 1 | AT140: D | AU140: 1 | AY140: ROZPOCET | BK140: =SUM(BK141:BK154) -> 0
C141: 8 | D141: K | E141: 871275054.S | F141: Montáž kanalizačného RC potrubia z PE 100 RC SDR11 zváraného elektrotvarovkami D 110x10,0 mm | G141: m | H141: 54 | J141: =ROUND(I141*H141,2) -> 0 | N141: znížená | O141: 0.035 | P141: =O141*H141 -> 1.89 | Q141: 0 | R141: =Q141*H141 -> 0 | S141: 0 | T141: =S141*H141 -> 0 | AR141: 4 | AT141: K | AU141: 2 | AY141: ROZPOCET | BE141: =IF(N141="základná",J141,0) -> 0 | BF141: =IF(N141="znížená",J141,0) -> 0 | BG141: =IF(N141="zákl. prenesená",J141,0) -> 0 | BH141: =IF(N141="zníž. prenesená",J141,0) -> 0 | BI141: =IF(N141="nulová",J141,0) -> 0 | BJ141: 2 | BK141: =ROUND(I141*H141,2) -> 0 | BL141: 4 | BM141: 1382604426
C142: 9 | D142: M | E142: 286130022800.S | F142: Rúra dvojvrstvová na tlakovú kanalizáciu SDR11, 110x10,0x12 m, materiál: PE 100 RC | G142: m | H142: 54 | J142: =ROUND(I142*H142,2) -> 0 | N142: znížená | O142: 0 | P142: =O142*H142 -> 0 | Q142: 0.00382 | R142: =Q142*H142 -> 0.20628 | S142: 0 | T142: =S142*H142 -> 0 | AR142: 8 | AT142: M | AU142: 2 | AY142: ROZPOCET | BE142: =IF(N142="základná",J142,0) -> 0 | BF142: =IF(N142="znížená",J142,0) -> 0 | BG142: =IF(N142="zákl. prenesená",J142,0) -> 0 | BH142: =IF(N142="zníž. prenesená",J142,0) -> 0 | BI142: =IF(N142="nulová",J142,0) -> 0 | BJ142: 2 | BK142: =ROUND(I142*H142,2) -> 0 | BL142: 4 | BM142: -2095050229
C143: 10 | D143: K | E143: 871424014.S | F143: Montáž kanalizačného PP potrubia hladkého plnostenného SN 10 DN 500 | G143: m | H143: 50 | J143: =ROUND(I143*H143,2) -> 0 | N143: znížená | O143: 0.1083 | P143: =O143*H143 -> 5.415 | Q143: 2.8e-05 | R143: =Q143*H143 -> 0.0014 | S143: 0 | T143: =S143*H143 -> 0 | AR143: 4 | AT143: K | AU143: 2 | AY143: ROZPOCET | BE143: =IF(N143="základná",J143,0) -> 0 | BF143: =IF(N143="znížená",J143,0) -> 0 | BG143: =IF(N143="zákl. prenesená",J143,0) -> 0 | BH143: =IF(N143="zníž. prenesená",J143,0) -> 0 | BI143: =IF(N143="nulová",J143,0) -> 0 | BJ143: 2 | BK143: =ROUND(I143*H143,2) -> 0 | BL143: 4 | BM143: 1891859237
C144: 11 | D144: M | E144: 286140002600.S | F144: Rúra hladká PP pre gravitačnú kanalizáciu DN 500 SN 10, dĺ. 2 m | G144: ks | H144: 27.5 | J144: =ROUND(I144*H144,2) -> 0 | N144: znížená | O144: 0 | P144: =O144*H144 -> 0 | Q144: 0.03912 | R144: =Q144*H144 -> 1.0758 | S144: 0 | T144: =S144*H144 -> 0 | AR144: 8 | AT144: M | AU144: 2 | AY144: ROZPOCET | BE144: =IF(N144="základná",J144,0) -> 0 | BF144: =IF(N144="znížená",J144,0) -> 0 | BG144: =IF(N144="zákl. prenesená",J144,0) -> 0 | BH144: =IF(N144="zníž. prenesená",J144,0) -> 0 | BI144: =IF(N144="nulová",J144,0) -> 0 | BJ144: 2 | BK144: =ROUND(I144*H144,2) -> 0 | BL144: 4 | BM144: -996114504
C145: 12 | D145: K | E145: 877261122.S | F145: Montáž navŕtavacej sedlovej elektrotvarovky pre vodovodné potrubia z PE 100 D 110 mm | G145: ks | H145: 1 | J145: =ROUND(I145*H145,2) -> 0 | N145: znížená | O145: 0.58 | P145: =O145*H145 -> 0.58 | Q145: 0 | R145: =Q145*H145 -> 0 | S145: 0 | T145: =S145*H145 -> 0 | AR145: 4 | AT145: K | AU145: 2 | AY145: ROZPOCET | BE145: =IF(N145="základná",J145,0) -> 0 | BF145: =IF(N145="znížená",J145,0) -> 0 | BG145: =IF(N145="zákl. prenesená",J145,0) -> 0 | BH145: =IF(N145="zníž. prenesená",J145,0) -> 0 | BI145: =IF(N145="nulová",J145,0) -> 0 | BJ145: 2 | BK145: =ROUND(I145*H145,2) -> 0 | BL145: 4 | BM145: 2018100
C146: 13 | D146: M | E146: 286530212200.S | F146: Elektrotvarovka, elektrofúzne hrdlové odbočkové sedlo PE100 SDR11 PN16 DN 110/20 mm, spodná časť strmeň | G146: ks | H146: 1 | J146: =ROUND(I146*H146,2) -> 0 | N146: znížená | O146: 0 | P146: =O146*H146 -> 0 | Q146: 0.00045 | R146: =Q146*H146 -> 0.00045 | S146: 0 | T146: =S146*H146 -> 0 | AR146: 8 | AT146: M | AU146: 2 | AY146: ROZPOCET | BE146: =IF(N146="základná",J146,0) -> 0 | BF146: =IF(N146="znížená",J146,0) -> 0 | BG146: =IF(N146="zákl. prenesená",J146,0) -> 0 | BH146: =IF(N146="zníž. prenesená",J146,0) -> 0 | BI146: =IF(N146="nulová",J146,0) -> 0 | BJ146: 2 | BK146: =ROUND(I146*H146,2) -> 0 | BL146: 4 | BM146: 762936775
C147: 14 | D147: K | E147: 877265072.S | F147: Montáž elektrotvarovky pre kanalizačné potrubia z PE 100 D 110 mm | G147: ks | H147: 13 | J147: =ROUND(I147*H147,2) -> 0 | N147: znížená | O147: 0.42 | P147: =O147*H147 -> 5.46 | Q147: 0 | R147: =Q147*H147 -> 0 | S147: 0 | T147: =S147*H147 -> 0 | AR147: 4 | AT147: K | AU147: 2 | AY147: ROZPOCET | BE147: =IF(N147="základná",J147,0) -> 0 | BF147: =IF(N147="znížená",J147,0) -> 0 | BG147: =IF(N147="zákl. prenesená",J147,0) -> 0 | BH147: =IF(N147="zníž. prenesená",J147,0) -> 0 | BI147: =IF(N147="nulová",J147,0) -> 0 | BJ147: 2 | BK147: =ROUND(I147*H147,2) -> 0 | BL147: 4 | BM147: 882331406
C148: 15 | D148: M | E148: 286530232500.S | F148: Elektrokoleno 45° PE 100, na vodu, plyn a kanalizáciu, SDR 11, D 110 mm | G148: ks | H148: 3 | J148: =ROUND(I148*H148,2) -> 0 | N148: znížená | O148: 0 | P148: =O148*H148 -> 0 | Q148: 0.00097 | R148: =Q148*H148 -> 0.00291 | S148: 0 | T148: =S148*H148 -> 0 | AR148: 8 | AT148: M | AU148: 2 | AY148: ROZPOCET | BE148: =IF(N148="základná",J148,0) -> 0 | BF148: =IF(N148="znížená",J148,0) -> 0 | BG148: =IF(N148="zákl. prenesená",J148,0) -> 0 | BH148: =IF(N148="zníž. prenesená",J148,0) -> 0 | BI148: =IF(N148="nulová",J148,0) -> 0 | BJ148: 2 | BK148: =ROUND(I148*H148,2) -> 0 | BL148: 4 | BM148: -71467202
C149: 16 | D149: M | E149: 286530234000.S | F149: Elektrokoleno 90° PE 100, na vodu, plyn a kanalizáciu, SDR 11, D 110 mm | G149: ks | H149: 4 | J149: =ROUND(I149*H149,2) -> 0 | N149: znížená | O149: 0 | P149: =O149*H149 -> 0 | Q149: 0.00126 | R149: =Q149*H149 -> 0.00504 | S149: 0 | T149: =S149*H149 -> 0 | AR149: 8 | AT149: M | AU149: 2 | AY149: ROZPOCET | BE149: =IF(N149="základná",J149,0) -> 0 | BF149: =IF(N149="znížená",J149,0) -> 0 | BG149: =IF(N149="zákl. prenesená",J149,0) -> 0 | BH149: =IF(N149="zníž. prenesená",J149,0) -> 0 | BI149: =IF(N149="nulová",J149,0) -> 0 | BJ149: 2 | BK149: =ROUND(I149*H149,2) -> 0 | BL149: 4 | BM149: 198791949
C150: 17 | D150: M | E150: 286530240100.S | F150: Elektrozáslepka KIT PE 100, na vodu, plyn a kanalizáciu, SDR 11, D 110 mm | G150: ks | H150: 1 | J150: =ROUND(I150*H150,2) -> 0 | N150: znížená | O150: 0 | P150: =O150*H150 -> 0 | Q150: 0.00108 | R150: =Q150*H150 -> 0.00108 | S150: 0 | T150: =S150*H150 -> 0 | AR150: 8 | AT150: M | AU150: 2 | AY150: ROZPOCET | BE150: =IF(N150="základná",J150,0) -> 0 | BF150: =IF(N150="znížená",J150,0) -> 0 | BG150: =IF(N150="zákl. prenesená",J150,0) -> 0 | BH150: =IF(N150="zníž. prenesená",J150,0) -> 0 | BI150: =IF(N150="nulová",J150,0) -> 0 | BJ150: 2 | BK150: =ROUND(I150*H150,2) -> 0 | BL150: 4 | BM150: 501325676
C151: 18 | D151: M | E151: 286530227700.S | F151: Elektrospojka PE 100, na vodu, plyn a kanalizáciu, SDR 11, D 110 mm | G151: ks | H151: 5 | J151: =ROUND(I151*H151,2) -> 0 | N151: znížená | O151: 0 | P151: =O151*H151 -> 0 | Q151: 0.00067 | R151: =Q151*H151 -> 0.00335 | S151: 0 | T151: =S151*H151 -> 0 | AR151: 8 | AT151: M | AU151: 2 | AY151: ROZPOCET | BE151: =IF(N151="základná",J151,0) -> 0 | BF151: =IF(N151="znížená",J151,0) -> 0 | BG151: =IF(N151="zákl. prenesená",J151,0) -> 0 | BH151: =IF(N151="zníž. prenesená",J151,0) -> 0 | BI151: =IF(N151="nulová",J151,0) -> 0 | BJ151: 2 | BK151: =ROUND(I151*H151,2) -> 0 | BL151: 4 | BM151: 647780636
C152: 19 | D152: K | E152: 892311000.S | F152: Skúška tesnosti kanalizácie D 110 mm | G152: m | H152: 54 | J152: =ROUND(I152*H152,2) -> 0 | N152: znížená | O152: 0.057 | P152: =O152*H152 -> 3.078 | Q152: 0 | R152: =Q152*H152 -> 0 | S152: 0 | T152: =S152*H152 -> 0 | AR152: 4 | AT152: K | AU152: 2 | AY152: ROZPOCET | BE152: =IF(N152="základná",J152,0) -> 0 | BF152: =IF(N152="znížená",J152,0) -> 0 | BG152: =IF(N152="zákl. prenesená",J152,0) -> 0 | BH152: =IF(N152="zníž. prenesená",J152,0) -> 0 | BI152: =IF(N152="nulová",J152,0) -> 0 | BJ152: 2 | BK152: =ROUND(I152*H152,2) -> 0 | BL152: 4 | BM152: -1147812043
... C154: 21 | D154: K | E154: 899721132.S | F154: Označenie kanalizačného potrubia hnedou výstražnou fóliou | G154: m | H154: 54 | J154: =ROUND(I154*H154,2) -> 0 | N154: znížená | O154: 0.0525 | P154: =O154*H154 -> 2.835 | Q154: 0.0001 | R154: =Q154*H154 -> 0.0054 | S154: 0 | T154: =S154*H154 -> 0 | AR154: 4 | AT154: K | AU154: 2 | AY154: ROZPOCET | BE154: =IF(N154="základná",J154,0) -> 0 | BF154: =IF(N154="znížená",J154,0) -> 0 | BG154: =IF(N154="zákl. prenesená",J154,0) -> 0 | BH154: =IF(N154="zníž. prenesená",J154,0) -> 0 | BI154: =IF(N154="nulová",J154,0) -> 0 | BJ154: 2 | BK154: =ROUND(I154*H154,2) -> 0 | BL154: 4 | BM154: -1374799448
D155: D | E155: 9 | F155: Ostatné konštrukcie a práce-búranie | J155: =BK155 -> 0 | P155: =SUM(P156:P161) -> 499.4565 | R155: =SUM(R156:R161) -> 0.001134 | T155: =SUM(T156:T161) -> 110 | AR155: 1 | AT155: D | AU155: 1 | AY155: ROZPOCET | BK155: =SUM(BK156:BK161) -> 0
C156: 22 | D156: K | E156: 919735126.S | F156: Rezanie existujúceho betónového krytu | G156: m | H156: 75 | J156: =ROUND(I156*H156,2) -> 0 | N156: znížená | O156: 0.85702 | P156: =O156*H156 -> 64.2765 | Q156: 1.512e-05 | R156: =Q156*H156 -> 0.001134 | S156: 0 | T156: =S156*H156 -> 0 | AR156: 4 | AT156: K | AU156: 2 | AY156: ROZPOCET | BE156: =IF(N156="základná",J156,0) -> 0 | BF156: =IF(N156="znížená",J156,0) -> 0 | BG156: =IF(N156="zákl. prenesená",J156,0) -> 0 | BH156: =IF(N156="zníž. prenesená",J156,0) -> 0 | BI156: =IF(N156="nulová",J156,0) -> 0 | BJ156: 2 | BK156: =ROUND(I156*H156,2) -> 0 | BL156: 4 | BM156: 498946853
C157: 23 | D157: K | E157: 961043111.S | F157: Búranie základov alebo vybúranie otvorov plochy nad 4 m2 z betónu prostého alebo preloženého kameňom, -2,20000t | G157: m3 | H157: 50 | J157: =ROUND(I157*H157,2) -> 0 | N157: znížená | O157: 5.122 | P157: =O157*H157 -> 256.1 | Q157: 0 | R157: =Q157*H157 -> 0 | S157: 2.2 | T157: =S157*H157 -> 110 | AR157: 4 | AT157: K | AU157: 2 | AY157: ROZPOCET | BE157: =IF(N157="základná",J157,0) -> 0 | BF157: =IF(N157="znížená",J157,0) -> 0 | BG157: =IF(N157="zákl. prenesená",J157,0) -> 0 | BH157: =IF(N157="zníž. prenesená",J157,0) -> 0 | BI157: =IF(N157="nulová",J157,0) -> 0 | BJ157: 2 | BK157: =ROUND(I157*H157,2) -> 0 | BL157: 4 | BM157: 350641519
C158: 24 | D158: K | E158: 979081111.S | F158: Odvoz sutiny a vybúraných hmôt na skládku do 1 km | G158: t | H158: 110 | J158: =ROUND(I158*H158,2) -> 0 | N158: znížená | O158: 0.598 | P158: =O158*H158 -> 65.78 | Q158: 0 | R158: =Q158*H158 -> 0 | S158: 0 | T158: =S158*H158 -> 0 | AR158: 4 | AT158: K | AU158: 2 | AY158: ROZPOCET | BE158: =IF(N158="základná",J158,0) -> 0 | BF158: =IF(N158="znížená",J158,0) -> 0 | BG158: =IF(N158="zákl. prenesená",J158,0) -> 0 | BH158: =IF(N158="zníž. prenesená",J158,0) -> 0 | BI158: =IF(N158="nulová",J158,0) -> 0 | BJ158: 2 | BK158: =ROUND(I158*H158,2) -> 0 | BL158: 4 | BM158: -1965531310
C159: 25 | D159: K | E159: 979081121.S | F159: Odvoz sutiny a vybúraných hmôt na skládku za každý ďalší 1 km | G159: t | H159: 2200 | J159: =ROUND(I159*H159,2) -> 0 | N159: znížená | O159: 0.007 | P159: =O159*H159 -> 15.4 | Q159: 0 | R159: =Q159*H159 -> 0 | S159: 0 | T159: =S159*H159 -> 0 | AR159: 4 | AT159: K | AU159: 2 | AY159: ROZPOCET | BE159: =IF(N159="základná",J159,0) -> 0 | BF159: =IF(N159="znížená",J159,0) -> 0 | BG159: =IF(N159="zákl. prenesená",J159,0) -> 0 | BH159: =IF(N159="zníž. prenesená",J159,0) -> 0 | BI159: =IF(N159="nulová",J159,0) -> 0 | BJ159: 2 | BK159: =ROUND(I159*H159,2) -> 0 | BL159: 4 | BM159: 243737825
C160: 26 | D160: K | E160: 979082111.S | F160: Vnútrostavenisková doprava sutiny a vybúraných hmôt do 10 m | G160: t | H160: 110 | J160: =ROUND(I160*H160,2) -> 0 | N160: znížená | O160: 0.89 | P160: =O160*H160 -> 97.9 | Q160: 0 | R160: =Q160*H160 -> 0 | S160: 0 | T160: =S160*H160 -> 0 | AR160: 4 | AT160: K | AU160: 2 | AY160: ROZPOCET | BE160: =IF(N160="základná",J160,0) -> 0 | BF160: =IF(N160="znížená",J160,0) -> 0 | BG160: =IF(N160="zákl. prenesená",J160,0) -> 0 | BH160: =IF(N160="zníž. prenesená",J160,0) -> 0 | BI160: =IF(N160="nulová",J160,0) -> 0 | BJ160: 2 | BK160: =ROUND(I160*H160,2) -> 0 | BL160: 4 | BM160: 1331609762
C161: 27 | D161: K | E161: 979089012.S | F161: Poplatok za skladovanie - betón, tehly, dlaždice (17 01) ostatné | G161: t | H161: 110 | J161: =ROUND(I161*H161,2) -> 0 | N161: znížená | O161: 0 | P161: =O161*H161 -> 0 | Q161: 0 | R161: =Q161*H161 -> 0 | S161: 0 | T161: =S161*H161 -> 0 | AR161: 4 | AT161: K | AU161: 2 | AY161: ROZPOCET | BE161: =IF(N161="základná",J161,0) -> 0 | BF161: =IF(N161="znížená",J161,0) -> 0 | BG161: =IF(N161="zákl. prenesená",J161,0) -> 0 | BH161: =IF(N161="zníž. prenesená",J161,0) -> 0 | BI161: =IF(N161="nulová",J161,0) -> 0 | BJ161: 2 | BK161: =ROUND(I161*H161,2) -> 0 | BL161: 4 | BM161: 1247137681
D162: D | E162: 99 | F162: Presun hmôt HSV | J162: =BK162 -> 0 | P162: =P163 -> 88.567046 | R162: =R163 -> 0 | T162: =T163 -> 0 | AR162: 1 | AT162: D | AU162: 1 | AY162: ROZPOCET | BK162: =BK163 -> 0
C163: 28 | D163: K | E163: 998011001.S | F163: Presun hmôt pre budovy (801, 803, 812), zvislá konštr. z tehál, tvárnic, z kovu výšky do 6 m | G163: t | H163: 98.627 | J163: =ROUND(I163*H163,2) -> 0 | N163: znížená | O163: 0.898 | P163: =O163*H163 -> 88.567046 | Q163: 0 | R163: =Q163*H163 -> 0 | S163: 0 | T163: =S163*H163 -> 0 | AR163: 4 | AT163: K | AU163: 2 | AY163: ROZPOCET | BE163: =IF(N163="základná",J163,0) -> 0 | BF163: =IF(N163="znížená",J163,0) -> 0 | BG163: =IF(N163="zákl. prenesená",J163,0) -> 0 | BH163: =IF(N163="zníž. prenesená",J163,0) -> 0 | BI163: =IF(N163="nulová",J163,0) -> 0 | BJ163: 2 | BK163: =ROUND(I163*H163,2) -> 0 | BL163: 4 | BM163: -792663737
D164: D | E164: PSV | F164: Práce a dodávky PSV | J164: =BK164 -> 0 | P164: =P165+P170 -> 198.63816 | R164: =R165+R170 -> 1.2868526 | T164: =T165+T170 -> 0 | AR164: 2 | AT164: D | AU164: 0 | AY164: ROZPOCET | BK164: =BK165+BK170 -> 0
D165: D | E165: 767 | F165: Konštrukcie doplnkové kovové | J165: =BK165 -> 0 | P165: =SUM(P166:P169) -> 186.096 | R165: =SUM(R166:R169) -> 1.27908 | T165: =SUM(T166:T169) -> 0 | AR165: 2 | AT165: D | AU165: 1 | AY165: ROZPOCET | BK165: =SUM(BK166:BK169) -> 0
...

Sheet SO 02.1 - Štrbina a rolov...
L2: >> skryté stĺpce << | AT2: {86c479be-8666-409e-afac-a8768069f048}
AT3: 0
D4: KRYCÍ LIST ROZPOČTU | M4: v --- nižšie sa nachádzajú doplnkové a pomocné údaje k zostavám --- v | AT4: False
D6: Stavba:
E7: ='Rekapitulácia stavby'!K6 -> Modernizácia farmy Bzince pod Javorinou
D8: Objekt:
E9: SO 02 - Stará maštaľ
D10: Časť:
E11: SO 02.1 - Štrbina a rolovacie brány, protiprievanové plachty
D13: JKSO: | I13: KS:
D14: Miesto: | I14: Dátum: | J14: ='Rekapitulácia stavby'!AN8 -> 0
D16: Objednávateľ: | I16: IČO:
E17: Poľnohospodárske družstvo Bzince pod Javorinou | I17: IČ DPH:
D19: Zhotoviteľ: | I19: IČO: | J19: ='Rekapitulácia stavby'!AN13
E20: ='Rekapitulácia stavby'!E14 | I20: IČ DPH: | J20: ='Rekapitulácia stavby'!AN14
D22: Projektant: | I22: IČO: | J22: =IF('Rekapitulácia stavby'!AN16="","",'Rekapitulácia stavby'!AN16)
E23: =IF('Rekapitulácia stavby'!E17="","",'Rekapitulácia stavby'!E17) | I23: IČ DPH: | J23: =IF('Rekapitulácia stavby'!AN17="","",'Rekapitulácia stavby'!AN17)
D25: Spracovateľ: | I25: IČO: | J25: =IF('Rekapitulácia stavby'!AN19="","",'Rekapitulácia stavby'!AN19)
E26: =IF('Rekapitulácia stavby'!E20="","",'Rekapitulácia stavby'!E20) | I26: IČ DPH: | J26: =IF('Rekapitulácia stavby'!AN20="","",'Rekapitulácia stavby'!AN20)
D28: Poznámka:
D32: Cena bez DPH | J32: =ROUND(J121, 2) -> 0
F34: Základ dane | I34: Sadzba dane | J34: Výška dane
D35: DPH | E35: základná | F35: =ROUND((SUM(BE121:BE134)), 2) -> 0 | I35: 0.2 | J35: =ROUND(((SUM(BE121:BE134))*I35), 2) -> 0
E36: znížená | F36: =ROUND((SUM(BF121:BF134)), 2) -> 0 | I36: 0.2 | J36: =ROUND(((SUM(BF121:BF134))*I36), 2) -> 0
E37: zákl. prenesená | F37: =ROUND((SUM(BG121:BG134)), 2) -> 0 | I37: 0.2 | J37: =0 -> 0
E38: zníž. prenesená | F38: =ROUND((SUM(BH121:BH134)), 2) -> 0 | I38: 0.2 | J38: =0 -> 0
E39: nulová | F39: =ROUND((SUM(BI121:BI134)), 2) -> 0 | I39: 0 | J39: =0 -> 0
D41: Cena s DPH | G41: v | H41: EUR | J41: =SUM(J32:J39) -> 0
D50: Projektant | G50: Spracovateľ
D61: Dátum a podpis: | F61: Pečiatka | G61: Dátum a podpis: | J61: Pečiatka
D65: Objednávateľ | G65: Zhotoviteľ
D76: Dátum a podpis: | F76: Pečiatka | G76: Dátum a podpis: | J76: Pečiatka
C82: REKAPITULÁCIA ROZPOČTU
C84: Stavba:
E85: =E7 -> Modernizácia farmy Bzince pod Javorinou
C86: Objekt:
E87: SO 02 - Stará maštaľ
C88: Časť:
E89: =E11 -> SO 02.1 - Štrbina a rolovacie brány, protiprievanové plachty
C91: Miesto: | F91: =F14 | I91: Dátum: | J91: =IF(J14="","",J14) -> 0
C93: Objednávateľ: | F93: =E17 -> Poľnohospodárske družstvo Bzince pod Javorinou | I93: Projektant: | J93: =E23
C94: Zhotoviteľ: | F94: =IF(E20="","",E20) | I94: Spracovateľ: | J94: =E26
C96: Kód dielu - Popis | J96: Cena celkom [EUR]
C98: Náklady z rozpočtu | J98: =J121 -> 0 | AU98: -1
D99: HSV - Práce a dodávky HSV | J99: =J122 -> 0
C106: ROZPOČET
C108: Stavba:
E109: =E7 -> Modernizácia farmy Bzince pod Javorinou
C110: Objekt:
E111: SO 02 - Stará maštaľ
C112: Časť:
E113: =E11 -> SO 02.1 - Štrbina a rolovacie brány, protiprievanové plachty
C115: Miesto: | F115: =F14 | I115: Dátum: | J115: =IF(J14="","",J14) -> 0
C117: Objednávateľ: | F117: =E17 -> Poľnohospodárske družstvo Bzince pod Javorinou | I117: Projektant: | J117: =E23
C118: Zhotoviteľ: | F118: =IF(E20="","",E20) | I118: Spracovateľ: | J118: =E26
C120: PČ | D120: Typ | E120: Kód | F120: Popis | G120: MJ | H120: Množstvo | I120: J.cena [EUR] | J120: Cena celkom [EUR] | K120: Cenová sústava | N120: DPH | O120: J. Nh [h] | P120: Nh celkom [h] | Q120: J. hmotnosť [t] | R120: Hmotnosť celkom [t] | S120: J. suť [t] | T120: Suť Celkom [t]
C121: Náklady z rozpočtu | J121: =BK121 -> 0 | P121: =P122 -> 0 | R121: =R122 -> 0 | T121: =T122 -> 0 | AT121: D | AU121: -1 | BK121: =BK122 -> 0
D122: D | E122: HSV | F122: Práce a dodávky HSV | J122: =BK122 -> 0 | P122: =SUM(P123:P134) -> 0 | R122: =SUM(R123:R134) -> 0 | T122: =SUM(T123:T134) -> 0 | AR122: 1 | AT122: D | AU122: 0 | AY122: ROZPOCET | BK122: =SUM(BK123:BK134) -> 0
C123: 1 | D123: K | E123: 999668106 | F123: Demontáž oceľového preskleného svetlíka | G123: kpt | H123: 18 | J123: =ROUND(I123*H123,2) -> 0 | N123: znížená | O123: 0 | P123: =O123*H123 -> 0 | Q123: 0 | R123: =Q123*H123 -> 0 | S123: 0 | T123: =S123*H123 -> 0 | AR123: 4 | AT123: K | AU123: 1 | AY123: ROZPOCET | BE123: =IF(N123="základná",J123,0) -> 0 | BF123: =IF(N123="znížená",J123,0) -> 0 | BG123: =IF(N123="zákl. prenesená",J123,0) -> 0 | BH123: =IF(N123="zníž. prenesená",J123,0) -> 0 | BI123: =IF(N123="nulová",J123,0) -> 0 | BJ123: 2 | BK123: =ROUND(I123*H123,2) -> 0 | BL123: 4 | BM123: 1466303266
C124: 2 | D124: K | E124: 451000006 | F124: Náter hornej hrany konštrukcie | G124: kpt | H124: 18 | J124: =ROUND(I124*H124,2) -> 0 | N124: znížená | O124: 0 | P124: =O124*H124 -> 0 | Q124: 0 | R124: =Q124*H124 -> 0 | S124: 0 | T124: =S124*H124 -> 0 | AR124: 4 | AT124: K | AU124: 1 | AY124: ROZPOCET | BE124: =IF(N124="základná",J124,0) -> 0 | BF124: =IF(N124="znížená",J124,0) -> 0 | BG124: =IF(N124="zákl. prenesená",J124,0) -> 0 | BH124: =IF(N124="zníž. prenesená",J124,0) -> 0 | BI124: =IF(N124="nulová",J124,0) -> 0 | BJ124: 2 | BK124: =ROUND(I124*H124,2) -> 0 | BL124: 4 | BM124: 444462400
C125: 3 | D125: K | E125: 400000006 | F125: Hrebeňová vetracia štrbina bez klapky pre veľkosť otvoru do 1,5 m, laminátový oblúk samonosný | G125: kpt | H125: 18 | J125: =ROUND(I125*H125,2) -> 0 | N125: znížená | O125: 0 | P125: =O125*H125 -> 0 | Q125: 0 | R125: =Q125*H125 -> 0 | S125: 0 | T125: =S125*H125 -> 0 | AR125: 4 | AT125: K | AU125: 1 | AY125: ROZPOCET | BE125: =IF(N125="základná",J125,0) -> 0 | BF125: =IF(N125="znížená",J125,0) -> 0 | BG125: =IF(N125="zákl. prenesená",J125,0) -> 0 | BH125: =IF(N125="zníž. prenesená",J125,0) -> 0 | BI125: =IF(N125="nulová",J125,0) -> 0 | BJ125: 2 | BK125: =ROUND(I125*H125,2) -> 0 | BL125: 4 | BM125: -501776110
C126: 4 | D126: K | E126: 404000002 | F126: Zvinovacia stena BVS "A" do výšky 1,85 m | G126: kpt | H126: 2 | J126: =ROUND(I126*H126,2) -> 0 | N126: znížená | O126: 0 | P126: =O126*H126 -> 0 | Q126: 0 | R126: =Q126*H126 -> 0 | S126: 0 | T126: =S126*H126 -> 0 | AR126: 4 | AT126: K | AU126: 1 | AY126: ROZPOCET | BE126: =IF(N126="základná",J126,0) -> 0 | BF126: =IF(N126="znížená",J126,0) -> 0 | BG126: =IF(N126="zákl. prenesená",J126,0) -> 0 | BH126: =IF(N126="zníž. prenesená",J126,0) -> 0 | BI126: =IF(N126="nulová",J126,0) -> 0 | BJ126: 2 | BK126: =ROUND(I126*H126,2) -> 0 | BL126: 4 | BM126: -133090383
C127: 5 | D127: K | E127: 404000003 | F127: Zvinovacia stena BVS "A" do výšky 1,85 m | G127: kpt | H127: 1 | J127: =ROUND(I127*H127,2) -> 0 | N127: znížená | O127: 0 | P127: =O127*H127 -> 0 | Q127: 0 | R127: =Q127*H127 -> 0 | S127: 0 | T127: =S127*H127 -> 0 | AR127: 4 | AT127: K | AU127: 1 | AY127: ROZPOCET | BE127: =IF(N127="základná",J127,0) -> 0 | BF127: =IF(N127="znížená",J127,0) -> 0 | BG127: =IF(N127="zákl. prenesená",J127,0) -> 0 | BH127: =IF(N127="zníž. prenesená",J127,0) -> 0 | BI127: =IF(N127="nulová",J127,0) -> 0 | BJ127: 2 | BK127: =ROUND(I127*H127,2) -> 0 | BL127: 4 | BM127: 1124249919
C128: 6 | D128: K | E128: 411000002 | F128: Krajový ochranný ukončovací kryt plachtový - do výšky 2,0 m | G128: kpt | H128: 6 | J128: =ROUND(I128*H128,2) -> 0 | N128: znížená | O128: 0 | P128: =O128*H128 -> 0 | Q128: 0 | R128: =Q128*H128 -> 0 | S128: 0 | T128: =S128*H128 -> 0 | AR128: 4 | AT128: K | AU128: 1 | AY128: ROZPOCET | BE128: =IF(N128="základná",J128,0) -> 0 | BF128: =IF(N128="znížená",J128,0) -> 0 | BG128: =IF(N128="zákl. prenesená",J128,0) -> 0 | BH128: =IF(N128="zníž. prenesená",J128,0) -> 0 | BI128: =IF(N128="nulová",J128,0) -> 0 | BJ128: 2 | BK128: =ROUND(I128*H128,2) -> 0 | BL128: 4 | BM128: 1174173810
C129: 7 | D129: K | E129: 412000001 | F129: Výdreva základná pre zvinovaciu stenu vrátane konzol (horná+spodná doska, hr. 50 mm) | G129: kpt | H129: 1 | J129: =ROUND(I129*H129,2) -> 0 | N129: znížená | O129: 0 | P129: =O129*H129 -> 0 | Q129: 0 | R129: =Q129*H129 -> 0 | S129: 0 | T129: =S129*H129 -> 0 | AR129: 4 | AT129: K | AU129: 1 | AY129: ROZPOCET | BE129: =IF(N129="základná",J129,0) -> 0 | BF129: =IF(N129="znížená",J129,0) -> 0 | BG129: =IF(N129="zákl. prenesená",J129,0) -> 0 | BH129: =IF(N129="zníž. prenesená",J129,0) -> 0 | BI129: =IF(N129="nulová",J129,0) -> 0 | BJ129: 2 | BK129: =ROUND(I129*H129,2) -> 0 | BL129: 4 | BM129: 587464899
C130: 9 | D130: K | E130: 418000004 | F130: Rolovacie vráta elektrické so zastrešením | G130: kpt | H130: 4 | J130: =ROUND(I130*H130,2) -> 0 | N130: znížená | O130: 0 | P130: =O130*H130 -> 0 | Q130: 0 | R130: =Q130*H130 -> 0 | S130: 0 | T130: =S130*H130 -> 0 | AR130: 4 | AT130: K | AU130: 1 | AY130: ROZPOCET | BE130: =IF(N130="základná",J130,0) -> 0 | BF130: =IF(N130="znížená",J130,0) -> 0 | BG130: =IF(N130="zákl. prenesená",J130,0) -> 0 | BH130: =IF(N130="zníž. prenesená",J130,0) -> 0 | BI130: =IF(N130="nulová",J130,0) -> 0 | BJ130: 2 | BK130: =ROUND(I130*H130,2) -> 0 | BL130: 4 | BM130: 1032430450
C131: 8 | D131: K | E131: 418000006 | F131: Rolovacie vráta elektrické so zastrešením | G131: kpt | H131: 2 | J131: =ROUND(I131*H131,2) -> 0 | N131: znížená | O131: 0 | P131: =O131*H131 -> 0 | Q131: 0 | R131: =Q131*H131 -> 0 | S131: 0 | T131: =S131*H131 -> 0 | AR131: 4 | AT131: K | AU131: 1 | AY131: ROZPOCET | BE131: =IF(N131="základná",J131,0) -> 0 | BF131: =IF(N131="znížená",J131,0) -> 0 | BG131: =IF(N131="zákl. prenesená",J131,0) -> 0 | BH131: =IF(N131="zníž. prenesená",J131,0) -> 0 | BI131: =IF(N131="nulová",J131,0) -> 0 | BJ131: 2 | BK131: =ROUND(I131*H131,2) -> 0 | BL131: 4 | BM131: 1499071595
C132: 10 | D132: K | E132: 419000004 | F132: Rolovacie vráta elektrické so zastrešením | G132: kpt | H132: 2 | J132: =ROUND(I132*H132,2) -> 0 | N132: znížená | O132: 0 | P132: =O132*H132 -> 0 | Q132: 0 | R132: =Q132*H132 -> 0 | S132: 0 | T132: =S132*H132 -> 0 | AR132: 4 | AT132: K | AU132: 1 | AY132: ROZPOCET | BE132: =IF(N132="základná",J132,0) -> 0 | BF132: =IF(N132="znížená",J132,0) -> 0 | BG132: =IF(N132="zákl. prenesená",J132,0) -> 0 | BH132: =IF(N132="zníž. prenesená",J132,0) -> 0 | BI132: =IF(N132="nulová",J132,0) -> 0 | BJ132: 2 | BK132: =ROUND(I132*H132,2) -> 0 | BL132: 4 | BM132: -929148979
C133: 11 | D133: K | E133: 420000004 | F133: Rolovacie vráta elektrické so zastrešením | G133: kpt | H133: 2 | J133: =ROUND(I133*H133,2) -> 0 | N133: znížená | O133: 0 | P133: =O133*H133 -> 0 | Q133: 0 | R133: =Q133*H133 -> 0 | S133: 0 | T133: =S133*H133 -> 0 | AR133: 4 | AT133: K | AU133: 1 | AY133: ROZPOCET | BE133: =IF(N133="základná",J133,0) -> 0 | BF133: =IF(N133="znížená",J133,0) -> 0 | BG133: =IF(N133="zákl. prenesená",J133,0) -> 0 | BH133: =IF(N133="zníž. prenesená",J133,0) -> 0 | BI133: =IF(N133="nulová",J133,0) -> 0 | BJ133: 2 | BK133: =ROUND(I133*H133,2) -> 0 | BL133: 4 | BM133: 485547646
C134: 12 | D134: K | E134: 999668102 | F134: Doprava | G134: kpt | H134: 1 | J134: =ROUND(I134*H134,2) -> 0 | N134: znížená | O134: 0 | P134: =O134*H134 -> 0 | Q134: 0 | R134: =Q134*H134 -> 0 | S134: 0 | T134: =S134*H134 -> 0 | AR134: 4 | AT134: K | AU134: 1 | AY134: ROZPOCET | BE134: =IF(N134="základná",J134,0) -> 0 | BF134: =IF(N134="znížená",J134,0) -> 0 | BG134: =IF(N134="zákl. prenesená",J134,0) -> 0 | BH134: =IF(N134="zníž. prenesená",J134,0) -> 0 | BI134: =IF(N134="nulová",J134,0) -> 0 | BJ134: 2 | BK134: =ROUND(I134*H134,2) -> 0 | BL134: 4 | BM134: 1491672283

Sheet SO 02.2 - Stavebné úpravy...
L2: >> skryté stĺpce << | AT2: {427c3c13-7888-41cd-9c20-56079622fd83}
AT3: 0
D4: KRYCÍ LIST ROZPOČTU | M4: v --- nižšie sa nachádzajú doplnkové a pomocné údaje k zostavám --- v | AT4: False
D6: Stavba:
E7: ='Rekapitulácia stavby'!K6 -> Modernizácia farmy Bzince pod Javorinou
D8: Objekt:
E9: SO 02 - Stará maštaľ
D10: Časť:
E11: SO 02.2 - Stavebné úpravy, búranie, betonáž,...
D13: JKSO: | I13: KS:
D14: Miesto: | F14: Bzince pod Javorinou | I14: Dátum: | J14: ='Rekapitulácia stavby'!AN8 -> 0
D16: Objednávateľ: | I16: IČO:
E17: Poľnohospodárske družstvo Bzince pod Javorinou | I17: IČ DPH:
D19: Zhotoviteľ: | I19: IČO: | J19: ='Rekapitulácia stavby'!AN13
E20: ='Rekapitulácia stavby'!E14 | I20: IČ DPH: | J20: ='Rekapitulácia stavby'!AN14
D22: Projektant: | I22: IČO: | J22: =IF('Rekapitulácia stavby'!AN16="","",'Rekapitulácia stavby'!AN16)
E23: =IF('Rekapitulácia stavby'!E17="","",'Rekapitulácia stavby'!E17) | I23: IČ DPH: | J23: =IF('Rekapitulácia stavby'!AN17="","",'Rekapitulácia stavby'!AN17)
D25: Spracovateľ: | I25: IČO: | J25: =IF('Rekapitulácia stavby'!AN19="","",'Rekapitulácia stavby'!AN19)
E26: =IF('Rekapitulácia stavby'!E20="","",'Rekapitulácia stavby'!E20) | I26: IČ DPH: | J26: =IF('Rekapitulácia stavby'!AN20="","",'Rekapitulácia stavby'!AN20)
D28: Poznámka:
D32: Cena bez DPH | J32: =ROUND(J130, 2) -> 0
F34: Základ dane | I34: Sadzba dane | J34: Výška dane
D35: DPH | E35: základná | F35: =ROUND((SUM(BE130:BE203)), 2) -> 0 | I35: 0.2 | J35: =ROUND(((SUM(BE130:BE203))*I35), 2) -> 0
E36: znížená | F36: =ROUND((SUM(BF130:BF203)), 2) -> 0 | I36: 0.2 | J36: =ROUND(((SUM(BF130:BF203))*I36), 2) -> 0
E37: zákl. prenesená | F37: =ROUND((SUM(BG130:BG203)), 2) -> 0 | I37: 0.2 | J37: =0 -> 0
E38: zníž. prenesená | F38: =ROUND((SUM(BH130:BH203)), 2) -> 0 | I38: 0.2 | J38: =0 -> 0
E39: nulová | F39: =ROUND((SUM(BI130:BI203)), 2) -> 0 | I39: 0 | J39: =0 -> 0
D41: Cena s DPH | G41: v | H41: EUR | J41: =SUM(J32:J39) -> 0
D50: Projektant | G50: Spracovateľ
D61: Dátum a podpis: | F61: Pečiatka | G61: Dátum a podpis: | J61: Pečiatka
D65: Objednávateľ | G65: Zhotoviteľ
D76: Dátum a podpis: | F76: Pečiatka | G76: Dátum a podpis: | J76: Pečiatka
C82: REKAPITULÁCIA ROZPOČTU
C84: Stavba:
E85: =E7 -> Modernizácia farmy Bzince pod Javorinou
C86: Objekt:
E87: SO 02 - Stará maštaľ
C88: Časť:
E89: =E11 -> SO 02.2 - Stavebné úpravy, búranie, betonáž,...
C91: Miesto: | F91: =F14 -> Bzince pod Javorinou | I91: Dátum: | J91: =IF(J14="","",J14) -> 0
C93: Objednávateľ: | F93: =E17 -> Poľnohospodárske družstvo Bzince pod Javorinou | I93: Projektant: | J93: =E23
C94: Zhotoviteľ: | F94: =IF(E20="","",E20) | I94: Spracovateľ: | J94: =E26
C96: Kód dielu - Popis | J96: Cena celkom [EUR]
C98: Náklady z rozpočtu | J98: =J130 -> 0 | AU98: -1
D99: HSV - Práce a dodávky HSV | J99: =J131 -> 0
D100: 2 - Zakladanie | J100: =J132 -> 0
D101: 3 - Zvislé a kompletné konštrukcie | J101: =J145 -> 0
D102: 8 - Rúrové vedenie | J102: =J159 -> 0
D103: 9 - Ostatné konštrukcie a práce-búranie | J103: =J174 -> 0
D104: 99 - Presun hmôt HSV | J104: =J184 -> 0
D105: PSV - Práce a dodávky PSV | J105: =J186 -> 0
D106: 711 - Izolácie proti vode a vlhkosti | J106: =J187 -> 0
D107: 767 - Konštrukcie doplnkové kovové | J107: =J193 -> 0
D108: 783 - Nátery | J108: =J201 -> 0
C115: ROZPOČET
C117: Stavba:
E118: =E7 -> Modernizácia farmy Bzince pod Javorinou
C119: Objekt:
E120: SO 02 - Stará maštaľ
C121: Časť:
E122: =E11 -> SO 02.2 - Stavebné úpravy, búranie, betonáž,...
C124: Miesto: | F124: =F14 -> Bzince pod Javorinou | I124: Dátum: | J124: =IF(J14="","",J14) -> 0
C126: Objednávateľ: | F126: =E17 -> Poľnohospodárske družstvo Bzince pod Javorinou | I126: Projektant: | J126: =E23
C127: Zhotoviteľ: | F127: =IF(E20="","",E20) | I127: Spracovateľ: | J127: =E26
C129: PČ | D129: Typ | E129: Kód | F129: Popis | G129: MJ | H129: Množstvo | I129: J.cena [EUR] | J129: Cena celkom [EUR] | K129: Cenová sústava | N129: DPH | O129: J. Nh [h] | P129: Nh celkom [h] | Q129: J. hmotnosť [t] | R129: Hmotnosť celkom [t] | S129: J. suť [t] | T129: Suť Celkom [t]
C130: Náklady z rozpočtu | J130: =BK130 -> 0 | P130: =P131+P186 -> 7515.7245 | R130: =R131+R186 -> 1295.8663 | T130: =T131+T186 -> 817.2789 | AT130: D | AU130: -1 | BK130: =BK131+BK186 -> 0
D131: D | E131: HSV | F131: Práce a dodávky HSV | J131: =BK131 -> 0 | P131: =P132+P145+P159+P174+P184 -> 7227.0334 | R131: =R132+R145+R159+R174+R184 -> 1291.4723 | T131: =T132+T145+T159+T174+T184 -> 817.2789 | AR131: 1 | AT131: D | AU131: 0 | AY131: ROZPOCET | BK131: =BK132+BK145+BK159+BK174+BK184 -> 0
D132: D | E132: 2 | F132: Zakladanie | J132: =BK132 -> 0 | P132: =SUM(P133:P144) -> 515.72678 | R132: =SUM(R133:R144) -> 806.51926 | T132: =SUM(T133:T144) -> 0 | AR132: 1 | AT132: D | AU132: 1 | AY132: ROZPOCET | BK132: =SUM(BK133:BK144) -> 0
C133: 1 | D133: K | E133: 215901101.S | F133: Úprava podložia po búracích prácach | G133: m2 | H133: 892.32 | J133: =ROUND(I133*H133,2) -> 0 | N133: znížená | O133: 0.004 | P133: =O133*H133 -> 3.56928 | Q133: 0 | R133: =Q133*H133 -> 0 | S133: 0 | T133: =S133*H133 -> 0 | AR133: 4 | AT133: K | AU133: 2 | AY133: ROZPOCET | BE133: =IF(N133="základná",J133,0) -> 0 | BF133: =IF(N133="znížená",J133,0) -> 0 | BG133: =IF(N133="zákl. prenesená",J133,0) -> 0 | BH133: =IF(N133="zníž. prenesená",J133,0) -> 0 | BI133: =IF(N133="nulová",J133,0) -> 0 | BJ133: 2 | BK133: =ROUND(I133*H133,2) -> 0 | BL133: 4 | BM133: 741607692
C134: 2 | D134: K | E134: 271571111.S | F134: Vankúše zhutnené pod betónovú podlahu | G134: m3 | H134: 133.848 | J134: =ROUND(I134*H134,2) -> 0 | N134: znížená | O134: 0.90824 | P134: =O134*H134 -> 121.56611 | Q134: 2.0664 | R134: =Q134*H134 -> 276.58351 | S134: 0 | T134: =S134*H134 -> 0 | AR134: 4 | AT134: K | AU134: 2 | AY134: ROZPOCET | BE134: =IF(N134="základná",J134,0) -> 0 | BF134: =IF(N134="znížená",J134,0) -> 0 | BG134: =IF(N134="zákl. prenesená",J134,0) -> 0 | BH134: =IF(N134="zníž. prenesená",J134,0) -> 0 | BI134: =IF(N134="nulová",J134,0) -> 0 | BJ134: 2 | BK134: =ROUND(I134*H134,2) -> 0 | BL134: 4 | BM134: 1247357722
C135: 3 | D135: K | E135: 273321411.S | F135: Betón základových dosiek, železový (bez výstuže), tr. C 25/30 | G135: m3 | H135: 3.3 | J135: =ROUND(I135*H135,2) -> 0 | N135: znížená | O135: 0.61891 | P135: =O135*H135 -> 2.042403 | Q135: 2.4157202 | R135: =Q135*H135 -> 7.9718767 | S135: 0 | T135: =S135*H135 -> 0 | AR135: 4 | AT135: K | AU135: 2 | AY135: ROZPOCET | BE135: =IF(N135="základná",J135,0) -> 0 | BF135: =IF(N135="znížená",J135,0) -> 0 | BG135: =IF(N135="zákl. prenesená",J135,0) -> 0 | BH135: =IF(N135="zníž. prenesená",J135,0) -> 0 | BI135: =IF(N135="nulová",J135,0) -> 0 | BJ135: 2 | BK135: =ROUND(I135*H135,2) -> 0 | BL135: 4 | BM135: -1613377904
C136: 4 | D136: K | E136: 2743512171.S | F136: Debnenie stien základových dosiek, zhotovenie-tradičné | G136: m2 | H136: 28.9 | J136: =ROUND(I136*H136,2) -> 0 | N136: znížená | O136: 0.788 | P136: =O136*H136 -> 22.7732 | Q136: 0.00376776 | R136: =Q136*H136 -> 0.10888826 | S136: 0 | T136: =S136*H136 -> 0 | AR136: 4 | AT136: K | AU136: 2 | AY136: ROZPOCET | BE136: =IF(N136="základná",J136,0) -> 0 | BF136: =IF(N136="znížená",J136,0) -> 0 | BG136: =IF(N136="zákl. prenesená",J136,0) -> 0 | BH136: =IF(N136="zníž. prenesená",J136,0) -> 0 | BI136: =IF(N136="nulová",J136,0) -> 0 | BJ136: 2 | BK136: =ROUND(I136*H136,2) -> 0 | BL136: 4 | BM136: 250103687
C137: 5 | D137: K | E137: 2743512181.S | F137: Debnenie stien základových dosiek, odstránenie-tradičné | G137: m2 | H137: 28.9 | J137: =ROUND(I137*H137,2) -> 0 | N137: znížená | O137: 0.322 | P137: =O137*H137 -> 9.3058 | Q137: 0 | R137: =Q137*H137 -> 0 | S137: 0 | T137: =S137*H137 -> 0 | AR137: 4 | AT137: K | AU137: 2 | AY137: ROZPOCET | BE137: =IF(N137="základná",J137,0) -> 0 | BF137: =IF(N137="znížená",J137,0) -> 0 | BG137: =IF(N137="zákl. prenesená",J137,0) -> 0 | BH137: =IF(N137="zníž. prenesená",J137,0) -> 0 | BI137: =IF(N137="nulová",J137,0) -> 0 | BJ137: 2 | BK137: =ROUND(I137*H137,2) -> 0 | BL137: 4 | BM137: 664449582
C138: 6 | D138: K | E138: 273321511.S | F138: Betón podláh vodostavebný (bez výstuže), tr. C 30/37 | G138: m3 | H138: 178.464 | J138: =ROUND(I138*H138,2) -> 0 | N138: znížená | O138: 0.61891 | P138: =O138*H138 -> 110.45315 | Q138: 2.3453392 | R138: =Q138*H138 -> 418.55862 | S138: 0 | T138: =S138*H138 -> 0 | AR138: 4 | AT138: K | AU138: 2 | AY138: ROZPOCET | BE138: =IF(N138="základná",J138,0) -> 0 | BF138: =IF(N138="znížená",J138,0) -> 0 | BG138: =IF(N138="zákl. prenesená",J138,0) -> 0 | BH138: =IF(N138="zníž. prenesená",J138,0) -> 0 | BI138: =IF(N138="nulová",J138,0) -> 0 | BJ138: 2 | BK138: =ROUND(I138*H138,2) -> 0 | BL138: 4 | BM138: 1108267677
C139: 7 | D139: K | E139: 273362021.S | F139: Výstuž základových dosiek zo zvár. sietí KARI 6/6 100/100 | G139: t | H139: 5.569 | J139: =ROUND(I139*H139,2) -> 0 | N139: znížená | O139: 15.11 | P139: =O139*H139 -> 84.14759 | Q139: 1.2029614 | R139: =Q139*H139 -> 6.6992921 | S139: 0 | T139: =S139*H139 -> 0 | AR139: 4 | AT139: K | AU139: 2 | AY139: ROZPOCET | BE139: =IF(N139="základná",J139,0) -> 0 | BF139: =IF(N139="znížená",J139,0) -> 0 | BG139: =IF(N139="zákl. prenesená",J139,0) -> 0 | BH139: =IF(N139="zníž. prenesená",J139,0) -> 0 | BI139: =IF(N139="nulová",J139,0) -> 0 | BJ139: 2 | BK139: =ROUND(I139*H139,2) -> 0 | BL139: 4 | BM139: -275603330
C140: 8 | D140: K | E140: 273362421.S | F140: Príplatok za zváranie KARI | G140: m2 | H140: 1012.44 | J140: =ROUND(I140*H140,2) -> 0 | N140: znížená | O140: 0.04092 | P140: =O140*H140 -> 41.429045 | Q140: 0.00493801 | R140: =Q140*H140 -> 4.9994388 | S140: 0 | T140: =S140*H140 -> 0 | AR140: 4 | AT140: K | AU140: 2 | AY140: ROZPOCET | BE140: =IF(N140="základná",J140,0) -> 0 | BF140: =IF(N140="znížená",J140,0) -> 0 | BG140: =IF(N140="zákl. prenesená",J140,0) -> 0 | BH140: =IF(N140="zníž. prenesená",J140,0) -> 0 | BI140: =IF(N140="nulová",J140,0) -> 0 | BJ140: 2 | BK140: =ROUND(I140*H140,2) -> 0 | BL140: 4 | BM140: -1445315526
C141: 9 | D141: K | E141: 273362422.S | F141: Výstuž základových dosiek zo zvár. sietí KARI, priemer drôtu 6/6 mm, veľkosť oka 150x150 mm | G141: m2 | H141: 22 | J141: =ROUND(I141*H141,2) -> 0 | N141: znížená | O141: 0.04092 | P141: =O141*H141 -> 0.90024 | Q141: 0.00352441 | R141: =Q141*H141 -> 0.07753702 | S141: 0 | T141: =S141*H141 -> 0 | AR141: 4 | AT141: K | AU141: 2 | AY141: ROZPOCET | BE141: =IF(N141="základná",J141,0) -> 0 | BF141: =IF(N141="znížená",J141,0) -> 0 | BG141: =IF(N141="zákl. prenesená",J141,0) -> 0 | BH141: =IF(N141="zníž. prenesená",J141,0) -> 0 | BI141: =IF(N141="nulová",J141,0) -> 0 | BJ141: 2 | BK141: =ROUND(I141*H141,2) -> 0 | BL141: 4 | BM141: 1617507600
C142: 10 | D142: K | E142: 274313711.S | F142: Betón, prostý tr. C 25/30 - kanál | G142: m3 | H142: 37.75 | J142: =ROUND(I142*H142,2) -> 0 | N142: znížená | O142: 0.58055 | P142: =O142*H142 -> 21.915762 | Q142: 2.4157202 | R142: =Q142*H142 -> 91.193438 | S142: 0 | T142: =S142*H142 -> 0 | AR142: 4 | AT142: K | AU142: 2 | AY142: ROZPOCET | BE142: =IF(N142="základná",J142,0) -> 0 | BF142: =IF(N142="znížená",J142,0) -> 0 | BG142: =IF(N142="zákl. prenesená",J142,0) -> 0 | BH142: =IF(N142="zníž. prenesená",J142,0) -> 0 | BI142: =IF(N142="nulová",J142,0) -> 0 | BJ142: 2 | BK142: =ROUND(I142*H142,2) -> 0 | BL142: 4 | BM142: 745932792
C143: 11 | D143: K | E143: 274351217.S | F143: Debnenie stien základových pásov, zhotovenie-tradičné | G143: m2 | H143: 86.7 | J143: =ROUND(I143*H143,2) -> 0 | N143: znížená | O143: 0.799 | P143: =O143*H143 -> 69.2733 | Q143: 0.00376776 | R143: =Q143*H143 -> 0.32666479 | S143: 0 | T143: =S143*H143 -> 0 | AR143: 4 | AT143: K | AU143: 2 | AY143: ROZPOCET | BE143: =IF(N143="základná",J143,0) -> 0 | BF143: =IF(N143="znížená",J143,0) -> 0 | BG143: =IF(N143="zákl. prenesená",J143,0) -> 0 | BH143: =IF(N143="zníž. prenesená",J143,0) -> 0 | BI143: =IF(N143="nulová",J143,0) -> 0 | BJ143: 2 | BK143: =ROUND(I143*H143,2) -> 0 | BL143: 4 | BM143: -702789697
C144: 12 | D144: K | E144: 274351218.S | F144: Debnenie stien základových pásov, odstránenie-tradičné | G144: m2 | H144: 86.7 | J144: =ROUND(I144*H144,2) -> 0 | N144: znížená | O144: 0.327 | P144: =O144*H144 -> 28.3509 | Q144: 0 | R144: =Q144*H144 -> 0 | S144: 0 | T144: =S144*H144 -> 0 | AR144: 4 | AT144: K | AU144: 2 | AY144: ROZPOCET | BE144: =IF(N144="základná",J144,0) -> 0 | BF144: =IF(N144="znížená",J144,0) -> 0 | BG144: =IF(N144="zákl. prenesená",J144,0) -> 0 | BH144: =IF(N144="zníž. prenesená",J144,0) -> 0 | BI144: =IF(N144="nulová",J144,0) -> 0 | BJ144: 2 | BK144: =ROUND(I144*H144,2) -> 0 | BL144: 4 | BM144: 1808880198
D145: D | E145: 3 | F145: Zvislé a kompletné konštrukcie | J145: =BK145 -> 0 | P145: =SUM(P146:P158) -> 1692.2033 | R145: =SUM(R146:R158) -> 483.64665 | T145: =SUM(T146:T158) -> 0.95688 | AR145: 1 | AT145: D | AU145: 1 | AY145: ROZPOCET | BK145: =SUM(BK146:BK158) -> 0
C146: 13 | D146: K | E146: 311321511.S | F146: Betón nadzákladových múrov, železový (bez výstuže) tr. C 30/37 | G146: m3 | H146: 88.717 | J146: =ROUND(I146*H146,2) -> 0 | N146: znížená | O146: 1.00769 | P146: =O146*H146 -> 89.399234 | Q146: 2.3254767 | R146: =Q146*H146 -> 206.30932 | S146: 0 | T146: =S146*H146 -> 0 | AR146: 4 | AT146: K | AU146: 2 | AY146: ROZPOCET | BE146: =IF(N146="základná",J146,0) -> 0 | BF146: =IF(N146="znížená",J146,0) -> 0 | BG146: =IF(N146="zákl. prenesená",J146,0) -> 0 | BH146: =IF(N146="zníž. prenesená",J146,0) -> 0 | BI146: =IF(N146="nulová",J146,0) -> 0 | BJ146: 2 | BK146: =ROUND(I146*H146,2) -> 0 | BL146: 4 | BM146: 1757750140
C147: 14 | D147: K | E147: 311351152.S | F147: Debnenie nadzákladových múrikov - zhotovenie | G147: m2 | H147: 274.56 | J147: =ROUND(I147*H147,2) -> 0 | N147: znížená | O147: 0.52727 | P147: =O147*H147 -> 144.76725 | Q147: 0.17128944 | R147: =Q147*H147 -> 47.029229 | S147: 0 | T147: =S147*H147 -> 0 | AR147: 4 | AT147: K | AU147: 2 | AY147: ROZPOCET | BE147: =IF(N147="základná",J147,0) -> 0 | BF147: =IF(N147="znížená",J147,0) -> 0 | BG147: =IF(N147="zákl. prenesená",J147,0) -> 0 | BH147: =IF(N147="zníž. prenesená",J147,0) -> 0 | BI147: =IF(N147="nulová",J147,0) -> 0 | BJ147: 2 | BK147: =ROUND(I147*H147,2) -> 0 | BL147: 4 | BM147: 129642204
C148: 15 | D148: K | E148: 311351153.S | F148: Debnenie nadzákladových múrikov - odstránenie | G148: m2 | H148: 274.56 | J148: =ROUND(I148*H148,2) -> 0 | N148: znížená | O148: 0.29 | P148: =O148*H148 -> 79.6224 | Q148: 0 | R148: =Q148*H148 -> 0 | S148: 0 | T148: =S148*H148 -> 0 | AR148: 4 | AT148: K | AU148: 2 | AY148: ROZPOCET | BE148: =IF(N148="základná",J148,0) -> 0 | BF148: =IF(N148="znížená",J148,0) -> 0 | BG148: =IF(N148="zákl. prenesená",J148,0) -> 0 | BH148: =IF(N148="zníž. prenesená",J148,0) -> 0 | BI148: =IF(N148="nulová",J148,0) -> 0 | BJ148: 2 | BK148: =ROUND(I148*H148,2) -> 0 | BL148: 4 | BM148: 1842642962
C149: 16 | D149: K | E149: 311361821.S | F149: Výstuž nadzákladových múrov B500 (10505) - stykova | G149: t | H149: 2.662 | J149: =ROUND(I149*H149,2) -> 0 | N149: znížená | O149: 35.79949 | P149: =O149*H149 -> 95.298242 | Q149: 1.0152039 | R149: =Q149*H149 -> 2.7024729 | S149: 0 | T149: =S149*H149 -> 0 | AR149: 4 | AT149: K | AU149: 2 | AY149: ROZPOCET | BE149: =IF(N149="základná",J149,0) -> 0 | BF149: =IF(N149="znížená",J149,0) -> 0 | BG149: =IF(N149="zákl. prenesená",J149,0) -> 0 | BH149: =IF(N149="zníž. prenesená",J149,0) -> 0 | BI149: =IF(N149="nulová",J149,0) -> 0 | BJ149: 2 | BK149: =ROUND(I149*H149,2) -> 0 | BL149: 4 | BM149: 1437742241
C150: 17 | D150: K | E150: 317935511.S | F150: Doplnenie rímsy z tvárnic na akúkoľvek maltu vyložených do 300 mm | G150: m | H150: 514.72 | J150: =ROUND(I150*H150,2) -> 0 | N150: znížená | O150: 0.85731 | P150: =O150*H150 -> 441.2746 | Q150: 0.0476 | R150: =Q150*H150 -> 24.500672 | S150: 0 | T150: =S150*H150 -> 0 | AR150: 4 | AT150: K | AU150: 2 | AY150: ROZPOCET | BE150: =IF(N150="základná",J150,0) -> 0 | BF150: =IF(N150="znížená",J150,0) -> 0 | BG150: =IF(N150="zákl. prenesená",J150,0) -> 0 | BH150: =IF(N150="zníž. prenesená",J150,0) -> 0 | BI150: =IF(N150="nulová",J150,0) -> 0 | BJ150: 2 | BK150: =ROUND(I150*H150,2) -> 0 | BL150: 4 | BM150: 1311670195
C151: 18 | D151: K | E151: 938902071.S | F151: Očistenie povrchu betónových konštrukcií tlakovou vodou | G151: m2 | H151: 257.4 | J151: =ROUND(I151*H151,2) -> 0 | N151: znížená | O151: 0.087 | P151: =O151*H151 -> 22.3938 | Q151: 0 | R151: =Q151*H151 -> 0 | S151: 0 | T151: =S151*H151 -> 0 | AR151: 4 | AT151: K | AU151: 2 | AY151: ROZPOCET | BE151: =IF(N151="základná",J151,0) -> 0 | BF151: =IF(N151="znížená",J151,0) -> 0 | BG151: =IF(N151="zákl. prenesená",J151,0) -> 0 | BH151: =IF(N151="zníž. prenesená",J151,0) -> 0 | BI151: =IF(N151="nulová",J151,0) -> 0 | BJ151: 2 | BK151: =ROUND(I151*H151,2) -> 0 | BL151: 4 | BM151: 302018973
C152: 19 | D152: K | E152: 612409991.S | F152: Začistenie omietok (s dodaním hmoty) okolo okien, dverí, podláh, obkladov atď. | G152: m | H152: 514.72 | J152: =ROUND(I152*H152,2) -> 0 | N152: znížená | O152: 0.14557 | P152: =O152*H152 -> 74.92779 | Q152: 0.002798 | R152: =Q152*H152 -> 1.4401866 | S152: 0 | T152: =S152*H152 -> 0 | AR152: 4 | AT152: K | AU152: 2 | AY152: ROZPOCET | BE152: =IF(N152="základná",J152,0) -> 0 | BF152: =IF(N152="znížená",J152,0) -> 0 | BG152: =IF(N152="zákl. prenesená",J152,0) -> 0 | BH152: =IF(N152="zníž. prenesená",J152,0) -> 0 | BI152: =IF(N152="nulová",J152,0) -> 0 | BJ152: 2 | BK152: =ROUND(I152*H152,2) -> 0 | BL152: 4 | BM152: 1861848946
C153: 20 | D153: K | E153: 971045802.S | F153: Vrty príklepovým vrtákom do D 12 mm do betónu -0.00001t | G153: cm | H153: 30888 | J153: =ROUND(I153*H153,2) -> 0 | N153: znížená | O153: 0.00276 | P153: =O153*H153 -> 85.25088 | Q153: 1.98e-07 | R153: =Q153*H153 -> 0.006115824 | S153: 1e-05 | T153: =S153*H153 -> 0.30888 | AR153: 4 | AT153: K | AU153: 2 | AY153: ROZPOCET | BE153: =IF(N153="základná",J153,0) -> 0 | BF153: =IF(N153="znížená",J153,0) -> 0 | BG153: =IF(N153="zákl. prenesená",J153,0) -> 0 | BH153: =IF(N153="zníž. prenesená",J153,0) -> 0 | BI153: =IF(N153="nulová",J153,0) -> 0 | BJ153: 2 | BK153: =ROUND(I153*H153,2) -> 0 | BL153: 4 | BM153: -373420067
C154: 21 | D154: K | E154: 338121127.S | F154: Osadenie stĺpikov | G154: ks | H154: 301 | J154: =ROUND(I154*H154,2) -> 0 | N154: znížená | O154: 0.67519 | P154: =O154*H154 -> 203.23219 | Q154: 0.66549 | R154: =Q154*H154 -> 200.31249 | S154: 0 | T154: =S154*H154 -> 0 | AR154: 16 | AT154: K | AU154: 2 | AY154: ROZPOCET | BE154: =IF(N154="základná",J154,0) -> 0 | BF154: =IF(N154="znížená",J154,0) -> 0 | BG154: =IF(N154="zákl. prenesená",J154,0) -> 0 | BH154: =IF(N154="zníž. prenesená",J154,0) -> 0 | BI154: =IF(N154="nulová",J154,0) -> 0 | BJ154: 2 | BK154: =ROUND(I154*H154,2) -> 0 | BL154: 16 | BM154: -1782832727
C155: 22 | D155: K | E155: 7679165601.S | F155: Jadrové vŕtanie | G155: ks | H155: 301 | J155: =ROUND(I155*H155,2) -> 0 | N155: znížená | O155: 0.298 | P155: =O155*H155 -> 89.698 | Q155: 0.00446 | R155: =Q155*H155 -> 1.34246 | S155: 0 | T155: =S155*H155 -> 0 | AR155: 4 | AT155: K | AU155: 2 | AY155: ROZPOCET | BE155: =IF(N155="základná",J155,0) -> 0 | BF155: =IF(N155="znížená",J155,0) -> 0 | BG155: =IF(N155="zákl. prenesená",J155,0) -> 0 | BH155: =IF(N155="zníž. prenesená",J155,0) -> 0 | BI155: =IF(N155="nulová",J155,0) -> 0 | BJ155: 2 | BK155: =ROUND(I155*H155,2) -> 0 | BL155: 4 | BM155: -1260428798
C156: 23 | D156: K | E156: 974031153.S | F156: Rezanie do muriva - drážky na preklady z L - profilov, hĺbka do 100 mm | G156: m | H156: 36 | J156: =ROUND(I156*H156,2) -> 0 | N156: znížená | O156: 0.28071 | P156: =O156*H156 -> 10.10556 | Q156: 0 | R156: =Q156*H156 -> 0 | S156: 0.018 | T156: =S156*H156 -> 0.648 | AR156: 4 | AT156: K | AU156: 2 | AY156: ROZPOCET | BE156: =IF(N156="základná",J156,0) -> 0 | BF156: =IF(N156="znížená",J156,0) -> 0 | BG156: =IF(N156="zákl. prenesená",J156,0) -> 0 | BH156: =IF(N156="zníž. prenesená",J156,0) -> 0 | BI156: =IF(N156="nulová",J156,0) -> 0 | BJ156: 2 | BK156: =ROUND(I156*H156,2) -> 0 | BL156: 4 | BM156: -1546264091
C157: 24 | D157: K | E157: 919735126.S | F157: Rezanie existujúceho betónového krytu | G157: m | H157: 75 | J157: =ROUND(I157*H157,2) -> 0 | N157: znížená | O157: 0.85702 | P157: =O157*H157 -> 64.2765 | Q157: 1.512e-05 | R157: =Q157*H157 -> 0.001134 | S157: 0 | T157: =S157*H157 -> 0 | AR157: 4 | AT157: K | AU157: 2 | AY157: ROZPOCET | BE157: =IF(N157="základná",J157,0) -> 0 | BF157: =IF(N157="znížená",J157,0) -> 0 | BG157: =IF(N157="zákl. prenesená",J157,0) -> 0 | BH157: =IF(N157="zníž. prenesená",J157,0) -> 0 | BI157: =IF(N157="nulová",J157,0) -> 0 | BJ157: 2 | BK157: =ROUND(I157*H157,2) -> 0 | BL157: 4 | BM157: -609061456
C158: 25 | D158: K | E158: 974083114.S | F158: Rezanie betónových mazanín existujúcich | G158: m | H158: 343.2 | J158: =ROUND(I158*H158,2) -> 0 | N158: znížená | O158: 0.85069 | P158: =O158*H158 -> 291.95681 | Q158: 7.49e-06 | R158: =Q158*H158 -> 0.002570568 | S158: 0 | T158: =S158*H158 -> 0 | AR158: 4 | AT158: K | AU158: 2 | AY158: ROZPOCET | BE158: =IF(N158="základná",J158,0) -> 0 | BF158: =IF(N158="znížená",J158,0) -> 0 | BG158: =IF(N158="zákl. prenesená",J158,0) -> 0 | BH158: =IF(N158="zníž. prenesená",J158,0) -> 0 | BI158: =IF(N158="nulová",J158,0) -> 0 | BJ158: 2 | BK158: =ROUND(I158*H158,2) -> 0 | BL158: 4 | BM158: -1847880191
D159: D | E159: 8 | F159: Rúrové vedenie | J159: =BK159 -> 0 | P159: =SUM(P160:P173) -> 21.958 | R159: =SUM(R160:R173) -> 1.306408 | T159: =SUM(T160:T173) -> 0 | AR159: 1 | AT159: D | AU159: 1 | AY159: ROZPOCET | BK159: =SUM(BK160:BK173) -> 0
C160: 26 | D160: K | E160: 871275054.S | F160: Montáž kanalizačného RC potrubia z PE 100 RC SDR11 zváraného elektrotvarovkami D 110x10,0 mm | G160: m | H160: 54 | J160: =ROUND(I160*H160,2) -> 0 | N160: znížená | O160: 0.035 | P160: =O160*H160 -> 1.89 | Q160: 0 | R160: =Q160*H160 -> 0 | S160: 0 | T160: =S160*H160 -> 0 | AR160: 4 | AT160: K | AU160: 2 | AY160: ROZPOCET | BE160: =IF(N160="základná",J160,0) -> 0 | BF160: =IF(N160="znížená",J160,0) -> 0 | BG160: =IF(N160="zákl. prenesená",J160,0) -> 0 | BH160: =IF(N160="zníž. prenesená",J160,0) -> 0 | BI160: =IF(N160="nulová",J160,0) -> 0 | BJ160: 2 | BK160: =ROUND(I160*H160,2) -> 0 | BL160: 4 | BM160: 1179637620
C161: 27 | D161: M | E161: 286130022800.S | F161: Rúra dvojvrstvová na tlakovú kanalizáciu SDR11, 110x10,0x12 m, materiál: PE 100 RC | G161: m | H161: 54 | J161: =ROUND(I161*H161,2) -> 0 | N161: znížená | O161: 0 | P161: =O161*H161 -> 0 | Q161: 0.00382 | R161: =Q161*H161 -> 0.20628 | S161: 0 | T161: =S161*H161 -> 0 | AR161: 8 | AT161: M | AU161: 2 | AY161: ROZPOCET | BE161: =IF(N161="základná",J161,0) -> 0 | BF161: =IF(N161="znížená",J161,0) -> 0 | BG161: =IF(N161="zákl. prenesená",J161,0) -> 0 | BH161: =IF(N161="zníž. prenesená",J161,0) -> 0 | BI161: =IF(N161="nulová",J161,0) -> 0 | BJ161: 2 | BK161: =ROUND(I161*H161,2) -> 0 | BL161: 4 | BM161: 513820695
C162: 28 | D162: K | E162: 871424014.S | F162: Montáž kanalizačného PP potrubia hladkého plnostenného SN 10 DN 500 | G162: m | H162: 50 | J162: =ROUND(I162*H162,2) -> 0 | N162: znížená | O162: 0.1083 | P162: =O162*H162 -> 5.415 | Q162: 2.8e-05 | R162: =Q162*H162 -> 0.0014 | S162: 0 | T162: =S162*H162 -> 0 | AR162: 4 | AT162: K | AU162: 2 | AY162: ROZPOCET | BE162: =IF(N162="základná",J162,0) -> 0 | BF162: =IF(N162="znížená",J162,0) -> 0 | BG162: =IF(N162="zákl. prenesená",J162,0) -> 0 | BH162: =IF(N162="zníž. prenesená",J162,0) -> 0 | BI162: =IF(N162="nulová",J162,0) -> 0 | BJ162: 2 | BK162: =ROUND(I162*H162,2) -> 0 | BL162: 4 | BM162: -1124509677
C163: 29 | D163: M | E163: 286140002600.S | F163: Rúra hladká PP pre gravitačnú kanalizáciu DN 500 SN 10, dĺ. 2 m | G163: ks | H163: 27.5 | J163: =ROUND(I163*H163,2) -> 0 | N163: znížená | O163: 0 | P163: =O163*H163 -> 0 | Q163: 0.03912 | R163: =Q163*H163 -> 1.0758 | S163: 0 | T163: =S163*H163 -> 0 | AR163: 8 | AT163: M | AU163: 2 | AY163: ROZPOCET | BE163: =IF(N163="základná",J163,0) -> 0 | BF163: =IF(N163="znížená",J163,0) -> 0 | BG163: =IF(N163="zákl. prenesená",J163,0) -> 0 | BH163: =IF(N163="zníž. prenesená",J163,0) -> 0 | BI163: =IF(N163="nulová",J163,0) -> 0 | BJ163: 2 | BK163: =ROUND(I163*H163,2) -> 0 | BL163: 4 | BM163: -1552174731
C164: 30 | D164: K | E164: 877261122.S | F164: Montáž navŕtavacej sedlovej elektrotvarovky pre vodovodné potrubia z PE 100 D 110 mm | G164: ks | H164: 1 | J164: =ROUND(I164*H164,2) -> 0 | N164: znížená | O164: 0.58 | P164: =O164*H164 -> 0.58 | Q164: 0 | R164: =Q164*H164 -> 0 | S164: 0 | T164: =S164*H164 -> 0 | AR164: 4 | AT164: K | AU164: 2 | AY164: ROZPOCET | BE164: =IF(N164="základná",J164,0) -> 0 | BF164: =IF(N164="znížená",J164,0) -> 0 | BG164: =IF(N164="zákl. prenesená",J164,0) -> 0 | BH164: =IF(N164="zníž. prenesená",J164,0) -> 0 | BI164: =IF(N164="nulová",J164,0) -> 0 | BJ164: 2 | BK164: =ROUND(I164*H164,2) -> 0 | BL164: 4 | BM164: 1652944712
...

Sheet SO 02.3 - Uzemnenie konšt...
L2: >> skryté stĺpce << | AT2: {44a5189e-a453-4b28-9a17-f080f3a7ff88}
AT3: 0
D4: KRYCÍ LIST ROZPOČTU | M4: v --- nižšie sa nachádzajú doplnkové a pomocné údaje k zostavám --- v | AT4: False
D6: Stavba:
E7: ='Rekapitulácia stavby'!K6 -> Modernizácia farmy Bzince pod Javorinou
D8: Objekt:
E9: SO 02 - Stará maštaľ
D10: Časť:
E11: SO 02.3 - Uzemnenie konštrukcie, L profil, vodovod
D13: JKSO: | I13: KS:
D14: Miesto: | F14: Bzince pod Javorinou | I14: Dátum: | J14: ='Rekapitulácia stavby'!AN8 -> 0
D16: Objednávateľ: | I16: IČO:
E17: Poľnohospodárske družstvo Bzince pod Javorinou | I17: IČ DPH:
D19: Zhotoviteľ: | I19: IČO: | J19: ='Rekapitulácia stavby'!AN13
E20: ='Rekapitulácia stavby'!E14 | I20: IČ DPH: | J20: ='Rekapitulácia stavby'!AN14
D22: Projektant: | I22: IČO: | J22: =IF('Rekapitulácia stavby'!AN16="","",'Rekapitulácia stavby'!AN16)
E23: =IF('Rekapitulácia stavby'!E17="","",'Rekapitulácia stavby'!E17) | I23: IČ DPH: | J23: =IF('Rekapitulácia stavby'!AN17="","",'Rekapitulácia stavby'!AN17)
D25: Spracovateľ: | I25: IČO: | J25: =IF('Rekapitulácia stavby'!AN19="","",'Rekapitulácia stavby'!AN19)
E26: =IF('Rekapitulácia stavby'!E20="","",'Rekapitulácia stavby'!E20) | I26: IČ DPH: | J26: =IF('Rekapitulácia stavby'!AN20="","",'Rekapitulácia stavby'!AN20)
D28: Poznámka:
D32: Cena bez DPH | J32: =ROUND(J129, 2) -> 0
F34: Základ dane | I34: Sadzba dane | J34: Výška dane
D35: DPH | E35: základná | F35: =ROUND((SUM(BE129:BE173)), 2) -> 0 | I35: 0.2 | J35: =ROUND(((SUM(BE129:BE173))*I35), 2) -> 0
E36: znížená | F36: =ROUND((SUM(BF129:BF173)), 2) -> 0 | I36: 0.2 | J36: =ROUND(((SUM(BF129:BF173))*I36), 2) -> 0
E37: zákl. prenesená | F37: =ROUND((SUM(BG129:BG173)), 2) -> 0 | I37: 0.2 | J37: =0 -> 0
E38: zníž. prenesená | F38: =ROUND((SUM(BH129:BH173)), 2) -> 0 | I38: 0.2 | J38: =0 -> 0
E39: nulová | F39: =ROUND((SUM(BI129:BI173)), 2) -> 0 | I39: 0 | J39: =0 -> 0
D41: Cena s DPH | G41: v | H41: EUR | J41: =SUM(J32:J39) -> 0
D50: Projektant | G50: Spracovateľ
D61: Dátum a podpis: | F61: Pečiatka | G61: Dátum a podpis: | J61: Pečiatka
D65: Objednávateľ | G65: Zhotoviteľ
D76: Dátum a podpis: | F76: Pečiatka | G76: Dátum a podpis: | J76: Pečiatka
C82: REKAPITULÁCIA ROZPOČTU
C84: Stavba:
E85: =E7 -> Modernizácia farmy Bzince pod Javorinou
C86: Objekt:
E87: SO 02 - Stará maštaľ
C88: Časť:
E89: =E11 -> SO 02.3 - Uzemnenie konštrukcie, L profil, vodovod
C91: Miesto: | F91: =F14 -> Bzince pod Javorinou | I91: Dátum: | J91: =IF(J14="","",J14) -> 0
C93: Objednávateľ: | F93: =E17 -> Poľnohospodárske družstvo Bzince pod Javorinou | I93: Projektant: | J93: =E23
C94: Zhotoviteľ: | F94: =IF(E20="","",E20) | I94: Spracovateľ: | J94: =E26
C96: Kód dielu - Popis | J96: Cena celkom [EUR]
C98: Náklady z rozpočtu | J98: =J129 -> 0 | AU98: -1
D99: HSV - Práce a dodávky HSV | J99: =J130 -> 0
D100: 1 - Zemné práce | J100: =J131 -> 0
D101: 2 - Zakladanie | J101: =J140 -> 0
D102: 9 - Ostatné konštrukcie a práce-búranie | J102: =J143 -> 0
D103: 99 - Presun hmôt HSV | J103: =J150 -> 0
D104: PSV - Práce a dodávky PSV | J104: =J152 -> 0
D105: 722 - Zdravotechnika - vnútorný vodovod | J105: =J153 -> 0
D106: M - Práce a dodávky M | J106: =J156 -> 0
D107: 21-M - Elektromontáže | J107: =J157 -> 0
C114: ROZPOČET
C116: Stavba:
E117: =E7 -> Modernizácia farmy Bzince pod Javorinou
C118: Objekt:
E119: SO 02 - Stará maštaľ
C120: Časť:
E121: =E11 -> SO 02.3 - Uzemnenie konštrukcie, L profil, vodovod
C123: Miesto: | F123: =F14 -> Bzince pod Javorinou | I123: Dátum: | J123: =IF(J14="","",J14) -> 0
C125: Objednávateľ: | F125: =E17 -> Poľnohospodárske družstvo Bzince pod Javorinou | I125: Projektant: | J125: =E23
C126: Zhotoviteľ: | F126: =IF(E20="","",E20) | I126: Spracovateľ: | J126: =E26
C128: PČ | D128: Typ | E128: Kód | F128: Popis | G128: MJ | H128: Množstvo | I128: J.cena [EUR] | J128: Cena celkom [EUR] | K128: Cenová sústava | N128: DPH | O128: J. Nh [h] | P128: Nh celkom [h] | Q128: J. hmotnosť [t] | R128: Hmotnosť celkom [t] | S128: J. suť [t] | T128: Suť Celkom [t]
C129: Náklady z rozpočtu | J129: =BK129 -> 0 | P129: =P130+P152+P156 -> 1664.9476 | R129: =R130+R152+R156 -> 147.37823 | T129: =T130+T152+T156 -> 38.72 | AT129: D | AU129: -1 | BK129: =BK130+BK152+BK156 -> 0
D130: D | E130: HSV | F130: Práce a dodávky HSV | J130: =BK130 -> 0 | P130: =P131+P140+P143+P150 -> 1333.3254 | R130: =R131+R140+R143+R150 -> 145.57461 | T130: =T131+T140+T143+T150 -> 38.72 | AR130: 1 | AT130: D | AU130: 0 | AY130: ROZPOCET | BK130: =BK131+BK140+BK143+BK150 -> 0
D131: D | E131: 1 | F131: Zemné práce | J131: =BK131 -> 0 | P131: =SUM(P132:P139) -> 586.2472 | R131: =SUM(R132:R139) -> 73.26 | T131: =SUM(T132:T139) -> 0 | AR131: 1 | AT131: D | AU131: 1 | AY131: ROZPOCET | BK131: =SUM(BK132:BK139) -> 0
C132: 1 | D132: K | E132: 132201401.S | F132: Hĺbený výkop pod základmi s odhodením výkopku na vzdialenosť 3 m alebo naložením v hornine 3 | G132: m3 | H132: 70.4 | J132: =ROUND(I132*H132,2) -> 0 | N132: znížená | O132: 5.604 | P132: =O132*H132 -> 394.5216 | Q132: 0 | R132: =Q132*H132 -> 0 | S132: 0 | T132: =S132*H132 -> 0 | AR132: 4 | AT132: K | AU132: 2 | AY132: ROZPOCET | BE132: =IF(N132="základná",J132,0) -> 0 | BF132: =IF(N132="znížená",J132,0) -> 0 | BG132: =IF(N132="zákl. prenesená",J132,0) -> 0 | BH132: =IF(N132="zníž. prenesená",J132,0) -> 0 | BI132: =IF(N132="nulová",J132,0) -> 0 | BJ132: 2 | BK132: =ROUND(I132*H132,2) -> 0 | BL132: 4 | BM132: 2051690052
C133: 2 | D133: K | E133: 132201109.S | F133: Príplatok k cene za lepivosť pri hĺbení rýh šírky do 600 mm zapažených i nezapažených s urovnaním dna v hornine 3 | G133: m3 | H133: 70.4 | J133: =ROUND(I133*H133,2) -> 0 | N133: znížená | O133: 0.613 | P133: =O133*H133 -> 43.1552 | Q133: 0 | R133: =Q133*H133 -> 0 | S133: 0 | T133: =S133*H133 -> 0 | AR133: 4 | AT133: K | AU133: 2 | AY133: ROZPOCET | BE133: =IF(N133="základná",J133,0) -> 0 | BF133: =IF(N133="znížená",J133,0) -> 0 | BG133: =IF(N133="zákl. prenesená",J133,0) -> 0 | BH133: =IF(N133="zníž. prenesená",J133,0) -> 0 | BI133: =IF(N133="nulová",J133,0) -> 0 | BJ133: 2 | BK133: =ROUND(I133*H133,2) -> 0 | BL133: 4 | BM133: 1031410421
C134: 3 | D134: K | E134: 162201102.S | F134: Vodorovné premiestnenie výkopku z horniny 1-4 nad 20-50m | G134: m3 | H134: 70.4 | J134: =ROUND(I134*H134,2) -> 0 | N134: znížená | O134: 0.069 | P134: =O134*H134 -> 4.8576 | Q134: 0 | R134: =Q134*H134 -> 0 | S134: 0 | T134: =S134*H134 -> 0 | AR134: 4 | AT134: K | AU134: 2 | AY134: ROZPOCET | BE134: =IF(N134="základná",J134,0) -> 0 | BF134: =IF(N134="znížená",J134,0) -> 0 | BG134: =IF(N134="zákl. prenesená",J134,0) -> 0 | BH134: =IF(N134="zníž. prenesená",J134,0) -> 0 | BI134: =IF(N134="nulová",J134,0) -> 0 | BJ134: 2 | BK134: =ROUND(I134*H134,2) -> 0 | BL134: 4 | BM134: 1908340055
C135: 4 | D135: K | E135: 162501102.S | F135: Vodorovné premiestnenie výkopku po spevnenej ceste z horniny tr.1-4, do 100 m3 na vzdialenosť do 3000 m | G135: m3 | H135: 70.4 | J135: =ROUND(I135*H135,2) -> 0 | N135: znížená | O135: 0.071 | P135: =O135*H135 -> 4.9984 | Q135: 0 | R135: =Q135*H135 -> 0 | S135: 0 | T135: =S135*H135 -> 0 | AR135: 4 | AT135: K | AU135: 2 | AY135: ROZPOCET | BE135: =IF(N135="základná",J135,0) -> 0 | BF135: =IF(N135="znížená",J135,0) -> 0 | BG135: =IF(N135="zákl. prenesená",J135,0) -> 0 | BH135: =IF(N135="zníž. prenesená",J135,0) -> 0 | BI135: =IF(N135="nulová",J135,0) -> 0 | BJ135: 2 | BK135: =ROUND(I135*H135,2) -> 0 | BL135: 4 | BM135: -1199599955
C136: 5 | D136: K | E136: 167101101.S | F136: Nakladanie neuľahnutého výkopku z hornín tr.1-4 do 100 m3 | G136: m3 | H136: 70.4 | J136: =ROUND(I136*H136,2) -> 0 | N136: znížená | O136: 0.617 | P136: =O136*H136 -> 43.4368 | Q136: 0 | R136: =Q136*H136 -> 0 | S136: 0 | T136: =S136*H136 -> 0 | AR136: 4 | AT136: K | AU136: 2 | AY136: ROZPOCET | BE136: =IF(N136="základná",J136,0) -> 0 | BF136: =IF(N136="znížená",J136,0) -> 0 | BG136: =IF(N136="zákl. prenesená",J136,0) -> 0 | BH136: =IF(N136="zníž. prenesená",J136,0) -> 0 | BI136: =IF(N136="nulová",J136,0) -> 0 | BJ136: 2 | BK136: =ROUND(I136*H136,2) -> 0 | BL136: 4 | BM136: -1505211064
C137: 6 | D137: K | E137: 171201201.S | F137: Uloženie sypaniny na medziskládku do 100 m3 | G137: m3 | H137: 70.4 | J137: =ROUND(I137*H137,2) -> 0 | N137: znížená | O137: 0.009 | P137: =O137*H137 -> 0.6336 | Q137: 0 | R137: =Q137*H137 -> 0 | S137: 0 | T137: =S137*H137 -> 0 | AR137: 4 | AT137: K | AU137: 2 | AY137: ROZPOCET | BE137: =IF(N137="základná",J137,0) -> 0 | BF137: =IF(N137="znížená",J137,0) -> 0 | BG137: =IF(N137="zákl. prenesená",J137,0) -> 0 | BH137: =IF(N137="zníž. prenesená",J137,0) -> 0 | BI137: =IF(N137="nulová",J137,0) -> 0 | BJ137: 2 | BK137: =ROUND(I137*H137,2) -> 0 | BL137: 4 | BM137: 1980277151
C138: 7 | D138: K | E138: 175101102.S | F138: Obsyp potrubia sypaninou z vhodných hornín 1 až 4 s prehodením sypaniny | G138: m3 | H138: 39.6 | J138: =ROUND(I138*H138,2) -> 0 | N138: znížená | O138: 2.39 | P138: =O138*H138 -> 94.644 | Q138: 0 | R138: =Q138*H138 -> 0 | S138: 0 | T138: =S138*H138 -> 0 | AR138: 4 | AT138: K | AU138: 2 | AY138: ROZPOCET | BE138: =IF(N138="základná",J138,0) -> 0 | BF138: =IF(N138="znížená",J138,0) -> 0 | BG138: =IF(N138="zákl. prenesená",J138,0) -> 0 | BH138: =IF(N138="zníž. prenesená",J138,0) -> 0 | BI138: =IF(N138="nulová",J138,0) -> 0 | BJ138: 2 | BK138: =ROUND(I138*H138,2) -> 0 | BL138: 4 | BM138: -1013677216
C139: 8 | D139: M | E139: 583310002700.S | F139: Štrkopiesok frakcia 0-8 mm | G139: t | H139: 73.26 | J139: =ROUND(I139*H139,2) -> 0 | N139: znížená | O139: 0 | P139: =O139*H139 -> 0 | Q139: 1 | R139: =Q139*H139 -> 73.26 | S139: 0 | T139: =S139*H139 -> 0 | AR139: 8 | AT139: M | AU139: 2 | AY139: ROZPOCET | BE139: =IF(N139="základná",J139,0) -> 0 | BF139: =IF(N139="znížená",J139,0) -> 0 | BG139: =IF(N139="zákl. prenesená",J139,0) -> 0 | BH139: =IF(N139="zníž. prenesená",J139,0) -> 0 | BI139: =IF(N139="nulová",J139,0) -> 0 | BJ139: 2 | BK139: =ROUND(I139*H139,2) -> 0 | BL139: 4 | BM139: -501623161
D140: D | E140: 2 | F140: Zakladanie | J140: =BK140 -> 0 | P140: =SUM(P141:P142) -> 23.97208 | R140: =SUM(R141:R142) -> 69.787872 | T140: =SUM(T141:T142) -> 0 | AR140: 1 | AT140: D | AU140: 1 | AY140: ROZPOCET | BK140: =SUM(BK141:BK142) -> 0
C141: 9 | D141: K | E141: 271521111.S | F141: Vankúše zhutnené pod základy z kameniva, | G141: m3 | H141: 13.2 | J141: =ROUND(I141*H141,2) -> 0 | N141: znížená | O141: 1.042 | P141: =O141*H141 -> 13.7544 | Q141: 2.066 | R141: =Q141*H141 -> 27.2712 | S141: 0 | T141: =S141*H141 -> 0 | AR141: 4 | AT141: K | AU141: 2 | AY141: ROZPOCET | BE141: =IF(N141="základná",J141,0) -> 0 | BF141: =IF(N141="znížená",J141,0) -> 0 | BG141: =IF(N141="zákl. prenesená",J141,0) -> 0 | BH141: =IF(N141="zníž. prenesená",J141,0) -> 0 | BI141: =IF(N141="nulová",J141,0) -> 0 | BJ141: 2 | BK141: =ROUND(I141*H141,2) -> 0 | BL141: 4 | BM141: -2056295504
C142: 10 | D142: K | E142: 274313711.S | F142: Betón, prostý tr. C 25/30 - vysprávky | G142: m3 | H142: 17.6 | J142: =ROUND(I142*H142,2) -> 0 | N142: znížená | O142: 0.58055 | P142: =O142*H142 -> 10.21768 | Q142: 2.41572 | R142: =Q142*H142 -> 42.516672 | S142: 0 | T142: =S142*H142 -> 0 | AR142: 4 | AT142: K | AU142: 2 | AY142: ROZPOCET | BE142: =IF(N142="základná",J142,0) -> 0 | BF142: =IF(N142="znížená",J142,0) -> 0 | BG142: =IF(N142="zákl. prenesená",J142,0) -> 0 | BH142: =IF(N142="zníž. prenesená",J142,0) -> 0 | BI142: =IF(N142="nulová",J142,0) -> 0 | BJ142: 2 | BK142: =ROUND(I142*H142,2) -> 0 | BL142: 4 | BM142: 1122069244
D143: D | E143: 9 | F143: Ostatné konštrukcie a práce-búranie | J143: =BK143 -> 0 | P143: =SUM(P144:P149) -> 675.21194 | R143: =SUM(R144:R149) -> 2.52674 | T143: =SUM(T144:T149) -> 38.72 | AR143: 1 | AT143: D | AU143: 1 | AY143: ROZPOCET | BK143: =SUM(BK144:BK149) -> 0
C144: 11 | D144: K | E144: 767591230.S | F144: Montáž podlahových konštrukcií - L profilu | G144: m | H144: 258 | J144: =ROUND(I144*H144,2) -> 0 | N144: znížená | O144: 0.37205 | P144: =O144*H144 -> 95.9889 | Q144: 3e-05 | R144: =Q144*H144 -> 0.00774 | S144: 0 | T144: =S144*H144 -> 0 | AR144: 4 | AT144: K | AU144: 2 | AY144: ROZPOCET | BE144: =IF(N144="základná",J144,0) -> 0 | BF144: =IF(N144="znížená",J144,0) -> 0 | BG144: =IF(N144="zákl. prenesená",J144,0) -> 0 | BH144: =IF(N144="zníž. prenesená",J144,0) -> 0 | BI144: =IF(N144="nulová",J144,0) -> 0 | BJ144: 2 | BK144: =ROUND(I144*H144,2) -> 0 | BL144: 4 | BM144: -136867170
C145: 12 | D145: M | E145: 133310002500.S | F145: Tyč oceľová prierezu L rovnoramenný uholník 100x6 mm, ozn. 11 373 podľa EN ISO S235JRG1 | G145: t | H145: 2.519 | J145: =ROUND(I145*H145,2) -> 0 | N145: znížená | O145: 0 | P145: =O145*H145 -> 0 | Q145: 1 | R145: =Q145*H145 -> 2.519 | S145: 0 | T145: =S145*H145 -> 0 | AR145: 8 | AT145: M | AU145: 2 | AY145: ROZPOCET | BE145: =IF(N145="základná",J145,0) -> 0 | BF145: =IF(N145="znížená",J145,0) -> 0 | BG145: =IF(N145="zákl. prenesená",J145,0) -> 0 | BH145: =IF(N145="zníž. prenesená",J145,0) -> 0 | BI145: =IF(N145="nulová",J145,0) -> 0 | BJ145: 2 | BK145: =ROUND(I145*H145,2) -> 0 | BL145: 4 | BM145: 1446439570
C146: 13 | D146: K | E146: 974042577.S | F146: Vysekanie rýh v betónovej dlažbe do hĺbky 200 mm a šírky nad 300 mm, -0,17600t | G146: m | H146: 220 | J146: =ROUND(I146*H146,2) -> 0 | N146: znížená | O146: 2.34472 | P146: =O146*H146 -> 515.8384 | Q146: 0 | R146: =Q146*H146 -> 0 | S146: 0.176 | T146: =S146*H146 -> 38.72 | AR146: 4 | AT146: K | AU146: 2 | AY146: ROZPOCET | BE146: =IF(N146="základná",J146,0) -> 0 | BF146: =IF(N146="znížená",J146,0) -> 0 | BG146: =IF(N146="zákl. prenesená",J146,0) -> 0 | BH146: =IF(N146="zníž. prenesená",J146,0) -> 0 | BI146: =IF(N146="nulová",J146,0) -> 0 | BJ146: 2 | BK146: =ROUND(I146*H146,2) -> 0 | BL146: 4 | BM146: -2073198195
C147: 14 | D147: K | E147: 979081111.S | F147: Odvoz sutiny na medziskládku do 100 m | G147: t | H147: 38.72 | J147: =ROUND(I147*H147,2) -> 0 | N147: znížená | O147: 0.598 | P147: =O147*H147 -> 23.15456 | Q147: 0 | R147: =Q147*H147 -> 0 | S147: 0 | T147: =S147*H147 -> 0 | AR147: 4 | AT147: K | AU147: 2 | AY147: ROZPOCET | BE147: =IF(N147="základná",J147,0) -> 0 | BF147: =IF(N147="znížená",J147,0) -> 0 | BG147: =IF(N147="zákl. prenesená",J147,0) -> 0 | BH147: =IF(N147="zníž. prenesená",J147,0) -> 0 | BI147: =IF(N147="nulová",J147,0) -> 0 | BJ147: 2 | BK147: =ROUND(I147*H147,2) -> 0 | BL147: 4 | BM147: -189640329
C148: 15 | D148: K | E148: 979082111.S | F148: Vnútrostavenisková doprava sutiny a vybúraných hmôt do 50 m | G148: t | H148: 38.72 | J148: =ROUND(I148*H148,2) -> 0 | N148: znížená | O148: 0.89 | P148: =O148*H148 -> 34.4608 | Q148: 0 | R148: =Q148*H148 -> 0 | S148: 0 | T148: =S148*H148 -> 0 | AR148: 4 | AT148: K | AU148: 2 | AY148: ROZPOCET | BE148: =IF(N148="základná",J148,0) -> 0 | BF148: =IF(N148="znížená",J148,0) -> 0 | BG148: =IF(N148="zákl. prenesená",J148,0) -> 0 | BH148: =IF(N148="zníž. prenesená",J148,0) -> 0 | BI148: =IF(N148="nulová",J148,0) -> 0 | BJ148: 2 | BK148: =ROUND(I148*H148,2) -> 0 | BL148: 4 | BM148: -719089274
C149: 16 | D149: K | E149: 979087112.S | F149: Nakladanie sutiny | G149: t | H149: 38.72 | J149: =ROUND(I149*H149,2) -> 0 | N149: znížená | O149: 0.149 | P149: =O149*H149 -> 5.76928 | Q149: 0 | R149: =Q149*H149 -> 0 | S149: 0 | T149: =S149*H149 -> 0 | AR149: 4 | AT149: K | AU149: 2 | AY149: ROZPOCET | BE149: =IF(N149="základná",J149,0) -> 0 | BF149: =IF(N149="znížená",J149,0) -> 0 | BG149: =IF(N149="zákl. prenesená",J149,0) -> 0 | BH149: =IF(N149="zníž. prenesená",J149,0) -> 0 | BI149: =IF(N149="nulová",J149,0) -> 0 | BJ149: 2 | BK149: =ROUND(I149*H149,2) -> 0 | BL149: 4 | BM149: -2065914073
D150: D | E150: 99 | F150: Presun hmôt HSV | J150: =BK150 -> 0 | P150: =P151 -> 47.894175 | R150: =R151 -> 0 | T150: =T151 -> 0 | AR150: 1 | AT150: D | AU150: 1 | AY150: ROZPOCET | BK150: =BK151 -> 0
C151: 17 | D151: K | E151: 998011002.S | F151: Presun hmôt pre budovy | G151: t | H151: 145.575 | J151: =ROUND(I151*H151,2) -> 0 | N151: znížená | O151: 0.329 | P151: =O151*H151 -> 47.894175 | Q151: 0 | R151: =Q151*H151 -> 0 | S151: 0 | T151: =S151*H151 -> 0 | AR151: 4 | AT151: K | AU151: 2 | AY151: ROZPOCET | BE151: =IF(N151="základná",J151,0) -> 0 | BF151: =IF(N151="znížená",J151,0) -> 0 | BG151: =IF(N151="zákl. prenesená",J151,0) -> 0 | BH151: =IF(N151="zníž. prenesená",J151,0) -> 0 | BI151: =IF(N151="nulová",J151,0) -> 0 | BJ151: 2 | BK151: =ROUND(I151*H151,2) -> 0 | BL151: 4 | BM151: -281538283
D152: D | E152: PSV | F152: Práce a dodávky PSV | J152: =BK152 -> 0 | P152: =P153 -> 109.5182 | R152: =R153 -> 0.1562 | T152: =T153 -> 0 | AR152: 2 | AT152: D | AU152: 0 | AY152: ROZPOCET | BK152: =BK153 -> 0
D153: D | E153: 722 | F153: Zdravotechnika - vnútorný vodovod | J153: =BK153 -> 0 | P153: =SUM(P154:P155) -> 109.5182 | R153: =SUM(R154:R155) -> 0.1562 | T153: =SUM(T154:T155) -> 0 | AR153: 2 | AT153: D | AU153: 1 | AY153: ROZPOCET | BK153: =SUM(BK154:BK155) -> 0
C154: 18 | D154: K | E154: 722171134.S | F154: Potrubie plasthliníkové D 32 mm | G154: m | H154: 220 | J154: =ROUND(I154*H154,2) -> 0 | N154: znížená | O154: 0.49781 | P154: =O154*H154 -> 109.5182 | Q154: 0.00071 | R154: =Q154*H154 -> 0.1562 | S154: 0 | T154: =S154*H154 -> 0 | AR154: 16 | AT154: K | AU154: 2 | AY154: ROZPOCET | BE154: =IF(N154="základná",J154,0) -> 0 | BF154: =IF(N154="znížená",J154,0) -> 0 | BG154: =IF(N154="zákl. prenesená",J154,0) -> 0 | BH154: =IF(N154="zníž. prenesená",J154,0) -> 0 | BI154: =IF(N154="nulová",J154,0) -> 0 | BJ154: 2 | BK154: =ROUND(I154*H154,2) -> 0 | BL154: 16 | BM154: 1865868717
C155: 19 | D155: K | E155: 998722202.S | F155: Presun hmôt pre vnútorný vodovod v objektoch výšky nad 6 do 12 m | G155: % | H155: 78.408 | J155: =ROUND(I155*H155,2) -> 0 | N155: znížená | O155: 0 | P155: =O155*H155 -> 0 | Q155: 0 | R155: =Q155*H155 -> 0 | S155: 0 | T155: =S155*H155 -> 0 | AR155: 16 | AT155: K | AU155: 2 | AY155: ROZPOCET | BE155: =IF(N155="základná",J155,0) -> 0 | BF155: =IF(N155="znížená",J155,0) -> 0 | BG155: =IF(N155="zákl. prenesená",J155,0) -> 0 | BH155: =IF(N155="zníž. prenesená",J155,0) -> 0 | BI155: =IF(N155="nulová",J155,0) -> 0 | BJ155: 2 | BK155: =ROUND(I155*H155,2) -> 0 | BL155: 16 | BM155: -1668026234
D156: D | E156: M | F156: Práce a dodávky M | J156: =BK156 -> 0 | P156: =P157 -> 222.104 | R156: =R157 -> 1.64742 | T156: =T157 -> 0 | AR156: 3 | AT156: D | AU156: 0 | AY156: ROZPOCET | BK156: =BK157 -> 0
D157: D | E157: 21-M | F157: Elektromontáže | J157: =BK157 -> 0 | P157: =SUM(P158:P173) -> 222.104 | R157: =SUM(R158:R173) -> 1.64742 | T157: =SUM(T158:T173) -> 0 | AR157: 3 | AT157: D | AU157: 1 | AY157: ROZPOCET | BK157: =SUM(BK158:BK173) -> 0
C158: 20 | D158: K | E158: 210010014.S | F158: Rúrka ohybná - chránička, uložená voľne | G158: m | H158: 220 | J158: =ROUND(I158*H158,2) -> 0 | N158: znížená | O158: 0.057 | P158: =O158*H158 -> 12.54 | Q158: 0 | R158: =Q158*H158 -> 0 | S158: 0 | T158: =S158*H158 -> 0 | AR158: 64 | AT158: K | AU158: 2 | AY158: ROZPOCET | BE158: =IF(N158="základná",J158,0) -> 0 | BF158: =IF(N158="znížená",J158,0) -> 0 | BG158: =IF(N158="zákl. prenesená",J158,0) -> 0 | BH158: =IF(N158="zníž. prenesená",J158,0) -> 0 | BI158: =IF(N158="nulová",J158,0) -> 0 | BJ158: 2 | BK158: =ROUND(I158*H158,2) -> 0 | BL158: 64 | BM158: -1364587043
C159: 21 | D159: M | E159: 286120018100.S | F159: Chránička | G159: m | H159: 253 | J159: =ROUND(I159*H159,2) -> 0 | N159: znížená | O159: 0 | P159: =O159*H159 -> 0 | Q159: 0.00021 | R159: =Q159*H159 -> 0.05313 | S159: 0 | T159: =S159*H159 -> 0 | AR159: 128 | AT159: M | AU159: 2 | AY159: ROZPOCET | BE159: =IF(N159="základná",J159,0) -> 0 | BF159: =IF(N159="znížená",J159,0) -> 0 | BG159: =IF(N159="zákl. prenesená",J159,0) -> 0 | BH159: =IF(N159="zníž. prenesená",J159,0) -> 0 | BI159: =IF(N159="nulová",J159,0) -> 0 | BJ159: 2 | BK159: =ROUND(I159*H159,2) -> 0 | BL159: 128 | BM159: 1326469288
C160: 22 | D160: K | E160: 210193071.S | F160: Domova rozvodnica do 28 M pre zapustenú montáž bez sekacích prác | G160: ks | H160: 2 | J160: =ROUND(I160*H160,2) -> 0 | N160: znížená | O160: 0.81 | P160: =O160*H160 -> 1.62 | Q160: 0 | R160: =Q160*H160 -> 0 | S160: 0 | T160: =S160*H160 -> 0 | AR160: 64 | AT160: K | AU160: 2 | AY160: ROZPOCET | BE160: =IF(N160="základná",J160,0) -> 0 | BF160: =IF(N160="znížená",J160,0) -> 0 | BG160: =IF(N160="zákl. prenesená",J160,0) -> 0 | BH160: =IF(N160="zníž. prenesená",J160,0) -> 0 | BI160: =IF(N160="nulová",J160,0) -> 0 | BJ160: 2 | BK160: =ROUND(I160*H160,2) -> 0 | BL160: 64 | BM160: -970642591
C161: 23 | D161: M | E161: 357150000330.S | F161: Rozvodnicová skriňa plastová, IP40 | G161: ks | H161: 2 | J161: =ROUND(I161*H161,2) -> 0 | N161: znížená | O161: 0 | P161: =O161*H161 -> 0 | Q161: 0.00301 | R161: =Q161*H161 -> 0.00602 | S161: 0 | T161: =S161*H161 -> 0 | AR161: 128 | AT161: M | AU161: 2 | AY161: ROZPOCET | BE161: =IF(N161="základná",J161,0) -> 0 | BF161: =IF(N161="znížená",J161,0) -> 0 | BG161: =IF(N161="zákl. prenesená",J161,0) -> 0 | BH161: =IF(N161="zníž. prenesená",J161,0) -> 0 | BI161: =IF(N161="nulová",J161,0) -> 0 | BJ161: 2 | BK161: =ROUND(I161*H161,2) -> 0 | BL161: 128 | BM161: -89635324
C162: 24 | D162: K | E162: 210193079.S | F162: Rozvádzač | G162: ks | H162: 1 | J162: =ROUND(I162*H162,2) -> 0 | N162: znížená | O162: 3.11 | P162: =O162*H162 -> 3.11 | Q162: 0 | R162: =Q162*H162 -> 0 | S162: 0 | T162: =S162*H162 -> 0 | AR162: 64 | AT162: K | AU162: 2 | AY162: ROZPOCET | BE162: =IF(N162="základná",J162,0) -> 0 | BF162: =IF(N162="znížená",J162,0) -> 0 | BG162: =IF(N162="zákl. prenesená",J162,0) -> 0 | BH162: =IF(N162="zníž. prenesená",J162,0) -> 0 | BI162: =IF(N162="nulová",J162,0) -> 0 | BJ162: 2 | BK162: =ROUND(I162*H162,2) -> 0 | BL162: 64 | BM162: 642834708
C163: 25 | D163: M | E163: 357130000100.S | F163: Rozvádzač | G163: ks | H163: 1 | J163: =ROUND(I163*H163,2) -> 0 | N163: znížená | O163: 0 | P163: =O163*H163 -> 0 | Q163: 0.074 | R163: =Q163*H163 -> 0.074 | S163: 0 | T163: =S163*H163 -> 0 | AR163: 128 | AT163: M | AU163: 2 | AY163: ROZPOCET | BE163: =IF(N163="základná",J163,0) -> 0 | BF163: =IF(N163="znížená",J163,0) -> 0 | BG163: =IF(N163="zákl. prenesená",J163,0) -> 0 | BH163: =IF(N163="zníž. prenesená",J163,0) -> 0 | BI163: =IF(N163="nulová",J163,0) -> 0 | BJ163: 2 | BK163: =ROUND(I163*H163,2) -> 0 | BL163: 128 | BM163: 518698704
C164: 26 | D164: K | E164: 210220002.S | F164: Uzemňovacie vedenie na povrchu FeZn páska uzemňovacia do 120 mm2 | G164: m | H164: 360 | J164: =ROUND(I164*H164,2) -> 0 | N164: znížená | O164: 0.25 | P164: =O164*H164 -> 90 | Q164: 0 | R164: =Q164*H164 -> 0 | S164: 0 | T164: =S164*H164 -> 0 | AR164: 64 | AT164: K | AU164: 2 | AY164: ROZPOCET | BE164: =IF(N164="základná",J164,0) -> 0 | BF164: =IF(N164="znížená",J164,0) -> 0 | BG164: =IF(N164="zákl. prenesená",J164,0) -> 0 | BH164: =IF(N164="zníž. prenesená",J164,0) -> 0 | BI164: =IF(N164="nulová",J164,0) -> 0 | BJ164: 2 | BK164: =ROUND(I164*H164,2) -> 0 | BL164: 64 | BM164: 823149830
...

Sheet SO 03.1 - Miešacie a skla...
L2: >> skryté stĺpce << | AT2: {dd448007-0255-4c86-8312-45876e612fda}
AT3: 0
D4: KRYCÍ LIST ROZPOČTU | M4: v --- nižšie sa nachádzajú doplnkové a pomocné údaje k zostavám --- v | AT4: False
D6: Stavba:
E7: ='Rekapitulácia stavby'!K6 -> Modernizácia farmy Bzince pod Javorinou
D8: Objekt:
E9: SO 03 - Hnojná koncovka
D10: Časť:
E11: SO 03.1 - Miešacie a skladovacie zariadenie na hnojovnicu 6000 m3
D13: JKSO: | I13: KS:
D14: Miesto: | F14: Bzince pod Javorinou | I14: Dátum: | J14: ='Rekapitulácia stavby'!AN8 -> 0
D16: Objednávateľ: | I16: IČO:
E17: Poľnohospodárske družstvo Bzince pod Javorinou | I17: IČ DPH:
D19: Zhotoviteľ: | I19: IČO: | J19: ='Rekapitulácia stavby'!AN13
E20: ='Rekapitulácia stavby'!E14 | I20: IČ DPH: | J20: ='Rekapitulácia stavby'!AN14
D22: Projektant: | I22: IČO: | J22: =IF('Rekapitulácia stavby'!AN16="","",'Rekapitulácia stavby'!AN16)
E23: =IF('Rekapitulácia stavby'!E17="","",'Rekapitulácia stavby'!E17) | I23: IČ DPH: | J23: =IF('Rekapitulácia stavby'!AN17="","",'Rekapitulácia stavby'!AN17)
D25: Spracovateľ: | I25: IČO: | J25: =IF('Rekapitulácia stavby'!AN19="","",'Rekapitulácia stavby'!AN19)
E26: =IF('Rekapitulácia stavby'!E20="","",'Rekapitulácia stavby'!E20) | I26: IČ DPH: | J26: =IF('Rekapitulácia stavby'!AN20="","",'Rekapitulácia stavby'!AN20)
D28: Poznámka:
D32: Cena bez DPH | J32: =ROUND(J120, 2) -> 0
F34: Základ dane | I34: Sadzba dane | J34: Výška dane
D35: DPH | E35: základná | F35: =ROUND((SUM(BE120:BE121)), 2) -> 0 | I35: 0.2 | J35: =ROUND(((SUM(BE120:BE121))*I35), 2) -> 0
E36: znížená | F36: =ROUND((SUM(BF120:BF121)), 2) -> 0 | I36: 0.2 | J36: =ROUND(((SUM(BF120:BF121))*I36), 2) -> 0
E37: zákl. prenesená | F37: =ROUND((SUM(BG120:BG121)), 2) -> 0 | I37: 0.2 | J37: =0 -> 0
E38: zníž. prenesená | F38: =ROUND((SUM(BH120:BH121)), 2) -> 0 | I38: 0.2 | J38: =0 -> 0
E39: nulová | F39: =ROUND((SUM(BI120:BI121)), 2) -> 0 | I39: 0 | J39: =0 -> 0
D41: Cena s DPH | G41: v | H41: EUR | J41: =SUM(J32:J39) -> 0
D50: Projektant | G50: Spracovateľ
D61: Dátum a podpis: | F61: Pečiatka | G61: Dátum a podpis: | J61: Pečiatka
D65: Objednávateľ | G65: Zhotoviteľ
D76: Dátum a podpis: | F76: Pečiatka | G76: Dátum a podpis: | J76: Pečiatka
C82: REKAPITULÁCIA ROZPOČTU
C84: Stavba:
E85: =E7 -> Modernizácia farmy Bzince pod Javorinou
C86: Objekt:
E87: SO 03 - Hnojná koncovka
C88: Časť:
E89: =E11 -> SO 03.1 - Miešacie a skladovacie zariadenie na hnojovnicu 6000 m3
C91: Miesto: | F91: =F14 -> Bzince pod Javorinou | I91: Dátum: | J91: =IF(J14="","",J14) -> 0
C93: Objednávateľ: | F93: =E17 -> Poľnohospodárske družstvo Bzince pod Javorinou | I93: Projektant: | J93: =E23
C94: Zhotoviteľ: | F94: =IF(E20="","",E20) | I94: Spracovateľ: | J94: =E26
C96: Kód dielu - Popis | J96: Cena celkom [EUR]
C98: Náklady z rozpočtu | J98: =J120 -> 0 | AU98: -1
C105: ROZPOČET
C107: Stavba:
E108: =E7 -> Modernizácia farmy Bzince pod Javorinou
C109: Objekt:
E110: SO 03 - Hnojná koncovka
C111: Časť:
E112: =E11 -> SO 03.1 - Miešacie a skladovacie zariadenie na hnojovnicu 6000 m3
C114: Miesto: | F114: =F14 -> Bzince pod Javorinou | I114: Dátum: | J114: =IF(J14="","",J14) -> 0
C116: Objednávateľ: | F116: =E17 -> Poľnohospodárske družstvo Bzince pod Javorinou | I116: Projektant: | J116: =E23
C117: Zhotoviteľ: | F117: =IF(E20="","",E20) | I117: Spracovateľ: | J117: =E26
C119: PČ | D119: Typ | E119: Kód | F119: Popis | G119: MJ | H119: Množstvo | I119: J.cena [EUR] | J119: Cena celkom [EUR] | K119: Cenová sústava | N119: DPH | O119: J. Nh [h] | P119: Nh celkom [h] | Q119: J. hmotnosť [t] | R119: Hmotnosť celkom [t] | S119: J. suť [t] | T119: Suť Celkom [t]
C120: Náklady z rozpočtu | J120: =BK120 -> 0 | P120: =P121 -> 0 | R120: =R121 -> 0 | T120: =T121 -> 0 | AT120: D | AU120: -1 | BK120: =BK121 -> 0
C121: 1 | D121: K | E121: BZI03.01.001 | F121: Miešacie a skladovacie zariadenie na hnojovnicu 6000 m3 | G121: kpt | H121: 1 | J121: =ROUND(I121*H121,2) -> 0 | N121: znížená | O121: 0 | P121: =O121*H121 -> 0 | Q121: 0 | R121: =Q121*H121 -> 0 | S121: 0 | T121: =S121*H121 -> 0 | AR121: 512 | AT121: K | AU121: 0 | AY121: ROZPOCET | BE121: =IF(N121="základná",J121,0) -> 0 | BF121: =IF(N121="znížená",J121,0) -> 0 | BG121: =IF(N121="zákl. prenesená",J121,0) -> 0 | BH121: =IF(N121="zníž. prenesená",J121,0) -> 0 | BI121: =IF(N121="nulová",J121,0) -> 0 | BJ121: 2 | BK121: =ROUND(I121*H121,2) -> 0 | BL121: 512 | BM121: -914652840

Sheet SO 03.2 - Technologické v...
L2: >> skryté stĺpce << | AT2: {69b1b5b6-f064-497e-b1d9-8433821cda5b}
AT3: 0
D4: KRYCÍ LIST ROZPOČTU | M4: v --- nižšie sa nachádzajú doplnkové a pomocné údaje k zostavám --- v | AT4: False
D6: Stavba:
E7: ='Rekapitulácia stavby'!K6 -> Modernizácia farmy Bzince pod Javorinou
D8: Objekt:
E9: SO 03 - Hnojná koncovka
D10: Časť:
E11: SO 03.2 - Technologické vybavenie prečerpávacej nádrže na hnojovnicu
D13: JKSO: | I13: KS:
D14: Miesto: | F14: Bzince pod Javorinou | I14: Dátum: | J14: ='Rekapitulácia stavby'!AN8 -> 0
D16: Objednávateľ: | I16: IČO:
E17: Poľnohospodárske družstvo Bzince pod Javorinou | I17: IČ DPH:
D19: Zhotoviteľ: | I19: IČO: | J19: ='Rekapitulácia stavby'!AN13
E20: ='Rekapitulácia stavby'!E14 | I20: IČ DPH: | J20: ='Rekapitulácia stavby'!AN14
D22: Projektant: | I22: IČO: | J22: =IF('Rekapitulácia stavby'!AN16="","",'Rekapitulácia stavby'!AN16)
E23: =IF('Rekapitulácia stavby'!E17="","",'Rekapitulácia stavby'!E17) | I23: IČ DPH: | J23: =IF('Rekapitulácia stavby'!AN17="","",'Rekapitulácia stavby'!AN17)
D25: Spracovateľ: | I25: IČO: | J25: =IF('Rekapitulácia stavby'!AN19="","",'Rekapitulácia stavby'!AN19)
E26: =IF('Rekapitulácia stavby'!E20="","",'Rekapitulácia stavby'!E20) | I26: IČ DPH: | J26: =IF('Rekapitulácia stavby'!AN20="","",'Rekapitulácia stavby'!AN20)
D28: Poznámka:
D32: Cena bez DPH | J32: =ROUND(J120, 2) -> 0
F34: Základ dane | I34: Sadzba dane | J34: Výška dane
D35: DPH | E35: základná | F35: =ROUND((SUM(BE120:BE121)), 2) -> 0 | I35: 0.2 | J35: =ROUND(((SUM(BE120:BE121))*I35), 2) -> 0
E36: znížená | F36: =ROUND((SUM(BF120:BF121)), 2) -> 0 | I36: 0.2 | J36: =ROUND(((SUM(BF120:BF121))*I36), 2) -> 0
E37: zákl. prenesená | F37: =ROUND((SUM(BG120:BG121)), 2) -> 0 | I37: 0.2 | J37: =0 -> 0
E38: zníž. prenesená | F38: =ROUND((SUM(BH120:BH121)), 2) -> 0 | I38: 0.2 | J38: =0 -> 0
E39: nulová | F39: =ROUND((SUM(BI120:BI121)), 2) -> 0 | I39: 0 | J39: =0 -> 0
D41: Cena s DPH | G41: v | H41: EUR | J41: =SUM(J32:J39) -> 0
D50: Projektant | G50: Spracovateľ
D61: Dátum a podpis: | F61: Pečiatka | G61: Dátum a podpis: | J61: Pečiatka
D65: Objednávateľ | G65: Zhotoviteľ
D76: Dátum a podpis: | F76: Pečiatka | G76: Dátum a podpis: | J76: Pečiatka
C82: REKAPITULÁCIA ROZPOČTU
C84: Stavba:
E85: =E7 -> Modernizácia farmy Bzince pod Javorinou
C86: Objekt:
E87: SO 03 - Hnojná koncovka
C88: Časť:
E89: =E11 -> SO 03.2 - Technologické vybavenie prečerpávacej nádrže na hnojovnicu
C91: Miesto: | F91: =F14 -> Bzince pod Javorinou | I91: Dátum: | J91: =IF(J14="","",J14) -> 0
C93: Objednávateľ: | F93: =E17 -> Poľnohospodárske družstvo Bzince pod Javorinou | I93: Projektant: | J93: =E23
C94: Zhotoviteľ: | F94: =IF(E20="","",E20) | I94: Spracovateľ: | J94: =E26
C96: Kód dielu - Popis | J96: Cena celkom [EUR]
C98: Náklady z rozpočtu | J98: =J120 -> 0 | AU98: -1
C105: ROZPOČET
C107: Stavba:
E108: =E7 -> Modernizácia farmy Bzince pod Javorinou
C109: Objekt:
E110: SO 03 - Hnojná koncovka
C111: Časť:
E112: =E11 -> SO 03.2 - Technologické vybavenie prečerpávacej nádrže na hnojovnicu
C114: Miesto: | F114: =F14 -> Bzince pod Javorinou | I114: Dátum: | J114: =IF(J14="","",J14) -> 0
C116: Objednávateľ: | F116: =E17 -> Poľnohospodárske družstvo Bzince pod Javorinou | I116: Projektant: | J116: =E23
C117: Zhotoviteľ: | F117: =IF(E20="","",E20) | I117: Spracovateľ: | J117: =E26
C119: PČ | D119: Typ | E119: Kód | F119: Popis | G119: MJ | H119: Množstvo | I119: J.cena [EUR] | J119: Cena celkom [EUR] | K119: Cenová sústava | N119: DPH | O119: J. Nh [h] | P119: Nh celkom [h] | Q119: J. hmotnosť [t] | R119: Hmotnosť celkom [t] | S119: J. suť [t] | T119: Suť Celkom [t]
C120: Náklady z rozpočtu | J120: =BK120 -> 0 | P120: =P121 -> 0 | R120: =R121 -> 0 | T120: =T121 -> 0 | AT120: D | AU120: -1 | BK120: =BK121 -> 0
C121: 1 | D121: K | E121: BZI03.02.001 | F121: Technologické vybavenie prečerpávacej nádrže na hnojovnicu | G121: kpt | H121: 1 | J121: =ROUND(I121*H121,2) -> 0 | N121: znížená | O121: 0 | P121: =O121*H121 -> 0 | Q121: 0 | R121: =Q121*H121 -> 0 | S121: 0 | T121: =S121*H121 -> 0 | AR121: 512 | AT121: K | AU121: 0 | AY121: ROZPOCET | BE121: =IF(N121="základná",J121,0) -> 0 | BF121: =IF(N121="znížená",J121,0) -> 0 | BG121: =IF(N121="zákl. prenesená",J121,0) -> 0 | BH121: =IF(N121="zníž. prenesená",J121,0) -> 0 | BI121: =IF(N121="nulová",J121,0) -> 0 | BJ121: 2 | BK121: =ROUND(I121*H121,2) -> 0 | BL121: 512 | BM121: -914652840

Sheet SO 03.3 - Separátor na vý...
L2: >> skryté stĺpce << | AT2: {d239b299-99fb-48f0-8244-9e03bcafa3aa}
AT3: 0
D4: KRYCÍ LIST ROZPOČTU | M4: v --- nižšie sa nachádzajú doplnkové a pomocné údaje k zostavám --- v | AT4: False
D6: Stavba:
E7: ='Rekapitulácia stavby'!K6 -> Modernizácia farmy Bzince pod Javorinou
D8: Objekt:
E9: SO 03 - Hnojná koncovka
D10: Časť:
E11: SO 03.3 - Separátor na výrobu podstieľky
D13: JKSO: | I13: KS:
D14: Miesto: | F14: Bzince pod Javorinou | I14: Dátum: | J14: ='Rekapitulácia stavby'!AN8 -> 0
D16: Objednávateľ: | I16: IČO:
E17: Poľnohospodárske družstvo Bzince pod Javorinou | I17: IČ DPH:
D19: Zhotoviteľ: | I19: IČO: | J19: ='Rekapitulácia stavby'!AN13
E20: ='Rekapitulácia stavby'!E14 | I20: IČ DPH: | J20: ='Rekapitulácia stavby'!AN14
D22: Projektant: | I22: IČO: | J22: =IF('Rekapitulácia stavby'!AN16="","",'Rekapitulácia stavby'!AN16)
E23: =IF('Rekapitulácia stavby'!E17="","",'Rekapitulácia stavby'!E17) | I23: IČ DPH: | J23: =IF('Rekapitulácia stavby'!AN17="","",'Rekapitulácia stavby'!AN17)
D25: Spracovateľ: | I25: IČO: | J25: =IF('Rekapitulácia stavby'!AN19="","",'Rekapitulácia stavby'!AN19)
E26: =IF('Rekapitulácia stavby'!E20="","",'Rekapitulácia stavby'!E20) | I26: IČ DPH: | J26: =IF('Rekapitulácia stavby'!AN20="","",'Rekapitulácia stavby'!AN20)
D28: Poznámka:
D32: Cena bez DPH | J32: =ROUND(J120, 2) -> 0
F34: Základ dane | I34: Sadzba dane | J34: Výška dane
D35: DPH | E35: základná | F35: =ROUND((SUM(BE120:BE121)), 2) -> 0 | I35: 0.2 | J35: =ROUND(((SUM(BE120:BE121))*I35), 2) -> 0
E36: znížená | F36: =ROUND((SUM(BF120:BF121)), 2) -> 0 | I36: 0.2 | J36: =ROUND(((SUM(BF120:BF121))*I36), 2) -> 0
E37: zákl. prenesená | F37: =ROUND((SUM(BG120:BG121)), 2) -> 0 | I37: 0.2 | J37: =0 -> 0
E38: zníž. prenesená | F38: =ROUND((SUM(BH120:BH121)), 2) -> 0 | I38: 0.2 | J38: =0 -> 0
E39: nulová | F39: =ROUND((SUM(BI120:BI121)), 2) -> 0 | I39: 0 | J39: =0 -> 0
D41: Cena s DPH | G41: v | H41: EUR | J41: =SUM(J32:J39) -> 0
D50: Projektant | G50: Spracovateľ
D61: Dátum a podpis: | F61: Pečiatka | G61: Dátum a podpis: | J61: Pečiatka
D65: Objednávateľ | G65: Zhotoviteľ
D76: Dátum a podpis: | F76: Pečiatka | G76: Dátum a podpis: | J76: Pečiatka
C82: REKAPITULÁCIA ROZPOČTU
C84: Stavba:
E85: =E7 -> Modernizácia farmy Bzince pod Javorinou
C86: Objekt:
E87: SO 03 - Hnojná koncovka
C88: Časť:
E89: =E11 -> SO 03.3 - Separátor na výrobu podstieľky
C91: Miesto: | F91: =F14 -> Bzince pod Javorinou | I91: Dátum: | J91: =IF(J14="","",J14) -> 0
C93: Objednávateľ: | F93: =E17 -> Poľnohospodárske družstvo Bzince pod Javorinou | I93: Projektant: | J93: =E23
C94: Zhotoviteľ: | F94: =IF(E20="","",E20) | I94: Spracovateľ: | J94: =E26
C96: Kód dielu - Popis | J96: Cena celkom [EUR]
C98: Náklady z rozpočtu | J98: =J120 -> 0 | AU98: -1
C105: ROZPOČET
C107: Stavba:
E108: =E7 -> Modernizácia farmy Bzince pod Javorinou
C109: Objekt:
E110: SO 03 - Hnojná koncovka
C111: Časť:
E112: =E11 -> SO 03.3 - Separátor na výrobu podstieľky
C114: Miesto: | F114: =F14 -> Bzince pod Javorinou | I114: Dátum: | J114: =IF(J14="","",J14) -> 0
C116: Objednávateľ: | F116: =E17 -> Poľnohospodárske družstvo Bzince pod Javorinou | I116: Projektant: | J116: =E23
C117: Zhotoviteľ: | F117: =IF(E20="","",E20) | I117: Spracovateľ: | J117: =E26
C119: PČ | D119: Typ | E119: Kód | F119: Popis | G119: MJ | H119: Množstvo | I119: J.cena [EUR] | J119: Cena celkom [EUR] | K119: Cenová sústava | N119: DPH | O119: J. Nh [h] | P119: Nh celkom [h] | Q119: J. hmotnosť [t] | R119: Hmotnosť celkom [t] | S119: J. suť [t] | T119: Suť Celkom [t]
C120: Náklady z rozpočtu | J120: =BK120 -> 0 | P120: =P121 -> 0 | R120: =R121 -> 0 | T120: =T121 -> 0 | AT120: D | AU120: -1 | BK120: =BK121 -> 0
C121: 1 | D121: K | E121: BZI03.03.001 | F121: Separátor na výrobu podstieľky | G121: kpt | H121: 1 | J121: =ROUND(I121*H121,2) -> 0 | N121: znížená | O121: 0 | P121: =O121*H121 -> 0 | Q121: 0 | R121: =Q121*H121 -> 0 | S121: 0 | T121: =S121*H121 -> 0 | AR121: 512 | AT121: K | AU121: 0 | AY121: ROZPOCET | BE121: =IF(N121="základná",J121,0) -> 0 | BF121: =IF(N121="znížená",J121,0) -> 0 | BG121: =IF(N121="zákl. prenesená",J121,0) -> 0 | BH121: =IF(N121="zníž. prenesená",J121,0) -> 0 | BI121: =IF(N121="nulová",J121,0) -> 0 | BJ121: 2 | BK121: =ROUND(I121*H121,2) -> 0 | BL121: 512 | BM121: -914652840

Sheet SO 03.4 - Stavebné úpravy
L2: >> skryté stĺpce << | AT2: {6fdfaa27-9c09-4836-b294-9691ab5addc7}
AT3: 0
D4: KRYCÍ LIST ROZPOČTU | M4: v --- nižšie sa nachádzajú doplnkové a pomocné údaje k zostavám --- v | AT4: False
D6: Stavba:
E7: ='Rekapitulácia stavby'!K6 -> Modernizácia farmy Bzince pod Javorinou
D8: Objekt:
E9: SO 03 - Hnojná koncovka
D10: Časť:
E11: SO 03.4 - Stavebné úpravy
D13: JKSO: | I13: KS:
D14: Miesto: | F14: Bzince pod Javorinou | I14: Dátum: | J14: ='Rekapitulácia stavby'!AN8 -> 0
D16: Objednávateľ: | I16: IČO:
E17: Poľnohospodárske družstvo Bzince pod Javorinou | I17: IČ DPH:
D19: Zhotoviteľ: | I19: IČO: | J19: ='Rekapitulácia stavby'!AN13
E20: ='Rekapitulácia stavby'!E14 | I20: IČ DPH: | J20: ='Rekapitulácia stavby'!AN14
D22: Projektant: | I22: IČO: | J22: =IF('Rekapitulácia stavby'!AN16="","",'Rekapitulácia stavby'!AN16)
E23: =IF('Rekapitulácia stavby'!E17="","",'Rekapitulácia stavby'!E17) | I23: IČ DPH: | J23: =IF('Rekapitulácia stavby'!AN17="","",'Rekapitulácia stavby'!AN17)
D25: Spracovateľ: | I25: IČO: | J25: =IF('Rekapitulácia stavby'!AN19="","",'Rekapitulácia stavby'!AN19)
E26: =IF('Rekapitulácia stavby'!E20="","",'Rekapitulácia stavby'!E20) | I26: IČ DPH: | J26: =IF('Rekapitulácia stavby'!AN20="","",'Rekapitulácia stavby'!AN20)
D28: Poznámka:
D32: Cena bez DPH | J32: =ROUND(J134, 2) -> 0
F34: Základ dane | I34: Sadzba dane | J34: Výška dane
D35: DPH | E35: základná | F35: =ROUND((SUM(BE134:BE198)), 2) -> 0 | I35: 0.2 | J35: =ROUND(((SUM(BE134:BE198))*I35), 2) -> 0
E36: znížená | F36: =ROUND((SUM(BF134:BF198)), 2) -> 0 | I36: 0.2 | J36: =ROUND(((SUM(BF134:BF198))*I36), 2) -> 0
E37: zákl. prenesená | F37: =ROUND((SUM(BG134:BG198)), 2) -> 0 | I37: 0.2 | J37: =0 -> 0
E38: zníž. prenesená | F38: =ROUND((SUM(BH134:BH198)), 2) -> 0 | I38: 0.2 | J38: =0 -> 0
E39: nulová | F39: =ROUND((SUM(BI134:BI198)), 2) -> 0 | I39: 0 | J39: =0 -> 0
D41: Cena s DPH | G41: v | H41: EUR | J41: =SUM(J32:J39) -> 0
D50: Projektant | G50: Spracovateľ
D61: Dátum a podpis: | F61: Pečiatka | G61: Dátum a podpis: | J61: Pečiatka
D65: Objednávateľ | G65: Zhotoviteľ
D76: Dátum a podpis: | F76: Pečiatka | G76: Dátum a podpis: | J76: Pečiatka
C82: REKAPITULÁCIA ROZPOČTU
C84: Stavba:
E85: =E7 -> Modernizácia farmy Bzince pod Javorinou
C86: Objekt:
E87: SO 03 - Hnojná koncovka
C88: Časť:
E89: =E11 -> SO 03.4 - Stavebné úpravy
C91: Miesto: | F91: =F14 -> Bzince pod Javorinou | I91: Dátum: | J91: =IF(J14="","",J14) -> 0
C93: Objednávateľ: | F93: =E17 -> Poľnohospodárske družstvo Bzince pod Javorinou | I93: Projektant: | J93: =E23
C94: Zhotoviteľ: | F94: =IF(E20="","",E20) | I94: Spracovateľ: | J94: =E26
C96: Kód dielu - Popis | J96: Cena celkom [EUR]
C98: Náklady z rozpočtu | J98: =J134 -> 0 | AU98: -1
D99: HSV - Práce a dodávky HSV | J99: =J135 -> 0
D100: 1 - Zemné práce | J100: =J136 -> 0
D101: 2 - Zakladanie | J101: =J146 -> 0
D102: 5 - Komunikácie | J102: =J152 -> 0
D103: 8 - Rúrové vedenie | J103: =J154 -> 0
D104: 99 - Presun hmôt HSV | J104: =J156 -> 0
D105: PSV - Práce a dodávky PSV | J105: =J158 -> 0
D106: 733 - Ústredné kúrenie - rozvodné potrubie | J106: =J159 -> 0
D107: 734 - Ústredné kúrenie - armatúry | J107: =J171 -> 0
D108: 767 - Konštrukcie doplnkové kovové | J108: =J176 -> 0
D109: 783 - Nátery | J109: =J183 -> 0
D110: M - Práce a dodávky M | J110: =J186 -> 0
D111: 21-M - Elektromontáže | J111: =J187 -> 0
D112: 46-M - Zemné práce vykonávané pri externých montážnych prácach | J112: =J196 -> 0
C119: ROZPOČET
C121: Stavba:
E122: =E7 -> Modernizácia farmy Bzince pod Javorinou
C123: Objekt:
E124: SO 03 - Hnojná koncovka
C125: Časť:
E126: =E11 -> SO 03.4 - Stavebné úpravy
C128: Miesto: | F128: =F14 -> Bzince pod Javorinou | I128: Dátum: | J128: =IF(J14="","",J14) -> 0
C130: Objednávateľ: | F130: =E17 -> Poľnohospodárske družstvo Bzince pod Javorinou | I130: Projektant: | J130: =E23
C131: Zhotoviteľ: | F131: =IF(E20="","",E20) | I131: Spracovateľ: | J131: =E26
C133: PČ | D133: Typ | E133: Kód | F133: Popis | G133: MJ | H133: Množstvo | I133: J.cena [EUR] | J133: Cena celkom [EUR] | K133: Cenová sústava | N133: DPH | O133: J. Nh [h] | P133: Nh celkom [h] | Q133: J. hmotnosť [t] | R133: Hmotnosť celkom [t] | S133: J. suť [t] | T133: Suť Celkom [t]
C134: Náklady z rozpočtu | J134: =BK134 -> 0 | P134: =P135+P158+P186 -> 1953.4861 | R134: =R135+R158+R186 -> 583.57752 | T134: =T135+T158+T186 -> 0 | AT134: D | AU134: -1 | BK134: =BK135+BK158+BK186 -> 0
D135: D | E135: HSV | F135: Práce a dodávky HSV | J135: =BK135 -> 0 | P135: =P136+P146+P152+P154+P156 -> 1527.8751 | R135: =R136+R146+R152+R154+R156 -> 581.0002 | T135: =T136+T146+T152+T154+T156 -> 0 | AR135: 1 | AT135: D | AU135: 0 | AY135: ROZPOCET | BK135: =BK136+BK146+BK152+BK154+BK156 -> 0
D136: D | E136: 1 | F136: Zemné práce | J136: =BK136 -> 0 | P136: =SUM(P137:P145) -> 1334.7814 | R136: =SUM(R137:R145) -> 37.8 | T136: =SUM(T137:T145) -> 0 | AR136: 1 | AT136: D | AU136: 1 | AY136: ROZPOCET | BK136: =SUM(BK137:BK145) -> 0
C137: 1 | D137: K | E137: 131201103.S | F137: Výkop nezapaženej jamy v hornine 3, nad 1000 do 10000 m3 | G137: m3 | H137: 4005.12 | J137: =ROUND(I137*H137,2) -> 0 | N137: znížená | O137: 0.153 | P137: =O137*H137 -> 612.78336 | Q137: 0 | R137: =Q137*H137 -> 0 | S137: 0 | T137: =S137*H137 -> 0 | AR137: 4 | AT137: K | AU137: 2 | AY137: ROZPOCET | BE137: =IF(N137="základná",J137,0) -> 0 | BF137: =IF(N137="znížená",J137,0) -> 0 | BG137: =IF(N137="zákl. prenesená",J137,0) -> 0 | BH137: =IF(N137="zníž. prenesená",J137,0) -> 0 | BI137: =IF(N137="nulová",J137,0) -> 0 | BJ137: 2 | BK137: =ROUND(I137*H137,2) -> 0 | BL137: 4 | BM137: 1079200588
C138: 2 | D138: K | E138: 132201201.S | F138: Výkop ryhy šírky 600-2000mm horn.3 do 100m3 | G138: m3 | H138: 100 | J138: =ROUND(I138*H138,2) -> 0 | N138: znížená | O138: 1.509 | P138: =O138*H138 -> 150.9 | Q138: 0 | R138: =Q138*H138 -> 0 | S138: 0 | T138: =S138*H138 -> 0 | AR138: 4 | AT138: K | AU138: 2 | AY138: ROZPOCET | BE138: =IF(N138="základná",J138,0) -> 0 | BF138: =IF(N138="znížená",J138,0) -> 0 | BG138: =IF(N138="zákl. prenesená",J138,0) -> 0 | BH138: =IF(N138="zníž. prenesená",J138,0) -> 0 | BI138: =IF(N138="nulová",J138,0) -> 0 | BJ138: 2 | BK138: =ROUND(I138*H138,2) -> 0 | BL138: 4 | BM138: 207271199
C139: 3 | D139: K | E139: 132201209.S | F139: Príplatok k cenám za lepivosť pri hĺbení rýh š. nad 600 do 2 000 mm zapaž. i nezapažených, s urovnaním dna v hornine 3 | G139: m3 | H139: 100 | J139: =ROUND(I139*H139,2) -> 0 | N139: znížená | O139: 0.08 | P139: =O139*H139 -> 8 | Q139: 0 | R139: =Q139*H139 -> 0 | S139: 0 | T139: =S139*H139 -> 0 | AR139: 4 | AT139: K | AU139: 2 | AY139: ROZPOCET | BE139: =IF(N139="základná",J139,0) -> 0 | BF139: =IF(N139="znížená",J139,0) -> 0 | BG139: =IF(N139="zákl. prenesená",J139,0) -> 0 | BH139: =IF(N139="zníž. prenesená",J139,0) -> 0 | BI139: =IF(N139="nulová",J139,0) -> 0 | BJ139: 2 | BK139: =ROUND(I139*H139,2) -> 0 | BL139: 4 | BM139: 1491551704
C140: 4 | D140: K | E140: 162201102.S | F140: Vodorovné premiestnenie výkopku z horniny 1-4 nad 20-50m | G140: m3 | H140: 4040 | J140: =ROUND(I140*H140,2) -> 0 | N140: znížená | O140: 0.069 | P140: =O140*H140 -> 278.76 | Q140: 0 | R140: =Q140*H140 -> 0 | S140: 0 | T140: =S140*H140 -> 0 | AR140: 4 | AT140: K | AU140: 2 | AY140: ROZPOCET | BE140: =IF(N140="základná",J140,0) -> 0 | BF140: =IF(N140="znížená",J140,0) -> 0 | BG140: =IF(N140="zákl. prenesená",J140,0) -> 0 | BH140: =IF(N140="zníž. prenesená",J140,0) -> 0 | BI140: =IF(N140="nulová",J140,0) -> 0 | BJ140: 2 | BK140: =ROUND(I140*H140,2) -> 0 | BL140: 4 | BM140: 976858050
C141: 5 | D141: K | E141: 171101101.S | F141: Uloženie sypaniny do násypu súdržnej horniny s mierou zhutnenia podľa Proctor-Standard na 95 % | G141: m3 | H141: 4040 | J141: =ROUND(I141*H141,2) -> 0 | N141: znížená | O141: 0.042 | P141: =O141*H141 -> 169.68 | Q141: 0 | R141: =Q141*H141 -> 0 | S141: 0 | T141: =S141*H141 -> 0 | AR141: 4 | AT141: K | AU141: 2 | AY141: ROZPOCET | BE141: =IF(N141="základná",J141,0) -> 0 | BF141: =IF(N141="znížená",J141,0) -> 0 | BG141: =IF(N141="zákl. prenesená",J141,0) -> 0 | BH141: =IF(N141="zníž. prenesená",J141,0) -> 0 | BI141: =IF(N141="nulová",J141,0) -> 0 | BJ141: 2 | BK141: =ROUND(I141*H141,2) -> 0 | BL141: 4 | BM141: 1456776767
C142: 6 | D142: K | E142: 174101001.S | F142: Zásyp sypaninou so zhutnením jám, šachiet, rýh, zárezov alebo okolo objektov do 100 m3 | G142: m3 | H142: 65 | J142: =ROUND(I142*H142,2) -> 0 | N142: znížená | O142: 0.242 | P142: =O142*H142 -> 15.73 | Q142: 0 | R142: =Q142*H142 -> 0 | S142: 0 | T142: =S142*H142 -> 0 | AR142: 4 | AT142: K | AU142: 2 | AY142: ROZPOCET | BE142: =IF(N142="základná",J142,0) -> 0 | BF142: =IF(N142="znížená",J142,0) -> 0 | BG142: =IF(N142="zákl. prenesená",J142,0) -> 0 | BH142: =IF(N142="zníž. prenesená",J142,0) -> 0 | BI142: =IF(N142="nulová",J142,0) -> 0 | BJ142: 2 | BK142: =ROUND(I142*H142,2) -> 0 | BL142: 4 | BM142: 1869467619
C143: 7 | D143: K | E143: 175101102.S | F143: Obsyp potrubia sypaninou z vhodných hornín 1 až 4 s prehodením sypaniny | G143: m3 | H143: 20 | J143: =ROUND(I143*H143,2) -> 0 | N143: znížená | O143: 2.39 | P143: =O143*H143 -> 47.8 | Q143: 0 | R143: =Q143*H143 -> 0 | S143: 0 | T143: =S143*H143 -> 0 | AR143: 4 | AT143: K | AU143: 2 | AY143: ROZPOCET | BE143: =IF(N143="základná",J143,0) -> 0 | BF143: =IF(N143="znížená",J143,0) -> 0 | BG143: =IF(N143="zákl. prenesená",J143,0) -> 0 | BH143: =IF(N143="zníž. prenesená",J143,0) -> 0 | BI143: =IF(N143="nulová",J143,0) -> 0 | BJ143: 2 | BK143: =ROUND(I143*H143,2) -> 0 | BL143: 4 | BM143: 945553685
C144: 8 | D144: M | E144: 583310002700.S | F144: Štrkopiesok frakcia 0-8 mm | G144: t | H144: 37.8 | J144: =ROUND(I144*H144,2) -> 0 | N144: znížená | O144: 0 | P144: =O144*H144 -> 0 | Q144: 1 | R144: =Q144*H144 -> 37.8 | S144: 0 | T144: =S144*H144 -> 0 | AR144: 8 | AT144: M | AU144: 2 | AY144: ROZPOCET | BE144: =IF(N144="základná",J144,0) -> 0 | BF144: =IF(N144="znížená",J144,0) -> 0 | BG144: =IF(N144="zákl. prenesená",J144,0) -> 0 | BH144: =IF(N144="zníž. prenesená",J144,0) -> 0 | BI144: =IF(N144="nulová",J144,0) -> 0 | BJ144: 2 | BK144: =ROUND(I144*H144,2) -> 0 | BL144: 4 | BM144: -1230156266
C145: 9 | D145: K | E145: 561121115.S | F145: Vyrovnanie terénu | G145: m2 | H145: 2200 | J145: =ROUND(I145*H145,2) -> 0 | N145: znížená | O145: 0.02324 | P145: =O145*H145 -> 51.128 | Q145: 0 | R145: =Q145*H145 -> 0 | S145: 0 | T145: =S145*H145 -> 0 | AR145: 4 | AT145: K | AU145: 2 | AY145: ROZPOCET | BE145: =IF(N145="základná",J145,0) -> 0 | BF145: =IF(N145="znížená",J145,0) -> 0 | BG145: =IF(N145="zákl. prenesená",J145,0) -> 0 | BH145: =IF(N145="zníž. prenesená",J145,0) -> 0 | BI145: =IF(N145="nulová",J145,0) -> 0 | BJ145: 2 | BK145: =ROUND(I145*H145,2) -> 0 | BL145: 4 | BM145: -631832739
D146: D | E146: 2 | F146: Zakladanie | J146: =BK146 -> 0 | P146: =SUM(P147:P151) -> 54.316707 | R146: =SUM(R147:R151) -> 41.294998 | T146: =SUM(T147:T151) -> 0 | AR146: 1 | AT146: D | AU146: 1 | AY146: ROZPOCET | BK146: =SUM(BK147:BK151) -> 0
C147: 10 | D147: K | E147: 212572121.S | F147: Lôžko pre trativod z kameniva drobného ťaženého | G147: m3 | H147: 15 | J147: =ROUND(I147*H147,2) -> 0 | N147: znížená | O147: 1.498 | P147: =O147*H147 -> 22.47 | Q147: 1.9205 | R147: =Q147*H147 -> 28.8075 | S147: 0 | T147: =S147*H147 -> 0 | AR147: 4 | AT147: K | AU147: 2 | AY147: ROZPOCET | BE147: =IF(N147="základná",J147,0) -> 0 | BF147: =IF(N147="znížená",J147,0) -> 0 | BG147: =IF(N147="zákl. prenesená",J147,0) -> 0 | BH147: =IF(N147="zníž. prenesená",J147,0) -> 0 | BI147: =IF(N147="nulová",J147,0) -> 0 | BJ147: 2 | BK147: =ROUND(I147*H147,2) -> 0 | BL147: 4 | BM147: -548017807
C148: 11 | D148: K | E148: 273321411.S | F148: Betón základových dosiek, železový (bez výstuže), tr. C 25/30 | G148: m3 | H148: 5.12 | J148: =ROUND(I148*H148,2) -> 0 | N148: znížená | O148: 0.61891 | P148: =O148*H148 -> 3.1688192 | Q148: 2.4157202 | R148: =Q148*H148 -> 12.368487 | S148: 0 | T148: =S148*H148 -> 0 | AR148: 4 | AT148: K | AU148: 2 | AY148: ROZPOCET | BE148: =IF(N148="základná",J148,0) -> 0 | BF148: =IF(N148="znížená",J148,0) -> 0 | BG148: =IF(N148="zákl. prenesená",J148,0) -> 0 | BH148: =IF(N148="zníž. prenesená",J148,0) -> 0 | BI148: =IF(N148="nulová",J148,0) -> 0 | BJ148: 2 | BK148: =ROUND(I148*H148,2) -> 0 | BL148: 4 | BM148: 318810903
C149: 12 | D149: K | E149: 273351217.S | F149: Debnenie stien základových dosiek, zhotovenie-tradičné | G149: m2 | H149: 25.6 | J149: =ROUND(I149*H149,2) -> 0 | N149: znížená | O149: 0.788 | P149: =O149*H149 -> 20.1728 | Q149: 0.00376776 | R149: =Q149*H149 -> 0.096454656 | S149: 0 | T149: =S149*H149 -> 0 | AR149: 4 | AT149: K | AU149: 2 | AY149: ROZPOCET | BE149: =IF(N149="základná",J149,0) -> 0 | BF149: =IF(N149="znížená",J149,0) -> 0 | BG149: =IF(N149="zákl. prenesená",J149,0) -> 0 | BH149: =IF(N149="zníž. prenesená",J149,0) -> 0 | BI149: =IF(N149="nulová",J149,0) -> 0 | BJ149: 2 | BK149: =ROUND(I149*H149,2) -> 0 | BL149: 4 | BM149: 793571575
C150: 13 | D150: K | E150: 273351218.S | F150: Debnenie stien základových dosiek, odstránenie-tradičné | G150: m2 | H150: 25.6 | J150: =ROUND(I150*H150,2) -> 0 | N150: znížená | O150: 0.322 | P150: =O150*H150 -> 8.2432 | Q150: 0 | R150: =Q150*H150 -> 0 | S150: 0 | T150: =S150*H150 -> 0 | AR150: 4 | AT150: K | AU150: 2 | AY150: ROZPOCET | BE150: =IF(N150="základná",J150,0) -> 0 | BF150: =IF(N150="znížená",J150,0) -> 0 | BG150: =IF(N150="zákl. prenesená",J150,0) -> 0 | BH150: =IF(N150="zníž. prenesená",J150,0) -> 0 | BI150: =IF(N150="nulová",J150,0) -> 0 | BJ150: 2 | BK150: =ROUND(I150*H150,2) -> 0 | BL150: 4 | BM150: -508978078
C151: 14 | D151: K | E151: 273362422.S | F151: Výstuž základových dosiek zo zvár. sietí KARI, priemer drôtu 6/6 mm, veľkosť oka 150x150 mm | G151: m2 | H151: 6.4 | J151: =ROUND(I151*H151,2) -> 0 | N151: znížená | O151: 0.04092 | P151: =O151*H151 -> 0.261888 | Q151: 0.00352441 | R151: =Q151*H151 -> 0.022556224 | S151: 0 | T151: =S151*H151 -> 0 | AR151: 4 | AT151: K | AU151: 2 | AY151: ROZPOCET | BE151: =IF(N151="základná",J151,0) -> 0 | BF151: =IF(N151="znížená",J151,0) -> 0 | BG151: =IF(N151="zákl. prenesená",J151,0) -> 0 | BH151: =IF(N151="zníž. prenesená",J151,0) -> 0 | BI151: =IF(N151="nulová",J151,0) -> 0 | BJ151: 2 | BK151: =ROUND(I151*H151,2) -> 0 | BL151: 4 | BM151: -2014108604
D152: D | E152: 5 | F152: Komunikácie | J152: =BK152 -> 0 | P152: =P153 -> 98.24 | R152: =R153 -> 501.88 | T152: =T153 -> 0 | AR152: 1 | AT152: D | AU152: 1 | AY152: ROZPOCET | BK152: =BK153 -> 0
C153: 15 | D153: K | E153: 564732111.S | F153: Podklad alebo kryt z piesku po zhut.hr. 100 mm | G153: m2 | H153: 2000 | J153: =ROUND(I153*H153,2) -> 0 | N153: znížená | O153: 0.04912 | P153: =O153*H153 -> 98.24 | Q153: 0.25094 | R153: =Q153*H153 -> 501.88 | S153: 0 | T153: =S153*H153 -> 0 | AR153: 4 | AT153: K | AU153: 2 | AY153: ROZPOCET | BE153: =IF(N153="základná",J153,0) -> 0 | BF153: =IF(N153="znížená",J153,0) -> 0 | BG153: =IF(N153="zákl. prenesená",J153,0) -> 0 | BH153: =IF(N153="zníž. prenesená",J153,0) -> 0 | BI153: =IF(N153="nulová",J153,0) -> 0 | BJ153: 2 | BK153: =ROUND(I153*H153,2) -> 0 | BL153: 4 | BM153: 687062939
D154: D | E154: 8 | F154: Rúrové vedenie | J154: =BK154 -> 0 | P154: =P155 -> 13.23 | R154: =R155 -> 0.0252 | T154: =T155 -> 0 | AR154: 1 | AT154: D | AU154: 1 | AY154: ROZPOCET | BK154: =BK155 -> 0
C155: 16 | D155: K | E155: 899721132.S | F155: Označenie potrubia, kábla hnedou, červenou výstražnou fóliou | G155: m | H155: 252 | J155: =ROUND(I155*H155,2) -> 0 | N155: znížená | O155: 0.0525 | P155: =O155*H155 -> 13.23 | Q155: 0.0001 | R155: =Q155*H155 -> 0.0252 | S155: 0 | T155: =S155*H155 -> 0 | AR155: 4 | AT155: K | AU155: 2 | AY155: ROZPOCET | BE155: =IF(N155="základná",J155,0) -> 0 | BF155: =IF(N155="znížená",J155,0) -> 0 | BG155: =IF(N155="zákl. prenesená",J155,0) -> 0 | BH155: =IF(N155="zníž. prenesená",J155,0) -> 0 | BI155: =IF(N155="nulová",J155,0) -> 0 | BJ155: 2 | BK155: =ROUND(I155*H155,2) -> 0 | BL155: 4 | BM155: -1849655193
D156: D | E156: 99 | F156: Presun hmôt HSV | J156: =BK156 -> 0 | P156: =P157 -> 27.307 | R156: =R157 -> 0 | T156: =T157 -> 0 | AR156: 1 | AT156: D | AU156: 1 | AY156: ROZPOCET | BK156: =BK157 -> 0
C157: 17 | D157: K | E157: 998222011.S | F157: Presun hmôt | G157: t | H157: 581 | J157: =ROUND(I157*H157,2) -> 0 | N157: znížená | O157: 0.047 | P157: =O157*H157 -> 27.307 | Q157: 0 | R157: =Q157*H157 -> 0 | S157: 0 | T157: =S157*H157 -> 0 | AR157: 4 | AT157: K | AU157: 2 | AY157: ROZPOCET | BE157: =IF(N157="základná",J157,0) -> 0 | BF157: =IF(N157="znížená",J157,0) -> 0 | BG157: =IF(N157="zákl. prenesená",J157,0) -> 0 | BH157: =IF(N157="zníž. prenesená",J157,0) -> 0 | BI157: =IF(N157="nulová",J157,0) -> 0 | BJ157: 2 | BK157: =ROUND(I157*H157,2) -> 0 | BL157: 4 | BM157: 511324110
D158: D | E158: PSV | F158: Práce a dodávky PSV | J158: =BK158 -> 0 | P158: =P159+P171+P176+P183 -> 309.84102 | R158: =R159+R171+R176+R183 -> 2.4213234 | T158: =T159+T171+T176+T183 -> 0 | AR158: 2 | AT158: D | AU158: 0 | AY158: ROZPOCET | BK158: =BK159+BK171+BK176+BK183 -> 0
D159: D | E159: 733 | F159: Ústredné kúrenie - rozvodné potrubie | J159: =BK159 -> 0 | P159: =SUM(P160:P170) -> 150.13657 | R159: =SUM(R160:R170) -> 1.6422874 | T159: =SUM(T160:T170) -> 0 | AR159: 2 | AT159: D | AU159: 1 | AY159: ROZPOCET | BK159: =SUM(BK160:BK170) -> 0
C160: 18 | D160: K | E160: 733121129.S | F160: Potrubie z rúrok hladkých bezšvových nízkotlakových priemer 108/5,0 | G160: m | H160: 102 | J160: =ROUND(I160*H160,2) -> 0 | N160: znížená | O160: 0.83472 | P160: =O160*H160 -> 85.14144 | Q160: 0.014994616 | R160: =Q160*H160 -> 1.5294509 | S160: 0 | T160: =S160*H160 -> 0 | AR160: 16 | AT160: K | AU160: 2 | AY160: ROZPOCET | BE160: =IF(N160="základná",J160,0) -> 0 | BF160: =IF(N160="znížená",J160,0) -> 0 | BG160: =IF(N160="zákl. prenesená",J160,0) -> 0 | BH160: =IF(N160="zníž. prenesená",J160,0) -> 0 | BI160: =IF(N160="nulová",J160,0) -> 0 | BJ160: 2 | BK160: =ROUND(I160*H160,2) -> 0 | BL160: 16 | BM160: 831263590
C161: 19 | D161: K | E161: 733123128.S | F161: Príplatok za zhotovenie prípojky z hladkých rúrok priemer 108/4,0 | G161: ks | H161: 4 | J161: =ROUND(I161*H161,2) -> 0 | N161: znížená | O161: 2.607 | P161: =O161*H161 -> 10.428 | Q161: 0 | R161: =Q161*H161 -> 0 | S161: 0 | T161: =S161*H161 -> 0 | AR161: 16 | AT161: K | AU161: 2 | AY161: ROZPOCET | BE161: =IF(N161="základná",J161,0) -> 0 | BF161: =IF(N161="znížená",J161,0) -> 0 | BG161: =IF(N161="zákl. prenesená",J161,0) -> 0 | BH161: =IF(N161="zníž. prenesená",J161,0) -> 0 | BI161: =IF(N161="nulová",J161,0) -> 0 | BJ161: 2 | BK161: =ROUND(I161*H161,2) -> 0 | BL161: 16 | BM161: 891527600
C162: 20 | D162: K | E162: 733126035.S | F162: Montáž tvarovky - redukcie DN 100 privarením | G162: ks | H162: 2 | J162: =ROUND(I162*H162,2) -> 0 | N162: znížená | O162: 2.49931 | P162: =O162*H162 -> 4.99862 | Q162: 0.0004256 | R162: =Q162*H162 -> 0.0008512 | S162: 0 | T162: =S162*H162 -> 0 | AR162: 16 | AT162: K | AU162: 2 | AY162: ROZPOCET | BE162: =IF(N162="základná",J162,0) -> 0 | BF162: =IF(N162="znížená",J162,0) -> 0 | BG162: =IF(N162="zákl. prenesená",J162,0) -> 0 | BH162: =IF(N162="zníž. prenesená",J162,0) -> 0 | BI162: =IF(N162="nulová",J162,0) -> 0 | BJ162: 2 | BK162: =ROUND(I162*H162,2) -> 0 | BL162: 16 | BM162: 872353614
C163: 21 | D163: M | E163: 316170013600.S | F163: Redukcia varná DN 100/80, d 114,3/108,0 mm, hr. steny 3,6/3,6 mm, z čiernej uhlíkovej ocele | G163: ks | H163: 2 | J163: =ROUND(I163*H163,2) -> 0 | N163: znížená | O163: 0 | P163: =O163*H163 -> 0 | Q163: 0.001 | R163: =Q163*H163 -> 0.002 | S163: 0 | T163: =S163*H163 -> 0 | AR163: 32 | AT163: M | AU163: 2 | AY163: ROZPOCET | BE163: =IF(N163="základná",J163,0) -> 0 | BF163: =IF(N163="znížená",J163,0) -> 0 | BG163: =IF(N163="zákl. prenesená",J163,0) -> 0 | BH163: =IF(N163="zníž. prenesená",J163,0) -> 0 | BI163: =IF(N163="nulová",J163,0) -> 0 | BJ163: 2 | BK163: =ROUND(I163*H163,2) -> 0 | BL163: 16 | BM163: 1485956225
C164: 22 | D164: K | E164: 733126100.S | F164: Montáž tvarovky - koleno DN 100 privarením | G164: ks | H164: 12 | J164: =ROUND(I164*H164,2) -> 0 | N164: znížená | O164: 2.49937 | P164: =O164*H164 -> 29.99244 | Q164: 0.0004256 | R164: =Q164*H164 -> 0.0051072 | S164: 0 | T164: =S164*H164 -> 0 | AR164: 16 | AT164: K | AU164: 2 | AY164: ROZPOCET | BE164: =IF(N164="základná",J164,0) -> 0 | BF164: =IF(N164="znížená",J164,0) -> 0 | BG164: =IF(N164="zákl. prenesená",J164,0) -> 0 | BH164: =IF(N164="zníž. prenesená",J164,0) -> 0 | BI164: =IF(N164="nulová",J164,0) -> 0 | BJ164: 2 | BK164: =ROUND(I164*H164,2) -> 0 | BL164: 16 | BM164: 1750325614
...

Sheet SO 03.5 - Búracie práce m...
L2: >> skryté stĺpce << | AT2: {b0ed488d-8e6e-407e-b275-ebb5f9efc9a2}
AT3: 0
D4: KRYCÍ LIST ROZPOČTU | M4: v --- nižšie sa nachádzajú doplnkové a pomocné údaje k zostavám --- v | AT4: False
D6: Stavba:
E7: ='Rekapitulácia stavby'!K6 -> Modernizácia farmy Bzince pod Javorinou
D8: Objekt:
E9: SO 03 - Hnojná koncovka
D10: Časť:
E11: SO 03.5 - Búracie práce maštaľ 1275/24 (výkrm ošípaných)
D13: JKSO: | I13: KS:
D14: Miesto: | F14: Bzince pod Javorinou | I14: Dátum: | J14: ='Rekapitulácia stavby'!AN8 -> 0
D16: Objednávateľ: | I16: IČO:
E17: Poľnohospodárske družstvo Bzince pod Javorinou | I17: IČ DPH:
D19: Zhotoviteľ: | I19: IČO: | J19: ='Rekapitulácia stavby'!AN13
E20: ='Rekapitulácia stavby'!E14 | I20: IČ DPH: | J20: ='Rekapitulácia stavby'!AN14
D22: Projektant: | I22: IČO: | J22: =IF('Rekapitulácia stavby'!AN16="","",'Rekapitulácia stavby'!AN16)
E23: =IF('Rekapitulácia stavby'!E17="","",'Rekapitulácia stavby'!E17) | I23: IČ DPH: | J23: =IF('Rekapitulácia stavby'!AN17="","",'Rekapitulácia stavby'!AN17)
D25: Spracovateľ: | I25: IČO: | J25: =IF('Rekapitulácia stavby'!AN19="","",'Rekapitulácia stavby'!AN19)
E26: =IF('Rekapitulácia stavby'!E20="","",'Rekapitulácia stavby'!E20) | I26: IČ DPH: | J26: =IF('Rekapitulácia stavby'!AN20="","",'Rekapitulácia stavby'!AN20)
D28: Poznámka:
D32: Cena bez DPH | J32: =ROUND(J120, 2) -> 0
F34: Základ dane | I34: Sadzba dane | J34: Výška dane
D35: DPH | E35: základná | F35: =ROUND((SUM(BE120:BE124)), 2) -> 0 | I35: 0.2 | J35: =ROUND(((SUM(BE120:BE124))*I35), 2) -> 0
E36: znížená | F36: =ROUND((SUM(BF120:BF124)), 2) -> 0 | I36: 0.2 | J36: =ROUND(((SUM(BF120:BF124))*I36), 2) -> 0
E37: zákl. prenesená | F37: =ROUND((SUM(BG120:BG124)), 2) -> 0 | I37: 0.2 | J37: =0 -> 0
E38: zníž. prenesená | F38: =ROUND((SUM(BH120:BH124)), 2) -> 0 | I38: 0.2 | J38: =0 -> 0
E39: nulová | F39: =ROUND((SUM(BI120:BI124)), 2) -> 0 | I39: 0 | J39: =0 -> 0
D41: Cena s DPH | G41: v | H41: EUR | J41: =SUM(J32:J39) -> 0
D50: Projektant | G50: Spracovateľ
D61: Dátum a podpis: | F61: Pečiatka | G61: Dátum a podpis: | J61: Pečiatka
D65: Objednávateľ | G65: Zhotoviteľ
D76: Dátum a podpis: | F76: Pečiatka | G76: Dátum a podpis: | J76: Pečiatka
C82: REKAPITULÁCIA ROZPOČTU
C84: Stavba:
E85: =E7 -> Modernizácia farmy Bzince pod Javorinou
C86: Objekt:
E87: SO 03 - Hnojná koncovka
C88: Časť:
E89: =E11 -> SO 03.5 - Búracie práce maštaľ 1275/24 (výkrm ošípaných)
C91: Miesto: | F91: =F14 -> Bzince pod Javorinou | I91: Dátum: | J91: =IF(J14="","",J14) -> 0
C93: Objednávateľ: | F93: =E17 -> Poľnohospodárske družstvo Bzince pod Javorinou | I93: Projektant: | J93: =E23
C94: Zhotoviteľ: | F94: =IF(E20="","",E20) | I94: Spracovateľ: | J94: =E26
C96: Kód dielu - Popis | J96: Cena celkom [EUR]
C98: Náklady z rozpočtu | J98: =J120 -> 0 | AU98: -1
C105: ROZPOČET
C107: Stavba:
E108: =E7 -> Modernizácia farmy Bzince pod Javorinou
C109: Objekt:
E110: SO 03 - Hnojná koncovka
C111: Časť:
E112: =E11 -> SO 03.5 - Búracie práce maštaľ 1275/24 (výkrm ošípaných)
C114: Miesto: | F114: =F14 -> Bzince pod Javorinou | I114: Dátum: | J114: =IF(J14="","",J14) -> 0
C116: Objednávateľ: | F116: =E17 -> Poľnohospodárske družstvo Bzince pod Javorinou | I116: Projektant: | J116: =E23
C117: Zhotoviteľ: | F117: =IF(E20="","",E20) | I117: Spracovateľ: | J117: =E26
C119: PČ | D119: Typ | E119: Kód | F119: Popis | G119: MJ | H119: Množstvo | I119: J.cena [EUR] | J119: Cena celkom [EUR] | K119: Cenová sústava | N119: DPH | O119: J. Nh [h] | P119: Nh celkom [h] | Q119: J. hmotnosť [t] | R119: Hmotnosť celkom [t] | S119: J. suť [t] | T119: Suť Celkom [t]
C120: Náklady z rozpočtu | J120: =BK120 -> 0 | P120: =SUM(P121:P124) -> 0 | R120: =SUM(R121:R124) -> 0 | T120: =SUM(T121:T124) -> 0 | AT120: D | AU120: -1 | BK120: =SUM(BK121:BK124) -> 0
C121: 1 | D121: K | E121: BZI03.05.001 | F121: Búracie práce | G121: kpt | H121: 1 | J121: =ROUND(I121*H121,2) -> 0 | N121: znížená | O121: 0 | P121: =O121*H121 -> 0 | Q121: 0 | R121: =Q121*H121 -> 0 | S121: 0 | T121: =S121*H121 -> 0 | AR121: 512 | AT121: K | AU121: 0 | AY121: ROZPOCET | BE121: =IF(N121="základná",J121,0) -> 0 | BF121: =IF(N121="znížená",J121,0) -> 0 | BG121: =IF(N121="zákl. prenesená",J121,0) -> 0 | BH121: =IF(N121="zníž. prenesená",J121,0) -> 0 | BI121: =IF(N121="nulová",J121,0) -> 0 | BJ121: 2 | BK121: =ROUND(I121*H121,2) -> 0 | BL121: 512 | BM121: -914652840
C122: 2 | D122: K | E122: BZI03.05.002 | F122: Recyklácia tehlovej a betónovej sute | G122: kpt | H122: 1 | J122: =ROUND(I122*H122,2) -> 0 | N122: znížená | O122: 0 | P122: =O122*H122 -> 0 | Q122: 0 | R122: =Q122*H122 -> 0 | S122: 0 | T122: =S122*H122 -> 0 | AR122: 512 | AT122: K | AU122: 0 | AY122: ROZPOCET | BE122: =IF(N122="základná",J122,0) -> 0 | BF122: =IF(N122="znížená",J122,0) -> 0 | BG122: =IF(N122="zákl. prenesená",J122,0) -> 0 | BH122: =IF(N122="zníž. prenesená",J122,0) -> 0 | BI122: =IF(N122="nulová",J122,0) -> 0 | BJ122: 2 | BK122: =ROUND(I122*H122,2) -> 0 | BL122: 512 | BM122: -937854323
C123: 3 | D123: K | E123: BZI03.05.003 | F123: Manipulácia a nakladanie sute, separácia | G123: kpt | H123: 1 | J123: =ROUND(I123*H123,2) -> 0 | N123: znížená | O123: 0 | P123: =O123*H123 -> 0 | Q123: 0 | R123: =Q123*H123 -> 0 | S123: 0 | T123: =S123*H123 -> 0 | AR123: 512 | AT123: K | AU123: 0 | AY123: ROZPOCET | BE123: =IF(N123="základná",J123,0) -> 0 | BF123: =IF(N123="znížená",J123,0) -> 0 | BG123: =IF(N123="zákl. prenesená",J123,0) -> 0 | BH123: =IF(N123="zníž. prenesená",J123,0) -> 0 | BI123: =IF(N123="nulová",J123,0) -> 0 | BJ123: 2 | BK123: =ROUND(I123*H123,2) -> 0 | BL123: 512 | BM123: 1804017616
C124: 4 | D124: K | E124: BZI03.05.004 | F124: Ochranné a pomocné opatrenia, ZS, mobilizácia techniky | G124: kpt | H124: 1 | J124: =ROUND(I124*H124,2) -> 0 | N124: znížená | O124: 0 | P124: =O124*H124 -> 0 | Q124: 0 | R124: =Q124*H124 -> 0 | S124: 0 | T124: =S124*H124 -> 0 | AR124: 512 | AT124: K | AU124: 0 | AY124: ROZPOCET | BE124: =IF(N124="základná",J124,0) -> 0 | BF124: =IF(N124="znížená",J124,0) -> 0 | BG124: =IF(N124="zákl. prenesená",J124,0) -> 0 | BH124: =IF(N124="zníž. prenesená",J124,0) -> 0 | BI124: =IF(N124="nulová",J124,0) -> 0 | BJ124: 2 | BK124: =ROUND(I124*H124,2) -> 0 | BL124: 512 | BM124: -1423206714

Sheet SO 03.6 - Príprava staven...
L2: >> skryté stĺpce << | AT2: {aba2ad95-29b1-4de0-b2ab-6801c6286442}
AT3: 0
D4: KRYCÍ LIST ROZPOČTU | M4: v --- nižšie sa nachádzajú doplnkové a pomocné údaje k zostavám --- v | AT4: False
D6: Stavba:
E7: ='Rekapitulácia stavby'!K6 -> Modernizácia farmy Bzince pod Javorinou
D8: Objekt:
E9: SO 03 - Hnojná koncovka
D10: Časť:
E11: SO 03.6 - Príprava staveniska
D13: JKSO: | I13: KS:
D14: Miesto: | F14: Bzince pod Javorinou | I14: Dátum: | J14: ='Rekapitulácia stavby'!AN8 -> 0
D16: Objednávateľ: | I16: IČO:
E17: Poľnohospodárske družstvo Bzince pod Javorinou | I17: IČ DPH:
D19: Zhotoviteľ: | I19: IČO: | J19: ='Rekapitulácia stavby'!AN13
E20: ='Rekapitulácia stavby'!E14 | I20: IČ DPH: | J20: ='Rekapitulácia stavby'!AN14
D22: Projektant: | I22: IČO: | J22: =IF('Rekapitulácia stavby'!AN16="","",'Rekapitulácia stavby'!AN16)
E23: =IF('Rekapitulácia stavby'!E17="","",'Rekapitulácia stavby'!E17) | I23: IČ DPH: | J23: =IF('Rekapitulácia stavby'!AN17="","",'Rekapitulácia stavby'!AN17)
D25: Spracovateľ: | I25: IČO: | J25: =IF('Rekapitulácia stavby'!AN19="","",'Rekapitulácia stavby'!AN19)
E26: =IF('Rekapitulácia stavby'!E20="","",'Rekapitulácia stavby'!E20) | I26: IČ DPH: | J26: =IF('Rekapitulácia stavby'!AN20="","",'Rekapitulácia stavby'!AN20)
D28: Poznámka:
D32: Cena bez DPH | J32: =ROUND(J120, 2) -> 0
F34: Základ dane | I34: Sadzba dane | J34: Výška dane
D35: DPH | E35: základná | F35: =ROUND((SUM(BE120:BE121)), 2) -> 0 | I35: 0.2 | J35: =ROUND(((SUM(BE120:BE121))*I35), 2) -> 0
E36: znížená | F36: =ROUND((SUM(BF120:BF121)), 2) -> 0 | I36: 0.2 | J36: =ROUND(((SUM(BF120:BF121))*I36), 2) -> 0
E37: zákl. prenesená | F37: =ROUND((SUM(BG120:BG121)), 2) -> 0 | I37: 0.2 | J37: =0 -> 0
E38: zníž. prenesená | F38: =ROUND((SUM(BH120:BH121)), 2) -> 0 | I38: 0.2 | J38: =0 -> 0
E39: nulová | F39: =ROUND((SUM(BI120:BI121)), 2) -> 0 | I39: 0 | J39: =0 -> 0
D41: Cena s DPH | G41: v | H41: EUR | J41: =SUM(J32:J39) -> 0
D50: Projektant | G50: Spracovateľ
D61: Dátum a podpis: | F61: Pečiatka | G61: Dátum a podpis: | J61: Pečiatka
D65: Objednávateľ | G65: Zhotoviteľ
D76: Dátum a podpis: | F76: Pečiatka | G76: Dátum a podpis: | J76: Pečiatka
C82: REKAPITULÁCIA ROZPOČTU
C84: Stavba:
E85: =E7 -> Modernizácia farmy Bzince pod Javorinou
C86: Objekt:
E87: SO 03 - Hnojná koncovka
C88: Časť:
E89: =E11 -> SO 03.6 - Príprava staveniska
C91: Miesto: | F91: =F14 -> Bzince pod Javorinou | I91: Dátum: | J91: =IF(J14="","",J14) -> 0
C93: Objednávateľ: | F93: =E17 -> Poľnohospodárske družstvo Bzince pod Javorinou | I93: Projektant: | J93: =E23
C94: Zhotoviteľ: | F94: =IF(E20="","",E20) | I94: Spracovateľ: | J94: =E26
C96: Kód dielu - Popis | J96: Cena celkom [EUR]
C98: Náklady z rozpočtu | J98: =J120 -> 0 | AU98: -1
C105: ROZPOČET
C107: Stavba:
E108: =E7 -> Modernizácia farmy Bzince pod Javorinou
C109: Objekt:
E110: SO 03 - Hnojná koncovka
C111: Časť:
E112: =E11 -> SO 03.6 - Príprava staveniska
C114: Miesto: | F114: =F14 -> Bzince pod Javorinou | I114: Dátum: | J114: =IF(J14="","",J14) -> 0
C116: Objednávateľ: | F116: =E17 -> Poľnohospodárske družstvo Bzince pod Javorinou | I116: Projektant: | J116: =E23
C117: Zhotoviteľ: | F117: =IF(E20="","",E20) | I117: Spracovateľ: | J117: =E26
C119: PČ | D119: Typ | E119: Kód | F119: Popis | G119: MJ | H119: Množstvo | I119: J.cena [EUR] | J119: Cena celkom [EUR] | K119: Cenová sústava | N119: DPH | O119: J. Nh [h] | P119: Nh celkom [h] | Q119: J. hmotnosť [t] | R119: Hmotnosť celkom [t] | S119: J. suť [t] | T119: Suť Celkom [t]
C120: Náklady z rozpočtu | J120: =BK120 -> 0 | P120: =P121 -> 0 | R120: =R121 -> 0 | T120: =T121 -> 0 | AT120: D | AU120: -1 | BK120: =BK121 -> 0
C121: 1 | D121: K | E121: BZI03.06.001 | F121: Príprava staveniska | G121: kpt | H121: 1 | J121: =ROUND(I121*H121,2) -> 0 | N121: znížená | O121: 0 | P121: =O121*H121 -> 0 | Q121: 0 | R121: =Q121*H121 -> 0 | S121: 0 | T121: =S121*H121 -> 0 | AR121: 512 | AT121: K | AU121: 0 | AY121: ROZPOCET | BE121: =IF(N121="základná",J121,0) -> 0 | BF121: =IF(N121="znížená",J121,0) -> 0 | BG121: =IF(N121="zákl. prenesená",J121,0) -> 0 | BH121: =IF(N121="zníž. prenesená",J121,0) -> 0 | BI121: =IF(N121="nulová",J121,0) -> 0 | BJ121: 2 | BK121: =ROUND(I121*H121,2) -> 0 | BL121: 512 | BM121: -914652840

Sheet SO 03.7 - Spevnené plochy...
L2: >> skryté stĺpce << | AT2: {4c6a3c14-f527-4e8b-a16b-bd45e4bf2a0e}
AT3: 0
D4: KRYCÍ LIST ROZPOČTU | M4: v --- nižšie sa nachádzajú doplnkové a pomocné údaje k zostavám --- v | AT4: False
D6: Stavba:
E7: ='Rekapitulácia stavby'!K6 -> Modernizácia farmy Bzince pod Javorinou
D8: Objekt:
E9: SO 03 - Hnojná koncovka
D10: Časť:
E11: SO 03.7 - Spevnené plochy - nové 10% z N na stavbu
D13: JKSO: | I13: KS:
D14: Miesto: | F14: Bzince pod Javorinou | I14: Dátum: | J14: ='Rekapitulácia stavby'!AN8 -> 0
D16: Objednávateľ: | I16: IČO:
E17: Poľnohospodárske družstvo Bzince pod Javorinou | I17: IČ DPH:
D19: Zhotoviteľ: | I19: IČO: | J19: ='Rekapitulácia stavby'!AN13
E20: ='Rekapitulácia stavby'!E14 | I20: IČ DPH: | J20: ='Rekapitulácia stavby'!AN14
D22: Projektant: | I22: IČO: | J22: =IF('Rekapitulácia stavby'!AN16="","",'Rekapitulácia stavby'!AN16)
E23: =IF('Rekapitulácia stavby'!E17="","",'Rekapitulácia stavby'!E17) | I23: IČ DPH: | J23: =IF('Rekapitulácia stavby'!AN17="","",'Rekapitulácia stavby'!AN17)
D25: Spracovateľ: | I25: IČO: | J25: =IF('Rekapitulácia stavby'!AN19="","",'Rekapitulácia stavby'!AN19)
E26: =IF('Rekapitulácia stavby'!E20="","",'Rekapitulácia stavby'!E20) | I26: IČ DPH: | J26: =IF('Rekapitulácia stavby'!AN20="","",'Rekapitulácia stavby'!AN20)
D28: Poznámka:
D32: Cena bez DPH | J32: =ROUND(J124, 2) -> 0
F34: Základ dane | I34: Sadzba dane | J34: Výška dane
D35: DPH | E35: základná | F35: =ROUND((SUM(BE124:BE135)), 2) -> 0 | I35: 0.2 | J35: =ROUND(((SUM(BE124:BE135))*I35), 2) -> 0
E36: znížená | F36: =ROUND((SUM(BF124:BF135)), 2) -> 0 | I36: 0.2 | J36: =ROUND(((SUM(BF124:BF135))*I36), 2) -> 0
E37: zákl. prenesená | F37: =ROUND((SUM(BG124:BG135)), 2) -> 0 | I37: 0.2 | J37: =0 -> 0
E38: zníž. prenesená | F38: =ROUND((SUM(BH124:BH135)), 2) -> 0 | I38: 0.2 | J38: =0 -> 0
E39: nulová | F39: =ROUND((SUM(BI124:BI135)), 2) -> 0 | I39: 0 | J39: =0 -> 0
D41: Cena s DPH | G41: v | H41: EUR | J41: =SUM(J32:J39) -> 0
D50: Projektant | G50: Spracovateľ
D61: Dátum a podpis: | F61: Pečiatka | G61: Dátum a podpis: | J61: Pečiatka
D65: Objednávateľ | G65: Zhotoviteľ
D76: Dátum a podpis: | F76: Pečiatka | G76: Dátum a podpis: | J76: Pečiatka
C82: REKAPITULÁCIA ROZPOČTU
C84: Stavba:
E85: =E7 -> Modernizácia farmy Bzince pod Javorinou
C86: Objekt:
E87: SO 03 - Hnojná koncovka
C88: Časť:
E89: =E11 -> SO 03.7 - Spevnené plochy - nové 10% z N na stavbu
C91: Miesto: | F91: =F14 -> Bzince pod Javorinou | I91: Dátum: | J91: =IF(J14="","",J14) -> 0
C93: Objednávateľ: | F93: =E17 -> Poľnohospodárske družstvo Bzince pod Javorinou | I93: Projektant: | J93: =E23
C94: Zhotoviteľ: | F94: =IF(E20="","",E20) | I94: Spracovateľ: | J94: =E26
C96: Kód dielu - Popis | J96: Cena celkom [EUR]
C98: Náklady z rozpočtu | J98: =J124 -> 0 | AU98: -1
D99: HSV - Práce a dodávky HSV | J99: =J125 -> 0
D100: 5 - Komunikácie | J100: =J126 -> 0
D101: 9 - Ostatné konštrukcie a práce-búranie | J101: =J130 -> 0
D102: 99 - Presun hmôt HSV | J102: =J134 -> 0
C109: ROZPOČET
C111: Stavba:
E112: =E7 -> Modernizácia farmy Bzince pod Javorinou
C113: Objekt:
E114: SO 03 - Hnojná koncovka
C115: Časť:
E116: =E11 -> SO 03.7 - Spevnené plochy - nové 10% z N na stavbu
C118: Miesto: | F118: =F14 -> Bzince pod Javorinou | I118: Dátum: | J118: =IF(J14="","",J14) -> 0
C120: Objednávateľ: | F120: =E17 -> Poľnohospodárske družstvo Bzince pod Javorinou | I120: Projektant: | J120: =E23
C121: Zhotoviteľ: | F121: =IF(E20="","",E20) | I121: Spracovateľ: | J121: =E26
C123: PČ | D123: Typ | E123: Kód | F123: Popis | G123: MJ | H123: Množstvo | I123: J.cena [EUR] | J123: Cena celkom [EUR] | K123: Cenová sústava | N123: DPH | O123: J. Nh [h] | P123: Nh celkom [h] | Q123: J. hmotnosť [t] | R123: Hmotnosť celkom [t] | S123: J. suť [t] | T123: Suť Celkom [t]
C124: Náklady z rozpočtu | J124: =BK124 -> 0 | P124: =P125 -> 1006.4198 | R124: =R125 -> 1717.4871 | T124: =T125 -> 0 | AT124: D | AU124: -1 | BK124: =BK125 -> 0
D125: D | E125: HSV | F125: Práce a dodávky HSV | J125: =BK125 -> 0 | P125: =P126+P130+P134 -> 1006.4198 | R125: =R126+R130+R134 -> 1717.4871 | T125: =T126+T130+T134 -> 0 | AR125: 1 | AT125: D | AU125: 0 | AY125: ROZPOCET | BK125: =BK126+BK130+BK134 -> 0
D126: D | E126: 5 | F126: Komunikácie | J126: =BK126 -> 0 | P126: =SUM(P127:P129) -> 945.7932 | R126: =SUM(R127:R129) -> 1717.3695 | T126: =SUM(T127:T129) -> 0 | AR126: 1 | AT126: D | AU126: 1 | AY126: ROZPOCET | BK126: =SUM(BK127:BK129) -> 0
C127: 1 | D127: K | E127: 561121115.S | F127: Vyrovnanie, zhutnenie terénu | G127: m2 | H127: 2055 | J127: =ROUND(I127*H127,2) -> 0 | N127: znížená | O127: 0.02324 | P127: =O127*H127 -> 47.7582 | Q127: 0 | R127: =Q127*H127 -> 0 | S127: 0 | T127: =S127*H127 -> 0 | AR127: 4 | AT127: K | AU127: 2 | AY127: ROZPOCET | BE127: =IF(N127="základná",J127,0) -> 0 | BF127: =IF(N127="znížená",J127,0) -> 0 | BG127: =IF(N127="zákl. prenesená",J127,0) -> 0 | BH127: =IF(N127="zníž. prenesená",J127,0) -> 0 | BI127: =IF(N127="nulová",J127,0) -> 0 | BJ127: 2 | BK127: =ROUND(I127*H127,2) -> 0 | BL127: 4 | BM127: 2026374880
C128: 2 | D128: K | E128: 564661111.S | F128: Podklad z kameniva hrubého drveného veľ. 63-125 mm s rozprestretím a zhutnením, po zhutnení hr. 200 mm | G128: m2 | H128: 2055 | J128: =ROUND(I128*H128,2) -> 0 | N128: znížená | O128: 0.035 | P128: =O128*H128 -> 71.925 | Q128: 0.38626 | R128: =Q128*H128 -> 793.7643 | S128: 0 | T128: =S128*H128 -> 0 | AR128: 4 | AT128: K | AU128: 2 | AY128: ROZPOCET | BE128: =IF(N128="základná",J128,0) -> 0 | BF128: =IF(N128="znížená",J128,0) -> 0 | BG128: =IF(N128="zákl. prenesená",J128,0) -> 0 | BH128: =IF(N128="zníž. prenesená",J128,0) -> 0 | BI128: =IF(N128="nulová",J128,0) -> 0 | BJ128: 2 | BK128: =ROUND(I128*H128,2) -> 0 | BL128: 4 | BM128: 2039630257
C129: 3 | D129: K | E129: 581130113.S | F129: Kryt cementobetónový cestných komunikácií skupiny CB I pre TDZ I a II, hr. 180 mm | G129: m2 | H129: 2055 | J129: =ROUND(I129*H129,2) -> 0 | N129: znížená | O129: 0.402 | P129: =O129*H129 -> 826.11 | Q129: 0.44944292 | R129: =Q129*H129 -> 923.60521 | S129: 0 | T129: =S129*H129 -> 0 | AR129: 4 | AT129: K | AU129: 2 | AY129: ROZPOCET | BE129: =IF(N129="základná",J129,0) -> 0 | BF129: =IF(N129="znížená",J129,0) -> 0 | BG129: =IF(N129="zákl. prenesená",J129,0) -> 0 | BH129: =IF(N129="zníž. prenesená",J129,0) -> 0 | BI129: =IF(N129="nulová",J129,0) -> 0 | BJ129: 2 | BK129: =ROUND(I129*H129,2) -> 0 | BL129: 4 | BM129: -221477641
D130: D | E130: 9 | F130: Ostatné konštrukcie a práce-búranie | J130: =BK130 -> 0 | P130: =SUM(P131:P133) -> 9.102 | R130: =SUM(R131:R133) -> 0.11762408 | T130: =SUM(T131:T133) -> 0 | AR130: 1 | AT130: D | AU130: 1 | AY130: ROZPOCET | BK130: =SUM(BK131:BK133) -> 0
C131: 4 | D131: K | E131: 919722111.S | F131: Dilatačné škáry rezané v cementobet. kryte šírky 2 až 5 mm | G131: m | H131: 82 | J131: =ROUND(I131*H131,2) -> 0 | N131: znížená | O131: 0.07 | P131: =O131*H131 -> 5.74 | Q131: 0.0013 | R131: =Q131*H131 -> 0.1066 | S131: 0 | T131: =S131*H131 -> 0 | AR131: 4 | AT131: K | AU131: 2 | AY131: ROZPOCET | BE131: =IF(N131="základná",J131,0) -> 0 | BF131: =IF(N131="znížená",J131,0) -> 0 | BG131: =IF(N131="zákl. prenesená",J131,0) -> 0 | BH131: =IF(N131="zníž. prenesená",J131,0) -> 0 | BI131: =IF(N131="nulová",J131,0) -> 0 | BJ131: 2 | BK131: =ROUND(I131*H131,2) -> 0 | BL131: 4 | BM131: -745768191
C132: 5 | D132: K | E132: 919722211.S | F132: Dilatačné škáry rezané v cementobet. kryte - zaliatie škár za studena, šírky nad 3 do 9 mm | G132: m | H132: 82 | J132: =ROUND(I132*H132,2) -> 0 | N132: znížená | O132: 0.041 | P132: =O132*H132 -> 3.362 | Q132: 2.02e-05 | R132: =Q132*H132 -> 0.0016564 | S132: 0 | T132: =S132*H132 -> 0 | AR132: 4 | AT132: K | AU132: 2 | AY132: ROZPOCET | BE132: =IF(N132="základná",J132,0) -> 0 | BF132: =IF(N132="znížená",J132,0) -> 0 | BG132: =IF(N132="zákl. prenesená",J132,0) -> 0 | BH132: =IF(N132="zníž. prenesená",J132,0) -> 0 | BI132: =IF(N132="nulová",J132,0) -> 0 | BJ132: 2 | BK132: =ROUND(I132*H132,2) -> 0 | BL132: 4 | BM132: 1742065291
C133: 6 | D133: M | E133: 246990002800.S | F133: Tmel zálievkový pre tmelenie škár komunikácií, aplikovanie za studena | G133: l | H133: 6.888 | J133: =ROUND(I133*H133,2) -> 0 | N133: znížená | O133: 0 | P133: =O133*H133 -> 0 | Q133: 0.00136 | R133: =Q133*H133 -> 0.00936768 | S133: 0 | T133: =S133*H133 -> 0 | AR133: 8 | AT133: M | AU133: 2 | AY133: ROZPOCET | BE133: =IF(N133="základná",J133,0) -> 0 | BF133: =IF(N133="znížená",J133,0) -> 0 | BG133: =IF(N133="zákl. prenesená",J133,0) -> 0 | BH133: =IF(N133="zníž. prenesená",J133,0) -> 0 | BI133: =IF(N133="nulová",J133,0) -> 0 | BJ133: 2 | BK133: =ROUND(I133*H133,2) -> 0 | BL133: 4 | BM133: -300539429
D134: D | E134: 99 | F134: Presun hmôt HSV | J134: =BK134 -> 0 | P134: =P135 -> 51.52461 | R134: =R135 -> 0 | T134: =T135 -> 0 | AR134: 1 | AT134: D | AU134: 1 | AY134: ROZPOCET | BK134: =BK135 -> 0
C135: 7 | D135: K | E135: 998224111.S | F135: Presun hmôt pre pozemné komunikácie s krytom monolitickým betónovým akejkoľvek dĺžky objektu | G135: t | H135: 1717.487 | J135: =ROUND(I135*H135,2) -> 0 | N135: znížená | O135: 0.03 | P135: =O135*H135 -> 51.52461 | Q135: 0 | R135: =Q135*H135 -> 0 | S135: 0 | T135: =S135*H135 -> 0 | AR135: 4 | AT135: K | AU135: 2 | AY135: ROZPOCET | BE135: =IF(N135="základná",J135,0) -> 0 | BF135: =IF(N135="znížená",J135,0) -> 0 | BG135: =IF(N135="zákl. prenesená",J135,0) -> 0 | BH135: =IF(N135="zníž. prenesená",J135,0) -> 0 | BI135: =IF(N135="nulová",J135,0) -> 0 | BJ135: 2 | BK135: =ROUND(I135*H135,2) -> 0 | BL135: 4 | BM135: -1479687698

Sheet SO 04 - Rotačné kefy pre ...
L2: >> skryté stĺpce << | AT2: {b5c4b642-fd4e-407b-bb54-78e2bbf91059}
AT3: 0
D4: KRYCÍ LIST ROZPOČTU | M4: v --- nižšie sa nachádzajú doplnkové a pomocné údaje k zostavám --- v | AT4: False
D6: Stavba:
E7: ='Rekapitulácia stavby'!K6 -> Modernizácia farmy Bzince pod Javorinou
D8: Objekt:
E9: SO 04 - Rotačné kefy pre dobytok
D11: JKSO: | I11: KS:
D12: Miesto: | F12: Bzince pod Javorinou | I12: Dátum: | J12: ='Rekapitulácia stavby'!AN8 -> 0
D14: Objednávateľ: | I14: IČO:
E15: Poľnohospodárske družstvo Bzince pod Javorinou | I15: IČ DPH:
D17: Zhotoviteľ: | I17: IČO: | J17: ='Rekapitulácia stavby'!AN13
E18: ='Rekapitulácia stavby'!E14 | I18: IČ DPH: | J18: ='Rekapitulácia stavby'!AN14
D20: Projektant: | I20: IČO: | J20: =IF('Rekapitulácia stavby'!AN16="","",'Rekapitulácia stavby'!AN16)
E21: =IF('Rekapitulácia stavby'!E17="","",'Rekapitulácia stavby'!E17) | I21: IČ DPH: | J21: =IF('Rekapitulácia stavby'!AN17="","",'Rekapitulácia stavby'!AN17)
D23: Spracovateľ: | I23: IČO: | J23: =IF('Rekapitulácia stavby'!AN19="","",'Rekapitulácia stavby'!AN19)
E24: =IF('Rekapitulácia stavby'!E20="","",'Rekapitulácia stavby'!E20) | I24: IČ DPH: | J24: =IF('Rekapitulácia stavby'!AN20="","",'Rekapitulácia stavby'!AN20)
D26: Poznámka:
D30: Cena bez DPH | J30: =ROUND(J117, 2) -> 0
F32: Základ dane | I32: Sadzba dane | J32: Výška dane
D33: DPH | E33: základná | F33: =ROUND((SUM(BE117:BE119)), 2) -> 0 | I33: 0.2 | J33: =ROUND(((SUM(BE117:BE119))*I33), 2) -> 0
E34: znížená | F34: =ROUND((SUM(BF117:BF119)), 2) -> 0 | I34: 0.2 | J34: =ROUND(((SUM(BF117:BF119))*I34), 2) -> 0
E35: zákl. prenesená | F35: =ROUND((SUM(BG117:BG119)), 2) -> 0 | I35: 0.2 | J35: =0 -> 0
E36: zníž. prenesená | F36: =ROUND((SUM(BH117:BH119)), 2) -> 0 | I36: 0.2 | J36: =0 -> 0
E37: nulová | F37: =ROUND((SUM(BI117:BI119)), 2) -> 0 | I37: 0 | J37: =0 -> 0
D39: Cena s DPH | G39: v | H39: EUR | J39: =SUM(J30:J37) -> 0
D50: Projektant | G50: Spracovateľ
D61: Dátum a podpis: | F61: Pečiatka | G61: Dátum a podpis: | J61: Pečiatka
D65: Objednávateľ | G65: Zhotoviteľ
D76: Dátum a podpis: | F76: Pečiatka | G76: Dátum a podpis: | J76: Pečiatka
C82: REKAPITULÁCIA ROZPOČTU
C84: Stavba:
E85: =E7 -> Modernizácia farmy Bzince pod Javorinou
C86: Objekt:
E87: =E9 -> SO 04 - Rotačné kefy pre dobytok
C89: Miesto: | F89: =F12 -> Bzince pod Javorinou | I89: Dátum: | J89: =IF(J12="","",J12) -> 0
C91: Objednávateľ: | F91: =E15 -> Poľnohospodárske družstvo Bzince pod Javorinou | I91: Projektant: | J91: =E21
C92: Zhotoviteľ: | F92: =IF(E18="","",E18) | I92: Spracovateľ: | J92: =E24
C94: Kód dielu - Popis | J94: Cena celkom [EUR]
C96: Náklady z rozpočtu | J96: =J117 -> 0 | AU96: -1
D97: HSV - Práce a dodávky HSV | J97: =J118 -> 0
C104: ROZPOČET
C106: Stavba:
E107: =E7 -> Modernizácia farmy Bzince pod Javorinou
C108: Objekt:
E109: =E9 -> SO 04 - Rotačné kefy pre dobytok
C111: Miesto: | F111: =F12 -> Bzince pod Javorinou | I111: Dátum: | J111: =IF(J12="","",J12) -> 0
C113: Objednávateľ: | F113: =E15 -> Poľnohospodárske družstvo Bzince pod Javorinou | I113: Projektant: | J113: =E21
C114: Zhotoviteľ: | F114: =IF(E18="","",E18) | I114: Spracovateľ: | J114: =E24
C116: PČ | D116: Typ | E116: Kód | F116: Popis | G116: MJ | H116: Množstvo | I116: J.cena [EUR] | J116: Cena celkom [EUR] | K116: Cenová sústava | N116: DPH | O116: J. Nh [h] | P116: Nh celkom [h] | Q116: J. hmotnosť [t] | R116: Hmotnosť celkom [t] | S116: J. suť [t] | T116: Suť Celkom [t]
C117: Náklady z rozpočtu | J117: =BK117 -> 0 | P117: =P118 -> 0 | R117: =R118 -> 0 | T117: =T118 -> 0 | AT117: D | AU117: -1 | BK117: =BK118 -> 0
D118: D | E118: HSV | F118: Práce a dodávky HSV | J118: =BK118 -> 0 | P118: =P119 -> 0 | R118: =R119 -> 0 | T118: =T119 -> 0 | AR118: 1 | AT118: D | AU118: 0 | AY118: ROZPOCET | BK118: =BK119 -> 0
C119: 1 | D119: K | E119: 202105250401 | F119: Rotačné kefy pre dobytok | G119: kpt | H119: 8 | J119: =ROUND(I119*H119,2) -> 0 | N119: znížená | O119: 0 | P119: =O119*H119 -> 0 | Q119: 0 | R119: =Q119*H119 -> 0 | S119: 0 | T119: =S119*H119 -> 0 | AR119: 4 | AT119: K | AU119: 1 | AY119: ROZPOCET | BE119: =IF(N119="základná",J119,0) -> 0 | BF119: =IF(N119="znížená",J119,0) -> 0 | BG119: =IF(N119="zákl. prenesená",J119,0) -> 0 | BH119: =IF(N119="zníž. prenesená",J119,0) -> 0 | BI119: =IF(N119="nulová",J119,0) -> 0 | BJ119: 2 | BK119: =ROUND(I119*H119,2) -> 0 | BL119: 4 | BM119: 2025933358

Sheet SO 05 - Šnekový prihrňova...
L2: >> skryté stĺpce << | AT2: {0ceb864d-b795-4524-ba8a-72a26c7ac218}
AT3: 0
D4: KRYCÍ LIST ROZPOČTU | M4: v --- nižšie sa nachádzajú doplnkové a pomocné údaje k zostavám --- v | AT4: False
D6: Stavba:
E7: ='Rekapitulácia stavby'!K6 -> Modernizácia farmy Bzince pod Javorinou
D8: Objekt:
E9: SO 05 - Šnekový prihrňovač krmiva
D11: JKSO: | I11: KS:
D12: Miesto: | F12: Bzince pod Javorinou | I12: Dátum: | J12: ='Rekapitulácia stavby'!AN8 -> 0
D14: Objednávateľ: | I14: IČO:
E15: Poľnohospodárske družstvo Bzince pod Javorinou | I15: IČ DPH:
D17: Zhotoviteľ: | I17: IČO: | J17: ='Rekapitulácia stavby'!AN13
E18: ='Rekapitulácia stavby'!E14 | I18: IČ DPH: | J18: ='Rekapitulácia stavby'!AN14
D20: Projektant: | I20: IČO: | J20: =IF('Rekapitulácia stavby'!AN16="","",'Rekapitulácia stavby'!AN16)
E21: =IF('Rekapitulácia stavby'!E17="","",'Rekapitulácia stavby'!E17) | I21: IČ DPH: | J21: =IF('Rekapitulácia stavby'!AN17="","",'Rekapitulácia stavby'!AN17)
D23: Spracovateľ: | I23: IČO: | J23: =IF('Rekapitulácia stavby'!AN19="","",'Rekapitulácia stavby'!AN19)
E24: =IF('Rekapitulácia stavby'!E20="","",'Rekapitulácia stavby'!E20) | I24: IČ DPH: | J24: =IF('Rekapitulácia stavby'!AN20="","",'Rekapitulácia stavby'!AN20)
D26: Poznámka:
D30: Cena bez DPH | J30: =ROUND(J117, 2) -> 0
F32: Základ dane | I32: Sadzba dane | J32: Výška dane
D33: DPH | E33: základná | F33: =ROUND((SUM(BE117:BE119)), 2) -> 0 | I33: 0.2 | J33: =ROUND(((SUM(BE117:BE119))*I33), 2) -> 0
E34: znížená | F34: =ROUND((SUM(BF117:BF119)), 2) -> 0 | I34: 0.2 | J34: =ROUND(((SUM(BF117:BF119))*I34), 2) -> 0
E35: zákl. prenesená | F35: =ROUND((SUM(BG117:BG119)), 2) -> 0 | I35: 0.2 | J35: =0 -> 0
E36: zníž. prenesená | F36: =ROUND((SUM(BH117:BH119)), 2) -> 0 | I36: 0.2 | J36: =0 -> 0
E37: nulová | F37: =ROUND((SUM(BI117:BI119)), 2) -> 0 | I37: 0 | J37: =0 -> 0
D39: Cena s DPH | G39: v | H39: EUR | J39: =SUM(J30:J37) -> 0
D50: Projektant | G50: Spracovateľ
D61: Dátum a podpis: | F61: Pečiatka | G61: Dátum a podpis: | J61: Pečiatka
D65: Objednávateľ | G65: Zhotoviteľ
D76: Dátum a podpis: | F76: Pečiatka | G76: Dátum a podpis: | J76: Pečiatka
C82: REKAPITULÁCIA ROZPOČTU
C84: Stavba:
E85: =E7 -> Modernizácia farmy Bzince pod Javorinou
C86: Objekt:
E87: =E9 -> SO 05 - Šnekový prihrňovač krmiva
C89: Miesto: | F89: =F12 -> Bzince pod Javorinou | I89: Dátum: | J89: =IF(J12="","",J12) -> 0
C91: Objednávateľ: | F91: =E15 -> Poľnohospodárske družstvo Bzince pod Javorinou | I91: Projektant: | J91: =E21
C92: Zhotoviteľ: | F92: =IF(E18="","",E18) | I92: Spracovateľ: | J92: =E24
C94: Kód dielu - Popis | J94: Cena celkom [EUR]
C96: Náklady z rozpočtu | J96: =J117 -> 0 | AU96: -1
D97: HSV - Práce a dodávky HSV | J97: =J118 -> 0
C104: ROZPOČET
C106: Stavba:
E107: =E7 -> Modernizácia farmy Bzince pod Javorinou
C108: Objekt:
E109: =E9 -> SO 05 - Šnekový prihrňovač krmiva
C111: Miesto: | F111: =F12 -> Bzince pod Javorinou | I111: Dátum: | J111: =IF(J12="","",J12) -> 0
C113: Objednávateľ: | F113: =E15 -> Poľnohospodárske družstvo Bzince pod Javorinou | I113: Projektant: | J113: =E21
C114: Zhotoviteľ: | F114: =IF(E18="","",E18) | I114: Spracovateľ: | J114: =E24
C116: PČ | D116: Typ | E116: Kód | F116: Popis | G116: MJ | H116: Množstvo | I116: J.cena [EUR] | J116: Cena celkom [EUR] | K116: Cenová sústava | N116: DPH | O116: J. Nh [h] | P116: Nh celkom [h] | Q116: J. hmotnosť [t] | R116: Hmotnosť celkom [t] | S116: J. suť [t] | T116: Suť Celkom [t]
C117: Náklady z rozpočtu | J117: =BK117 -> 0 | P117: =P118 -> 0 | R117: =R118 -> 0 | T117: =T118 -> 0 | AT117: D | AU117: -1 | BK117: =BK118 -> 0
D118: D | E118: HSV | F118: Práce a dodávky HSV | J118: =BK118 -> 0 | P118: =P119 -> 0 | R118: =R119 -> 0 | T118: =T119 -> 0 | AR118: 1 | AT118: D | AU118: 0 | AY118: ROZPOCET | BK118: =BK119 -> 0
C119: 1 | D119: K | E119: 202105250501 | F119: Šnekový prihrňovač krmiva | G119: kpt | H119: 2 | J119: =ROUND(I119*H119,2) -> 0 | N119: znížená | O119: 0 | P119: =O119*H119 -> 0 | Q119: 0 | R119: =Q119*H119 -> 0 | S119: 0 | T119: =S119*H119 -> 0 | AR119: 4 | AT119: K | AU119: 1 | AY119: ROZPOCET | BE119: =IF(N119="základná",J119,0) -> 0 | BF119: =IF(N119="znížená",J119,0) -> 0 | BG119: =IF(N119="zákl. prenesená",J119,0) -> 0 | BH119: =IF(N119="zníž. prenesená",J119,0) -> 0 | BI119: =IF(N119="nulová",J119,0) -> 0 | BJ119: 2 | BK119: =ROUND(I119*H119,2) -> 0 | BL119: 4 | BM119: -467801303
