Workbook

Sheet Rekapitulácia stavby
A1: Export Komplet | BA1: 2.0 | BT1: False | BU1: False | BV1: {33d28244-f16d-41df-8f8d-f3ca91a79515}
AR2: >> skryté stĺpce << | BS2: 0,01 | BT2: 20
BS3: 0,01 | BT3: 20
D4: REKAPITULÁCIA STAVBY | AS4: v --- nižšie sa nachádzajú doplnkové a pomocné údaje k zostavám --- v | BE4: Návod na vyplnenie | BS4: 0,001
D5: Kód: | BE5: Meniť je možné iba bunky so žltým podfarbením!_x000D_ _x000D_ 1) na prvom liste Rekapitulácie stavby vyplňte v zostave_x000D_ _x000D_ a) Rekapitulácia stavby_x000D_ - údaje o Zhotoviteľovi_x000D_ (prenesú sa do ostatných zostáv aj v iných listoch)_x000D_ _x000D_ b) Rekapitulácia objektov stavby_x000D_ - potrebné Ostatné náklady_x000D_ _x000D_ 2) na vybraných listoch vyplňte v zostave_x000D_ _x000D_ a) Krycí list_x000D_ - údaje o Zhotoviteľovi, pokiaľ sa líšia od údajov o Zhotoviteľovi na Rekapitulácii stavby_x000D_ (údaje se prenesú do ostatných zostav v danom liste)_x000D_ _x000D_ b) Rekapitulácia rozpočtu_x000D_ - potrebné Ostatné náklady_x000D_ _x000D_ c) Celkové náklady za stavbu_x000D_ - ceny na položkách_x000D_ - množstvo, pokiaľ má žlté podfarbenie_x000D_ - a v prípade potreby poznámku (tá je v skrytom stĺpci) | BS5: 0,01
D6: Stavba: | K6: Zateplenie plniarne nealkoholických nápojov, Dunajská streda - časť búracie práce - aktualizácia jún 2023 | BS6: 0,01
D7: JKSO: | AK7: KS: | BS7: 0,01
D8: Miesto: | K8: Dunajská Streda | AK8: Dátum: | AN8: 8. 6. 2023 | BS8: 0,01
BS9: 0,01
D10: Objednávateľ: | AK10: IČO: | BS10: 0,01
E11: McCarter, a.s. | AK11: IČ DPH: | BS11: 0,01
BS12: 0,01
D13: Zhotoviteľ: | AK13: IČO: | AN13: Vyplň údaj | BS13: 0,01
E14: Vyplň údaj | AK14: IČ DPH: | AN14: Vyplň údaj | BS14: 0,01
BS15: False
D16: Projektant: | AK16: IČO: | BS16: False
E17: Ing.arch. Miroslav Marko M.Arch. | AK17: IČ DPH: | BS17: True
BS18: 0,01
D19: Spracovateľ: | AK19: IČO: | BS19: 0,01
E20: Rosoft,s.r.o. | AK20: IČ DPH: | BS20: True
D22: Poznámka:
D26: Náklady z rozpočtov | AK26: =ROUND(AG94,2) -> 0
D27: Ostatné náklady zo súhrnného listu | AK27: =ROUND(AG102, 2) -> 0
D29: Cena bez DPH | AK29: =ROUND(AK26 + AK27, 2) -> 0
L31: Sadzba dane | W31: Základ dane | AK31: Výška dane
D32: DPH | F32: základná | L32: 0.2 | W32: =ROUND(AZ94 + SUM(CD102:CD106), 2) -> 0 | AK32: =ROUND(AV94 + SUM(BY102:BY106), 2) -> 0
F33: znížená | L33: 0.2 | W33: =ROUND(BA94 + SUM(CE102:CE106), 2) -> 0 | AK33: =ROUND(AW94 + SUM(BZ102:BZ106), 2) -> 0
F34: zákl. prenesená | L34: 0.2 | W34: =ROUND(BB94 + SUM(CF102:CF106), 2) -> 0 | AK34: 0
F35: zníž. prenesená | L35: 0.2 | W35: =ROUND(BC94 + SUM(CG102:CG106), 2) -> 0 | AK35: 0
F36: nulová | L36: 0 | W36: =ROUND(BD94 + SUM(CH102:CH106), 2) -> 0 | AK36: 0
D38: Cena s DPH | T38: v | X38: EUR | AK38: =SUM(AK29:AK36) -> 0
D49: Projektant | AH49: Spracovateľ
D60: Dátum a podpis: | V60: Pečiatka | AH60: Dátum a podpis: | AM60: Pečiatka
D64: Objednávateľ | AH64: Zhotoviteľ
D75: Dátum a podpis: | V75: Pečiatka | AH75: Dátum a podpis: | AM75: Pečiatka
C82: REKAPITULÁCIA OBJEKTOV STAVBY
C84: Kód:
C85: Stavba: | L85: =K6 -> Zateplenie plniarne nealkoholických nápojov, Dunajská streda - časť búracie práce - aktualizácia jún 2023
C87: Miesto: | L87: =IF(K8="","",K8) -> Dunajská Streda | AI87: Dátum: | AM87: =IF(AN8= "","",AN8) -> 8. 6. 2023
C89: Objednávateľ: | L89: =IF(E11= "","",E11) -> McCarter, a.s. | AI89: Projektant: | AM89: =IF(E17="","",E17) -> Ing.arch. Miroslav Marko M.Arch. | AS89: Informatívne údaje z listov zákaziek
C90: Zhotoviteľ: | L90: =IF(E14= "Vyplň údaj","",E14) | AI90: Spracovateľ: | AM90: =IF(E20="","",E20) -> Rosoft,s.r.o.
C92: Kód | I92: Popis | AG92: Cena bez DPH [EUR] | AN92: Cena s DPH [EUR] | AQ92: Typ | AS92: z toho Ostat._x000D_ náklady [EUR] | AT92: DPH [EUR] | AU92: Normohodiny [h] | AV92: DPH základná [EUR] | AW92: DPH znížená [EUR] | AX92: DPH základná prenesená_x000D_ [EUR] | AY92: DPH znížená prenesená_x000D_ [EUR] | AZ92: Základňa_x000D_ DPH základná | BA92: Základňa_x000D_ DPH znížená | BB92: Základňa_x000D_ DPH zákl. prenesená | BC92: Základňa_x000D_ DPH zníž. prenesená | BD92: Základňa_x000D_ DPH nulová
C94: 1) Náklady z rozpočtov | AG94: =ROUND(SUM(AG95:AG100),2) -> 0 | AN94: =SUM(AG94,AT94) -> 0 | AS94: =ROUND(SUM(AS95:AS100),2) -> 0 | AT94: =ROUND(SUM(AV94:AW94),2) -> 0 | AU94: =ROUND(SUM(AU95:AU100),5) -> 0 | AV94: =ROUND(AZ94*L32,2) -> 0 | AW94: =ROUND(BA94*L33,2) -> 0 | AX94: =ROUND(BB94*L32,2) -> 0 | AY94: =ROUND(BC94*L33,2) -> 0 | AZ94: =ROUND(SUM(AZ95:AZ100),2) -> 0 | BA94: =ROUND(SUM(BA95:BA100),2) -> 0 | BB94: =ROUND(SUM(BB95:BB100),2) -> 0 | BC94: =ROUND(SUM(BC95:BC100),2) -> 0 | BD94: =ROUND(SUM(BD95:BD100),2) -> 0 | BS94: D | BT94: 0 | BU94: ###NOIMPORT### | BV94: IMPORT | BW94: {33d28244-f16d-41df-8f8d-f3ca91a79515} | BX94: {00000000-0000-0000-0000-000000000000}
A95: / | D95: 01 | J95: Zateplenie obvodového plášťa - búracie práce | AG95: ='01 - Zateplenie obvodovéh...'!J32 -> 0 | AN95: =SUM(AG95,AT95) -> 0 | AQ95: STA | AS95: 0 | AT95: =ROUND(SUM(AV95:AW95),2) -> 0 | AU95: ='01 - Zateplenie obvodovéh...'!P128 -> 0 | AV95: ='01 - Zateplenie obvodovéh...'!J35 -> 0 | AW95: ='01 - Zateplenie obvodovéh...'!J36 -> 0 | AX95: ='01 - Zateplenie obvodovéh...'!J37 -> 0 | AY95: ='01 - Zateplenie obvodovéh...'!J38 -> 0 | AZ95: ='01 - Zateplenie obvodovéh...'!F35 -> 0 | BA95: ='01 - Zateplenie obvodovéh...'!F36 -> 0 | BB95: ='01 - Zateplenie obvodovéh...'!F37 -> 0 | BC95: ='01 - Zateplenie obvodovéh...'!F38 -> 0 | BD95: ='01 - Zateplenie obvodovéh...'!F39 -> 0 | BT95: 1 | BV95: IMPORT | BW95: {808e71bd-c433-494d-9fa0-91bc584e7869} | BX95: {33d28244-f16d-41df-8f8d-f3ca91a79515} | CM95: 0
A96: / | D96: 02 | J96: Zateplenie strechy - búracie práce | AG96: ='02 - Zateplenie strechy -...'!J32 -> 0 | AN96: =SUM(AG96,AT96) -> 0 | AQ96: STA | AS96: 0 | AT96: =ROUND(SUM(AV96:AW96),2) -> 0 | AU96: ='02 - Zateplenie strechy -...'!P133 -> 0 | AV96: ='02 - Zateplenie strechy -...'!J35 -> 0 | AW96: ='02 - Zateplenie strechy -...'!J36 -> 0 | AX96: ='02 - Zateplenie strechy -...'!J37 -> 0 | AY96: ='02 - Zateplenie strechy -...'!J38 -> 0 | AZ96: ='02 - Zateplenie strechy -...'!F35 -> 0 | BA96: ='02 - Zateplenie strechy -...'!F36 -> 0 | BB96: ='02 - Zateplenie strechy -...'!F37 -> 0 | BC96: ='02 - Zateplenie strechy -...'!F38 -> 0 | BD96: ='02 - Zateplenie strechy -...'!F39 -> 0 | BT96: 1 | BV96: IMPORT | BW96: {dc6d3899-7452-4d7f-9bfe-050e6bffad96} | BX96: {33d28244-f16d-41df-8f8d-f3ca91a79515} | CM96: 0
A97: / | D97: 03 | J97: Výmena vonkajších výplní otvorov - búracie práce | AG97: ='03 - Výmena vonkajších vý...'!J32 -> 0 | AN97: =SUM(AG97,AT97) -> 0 | AQ97: STA | AS97: 0 | AT97: =ROUND(SUM(AV97:AW97),2) -> 0 | AU97: ='03 - Výmena vonkajších vý...'!P131 -> 0 | AV97: ='03 - Výmena vonkajších vý...'!J35 -> 0 | AW97: ='03 - Výmena vonkajších vý...'!J36 -> 0 | AX97: ='03 - Výmena vonkajších vý...'!J37 -> 0 | AY97: ='03 - Výmena vonkajších vý...'!J38 -> 0 | AZ97: ='03 - Výmena vonkajších vý...'!F35 -> 0 | BA97: ='03 - Výmena vonkajších vý...'!F36 -> 0 | BB97: ='03 - Výmena vonkajších vý...'!F37 -> 0 | BC97: ='03 - Výmena vonkajších vý...'!F38 -> 0 | BD97: ='03 - Výmena vonkajších vý...'!F39 -> 0 | BT97: 1 | BV97: IMPORT | BW97: {6155522e-8b37-4d97-be03-7836770dc292} | BX97: {33d28244-f16d-41df-8f8d-f3ca91a79515} | CM97: 0
A98: / | D98: 4.1 | J98: Odstránenie a likvidácia existujúceho bleskozvodu - búracie práce | AG98: ='4.1 - Odstránenie a likvi...'!J32 -> 0 | AN98: =SUM(AG98,AT98) -> 0 | AQ98: STA | AS98: 0 | AT98: =ROUND(SUM(AV98:AW98),2) -> 0 | AU98: ='4.1 - Odstránenie a likvi...'!P128 -> 0 | AV98: ='4.1 - Odstránenie a likvi...'!J35 -> 0 | AW98: ='4.1 - Odstránenie a likvi...'!J36 -> 0 | AX98: ='4.1 - Odstránenie a likvi...'!J37 -> 0 | AY98: ='4.1 - Odstránenie a likvi...'!J38 -> 0 | AZ98: ='4.1 - Odstránenie a likvi...'!F35 -> 0 | BA98: ='4.1 - Odstránenie a likvi...'!F36 -> 0 | BB98: ='4.1 - Odstránenie a likvi...'!F37 -> 0 | BC98: ='4.1 - Odstránenie a likvi...'!F38 -> 0 | BD98: ='4.1 - Odstránenie a likvi...'!F39 -> 0 | BT98: 1 | BV98: IMPORT | BW98: {1e64bd46-4f07-44fe-a95c-0d824f41a5da} | BX98: {33d28244-f16d-41df-8f8d-f3ca91a79515} | CM98: 0
A99: / | D99: 4.2 | J99: Nový bleskozvod vrátane zvodov a uzemnenia - búracie práce | AG99: ='4.2 - Nový bleskozvod vrá...'!J32 -> 0 | AN99: =SUM(AG99,AT99) -> 0 | AQ99: STA | AS99: 0 | AT99: =ROUND(SUM(AV99:AW99),2) -> 0 | AU99: ='4.2 - Nový bleskozvod vrá...'!P128 -> 0 | AV99: ='4.2 - Nový bleskozvod vrá...'!J35 -> 0 | AW99: ='4.2 - Nový bleskozvod vrá...'!J36 -> 0 | AX99: ='4.2 - Nový bleskozvod vrá...'!J37 -> 0 | AY99: ='4.2 - Nový bleskozvod vrá...'!J38 -> 0 | AZ99: ='4.2 - Nový bleskozvod vrá...'!F35 -> 0 | BA99: ='4.2 - Nový bleskozvod vrá...'!F36 -> 0 | BB99: ='4.2 - Nový bleskozvod vrá...'!F37 -> 0 | BC99: ='4.2 - Nový bleskozvod vrá...'!F38 -> 0 | BD99: ='4.2 - Nový bleskozvod vrá...'!F39 -> 0 | BT99: 1 | BV99: IMPORT | BW99: {a7c90c58-5641-4d76-bb71-44f91fe1f380} | BX99: {33d28244-f16d-41df-8f8d-f3ca91a79515} | CM99: 0
A100: / | D100: 5.1 | J100: 5.1, 5.2, 5.3 - Ostatné stavebné úpravy - búracie práce | AG100: ='5.1 - 5.1, 5.2, 5.3 - Ost...'!J32 -> 0 | AN100: =SUM(AG100,AT100) -> 0 | AQ100: STA | AS100: 0 | AT100: =ROUND(SUM(AV100:AW100),2) -> 0 | AU100: ='5.1 - 5.1, 5.2, 5.3 - Ost...'!P131 -> 0 | AV100: ='5.1 - 5.1, 5.2, 5.3 - Ost...'!J35 -> 0 | AW100: ='5.1 - 5.1, 5.2, 5.3 - Ost...'!J36 -> 0 | AX100: ='5.1 - 5.1, 5.2, 5.3 - Ost...'!J37 -> 0 | AY100: ='5.1 - 5.1, 5.2, 5.3 - Ost...'!J38 -> 0 | AZ100: ='5.1 - 5.1, 5.2, 5.3 - Ost...'!F35 -> 0 | BA100: ='5.1 - 5.1, 5.2, 5.3 - Ost...'!F36 -> 0 | BB100: ='5.1 - 5.1, 5.2, 5.3 - Ost...'!F37 -> 0 | BC100: ='5.1 - 5.1, 5.2, 5.3 - Ost...'!F38 -> 0 | BD100: ='5.1 - 5.1, 5.2, 5.3 - Ost...'!F39 -> 0 | BT100: 1 | BV100: IMPORT | BW100: {ffd90ea1-7924-4247-ad8b-351aeca1eb53} | BX100: {33d28244-f16d-41df-8f8d-f3ca91a79515} | CM100: 0
C102: 2) Ostatné náklady zo súhrnného listu | AG102: =ROUND(SUM(AG103:AG106), 2) -> 0 | AN102: =ROUND(SUM(AN103:AN106), 2) -> 0 | AS102: Percent. zadanie_x000D_ [% nákladov rozpočtu] | AT102: Zaradenie nákladov | AU102: DPH | AV102: DPH [EUR]
D103: Ostatné náklady | AG103: =ROUND(AG94 * AS103, 2) -> 0 | AN103: =ROUND(AG103 + AV103, 2) -> 0 | AS103: 0 | AT103: stavebná časť | AU103: základná | AV103: =ROUND(IF(AU103="základná",AG103*L32,IF(AU103="znížená",AG103*L33,0)), 2) -> 0 | BV103: OSTATNENAKLADY | BY103: =IF(AU103="základná",AV103,0) -> 0 | BZ103: =IF(AU103="znížená",AV103,0) -> 0 | CA103: 0 | CB103: 0 | CC103: 0 | CD103: =IF(AU103="základná",AG103,0) -> 0 | CE103: =IF(AU103="znížená",AG103,0) -> 0 | CF103: =IF(AU103="zákl. prenesená",AG103,0) -> 0 | CG103: =IF(AU103="zníž. prenesená",AG103,0) -> 0 | CH103: =IF(AU103="nulová",AG103,0) -> 0 | CI103: =IF(AU103="základná",1,IF(AU103="znížená",2,IF(AU103="zákl. prenesená",4,IF(AU103="zníž. prenesená",5,3)))) -> 1 | CJ103: =IF(AT103="stavebná časť",1,IF(AT103="investičná časť",2,3)) -> 1 | CK103: =IF(D103="Vyplň vlastné","","x") -> x
D104: Vyplň vlastné | AG104: =ROUND(AG94 * AS104, 2) -> 0 | AN104: =ROUND(AG104 + AV104, 2) -> 0 | AS104: 0 | AT104: stavebná časť | AU104: základná | AV104: =ROUND(IF(AU104="základná",AG104*L32,IF(AU104="znížená",AG104*L33,0)), 2) -> 0 | BV104: OSTATNENAKLADYVLASTNE | BY104: =IF(AU104="základná",AV104,0) -> 0 | BZ104: =IF(AU104="znížená",AV104,0) -> 0 | CA104: 0 | CB104: 0 | CC104: 0 | CD104: =IF(AU104="základná",AG104,0) -> 0 | CE104: =IF(AU104="znížená",AG104,0) -> 0 | CF104: =IF(AU104="zákl. prenesená",AG104,0) -> 0 | CG104: =IF(AU104="zníž. prenesená",AG104,0) -> 0 | CH104: =IF(AU104="nulová",AG104,0) -> 0 | CI104: =IF(AU104="základná",1,IF(AU104="znížená",2,IF(AU104="zákl. prenesená",4,IF(AU104="zníž. prenesená",5,3)))) -> 1 | CJ104: =IF(AT104="stavebná časť",1,IF(AT104="investičná časť",2,3)) -> 1 | CK104: =IF(D104="Vyplň vlastné","","x")
D105: Vyplň vlastné | AG105: =ROUND(AG94 * AS105, 2) -> 0 | AN105: =ROUND(AG105 + AV105, 2) -> 0 | AS105: 0 | AT105: stavebná časť | AU105: základná | AV105: =ROUND(IF(AU105="základná",AG105*L32,IF(AU105="znížená",AG105*L33,0)), 2) -> 0 | BV105: OSTATNENAKLADYVLASTNE | BY105: =IF(AU105="základná",AV105,0) -> 0 | BZ105: =IF(AU105="znížená",AV105,0) -> 0 | CA105: 0 | CB105: 0 | CC105: 0 | CD105: =IF(AU105="základná",AG105,0) -> 0 | CE105: =IF(AU105="znížená",AG105,0) -> 0 | CF105: =IF(AU105="zákl. prenesená",AG105,0) -> 0 | CG105: =IF(AU105="zníž. prenesená",AG105,0) -> 0 | CH105: =IF(AU105="nulová",AG105,0) -> 0 | CI105: =IF(AU105="základná",1,IF(AU105="znížená",2,IF(AU105="zákl. prenesená",4,IF(AU105="zníž. prenesená",5,3)))) -> 1 | CJ105: =IF(AT105="stavebná časť",1,IF(AT105="investičná časť",2,3)) -> 1 | CK105: =IF(D105="Vyplň vlastné","","x")
D106: Vyplň vlastné | AG106: =ROUND(AG94 * AS106, 2) -> 0 | AN106: =ROUND(AG106 + AV106, 2) -> 0 | AS106: 0 | AT106: stavebná časť | AU106: základná | AV106: =ROUND(IF(AU106="základná",AG106*L32,IF(AU106="znížená",AG106*L33,0)), 2) -> 0 | BV106: OSTATNENAKLADYVLASTNE | BY106: =IF(AU106="základná",AV106,0) -> 0 | BZ106: =IF(AU106="znížená",AV106,0) -> 0 | CA106: 0 | CB106: 0 | CC106: 0 | CD106: =IF(AU106="základná",AG106,0) -> 0 | CE106: =IF(AU106="znížená",AG106,0) -> 0 | CF106: =IF(AU106="zákl. prenesená",AG106,0) -> 0 | CG106: =IF(AU106="zníž. prenesená",AG106,0) -> 0 | CH106: =IF(AU106="nulová",AG106,0) -> 0 | CI106: =IF(AU106="základná",1,IF(AU106="znížená",2,IF(AU106="zákl. prenesená",4,IF(AU106="zníž. prenesená",5,3)))) -> 1 | CJ106: =IF(AT106="stavebná časť",1,IF(AT106="investičná časť",2,3)) -> 1 | CK106: =IF(D106="Vyplň vlastné","","x")
C108: Celkové náklady za stavbu 1) + 2) | AG108: =ROUND(AG94 + AG102, 2) -> 0 | AN108: =ROUND(AN94 + AN102, 2) -> 0

Sheet 01 - Zateplenie obvodovéh...
L2: >> skryté stĺpce << | AT2: {808e71bd-c433-494d-9fa0-91bc584e7869}
AT3: 0
D4: KRYCÍ LIST ROZPOČTU | M4: v --- nižšie sa nachádzajú doplnkové a pomocné údaje k zostavám --- v | AT4: False
D6: Stavba:
E7: ='Rekapitulácia stavby'!K6 -> Zateplenie plniarne nealkoholických nápojov, Dunajská streda - časť búracie práce - aktualizácia jún 2023
D8: Objekt:
E9: 01 - Zateplenie obvodového plášťa - búracie práce
D11: JKSO: | I11: KS:
D12: Miesto: | F12: Dunajská Streda | I12: Dátum: | J12: ='Rekapitulácia stavby'!AN8 -> 8. 6. 2023
D14: Objednávateľ: | I14: IČO:
E15: McCarter, a.s. | I15: IČ DPH:
D17: Zhotoviteľ: | I17: IČO: | J17: ='Rekapitulácia stavby'!AN13 -> Vyplň údaj
E18: ='Rekapitulácia stavby'!E14 -> Vyplň údaj | I18: IČ DPH: | J18: ='Rekapitulácia stavby'!AN14 -> Vyplň údaj
D20: Projektant: | I20: IČO:
E21: Ing.arch. Miroslav Marko M.Arch. | I21: IČ DPH:
D23: Spracovateľ: | I23: IČO:
E24: Rosoft,s.r.o. | I24: IČ DPH:
D26: Poznámka:
D30: Náklady z rozpočtu | J30: =J96 -> 0
D31: Ostatné náklady | J31: =J101 -> 0
D32: Cena bez DPH | J32: =ROUND(J30 + J31, 2) -> 0
F34: Základ dane | I34: Sadzba dane | J34: Výška dane
D35: DPH | E35: základná | F35: =ROUND((SUM(BE101:BE108) + SUM(BE128:BE139)), 2) -> 0 | I35: 0.2 | J35: =ROUND(((SUM(BE101:BE108) + SUM(BE128:BE139))*I35), 2) -> 0
E36: znížená | F36: =ROUND((SUM(BF101:BF108) + SUM(BF128:BF139)), 2) -> 0 | I36: 0.2 | J36: =ROUND(((SUM(BF101:BF108) + SUM(BF128:BF139))*I36), 2) -> 0
E37: zákl. prenesená | F37: =ROUND((SUM(BG101:BG108) + SUM(BG128:BG139)), 2) -> 0 | I37: 0.2 | J37: =0 -> 0
E38: zníž. prenesená | F38: =ROUND((SUM(BH101:BH108) + SUM(BH128:BH139)), 2) -> 0 | I38: 0.2 | J38: =0 -> 0
E39: nulová | F39: =ROUND((SUM(BI101:BI108) + SUM(BI128:BI139)), 2) -> 0 | I39: 0 | J39: =0 -> 0
D41: Cena s DPH | G41: v | H41: EUR | J41: =SUM(J32:J39) -> 0
D50: Projektant | G50: Spracovateľ
D61: Dátum a podpis: | F61: Pečiatka | G61: Dátum a podpis: | J61: Pečiatka
D65: Objednávateľ | G65: Zhotoviteľ
D76: Dátum a podpis: | F76: Pečiatka | G76: Dátum a podpis: | J76: Pečiatka
C82: REKAPITULÁCIA ROZPOČTU
C84: Stavba:
E85: =E7 -> Zateplenie plniarne nealkoholických nápojov, Dunajská streda - časť búracie práce - aktualizácia jún 2023
C86: Objekt:
E87: =E9 -> 01 - Zateplenie obvodového plášťa - búracie práce
C89: Miesto: | F89: =F12 -> Dunajská Streda | I89: Dátum: | J89: =IF(J12="","",J12) -> 8. 6. 2023
C91: Objednávateľ: | F91: =E15 -> McCarter, a.s. | I91: Projektant: | J91: =E21 -> Ing.arch. Miroslav Marko M.Arch.
C92: Zhotoviteľ: | F92: =IF(E18="","",E18) -> Vyplň údaj | I92: Spracovateľ: | J92: =E24 -> Rosoft,s.r.o.
C94: Kód dielu - Popis | J94: Cena celkom [EUR]
C96: 1) Náklady z rozpočtu | J96: =J128 -> 0 | AU96: -1
D97: HSV - Práce a dodávky HSV | J97: =J129 -> 0
D98: 9 - Ostatné konštrukcie a práce-búranie | J98: =J130 -> 0
C101: 2) Ostatné náklady | J101: =ROUND(J102 + J103 + J104 + J105 + J106 + J107,2) -> 0 | N101: DPH
D102: GZS | J102: 0 | N102: znížená | AY102: VRN | BE102: =IF(N102="základná",J102,0) -> 0 | BF102: =IF(N102="znížená",J102,0) -> 0 | BG102: =IF(N102="zákl. prenesená",J102,0) -> 0 | BH102: =IF(N102="zníž. prenesená",J102,0) -> 0 | BI102: =IF(N102="nulová",J102,0) -> 0 | BJ102: 2
D103: Projektové práce | J103: 0 | N103: znížená | AY103: VRN | BE103: =IF(N103="základná",J103,0) -> 0 | BF103: =IF(N103="znížená",J103,0) -> 0 | BG103: =IF(N103="zákl. prenesená",J103,0) -> 0 | BH103: =IF(N103="zníž. prenesená",J103,0) -> 0 | BI103: =IF(N103="nulová",J103,0) -> 0 | BJ103: 2
D104: Sťažené podmienky | J104: 0 | N104: znížená | AY104: VRN | BE104: =IF(N104="základná",J104,0) -> 0 | BF104: =IF(N104="znížená",J104,0) -> 0 | BG104: =IF(N104="zákl. prenesená",J104,0) -> 0 | BH104: =IF(N104="zníž. prenesená",J104,0) -> 0 | BI104: =IF(N104="nulová",J104,0) -> 0 | BJ104: 2
D105: Vplyv prostredia | J105: 0 | N105: znížená | AY105: VRN | BE105: =IF(N105="základná",J105,0) -> 0 | BF105: =IF(N105="znížená",J105,0) -> 0 | BG105: =IF(N105="zákl. prenesená",J105,0) -> 0 | BH105: =IF(N105="zníž. prenesená",J105,0) -> 0 | BI105: =IF(N105="nulová",J105,0) -> 0 | BJ105: 2
D106: Iné VRN | J106: 0 | N106: znížená | AY106: VRN | BE106: =IF(N106="základná",J106,0) -> 0 | BF106: =IF(N106="znížená",J106,0) -> 0 | BG106: =IF(N106="zákl. prenesená",J106,0) -> 0 | BH106: =IF(N106="zníž. prenesená",J106,0) -> 0 | BI106: =IF(N106="nulová",J106,0) -> 0 | BJ106: 2
D107: Kompletačná činnosť | J107: =ROUND(J30*T107,2) -> 0 | N107: znížená | AY107: KOMPLETACNA | BE107: =IF(N107="základná",J107,0) -> 0 | BF107: =IF(N107="znížená",J107,0) -> 0 | BG107: =IF(N107="zákl. prenesená",J107,0) -> 0 | BH107: =IF(N107="zníž. prenesená",J107,0) -> 0 | BI107: =IF(N107="nulová",J107,0) -> 0 | BJ107: 2
C109: Celkové náklady za stavbu 1) + 2) | J109: =ROUND(J96+J101,2) -> 0
C115: ROZPOČET
C117: Stavba:
E118: =E7 -> Zateplenie plniarne nealkoholických nápojov, Dunajská streda - časť búracie práce - aktualizácia jún 2023
C119: Objekt:
E120: =E9 -> 01 - Zateplenie obvodového plášťa - búracie práce
C122: Miesto: | F122: =F12 -> Dunajská Streda | I122: Dátum: | J122: =IF(J12="","",J12) -> 8. 6. 2023
C124: Objednávateľ: | F124: =E15 -> McCarter, a.s. | I124: Projektant: | J124: =E21 -> Ing.arch. Miroslav Marko M.Arch.
C125: Zhotoviteľ: | F125: =IF(E18="","",E18) -> Vyplň údaj | I125: Spracovateľ: | J125: =E24 -> Rosoft,s.r.o.
C127: PČ | D127: Typ | E127: Kód | F127: Popis | G127: MJ | H127: Množstvo | I127: J.cena [EUR] | J127: Cena celkom [EUR] | K127: Cenová sústava | N127: DPH | O127: J. Nh [h] | P127: Nh celkom [h] | Q127: J. hmotnosť [t] | R127: Hmotnosť celkom [t] | S127: J. suť [t] | T127: Suť Celkom [t]
C128: Náklady z rozpočtu | J128: =BK128 -> 0 | P128: =P129 -> 0 | R128: =R129 -> 0 | T128: =T129 -> 0 | AT128: D | AU128: -1 | BK128: =BK129 -> 0
D129: D | E129: HSV | F129: Práce a dodávky HSV | J129: =BK129 -> 0 | P129: =P130 -> 0 | R129: =R130 -> 0 | T129: =T130 -> 0 | AR129: 1 | AT129: D | AU129: 0 | AY129: ROZPOCET | BK129: =BK130 -> 0
D130: D | E130: 9 | F130: Ostatné konštrukcie a práce-búranie | J130: =BK130 -> 0 | P130: =SUM(P131:P139) -> 0 | R130: =SUM(R131:R139) -> 0 | T130: =SUM(T131:T139) -> 0 | AR130: 1 | AT130: D | AU130: 1 | AY130: ROZPOCET | BK130: =SUM(BK131:BK139) -> 0
C131: 1 | D131: K | E131: 962032231-01 | F131: Búranie muriva zo siporexových panelov hr. 300 mm | G131: m3 | H131: 1.92 | J131: =ROUND(I131*H131,2) -> 0 | N131: znížená | P131: =O131*H131 -> 0 | Q131: 0 | R131: =Q131*H131 -> 0 | S131: 0 | T131: =S131*H131 -> 0 | AR131: 4 | AT131: K | AU131: 2 | AY131: ROZPOCET | BE131: =IF(N131="základná",J131,0) -> 0 | BF131: =IF(N131="znížená",J131,0) -> 0 | BG131: =IF(N131="zákl. prenesená",J131,0) -> 0 | BH131: =IF(N131="zníž. prenesená",J131,0) -> 0 | BI131: =IF(N131="nulová",J131,0) -> 0 | BJ131: 2 | BK131: =ROUND(I131*H131,2) -> 0 | BL131: 4 | BM131: 38
C132: 2 | D132: K | E132: 962086121 | F132: Búranie muriva priečok z plynosilikátu a siporexu hr. do 300mm, -0,15000t | G132: m2 | H132: 2 | J132: =ROUND(I132*H132,2) -> 0 | N132: znížená | P132: =O132*H132 -> 0 | Q132: 0 | R132: =Q132*H132 -> 0 | S132: 0 | T132: =S132*H132 -> 0 | AR132: 4 | AT132: K | AU132: 2 | AY132: ROZPOCET | BE132: =IF(N132="základná",J132,0) -> 0 | BF132: =IF(N132="znížená",J132,0) -> 0 | BG132: =IF(N132="zákl. prenesená",J132,0) -> 0 | BH132: =IF(N132="zníž. prenesená",J132,0) -> 0 | BI132: =IF(N132="nulová",J132,0) -> 0 | BJ132: 2 | BK132: =ROUND(I132*H132,2) -> 0 | BL132: 4 | BM132: 40
C133: 3 | D133: K | E133: 971055024-01 | F133: Rezanie konštrukcií z panelov Siporex hr.panelu 300mm stenovou pílou -0,03600t | G133: m | H133: 12.1 | J133: =ROUND(I133*H133,2) -> 0 | N133: znížená | P133: =O133*H133 -> 0 | Q133: 0 | R133: =Q133*H133 -> 0 | S133: 0 | T133: =S133*H133 -> 0 | AR133: 4 | AT133: K | AU133: 2 | AY133: ROZPOCET | BE133: =IF(N133="základná",J133,0) -> 0 | BF133: =IF(N133="znížená",J133,0) -> 0 | BG133: =IF(N133="zákl. prenesená",J133,0) -> 0 | BH133: =IF(N133="zníž. prenesená",J133,0) -> 0 | BI133: =IF(N133="nulová",J133,0) -> 0 | BJ133: 2 | BK133: =ROUND(I133*H133,2) -> 0 | BL133: 4 | BM133: 42
C134: 4 | D134: K | E134: 979011111 | F134: Zvislá doprava sutiny a vybúraných hmôt za prvé podlažie nad alebo pod základným podlažím | G134: t | H134: 3.958 | J134: =ROUND(I134*H134,2) -> 0 | N134: znížená | P134: =O134*H134 -> 0 | Q134: 0 | R134: =Q134*H134 -> 0 | S134: 0 | T134: =S134*H134 -> 0 | AR134: 4 | AT134: K | AU134: 2 | AY134: ROZPOCET | BE134: =IF(N134="základná",J134,0) -> 0 | BF134: =IF(N134="znížená",J134,0) -> 0 | BG134: =IF(N134="zákl. prenesená",J134,0) -> 0 | BH134: =IF(N134="zníž. prenesená",J134,0) -> 0 | BI134: =IF(N134="nulová",J134,0) -> 0 | BJ134: 2 | BK134: =ROUND(I134*H134,2) -> 0 | BL134: 4 | BM134: 44
C135: 5 | D135: K | E135: 979081111 | F135: Odvoz sutiny a vybúraných hmôt na skládku do 1 km | G135: t | H135: 3.958 | J135: =ROUND(I135*H135,2) -> 0 | N135: znížená | P135: =O135*H135 -> 0 | Q135: 0 | R135: =Q135*H135 -> 0 | S135: 0 | T135: =S135*H135 -> 0 | AR135: 4 | AT135: K | AU135: 2 | AY135: ROZPOCET | BE135: =IF(N135="základná",J135,0) -> 0 | BF135: =IF(N135="znížená",J135,0) -> 0 | BG135: =IF(N135="zákl. prenesená",J135,0) -> 0 | BH135: =IF(N135="zníž. prenesená",J135,0) -> 0 | BI135: =IF(N135="nulová",J135,0) -> 0 | BJ135: 2 | BK135: =ROUND(I135*H135,2) -> 0 | BL135: 4 | BM135: 46
C136: 6 | D136: K | E136: 979081121 | F136: Odvoz sutiny a vybúraných hmôt na skládku za každý ďalší 1 km | G136: t | H136: 55.412 | J136: =ROUND(I136*H136,2) -> 0 | N136: znížená | P136: =O136*H136 -> 0 | Q136: 0 | R136: =Q136*H136 -> 0 | S136: 0 | T136: =S136*H136 -> 0 | AR136: 4 | AT136: K | AU136: 2 | AY136: ROZPOCET | BE136: =IF(N136="základná",J136,0) -> 0 | BF136: =IF(N136="znížená",J136,0) -> 0 | BG136: =IF(N136="zákl. prenesená",J136,0) -> 0 | BH136: =IF(N136="zníž. prenesená",J136,0) -> 0 | BI136: =IF(N136="nulová",J136,0) -> 0 | BJ136: 2 | BK136: =ROUND(I136*H136,2) -> 0 | BL136: 4 | BM136: 48
C137: 7 | D137: K | E137: 979082111 | F137: Vnútrostavenisková doprava sutiny a vybúraných hmôt do 10 m | G137: t | H137: 3.958 | J137: =ROUND(I137*H137,2) -> 0 | N137: znížená | P137: =O137*H137 -> 0 | Q137: 0 | R137: =Q137*H137 -> 0 | S137: 0 | T137: =S137*H137 -> 0 | AR137: 4 | AT137: K | AU137: 2 | AY137: ROZPOCET | BE137: =IF(N137="základná",J137,0) -> 0 | BF137: =IF(N137="znížená",J137,0) -> 0 | BG137: =IF(N137="zákl. prenesená",J137,0) -> 0 | BH137: =IF(N137="zníž. prenesená",J137,0) -> 0 | BI137: =IF(N137="nulová",J137,0) -> 0 | BJ137: 2 | BK137: =ROUND(I137*H137,2) -> 0 | BL137: 4 | BM137: 50
C138: 8 | D138: K | E138: 979082121 | F138: Vnútrostavenisková doprava sutiny a vybúraných hmôt za každých ďalších 5 m | G138: t | H138: 15.832 | J138: =ROUND(I138*H138,2) -> 0 | N138: znížená | P138: =O138*H138 -> 0 | Q138: 0 | R138: =Q138*H138 -> 0 | S138: 0 | T138: =S138*H138 -> 0 | AR138: 4 | AT138: K | AU138: 2 | AY138: ROZPOCET | BE138: =IF(N138="základná",J138,0) -> 0 | BF138: =IF(N138="znížená",J138,0) -> 0 | BG138: =IF(N138="zákl. prenesená",J138,0) -> 0 | BH138: =IF(N138="zníž. prenesená",J138,0) -> 0 | BI138: =IF(N138="nulová",J138,0) -> 0 | BJ138: 2 | BK138: =ROUND(I138*H138,2) -> 0 | BL138: 4 | BM138: 52
C139: 9 | D139: K | E139: 979089012 | F139: Poplatok za skladovanie - betón, tehly, dlaždice (17 01 ), ostatné | G139: t | H139: 3.958 | J139: =ROUND(I139*H139,2) -> 0 | N139: znížená | P139: =O139*H139 -> 0 | Q139: 0 | R139: =Q139*H139 -> 0 | S139: 0 | T139: =S139*H139 -> 0 | AR139: 4 | AT139: K | AU139: 2 | AY139: ROZPOCET | BE139: =IF(N139="základná",J139,0) -> 0 | BF139: =IF(N139="znížená",J139,0) -> 0 | BG139: =IF(N139="zákl. prenesená",J139,0) -> 0 | BH139: =IF(N139="zníž. prenesená",J139,0) -> 0 | BI139: =IF(N139="nulová",J139,0) -> 0 | BJ139: 2 | BK139: =ROUND(I139*H139,2) -> 0 | BL139: 4 | BM139: 54
C141: Poznámka
C142: K správnemu naceneniu výkazu výmer je potrebné naštudovanie PD. Naceniť je potrebné jestvujúci výkaz výmer podľa pokynov tendrového zadávateľa, resp. navrhu zmluvy o dielo. Výkaz výmer je neoddeliteľnou súčasťou celej PD. Materiál výrobkov je definovaný vo VV a zároveň sú položky jednoznačne určené a spárovateľné k výkresovej alebo textovej časti projektovej dokumentácie, ktorá dané materiály, v potrebných prípadoch ešte presnejšie podrobnejšie špecifikuje, upresňuje ci konkretizuje technicky, parametricky alebo referenčným výrobkom. Informácie o materiáloch výrobkov vo výkresovej časti alebo technických správach môžu byť aj výrazne rozsiahlejšie ako je možné uviesť technicky v texte názvu položky vo výkaze výmer, preto je potrebné naštudovanie projektovej dokumentácie a oceňovať výkaz výmer ako celok a neoddeliteňú súčasť projektovej dokumentácie. Výmery položiek presunov hmot PSV vyjadrených mernými jednotkami v percentách % si uchádzač výpĺna sám podla metodiky rozpočtárskych programov napr. Cenkros, ODIS. Dodávateľ si zahrnie do jednotkových cien všetky náklady podla ZoD, vrátane VRN-ov: napr. označenie staveniska, čistenie, opatrenia pre stav. v zimnom období, poistenie, geodet. merania a dokumentáciu, skúšky, vzorky, dielenskú dokumentáciu, vyčistenie všetkých dotknutých plôch od stavebného odpadu.

Sheet 02 - Zateplenie strechy -...
L2: >> skryté stĺpce << | AT2: {dc6d3899-7452-4d7f-9bfe-050e6bffad96}
AT3: 0
D4: KRYCÍ LIST ROZPOČTU | M4: v --- nižšie sa nachádzajú doplnkové a pomocné údaje k zostavám --- v | AT4: False
D6: Stavba:
E7: ='Rekapitulácia stavby'!K6 -> Zateplenie plniarne nealkoholických nápojov, Dunajská streda - časť búracie práce - aktualizácia jún 2023
D8: Objekt:
E9: 02 - Zateplenie strechy - búracie práce
D11: JKSO: | I11: KS:
D12: Miesto: | F12: Dunajská Streda | I12: Dátum: | J12: ='Rekapitulácia stavby'!AN8 -> 8. 6. 2023
D14: Objednávateľ: | I14: IČO:
E15: McCarter, a.s. | I15: IČ DPH:
D17: Zhotoviteľ: | I17: IČO: | J17: ='Rekapitulácia stavby'!AN13 -> Vyplň údaj
E18: ='Rekapitulácia stavby'!E14 -> Vyplň údaj | I18: IČ DPH: | J18: ='Rekapitulácia stavby'!AN14 -> Vyplň údaj
D20: Projektant: | I20: IČO:
E21: Ing.arch. Miroslav Marko M.Arch. | I21: IČ DPH:
D23: Spracovateľ: | I23: IČO:
E24: Rosoft,s.r.o. | I24: IČ DPH:
D26: Poznámka:
D30: Náklady z rozpočtu | J30: =J96 -> 0
D31: Ostatné náklady | J31: =J106 -> 0
D32: Cena bez DPH | J32: =ROUND(J30 + J31, 2) -> 0
F34: Základ dane | I34: Sadzba dane | J34: Výška dane
D35: DPH | E35: základná | F35: =ROUND((SUM(BE106:BE113) + SUM(BE133:BE158)), 2) -> 0 | I35: 0.2 | J35: =ROUND(((SUM(BE106:BE113) + SUM(BE133:BE158))*I35), 2) -> 0
E36: znížená | F36: =ROUND((SUM(BF106:BF113) + SUM(BF133:BF158)), 2) -> 0 | I36: 0.2 | J36: =ROUND(((SUM(BF106:BF113) + SUM(BF133:BF158))*I36), 2) -> 0
E37: zákl. prenesená | F37: =ROUND((SUM(BG106:BG113) + SUM(BG133:BG158)), 2) -> 0 | I37: 0.2 | J37: =0 -> 0
E38: zníž. prenesená | F38: =ROUND((SUM(BH106:BH113) + SUM(BH133:BH158)), 2) -> 0 | I38: 0.2 | J38: =0 -> 0
E39: nulová | F39: =ROUND((SUM(BI106:BI113) + SUM(BI133:BI158)), 2) -> 0 | I39: 0 | J39: =0 -> 0
D41: Cena s DPH | G41: v | H41: EUR | J41: =SUM(J32:J39) -> 0
D50: Projektant | G50: Spracovateľ
D61: Dátum a podpis: | F61: Pečiatka | G61: Dátum a podpis: | J61: Pečiatka
D65: Objednávateľ | G65: Zhotoviteľ
D76: Dátum a podpis: | F76: Pečiatka | G76: Dátum a podpis: | J76: Pečiatka
C82: REKAPITULÁCIA ROZPOČTU
C84: Stavba:
E85: =E7 -> Zateplenie plniarne nealkoholických nápojov, Dunajská streda - časť búracie práce - aktualizácia jún 2023
C86: Objekt:
E87: =E9 -> 02 - Zateplenie strechy - búracie práce
C89: Miesto: | F89: =F12 -> Dunajská Streda | I89: Dátum: | J89: =IF(J12="","",J12) -> 8. 6. 2023
C91: Objednávateľ: | F91: =E15 -> McCarter, a.s. | I91: Projektant: | J91: =E21 -> Ing.arch. Miroslav Marko M.Arch.
C92: Zhotoviteľ: | F92: =IF(E18="","",E18) -> Vyplň údaj | I92: Spracovateľ: | J92: =E24 -> Rosoft,s.r.o.
C94: Kód dielu - Popis | J94: Cena celkom [EUR]
C96: 1) Náklady z rozpočtu | J96: =J133 -> 0 | AU96: -1
D97: HSV - Práce a dodávky HSV | J97: =J134 -> 0
D98: 9 - Ostatné konštrukcie a práce-búranie | J98: =J135 -> 0
D99: PSV - Práce a dodávky PSV | J99: =J146 -> 0
D100: 712 - Izolácie striech | J100: =J147 -> 0
D101: 713 - Izolácie tepelné | J101: =J150 -> 0
D102: 721 - Zdravotech. vnútorná kanalizácia | J102: =J153 -> 0
D103: 767 - Konštrukcie doplnkové kovové | J103: =J156 -> 0
C106: 2) Ostatné náklady | J106: =ROUND(J107 + J108 + J109 + J110 + J111 + J112,2) -> 0 | N106: DPH
D107: GZS | J107: 0 | N107: znížená | AY107: VRN | BE107: =IF(N107="základná",J107,0) -> 0 | BF107: =IF(N107="znížená",J107,0) -> 0 | BG107: =IF(N107="zákl. prenesená",J107,0) -> 0 | BH107: =IF(N107="zníž. prenesená",J107,0) -> 0 | BI107: =IF(N107="nulová",J107,0) -> 0 | BJ107: 2
D108: Projektové práce | J108: 0 | N108: znížená | AY108: VRN | BE108: =IF(N108="základná",J108,0) -> 0 | BF108: =IF(N108="znížená",J108,0) -> 0 | BG108: =IF(N108="zákl. prenesená",J108,0) -> 0 | BH108: =IF(N108="zníž. prenesená",J108,0) -> 0 | BI108: =IF(N108="nulová",J108,0) -> 0 | BJ108: 2
D109: Sťažené podmienky | J109: 0 | N109: znížená | AY109: VRN | BE109: =IF(N109="základná",J109,0) -> 0 | BF109: =IF(N109="znížená",J109,0) -> 0 | BG109: =IF(N109="zákl. prenesená",J109,0) -> 0 | BH109: =IF(N109="zníž. prenesená",J109,0) -> 0 | BI109: =IF(N109="nulová",J109,0) -> 0 | BJ109: 2
D110: Vplyv prostredia | J110: 0 | N110: znížená | AY110: VRN | BE110: =IF(N110="základná",J110,0) -> 0 | BF110: =IF(N110="znížená",J110,0) -> 0 | BG110: =IF(N110="zákl. prenesená",J110,0) -> 0 | BH110: =IF(N110="zníž. prenesená",J110,0) -> 0 | BI110: =IF(N110="nulová",J110,0) -> 0 | BJ110: 2
D111: Iné VRN | J111: 0 | N111: znížená | AY111: VRN | BE111: =IF(N111="základná",J111,0) -> 0 | BF111: =IF(N111="znížená",J111,0) -> 0 | BG111: =IF(N111="zákl. prenesená",J111,0) -> 0 | BH111: =IF(N111="zníž. prenesená",J111,0) -> 0 | BI111: =IF(N111="nulová",J111,0) -> 0 | BJ111: 2
D112: Kompletačná činnosť | J112: =ROUND(J30*T112,2) -> 0 | N112: znížená | AY112: KOMPLETACNA | BE112: =IF(N112="základná",J112,0) -> 0 | BF112: =IF(N112="znížená",J112,0) -> 0 | BG112: =IF(N112="zákl. prenesená",J112,0) -> 0 | BH112: =IF(N112="zníž. prenesená",J112,0) -> 0 | BI112: =IF(N112="nulová",J112,0) -> 0 | BJ112: 2
C114: Celkové náklady za stavbu 1) + 2) | J114: =ROUND(J96+J106,2) -> 0
C120: ROZPOČET
C122: Stavba:
E123: =E7 -> Zateplenie plniarne nealkoholických nápojov, Dunajská streda - časť búracie práce - aktualizácia jún 2023
C124: Objekt:
E125: =E9 -> 02 - Zateplenie strechy - búracie práce
C127: Miesto: | F127: =F12 -> Dunajská Streda | I127: Dátum: | J127: =IF(J12="","",J12) -> 8. 6. 2023
C129: Objednávateľ: | F129: =E15 -> McCarter, a.s. | I129: Projektant: | J129: =E21 -> Ing.arch. Miroslav Marko M.Arch.
C130: Zhotoviteľ: | F130: =IF(E18="","",E18) -> Vyplň údaj | I130: Spracovateľ: | J130: =E24 -> Rosoft,s.r.o.
C132: PČ | D132: Typ | E132: Kód | F132: Popis | G132: MJ | H132: Množstvo | I132: J.cena [EUR] | J132: Cena celkom [EUR] | K132: Cenová sústava | N132: DPH | O132: J. Nh [h] | P132: Nh celkom [h] | Q132: J. hmotnosť [t] | R132: Hmotnosť celkom [t] | S132: J. suť [t] | T132: Suť Celkom [t]
C133: Náklady z rozpočtu | J133: =BK133 -> 0 | P133: =P134+P146 -> 0 | R133: =R134+R146 -> 0 | T133: =T134+T146 -> 0 | AT133: D | AU133: -1 | BK133: =BK134+BK146 -> 0
D134: D | E134: HSV | F134: Práce a dodávky HSV | J134: =BK134 -> 0 | P134: =P135 -> 0 | R134: =R135 -> 0 | T134: =T135 -> 0 | AR134: 1 | AT134: D | AU134: 0 | AY134: ROZPOCET | BK134: =BK135 -> 0
D135: D | E135: 9 | F135: Ostatné konštrukcie a práce-búranie | J135: =BK135 -> 0 | P135: =SUM(P136:P145) -> 0 | R135: =SUM(R136:R145) -> 0 | T135: =SUM(T136:T145) -> 0 | AR135: 1 | AT135: D | AU135: 1 | AY135: ROZPOCET | BK135: =SUM(BK136:BK145) -> 0
C136: 1 | D136: K | E136: 962031132 | F136: Búranie priečok z tehál pálených, plných alebo dutých hr. do 150 mm, -0,19600t | G136: m2 | H136: 27.075 | J136: =ROUND(I136*H136,2) -> 0 | N136: znížená | P136: =O136*H136 -> 0 | Q136: 0 | R136: =Q136*H136 -> 0 | S136: 0 | T136: =S136*H136 -> 0 | AR136: 4 | AT136: K | AU136: 2 | AY136: ROZPOCET | BE136: =IF(N136="základná",J136,0) -> 0 | BF136: =IF(N136="znížená",J136,0) -> 0 | BG136: =IF(N136="zákl. prenesená",J136,0) -> 0 | BH136: =IF(N136="zníž. prenesená",J136,0) -> 0 | BI136: =IF(N136="nulová",J136,0) -> 0 | BJ136: 2 | BK136: =ROUND(I136*H136,2) -> 0 | BL136: 4 | BM136: 14
C137: 2 | D137: K | E137: 962051116 | F137: Búranie priečok železobetónových hr.do 150 mm, -0,32400t | G137: m2 | H137: 29.12 | J137: =ROUND(I137*H137,2) -> 0 | N137: znížená | P137: =O137*H137 -> 0 | Q137: 0 | R137: =Q137*H137 -> 0 | S137: 0 | T137: =S137*H137 -> 0 | AR137: 4 | AT137: K | AU137: 2 | AY137: ROZPOCET | BE137: =IF(N137="základná",J137,0) -> 0 | BF137: =IF(N137="znížená",J137,0) -> 0 | BG137: =IF(N137="zákl. prenesená",J137,0) -> 0 | BH137: =IF(N137="zníž. prenesená",J137,0) -> 0 | BI137: =IF(N137="nulová",J137,0) -> 0 | BJ137: 2 | BK137: =ROUND(I137*H137,2) -> 0 | BL137: 4 | BM137: 16
C138: 3 | D138: K | E138: 979011111 | F138: Zvislá doprava sutiny a vybúraných hmôt za prvé podlažie nad alebo pod základným podlažím | G138: t | H138: 229.709 | J138: =ROUND(I138*H138,2) -> 0 | N138: znížená | P138: =O138*H138 -> 0 | Q138: 0 | R138: =Q138*H138 -> 0 | S138: 0 | T138: =S138*H138 -> 0 | AR138: 4 | AT138: K | AU138: 2 | AY138: ROZPOCET | BE138: =IF(N138="základná",J138,0) -> 0 | BF138: =IF(N138="znížená",J138,0) -> 0 | BG138: =IF(N138="zákl. prenesená",J138,0) -> 0 | BH138: =IF(N138="zníž. prenesená",J138,0) -> 0 | BI138: =IF(N138="nulová",J138,0) -> 0 | BJ138: 2 | BK138: =ROUND(I138*H138,2) -> 0 | BL138: 4 | BM138: 18
C139: 4 | D139: K | E139: 979081111 | F139: Odvoz sutiny a vybúraných hmôt na skládku do 1 km | G139: t | H139: 229.709 | J139: =ROUND(I139*H139,2) -> 0 | N139: znížená | P139: =O139*H139 -> 0 | Q139: 0 | R139: =Q139*H139 -> 0 | S139: 0 | T139: =S139*H139 -> 0 | AR139: 4 | AT139: K | AU139: 2 | AY139: ROZPOCET | BE139: =IF(N139="základná",J139,0) -> 0 | BF139: =IF(N139="znížená",J139,0) -> 0 | BG139: =IF(N139="zákl. prenesená",J139,0) -> 0 | BH139: =IF(N139="zníž. prenesená",J139,0) -> 0 | BI139: =IF(N139="nulová",J139,0) -> 0 | BJ139: 2 | BK139: =ROUND(I139*H139,2) -> 0 | BL139: 4 | BM139: 20
C140: 5 | D140: K | E140: 979081121 | F140: Odvoz sutiny a vybúraných hmôt na skládku za každý ďalší 1 km | G140: t | H140: 3215.926 | J140: =ROUND(I140*H140,2) -> 0 | N140: znížená | P140: =O140*H140 -> 0 | Q140: 0 | R140: =Q140*H140 -> 0 | S140: 0 | T140: =S140*H140 -> 0 | AR140: 4 | AT140: K | AU140: 2 | AY140: ROZPOCET | BE140: =IF(N140="základná",J140,0) -> 0 | BF140: =IF(N140="znížená",J140,0) -> 0 | BG140: =IF(N140="zákl. prenesená",J140,0) -> 0 | BH140: =IF(N140="zníž. prenesená",J140,0) -> 0 | BI140: =IF(N140="nulová",J140,0) -> 0 | BJ140: 2 | BK140: =ROUND(I140*H140,2) -> 0 | BL140: 4 | BM140: 22
C141: 6 | D141: K | E141: 979082111 | F141: Vnútrostavenisková doprava sutiny a vybúraných hmôt do 10 m | G141: t | H141: 229.709 | J141: =ROUND(I141*H141,2) -> 0 | N141: znížená | P141: =O141*H141 -> 0 | Q141: 0 | R141: =Q141*H141 -> 0 | S141: 0 | T141: =S141*H141 -> 0 | AR141: 4 | AT141: K | AU141: 2 | AY141: ROZPOCET | BE141: =IF(N141="základná",J141,0) -> 0 | BF141: =IF(N141="znížená",J141,0) -> 0 | BG141: =IF(N141="zákl. prenesená",J141,0) -> 0 | BH141: =IF(N141="zníž. prenesená",J141,0) -> 0 | BI141: =IF(N141="nulová",J141,0) -> 0 | BJ141: 2 | BK141: =ROUND(I141*H141,2) -> 0 | BL141: 4 | BM141: 24
C142: 7 | D142: K | E142: 979082121 | F142: Vnútrostavenisková doprava sutiny a vybúraných hmôt za každých ďalších 5 m | G142: t | H142: 918.836 | J142: =ROUND(I142*H142,2) -> 0 | N142: znížená | P142: =O142*H142 -> 0 | Q142: 0 | R142: =Q142*H142 -> 0 | S142: 0 | T142: =S142*H142 -> 0 | AR142: 4 | AT142: K | AU142: 2 | AY142: ROZPOCET | BE142: =IF(N142="základná",J142,0) -> 0 | BF142: =IF(N142="znížená",J142,0) -> 0 | BG142: =IF(N142="zákl. prenesená",J142,0) -> 0 | BH142: =IF(N142="zníž. prenesená",J142,0) -> 0 | BI142: =IF(N142="nulová",J142,0) -> 0 | BJ142: 2 | BK142: =ROUND(I142*H142,2) -> 0 | BL142: 4 | BM142: 26
C143: 8 | D143: K | E143: 979089012 | F143: Poplatok za skladovanie - betón, tehly, dlaždice (17 01 ), ostatné | G143: t | H143: 40.729 | J143: =ROUND(I143*H143,2) -> 0 | N143: znížená | P143: =O143*H143 -> 0 | Q143: 0 | R143: =Q143*H143 -> 0 | S143: 0 | T143: =S143*H143 -> 0 | AR143: 4 | AT143: K | AU143: 2 | AY143: ROZPOCET | BE143: =IF(N143="základná",J143,0) -> 0 | BF143: =IF(N143="znížená",J143,0) -> 0 | BG143: =IF(N143="zákl. prenesená",J143,0) -> 0 | BH143: =IF(N143="zníž. prenesená",J143,0) -> 0 | BI143: =IF(N143="nulová",J143,0) -> 0 | BJ143: 2 | BK143: =ROUND(I143*H143,2) -> 0 | BL143: 4 | BM143: 28
C144: 9 | D144: K | E144: 979089212 | F144: Poplatok za skladovanie - bitúmenové zmesi, uholný decht, dechtové výrobky (17 03 02 ), ostatné | G144: t | H144: 149.424 | J144: =ROUND(I144*H144,2) -> 0 | N144: znížená | P144: =O144*H144 -> 0 | Q144: 0 | R144: =Q144*H144 -> 0 | S144: 0 | T144: =S144*H144 -> 0 | AR144: 4 | AT144: K | AU144: 2 | AY144: ROZPOCET | BE144: =IF(N144="základná",J144,0) -> 0 | BF144: =IF(N144="znížená",J144,0) -> 0 | BG144: =IF(N144="zákl. prenesená",J144,0) -> 0 | BH144: =IF(N144="zníž. prenesená",J144,0) -> 0 | BI144: =IF(N144="nulová",J144,0) -> 0 | BJ144: 2 | BK144: =ROUND(I144*H144,2) -> 0 | BL144: 4 | BM144: 30
C145: 10 | D145: K | E145: 979089612 | F145: Poplatok za skladovanie - iné odpady zo stavieb a demolácií (17 09), ostatné | G145: t | H145: 39.556 | J145: =ROUND(I145*H145,2) -> 0 | N145: znížená | P145: =O145*H145 -> 0 | Q145: 0 | R145: =Q145*H145 -> 0 | S145: 0 | T145: =S145*H145 -> 0 | AR145: 4 | AT145: K | AU145: 2 | AY145: ROZPOCET | BE145: =IF(N145="základná",J145,0) -> 0 | BF145: =IF(N145="znížená",J145,0) -> 0 | BG145: =IF(N145="zákl. prenesená",J145,0) -> 0 | BH145: =IF(N145="zníž. prenesená",J145,0) -> 0 | BI145: =IF(N145="nulová",J145,0) -> 0 | BJ145: 2 | BK145: =ROUND(I145*H145,2) -> 0 | BL145: 4 | BM145: 32
D146: D | E146: PSV | F146: Práce a dodávky PSV | J146: =BK146 -> 0 | P146: =P147+P150+P153+P156 -> 0 | R146: =R147+R150+R153+R156 -> 0 | T146: =T147+T150+T153+T156 -> 0 | AR146: 2 | AT146: D | AU146: 0 | AY146: ROZPOCET | BK146: =BK147+BK150+BK153+BK156 -> 0
D147: D | E147: 712 | F147: Izolácie striech | J147: =BK147 -> 0 | P147: =SUM(P148:P149) -> 0 | R147: =SUM(R148:R149) -> 0 | T147: =SUM(T148:T149) -> 0 | AR147: 2 | AT147: D | AU147: 1 | AY147: ROZPOCET | BK147: =SUM(BK148:BK149) -> 0
C148: 11 | D148: K | E148: 712300833-01 | F148: Odstránenie povlakovej krytiny na strechách plochých 10° trojvrstvovej, -0,01400t (hr. odstraňovanej krytiny cca 20-30 mm) vč. demontáže vybraných odvetrávacích plechových hlavíc | G148: m2 | H148: 6823 | J148: =ROUND(I148*H148,2) -> 0 | N148: znížená | P148: =O148*H148 -> 0 | Q148: 0 | R148: =Q148*H148 -> 0 | S148: 0 | T148: =S148*H148 -> 0 | AR148: 16 | AT148: K | AU148: 2 | AY148: ROZPOCET | BE148: =IF(N148="základná",J148,0) -> 0 | BF148: =IF(N148="znížená",J148,0) -> 0 | BG148: =IF(N148="zákl. prenesená",J148,0) -> 0 | BH148: =IF(N148="zníž. prenesená",J148,0) -> 0 | BI148: =IF(N148="nulová",J148,0) -> 0 | BJ148: 2 | BK148: =ROUND(I148*H148,2) -> 0 | BL148: 16 | BM148: 36
C149: 12 | D149: K | E149: 998712202 | F149: Presun hmôt pre izoláciu povlakovej krytiny v objektoch výšky nad 6 do 12 m | G149: % | J149: =ROUND(I149*H149,2) -> 0 | N149: znížená | P149: =O149*H149 -> 0 | Q149: 0 | R149: =Q149*H149 -> 0 | S149: 0 | T149: =S149*H149 -> 0 | AR149: 16 | AT149: K | AU149: 2 | AY149: ROZPOCET | BE149: =IF(N149="základná",J149,0) -> 0 | BF149: =IF(N149="znížená",J149,0) -> 0 | BG149: =IF(N149="zákl. prenesená",J149,0) -> 0 | BH149: =IF(N149="zníž. prenesená",J149,0) -> 0 | BI149: =IF(N149="nulová",J149,0) -> 0 | BJ149: 2 | BK149: =ROUND(I149*H149,2) -> 0 | BL149: 16 | BM149: 54
D150: D | E150: 713 | F150: Izolácie tepelné | J150: =BK150 -> 0 | P150: =SUM(P151:P152) -> 0 | R150: =SUM(R151:R152) -> 0 | T150: =SUM(T151:T152) -> 0 | AR150: 2 | AT150: D | AU150: 1 | AY150: ROZPOCET | BK150: =SUM(BK151:BK152) -> 0
C151: 13 | D151: K | E151: 713000046 | F151: Odstránenie nadstresnej tepelnej izolácie striech plochých uchytené pribitím, kotvením z polystyrénu hr. do 10 cm -0,0058t | G151: m2 | H151: 6820 | J151: =ROUND(I151*H151,2) -> 0 | N151: znížená | P151: =O151*H151 -> 0 | Q151: 0 | R151: =Q151*H151 -> 0 | S151: 0 | T151: =S151*H151 -> 0 | AR151: 16 | AT151: K | AU151: 2 | AY151: ROZPOCET | BE151: =IF(N151="základná",J151,0) -> 0 | BF151: =IF(N151="znížená",J151,0) -> 0 | BG151: =IF(N151="zákl. prenesená",J151,0) -> 0 | BH151: =IF(N151="zníž. prenesená",J151,0) -> 0 | BI151: =IF(N151="nulová",J151,0) -> 0 | BJ151: 2 | BK151: =ROUND(I151*H151,2) -> 0 | BL151: 16 | BM151: 56
C152: 14 | D152: K | E152: 998713202 | F152: Presun hmôt pre izolácie tepelné v objektoch výšky nad 6 m do 12 m | G152: % | J152: =ROUND(I152*H152,2) -> 0 | N152: znížená | P152: =O152*H152 -> 0 | Q152: 0 | R152: =Q152*H152 -> 0 | S152: 0 | T152: =S152*H152 -> 0 | AR152: 16 | AT152: K | AU152: 2 | AY152: ROZPOCET | BE152: =IF(N152="základná",J152,0) -> 0 | BF152: =IF(N152="znížená",J152,0) -> 0 | BG152: =IF(N152="zákl. prenesená",J152,0) -> 0 | BH152: =IF(N152="zníž. prenesená",J152,0) -> 0 | BI152: =IF(N152="nulová",J152,0) -> 0 | BJ152: 2 | BK152: =ROUND(I152*H152,2) -> 0 | BL152: 16 | BM152: 72
D153: D | E153: 721 | F153: Zdravotech. vnútorná kanalizácia | J153: =BK153 -> 0 | P153: =SUM(P154:P155) -> 0 | R153: =SUM(R154:R155) -> 0 | T153: =SUM(T154:T155) -> 0 | AR153: 2 | AT153: D | AU153: 1 | AY153: ROZPOCET | BK153: =SUM(BK154:BK155) -> 0
C154: 15 | D154: K | E154: 721210823-01 | F154: Demontáž strešného vtoku DN 150, -0,02011t | G154: ks | H154: 12 | J154: =ROUND(I154*H154,2) -> 0 | N154: znížená | P154: =O154*H154 -> 0 | Q154: 0 | R154: =Q154*H154 -> 0 | S154: 0 | T154: =S154*H154 -> 0 | AR154: 16 | AT154: K | AU154: 2 | AY154: ROZPOCET | BE154: =IF(N154="základná",J154,0) -> 0 | BF154: =IF(N154="znížená",J154,0) -> 0 | BG154: =IF(N154="zákl. prenesená",J154,0) -> 0 | BH154: =IF(N154="zníž. prenesená",J154,0) -> 0 | BI154: =IF(N154="nulová",J154,0) -> 0 | BJ154: 2 | BK154: =ROUND(I154*H154,2) -> 0 | BL154: 16 | BM154: 74
C155: 16 | D155: K | E155: 998721202 | F155: Presun hmôt pre vnútornú kanalizáciu v objektoch výšky nad 6 do 12 m | G155: % | J155: =ROUND(I155*H155,2) -> 0 | N155: znížená | P155: =O155*H155 -> 0 | Q155: 0 | R155: =Q155*H155 -> 0 | S155: 0 | T155: =S155*H155 -> 0 | AR155: 16 | AT155: K | AU155: 2 | AY155: ROZPOCET | BE155: =IF(N155="základná",J155,0) -> 0 | BF155: =IF(N155="znížená",J155,0) -> 0 | BG155: =IF(N155="zákl. prenesená",J155,0) -> 0 | BH155: =IF(N155="zníž. prenesená",J155,0) -> 0 | BI155: =IF(N155="nulová",J155,0) -> 0 | BJ155: 2 | BK155: =ROUND(I155*H155,2) -> 0 | BL155: 16 | BM155: 76
D156: D | E156: 767 | F156: Konštrukcie doplnkové kovové | J156: =BK156 -> 0 | P156: =SUM(P157:P158) -> 0 | R156: =SUM(R157:R158) -> 0 | T156: =SUM(T157:T158) -> 0 | AR156: 2 | AT156: D | AU156: 1 | AY156: ROZPOCET | BK156: =SUM(BK157:BK158) -> 0
C157: 17 | D157: K | E157: 767311810-01 | F157: Demontáž svetlíkov všetkých typov, vrátane zasklenia, -0,21000t vč. prislúchajúcich klampiarskych konštr. | G157: m2 | H157: 122.6 | J157: =ROUND(I157*H157,2) -> 0 | N157: znížená | P157: =O157*H157 -> 0 | Q157: 0 | R157: =Q157*H157 -> 0 | S157: 0 | T157: =S157*H157 -> 0 | AR157: 16 | AT157: K | AU157: 2 | AY157: ROZPOCET | BE157: =IF(N157="základná",J157,0) -> 0 | BF157: =IF(N157="znížená",J157,0) -> 0 | BG157: =IF(N157="zákl. prenesená",J157,0) -> 0 | BH157: =IF(N157="zníž. prenesená",J157,0) -> 0 | BI157: =IF(N157="nulová",J157,0) -> 0 | BJ157: 2 | BK157: =ROUND(I157*H157,2) -> 0 | BL157: 16 | BM157: 94
C158: 18 | D158: K | E158: 998767202 | F158: Presun hmôt pre kovové stavebné doplnkové konštrukcie v objektoch výšky nad 6 do 12 m | G158: % | J158: =ROUND(I158*H158,2) -> 0 | N158: znížená | P158: =O158*H158 -> 0 | Q158: 0 | R158: =Q158*H158 -> 0 | S158: 0 | T158: =S158*H158 -> 0 | AR158: 16 | AT158: K | AU158: 2 | AY158: ROZPOCET | BE158: =IF(N158="základná",J158,0) -> 0 | BF158: =IF(N158="znížená",J158,0) -> 0 | BG158: =IF(N158="zákl. prenesená",J158,0) -> 0 | BH158: =IF(N158="zníž. prenesená",J158,0) -> 0 | BI158: =IF(N158="nulová",J158,0) -> 0 | BJ158: 2 | BK158: =ROUND(I158*H158,2) -> 0 | BL158: 16 | BM158: 98
C160: Poznámka
C161: K správnemu naceneniu výkazu výmer je potrebné naštudovanie PD. Naceniť je potrebné jestvujúci výkaz výmer podľa pokynov tendrového zadávateľa, resp. navrhu zmluvy o dielo. Výkaz výmer je neoddeliteľnou súčasťou celej PD. Materiál výrobkov je definovaný vo VV a zároveň sú položky jednoznačne určené a spárovateľné k výkresovej alebo textovej časti projektovej dokumentácie, ktorá dané materiály, v potrebných prípadoch ešte presnejšie podrobnejšie špecifikuje, upresňuje ci konkretizuje technicky, parametricky alebo referenčným výrobkom. Informácie o materiáloch výrobkov vo výkresovej časti alebo technických správach môžu byť aj výrazne rozsiahlejšie ako je možné uviesť technicky v texte názvu položky vo výkaze výmer, preto je potrebné naštudovanie projektovej dokumentácie a oceňovať výkaz výmer ako celok a neoddeliteňú súčasť projektovej dokumentácie. Výmery položiek presunov hmot PSV vyjadrených mernými jednotkami v percentách % si uchádzač výpĺna sám podla metodiky rozpočtárskych programov napr. Cenkros, ODIS. Dodávateľ si zahrnie do jednotkových cien všetky náklady podla ZoD, vrátane VRN-ov: napr. označenie staveniska, čistenie, opatrenia pre stav. v zimnom období, poistenie, geodet. merania a dokumentáciu, skúšky, vzorky, dielenskú dokumentáciu, vyčistenie všetkých dotknutých plôch od stavebného odpadu.

Sheet 03 - Výmena vonkajších vý...
L2: >> skryté stĺpce << | AT2: {6155522e-8b37-4d97-be03-7836770dc292}
AT3: 0
D4: KRYCÍ LIST ROZPOČTU | M4: v --- nižšie sa nachádzajú doplnkové a pomocné údaje k zostavám --- v | AT4: False
D6: Stavba:
E7: ='Rekapitulácia stavby'!K6 -> Zateplenie plniarne nealkoholických nápojov, Dunajská streda - časť búracie práce - aktualizácia jún 2023
D8: Objekt:
E9: 03 - Výmena vonkajších výplní otvorov - búracie práce
D11: JKSO: | I11: KS:
D12: Miesto: | F12: Dunajská Streda | I12: Dátum: | J12: ='Rekapitulácia stavby'!AN8 -> 8. 6. 2023
D14: Objednávateľ: | I14: IČO:
E15: McCarter, a.s. | I15: IČ DPH:
D17: Zhotoviteľ: | I17: IČO: | J17: ='Rekapitulácia stavby'!AN13 -> Vyplň údaj
E18: ='Rekapitulácia stavby'!E14 -> Vyplň údaj | I18: IČ DPH: | J18: ='Rekapitulácia stavby'!AN14 -> Vyplň údaj
D20: Projektant: | I20: IČO:
E21: Ing.arch. Miroslav Marko M.Arch. | I21: IČ DPH:
D23: Spracovateľ: | I23: IČO:
E24: Rosoft,s.r.o. | I24: IČ DPH:
D26: Poznámka:
D30: Náklady z rozpočtu | J30: =J96 -> 0
D31: Ostatné náklady | J31: =J104 -> 0
D32: Cena bez DPH | J32: =ROUND(J30 + J31, 2) -> 0
F34: Základ dane | I34: Sadzba dane | J34: Výška dane
D35: DPH | E35: základná | F35: =ROUND((SUM(BE104:BE111) + SUM(BE131:BE163)), 2) -> 0 | I35: 0.2 | J35: =ROUND(((SUM(BE104:BE111) + SUM(BE131:BE163))*I35), 2) -> 0
E36: znížená | F36: =ROUND((SUM(BF104:BF111) + SUM(BF131:BF163)), 2) -> 0 | I36: 0.2 | J36: =ROUND(((SUM(BF104:BF111) + SUM(BF131:BF163))*I36), 2) -> 0
E37: zákl. prenesená | F37: =ROUND((SUM(BG104:BG111) + SUM(BG131:BG163)), 2) -> 0 | I37: 0.2 | J37: =0 -> 0
E38: zníž. prenesená | F38: =ROUND((SUM(BH104:BH111) + SUM(BH131:BH163)), 2) -> 0 | I38: 0.2 | J38: =0 -> 0
E39: nulová | F39: =ROUND((SUM(BI104:BI111) + SUM(BI131:BI163)), 2) -> 0 | I39: 0 | J39: =0 -> 0
D41: Cena s DPH | G41: v | H41: EUR | J41: =SUM(J32:J39) -> 0
D50: Projektant | G50: Spracovateľ
D61: Dátum a podpis: | F61: Pečiatka | G61: Dátum a podpis: | J61: Pečiatka
D65: Objednávateľ | G65: Zhotoviteľ
D76: Dátum a podpis: | F76: Pečiatka | G76: Dátum a podpis: | J76: Pečiatka
C82: REKAPITULÁCIA ROZPOČTU
C84: Stavba:
E85: =E7 -> Zateplenie plniarne nealkoholických nápojov, Dunajská streda - časť búracie práce - aktualizácia jún 2023
C86: Objekt:
E87: =E9 -> 03 - Výmena vonkajších výplní otvorov - búracie práce
C89: Miesto: | F89: =F12 -> Dunajská Streda | I89: Dátum: | J89: =IF(J12="","",J12) -> 8. 6. 2023
C91: Objednávateľ: | F91: =E15 -> McCarter, a.s. | I91: Projektant: | J91: =E21 -> Ing.arch. Miroslav Marko M.Arch.
C92: Zhotoviteľ: | F92: =IF(E18="","",E18) -> Vyplň údaj | I92: Spracovateľ: | J92: =E24 -> Rosoft,s.r.o.
C94: Kód dielu - Popis | J94: Cena celkom [EUR]
C96: 1) Náklady z rozpočtu | J96: =J131 -> 0 | AU96: -1
D97: HSV - Práce a dodávky HSV | J97: =J132 -> 0
D98: 9 - Ostatné konštrukcie a práce-búranie | J98: =J133 -> 0
D99: PSV - Práce a dodávky PSV | J99: =J154 -> 0
D100: 764 - Konštrukcie klampiarske | J100: =J155 -> 0
D101: 767 - Konštrukcie doplnkové kovové | J101: =J158 -> 0
C104: 2) Ostatné náklady | J104: =ROUND(J105 + J106 + J107 + J108 + J109 + J110,2) -> 0 | N104: DPH
D105: GZS | J105: 0 | N105: znížená | AY105: VRN | BE105: =IF(N105="základná",J105,0) -> 0 | BF105: =IF(N105="znížená",J105,0) -> 0 | BG105: =IF(N105="zákl. prenesená",J105,0) -> 0 | BH105: =IF(N105="zníž. prenesená",J105,0) -> 0 | BI105: =IF(N105="nulová",J105,0) -> 0 | BJ105: 2
D106: Projektové práce | J106: 0 | N106: znížená | AY106: VRN | BE106: =IF(N106="základná",J106,0) -> 0 | BF106: =IF(N106="znížená",J106,0) -> 0 | BG106: =IF(N106="zákl. prenesená",J106,0) -> 0 | BH106: =IF(N106="zníž. prenesená",J106,0) -> 0 | BI106: =IF(N106="nulová",J106,0) -> 0 | BJ106: 2
D107: Sťažené podmienky | J107: 0 | N107: znížená | AY107: VRN | BE107: =IF(N107="základná",J107,0) -> 0 | BF107: =IF(N107="znížená",J107,0) -> 0 | BG107: =IF(N107="zákl. prenesená",J107,0) -> 0 | BH107: =IF(N107="zníž. prenesená",J107,0) -> 0 | BI107: =IF(N107="nulová",J107,0) -> 0 | BJ107: 2
D108: Vplyv prostredia | J108: 0 | N108: znížená | AY108: VRN | BE108: =IF(N108="základná",J108,0) -> 0 | BF108: =IF(N108="znížená",J108,0) -> 0 | BG108: =IF(N108="zákl. prenesená",J108,0) -> 0 | BH108: =IF(N108="zníž. prenesená",J108,0) -> 0 | BI108: =IF(N108="nulová",J108,0) -> 0 | BJ108: 2
D109: Iné VRN | J109: 0 | N109: znížená | AY109: VRN | BE109: =IF(N109="základná",J109,0) -> 0 | BF109: =IF(N109="znížená",J109,0) -> 0 | BG109: =IF(N109="zákl. prenesená",J109,0) -> 0 | BH109: =IF(N109="zníž. prenesená",J109,0) -> 0 | BI109: =IF(N109="nulová",J109,0) -> 0 | BJ109: 2
D110: Kompletačná činnosť | J110: =ROUND(J30*T110,2) -> 0 | N110: znížená | AY110: KOMPLETACNA | BE110: =IF(N110="základná",J110,0) -> 0 | BF110: =IF(N110="znížená",J110,0) -> 0 | BG110: =IF(N110="zákl. prenesená",J110,0) -> 0 | BH110: =IF(N110="zníž. prenesená",J110,0) -> 0 | BI110: =IF(N110="nulová",J110,0) -> 0 | BJ110: 2
C112: Celkové náklady za stavbu 1) + 2) | J112: =ROUND(J96+J104,2) -> 0
C118: ROZPOČET
C120: Stavba:
E121: =E7 -> Zateplenie plniarne nealkoholických nápojov, Dunajská streda - časť búracie práce - aktualizácia jún 2023
C122: Objekt:
E123: =E9 -> 03 - Výmena vonkajších výplní otvorov - búracie práce
C125: Miesto: | F125: =F12 -> Dunajská Streda | I125: Dátum: | J125: =IF(J12="","",J12) -> 8. 6. 2023
C127: Objednávateľ: | F127: =E15 -> McCarter, a.s. | I127: Projektant: | J127: =E21 -> Ing.arch. Miroslav Marko M.Arch.
C128: Zhotoviteľ: | F128: =IF(E18="","",E18) -> Vyplň údaj | I128: Spracovateľ: | J128: =E24 -> Rosoft,s.r.o.
C130: PČ | D130: Typ | E130: Kód | F130: Popis | G130: MJ | H130: Množstvo | I130: J.cena [EUR] | J130: Cena celkom [EUR] | K130: Cenová sústava | N130: DPH | O130: J. Nh [h] | P130: Nh celkom [h] | Q130: J. hmotnosť [t] | R130: Hmotnosť celkom [t] | S130: J. suť [t] | T130: Suť Celkom [t]
C131: Náklady z rozpočtu | J131: =BK131 -> 0 | P131: =P132+P154 -> 0 | R131: =R132+R154 -> 0 | T131: =T132+T154 -> 0 | AT131: D | AU131: -1 | BK131: =BK132+BK154 -> 0
D132: D | E132: HSV | F132: Práce a dodávky HSV | J132: =BK132 -> 0 | P132: =P133 -> 0 | R132: =R133 -> 0 | T132: =T133 -> 0 | AR132: 1 | AT132: D | AU132: 0 | AY132: ROZPOCET | BK132: =BK133 -> 0
D133: D | E133: 9 | F133: Ostatné konštrukcie a práce-búranie | J133: =BK133 -> 0 | P133: =SUM(P134:P153) -> 0 | R133: =SUM(R134:R153) -> 0 | T133: =SUM(T134:T153) -> 0 | AR133: 1 | AT133: D | AU133: 1 | AY133: ROZPOCET | BK133: =SUM(BK134:BK153) -> 0
C134: 1 | D134: K | E134: 962081141 | F134: Búranie muriva priečok zo sklenených tvárnic, hr. do 150 mm, -0,08200t | G134: m2 | H134: 96.985 | J134: =ROUND(I134*H134,2) -> 0 | N134: znížená | P134: =O134*H134 -> 0 | Q134: 0 | R134: =Q134*H134 -> 0 | S134: 0 | T134: =S134*H134 -> 0 | AR134: 4 | AT134: K | AU134: 2 | AY134: ROZPOCET | BE134: =IF(N134="základná",J134,0) -> 0 | BF134: =IF(N134="znížená",J134,0) -> 0 | BG134: =IF(N134="zákl. prenesená",J134,0) -> 0 | BH134: =IF(N134="zníž. prenesená",J134,0) -> 0 | BI134: =IF(N134="nulová",J134,0) -> 0 | BJ134: 2 | BK134: =ROUND(I134*H134,2) -> 0 | BL134: 4 | BM134: 20
C135: 2 | D135: K | E135: 968061112 | F135: Vyvesenie dreveného okenného krídla do suti plochy do 1, 5 m2, -0,01200t | G135: ks | H135: 7 | J135: =ROUND(I135*H135,2) -> 0 | N135: znížená | P135: =O135*H135 -> 0 | Q135: 0 | R135: =Q135*H135 -> 0 | S135: 0 | T135: =S135*H135 -> 0 | AR135: 4 | AT135: K | AU135: 2 | AY135: ROZPOCET | BE135: =IF(N135="základná",J135,0) -> 0 | BF135: =IF(N135="znížená",J135,0) -> 0 | BG135: =IF(N135="zákl. prenesená",J135,0) -> 0 | BH135: =IF(N135="zníž. prenesená",J135,0) -> 0 | BI135: =IF(N135="nulová",J135,0) -> 0 | BJ135: 2 | BK135: =ROUND(I135*H135,2) -> 0 | BL135: 4 | BM135: 22
C136: 3 | D136: K | E136: 968061113 | F136: Vyvesenie dreveného okenného krídla do suti plochy nad 1, 5 m2, -0,01600t | G136: ks | H136: 62 | J136: =ROUND(I136*H136,2) -> 0 | N136: znížená | P136: =O136*H136 -> 0 | Q136: 0 | R136: =Q136*H136 -> 0 | S136: 0 | T136: =S136*H136 -> 0 | AR136: 4 | AT136: K | AU136: 2 | AY136: ROZPOCET | BE136: =IF(N136="základná",J136,0) -> 0 | BF136: =IF(N136="znížená",J136,0) -> 0 | BG136: =IF(N136="zákl. prenesená",J136,0) -> 0 | BH136: =IF(N136="zníž. prenesená",J136,0) -> 0 | BI136: =IF(N136="nulová",J136,0) -> 0 | BJ136: 2 | BK136: =ROUND(I136*H136,2) -> 0 | BL136: 4 | BM136: 24
C137: 4 | D137: K | E137: 968061125 | F137: Vyvesenie dreveného dverného krídla do suti plochy do 2 m2, -0,02400t | G137: ks | H137: 1 | J137: =ROUND(I137*H137,2) -> 0 | N137: znížená | P137: =O137*H137 -> 0 | Q137: 0 | R137: =Q137*H137 -> 0 | S137: 0 | T137: =S137*H137 -> 0 | AR137: 4 | AT137: K | AU137: 2 | AY137: ROZPOCET | BE137: =IF(N137="základná",J137,0) -> 0 | BF137: =IF(N137="znížená",J137,0) -> 0 | BG137: =IF(N137="zákl. prenesená",J137,0) -> 0 | BH137: =IF(N137="zníž. prenesená",J137,0) -> 0 | BI137: =IF(N137="nulová",J137,0) -> 0 | BJ137: 2 | BK137: =ROUND(I137*H137,2) -> 0 | BL137: 4 | BM137: 26
C138: 5 | D138: K | E138: 968062356 | F138: Vybúranie drevených rámov okien dvojitých alebo zdvojených, plochy do 4 m2, -0,05400t | G138: m2 | H138: 307.47 | J138: =ROUND(I138*H138,2) -> 0 | N138: znížená | P138: =O138*H138 -> 0 | Q138: 0 | R138: =Q138*H138 -> 0 | S138: 0 | T138: =S138*H138 -> 0 | AR138: 4 | AT138: K | AU138: 2 | AY138: ROZPOCET | BE138: =IF(N138="základná",J138,0) -> 0 | BF138: =IF(N138="znížená",J138,0) -> 0 | BG138: =IF(N138="zákl. prenesená",J138,0) -> 0 | BH138: =IF(N138="zníž. prenesená",J138,0) -> 0 | BI138: =IF(N138="nulová",J138,0) -> 0 | BJ138: 2 | BK138: =ROUND(I138*H138,2) -> 0 | BL138: 4 | BM138: 28
C139: 6 | D139: K | E139: 968071112 | F139: Vyvesenie kovového okenného krídla do suti plochy do 1, 5 m2 | G139: ks | H139: 18 | J139: =ROUND(I139*H139,2) -> 0 | N139: znížená | P139: =O139*H139 -> 0 | Q139: 0 | R139: =Q139*H139 -> 0 | S139: 0 | T139: =S139*H139 -> 0 | AR139: 4 | AT139: K | AU139: 2 | AY139: ROZPOCET | BE139: =IF(N139="základná",J139,0) -> 0 | BF139: =IF(N139="znížená",J139,0) -> 0 | BG139: =IF(N139="zákl. prenesená",J139,0) -> 0 | BH139: =IF(N139="zníž. prenesená",J139,0) -> 0 | BI139: =IF(N139="nulová",J139,0) -> 0 | BJ139: 2 | BK139: =ROUND(I139*H139,2) -> 0 | BL139: 4 | BM139: 30
C140: 7 | D140: K | E140: 968071125 | F140: Vyvesenie kovového dverného krídla do suti plochy do 2 m2 | G140: ks | H140: 3 | J140: =ROUND(I140*H140,2) -> 0 | N140: znížená | P140: =O140*H140 -> 0 | Q140: 0 | R140: =Q140*H140 -> 0 | S140: 0 | T140: =S140*H140 -> 0 | AR140: 4 | AT140: K | AU140: 2 | AY140: ROZPOCET | BE140: =IF(N140="základná",J140,0) -> 0 | BF140: =IF(N140="znížená",J140,0) -> 0 | BG140: =IF(N140="zákl. prenesená",J140,0) -> 0 | BH140: =IF(N140="zníž. prenesená",J140,0) -> 0 | BI140: =IF(N140="nulová",J140,0) -> 0 | BJ140: 2 | BK140: =ROUND(I140*H140,2) -> 0 | BL140: 4 | BM140: 32
C141: 8 | D141: K | E141: 968071126 | F141: Vyvesenie kovového dverného krídla do suti plochy nad 2 m2 | G141: ks | H141: 12 | J141: =ROUND(I141*H141,2) -> 0 | N141: znížená | P141: =O141*H141 -> 0 | Q141: 0 | R141: =Q141*H141 -> 0 | S141: 0 | T141: =S141*H141 -> 0 | AR141: 4 | AT141: K | AU141: 2 | AY141: ROZPOCET | BE141: =IF(N141="základná",J141,0) -> 0 | BF141: =IF(N141="znížená",J141,0) -> 0 | BG141: =IF(N141="zákl. prenesená",J141,0) -> 0 | BH141: =IF(N141="zníž. prenesená",J141,0) -> 0 | BI141: =IF(N141="nulová",J141,0) -> 0 | BJ141: 2 | BK141: =ROUND(I141*H141,2) -> 0 | BL141: 4 | BM141: 34
C142: 9 | D142: K | E142: 968071137-01 | F142: Vyvesenie posuvného kovového krídla vrát do suti plochy nad 4 m2 vč. príslušenstva | G142: ks | H142: 3 | J142: =ROUND(I142*H142,2) -> 0 | N142: znížená | P142: =O142*H142 -> 0 | Q142: 0 | R142: =Q142*H142 -> 0 | S142: 0 | T142: =S142*H142 -> 0 | AR142: 4 | AT142: K | AU142: 2 | AY142: ROZPOCET | BE142: =IF(N142="základná",J142,0) -> 0 | BF142: =IF(N142="znížená",J142,0) -> 0 | BG142: =IF(N142="zákl. prenesená",J142,0) -> 0 | BH142: =IF(N142="zníž. prenesená",J142,0) -> 0 | BI142: =IF(N142="nulová",J142,0) -> 0 | BJ142: 2 | BK142: =ROUND(I142*H142,2) -> 0 | BL142: 4 | BM142: 36
C143: 10 | D143: K | E143: 968072357 | F143: Vybúranie kovových rámov okien dvojitých alebo zdvojených, plochy nad 4 m2, -0,05000t | G143: m2 | H143: 24.75 | J143: =ROUND(I143*H143,2) -> 0 | N143: znížená | P143: =O143*H143 -> 0 | Q143: 0 | R143: =Q143*H143 -> 0 | S143: 0 | T143: =S143*H143 -> 0 | AR143: 4 | AT143: K | AU143: 2 | AY143: ROZPOCET | BE143: =IF(N143="základná",J143,0) -> 0 | BF143: =IF(N143="znížená",J143,0) -> 0 | BG143: =IF(N143="zákl. prenesená",J143,0) -> 0 | BH143: =IF(N143="zníž. prenesená",J143,0) -> 0 | BI143: =IF(N143="nulová",J143,0) -> 0 | BJ143: 2 | BK143: =ROUND(I143*H143,2) -> 0 | BL143: 4 | BM143: 38
C144: 11 | D144: K | E144: 968072455 | F144: Vybúranie kovových dverových zárubní plochy do 2 m2, -0,07600t | G144: m2 | H144: 2 | J144: =ROUND(I144*H144,2) -> 0 | N144: znížená | P144: =O144*H144 -> 0 | Q144: 0 | R144: =Q144*H144 -> 0 | S144: 0 | T144: =S144*H144 -> 0 | AR144: 4 | AT144: K | AU144: 2 | AY144: ROZPOCET | BE144: =IF(N144="základná",J144,0) -> 0 | BF144: =IF(N144="znížená",J144,0) -> 0 | BG144: =IF(N144="zákl. prenesená",J144,0) -> 0 | BH144: =IF(N144="zníž. prenesená",J144,0) -> 0 | BI144: =IF(N144="nulová",J144,0) -> 0 | BJ144: 2 | BK144: =ROUND(I144*H144,2) -> 0 | BL144: 4 | BM144: 40
C145: 12 | D145: K | E145: 968072456 | F145: Vybúranie kovových dverových zárubní plochy nad 2 m2, -0,06300t | G145: m2 | H145: 34.4 | J145: =ROUND(I145*H145,2) -> 0 | N145: znížená | P145: =O145*H145 -> 0 | Q145: 0 | R145: =Q145*H145 -> 0 | S145: 0 | T145: =S145*H145 -> 0 | AR145: 4 | AT145: K | AU145: 2 | AY145: ROZPOCET | BE145: =IF(N145="základná",J145,0) -> 0 | BF145: =IF(N145="znížená",J145,0) -> 0 | BG145: =IF(N145="zákl. prenesená",J145,0) -> 0 | BH145: =IF(N145="zníž. prenesená",J145,0) -> 0 | BI145: =IF(N145="nulová",J145,0) -> 0 | BJ145: 2 | BK145: =ROUND(I145*H145,2) -> 0 | BL145: 4 | BM145: 42
... C153: 20 | D153: K | E153: 979089012 | F153: Poplatok za skladovanie - betón, tehly, dlaždice (17 01 ), ostatné | G153: t | H153: 34.349 | J153: =ROUND(I153*H153,2) -> 0 | N153: znížená | P153: =O153*H153 -> 0 | Q153: 0 | R153: =Q153*H153 -> 0 | S153: 0 | T153: =S153*H153 -> 0 | AR153: 4 | AT153: K | AU153: 2 | AY153: ROZPOCET | BE153: =IF(N153="základná",J153,0) -> 0 | BF153: =IF(N153="znížená",J153,0) -> 0 | BG153: =IF(N153="zákl. prenesená",J153,0) -> 0 | BH153: =IF(N153="zníž. prenesená",J153,0) -> 0 | BI153: =IF(N153="nulová",J153,0) -> 0 | BJ153: 2 | BK153: =ROUND(I153*H153,2) -> 0 | BL153: 4 | BM153: 58
D154: D | E154: PSV | F154: Práce a dodávky PSV | J154: =BK154 -> 0 | P154: =P155+P158 -> 0 | R154: =R155+R158 -> 0 | T154: =T155+T158 -> 0 | AR154: 2 | AT154: D | AU154: 0 | AY154: ROZPOCET | BK154: =BK155+BK158 -> 0
D155: D | E155: 764 | F155: Konštrukcie klampiarske | J155: =BK155 -> 0 | P155: =SUM(P156:P157) -> 0 | R155: =SUM(R156:R157) -> 0 | T155: =SUM(T156:T157) -> 0 | AR155: 2 | AT155: D | AU155: 1 | AY155: ROZPOCET | BK155: =SUM(BK156:BK157) -> 0
C156: 21 | D156: K | E156: 764410850 | F156: Demontáž oplechovania parapetov rš od 100 do 330 mm, -0,00135t | G156: m | H156: 514.3 | J156: =ROUND(I156*H156,2) -> 0 | N156: znížená | P156: =O156*H156 -> 0 | Q156: 0 | R156: =Q156*H156 -> 0 | S156: 0 | T156: =S156*H156 -> 0 | AR156: 16 | AT156: K | AU156: 2 | AY156: ROZPOCET | BE156: =IF(N156="základná",J156,0) -> 0 | BF156: =IF(N156="znížená",J156,0) -> 0 | BG156: =IF(N156="zákl. prenesená",J156,0) -> 0 | BH156: =IF(N156="zníž. prenesená",J156,0) -> 0 | BI156: =IF(N156="nulová",J156,0) -> 0 | BJ156: 2 | BK156: =ROUND(I156*H156,2) -> 0 | BL156: 16 | BM156: 62
C157: 22 | D157: K | E157: 998764202 | F157: Presun hmôt pre konštrukcie klampiarske v objektoch výšky nad 6 do 12 m | G157: % | J157: =ROUND(I157*H157,2) -> 0 | N157: znížená | P157: =O157*H157 -> 0 | Q157: 0 | R157: =Q157*H157 -> 0 | S157: 0 | T157: =S157*H157 -> 0 | AR157: 16 | AT157: K | AU157: 2 | AY157: ROZPOCET | BE157: =IF(N157="základná",J157,0) -> 0 | BF157: =IF(N157="znížená",J157,0) -> 0 | BG157: =IF(N157="zákl. prenesená",J157,0) -> 0 | BH157: =IF(N157="zníž. prenesená",J157,0) -> 0 | BI157: =IF(N157="nulová",J157,0) -> 0 | BJ157: 2 | BK157: =ROUND(I157*H157,2) -> 0 | BL157: 16 | BM157: 64
D158: D | E158: 767 | F158: Konštrukcie doplnkové kovové | J158: =BK158 -> 0 | P158: =SUM(P159:P163) -> 0 | R158: =SUM(R159:R163) -> 0 | T158: =SUM(T159:T163) -> 0 | AR158: 2 | AT158: D | AU158: 1 | AY158: ROZPOCET | BK158: =SUM(BK159:BK163) -> 0
C159: 23 | D159: K | E159: 767411811 | F159: Demontáž opláštenia sendvičovými stenovými panelmi so skrytým zámkom na OK -0,0128t | G159: m2 | H159: 22.4 | J159: =ROUND(I159*H159,2) -> 0 | N159: znížená | P159: =O159*H159 -> 0 | Q159: 0 | R159: =Q159*H159 -> 0 | S159: 0 | T159: =S159*H159 -> 0 | AR159: 16 | AT159: K | AU159: 2 | AY159: ROZPOCET | BE159: =IF(N159="základná",J159,0) -> 0 | BF159: =IF(N159="znížená",J159,0) -> 0 | BG159: =IF(N159="zákl. prenesená",J159,0) -> 0 | BH159: =IF(N159="zníž. prenesená",J159,0) -> 0 | BI159: =IF(N159="nulová",J159,0) -> 0 | BJ159: 2 | BK159: =ROUND(I159*H159,2) -> 0 | BL159: 16 | BM159: 78
C160: 24 | D160: K | E160: 767610012 | F160: Vyvesenie alebo zavesenie oceľových krídiel okien, pre vykonanie stavebných zmien, plochy nad 1,5 m2 | G160: ks | H160: 1 | J160: =ROUND(I160*H160,2) -> 0 | N160: znížená | P160: =O160*H160 -> 0 | Q160: 0 | R160: =Q160*H160 -> 0 | S160: 0 | T160: =S160*H160 -> 0 | AR160: 16 | AT160: K | AU160: 2 | AY160: ROZPOCET | BE160: =IF(N160="základná",J160,0) -> 0 | BF160: =IF(N160="znížená",J160,0) -> 0 | BG160: =IF(N160="zákl. prenesená",J160,0) -> 0 | BH160: =IF(N160="zníž. prenesená",J160,0) -> 0 | BI160: =IF(N160="nulová",J160,0) -> 0 | BJ160: 2 | BK160: =ROUND(I160*H160,2) -> 0 | BL160: 16 | BM160: 80
C161: 25 | D161: K | E161: 767640011 | F161: Vyvesenie alebo zavesenie oceľových krídiel dverí, pre vykonanie stavebných zmien, plochy do 2 m2 | G161: ks | H161: 3 | J161: =ROUND(I161*H161,2) -> 0 | N161: znížená | P161: =O161*H161 -> 0 | Q161: 0 | R161: =Q161*H161 -> 0 | S161: 0 | T161: =S161*H161 -> 0 | AR161: 16 | AT161: K | AU161: 2 | AY161: ROZPOCET | BE161: =IF(N161="základná",J161,0) -> 0 | BF161: =IF(N161="znížená",J161,0) -> 0 | BG161: =IF(N161="zákl. prenesená",J161,0) -> 0 | BH161: =IF(N161="zníž. prenesená",J161,0) -> 0 | BI161: =IF(N161="nulová",J161,0) -> 0 | BJ161: 2 | BK161: =ROUND(I161*H161,2) -> 0 | BL161: 16 | BM161: 82
C162: 26 | D162: K | E162: 767640012 | F162: Vyvesenie alebo zavesenie oceľových krídiel dverí, pre vykonanie stavebných zmien, plochy nad 2 m2 | G162: ks | H162: 4 | J162: =ROUND(I162*H162,2) -> 0 | N162: znížená | P162: =O162*H162 -> 0 | Q162: 0 | R162: =Q162*H162 -> 0 | S162: 0 | T162: =S162*H162 -> 0 | AR162: 16 | AT162: K | AU162: 2 | AY162: ROZPOCET | BE162: =IF(N162="základná",J162,0) -> 0 | BF162: =IF(N162="znížená",J162,0) -> 0 | BG162: =IF(N162="zákl. prenesená",J162,0) -> 0 | BH162: =IF(N162="zníž. prenesená",J162,0) -> 0 | BI162: =IF(N162="nulová",J162,0) -> 0 | BJ162: 2 | BK162: =ROUND(I162*H162,2) -> 0 | BL162: 16 | BM162: 84
C163: 27 | D163: K | E163: 998767202 | F163: Presun hmôt pre kovové stavebné doplnkové konštrukcie v objektoch výšky nad 6 do 12 m | G163: % | J163: =ROUND(I163*H163,2) -> 0 | N163: znížená | P163: =O163*H163 -> 0 | Q163: 0 | R163: =Q163*H163 -> 0 | S163: 0 | T163: =S163*H163 -> 0 | AR163: 16 | AT163: K | AU163: 2 | AY163: ROZPOCET | BE163: =IF(N163="základná",J163,0) -> 0 | BF163: =IF(N163="znížená",J163,0) -> 0 | BG163: =IF(N163="zákl. prenesená",J163,0) -> 0 | BH163: =IF(N163="zníž. prenesená",J163,0) -> 0 | BI163: =IF(N163="nulová",J163,0) -> 0 | BJ163: 2 | BK163: =ROUND(I163*H163,2) -> 0 | BL163: 16 | BM163: 102
C165: Poznámka
C166: K správnemu naceneniu výkazu výmer je potrebné naštudovanie PD. Naceniť je potrebné jestvujúci výkaz výmer podľa pokynov tendrového zadávateľa, resp. navrhu zmluvy o dielo. Výkaz výmer je neoddeliteľnou súčasťou celej PD. Materiál výrobkov je definovaný vo VV a zároveň sú položky jednoznačne určené a spárovateľné k výkresovej alebo textovej časti projektovej dokumentácie, ktorá dané materiály, v potrebných prípadoch ešte presnejšie podrobnejšie špecifikuje, upresňuje ci konkretizuje technicky, parametricky alebo referenčným výrobkom. Informácie o materiáloch výrobkov vo výkresovej časti alebo technických správach môžu byť aj výrazne rozsiahlejšie ako je možné uviesť technicky v texte názvu položky vo výkaze výmer, preto je potrebné naštudovanie projektovej dokumentácie a oceňovať výkaz výmer ako celok a neoddeliteňú súčasť projektovej dokumentácie. Výmery položiek presunov hmot PSV vyjadrených mernými jednotkami v percentách % si uchádzač výpĺna sám podla metodiky rozpočtárskych programov napr. Cenkros, ODIS. Dodávateľ si zahrnie do jednotkových cien všetky náklady podla ZoD, vrátane VRN-ov: napr. označenie staveniska, čistenie, opatrenia pre stav. v zimnom období, poistenie, geodet. merania a dokumentáciu, skúšky, vzorky, dielenskú dokumentáciu, vyčistenie všetkých dotknutých plôch od stavebného odpadu.

Sheet 4.1 - Odstránenie a likvi...
L2: >> skryté stĺpce << | AT2: {1e64bd46-4f07-44fe-a95c-0d824f41a5da}
AT3: 0
D4: KRYCÍ LIST ROZPOČTU | M4: v --- nižšie sa nachádzajú doplnkové a pomocné údaje k zostavám --- v | AT4: False
D6: Stavba:
E7: ='Rekapitulácia stavby'!K6 -> Zateplenie plniarne nealkoholických nápojov, Dunajská streda - časť búracie práce - aktualizácia jún 2023
D8: Objekt:
E9: 4.1 - Odstránenie a likvidácia existujúceho bleskozvodu - búracie práce
D11: JKSO: | I11: KS:
D12: Miesto: | F12: Dunajská Streda | I12: Dátum: | J12: ='Rekapitulácia stavby'!AN8 -> 8. 6. 2023
D14: Objednávateľ: | I14: IČO:
E15: McCarter, a.s. | I15: IČ DPH:
D17: Zhotoviteľ: | I17: IČO: | J17: ='Rekapitulácia stavby'!AN13 -> Vyplň údaj
E18: ='Rekapitulácia stavby'!E14 -> Vyplň údaj | I18: IČ DPH: | J18: ='Rekapitulácia stavby'!AN14 -> Vyplň údaj
D20: Projektant: | I20: IČO:
E21: Ing.arch. Miroslav Marko M.Arch. | I21: IČ DPH:
D23: Spracovateľ: | I23: IČO:
E24: Rosoft,s.r.o. | I24: IČ DPH:
D26: Poznámka:
D30: Náklady z rozpočtu | J30: =J96 -> 0
D31: Ostatné náklady | J31: =J101 -> 0
D32: Cena bez DPH | J32: =ROUND(J30 + J31, 2) -> 0
F34: Základ dane | I34: Sadzba dane | J34: Výška dane
D35: DPH | E35: základná | F35: =ROUND((SUM(BE101:BE108) + SUM(BE128:BE148)), 2) -> 0 | I35: 0.2 | J35: =ROUND(((SUM(BE101:BE108) + SUM(BE128:BE148))*I35), 2) -> 0
E36: znížená | F36: =ROUND((SUM(BF101:BF108) + SUM(BF128:BF148)), 2) -> 0 | I36: 0.2 | J36: =ROUND(((SUM(BF101:BF108) + SUM(BF128:BF148))*I36), 2) -> 0
E37: zákl. prenesená | F37: =ROUND((SUM(BG101:BG108) + SUM(BG128:BG148)), 2) -> 0 | I37: 0.2 | J37: =0 -> 0
E38: zníž. prenesená | F38: =ROUND((SUM(BH101:BH108) + SUM(BH128:BH148)), 2) -> 0 | I38: 0.2 | J38: =0 -> 0
E39: nulová | F39: =ROUND((SUM(BI101:BI108) + SUM(BI128:BI148)), 2) -> 0 | I39: 0 | J39: =0 -> 0
D41: Cena s DPH | G41: v | H41: EUR | J41: =SUM(J32:J39) -> 0
D50: Projektant | G50: Spracovateľ
D61: Dátum a podpis: | F61: Pečiatka | G61: Dátum a podpis: | J61: Pečiatka
D65: Objednávateľ | G65: Zhotoviteľ
D76: Dátum a podpis: | F76: Pečiatka | G76: Dátum a podpis: | J76: Pečiatka
C82: REKAPITULÁCIA ROZPOČTU
C84: Stavba:
E85: =E7 -> Zateplenie plniarne nealkoholických nápojov, Dunajská streda - časť búracie práce - aktualizácia jún 2023
C86: Objekt:
E87: =E9 -> 4.1 - Odstránenie a likvidácia existujúceho bleskozvodu - búracie práce
C89: Miesto: | F89: =F12 -> Dunajská Streda | I89: Dátum: | J89: =IF(J12="","",J12) -> 8. 6. 2023
C91: Objednávateľ: | F91: =E15 -> McCarter, a.s. | I91: Projektant: | J91: =E21 -> Ing.arch. Miroslav Marko M.Arch.
C92: Zhotoviteľ: | F92: =IF(E18="","",E18) -> Vyplň údaj | I92: Spracovateľ: | J92: =E24 -> Rosoft,s.r.o.
C94: Kód dielu - Popis | J94: Cena celkom [EUR]
C96: 1) Náklady z rozpočtu | J96: =J128 -> 0 | AU96: -1
D97: M - Práce a dodávky M | J97: =J129 -> 0
D98: 21-M - Demontáže | J98: =J130 -> 0
C101: 2) Ostatné náklady | J101: =ROUND(J102 + J103 + J104 + J105 + J106 + J107,2) -> 0 | N101: DPH
D102: GZS | J102: 0 | N102: znížená | AY102: VRN | BE102: =IF(N102="základná",J102,0) -> 0 | BF102: =IF(N102="znížená",J102,0) -> 0 | BG102: =IF(N102="zákl. prenesená",J102,0) -> 0 | BH102: =IF(N102="zníž. prenesená",J102,0) -> 0 | BI102: =IF(N102="nulová",J102,0) -> 0 | BJ102: 2
D103: Projektové práce | J103: 0 | N103: znížená | AY103: VRN | BE103: =IF(N103="základná",J103,0) -> 0 | BF103: =IF(N103="znížená",J103,0) -> 0 | BG103: =IF(N103="zákl. prenesená",J103,0) -> 0 | BH103: =IF(N103="zníž. prenesená",J103,0) -> 0 | BI103: =IF(N103="nulová",J103,0) -> 0 | BJ103: 2
D104: Sťažené podmienky | J104: 0 | N104: znížená | AY104: VRN | BE104: =IF(N104="základná",J104,0) -> 0 | BF104: =IF(N104="znížená",J104,0) -> 0 | BG104: =IF(N104="zákl. prenesená",J104,0) -> 0 | BH104: =IF(N104="zníž. prenesená",J104,0) -> 0 | BI104: =IF(N104="nulová",J104,0) -> 0 | BJ104: 2
D105: Vplyv prostredia | J105: 0 | N105: znížená | AY105: VRN | BE105: =IF(N105="základná",J105,0) -> 0 | BF105: =IF(N105="znížená",J105,0) -> 0 | BG105: =IF(N105="zákl. prenesená",J105,0) -> 0 | BH105: =IF(N105="zníž. prenesená",J105,0) -> 0 | BI105: =IF(N105="nulová",J105,0) -> 0 | BJ105: 2
D106: Iné VRN | J106: 0 | N106: znížená | AY106: VRN | BE106: =IF(N106="základná",J106,0) -> 0 | BF106: =IF(N106="znížená",J106,0) -> 0 | BG106: =IF(N106="zákl. prenesená",J106,0) -> 0 | BH106: =IF(N106="zníž. prenesená",J106,0) -> 0 | BI106: =IF(N106="nulová",J106,0) -> 0 | BJ106: 2
D107: Kompletačná činnosť | J107: =ROUND(J30*T107,2) -> 0 | N107: znížená | AY107: KOMPLETACNA | BE107: =IF(N107="základná",J107,0) -> 0 | BF107: =IF(N107="znížená",J107,0) -> 0 | BG107: =IF(N107="zákl. prenesená",J107,0) -> 0 | BH107: =IF(N107="zníž. prenesená",J107,0) -> 0 | BI107: =IF(N107="nulová",J107,0) -> 0 | BJ107: 2
C109: Celkové náklady za stavbu 1) + 2) | J109: =ROUND(J96+J101,2) -> 0
C115: ROZPOČET
C117: Stavba:
E118: =E7 -> Zateplenie plniarne nealkoholických nápojov, Dunajská streda - časť búracie práce - aktualizácia jún 2023
C119: Objekt:
E120: =E9 -> 4.1 - Odstránenie a likvidácia existujúceho bleskozvodu - búracie práce
C122: Miesto: | F122: =F12 -> Dunajská Streda | I122: Dátum: | J122: =IF(J12="","",J12) -> 8. 6. 2023
C124: Objednávateľ: | F124: =E15 -> McCarter, a.s. | I124: Projektant: | J124: =E21 -> Ing.arch. Miroslav Marko M.Arch.
C125: Zhotoviteľ: | F125: =IF(E18="","",E18) -> Vyplň údaj | I125: Spracovateľ: | J125: =E24 -> Rosoft,s.r.o.
C127: PČ | D127: Typ | E127: Kód | F127: Popis | G127: MJ | H127: Množstvo | I127: J.cena [EUR] | J127: Cena celkom [EUR] | K127: Cenová sústava | N127: DPH | O127: J. Nh [h] | P127: Nh celkom [h] | Q127: J. hmotnosť [t] | R127: Hmotnosť celkom [t] | S127: J. suť [t] | T127: Suť Celkom [t]
C128: Náklady z rozpočtu | J128: =BK128 -> 0 | P128: =P129 -> 0 | R128: =R129 -> 0 | T128: =T129 -> 0 | AT128: D | AU128: -1 | BK128: =BK129 -> 0
D129: D | E129: M | F129: Práce a dodávky M | J129: =BK129 -> 0 | P129: =P130 -> 0 | R129: =R130 -> 0 | T129: =T130 -> 0 | AR129: 3 | AT129: D | AU129: 0 | AY129: ROZPOCET | BK129: =BK130 -> 0
D130: D | E130: 21-M | F130: Demontáže | J130: =BK130 -> 0 | P130: =SUM(P131:P148) -> 0 | R130: =SUM(R131:R148) -> 0 | T130: =SUM(T131:T148) -> 0 | AR130: 3 | AT130: D | AU130: 1 | AY130: ROZPOCET | BK130: =SUM(BK131:BK148) -> 0
C131: 1 | D131: K | E131: 210220001 | F131: Uzemňovacie vedenie na povrchu FeZn | G131: m | H131: 1325 | J131: =ROUND(I131*H131,2) -> 0 | N131: znížená | P131: =O131*H131 -> 0 | Q131: 0 | R131: =Q131*H131 -> 0 | S131: 0 | T131: =S131*H131 -> 0 | AR131: 64 | AT131: K | AU131: 2 | AY131: ROZPOCET | BE131: =IF(N131="základná",J131,0) -> 0 | BF131: =IF(N131="znížená",J131,0) -> 0 | BG131: =IF(N131="zákl. prenesená",J131,0) -> 0 | BH131: =IF(N131="zníž. prenesená",J131,0) -> 0 | BI131: =IF(N131="nulová",J131,0) -> 0 | BJ131: 2 | BK131: =ROUND(I131*H131,2) -> 0 | BL131: 64 | BM131: 2
C132: 2 | D132: K | E132: 210220001 | F132: Uzemňovacie vedenie na povrchu FeZn | G132: m | H132: 90 | J132: =ROUND(I132*H132,2) -> 0 | N132: znížená | P132: =O132*H132 -> 0 | Q132: 0 | R132: =Q132*H132 -> 0 | S132: 0 | T132: =S132*H132 -> 0 | AR132: 64 | AT132: K | AU132: 2 | AY132: ROZPOCET | BE132: =IF(N132="základná",J132,0) -> 0 | BF132: =IF(N132="znížená",J132,0) -> 0 | BG132: =IF(N132="zákl. prenesená",J132,0) -> 0 | BH132: =IF(N132="zníž. prenesená",J132,0) -> 0 | BI132: =IF(N132="nulová",J132,0) -> 0 | BJ132: 2 | BK132: =ROUND(I132*H132,2) -> 0 | BL132: 64 | BM132: 4
C133: 3 | D133: K | E133: 210220020 | F133: Uzemňovacie vedenie v zemi FeZn | G133: m | H133: 270 | J133: =ROUND(I133*H133,2) -> 0 | N133: znížená | P133: =O133*H133 -> 0 | Q133: 0 | R133: =Q133*H133 -> 0 | S133: 0 | T133: =S133*H133 -> 0 | AR133: 64 | AT133: K | AU133: 2 | AY133: ROZPOCET | BE133: =IF(N133="základná",J133,0) -> 0 | BF133: =IF(N133="znížená",J133,0) -> 0 | BG133: =IF(N133="zákl. prenesená",J133,0) -> 0 | BH133: =IF(N133="zníž. prenesená",J133,0) -> 0 | BI133: =IF(N133="nulová",J133,0) -> 0 | BJ133: 2 | BK133: =ROUND(I133*H133,2) -> 0 | BL133: 64 | BM133: 6
C134: 4 | D134: K | E134: 210220101 | F134: Podpery vedenia FeZn na plochú strechu PV21 | G134: ks | H134: 800 | J134: =ROUND(I134*H134,2) -> 0 | N134: znížená | P134: =O134*H134 -> 0 | Q134: 0 | R134: =Q134*H134 -> 0 | S134: 0 | T134: =S134*H134 -> 0 | AR134: 64 | AT134: K | AU134: 2 | AY134: ROZPOCET | BE134: =IF(N134="základná",J134,0) -> 0 | BF134: =IF(N134="znížená",J134,0) -> 0 | BG134: =IF(N134="zákl. prenesená",J134,0) -> 0 | BH134: =IF(N134="zníž. prenesená",J134,0) -> 0 | BI134: =IF(N134="nulová",J134,0) -> 0 | BJ134: 2 | BK134: =ROUND(I134*H134,2) -> 0 | BL134: 64 | BM134: 8
C135: 5 | D135: K | E135: 210220105 | F135: Podpery vedenia FeZn do zvislej steny | G135: ks | H135: 108 | J135: =ROUND(I135*H135,2) -> 0 | N135: znížená | P135: =O135*H135 -> 0 | Q135: 0 | R135: =Q135*H135 -> 0 | S135: 0 | T135: =S135*H135 -> 0 | AR135: 64 | AT135: K | AU135: 2 | AY135: ROZPOCET | BE135: =IF(N135="základná",J135,0) -> 0 | BF135: =IF(N135="znížená",J135,0) -> 0 | BG135: =IF(N135="zákl. prenesená",J135,0) -> 0 | BH135: =IF(N135="zníž. prenesená",J135,0) -> 0 | BI135: =IF(N135="nulová",J135,0) -> 0 | BJ135: 2 | BK135: =ROUND(I135*H135,2) -> 0 | BL135: 64 | BM135: 10
C136: 6 | D136: K | E136: 210220240 | F136: Svorka FeZn k uzemňovacej tyči SJ | G136: ks | H136: 54 | J136: =ROUND(I136*H136,2) -> 0 | N136: znížená | P136: =O136*H136 -> 0 | Q136: 0 | R136: =Q136*H136 -> 0 | S136: 0 | T136: =S136*H136 -> 0 | AR136: 64 | AT136: K | AU136: 2 | AY136: ROZPOCET | BE136: =IF(N136="základná",J136,0) -> 0 | BF136: =IF(N136="znížená",J136,0) -> 0 | BG136: =IF(N136="zákl. prenesená",J136,0) -> 0 | BH136: =IF(N136="zníž. prenesená",J136,0) -> 0 | BI136: =IF(N136="nulová",J136,0) -> 0 | BJ136: 2 | BK136: =ROUND(I136*H136,2) -> 0 | BL136: 64 | BM136: 12
C137: 7 | D137: K | E137: 210220241 | F137: Svorka FeZn krížová SK a diagonálna krížová DKS | G137: ks | H137: 32 | J137: =ROUND(I137*H137,2) -> 0 | N137: znížená | P137: =O137*H137 -> 0 | Q137: 0 | R137: =Q137*H137 -> 0 | S137: 0 | T137: =S137*H137 -> 0 | AR137: 64 | AT137: K | AU137: 2 | AY137: ROZPOCET | BE137: =IF(N137="základná",J137,0) -> 0 | BF137: =IF(N137="znížená",J137,0) -> 0 | BG137: =IF(N137="zákl. prenesená",J137,0) -> 0 | BH137: =IF(N137="zníž. prenesená",J137,0) -> 0 | BI137: =IF(N137="nulová",J137,0) -> 0 | BJ137: 2 | BK137: =ROUND(I137*H137,2) -> 0 | BL137: 64 | BM137: 14
C138: 8 | D138: K | E138: 210220243 | F138: Svorka FeZn spojovacia SS | G138: ks | H138: 270 | J138: =ROUND(I138*H138,2) -> 0 | N138: znížená | P138: =O138*H138 -> 0 | Q138: 0 | R138: =Q138*H138 -> 0 | S138: 0 | T138: =S138*H138 -> 0 | AR138: 64 | AT138: K | AU138: 2 | AY138: ROZPOCET | BE138: =IF(N138="základná",J138,0) -> 0 | BF138: =IF(N138="znížená",J138,0) -> 0 | BG138: =IF(N138="zákl. prenesená",J138,0) -> 0 | BH138: =IF(N138="zníž. prenesená",J138,0) -> 0 | BI138: =IF(N138="nulová",J138,0) -> 0 | BJ138: 2 | BK138: =ROUND(I138*H138,2) -> 0 | BL138: 64 | BM138: 16
C139: 9 | D139: K | E139: 210220245 | F139: Svorka FeZn pripojovacia SP | G139: ks | H139: 14 | J139: =ROUND(I139*H139,2) -> 0 | N139: znížená | P139: =O139*H139 -> 0 | Q139: 0 | R139: =Q139*H139 -> 0 | S139: 0 | T139: =S139*H139 -> 0 | AR139: 64 | AT139: K | AU139: 2 | AY139: ROZPOCET | BE139: =IF(N139="základná",J139,0) -> 0 | BF139: =IF(N139="znížená",J139,0) -> 0 | BG139: =IF(N139="zákl. prenesená",J139,0) -> 0 | BH139: =IF(N139="zníž. prenesená",J139,0) -> 0 | BI139: =IF(N139="nulová",J139,0) -> 0 | BJ139: 2 | BK139: =ROUND(I139*H139,2) -> 0 | BL139: 64 | BM139: 18
C140: 10 | D140: K | E140: 210220246 | F140: Svorka FeZn na odkvapový žľab SO | G140: ks | H140: 18 | J140: =ROUND(I140*H140,2) -> 0 | N140: znížená | P140: =O140*H140 -> 0 | Q140: 0 | R140: =Q140*H140 -> 0 | S140: 0 | T140: =S140*H140 -> 0 | AR140: 64 | AT140: K | AU140: 2 | AY140: ROZPOCET | BE140: =IF(N140="základná",J140,0) -> 0 | BF140: =IF(N140="znížená",J140,0) -> 0 | BG140: =IF(N140="zákl. prenesená",J140,0) -> 0 | BH140: =IF(N140="zníž. prenesená",J140,0) -> 0 | BI140: =IF(N140="nulová",J140,0) -> 0 | BJ140: 2 | BK140: =ROUND(I140*H140,2) -> 0 | BL140: 64 | BM140: 20
C141: 11 | D141: K | E141: 210220247 | F141: Svorka FeZn skúšobná SZ | G141: ks | H141: 18 | J141: =ROUND(I141*H141,2) -> 0 | N141: znížená | P141: =O141*H141 -> 0 | Q141: 0 | R141: =Q141*H141 -> 0 | S141: 0 | T141: =S141*H141 -> 0 | AR141: 64 | AT141: K | AU141: 2 | AY141: ROZPOCET | BE141: =IF(N141="základná",J141,0) -> 0 | BF141: =IF(N141="znížená",J141,0) -> 0 | BG141: =IF(N141="zákl. prenesená",J141,0) -> 0 | BH141: =IF(N141="zníž. prenesená",J141,0) -> 0 | BI141: =IF(N141="nulová",J141,0) -> 0 | BJ141: 2 | BK141: =ROUND(I141*H141,2) -> 0 | BL141: 64 | BM141: 22
C142: 12 | D142: K | E142: 210220248 | F142: Svorka FeZn na potrubie ST01-09 1/2"- 4" | G142: ks | H142: 6 | J142: =ROUND(I142*H142,2) -> 0 | N142: znížená | P142: =O142*H142 -> 0 | Q142: 0 | R142: =Q142*H142 -> 0 | S142: 0 | T142: =S142*H142 -> 0 | AR142: 64 | AT142: K | AU142: 2 | AY142: ROZPOCET | BE142: =IF(N142="základná",J142,0) -> 0 | BF142: =IF(N142="znížená",J142,0) -> 0 | BG142: =IF(N142="zákl. prenesená",J142,0) -> 0 | BH142: =IF(N142="zníž. prenesená",J142,0) -> 0 | BI142: =IF(N142="nulová",J142,0) -> 0 | BJ142: 2 | BK142: =ROUND(I142*H142,2) -> 0 | BL142: 64 | BM142: 24
... C148: 18 | D148: K | E148: 210950101 | F148: Označovací štítok zvodu | G148: ks | H148: 18 | J148: =ROUND(I148*H148,2) -> 0 | N148: znížená | P148: =O148*H148 -> 0 | Q148: 0 | R148: =Q148*H148 -> 0 | S148: 0 | T148: =S148*H148 -> 0 | AR148: 64 | AT148: K | AU148: 2 | AY148: ROZPOCET | BE148: =IF(N148="základná",J148,0) -> 0 | BF148: =IF(N148="znížená",J148,0) -> 0 | BG148: =IF(N148="zákl. prenesená",J148,0) -> 0 | BH148: =IF(N148="zníž. prenesená",J148,0) -> 0 | BI148: =IF(N148="nulová",J148,0) -> 0 | BJ148: 2 | BK148: =ROUND(I148*H148,2) -> 0 | BL148: 64 | BM148: 36
C150: Poznámka
C151: K správnemu naceneniu výkazu výmer je potrebné naštudovanie PD. Naceniť je potrebné jestvujúci výkaz výmer podľa pokynov tendrového zadávateľa, resp. navrhu zmluvy o dielo. Výkaz výmer je neoddeliteľnou súčasťou celej PD. Materiál výrobkov je definovaný vo VV a zároveň sú položky jednoznačne určené a spárovateľné k výkresovej alebo textovej časti projektovej dokumentácie, ktorá dané materiály, v potrebných prípadoch ešte presnejšie podrobnejšie špecifikuje, upresňuje ci konkretizuje technicky, parametricky alebo referenčným výrobkom. Informácie o materiáloch výrobkov vo výkresovej časti alebo technických správach môžu byť aj výrazne rozsiahlejšie ako je možné uviesť technicky v texte názvu položky vo výkaze výmer, preto je potrebné naštudovanie projektovej dokumentácie a oceňovať výkaz výmer ako celok a neoddeliteňú súčasť projektovej dokumentácie. Výmery položiek presunov hmot PSV vyjadrených mernými jednotkami v percentách % si uchádzač výpĺna sám podla metodiky rozpočtárskych programov napr. Cenkros, ODIS. Dodávateľ si zahrnie do jednotkových cien všetky náklady podla ZoD, vrátane VRN-ov: napr. označenie staveniska, čistenie, opatrenia pre stav. v zimnom období, poistenie, geodet. merania a dokumentáciu, skúšky, vzorky, dielenskú dokumentáciu, vyčistenie všetkých dotknutých plôch od stavebného odpadu.

Sheet 4.2 - Nový bleskozvod vrá...
L2: >> skryté stĺpce << | AT2: {a7c90c58-5641-4d76-bb71-44f91fe1f380}
AT3: 0
D4: KRYCÍ LIST ROZPOČTU | M4: v --- nižšie sa nachádzajú doplnkové a pomocné údaje k zostavám --- v | AT4: False
D6: Stavba:
E7: ='Rekapitulácia stavby'!K6 -> Zateplenie plniarne nealkoholických nápojov, Dunajská streda - časť búracie práce - aktualizácia jún 2023
D8: Objekt:
E9: 4.2 - Nový bleskozvod vrátane zvodov a uzemnenia - búracie práce
D11: JKSO: | I11: KS:
D12: Miesto: | F12: Dunajská Streda | I12: Dátum: | J12: ='Rekapitulácia stavby'!AN8 -> 8. 6. 2023
D14: Objednávateľ: | I14: IČO:
E15: McCarter, a.s. | I15: IČ DPH:
D17: Zhotoviteľ: | I17: IČO: | J17: ='Rekapitulácia stavby'!AN13 -> Vyplň údaj
E18: ='Rekapitulácia stavby'!E14 -> Vyplň údaj | I18: IČ DPH: | J18: ='Rekapitulácia stavby'!AN14 -> Vyplň údaj
D20: Projektant: | I20: IČO:
E21: Ing.arch. Miroslav Marko M.Arch. | I21: IČ DPH:
D23: Spracovateľ: | I23: IČO:
E24: Rosoft,s.r.o. | I24: IČ DPH:
D26: Poznámka:
D30: Náklady z rozpočtu | J30: =J96 -> 0
D31: Ostatné náklady | J31: =J101 -> 0
D32: Cena bez DPH | J32: =ROUND(J30 + J31, 2) -> 0
F34: Základ dane | I34: Sadzba dane | J34: Výška dane
D35: DPH | E35: základná | F35: =ROUND((SUM(BE101:BE108) + SUM(BE128:BE131)), 2) -> 0 | I35: 0.2 | J35: =ROUND(((SUM(BE101:BE108) + SUM(BE128:BE131))*I35), 2) -> 0
E36: znížená | F36: =ROUND((SUM(BF101:BF108) + SUM(BF128:BF131)), 2) -> 0 | I36: 0.2 | J36: =ROUND(((SUM(BF101:BF108) + SUM(BF128:BF131))*I36), 2) -> 0
E37: zákl. prenesená | F37: =ROUND((SUM(BG101:BG108) + SUM(BG128:BG131)), 2) -> 0 | I37: 0.2 | J37: =0 -> 0
E38: zníž. prenesená | F38: =ROUND((SUM(BH101:BH108) + SUM(BH128:BH131)), 2) -> 0 | I38: 0.2 | J38: =0 -> 0
E39: nulová | F39: =ROUND((SUM(BI101:BI108) + SUM(BI128:BI131)), 2) -> 0 | I39: 0 | J39: =0 -> 0
D41: Cena s DPH | G41: v | H41: EUR | J41: =SUM(J32:J39) -> 0
D50: Projektant | G50: Spracovateľ
D61: Dátum a podpis: | F61: Pečiatka | G61: Dátum a podpis: | J61: Pečiatka
D65: Objednávateľ | G65: Zhotoviteľ
D76: Dátum a podpis: | F76: Pečiatka | G76: Dátum a podpis: | J76: Pečiatka
C82: REKAPITULÁCIA ROZPOČTU
C84: Stavba:
E85: =E7 -> Zateplenie plniarne nealkoholických nápojov, Dunajská streda - časť búracie práce - aktualizácia jún 2023
C86: Objekt:
E87: =E9 -> 4.2 - Nový bleskozvod vrátane zvodov a uzemnenia - búracie práce
C89: Miesto: | F89: =F12 -> Dunajská Streda | I89: Dátum: | J89: =IF(J12="","",J12) -> 8. 6. 2023
C91: Objednávateľ: | F91: =E15 -> McCarter, a.s. | I91: Projektant: | J91: =E21 -> Ing.arch. Miroslav Marko M.Arch.
C92: Zhotoviteľ: | F92: =IF(E18="","",E18) -> Vyplň údaj | I92: Spracovateľ: | J92: =E24 -> Rosoft,s.r.o.
C94: Kód dielu - Popis | J94: Cena celkom [EUR]
C96: 1) Náklady z rozpočtu | J96: =J128 -> 0 | AU96: -1
D97: HSV - Práce a dodávky HSV | J97: =J129 -> 0
D98: 9 - Ostatné konštrukcie a práce-búranie | J98: =J130 -> 0
C101: 2) Ostatné náklady | J101: =ROUND(J102 + J103 + J104 + J105 + J106 + J107,2) -> 0 | N101: DPH
D102: GZS | J102: 0 | N102: znížená | AY102: VRN | BE102: =IF(N102="základná",J102,0) -> 0 | BF102: =IF(N102="znížená",J102,0) -> 0 | BG102: =IF(N102="zákl. prenesená",J102,0) -> 0 | BH102: =IF(N102="zníž. prenesená",J102,0) -> 0 | BI102: =IF(N102="nulová",J102,0) -> 0 | BJ102: 2
D103: Projektové práce | J103: 0 | N103: znížená | AY103: VRN | BE103: =IF(N103="základná",J103,0) -> 0 | BF103: =IF(N103="znížená",J103,0) -> 0 | BG103: =IF(N103="zákl. prenesená",J103,0) -> 0 | BH103: =IF(N103="zníž. prenesená",J103,0) -> 0 | BI103: =IF(N103="nulová",J103,0) -> 0 | BJ103: 2
D104: Sťažené podmienky | J104: 0 | N104: znížená | AY104: VRN | BE104: =IF(N104="základná",J104,0) -> 0 | BF104: =IF(N104="znížená",J104,0) -> 0 | BG104: =IF(N104="zákl. prenesená",J104,0) -> 0 | BH104: =IF(N104="zníž. prenesená",J104,0) -> 0 | BI104: =IF(N104="nulová",J104,0) -> 0 | BJ104: 2
D105: Vplyv prostredia | J105: 0 | N105: znížená | AY105: VRN | BE105: =IF(N105="základná",J105,0) -> 0 | BF105: =IF(N105="znížená",J105,0) -> 0 | BG105: =IF(N105="zákl. prenesená",J105,0) -> 0 | BH105: =IF(N105="zníž. prenesená",J105,0) -> 0 | BI105: =IF(N105="nulová",J105,0) -> 0 | BJ105: 2
D106: Iné VRN | J106: 0 | N106: znížená | AY106: VRN | BE106: =IF(N106="základná",J106,0) -> 0 | BF106: =IF(N106="znížená",J106,0) -> 0 | BG106: =IF(N106="zákl. prenesená",J106,0) -> 0 | BH106: =IF(N106="zníž. prenesená",J106,0) -> 0 | BI106: =IF(N106="nulová",J106,0) -> 0 | BJ106: 2
D107: Kompletačná činnosť | J107: =ROUND(J30*T107,2) -> 0 | N107: znížená | AY107: KOMPLETACNA | BE107: =IF(N107="základná",J107,0) -> 0 | BF107: =IF(N107="znížená",J107,0) -> 0 | BG107: =IF(N107="zákl. prenesená",J107,0) -> 0 | BH107: =IF(N107="zníž. prenesená",J107,0) -> 0 | BI107: =IF(N107="nulová",J107,0) -> 0 | BJ107: 2
C109: Celkové náklady za stavbu 1) + 2) | J109: =ROUND(J96+J101,2) -> 0
C115: ROZPOČET
C117: Stavba:
E118: =E7 -> Zateplenie plniarne nealkoholických nápojov, Dunajská streda - časť búracie práce - aktualizácia jún 2023
C119: Objekt:
E120: =E9 -> 4.2 - Nový bleskozvod vrátane zvodov a uzemnenia - búracie práce
C122: Miesto: | F122: =F12 -> Dunajská Streda | I122: Dátum: | J122: =IF(J12="","",J12) -> 8. 6. 2023
C124: Objednávateľ: | F124: =E15 -> McCarter, a.s. | I124: Projektant: | J124: =E21 -> Ing.arch. Miroslav Marko M.Arch.
C125: Zhotoviteľ: | F125: =IF(E18="","",E18) -> Vyplň údaj | I125: Spracovateľ: | J125: =E24 -> Rosoft,s.r.o.
C127: PČ | D127: Typ | E127: Kód | F127: Popis | G127: MJ | H127: Množstvo | I127: J.cena [EUR] | J127: Cena celkom [EUR] | K127: Cenová sústava | N127: DPH | O127: J. Nh [h] | P127: Nh celkom [h] | Q127: J. hmotnosť [t] | R127: Hmotnosť celkom [t] | S127: J. suť [t] | T127: Suť Celkom [t]
C128: Náklady z rozpočtu | J128: =BK128 -> 0 | P128: =P129 -> 0 | R128: =R129 -> 0 | T128: =T129 -> 0 | AT128: D | AU128: -1 | BK128: =BK129 -> 0
D129: D | E129: HSV | F129: Práce a dodávky HSV | J129: =BK129 -> 0 | P129: =P130 -> 0 | R129: =R130 -> 0 | T129: =T130 -> 0 | AR129: 1 | AT129: D | AU129: 0 | AY129: ROZPOCET | BK129: =BK130 -> 0
D130: D | E130: 9 | F130: Ostatné konštrukcie a práce-búranie | J130: =BK130 -> 0 | P130: =P131 -> 0 | R130: =R131 -> 0 | T130: =T131 -> 0 | AR130: 1 | AT130: D | AU130: 1 | AY130: ROZPOCET | BK130: =BK131 -> 0
C131: 1 | D131: K | E131: 919735123 | F131: Rezanie betónového krytu alebo podkladu tr. nad C 12/15 hr. nad 100 do 150 mm | G131: m | H131: 110 | J131: =ROUND(I131*H131,2) -> 0 | N131: znížená | P131: =O131*H131 -> 0 | Q131: 0 | R131: =Q131*H131 -> 0 | S131: 0 | T131: =S131*H131 -> 0 | AR131: 4 | AT131: K | AU131: 2 | AY131: ROZPOCET | BE131: =IF(N131="základná",J131,0) -> 0 | BF131: =IF(N131="znížená",J131,0) -> 0 | BG131: =IF(N131="zákl. prenesená",J131,0) -> 0 | BH131: =IF(N131="zníž. prenesená",J131,0) -> 0 | BI131: =IF(N131="nulová",J131,0) -> 0 | BJ131: 2 | BK131: =ROUND(I131*H131,2) -> 0 | BL131: 4 | BM131: 2
C133: Poznámka
C134: K správnemu naceneniu výkazu výmer je potrebné naštudovanie PD. Naceniť je potrebné jestvujúci výkaz výmer podľa pokynov tendrového zadávateľa, resp. navrhu zmluvy o dielo. Výkaz výmer je neoddeliteľnou súčasťou celej PD. Materiál výrobkov je definovaný vo VV a zároveň sú položky jednoznačne určené a spárovateľné k výkresovej alebo textovej časti projektovej dokumentácie, ktorá dané materiály, v potrebných prípadoch ešte presnejšie podrobnejšie špecifikuje, upresňuje ci konkretizuje technicky, parametricky alebo referenčným výrobkom. Informácie o materiáloch výrobkov vo výkresovej časti alebo technických správach môžu byť aj výrazne rozsiahlejšie ako je možné uviesť technicky v texte názvu položky vo výkaze výmer, preto je potrebné naštudovanie projektovej dokumentácie a oceňovať výkaz výmer ako celok a neoddeliteňú súčasť projektovej dokumentácie. Výmery položiek presunov hmot PSV vyjadrených mernými jednotkami v percentách % si uchádzač výpĺna sám podla metodiky rozpočtárskych programov napr. Cenkros, ODIS. Dodávateľ si zahrnie do jednotkových cien všetky náklady podla ZoD, vrátane VRN-ov: napr. označenie staveniska, čistenie, opatrenia pre stav. v zimnom období, poistenie, geodet. merania a dokumentáciu, skúšky, vzorky, dielenskú dokumentáciu, vyčistenie všetkých dotknutých plôch od stavebného odpadu.

Sheet 5.1 - 5.1, 5.2, 5.3 - Ost...
L2: >> skryté stĺpce << | AT2: {ffd90ea1-7924-4247-ad8b-351aeca1eb53}
AT3: 0
D4: KRYCÍ LIST ROZPOČTU | M4: v --- nižšie sa nachádzajú doplnkové a pomocné údaje k zostavám --- v | AT4: False
D6: Stavba:
E7: ='Rekapitulácia stavby'!K6 -> Zateplenie plniarne nealkoholických nápojov, Dunajská streda - časť búracie práce - aktualizácia jún 2023
D8: Objekt:
E9: 5.1 - 5.1, 5.2, 5.3 - Ostatné stavebné úpravy - búracie práce
D11: JKSO: | I11: KS:
D12: Miesto: | F12: Dunajská Streda | I12: Dátum: | J12: ='Rekapitulácia stavby'!AN8 -> 8. 6. 2023
D14: Objednávateľ: | I14: IČO:
E15: McCarter, a.s. | I15: IČ DPH:
D17: Zhotoviteľ: | I17: IČO: | J17: ='Rekapitulácia stavby'!AN13 -> Vyplň údaj
E18: ='Rekapitulácia stavby'!E14 -> Vyplň údaj | I18: IČ DPH: | J18: ='Rekapitulácia stavby'!AN14 -> Vyplň údaj
D20: Projektant: | I20: IČO:
E21: Ing.arch. Miroslav Marko M.Arch. | I21: IČ DPH:
D23: Spracovateľ: | I23: IČO:
E24: Rosoft,s.r.o. | I24: IČ DPH:
D26: Poznámka:
D30: Náklady z rozpočtu | J30: =J96 -> 0
D31: Ostatné náklady | J31: =J104 -> 0
D32: Cena bez DPH | J32: =ROUND(J30 + J31, 2) -> 0
F34: Základ dane | I34: Sadzba dane | J34: Výška dane
D35: DPH | E35: základná | F35: =ROUND((SUM(BE104:BE111) + SUM(BE131:BE152)), 2) -> 0 | I35: 0.2 | J35: =ROUND(((SUM(BE104:BE111) + SUM(BE131:BE152))*I35), 2) -> 0
E36: znížená | F36: =ROUND((SUM(BF104:BF111) + SUM(BF131:BF152)), 2) -> 0 | I36: 0.2 | J36: =ROUND(((SUM(BF104:BF111) + SUM(BF131:BF152))*I36), 2) -> 0
E37: zákl. prenesená | F37: =ROUND((SUM(BG104:BG111) + SUM(BG131:BG152)), 2) -> 0 | I37: 0.2 | J37: =0 -> 0
E38: zníž. prenesená | F38: =ROUND((SUM(BH104:BH111) + SUM(BH131:BH152)), 2) -> 0 | I38: 0.2 | J38: =0 -> 0
E39: nulová | F39: =ROUND((SUM(BI104:BI111) + SUM(BI131:BI152)), 2) -> 0 | I39: 0 | J39: =0 -> 0
D41: Cena s DPH | G41: v | H41: EUR | J41: =SUM(J32:J39) -> 0
D50: Projektant | G50: Spracovateľ
D61: Dátum a podpis: | F61: Pečiatka | G61: Dátum a podpis: | J61: Pečiatka
D65: Objednávateľ | G65: Zhotoviteľ
D76: Dátum a podpis: | F76: Pečiatka | G76: Dátum a podpis: | J76: Pečiatka
C82: REKAPITULÁCIA ROZPOČTU
C84: Stavba:
E85: =E7 -> Zateplenie plniarne nealkoholických nápojov, Dunajská streda - časť búracie práce - aktualizácia jún 2023
C86: Objekt:
E87: =E9 -> 5.1 - 5.1, 5.2, 5.3 - Ostatné stavebné úpravy - búracie práce
C89: Miesto: | F89: =F12 -> Dunajská Streda | I89: Dátum: | J89: =IF(J12="","",J12) -> 8. 6. 2023
C91: Objednávateľ: | F91: =E15 -> McCarter, a.s. | I91: Projektant: | J91: =E21 -> Ing.arch. Miroslav Marko M.Arch.
C92: Zhotoviteľ: | F92: =IF(E18="","",E18) -> Vyplň údaj | I92: Spracovateľ: | J92: =E24 -> Rosoft,s.r.o.
C94: Kód dielu - Popis | J94: Cena celkom [EUR]
C96: 1) Náklady z rozpočtu | J96: =J131 -> 0 | AU96: -1
D97: HSV - Práce a dodávky HSV | J97: =J132 -> 0
D98: 9 - Ostatné konštrukcie a práce-búranie | J98: =J133 -> 0
D99: PSV - Práce a dodávky PSV | J99: =J141 -> 0
D100: 721 - Zdravotechnika - vnútorná kanalizácia | J100: =J142 -> 0
D101: 764 - Konštrukcie klampiarske | J101: =J145 -> 0
C104: 2) Ostatné náklady | J104: =ROUND(J105 + J106 + J107 + J108 + J109 + J110,2) -> 0 | N104: DPH
D105: GZS | J105: 0 | N105: znížená | AY105: VRN | BE105: =IF(N105="základná",J105,0) -> 0 | BF105: =IF(N105="znížená",J105,0) -> 0 | BG105: =IF(N105="zákl. prenesená",J105,0) -> 0 | BH105: =IF(N105="zníž. prenesená",J105,0) -> 0 | BI105: =IF(N105="nulová",J105,0) -> 0 | BJ105: 2
D106: Projektové práce | J106: 0 | N106: znížená | AY106: VRN | BE106: =IF(N106="základná",J106,0) -> 0 | BF106: =IF(N106="znížená",J106,0) -> 0 | BG106: =IF(N106="zákl. prenesená",J106,0) -> 0 | BH106: =IF(N106="zníž. prenesená",J106,0) -> 0 | BI106: =IF(N106="nulová",J106,0) -> 0 | BJ106: 2
D107: Sťažené podmienky | J107: 0 | N107: znížená | AY107: VRN | BE107: =IF(N107="základná",J107,0) -> 0 | BF107: =IF(N107="znížená",J107,0) -> 0 | BG107: =IF(N107="zákl. prenesená",J107,0) -> 0 | BH107: =IF(N107="zníž. prenesená",J107,0) -> 0 | BI107: =IF(N107="nulová",J107,0) -> 0 | BJ107: 2
D108: Vplyv prostredia | J108: 0 | N108: znížená | AY108: VRN | BE108: =IF(N108="základná",J108,0) -> 0 | BF108: =IF(N108="znížená",J108,0) -> 0 | BG108: =IF(N108="zákl. prenesená",J108,0) -> 0 | BH108: =IF(N108="zníž. prenesená",J108,0) -> 0 | BI108: =IF(N108="nulová",J108,0) -> 0 | BJ108: 2
D109: Iné VRN | J109: 0 | N109: znížená | AY109: VRN | BE109: =IF(N109="základná",J109,0) -> 0 | BF109: =IF(N109="znížená",J109,0) -> 0 | BG109: =IF(N109="zákl. prenesená",J109,0) -> 0 | BH109: =IF(N109="zníž. prenesená",J109,0) -> 0 | BI109: =IF(N109="nulová",J109,0) -> 0 | BJ109: 2
D110: Kompletačná činnosť | J110: =ROUND(J30*T110,2) -> 0 | N110: znížená | AY110: KOMPLETACNA | BE110: =IF(N110="základná",J110,0) -> 0 | BF110: =IF(N110="znížená",J110,0) -> 0 | BG110: =IF(N110="zákl. prenesená",J110,0) -> 0 | BH110: =IF(N110="zníž. prenesená",J110,0) -> 0 | BI110: =IF(N110="nulová",J110,0) -> 0 | BJ110: 2
C112: Celkové náklady za stavbu 1) + 2) | J112: =ROUND(J96+J104,2) -> 0
C118: ROZPOČET
C120: Stavba:
E121: =E7 -> Zateplenie plniarne nealkoholických nápojov, Dunajská streda - časť búracie práce - aktualizácia jún 2023
C122: Objekt:
E123: =E9 -> 5.1 - 5.1, 5.2, 5.3 - Ostatné stavebné úpravy - búracie práce
C125: Miesto: | F125: =F12 -> Dunajská Streda | I125: Dátum: | J125: =IF(J12="","",J12) -> 8. 6. 2023
C127: Objednávateľ: | F127: =E15 -> McCarter, a.s. | I127: Projektant: | J127: =E21 -> Ing.arch. Miroslav Marko M.Arch.
C128: Zhotoviteľ: | F128: =IF(E18="","",E18) -> Vyplň údaj | I128: Spracovateľ: | J128: =E24 -> Rosoft,s.r.o.
C130: PČ | D130: Typ | E130: Kód | F130: Popis | G130: MJ | H130: Množstvo | I130: J.cena [EUR] | J130: Cena celkom [EUR] | K130: Cenová sústava | N130: DPH | O130: J. Nh [h] | P130: Nh celkom [h] | Q130: J. hmotnosť [t] | R130: Hmotnosť celkom [t] | S130: J. suť [t] | T130: Suť Celkom [t]
C131: Náklady z rozpočtu | J131: =BK131 -> 0 | P131: =P132+P141 -> 0 | R131: =R132+R141 -> 0 | T131: =T132+T141 -> 0 | AT131: D | AU131: -1 | BK131: =BK132+BK141 -> 0
D132: D | E132: HSV | F132: Práce a dodávky HSV | J132: =BK132 -> 0 | P132: =P133 -> 0 | R132: =R133 -> 0 | T132: =T133 -> 0 | AR132: 1 | AT132: D | AU132: 0 | AY132: ROZPOCET | BK132: =BK133 -> 0
D133: D | E133: 9 | F133: Ostatné konštrukcie a práce-búranie | J133: =BK133 -> 0 | P133: =SUM(P134:P140) -> 0 | R133: =SUM(R134:R140) -> 0 | T133: =SUM(T134:T140) -> 0 | AR133: 1 | AT133: D | AU133: 1 | AY133: ROZPOCET | BK133: =SUM(BK134:BK140) -> 0
C134: 1 | D134: K | E134: 961043111 | F134: Búranie základov z betónu prostého alebo preloženého kameňom, -2,20000t | G134: m3 | H134: 1.14 | J134: =ROUND(I134*H134,2) -> 0 | N134: znížená | P134: =O134*H134 -> 0 | Q134: 0 | R134: =Q134*H134 -> 0 | S134: 0 | T134: =S134*H134 -> 0 | AR134: 4 | AT134: K | AU134: 2 | AY134: ROZPOCET | BE134: =IF(N134="základná",J134,0) -> 0 | BF134: =IF(N134="znížená",J134,0) -> 0 | BG134: =IF(N134="zákl. prenesená",J134,0) -> 0 | BH134: =IF(N134="zníž. prenesená",J134,0) -> 0 | BI134: =IF(N134="nulová",J134,0) -> 0 | BJ134: 2 | BK134: =ROUND(I134*H134,2) -> 0 | BL134: 4 | BM134: 2
C135: 2 | D135: K | E135: 979011111 | F135: Zvislá doprava sutiny a vybúraných hmôt za prvé podlažie nad alebo pod základným podlažím | G135: t | H135: 15.78 | J135: =ROUND(I135*H135,2) -> 0 | N135: znížená | P135: =O135*H135 -> 0 | Q135: 0 | R135: =Q135*H135 -> 0 | S135: 0 | T135: =S135*H135 -> 0 | AR135: 4 | AT135: K | AU135: 2 | AY135: ROZPOCET | BE135: =IF(N135="základná",J135,0) -> 0 | BF135: =IF(N135="znížená",J135,0) -> 0 | BG135: =IF(N135="zákl. prenesená",J135,0) -> 0 | BH135: =IF(N135="zníž. prenesená",J135,0) -> 0 | BI135: =IF(N135="nulová",J135,0) -> 0 | BJ135: 2 | BK135: =ROUND(I135*H135,2) -> 0 | BL135: 4 | BM135: 4
C136: 3 | D136: K | E136: 979081111 | F136: Odvoz sutiny a vybúraných hmôt na skládku do 1 km | G136: t | H136: 15.78 | J136: =ROUND(I136*H136,2) -> 0 | N136: znížená | P136: =O136*H136 -> 0 | Q136: 0 | R136: =Q136*H136 -> 0 | S136: 0 | T136: =S136*H136 -> 0 | AR136: 4 | AT136: K | AU136: 2 | AY136: ROZPOCET | BE136: =IF(N136="základná",J136,0) -> 0 | BF136: =IF(N136="znížená",J136,0) -> 0 | BG136: =IF(N136="zákl. prenesená",J136,0) -> 0 | BH136: =IF(N136="zníž. prenesená",J136,0) -> 0 | BI136: =IF(N136="nulová",J136,0) -> 0 | BJ136: 2 | BK136: =ROUND(I136*H136,2) -> 0 | BL136: 4 | BM136: 6
C137: 4 | D137: K | E137: 979081121 | F137: Odvoz sutiny a vybúraných hmôt na skládku za každý ďalší 1 km | G137: t | H137: 220.92 | J137: =ROUND(I137*H137,2) -> 0 | N137: znížená | P137: =O137*H137 -> 0 | Q137: 0 | R137: =Q137*H137 -> 0 | S137: 0 | T137: =S137*H137 -> 0 | AR137: 4 | AT137: K | AU137: 2 | AY137: ROZPOCET | BE137: =IF(N137="základná",J137,0) -> 0 | BF137: =IF(N137="znížená",J137,0) -> 0 | BG137: =IF(N137="zákl. prenesená",J137,0) -> 0 | BH137: =IF(N137="zníž. prenesená",J137,0) -> 0 | BI137: =IF(N137="nulová",J137,0) -> 0 | BJ137: 2 | BK137: =ROUND(I137*H137,2) -> 0 | BL137: 4 | BM137: 8
C138: 5 | D138: K | E138: 979082111 | F138: Vnútrostavenisková doprava sutiny a vybúraných hmôt do 10 m | G138: t | H138: 15.78 | J138: =ROUND(I138*H138,2) -> 0 | N138: znížená | P138: =O138*H138 -> 0 | Q138: 0 | R138: =Q138*H138 -> 0 | S138: 0 | T138: =S138*H138 -> 0 | AR138: 4 | AT138: K | AU138: 2 | AY138: ROZPOCET | BE138: =IF(N138="základná",J138,0) -> 0 | BF138: =IF(N138="znížená",J138,0) -> 0 | BG138: =IF(N138="zákl. prenesená",J138,0) -> 0 | BH138: =IF(N138="zníž. prenesená",J138,0) -> 0 | BI138: =IF(N138="nulová",J138,0) -> 0 | BJ138: 2 | BK138: =ROUND(I138*H138,2) -> 0 | BL138: 4 | BM138: 10
C139: 6 | D139: K | E139: 979082121 | F139: Vnútrostavenisková doprava sutiny a vybúraných hmôt za každých ďalších 5 m | G139: t | H139: 378.72 | J139: =ROUND(I139*H139,2) -> 0 | N139: znížená | P139: =O139*H139 -> 0 | Q139: 0 | R139: =Q139*H139 -> 0 | S139: 0 | T139: =S139*H139 -> 0 | AR139: 4 | AT139: K | AU139: 2 | AY139: ROZPOCET | BE139: =IF(N139="základná",J139,0) -> 0 | BF139: =IF(N139="znížená",J139,0) -> 0 | BG139: =IF(N139="zákl. prenesená",J139,0) -> 0 | BH139: =IF(N139="zníž. prenesená",J139,0) -> 0 | BI139: =IF(N139="nulová",J139,0) -> 0 | BJ139: 2 | BK139: =ROUND(I139*H139,2) -> 0 | BL139: 4 | BM139: 12
C140: 7 | D140: K | E140: 979089012 | F140: Poplatok za skladovanie - betón, tehly, dlaždice (17 01 ), ostatné | G140: t | H140: 15.78 | J140: =ROUND(I140*H140,2) -> 0 | N140: znížená | P140: =O140*H140 -> 0 | Q140: 0 | R140: =Q140*H140 -> 0 | S140: 0 | T140: =S140*H140 -> 0 | AR140: 4 | AT140: K | AU140: 2 | AY140: ROZPOCET | BE140: =IF(N140="základná",J140,0) -> 0 | BF140: =IF(N140="znížená",J140,0) -> 0 | BG140: =IF(N140="zákl. prenesená",J140,0) -> 0 | BH140: =IF(N140="zníž. prenesená",J140,0) -> 0 | BI140: =IF(N140="nulová",J140,0) -> 0 | BJ140: 2 | BK140: =ROUND(I140*H140,2) -> 0 | BL140: 4 | BM140: 14
D141: D | E141: PSV | F141: Práce a dodávky PSV | J141: =BK141 -> 0 | P141: =P142+P145 -> 0 | R141: =R142+R145 -> 0 | T141: =T142+T145 -> 0 | AR141: 2 | AT141: D | AU141: 0 | AY141: ROZPOCET | BK141: =BK142+BK145 -> 0
D142: D | E142: 721 | F142: Zdravotechnika - vnútorná kanalizácia | J142: =BK142 -> 0 | P142: =SUM(P143:P144) -> 0 | R142: =SUM(R143:R144) -> 0 | T142: =SUM(T143:T144) -> 0 | AR142: 2 | AT142: D | AU142: 1 | AY142: ROZPOCET | BK142: =SUM(BK143:BK144) -> 0
C143: 8 | D143: K | E143: 721110819 | F143: Demontáž potrubia z kameninových rúr normálnych a kyselinovzdorných nad 300 do DN 400, -0,09230t | G143: m | H143: 86.4 | J143: =ROUND(I143*H143,2) -> 0 | N143: znížená | P143: =O143*H143 -> 0 | Q143: 0 | R143: =Q143*H143 -> 0 | S143: 0 | T143: =S143*H143 -> 0 | AR143: 16 | AT143: K | AU143: 2 | AY143: ROZPOCET | BE143: =IF(N143="základná",J143,0) -> 0 | BF143: =IF(N143="znížená",J143,0) -> 0 | BG143: =IF(N143="zákl. prenesená",J143,0) -> 0 | BH143: =IF(N143="zníž. prenesená",J143,0) -> 0 | BI143: =IF(N143="nulová",J143,0) -> 0 | BJ143: 2 | BK143: =ROUND(I143*H143,2) -> 0 | BL143: 16 | BM143: 24
C144: 9 | D144: K | E144: 998721202 | F144: Presun hmôt pre vnútornú kanalizáciu v objektoch výšky nad 6 do 12 m | G144: % | J144: =ROUND(I144*H144,2) -> 0 | N144: znížená | P144: =O144*H144 -> 0 | Q144: 0 | R144: =Q144*H144 -> 0 | S144: 0 | T144: =S144*H144 -> 0 | AR144: 16 | AT144: K | AU144: 2 | AY144: ROZPOCET | BE144: =IF(N144="základná",J144,0) -> 0 | BF144: =IF(N144="znížená",J144,0) -> 0 | BG144: =IF(N144="zákl. prenesená",J144,0) -> 0 | BH144: =IF(N144="zníž. prenesená",J144,0) -> 0 | BI144: =IF(N144="nulová",J144,0) -> 0 | BJ144: 2 | BK144: =ROUND(I144*H144,2) -> 0 | BL144: 16 | BM144: 34
D145: D | E145: 764 | F145: Konštrukcie klampiarske | J145: =BK145 -> 0 | P145: =SUM(P146:P152) -> 0 | R145: =SUM(R146:R152) -> 0 | T145: =SUM(T146:T152) -> 0 | AR145: 2 | AT145: D | AU145: 1 | AY145: ROZPOCET | BK145: =SUM(BK146:BK152) -> 0
C146: 10 | D146: K | E146: 764351810 | F146: Demontáž žľabov pododkvap. štvorhranných rovných, oblúkových, do 30° rš 250 a 330 mm, -0,00347t | G146: m | H146: 375.5 | J146: =ROUND(I146*H146,2) -> 0 | N146: znížená | P146: =O146*H146 -> 0 | Q146: 0 | R146: =Q146*H146 -> 0 | S146: 0 | T146: =S146*H146 -> 0 | AR146: 16 | AT146: K | AU146: 2 | AY146: ROZPOCET | BE146: =IF(N146="základná",J146,0) -> 0 | BF146: =IF(N146="znížená",J146,0) -> 0 | BG146: =IF(N146="zákl. prenesená",J146,0) -> 0 | BH146: =IF(N146="zníž. prenesená",J146,0) -> 0 | BI146: =IF(N146="nulová",J146,0) -> 0 | BJ146: 2 | BK146: =ROUND(I146*H146,2) -> 0 | BL146: 16 | BM146: 36
C147: 11 | D147: K | E147: 764357801 | F147: Demontáž žľabov medzistrešných a zaatikových rš 1100 mm, -0,00820t | G147: m | H147: 374 | J147: =ROUND(I147*H147,2) -> 0 | N147: znížená | P147: =O147*H147 -> 0 | Q147: 0 | R147: =Q147*H147 -> 0 | S147: 0 | T147: =S147*H147 -> 0 | AR147: 16 | AT147: K | AU147: 2 | AY147: ROZPOCET | BE147: =IF(N147="základná",J147,0) -> 0 | BF147: =IF(N147="znížená",J147,0) -> 0 | BG147: =IF(N147="zákl. prenesená",J147,0) -> 0 | BH147: =IF(N147="zníž. prenesená",J147,0) -> 0 | BI147: =IF(N147="nulová",J147,0) -> 0 | BJ147: 2 | BK147: =ROUND(I147*H147,2) -> 0 | BL147: 16 | BM147: 40
C148: 12 | D148: K | E148: 764359820 | F148: Demontáž kotlíka oválneho a štvorhranného, so sklonom žľabu do 30st., -0,00320t | G148: ks | H148: 16 | J148: =ROUND(I148*H148,2) -> 0 | N148: znížená | P148: =O148*H148 -> 0 | Q148: 0 | R148: =Q148*H148 -> 0 | S148: 0 | T148: =S148*H148 -> 0 | AR148: 16 | AT148: K | AU148: 2 | AY148: ROZPOCET | BE148: =IF(N148="základná",J148,0) -> 0 | BF148: =IF(N148="znížená",J148,0) -> 0 | BG148: =IF(N148="zákl. prenesená",J148,0) -> 0 | BH148: =IF(N148="zníž. prenesená",J148,0) -> 0 | BI148: =IF(N148="nulová",J148,0) -> 0 | BJ148: 2 | BK148: =ROUND(I148*H148,2) -> 0 | BL148: 16 | BM148: 44
C149: 13 | D149: K | E149: 764430810 | F149: Demontáž oplechovania múrov a nadmuroviek rš do 250 mm, -0,00142t | G149: m | H149: 72 | J149: =ROUND(I149*H149,2) -> 0 | N149: znížená | P149: =O149*H149 -> 0 | Q149: 0 | R149: =Q149*H149 -> 0 | S149: 0 | T149: =S149*H149 -> 0 | AR149: 16 | AT149: K | AU149: 2 | AY149: ROZPOCET | BE149: =IF(N149="základná",J149,0) -> 0 | BF149: =IF(N149="znížená",J149,0) -> 0 | BG149: =IF(N149="zákl. prenesená",J149,0) -> 0 | BH149: =IF(N149="zníž. prenesená",J149,0) -> 0 | BI149: =IF(N149="nulová",J149,0) -> 0 | BJ149: 2 | BK149: =ROUND(I149*H149,2) -> 0 | BL149: 16 | BM149: 46
C150: 14 | D150: K | E150: 764430850 | F150: Demontáž oplechovania múrov a nadmuroviek rš 600 mm, -0,00337t | G150: m | H150: 108 | J150: =ROUND(I150*H150,2) -> 0 | N150: znížená | P150: =O150*H150 -> 0 | Q150: 0 | R150: =Q150*H150 -> 0 | S150: 0 | T150: =S150*H150 -> 0 | AR150: 16 | AT150: K | AU150: 2 | AY150: ROZPOCET | BE150: =IF(N150="základná",J150,0) -> 0 | BF150: =IF(N150="znížená",J150,0) -> 0 | BG150: =IF(N150="zákl. prenesená",J150,0) -> 0 | BH150: =IF(N150="zníž. prenesená",J150,0) -> 0 | BI150: =IF(N150="nulová",J150,0) -> 0 | BJ150: 2 | BK150: =ROUND(I150*H150,2) -> 0 | BL150: 16 | BM150: 48
C151: 15 | D151: K | E151: 764454803 | F151: Demontáž odpadových rúr kruhových, s priemerom 150 mm, -0,00356t | G151: m | H151: 115.2 | J151: =ROUND(I151*H151,2) -> 0 | N151: znížená | P151: =O151*H151 -> 0 | Q151: 0 | R151: =Q151*H151 -> 0 | S151: 0 | T151: =S151*H151 -> 0 | AR151: 16 | AT151: K | AU151: 2 | AY151: ROZPOCET | BE151: =IF(N151="základná",J151,0) -> 0 | BF151: =IF(N151="znížená",J151,0) -> 0 | BG151: =IF(N151="zákl. prenesená",J151,0) -> 0 | BH151: =IF(N151="zníž. prenesená",J151,0) -> 0 | BI151: =IF(N151="nulová",J151,0) -> 0 | BJ151: 2 | BK151: =ROUND(I151*H151,2) -> 0 | BL151: 16 | BM151: 52
C152: 16 | D152: K | E152: 998764202 | F152: Presun hmôt pre konštrukcie klampiarske v objektoch výšky nad 6 do 12 m | G152: % | J152: =ROUND(I152*H152,2) -> 0 | N152: znížená | P152: =O152*H152 -> 0 | Q152: 0 | R152: =Q152*H152 -> 0 | S152: 0 | T152: =S152*H152 -> 0 | AR152: 16 | AT152: K | AU152: 2 | AY152: ROZPOCET | BE152: =IF(N152="základná",J152,0) -> 0 | BF152: =IF(N152="znížená",J152,0) -> 0 | BG152: =IF(N152="zákl. prenesená",J152,0) -> 0 | BH152: =IF(N152="zníž. prenesená",J152,0) -> 0 | BI152: =IF(N152="nulová",J152,0) -> 0 | BJ152: 2 | BK152: =ROUND(I152*H152,2) -> 0 | BL152: 16 | BM152: 58
C154: Poznámka
C155: K správnemu naceneniu výkazu výmer je potrebné naštudovanie PD. Naceniť je potrebné jestvujúci výkaz výmer podľa pokynov tendrového zadávateľa, resp. navrhu zmluvy o dielo. Výkaz výmer je neoddeliteľnou súčasťou celej PD. Materiál výrobkov je definovaný vo VV a zároveň sú položky jednoznačne určené a spárovateľné k výkresovej alebo textovej časti projektovej dokumentácie, ktorá dané materiály, v potrebných prípadoch ešte presnejšie podrobnejšie špecifikuje, upresňuje ci konkretizuje technicky, parametricky alebo referenčným výrobkom. Informácie o materiáloch výrobkov vo výkresovej časti alebo technických správach môžu byť aj výrazne rozsiahlejšie ako je možné uviesť technicky v texte názvu položky vo výkaze výmer, preto je potrebné naštudovanie projektovej dokumentácie a oceňovať výkaz výmer ako celok a neoddeliteňú súčasť projektovej dokumentácie. Výmery položiek presunov hmot PSV vyjadrených mernými jednotkami v percentách % si uchádzač výpĺna sám podla metodiky rozpočtárskych programov napr. Cenkros, ODIS. Dodávateľ si zahrnie do jednotkových cien všetky náklady podla ZoD, vrátane VRN-ov: napr. označenie staveniska, čistenie, opatrenia pre stav. v zimnom období, poistenie, geodet. merania a dokumentáciu, skúšky, vzorky, dielenskú dokumentáciu, vyčistenie všetkých dotknutých plôch od stavebného odpadu.
