Workbook

Sheet Rekapitulácia stavby
A1: Export Komplet | BA1: 2.0 | BT1: False | BU1: False | BV1: {33d28244-f16d-41df-8f8d-f3ca91a79515}
AR2: >> skryté stĺpce << | BS2: 0,01 | BT2: 20
BS3: 0,01 | BT3: 20
D4: REKAPITULÁCIA STAVBY | AS4: v --- nižšie sa nachádzajú doplnkové a pomocné údaje k zostavám --- v | BE4: Návod na vyplnenie | BS4: 0,001
D5: Kód: | BE5: Meniť je možné iba bunky so žltým podfarbením!_x000D_ _x000D_ 1) na prvom liste Rekapitulácie stavby vyplňte v zostave_x000D_ _x000D_ a) Rekapitulácia stavby_x000D_ - údaje o Zhotoviteľovi_x000D_ (prenesú sa do ostatných zostáv aj v iných listoch)_x000D_ _x000D_ b) Rekapitulácia objektov stavby_x000D_ - potrebné Ostatné náklady_x000D_ _x000D_ 2) na vybraných listoch vyplňte v zostave_x000D_ _x000D_ a) Krycí list_x000D_ - údaje o Zhotoviteľovi, pokiaľ sa líšia od údajov o Zhotoviteľovi na Rekapitulácii stavby_x000D_ (údaje se prenesú do ostatných zostav v danom liste)_x000D_ _x000D_ b) Rekapitulácia rozpočtu_x000D_ - potrebné Ostatné náklady_x000D_ _x000D_ c) Celkové náklady za stavbu_x000D_ - ceny na položkách_x000D_ - množstvo, pokiaľ má žlté podfarbenie_x000D_ - a v prípade potreby poznámku (tá je v skrytom stĺpci) | BS5: 0,01
D6: Stavba: | K6: Zateplenie plniarne nealkoholických nápojov, Dunajská streda - časť búracie práce - aktualizácia jún 2023 | BS6: 0,01
D7: JKSO: | AK7: KS: | BS7: 0,01
D8: Miesto: | K8: Dunajská Streda | AK8: Dátum: | AN8: 8. 6. 2023 | BS8: 0,01
BS9: 0,01
D10: Objednávateľ: | AK10: IČO: | BS10: 0,01
E11: McCarter, a.s. | AK11: IČ DPH: | BS11: 0,01
BS12: 0,01
D13: Zhotoviteľ: | AK13: IČO: | AN13: Vyplň údaj | BS13: 0,01
E14: Vyplň údaj | AK14: IČ DPH: | AN14: Vyplň údaj | BS14: 0,01
BS15: False
D16: Projektant: | AK16: IČO: | BS16: False
E17: Ing.arch. Miroslav Marko M.Arch. | AK17: IČ DPH: | BS17: True
BS18: 0,01
D19: Spracovateľ: | AK19: IČO: | BS19: 0,01
E20: Rosoft,s.r.o. | AK20: IČ DPH: | BS20: True
D22: Poznámka:
D26: Náklady z rozpočtov | AK26: =ROUND(AG94,2) -> 0
D27: Ostatné náklady zo súhrnného listu | AK27: =ROUND(AG102, 2) -> 0
D29: Cena bez DPH | AK29: =ROUND(AK26 + AK27, 2) -> 0
L31: Sadzba dane | W31: Základ dane | AK31: Výška dane
D32: DPH | F32: základná | L32: 0.2 | W32: =ROUND(AZ94 + SUM(CD102:CD106), 2) -> 0 | AK32: =ROUND(AV94 + SUM(BY102:BY106), 2) -> 0
F33: znížená | L33: 0.2 | W33: =ROUND(BA94 + SUM(CE102:CE106), 2) -> 0 | AK33: =ROUND(AW94 + SUM(BZ102:BZ106), 2) -> 0
F34: zákl. prenesená | L34: 0.2 | W34: =ROUND(BB94 + SUM(CF102:CF106), 2) -> 0 | AK34: 0
F35: zníž. prenesená | L35: 0.2 | W35: =ROUND(BC94 + SUM(CG102:CG106), 2) -> 0 | AK35: 0
F36: nulová | L36: 0 | W36: =ROUND(BD94 + SUM(CH102:CH106), 2) -> 0 | AK36: 0
D38: Cena s DPH | T38: v | X38: EUR | AK38: =SUM(AK29:AK36) -> 0
D49: Projektant | AH49: Spracovateľ
D60: Dátum a podpis: | V60: Pečiatka | AH60: Dátum a podpis: | AM60: Pečiatka
D64: Objednávateľ | AH64: Zhotoviteľ
D75: Dátum a podpis: | V75: Pečiatka | AH75: Dátum a podpis: | AM75: Pečiatka
C82: REKAPITULÁCIA OBJEKTOV STAVBY
C84: Kód:
C85: Stavba: | L85: =K6 -> Zateplenie plniarne nealkoholických nápojov, Dunajská streda - časť búracie práce - aktualizácia jún 2023
C87: Miesto: | L87: =IF(K8="","",K8) -> Dunajská Streda | AI87: Dátum: | AM87: =IF(AN8= "","",AN8) -> 8. 6. 2023
C89: Objednávateľ: | L89: =IF(E11= "","",E11) -> McCarter, a.s. | AI89: Projektant: | AM89: =IF(E17="","",E17) -> Ing.arch. Miroslav Marko M.Arch. | AS89: Informatívne údaje z listov zákaziek
...

Sheet 01 - Zateplenie obvodovéh...
L2: >> skryté stĺpce << | AT2: {808e71bd-c433-494d-9fa0-91bc584e7869}
AT3: 0
D4: KRYCÍ LIST ROZPOČTU | M4: v --- nižšie sa nachádzajú doplnkové a pomocné údaje k zostavám --- v | AT4: False
D6: Stavba:
E7: ='Rekapitulácia stavby'!K6 -> Zateplenie plniarne nealkoholických nápojov, Dunajská streda - časť búracie práce - aktualizácia jún 2023
D8: Objekt:
E9: 01 - Zateplenie obvodového plášťa - búracie práce
D11: JKSO: | I11: KS:
D12: Miesto: | F12: Dunajská Streda | I12: Dátum: | J12: ='Rekapitulácia stavby'!AN8 -> 8. 6. 2023
D14: Objednávateľ: | I14: IČO:
E15: McCarter, a.s. | I15: IČ DPH:
D17: Zhotoviteľ: | I17: IČO: | J17: ='Rekapitulácia stavby'!AN13 -> Vyplň údaj
E18: ='Rekapitulácia stavby'!E14 -> Vyplň údaj | I18: IČ DPH: | J18: ='Rekapitulácia stavby'!AN14 -> Vyplň údaj
D20: Projektant: | I20: IČO:
E21: Ing.arch. Miroslav Marko M.Arch. | I21: IČ DPH:
D23: Spracovateľ: | I23: IČO:
E24: Rosoft,s.r.o. | I24: IČ DPH:
D26: Poznámka:
D30: Náklady z rozpočtu | J30: =J96 -> 0
D31: Ostatné náklady | J31: =J101 -> 0
D32: Cena bez DPH | J32: =ROUND(J30 + J31, 2) -> 0
F34: Základ dane | I34: Sadzba dane | J34: Výška dane
D35: DPH | E35: základná | F35: =ROUND((SUM(BE101:BE108) + SUM(BE128:BE139)), 2) -> 0 | I35: 0.2 | J35: =ROUND(((SUM(BE101:BE108) + SUM(BE128:BE139))*I35), 2) -> 0
E36: znížená | F36: =ROUND((SUM(BF101:BF108) + SUM(BF128:BF139)), 2) -> 0 | I36: 0.2 | J36: =ROUND(((SUM(BF101:BF108) + SUM(BF128:BF139))*I36), 2) -> 0
E37: zákl. prenesená | F37: =ROUND((SUM(BG101:BG108) + SUM(BG128:BG139)), 2) -> 0 | I37: 0.2 | J37: =0 -> 0
E38: zníž. prenesená | F38: =ROUND((SUM(BH101:BH108) + SUM(BH128:BH139)), 2) -> 0 | I38: 0.2 | J38: =0 -> 0
E39: nulová | F39: =ROUND((SUM(BI101:BI108) + SUM(BI128:BI139)), 2) -> 0 | I39: 0 | J39: =0 -> 0
D41: Cena s DPH | G41: v | H41: EUR | J41: =SUM(J32:J39) -> 0
D50: Projektant | G50: Spracovateľ
D61: Dátum a podpis: | F61: Pečiatka | G61: Dátum a podpis: | J61: Pečiatka
D65: Objednávateľ | G65: Zhotoviteľ
D76: Dátum a podpis: | F76: Pečiatka | G76: Dátum a podpis: | J76: Pečiatka
C82: REKAPITULÁCIA ROZPOČTU
C84: Stavba:
E85: =E7 -> Zateplenie plniarne nealkoholických nápojov, Dunajská streda - časť búracie práce - aktualizácia jún 2023
C86: Objekt:
E87: =E9 -> 01 - Zateplenie obvodového plášťa - búracie práce
C89: Miesto: | F89: =F12 -> Dunajská Streda | I89: Dátum: | J89: =IF(J12="","",J12) -> 8. 6. 2023
C91: Objednávateľ: | F91: =E15 -> McCarter, a.s. | I91: Projektant: | J91: =E21 -> Ing.arch. Miroslav Marko M.Arch.
C92: Zhotoviteľ: | F92: =IF(E18="","",E18) -> Vyplň údaj | I92: Spracovateľ: | J92: =E24 -> Rosoft,s.r.o.
...

Sheet 02 - Zateplenie strechy -...
L2: >> skryté stĺpce << | AT2: {dc6d3899-7452-4d7f-9bfe-050e6bffad96}
AT3: 0
D4: KRYCÍ LIST ROZPOČTU | M4: v --- nižšie sa nachádzajú doplnkové a pomocné údaje k zostavám --- v | AT4: False
D6: Stavba:
E7: ='Rekapitulácia stavby'!K6 -> Zateplenie plniarne nealkoholických nápojov, Dunajská streda - časť búracie práce - aktualizácia jún 2023
D8: Objekt:
E9: 02 - Zateplenie strechy - búracie práce
D11: JKSO: | I11: KS:
D12: Miesto: | F12: Dunajská Streda | I12: Dátum: | J12: ='Rekapitulácia stavby'!AN8 -> 8. 6. 2023
D14: Objednávateľ: | I14: IČO:
E15: McCarter, a.s. | I15: IČ DPH:
D17: Zhotoviteľ: | I17: IČO: | J17: ='Rekapitulácia stavby'!AN13 -> Vyplň údaj
E18: ='Rekapitulácia stavby'!E14 -> Vyplň údaj | I18: IČ DPH: | J18: ='Rekapitulácia stavby'!AN14 -> Vyplň údaj
D20: Projektant: | I20: IČO:
E21: Ing.arch. Miroslav Marko M.Arch. | I21: IČ DPH:
D23: Spracovateľ: | I23: IČO:
E24: Rosoft,s.r.o. | I24: IČ DPH:
D26: Poznámka:
D30: Náklady z rozpočtu | J30: =J96 -> 0
D31: Ostatné náklady | J31: =J106 -> 0
D32: Cena bez DPH | J32: =ROUND(J30 + J31, 2) -> 0
F34: Základ dane | I34: Sadzba dane | J34: Výška dane
D35: DPH | E35: základná | F35: =ROUND((SUM(BE106:BE113) + SUM(BE133:BE158)), 2) -> 0 | I35: 0.2 | J35: =ROUND(((SUM(BE106:BE113) + SUM(BE133:BE158))*I35), 2) -> 0
E36: znížená | F36: =ROUND((SUM(BF106:BF113) + SUM(BF133:BF158)), 2) -> 0 | I36: 0.2 | J36: =ROUND(((SUM(BF106:BF113) + SUM(BF133:BF158))*I36), 2) -> 0
E37: zákl. prenesená | F37: =ROUND((SUM(BG106:BG113) + SUM(BG133:BG158)), 2) -> 0 | I37: 0.2 | J37: =0 -> 0
E38: zníž. prenesená | F38: =ROUND((SUM(BH106:BH113) + SUM(BH133:BH158)), 2) -> 0 | I38: 0.2 | J38: =0 -> 0
E39: nulová | F39: =ROUND((SUM(BI106:BI113) + SUM(BI133:BI158)), 2) -> 0 | I39: 0 | J39: =0 -> 0
D41: Cena s DPH | G41: v | H41: EUR | J41: =SUM(J32:J39) -> 0
D50: Projektant | G50: Spracovateľ
D61: Dátum a podpis: | F61: Pečiatka | G61: Dátum a podpis: | J61: Pečiatka
D65: Objednávateľ | G65: Zhotoviteľ
D76: Dátum a podpis: | F76: Pečiatka | G76: Dátum a podpis: | J76: Pečiatka
C82: REKAPITULÁCIA ROZPOČTU
C84: Stavba:
E85: =E7 -> Zateplenie plniarne nealkoholických nápojov, Dunajská streda - časť búracie práce - aktualizácia jún 2023
C86: Objekt:
E87: =E9 -> 02 - Zateplenie strechy - búracie práce
C89: Miesto: | F89: =F12 -> Dunajská Streda | I89: Dátum: | J89: =IF(J12="","",J12) -> 8. 6. 2023
C91: Objednávateľ: | F91: =E15 -> McCarter, a.s. | I91: Projektant: | J91: =E21 -> Ing.arch. Miroslav Marko M.Arch.
C92: Zhotoviteľ: | F92: =IF(E18="","",E18) -> Vyplň údaj | I92: Spracovateľ: | J92: =E24 -> Rosoft,s.r.o.
...

Sheet 03 - Výmena vonkajších vý...
L2: >> skryté stĺpce << | AT2: {6155522e-8b37-4d97-be03-7836770dc292}
AT3: 0
D4: KRYCÍ LIST ROZPOČTU | M4: v --- nižšie sa nachádzajú doplnkové a pomocné údaje k zostavám --- v | AT4: False
D6: Stavba:
E7: ='Rekapitulácia stavby'!K6 -> Zateplenie plniarne nealkoholických nápojov, Dunajská streda - časť búracie práce - aktualizácia jún 2023
D8: Objekt:
E9: 03 - Výmena vonkajších výplní otvorov - búracie práce
D11: JKSO: | I11: KS:
D12: Miesto: | F12: Dunajská Streda | I12: Dátum: | J12: ='Rekapitulácia stavby'!AN8 -> 8. 6. 2023
D14: Objednávateľ: | I14: IČO:
E15: McCarter, a.s. | I15: IČ DPH:
D17: Zhotoviteľ: | I17: IČO: | J17: ='Rekapitulácia stavby'!AN13 -> Vyplň údaj
E18: ='Rekapitulácia stavby'!E14 -> Vyplň údaj | I18: IČ DPH: | J18: ='Rekapitulácia stavby'!AN14 -> Vyplň údaj
D20: Projektant: | I20: IČO:
E21: Ing.arch. Miroslav Marko M.Arch. | I21: IČ DPH:
D23: Spracovateľ: | I23: IČO:
E24: Rosoft,s.r.o. | I24: IČ DPH:
D26: Poznámka:
D30: Náklady z rozpočtu | J30: =J96 -> 0
D31: Ostatné náklady | J31: =J104 -> 0
D32: Cena bez DPH | J32: =ROUND(J30 + J31, 2) -> 0
F34: Základ dane | I34: Sadzba dane | J34: Výška dane
D35: DPH | E35: základná | F35: =ROUND((SUM(BE104:BE111) + SUM(BE131:BE163)), 2) -> 0 | I35: 0.2 | J35: =ROUND(((SUM(BE104:BE111) + SUM(BE131:BE163))*I35), 2) -> 0
E36: znížená | F36: =ROUND((SUM(BF104:BF111) + SUM(BF131:BF163)), 2) -> 0 | I36: 0.2 | J36: =ROUND(((SUM(BF104:BF111) + SUM(BF131:BF163))*I36), 2) -> 0
E37: zákl. prenesená | F37: =ROUND((SUM(BG104:BG111) + SUM(BG131:BG163)), 2) -> 0 | I37: 0.2 | J37: =0 -> 0
E38: zníž. prenesená | F38: =ROUND((SUM(BH104:BH111) + SUM(BH131:BH163)), 2) -> 0 | I38: 0.2 | J38: =0 -> 0
E39: nulová | F39: =ROUND((SUM(BI104:BI111) + SUM(BI131:BI163)), 2) -> 0 | I39: 0 | J39: =0 -> 0
D41: Cena s DPH | G41: v | H41: EUR | J41: =SUM(J32:J39) -> 0
D50: Projektant | G50: Spracovateľ
D61: Dátum a podpis: | F61: Pečiatka | G61: Dátum a podpis: | J61: Pečiatka
D65: Objednávateľ | G65: Zhotoviteľ
D76: Dátum a podpis: | F76: Pečiatka | G76: Dátum a podpis: | J76: Pečiatka
C82: REKAPITULÁCIA ROZPOČTU
C84: Stavba:
E85: =E7 -> Zateplenie plniarne nealkoholických nápojov, Dunajská streda - časť búracie práce - aktualizácia jún 2023
C86: Objekt:
E87: =E9 -> 03 - Výmena vonkajších výplní otvorov - búracie práce
C89: Miesto: | F89: =F12 -> Dunajská Streda | I89: Dátum: | J89: =IF(J12="","",J12) -> 8. 6. 2023
C91: Objednávateľ: | F91: =E15 -> McCarter, a.s. | I91: Projektant: | J91: =E21 -> Ing.arch. Miroslav Marko M.Arch.
C92: Zhotoviteľ: | F92: =IF(E18="","",E18) -> Vyplň údaj | I92: Spracovateľ: | J92: =E24 -> Rosoft,s.r.o.
...

Sheet 4.1 - Odstránenie a likvi...
L2: >> skryté stĺpce << | AT2: {1e64bd46-4f07-44fe-a95c-0d824f41a5da}
AT3: 0
D4: KRYCÍ LIST ROZPOČTU | M4: v --- nižšie sa nachádzajú doplnkové a pomocné údaje k zostavám --- v | AT4: False
D6: Stavba:
E7: ='Rekapitulácia stavby'!K6 -> Zateplenie plniarne nealkoholických nápojov, Dunajská streda - časť búracie práce - aktualizácia jún 2023
D8: Objekt:
E9: 4.1 - Odstránenie a likvidácia existujúceho bleskozvodu - búracie práce
D11: JKSO: | I11: KS:
D12: Miesto: | F12: Dunajská Streda | I12: Dátum: | J12: ='Rekapitulácia stavby'!AN8 -> 8. 6. 2023
D14: Objednávateľ: | I14: IČO:
E15: McCarter, a.s. | I15: IČ DPH:
D17: Zhotoviteľ: | I17: IČO: | J17: ='Rekapitulácia stavby'!AN13 -> Vyplň údaj
E18: ='Rekapitulácia stavby'!E14 -> Vyplň údaj | I18: IČ DPH: | J18: ='Rekapitulácia stavby'!AN14 -> Vyplň údaj
D20: Projektant: | I20: IČO:
E21: Ing.arch. Miroslav Marko M.Arch. | I21: IČ DPH:
D23: Spracovateľ: | I23: IČO:
E24: Rosoft,s.r.o. | I24: IČ DPH:
D26: Poznámka:
D30: Náklady z rozpočtu | J30: =J96 -> 0
D31: Ostatné náklady | J31: =J101 -> 0
D32: Cena bez DPH | J32: =ROUND(J30 + J31, 2) -> 0
F34: Základ dane | I34: Sadzba dane | J34: Výška dane
D35: DPH | E35: základná | F35: =ROUND((SUM(BE101:BE108) + SUM(BE128:BE148)), 2) -> 0 | I35: 0.2 | J35: =ROUND(((SUM(BE101:BE108) + SUM(BE128:BE148))*I35), 2) -> 0
E36: znížená | F36: =ROUND((SUM(BF101:BF108) + SUM(BF128:BF148)), 2) -> 0 | I36: 0.2 | J36: =ROUND(((SUM(BF101:BF108) + SUM(BF128:BF148))*I36), 2) -> 0
E37: zákl. prenesená | F37: =ROUND((SUM(BG101:BG108) + SUM(BG128:BG148)), 2) -> 0 | I37: 0.2 | J37: =0 -> 0
E38: zníž. prenesená | F38: =ROUND((SUM(BH101:BH108) + SUM(BH128:BH148)), 2) -> 0 | I38: 0.2 | J38: =0 -> 0
E39: nulová | F39: =ROUND((SUM(BI101:BI108) + SUM(BI128:BI148)), 2) -> 0 | I39: 0 | J39: =0 -> 0
D41: Cena s DPH | G41: v | H41: EUR | J41: =SUM(J32:J39) -> 0
D50: Projektant | G50: Spracovateľ
D61: Dátum a podpis: | F61: Pečiatka | G61: Dátum a podpis: | J61: Pečiatka
D65: Objednávateľ | G65: Zhotoviteľ
D76: Dátum a podpis: | F76: Pečiatka | G76: Dátum a podpis: | J76: Pečiatka
C82: REKAPITULÁCIA ROZPOČTU
C84: Stavba:
E85: =E7 -> Zateplenie plniarne nealkoholických nápojov, Dunajská streda - časť búracie práce - aktualizácia jún 2023
C86: Objekt:
E87: =E9 -> 4.1 - Odstránenie a likvidácia existujúceho bleskozvodu - búracie práce
C89: Miesto: | F89: =F12 -> Dunajská Streda | I89: Dátum: | J89: =IF(J12="","",J12) -> 8. 6. 2023
C91: Objednávateľ: | F91: =E15 -> McCarter, a.s. | I91: Projektant: | J91: =E21 -> Ing.arch. Miroslav Marko M.Arch.
C92: Zhotoviteľ: | F92: =IF(E18="","",E18) -> Vyplň údaj | I92: Spracovateľ: | J92: =E24 -> Rosoft,s.r.o.
...

Sheet 4.2 - Nový bleskozvod vrá...
L2: >> skryté stĺpce << | AT2: {a7c90c58-5641-4d76-bb71-44f91fe1f380}
AT3: 0
D4: KRYCÍ LIST ROZPOČTU | M4: v --- nižšie sa nachádzajú doplnkové a pomocné údaje k zostavám --- v | AT4: False
D6: Stavba:
E7: ='Rekapitulácia stavby'!K6 -> Zateplenie plniarne nealkoholických nápojov, Dunajská streda - časť búracie práce - aktualizácia jún 2023
D8: Objekt:
E9: 4.2 - Nový bleskozvod vrátane zvodov a uzemnenia - búracie práce
D11: JKSO: | I11: KS:
D12: Miesto: | F12: Dunajská Streda | I12: Dátum: | J12: ='Rekapitulácia stavby'!AN8 -> 8. 6. 2023
D14: Objednávateľ: | I14: IČO:
E15: McCarter, a.s. | I15: IČ DPH:
D17: Zhotoviteľ: | I17: IČO: | J17: ='Rekapitulácia stavby'!AN13 -> Vyplň údaj
E18: ='Rekapitulácia stavby'!E14 -> Vyplň údaj | I18: IČ DPH: | J18: ='Rekapitulácia stavby'!AN14 -> Vyplň údaj
D20: Projektant: | I20: IČO:
E21: Ing.arch. Miroslav Marko M.Arch. | I21: IČ DPH:
D23: Spracovateľ: | I23: IČO:
E24: Rosoft,s.r.o. | I24: IČ DPH:
D26: Poznámka:
D30: Náklady z rozpočtu | J30: =J96 -> 0
D31: Ostatné náklady | J31: =J101 -> 0
D32: Cena bez DPH | J32: =ROUND(J30 + J31, 2) -> 0
F34: Základ dane | I34: Sadzba dane | J34: Výška dane
D35: DPH | E35: základná | F35: =ROUND((SUM(BE101:BE108) + SUM(BE128:BE131)), 2) -> 0 | I35: 0.2 | J35: =ROUND(((SUM(BE101:BE108) + SUM(BE128:BE131))*I35), 2) -> 0
E36: znížená | F36: =ROUND((SUM(BF101:BF108) + SUM(BF128:BF131)), 2) -> 0 | I36: 0.2 | J36: =ROUND(((SUM(BF101:BF108) + SUM(BF128:BF131))*I36), 2) -> 0
E37: zákl. prenesená | F37: =ROUND((SUM(BG101:BG108) + SUM(BG128:BG131)), 2) -> 0 | I37: 0.2 | J37: =0 -> 0
E38: zníž. prenesená | F38: =ROUND((SUM(BH101:BH108) + SUM(BH128:BH131)), 2) -> 0 | I38: 0.2 | J38: =0 -> 0
E39: nulová | F39: =ROUND((SUM(BI101:BI108) + SUM(BI128:BI131)), 2) -> 0 | I39: 0 | J39: =0 -> 0
D41: Cena s DPH | G41: v | H41: EUR | J41: =SUM(J32:J39) -> 0
D50: Projektant | G50: Spracovateľ
D61: Dátum a podpis: | F61: Pečiatka | G61: Dátum a podpis: | J61: Pečiatka
D65: Objednávateľ | G65: Zhotoviteľ
D76: Dátum a podpis: | F76: Pečiatka | G76: Dátum a podpis: | J76: Pečiatka
C82: REKAPITULÁCIA ROZPOČTU
C84: Stavba:
E85: =E7 -> Zateplenie plniarne nealkoholických nápojov, Dunajská streda - časť búracie práce - aktualizácia jún 2023
C86: Objekt:
E87: =E9 -> 4.2 - Nový bleskozvod vrátane zvodov a uzemnenia - búracie práce
C89: Miesto: | F89: =F12 -> Dunajská Streda | I89: Dátum: | J89: =IF(J12="","",J12) -> 8. 6. 2023
C91: Objednávateľ: | F91: =E15 -> McCarter, a.s. | I91: Projektant: | J91: =E21 -> Ing.arch. Miroslav Marko M.Arch.
C92: Zhotoviteľ: | F92: =IF(E18="","",E18) -> Vyplň údaj | I92: Spracovateľ: | J92: =E24 -> Rosoft,s.r.o.
...

Sheet 5.1 - 5.1, 5.2, 5.3 - Ost...
L2: >> skryté stĺpce << | AT2: {ffd90ea1-7924-4247-ad8b-351aeca1eb53}
AT3: 0
D4: KRYCÍ LIST ROZPOČTU | M4: v --- nižšie sa nachádzajú doplnkové a pomocné údaje k zostavám --- v | AT4: False
D6: Stavba:
E7: ='Rekapitulácia stavby'!K6 -> Zateplenie plniarne nealkoholických nápojov, Dunajská streda - časť búracie práce - aktualizácia jún 2023
D8: Objekt:
E9: 5.1 - 5.1, 5.2, 5.3 - Ostatné stavebné úpravy - búracie práce
D11: JKSO: | I11: KS:
D12: Miesto: | F12: Dunajská Streda | I12: Dátum: | J12: ='Rekapitulácia stavby'!AN8 -> 8. 6. 2023
D14: Objednávateľ: | I14: IČO:
E15: McCarter, a.s. | I15: IČ DPH:
D17: Zhotoviteľ: | I17: IČO: | J17: ='Rekapitulácia stavby'!AN13 -> Vyplň údaj
E18: ='Rekapitulácia stavby'!E14 -> Vyplň údaj | I18: IČ DPH: | J18: ='Rekapitulácia stavby'!AN14 -> Vyplň údaj
D20: Projektant: | I20: IČO:
E21: Ing.arch. Miroslav Marko M.Arch. | I21: IČ DPH:
D23: Spracovateľ: | I23: IČO:
E24: Rosoft,s.r.o. | I24: IČ DPH:
D26: Poznámka:
D30: Náklady z rozpočtu | J30: =J96 -> 0
D31: Ostatné náklady | J31: =J104 -> 0
D32: Cena bez DPH | J32: =ROUND(J30 + J31, 2) -> 0
F34: Základ dane | I34: Sadzba dane | J34: Výška dane
D35: DPH | E35: základná | F35: =ROUND((SUM(BE104:BE111) + SUM(BE131:BE152)), 2) -> 0 | I35: 0.2 | J35: =ROUND(((SUM(BE104:BE111) + SUM(BE131:BE152))*I35), 2) -> 0
E36: znížená | F36: =ROUND((SUM(BF104:BF111) + SUM(BF131:BF152)), 2) -> 0 | I36: 0.2 | J36: =ROUND(((SUM(BF104:BF111) + SUM(BF131:BF152))*I36), 2) -> 0
E37: zákl. prenesená | F37: =ROUND((SUM(BG104:BG111) + SUM(BG131:BG152)), 2) -> 0 | I37: 0.2 | J37: =0 -> 0
E38: zníž. prenesená | F38: =ROUND((SUM(BH104:BH111) + SUM(BH131:BH152)), 2) -> 0 | I38: 0.2 | J38: =0 -> 0
E39: nulová | F39: =ROUND((SUM(BI104:BI111) + SUM(BI131:BI152)), 2) -> 0 | I39: 0 | J39: =0 -> 0
D41: Cena s DPH | G41: v | H41: EUR | J41: =SUM(J32:J39) -> 0
D50: Projektant | G50: Spracovateľ
D61: Dátum a podpis: | F61: Pečiatka | G61: Dátum a podpis: | J61: Pečiatka
D65: Objednávateľ | G65: Zhotoviteľ
D76: Dátum a podpis: | F76: Pečiatka | G76: Dátum a podpis: | J76: Pečiatka
C82: REKAPITULÁCIA ROZPOČTU
C84: Stavba:
E85: =E7 -> Zateplenie plniarne nealkoholických nápojov, Dunajská streda - časť búracie práce - aktualizácia jún 2023
C86: Objekt:
E87: =E9 -> 5.1 - 5.1, 5.2, 5.3 - Ostatné stavebné úpravy - búracie práce
C89: Miesto: | F89: =F12 -> Dunajská Streda | I89: Dátum: | J89: =IF(J12="","",J12) -> 8. 6. 2023
C91: Objednávateľ: | F91: =E15 -> McCarter, a.s. | I91: Projektant: | J91: =E21 -> Ing.arch. Miroslav Marko M.Arch.
C92: Zhotoviteľ: | F92: =IF(E18="","",E18) -> Vyplň údaj | I92: Spracovateľ: | J92: =E24 -> Rosoft,s.r.o.
...
