Workbook

Sheet Rekapitulácia stavby
A1: Export Komplet | BA1: 2.0 | BT1: False | BU1: False | BV1: {cb6820ca-c882-42ef-b56b-46eb015f0ac7}
AR2: >> skryté stĺpce << | BS2: 0,01 | BT2: 20
BS3: 0,01 | BT3: 20
D4: REKAPITULÁCIA STAVBY | AS4: v --- nižšie sa nachádzajú doplnkové a pomocné údaje k zostavám --- v | BE4: Návod na vyplnenie | BS4: 0,001
D5: Kód: | BE5: Meniť je možné iba bunky so žltým podfarbením!_x000D_ _x000D_ 1) na prvom liste Rekapitulácie stavby vyplňte v zostave_x000D_ _x000D_ a) Rekapitulácia stavby_x000D_ - údaje o Zhotoviteľovi_x000D_ (prenesú sa do ostatných zostáv aj v iných listoch)_x000D_ _x000D_ b) Rekapitulácia objektov stavby_x000D_ - potrebné Ostatné náklady_x000D_ _x000D_ 2) na vybraných listoch vyplňte v zostave_x000D_ _x000D_ a) Krycí list_x000D_ - údaje o Zhotoviteľovi, pokiaľ sa líšia od údajov o Zhotoviteľovi na Rekapitulácii stavby_x000D_ (údaje se prenesú do ostatných zostav v danom liste)_x000D_ _x000D_ b) Rekapitulácia rozpočtu_x000D_ - potrebné Ostatné náklady_x000D_ _x000D_ c) Celkové náklady za stavbu_x000D_ - ceny na položkách_x000D_ - množstvo, pokiaľ má žlté podfarbenie_x000D_ - a v prípade potreby poznámku (tá je v skrytom stĺpci) | BS5: 0,01
D6: Stavba: | K6: Zateplenie plniarne nealkoholických nápojov, Dunajská Streda - aktualizácia jún 2023 | BS6: 0,01
D7: JKSO: | AK7: KS: | BS7: 0,01
D8: Miesto: | K8: Dunajská Streda | AK8: Dátum: | AN8: 8. 6. 2023 | BS8: 0,01
BS9: 0,01
D10: Objednávateľ: | AK10: IČO: | BS10: 0,01
E11: McCarter, a.s. | AK11: IČ DPH: | BS11: 0,01
BS12: 0,01
D13: Zhotoviteľ: | AK13: IČO: | AN13: Vyplň údaj | BS13: 0,01
E14: Vyplň údaj | AK14: IČ DPH: | AN14: Vyplň údaj | BS14: 0,01
BS15: False
D16: Projektant: | AK16: IČO: | BS16: False
E17: Ing.arch. Miroslav Marko M.Arch. | AK17: IČ DPH: | BS17: True
BS18: 0,01
D19: Spracovateľ: | AK19: IČO: | BS19: 0,01
E20: Rosoft,s.r.o. | AK20: IČ DPH: | BS20: True
D22: Poznámka:
D26: Náklady z rozpočtov | AK26: =ROUND(AG94,2) -> 0
D27: Ostatné náklady zo súhrnného listu | AK27: =ROUND(AG104, 2) -> 0
D29: Cena bez DPH | AK29: =ROUND(AK26 + AK27, 2) -> 0
L31: Sadzba dane | W31: Základ dane | AK31: Výška dane
D32: DPH | F32: základná | L32: 0.2 | W32: =ROUND(AZ94 + SUM(CD104:CD108), 2) -> 0 | AK32: =ROUND(AV94 + SUM(BY104:BY108), 2) -> 0
F33: znížená | L33: 0.2 | W33: =ROUND(BA94 + SUM(CE104:CE108), 2) -> 0 | AK33: =ROUND(AW94 + SUM(BZ104:BZ108), 2) -> 0
F34: zákl. prenesená | L34: 0.2 | W34: =ROUND(BB94 + SUM(CF104:CF108), 2) -> 0 | AK34: 0
F35: zníž. prenesená | L35: 0.2 | W35: =ROUND(BC94 + SUM(CG104:CG108), 2) -> 0 | AK35: 0
F36: nulová | L36: 0 | W36: =ROUND(BD94 + SUM(CH104:CH108), 2) -> 0 | AK36: 0
D38: Cena s DPH | T38: v | X38: EUR | AK38: =SUM(AK29:AK36) -> 0
D49: Projektant | AH49: Spracovateľ
D60: Dátum a podpis: | V60: Pečiatka | AH60: Dátum a podpis: | AM60: Pečiatka
D64: Objednávateľ | AH64: Zhotoviteľ
D75: Dátum a podpis: | V75: Pečiatka | AH75: Dátum a podpis: | AM75: Pečiatka
C82: REKAPITULÁCIA OBJEKTOV STAVBY
C84: Kód:
C85: Stavba: | L85: =K6 -> Zateplenie plniarne nealkoholických nápojov, Dunajská Streda - aktualizácia jún 2023
C87: Miesto: | L87: =IF(K8="","",K8) -> Dunajská Streda | AI87: Dátum: | AM87: =IF(AN8= "","",AN8) -> 8. 6. 2023
C89: Objednávateľ: | L89: =IF(E11= "","",E11) -> McCarter, a.s. | AI89: Projektant: | AM89: =IF(E17="","",E17) -> Ing.arch. Miroslav Marko M.Arch. | AS89: Informatívne údaje z listov zákaziek
...

Sheet 01 - Zateplenie obvodovéh...
L2: >> skryté stĺpce << | AT2: {d9a4a02c-bd6e-40ba-8075-b30ec6b6a49e}
AT3: 0
D4: KRYCÍ LIST ROZPOČTU | M4: v --- nižšie sa nachádzajú doplnkové a pomocné údaje k zostavám --- v | AT4: False
D6: Stavba:
E7: ='Rekapitulácia stavby'!K6 -> Zateplenie plniarne nealkoholických nápojov, Dunajská Streda - aktualizácia jún 2023
D8: Objekt:
E9: 01 - Zateplenie obvodového plášťa
D11: JKSO: | I11: KS:
D12: Miesto: | F12: Dunajská Streda | I12: Dátum: | J12: ='Rekapitulácia stavby'!AN8 -> 8. 6. 2023
D14: Objednávateľ: | I14: IČO:
E15: McCarter, a.s. | I15: IČ DPH:
D17: Zhotoviteľ: | I17: IČO: | J17: ='Rekapitulácia stavby'!AN13 -> Vyplň údaj
E18: ='Rekapitulácia stavby'!E14 -> Vyplň údaj | I18: IČ DPH: | J18: ='Rekapitulácia stavby'!AN14 -> Vyplň údaj
D20: Projektant: | I20: IČO:
E21: Ing.arch. Miroslav Marko M.Arch. | I21: IČ DPH:
D23: Spracovateľ: | I23: IČO:
E24: Rosoft, s.r.o. | I24: IČ DPH:
D26: Poznámka:
D30: Náklady z rozpočtu | J30: =J96 -> 0
D31: Ostatné náklady | J31: =J108 -> 0
D32: Cena bez DPH | J32: =ROUND(J30 + J31, 2) -> 0
F34: Základ dane | I34: Sadzba dane | J34: Výška dane
D35: DPH | E35: základná | F35: =ROUND((ROUND((SUM(BE108:BE115) + SUM(BE135:BE209)), 2) + SUM(BE213)), 2) -> 0 | I35: 0.2 | J35: =ROUND((ROUND(((SUM(BE108:BE115) + SUM(BE135:BE209))*I35), 2) + (SUM(BE213)*I35)), 2) -> 0
E36: znížená | F36: =ROUND((ROUND((SUM(BF108:BF115) + SUM(BF135:BF209)), 2) + SUM(BF213)), 2) -> 0 | I36: 0.2 | J36: =ROUND((ROUND(((SUM(BF108:BF115) + SUM(BF135:BF209))*I36), 2) + (SUM(BF213)*I36)), 2) -> 0
E37: zákl. prenesená | F37: =ROUND((ROUND((SUM(BG108:BG115) + SUM(BG135:BG209)), 2) + SUM(BG213)), 2) -> 0 | I37: 0.2 | J37: =0 -> 0
E38: zníž. prenesená | F38: =ROUND((ROUND((SUM(BH108:BH115) + SUM(BH135:BH209)), 2) + SUM(BH213)), 2) -> 0 | I38: 0.2 | J38: =0 -> 0
E39: nulová | F39: =ROUND((ROUND((SUM(BI108:BI115) + SUM(BI135:BI209)), 2) + SUM(BI213)), 2) -> 0 | I39: 0 | J39: =0 -> 0
D41: Cena s DPH | G41: v | H41: EUR | J41: =SUM(J32:J39) -> 0
D50: Projektant | G50: Spracovateľ
D61: Dátum a podpis: | F61: Pečiatka | G61: Dátum a podpis: | J61: Pečiatka
D65: Objednávateľ | G65: Zhotoviteľ
D76: Dátum a podpis: | F76: Pečiatka | G76: Dátum a podpis: | J76: Pečiatka
C82: REKAPITULÁCIA ROZPOČTU
C84: Stavba:
E85: =E7 -> Zateplenie plniarne nealkoholických nápojov, Dunajská Streda - aktualizácia jún 2023
C86: Objekt:
E87: =E9 -> 01 - Zateplenie obvodového plášťa
C89: Miesto: | F89: =F12 -> Dunajská Streda | I89: Dátum: | J89: =IF(J12="","",J12) -> 8. 6. 2023
C91: Objednávateľ: | F91: =E15 -> McCarter, a.s. | I91: Projektant: | J91: =E21 -> Ing.arch. Miroslav Marko M.Arch.
C92: Zhotoviteľ: | F92: =IF(E18="","",E18) -> Vyplň údaj | I92: Spracovateľ: | J92: =E24 -> Rosoft, s.r.o.
...

Sheet 02 - Zateplenie strechy
L2: >> skryté stĺpce << | AT2: {c8c06e1a-8c7d-49de-8e68-58754604c38b}
AT3: 0
D4: KRYCÍ LIST ROZPOČTU | M4: v --- nižšie sa nachádzajú doplnkové a pomocné údaje k zostavám --- v | AT4: False
D6: Stavba:
E7: ='Rekapitulácia stavby'!K6 -> Zateplenie plniarne nealkoholických nápojov, Dunajská Streda - aktualizácia jún 2023
D8: Objekt:
E9: 02 - Zateplenie strechy
D11: JKSO: | I11: KS:
D12: Miesto: | F12: Dunajská Streda | I12: Dátum: | J12: ='Rekapitulácia stavby'!AN8 -> 8. 6. 2023
D14: Objednávateľ: | I14: IČO:
E15: McCarter, a.s. | I15: IČ DPH:
D17: Zhotoviteľ: | I17: IČO: | J17: ='Rekapitulácia stavby'!AN13 -> Vyplň údaj
E18: ='Rekapitulácia stavby'!E14 -> Vyplň údaj | I18: IČ DPH: | J18: ='Rekapitulácia stavby'!AN14 -> Vyplň údaj
D20: Projektant: | I20: IČO:
E21: Ing.arch. Miroslav Marko M.Arch. | I21: IČ DPH:
D23: Spracovateľ: | I23: IČO:
E24: Rosoft, s.r.o. | I24: IČ DPH:
D26: Poznámka:
D30: Náklady z rozpočtu | J30: =J96 -> 0
D31: Ostatné náklady | J31: =J111 -> 0
D32: Cena bez DPH | J32: =ROUND(J30 + J31, 2) -> 0
F34: Základ dane | I34: Sadzba dane | J34: Výška dane
D35: DPH | E35: základná | F35: =ROUND((ROUND((SUM(BE111:BE118) + SUM(BE138:BE198)), 2) + SUM(BE202)), 2) -> 0 | I35: 0.2 | J35: =ROUND((ROUND(((SUM(BE111:BE118) + SUM(BE138:BE198))*I35), 2) + (SUM(BE202)*I35)), 2) -> 0
E36: znížená | F36: =ROUND((ROUND((SUM(BF111:BF118) + SUM(BF138:BF198)), 2) + SUM(BF202)), 2) -> 0 | I36: 0.2 | J36: =ROUND((ROUND(((SUM(BF111:BF118) + SUM(BF138:BF198))*I36), 2) + (SUM(BF202)*I36)), 2) -> 0
E37: zákl. prenesená | F37: =ROUND((ROUND((SUM(BG111:BG118) + SUM(BG138:BG198)), 2) + SUM(BG202)), 2) -> 0 | I37: 0.2 | J37: =0 -> 0
E38: zníž. prenesená | F38: =ROUND((ROUND((SUM(BH111:BH118) + SUM(BH138:BH198)), 2) + SUM(BH202)), 2) -> 0 | I38: 0.2 | J38: =0 -> 0
E39: nulová | F39: =ROUND((ROUND((SUM(BI111:BI118) + SUM(BI138:BI198)), 2) + SUM(BI202)), 2) -> 0 | I39: 0 | J39: =0 -> 0
D41: Cena s DPH | G41: v | H41: EUR | J41: =SUM(J32:J39) -> 0
D50: Projektant | G50: Spracovateľ
D61: Dátum a podpis: | F61: Pečiatka | G61: Dátum a podpis: | J61: Pečiatka
D65: Objednávateľ | G65: Zhotoviteľ
D76: Dátum a podpis: | F76: Pečiatka | G76: Dátum a podpis: | J76: Pečiatka
C82: REKAPITULÁCIA ROZPOČTU
C84: Stavba:
E85: =E7 -> Zateplenie plniarne nealkoholických nápojov, Dunajská Streda - aktualizácia jún 2023
C86: Objekt:
E87: =E9 -> 02 - Zateplenie strechy
C89: Miesto: | F89: =F12 -> Dunajská Streda | I89: Dátum: | J89: =IF(J12="","",J12) -> 8. 6. 2023
C91: Objednávateľ: | F91: =E15 -> McCarter, a.s. | I91: Projektant: | J91: =E21 -> Ing.arch. Miroslav Marko M.Arch.
C92: Zhotoviteľ: | F92: =IF(E18="","",E18) -> Vyplň údaj | I92: Spracovateľ: | J92: =E24 -> Rosoft, s.r.o.
...

Sheet 03 - Výmena vonkajších vý...
L2: >> skryté stĺpce << | AT2: {f7144983-ea71-45f3-9703-8eb39781358f}
AT3: 0
D4: KRYCÍ LIST ROZPOČTU | M4: v --- nižšie sa nachádzajú doplnkové a pomocné údaje k zostavám --- v | AT4: False
D6: Stavba:
E7: ='Rekapitulácia stavby'!K6 -> Zateplenie plniarne nealkoholických nápojov, Dunajská Streda - aktualizácia jún 2023
D8: Objekt:
E9: 03 - Výmena vonkajších výplní otvorov
D11: JKSO: | I11: KS:
D12: Miesto: | F12: Dunajská Streda | I12: Dátum: | J12: ='Rekapitulácia stavby'!AN8 -> 8. 6. 2023
D14: Objednávateľ: | I14: IČO:
E15: McCarter, a.s. | I15: IČ DPH:
D17: Zhotoviteľ: | I17: IČO: | J17: ='Rekapitulácia stavby'!AN13 -> Vyplň údaj
E18: ='Rekapitulácia stavby'!E14 -> Vyplň údaj | I18: IČ DPH: | J18: ='Rekapitulácia stavby'!AN14 -> Vyplň údaj
D20: Projektant: | I20: IČO:
E21: Ing.arch. Miroslav Marko M.Arch. | I21: IČ DPH:
D23: Spracovateľ: | I23: IČO:
E24: Rosoft, s.r.o. | I24: IČ DPH:
D26: Poznámka:
D30: Náklady z rozpočtu | J30: =J96 -> 0
D31: Ostatné náklady | J31: =J110 -> 0
D32: Cena bez DPH | J32: =ROUND(J30 + J31, 2) -> 0
F34: Základ dane | I34: Sadzba dane | J34: Výška dane
D35: DPH | E35: základná | F35: =ROUND((ROUND((SUM(BE110:BE117) + SUM(BE137:BE202)), 2) + SUM(BE206)), 2) -> 0 | I35: 0.2 | J35: =ROUND((ROUND(((SUM(BE110:BE117) + SUM(BE137:BE202))*I35), 2) + (SUM(BE206)*I35)), 2) -> 0
E36: znížená | F36: =ROUND((ROUND((SUM(BF110:BF117) + SUM(BF137:BF202)), 2) + SUM(BF206)), 2) -> 0 | I36: 0.2 | J36: =ROUND((ROUND(((SUM(BF110:BF117) + SUM(BF137:BF202))*I36), 2) + (SUM(BF206)*I36)), 2) -> 0
E37: zákl. prenesená | F37: =ROUND((ROUND((SUM(BG110:BG117) + SUM(BG137:BG202)), 2) + SUM(BG206)), 2) -> 0 | I37: 0.2 | J37: =0 -> 0
E38: zníž. prenesená | F38: =ROUND((ROUND((SUM(BH110:BH117) + SUM(BH137:BH202)), 2) + SUM(BH206)), 2) -> 0 | I38: 0.2 | J38: =0 -> 0
E39: nulová | F39: =ROUND((ROUND((SUM(BI110:BI117) + SUM(BI137:BI202)), 2) + SUM(BI206)), 2) -> 0 | I39: 0 | J39: =0 -> 0
D41: Cena s DPH | G41: v | H41: EUR | J41: =SUM(J32:J39) -> 0
D50: Projektant | G50: Spracovateľ
D61: Dátum a podpis: | F61: Pečiatka | G61: Dátum a podpis: | J61: Pečiatka
D65: Objednávateľ | G65: Zhotoviteľ
D76: Dátum a podpis: | F76: Pečiatka | G76: Dátum a podpis: | J76: Pečiatka
C82: REKAPITULÁCIA ROZPOČTU
C84: Stavba:
E85: =E7 -> Zateplenie plniarne nealkoholických nápojov, Dunajská Streda - aktualizácia jún 2023
C86: Objekt:
E87: =E9 -> 03 - Výmena vonkajších výplní otvorov
C89: Miesto: | F89: =F12 -> Dunajská Streda | I89: Dátum: | J89: =IF(J12="","",J12) -> 8. 6. 2023
C91: Objednávateľ: | F91: =E15 -> McCarter, a.s. | I91: Projektant: | J91: =E21 -> Ing.arch. Miroslav Marko M.Arch.
C92: Zhotoviteľ: | F92: =IF(E18="","",E18) -> Vyplň údaj | I92: Spracovateľ: | J92: =E24 -> Rosoft, s.r.o.
...

Sheet 4.1 - Odstránenie a likvi...
L2: >> skryté stĺpce << | AT2: {fbbd3238-9f2d-48ea-9a73-7618e6fd74d6}
AT3: 0
D4: KRYCÍ LIST ROZPOČTU | M4: v --- nižšie sa nachádzajú doplnkové a pomocné údaje k zostavám --- v | AT4: False
D6: Stavba:
E7: ='Rekapitulácia stavby'!K6 -> Zateplenie plniarne nealkoholických nápojov, Dunajská Streda - aktualizácia jún 2023
D8: Objekt:
E9: 4.1 - Odstránenie a likvidácia existujúceho bleskozvodu
D11: JKSO: | I11: KS:
D12: Miesto: | F12: Dunajská Streda | I12: Dátum: | J12: ='Rekapitulácia stavby'!AN8 -> 8. 6. 2023
D14: Objednávateľ: | I14: IČO:
E15: McCarter, a.s. | I15: IČ DPH:
D17: Zhotoviteľ: | I17: IČO: | J17: ='Rekapitulácia stavby'!AN13 -> Vyplň údaj
E18: ='Rekapitulácia stavby'!E14 -> Vyplň údaj | I18: IČ DPH: | J18: ='Rekapitulácia stavby'!AN14 -> Vyplň údaj
D20: Projektant: | I20: IČO:
E21: Ing.arch. Miroslav Marko M.Arch. | I21: IČ DPH:
D23: Spracovateľ: | I23: IČO:
E24: Rosoft, s.r.o. | I24: IČ DPH:
D26: Poznámka:
D30: Náklady z rozpočtu | J30: =J96 -> 0
D31: Ostatné náklady | J31: =J102 -> 0
D32: Cena bez DPH | J32: =ROUND(J30 + J31, 2) -> 0
F34: Základ dane | I34: Sadzba dane | J34: Výška dane
D35: DPH | E35: základná | F35: =ROUND((ROUND((SUM(BE102:BE109) + SUM(BE129:BE149)), 2) + SUM(BE153)), 2) -> 0 | I35: 0.2 | J35: =ROUND((ROUND(((SUM(BE102:BE109) + SUM(BE129:BE149))*I35), 2) + (SUM(BE153)*I35)), 2) -> 0
E36: znížená | F36: =ROUND((ROUND((SUM(BF102:BF109) + SUM(BF129:BF149)), 2) + SUM(BF153)), 2) -> 0 | I36: 0.2 | J36: =ROUND((ROUND(((SUM(BF102:BF109) + SUM(BF129:BF149))*I36), 2) + (SUM(BF153)*I36)), 2) -> 0
E37: zákl. prenesená | F37: =ROUND((ROUND((SUM(BG102:BG109) + SUM(BG129:BG149)), 2) + SUM(BG153)), 2) -> 0 | I37: 0.2 | J37: =0 -> 0
E38: zníž. prenesená | F38: =ROUND((ROUND((SUM(BH102:BH109) + SUM(BH129:BH149)), 2) + SUM(BH153)), 2) -> 0 | I38: 0.2 | J38: =0 -> 0
E39: nulová | F39: =ROUND((ROUND((SUM(BI102:BI109) + SUM(BI129:BI149)), 2) + SUM(BI153)), 2) -> 0 | I39: 0 | J39: =0 -> 0
D41: Cena s DPH | G41: v | H41: EUR | J41: =SUM(J32:J39) -> 0
D50: Projektant | G50: Spracovateľ
D61: Dátum a podpis: | F61: Pečiatka | G61: Dátum a podpis: | J61: Pečiatka
D65: Objednávateľ | G65: Zhotoviteľ
D76: Dátum a podpis: | F76: Pečiatka | G76: Dátum a podpis: | J76: Pečiatka
C82: REKAPITULÁCIA ROZPOČTU
C84: Stavba:
E85: =E7 -> Zateplenie plniarne nealkoholických nápojov, Dunajská Streda - aktualizácia jún 2023
C86: Objekt:
E87: =E9 -> 4.1 - Odstránenie a likvidácia existujúceho bleskozvodu
C89: Miesto: | F89: =F12 -> Dunajská Streda | I89: Dátum: | J89: =IF(J12="","",J12) -> 8. 6. 2023
C91: Objednávateľ: | F91: =E15 -> McCarter, a.s. | I91: Projektant: | J91: =E21 -> Ing.arch. Miroslav Marko M.Arch.
C92: Zhotoviteľ: | F92: =IF(E18="","",E18) -> Vyplň údaj | I92: Spracovateľ: | J92: =E24 -> Rosoft, s.r.o.
...

Sheet 4.2 - Nový bleskozvod vrá...
L2: >> skryté stĺpce << | AT2: {9402b2cd-986d-495f-960b-e7d062e7f3b8}
AT3: 0
D4: KRYCÍ LIST ROZPOČTU | M4: v --- nižšie sa nachádzajú doplnkové a pomocné údaje k zostavám --- v | AT4: False
D6: Stavba:
E7: ='Rekapitulácia stavby'!K6 -> Zateplenie plniarne nealkoholických nápojov, Dunajská Streda - aktualizácia jún 2023
D8: Objekt:
E9: 4.2 - Nový bleskozvod vrátane zvodov a uzemnenia
D11: JKSO: | I11: KS:
D12: Miesto: | F12: Dunajská Streda | I12: Dátum: | J12: ='Rekapitulácia stavby'!AN8 -> 8. 6. 2023
D14: Objednávateľ: | I14: IČO:
E15: McCarter, a.s. | I15: IČ DPH:
D17: Zhotoviteľ: | I17: IČO: | J17: ='Rekapitulácia stavby'!AN13 -> Vyplň údaj
E18: ='Rekapitulácia stavby'!E14 -> Vyplň údaj | I18: IČ DPH: | J18: ='Rekapitulácia stavby'!AN14 -> Vyplň údaj
D20: Projektant: | I20: IČO:
E21: Ing.arch. Miroslav Marko M.Arch. | I21: IČ DPH:
D23: Spracovateľ: | I23: IČO:
E24: Rosoft, s.r.o. | I24: IČ DPH:
D26: Poznámka:
D30: Náklady z rozpočtu | J30: =J96 -> 0
D31: Ostatné náklady | J31: =J106 -> 0
D32: Cena bez DPH | J32: =ROUND(J30 + J31, 2) -> 0
F34: Základ dane | I34: Sadzba dane | J34: Výška dane
D35: DPH | E35: základná | F35: =ROUND((ROUND((SUM(BE106:BE113) + SUM(BE133:BE190)), 2) + SUM(BE194)), 2) -> 0 | I35: 0.2 | J35: =ROUND((ROUND(((SUM(BE106:BE113) + SUM(BE133:BE190))*I35), 2) + (SUM(BE194)*I35)), 2) -> 0
E36: znížená | F36: =ROUND((ROUND((SUM(BF106:BF113) + SUM(BF133:BF190)), 2) + SUM(BF194)), 2) -> 0 | I36: 0.2 | J36: =ROUND((ROUND(((SUM(BF106:BF113) + SUM(BF133:BF190))*I36), 2) + (SUM(BF194)*I36)), 2) -> 0
E37: zákl. prenesená | F37: =ROUND((ROUND((SUM(BG106:BG113) + SUM(BG133:BG190)), 2) + SUM(BG194)), 2) -> 0 | I37: 0.2 | J37: =0 -> 0
E38: zníž. prenesená | F38: =ROUND((ROUND((SUM(BH106:BH113) + SUM(BH133:BH190)), 2) + SUM(BH194)), 2) -> 0 | I38: 0.2 | J38: =0 -> 0
E39: nulová | F39: =ROUND((ROUND((SUM(BI106:BI113) + SUM(BI133:BI190)), 2) + SUM(BI194)), 2) -> 0 | I39: 0 | J39: =0 -> 0
D41: Cena s DPH | G41: v | H41: EUR | J41: =SUM(J32:J39) -> 0
D50: Projektant | G50: Spracovateľ
D61: Dátum a podpis: | F61: Pečiatka | G61: Dátum a podpis: | J61: Pečiatka
D65: Objednávateľ | G65: Zhotoviteľ
D76: Dátum a podpis: | F76: Pečiatka | G76: Dátum a podpis: | J76: Pečiatka
C82: REKAPITULÁCIA ROZPOČTU
C84: Stavba:
E85: =E7 -> Zateplenie plniarne nealkoholických nápojov, Dunajská Streda - aktualizácia jún 2023
C86: Objekt:
E87: =E9 -> 4.2 - Nový bleskozvod vrátane zvodov a uzemnenia
C89: Miesto: | F89: =F12 -> Dunajská Streda | I89: Dátum: | J89: =IF(J12="","",J12) -> 8. 6. 2023
C91: Objednávateľ: | F91: =E15 -> McCarter, a.s. | I91: Projektant: | J91: =E21 -> Ing.arch. Miroslav Marko M.Arch.
C92: Zhotoviteľ: | F92: =IF(E18="","",E18) -> Vyplň údaj | I92: Spracovateľ: | J92: =E24 -> Rosoft, s.r.o.
...

Sheet 4.3 - Výmena osvetlovacíc...
L2: >> skryté stĺpce << | AT2: {c6c7fbb9-4f5c-4de8-ac5f-371702bc60b0}
AT3: 0
D4: KRYCÍ LIST ROZPOČTU | M4: v --- nižšie sa nachádzajú doplnkové a pomocné údaje k zostavám --- v | AT4: False
D6: Stavba:
E7: ='Rekapitulácia stavby'!K6 -> Zateplenie plniarne nealkoholických nápojov, Dunajská Streda - aktualizácia jún 2023
D8: Objekt:
E9: 4.3 - Výmena osvetlovacích telies v interiéri a na fasáde
D11: JKSO: | I11: KS:
D12: Miesto: | F12: Dunajská Streda | I12: Dátum: | J12: ='Rekapitulácia stavby'!AN8 -> 8. 6. 2023
D14: Objednávateľ: | I14: IČO:
E15: McCarter, a.s. | I15: IČ DPH:
D17: Zhotoviteľ: | I17: IČO: | J17: ='Rekapitulácia stavby'!AN13 -> Vyplň údaj
E18: ='Rekapitulácia stavby'!E14 -> Vyplň údaj | I18: IČ DPH: | J18: ='Rekapitulácia stavby'!AN14 -> Vyplň údaj
D20: Projektant: | I20: IČO:
E21: Ing.arch. Miroslav Marko M.Arch. | I21: IČ DPH:
D23: Spracovateľ: | I23: IČO:
E24: Rosoft, s.r.o. | I24: IČ DPH:
D26: Poznámka:
D30: Náklady z rozpočtu | J30: =J96 -> 0
D31: Ostatné náklady | J31: =J102 -> 0
D32: Cena bez DPH | J32: =ROUND(J30 + J31, 2) -> 0
F34: Základ dane | I34: Sadzba dane | J34: Výška dane
D35: DPH | E35: základná | F35: =ROUND((ROUND((SUM(BE102:BE109) + SUM(BE129:BE145)), 2) + SUM(BE149)), 2) -> 0 | I35: 0.2 | J35: =ROUND((ROUND(((SUM(BE102:BE109) + SUM(BE129:BE145))*I35), 2) + (SUM(BE149)*I35)), 2) -> 0
E36: znížená | F36: =ROUND((ROUND((SUM(BF102:BF109) + SUM(BF129:BF145)), 2) + SUM(BF149)), 2) -> 0 | I36: 0.2 | J36: =ROUND((ROUND(((SUM(BF102:BF109) + SUM(BF129:BF145))*I36), 2) + (SUM(BF149)*I36)), 2) -> 0
E37: zákl. prenesená | F37: =ROUND((ROUND((SUM(BG102:BG109) + SUM(BG129:BG145)), 2) + SUM(BG149)), 2) -> 0 | I37: 0.2 | J37: =0 -> 0
E38: zníž. prenesená | F38: =ROUND((ROUND((SUM(BH102:BH109) + SUM(BH129:BH145)), 2) + SUM(BH149)), 2) -> 0 | I38: 0.2 | J38: =0 -> 0
E39: nulová | F39: =ROUND((ROUND((SUM(BI102:BI109) + SUM(BI129:BI145)), 2) + SUM(BI149)), 2) -> 0 | I39: 0 | J39: =0 -> 0
D41: Cena s DPH | G41: v | H41: EUR | J41: =SUM(J32:J39) -> 0
D50: Projektant | G50: Spracovateľ
D61: Dátum a podpis: | F61: Pečiatka | G61: Dátum a podpis: | J61: Pečiatka
D65: Objednávateľ | G65: Zhotoviteľ
D76: Dátum a podpis: | F76: Pečiatka | G76: Dátum a podpis: | J76: Pečiatka
C82: REKAPITULÁCIA ROZPOČTU
C84: Stavba:
E85: =E7 -> Zateplenie plniarne nealkoholických nápojov, Dunajská Streda - aktualizácia jún 2023
C86: Objekt:
E87: =E9 -> 4.3 - Výmena osvetlovacích telies v interiéri a na fasáde
C89: Miesto: | F89: =F12 -> Dunajská Streda | I89: Dátum: | J89: =IF(J12="","",J12) -> 8. 6. 2023
C91: Objednávateľ: | F91: =E15 -> McCarter, a.s. | I91: Projektant: | J91: =E21 -> Ing.arch. Miroslav Marko M.Arch.
C92: Zhotoviteľ: | F92: =IF(E18="","",E18) -> Vyplň údaj | I92: Spracovateľ: | J92: =E24 -> Rosoft, s.r.o.
...

Sheet 4.4 - Fotovoltaická elekt...
L2: >> skryté stĺpce << | AT2: {6d690bad-3799-4353-af09-ba733f1c75f3}
AT3: 0
D4: KRYCÍ LIST ROZPOČTU | M4: v --- nižšie sa nachádzajú doplnkové a pomocné údaje k zostavám --- v | AT4: False
D6: Stavba:
E7: ='Rekapitulácia stavby'!K6 -> Zateplenie plniarne nealkoholických nápojov, Dunajská Streda - aktualizácia jún 2023
D8: Objekt:
E9: 4.4 - Fotovoltaická elektráreň
D11: JKSO: | I11: KS:
D12: Miesto: | F12: Dunajská Streda | I12: Dátum: | J12: ='Rekapitulácia stavby'!AN8 -> 8. 6. 2023
D14: Objednávateľ: | I14: IČO:
E15: McCarter, a.s. | I15: IČ DPH:
D17: Zhotoviteľ: | I17: IČO: | J17: ='Rekapitulácia stavby'!AN13 -> Vyplň údaj
E18: ='Rekapitulácia stavby'!E14 -> Vyplň údaj | I18: IČ DPH: | J18: ='Rekapitulácia stavby'!AN14 -> Vyplň údaj
D20: Projektant: | I20: IČO:
E21: Ing.arch. Miroslav Marko M.Arch. | I21: IČ DPH:
D23: Spracovateľ: | I23: IČO:
E24: Rosoft, s.r.o. | I24: IČ DPH:
D26: Poznámka:
D30: Náklady z rozpočtu | J30: =J96 -> 0
D31: Ostatné náklady | J31: =J102 -> 0
D32: Cena bez DPH | J32: =ROUND(J30 + J31, 2) -> 0
F34: Základ dane | I34: Sadzba dane | J34: Výška dane
D35: DPH | E35: základná | F35: =ROUND((ROUND((SUM(BE102:BE109) + SUM(BE129:BE153)), 2) + SUM(BE157)), 2) -> 0 | I35: 0.2 | J35: =ROUND((ROUND(((SUM(BE102:BE109) + SUM(BE129:BE153))*I35), 2) + (SUM(BE157)*I35)), 2) -> 0
E36: znížená | F36: =ROUND((ROUND((SUM(BF102:BF109) + SUM(BF129:BF153)), 2) + SUM(BF157)), 2) -> 0 | I36: 0.2 | J36: =ROUND((ROUND(((SUM(BF102:BF109) + SUM(BF129:BF153))*I36), 2) + (SUM(BF157)*I36)), 2) -> 0
E37: zákl. prenesená | F37: =ROUND((ROUND((SUM(BG102:BG109) + SUM(BG129:BG153)), 2) + SUM(BG157)), 2) -> 0 | I37: 0.2 | J37: =0 -> 0
E38: zníž. prenesená | F38: =ROUND((ROUND((SUM(BH102:BH109) + SUM(BH129:BH153)), 2) + SUM(BH157)), 2) -> 0 | I38: 0.2 | J38: =0 -> 0
E39: nulová | F39: =ROUND((ROUND((SUM(BI102:BI109) + SUM(BI129:BI153)), 2) + SUM(BI157)), 2) -> 0 | I39: 0 | J39: =0 -> 0
D41: Cena s DPH | G41: v | H41: EUR | J41: =SUM(J32:J39) -> 0
D50: Projektant | G50: Spracovateľ
D61: Dátum a podpis: | F61: Pečiatka | G61: Dátum a podpis: | J61: Pečiatka
D65: Objednávateľ | G65: Zhotoviteľ
D76: Dátum a podpis: | F76: Pečiatka | G76: Dátum a podpis: | J76: Pečiatka
C82: REKAPITULÁCIA ROZPOČTU
C84: Stavba:
E85: =E7 -> Zateplenie plniarne nealkoholických nápojov, Dunajská Streda - aktualizácia jún 2023
C86: Objekt:
E87: =E9 -> 4.4 - Fotovoltaická elektráreň
C89: Miesto: | F89: =F12 -> Dunajská Streda | I89: Dátum: | J89: =IF(J12="","",J12) -> 8. 6. 2023
C91: Objednávateľ: | F91: =E15 -> McCarter, a.s. | I91: Projektant: | J91: =E21 -> Ing.arch. Miroslav Marko M.Arch.
C92: Zhotoviteľ: | F92: =IF(E18="","",E18) -> Vyplň údaj | I92: Spracovateľ: | J92: =E24 -> Rosoft, s.r.o.
...

Sheet 5.1 - 5.1, 5.2, 5.3 - Ost...
L2: >> skryté stĺpce << | AT2: {1cb3509a-cbeb-49cd-bd1d-595f5eea3808}
AT3: 0
D4: KRYCÍ LIST ROZPOČTU | M4: v --- nižšie sa nachádzajú doplnkové a pomocné údaje k zostavám --- v | AT4: False
D6: Stavba:
E7: ='Rekapitulácia stavby'!K6 -> Zateplenie plniarne nealkoholických nápojov, Dunajská Streda - aktualizácia jún 2023
D8: Objekt:
E9: 5.1 - 5.1, 5.2, 5.3 - Ostatné stavebné úpravy
D11: JKSO: | I11: KS:
D12: Miesto: | F12: Dunajská Streda | I12: Dátum: | J12: ='Rekapitulácia stavby'!AN8 -> 8. 6. 2023
D14: Objednávateľ: | I14: IČO:
E15: McCarter, a.s. | I15: IČ DPH:
D17: Zhotoviteľ: | I17: IČO: | J17: ='Rekapitulácia stavby'!AN13 -> Vyplň údaj
E18: ='Rekapitulácia stavby'!E14 -> Vyplň údaj | I18: IČ DPH: | J18: ='Rekapitulácia stavby'!AN14 -> Vyplň údaj
D20: Projektant: | I20: IČO:
E21: Ing.arch. Miroslav Marko M.Arch. | I21: IČ DPH:
D23: Spracovateľ: | I23: IČO:
E24: Rosoft, s.r.o. | I24: IČ DPH:
D26: Poznámka:
D30: Náklady z rozpočtu | J30: =J96 -> 0
D31: Ostatné náklady | J31: =J107 -> 0
D32: Cena bez DPH | J32: =ROUND(J30 + J31, 2) -> 0
F34: Základ dane | I34: Sadzba dane | J34: Výška dane
D35: DPH | E35: základná | F35: =ROUND((ROUND((SUM(BE107:BE114) + SUM(BE134:BE172)), 2) + SUM(BE176)), 2) -> 0 | I35: 0.2 | J35: =ROUND((ROUND(((SUM(BE107:BE114) + SUM(BE134:BE172))*I35), 2) + (SUM(BE176)*I35)), 2) -> 0
E36: znížená | F36: =ROUND((ROUND((SUM(BF107:BF114) + SUM(BF134:BF172)), 2) + SUM(BF176)), 2) -> 0 | I36: 0.2 | J36: =ROUND((ROUND(((SUM(BF107:BF114) + SUM(BF134:BF172))*I36), 2) + (SUM(BF176)*I36)), 2) -> 0
E37: zákl. prenesená | F37: =ROUND((ROUND((SUM(BG107:BG114) + SUM(BG134:BG172)), 2) + SUM(BG176)), 2) -> 0 | I37: 0.2 | J37: =0 -> 0
E38: zníž. prenesená | F38: =ROUND((ROUND((SUM(BH107:BH114) + SUM(BH134:BH172)), 2) + SUM(BH176)), 2) -> 0 | I38: 0.2 | J38: =0 -> 0
E39: nulová | F39: =ROUND((ROUND((SUM(BI107:BI114) + SUM(BI134:BI172)), 2) + SUM(BI176)), 2) -> 0 | I39: 0 | J39: =0 -> 0
D41: Cena s DPH | G41: v | H41: EUR | J41: =SUM(J32:J39) -> 0
D50: Projektant | G50: Spracovateľ
D61: Dátum a podpis: | F61: Pečiatka | G61: Dátum a podpis: | J61: Pečiatka
D65: Objednávateľ | G65: Zhotoviteľ
D76: Dátum a podpis: | F76: Pečiatka | G76: Dátum a podpis: | J76: Pečiatka
C82: REKAPITULÁCIA ROZPOČTU
C84: Stavba:
E85: =E7 -> Zateplenie plniarne nealkoholických nápojov, Dunajská Streda - aktualizácia jún 2023
C86: Objekt:
E87: =E9 -> 5.1 - 5.1, 5.2, 5.3 - Ostatné stavebné úpravy
C89: Miesto: | F89: =F12 -> Dunajská Streda | I89: Dátum: | J89: =IF(J12="","",J12) -> 8. 6. 2023
C91: Objednávateľ: | F91: =E15 -> McCarter, a.s. | I91: Projektant: | J91: =E21 -> Ing.arch. Miroslav Marko M.Arch.
C92: Zhotoviteľ: | F92: =IF(E18="","",E18) -> Vyplň údaj | I92: Spracovateľ: | J92: =E24 -> Rosoft, s.r.o.
...
