Workbook

Sheet Rekapitulácia stavby
A1: Export Komplet | BA1: 2.0 | BT1: False | BU1: False | BV1: {cb6820ca-c882-42ef-b56b-46eb015f0ac7}
AR2: >> skryté stĺpce << | BS2: 0,01 | BT2: 20
BS3: 0,01 | BT3: 20
D4: REKAPITULÁCIA STAVBY | AS4: v --- nižšie sa nachádzajú doplnkové a pomocné údaje k zostavám --- v | BE4: Návod na vyplnenie | BS4: 0,001
D5: Kód: | BE5: Meniť je možné iba bunky so žltým podfarbením!_x000D_ _x000D_ 1) na prvom liste Rekapitulácie stavby vyplňte v zostave_x000D_ _x000D_ a) Rekapitulácia stavby_x000D_ - údaje o Zhotoviteľovi_x000D_ (prenesú sa do ostatných zostáv aj v iných listoch)_x000D_ _x000D_ b) Rekapitulácia objektov stavby_x000D_ - potrebné Ostatné náklady_x000D_ _x000D_ 2) na vybraných listoch vyplňte v zostave_x000D_ _x000D_ a) Krycí list_x000D_ - údaje o Zhotoviteľovi, pokiaľ sa líšia od údajov o Zhotoviteľovi na Rekapitulácii stavby_x000D_ (údaje se prenesú do ostatných zostav v danom liste)_x000D_ _x000D_ b) Rekapitulácia rozpočtu_x000D_ - potrebné Ostatné náklady_x000D_ _x000D_ c) Celkové náklady za stavbu_x000D_ - ceny na položkách_x000D_ - množstvo, pokiaľ má žlté podfarbenie_x000D_ - a v prípade potreby poznámku (tá je v skrytom stĺpci) | BS5: 0,01
D6: Stavba: | K6: Zateplenie plniarne nealkoholických nápojov, Dunajská Streda - aktualizácia jún 2023 | BS6: 0,01
D7: JKSO: | AK7: KS: | BS7: 0,01
D8: Miesto: | K8: Dunajská Streda | AK8: Dátum: | AN8: 8. 6. 2023 | BS8: 0,01
BS9: 0,01
D10: Objednávateľ: | AK10: IČO: | BS10: 0,01
E11: McCarter, a.s. | AK11: IČ DPH: | BS11: 0,01
BS12: 0,01
D13: Zhotoviteľ: | AK13: IČO: | AN13: Vyplň údaj | BS13: 0,01
E14: Vyplň údaj | AK14: IČ DPH: | AN14: Vyplň údaj | BS14: 0,01
BS15: False
D16: Projektant: | AK16: IČO: | BS16: False
E17: Ing.arch. Miroslav Marko M.Arch. | AK17: IČ DPH: | BS17: True
BS18: 0,01
D19: Spracovateľ: | AK19: IČO: | BS19: 0,01
E20: Rosoft,s.r.o. | AK20: IČ DPH: | BS20: True
D22: Poznámka:
D26: Náklady z rozpočtov | AK26: =ROUND(AG94,2) -> 0
D27: Ostatné náklady zo súhrnného listu | AK27: =ROUND(AG104, 2) -> 0
D29: Cena bez DPH | AK29: =ROUND(AK26 + AK27, 2) -> 0
L31: Sadzba dane | W31: Základ dane | AK31: Výška dane
D32: DPH | F32: základná | L32: 0.2 | W32: =ROUND(AZ94 + SUM(CD104:CD108), 2) -> 0 | AK32: =ROUND(AV94 + SUM(BY104:BY108), 2) -> 0
F33: znížená | L33: 0.2 | W33: =ROUND(BA94 + SUM(CE104:CE108), 2) -> 0 | AK33: =ROUND(AW94 + SUM(BZ104:BZ108), 2) -> 0
F34: zákl. prenesená | L34: 0.2 | W34: =ROUND(BB94 + SUM(CF104:CF108), 2) -> 0 | AK34: 0
F35: zníž. prenesená | L35: 0.2 | W35: =ROUND(BC94 + SUM(CG104:CG108), 2) -> 0 | AK35: 0
F36: nulová | L36: 0 | W36: =ROUND(BD94 + SUM(CH104:CH108), 2) -> 0 | AK36: 0
D38: Cena s DPH | T38: v | X38: EUR | AK38: =SUM(AK29:AK36) -> 0
D49: Projektant | AH49: Spracovateľ
D60: Dátum a podpis: | V60: Pečiatka | AH60: Dátum a podpis: | AM60: Pečiatka
D64: Objednávateľ | AH64: Zhotoviteľ
D75: Dátum a podpis: | V75: Pečiatka | AH75: Dátum a podpis: | AM75: Pečiatka
C82: REKAPITULÁCIA OBJEKTOV STAVBY
C84: Kód:
C85: Stavba: | L85: =K6 -> Zateplenie plniarne nealkoholických nápojov, Dunajská Streda - aktualizácia jún 2023
C87: Miesto: | L87: =IF(K8="","",K8) -> Dunajská Streda | AI87: Dátum: | AM87: =IF(AN8= "","",AN8) -> 8. 6. 2023
C89: Objednávateľ: | L89: =IF(E11= "","",E11) -> McCarter, a.s. | AI89: Projektant: | AM89: =IF(E17="","",E17) -> Ing.arch. Miroslav Marko M.Arch. | AS89: Informatívne údaje z listov zákaziek
C90: Zhotoviteľ: | L90: =IF(E14= "Vyplň údaj","",E14) | AI90: Spracovateľ: | AM90: =IF(E20="","",E20) -> Rosoft,s.r.o.
C92: Kód | I92: Popis | AG92: Cena bez DPH [EUR] | AN92: Cena s DPH [EUR] | AQ92: Typ | AS92: z toho Ostat._x000D_ náklady [EUR] | AT92: DPH [EUR] | AU92: Normohodiny [h] | AV92: DPH základná [EUR] | AW92: DPH znížená [EUR] | AX92: DPH základná prenesená_x000D_ [EUR] | AY92: DPH znížená prenesená_x000D_ [EUR] | AZ92: Základňa_x000D_ DPH základná | BA92: Základňa_x000D_ DPH znížená | BB92: Základňa_x000D_ DPH zákl. prenesená | BC92: Základňa_x000D_ DPH zníž. prenesená | BD92: Základňa_x000D_ DPH nulová
C94: 1) Náklady z rozpočtov | AG94: =ROUND(SUM(AG95:AG102),2) -> 0 | AN94: =SUM(AG94,AT94) -> 0 | AS94: =ROUND(SUM(AS95:AS102),2) -> 0 | AT94: =ROUND(SUM(AV94:AW94),2) -> 0 | AU94: =ROUND(SUM(AU95:AU102),5) -> 0 | AV94: =ROUND(AZ94*L32,2) -> 0 | AW94: =ROUND(BA94*L33,2) -> 0 | AX94: =ROUND(BB94*L32,2) -> 0 | AY94: =ROUND(BC94*L33,2) -> 0 | AZ94: =ROUND(SUM(AZ95:AZ102),2) -> 0 | BA94: =ROUND(SUM(BA95:BA102),2) -> 0 | BB94: =ROUND(SUM(BB95:BB102),2) -> 0 | BC94: =ROUND(SUM(BC95:BC102),2) -> 0 | BD94: =ROUND(SUM(BD95:BD102),2) -> 0 | BS94: D | BT94: 0 | BU94: ###NOIMPORT### | BV94: IMPORT | BW94: {cb6820ca-c882-42ef-b56b-46eb015f0ac7} | BX94: {00000000-0000-0000-0000-000000000000}
A95: / | D95: 01 | J95: Zateplenie obvodového plášťa | AG95: ='01 - Zateplenie obvodovéh...'!J32 -> 0 | AN95: =SUM(AG95,AT95) -> 0 | AQ95: STA | AS95: 0 | AT95: =ROUND(SUM(AV95:AW95),2) -> 0 | AU95: ='01 - Zateplenie obvodovéh...'!P135 -> 0 | AV95: ='01 - Zateplenie obvodovéh...'!J35 -> 0 | AW95: ='01 - Zateplenie obvodovéh...'!J36 -> 0 | AX95: ='01 - Zateplenie obvodovéh...'!J37 -> 0 | AY95: ='01 - Zateplenie obvodovéh...'!J38 -> 0 | AZ95: ='01 - Zateplenie obvodovéh...'!F35 -> 0 | BA95: ='01 - Zateplenie obvodovéh...'!F36 -> 0 | BB95: ='01 - Zateplenie obvodovéh...'!F37 -> 0 | BC95: ='01 - Zateplenie obvodovéh...'!F38 -> 0 | BD95: ='01 - Zateplenie obvodovéh...'!F39 -> 0 | BT95: 1 | BV95: IMPORT | BW95: {d9a4a02c-bd6e-40ba-8075-b30ec6b6a49e} | BX95: {cb6820ca-c882-42ef-b56b-46eb015f0ac7} | CM95: 0
A96: / | D96: 02 | J96: Zateplenie strechy | AG96: ='02 - Zateplenie strechy'!J32 -> 0 | AN96: =SUM(AG96,AT96) -> 0 | AQ96: STA | AS96: 0 | AT96: =ROUND(SUM(AV96:AW96),2) -> 0 | AU96: ='02 - Zateplenie strechy'!P138 -> 0 | AV96: ='02 - Zateplenie strechy'!J35 -> 0 | AW96: ='02 - Zateplenie strechy'!J36 -> 0 | AX96: ='02 - Zateplenie strechy'!J37 -> 0 | AY96: ='02 - Zateplenie strechy'!J38 -> 0 | AZ96: ='02 - Zateplenie strechy'!F35 -> 0 | BA96: ='02 - Zateplenie strechy'!F36 -> 0 | BB96: ='02 - Zateplenie strechy'!F37 -> 0 | BC96: ='02 - Zateplenie strechy'!F38 -> 0 | BD96: ='02 - Zateplenie strechy'!F39 -> 0 | BT96: 1 | BV96: IMPORT | BW96: {c8c06e1a-8c7d-49de-8e68-58754604c38b} | BX96: {cb6820ca-c882-42ef-b56b-46eb015f0ac7} | CM96: 0
A97: / | D97: 03 | J97: Výmena vonkajších výplní otvorov | AG97: ='03 - Výmena vonkajších vý...'!J32 -> 0 | AN97: =SUM(AG97,AT97) -> 0 | AQ97: STA | AS97: 0 | AT97: =ROUND(SUM(AV97:AW97),2) -> 0 | AU97: ='03 - Výmena vonkajších vý...'!P137 -> 0 | AV97: ='03 - Výmena vonkajších vý...'!J35 -> 0 | AW97: ='03 - Výmena vonkajších vý...'!J36 -> 0 | AX97: ='03 - Výmena vonkajších vý...'!J37 -> 0 | AY97: ='03 - Výmena vonkajších vý...'!J38 -> 0 | AZ97: ='03 - Výmena vonkajších vý...'!F35 -> 0 | BA97: ='03 - Výmena vonkajších vý...'!F36 -> 0 | BB97: ='03 - Výmena vonkajších vý...'!F37 -> 0 | BC97: ='03 - Výmena vonkajších vý...'!F38 -> 0 | BD97: ='03 - Výmena vonkajších vý...'!F39 -> 0 | BT97: 1 | BV97: IMPORT | BW97: {f7144983-ea71-45f3-9703-8eb39781358f} | BX97: {cb6820ca-c882-42ef-b56b-46eb015f0ac7} | CM97: 0
A98: / | D98: 4.1 | J98: Odstránenie a likvidácia existujúceho bleskozvodu | AG98: ='4.1 - Odstránenie a likvi...'!J32 -> 0 | AN98: =SUM(AG98,AT98) -> 0 | AQ98: STA | AS98: 0 | AT98: =ROUND(SUM(AV98:AW98),2) -> 0 | AU98: ='4.1 - Odstránenie a likvi...'!P129 -> 0 | AV98: ='4.1 - Odstránenie a likvi...'!J35 -> 0 | AW98: ='4.1 - Odstránenie a likvi...'!J36 -> 0 | AX98: ='4.1 - Odstránenie a likvi...'!J37 -> 0 | AY98: ='4.1 - Odstránenie a likvi...'!J38 -> 0 | AZ98: ='4.1 - Odstránenie a likvi...'!F35 -> 0 | BA98: ='4.1 - Odstránenie a likvi...'!F36 -> 0 | BB98: ='4.1 - Odstránenie a likvi...'!F37 -> 0 | BC98: ='4.1 - Odstránenie a likvi...'!F38 -> 0 | BD98: ='4.1 - Odstránenie a likvi...'!F39 -> 0 | BT98: 1 | BV98: IMPORT | BW98: {fbbd3238-9f2d-48ea-9a73-7618e6fd74d6} | BX98: {cb6820ca-c882-42ef-b56b-46eb015f0ac7} | CM98: 0
A99: / | D99: 4.2 | J99: Nový bleskozvod vrátane zvodov a uzemnenia | AG99: ='4.2 - Nový bleskozvod vrá...'!J32 -> 0 | AN99: =SUM(AG99,AT99) -> 0 | AQ99: STA | AS99: 0 | AT99: =ROUND(SUM(AV99:AW99),2) -> 0 | AU99: ='4.2 - Nový bleskozvod vrá...'!P133 -> 0 | AV99: ='4.2 - Nový bleskozvod vrá...'!J35 -> 0 | AW99: ='4.2 - Nový bleskozvod vrá...'!J36 -> 0 | AX99: ='4.2 - Nový bleskozvod vrá...'!J37 -> 0 | AY99: ='4.2 - Nový bleskozvod vrá...'!J38 -> 0 | AZ99: ='4.2 - Nový bleskozvod vrá...'!F35 -> 0 | BA99: ='4.2 - Nový bleskozvod vrá...'!F36 -> 0 | BB99: ='4.2 - Nový bleskozvod vrá...'!F37 -> 0 | BC99: ='4.2 - Nový bleskozvod vrá...'!F38 -> 0 | BD99: ='4.2 - Nový bleskozvod vrá...'!F39 -> 0 | BT99: 1 | BV99: IMPORT | BW99: {9402b2cd-986d-495f-960b-e7d062e7f3b8} | BX99: {cb6820ca-c882-42ef-b56b-46eb015f0ac7} | CM99: 0
A100: / | D100: 4.3 | J100: Výmena osvetlovacích telies v interiéri a na fasáde | AG100: ='4.3 - Výmena osvetlovacíc...'!J32 -> 0 | AN100: =SUM(AG100,AT100) -> 0 | AQ100: STA | AS100: 0 | AT100: =ROUND(SUM(AV100:AW100),2) -> 0 | AU100: ='4.3 - Výmena osvetlovacíc...'!P129 -> 0 | AV100: ='4.3 - Výmena osvetlovacíc...'!J35 -> 0 | AW100: ='4.3 - Výmena osvetlovacíc...'!J36 -> 0 | AX100: ='4.3 - Výmena osvetlovacíc...'!J37 -> 0 | AY100: ='4.3 - Výmena osvetlovacíc...'!J38 -> 0 | AZ100: ='4.3 - Výmena osvetlovacíc...'!F35 -> 0 | BA100: ='4.3 - Výmena osvetlovacíc...'!F36 -> 0 | BB100: ='4.3 - Výmena osvetlovacíc...'!F37 -> 0 | BC100: ='4.3 - Výmena osvetlovacíc...'!F38 -> 0 | BD100: ='4.3 - Výmena osvetlovacíc...'!F39 -> 0 | BT100: 1 | BV100: IMPORT | BW100: {c6c7fbb9-4f5c-4de8-ac5f-371702bc60b0} | BX100: {cb6820ca-c882-42ef-b56b-46eb015f0ac7} | CM100: 0
A101: / | D101: 4.4 | J101: Fotovoltaická elektráreň | AG101: ='4.4 - Fotovoltaická elekt...'!J32 -> 0 | AN101: =SUM(AG101,AT101) -> 0 | AQ101: STA | AS101: 0 | AT101: =ROUND(SUM(AV101:AW101),2) -> 0 | AU101: ='4.4 - Fotovoltaická elekt...'!P129 -> 0 | AV101: ='4.4 - Fotovoltaická elekt...'!J35 -> 0 | AW101: ='4.4 - Fotovoltaická elekt...'!J36 -> 0 | AX101: ='4.4 - Fotovoltaická elekt...'!J37 -> 0 | AY101: ='4.4 - Fotovoltaická elekt...'!J38 -> 0 | AZ101: ='4.4 - Fotovoltaická elekt...'!F35 -> 0 | BA101: ='4.4 - Fotovoltaická elekt...'!F36 -> 0 | BB101: ='4.4 - Fotovoltaická elekt...'!F37 -> 0 | BC101: ='4.4 - Fotovoltaická elekt...'!F38 -> 0 | BD101: ='4.4 - Fotovoltaická elekt...'!F39 -> 0 | BT101: 1 | BV101: IMPORT | BW101: {6d690bad-3799-4353-af09-ba733f1c75f3} | BX101: {cb6820ca-c882-42ef-b56b-46eb015f0ac7} | CM101: 0
A102: / | D102: 5.1 | J102: 5.1, 5.2, 5.3 - Ostatné stavebné úpravy | AG102: ='5.1 - 5.1, 5.2, 5.3 - Ost...'!J32 -> 0 | AN102: =SUM(AG102,AT102) -> 0 | AQ102: STA | AS102: 0 | AT102: =ROUND(SUM(AV102:AW102),2) -> 0 | AU102: ='5.1 - 5.1, 5.2, 5.3 - Ost...'!P134 -> 0 | AV102: ='5.1 - 5.1, 5.2, 5.3 - Ost...'!J35 -> 0 | AW102: ='5.1 - 5.1, 5.2, 5.3 - Ost...'!J36 -> 0 | AX102: ='5.1 - 5.1, 5.2, 5.3 - Ost...'!J37 -> 0 | AY102: ='5.1 - 5.1, 5.2, 5.3 - Ost...'!J38 -> 0 | AZ102: ='5.1 - 5.1, 5.2, 5.3 - Ost...'!F35 -> 0 | BA102: ='5.1 - 5.1, 5.2, 5.3 - Ost...'!F36 -> 0 | BB102: ='5.1 - 5.1, 5.2, 5.3 - Ost...'!F37 -> 0 | BC102: ='5.1 - 5.1, 5.2, 5.3 - Ost...'!F38 -> 0 | BD102: ='5.1 - 5.1, 5.2, 5.3 - Ost...'!F39 -> 0 | BT102: 1 | BV102: IMPORT | BW102: {1cb3509a-cbeb-49cd-bd1d-595f5eea3808} | BX102: {cb6820ca-c882-42ef-b56b-46eb015f0ac7} | CM102: 0
C104: 2) Ostatné náklady zo súhrnného listu | AG104: =ROUND(SUM(AG105:AG108), 2) -> 0 | AN104: =ROUND(SUM(AN105:AN108), 2) -> 0 | AS104: Percent. zadanie_x000D_ [% nákladov rozpočtu] | AT104: Zaradenie nákladov | AU104: DPH | AV104: DPH [EUR]
D105: Ostatné náklady | AG105: =ROUND(AG94 * AS105, 2) -> 0 | AN105: =ROUND(AG105 + AV105, 2) -> 0 | AS105: 0 | AT105: stavebná časť | AU105: základná | AV105: =ROUND(IF(AU105="základná",AG105*L32,IF(AU105="znížená",AG105*L33,0)), 2) -> 0 | BV105: OSTATNENAKLADY | BY105: =IF(AU105="základná",AV105,0) -> 0 | BZ105: =IF(AU105="znížená",AV105,0) -> 0 | CA105: 0 | CB105: 0 | CC105: 0 | CD105: =IF(AU105="základná",AG105,0) -> 0 | CE105: =IF(AU105="znížená",AG105,0) -> 0 | CF105: =IF(AU105="zákl. prenesená",AG105,0) -> 0 | CG105: =IF(AU105="zníž. prenesená",AG105,0) -> 0 | CH105: =IF(AU105="nulová",AG105,0) -> 0 | CI105: =IF(AU105="základná",1,IF(AU105="znížená",2,IF(AU105="zákl. prenesená",4,IF(AU105="zníž. prenesená",5,3)))) -> 1 | CJ105: =IF(AT105="stavebná časť",1,IF(AT105="investičná časť",2,3)) -> 1 | CK105: =IF(D105="Vyplň vlastné","","x") -> x
D106: Vyplň vlastné | AG106: =ROUND(AG94 * AS106, 2) -> 0 | AN106: =ROUND(AG106 + AV106, 2) -> 0 | AS106: 0 | AT106: stavebná časť | AU106: základná | AV106: =ROUND(IF(AU106="základná",AG106*L32,IF(AU106="znížená",AG106*L33,0)), 2) -> 0 | BV106: OSTATNENAKLADYVLASTNE | BY106: =IF(AU106="základná",AV106,0) -> 0 | BZ106: =IF(AU106="znížená",AV106,0) -> 0 | CA106: 0 | CB106: 0 | CC106: 0 | CD106: =IF(AU106="základná",AG106,0) -> 0 | CE106: =IF(AU106="znížená",AG106,0) -> 0 | CF106: =IF(AU106="zákl. prenesená",AG106,0) -> 0 | CG106: =IF(AU106="zníž. prenesená",AG106,0) -> 0 | CH106: =IF(AU106="nulová",AG106,0) -> 0 | CI106: =IF(AU106="základná",1,IF(AU106="znížená",2,IF(AU106="zákl. prenesená",4,IF(AU106="zníž. prenesená",5,3)))) -> 1 | CJ106: =IF(AT106="stavebná časť",1,IF(AT106="investičná časť",2,3)) -> 1 | CK106: =IF(D106="Vyplň vlastné","","x")
D107: Vyplň vlastné | AG107: =ROUND(AG94 * AS107, 2) -> 0 | AN107: =ROUND(AG107 + AV107, 2) -> 0 | AS107: 0 | AT107: stavebná časť | AU107: základná | AV107: =ROUND(IF(AU107="základná",AG107*L32,IF(AU107="znížená",AG107*L33,0)), 2) -> 0 | BV107: OSTATNENAKLADYVLASTNE | BY107: =IF(AU107="základná",AV107,0) -> 0 | BZ107: =IF(AU107="znížená",AV107,0) -> 0 | CA107: 0 | CB107: 0 | CC107: 0 | CD107: =IF(AU107="základná",AG107,0) -> 0 | CE107: =IF(AU107="znížená",AG107,0) -> 0 | CF107: =IF(AU107="zákl. prenesená",AG107,0) -> 0 | CG107: =IF(AU107="zníž. prenesená",AG107,0) -> 0 | CH107: =IF(AU107="nulová",AG107,0) -> 0 | CI107: =IF(AU107="základná",1,IF(AU107="znížená",2,IF(AU107="zákl. prenesená",4,IF(AU107="zníž. prenesená",5,3)))) -> 1 | CJ107: =IF(AT107="stavebná časť",1,IF(AT107="investičná časť",2,3)) -> 1 | CK107: =IF(D107="Vyplň vlastné","","x")
D108: Vyplň vlastné | AG108: =ROUND(AG94 * AS108, 2) -> 0 | AN108: =ROUND(AG108 + AV108, 2) -> 0 | AS108: 0 | AT108: stavebná časť | AU108: základná | AV108: =ROUND(IF(AU108="základná",AG108*L32,IF(AU108="znížená",AG108*L33,0)), 2) -> 0 | BV108: OSTATNENAKLADYVLASTNE | BY108: =IF(AU108="základná",AV108,0) -> 0 | BZ108: =IF(AU108="znížená",AV108,0) -> 0 | CA108: 0 | CB108: 0 | CC108: 0 | CD108: =IF(AU108="základná",AG108,0) -> 0 | CE108: =IF(AU108="znížená",AG108,0) -> 0 | CF108: =IF(AU108="zákl. prenesená",AG108,0) -> 0 | CG108: =IF(AU108="zníž. prenesená",AG108,0) -> 0 | CH108: =IF(AU108="nulová",AG108,0) -> 0 | CI108: =IF(AU108="základná",1,IF(AU108="znížená",2,IF(AU108="zákl. prenesená",4,IF(AU108="zníž. prenesená",5,3)))) -> 1 | CJ108: =IF(AT108="stavebná časť",1,IF(AT108="investičná časť",2,3)) -> 1 | CK108: =IF(D108="Vyplň vlastné","","x")
C110: Celkové náklady za stavbu 1) + 2) | AG110: =ROUND(AG94 + AG104, 2) -> 0 | AN110: =ROUND(AN94 + AN104, 2) -> 0

Sheet 01 - Zateplenie obvodovéh...
L2: >> skryté stĺpce << | AT2: {d9a4a02c-bd6e-40ba-8075-b30ec6b6a49e}
AT3: 0
D4: KRYCÍ LIST ROZPOČTU | M4: v --- nižšie sa nachádzajú doplnkové a pomocné údaje k zostavám --- v | AT4: False
D6: Stavba:
E7: ='Rekapitulácia stavby'!K6 -> Zateplenie plniarne nealkoholických nápojov, Dunajská Streda - aktualizácia jún 2023
D8: Objekt:
E9: 01 - Zateplenie obvodového plášťa
D11: JKSO: | I11: KS:
D12: Miesto: | F12: Dunajská Streda | I12: Dátum: | J12: ='Rekapitulácia stavby'!AN8 -> 8. 6. 2023
D14: Objednávateľ: | I14: IČO:
E15: McCarter, a.s. | I15: IČ DPH:
D17: Zhotoviteľ: | I17: IČO: | J17: ='Rekapitulácia stavby'!AN13 -> Vyplň údaj
E18: ='Rekapitulácia stavby'!E14 -> Vyplň údaj | I18: IČ DPH: | J18: ='Rekapitulácia stavby'!AN14 -> Vyplň údaj
D20: Projektant: | I20: IČO:
E21: Ing.arch. Miroslav Marko M.Arch. | I21: IČ DPH:
D23: Spracovateľ: | I23: IČO:
E24: Rosoft, s.r.o. | I24: IČ DPH:
D26: Poznámka:
D30: Náklady z rozpočtu | J30: =J96 -> 0
D31: Ostatné náklady | J31: =J108 -> 0
D32: Cena bez DPH | J32: =ROUND(J30 + J31, 2) -> 0
F34: Základ dane | I34: Sadzba dane | J34: Výška dane
D35: DPH | E35: základná | F35: =ROUND((ROUND((SUM(BE108:BE115) + SUM(BE135:BE209)), 2) + SUM(BE213)), 2) -> 0 | I35: 0.2 | J35: =ROUND((ROUND(((SUM(BE108:BE115) + SUM(BE135:BE209))*I35), 2) + (SUM(BE213)*I35)), 2) -> 0
E36: znížená | F36: =ROUND((ROUND((SUM(BF108:BF115) + SUM(BF135:BF209)), 2) + SUM(BF213)), 2) -> 0 | I36: 0.2 | J36: =ROUND((ROUND(((SUM(BF108:BF115) + SUM(BF135:BF209))*I36), 2) + (SUM(BF213)*I36)), 2) -> 0
E37: zákl. prenesená | F37: =ROUND((ROUND((SUM(BG108:BG115) + SUM(BG135:BG209)), 2) + SUM(BG213)), 2) -> 0 | I37: 0.2 | J37: =0 -> 0
E38: zníž. prenesená | F38: =ROUND((ROUND((SUM(BH108:BH115) + SUM(BH135:BH209)), 2) + SUM(BH213)), 2) -> 0 | I38: 0.2 | J38: =0 -> 0
E39: nulová | F39: =ROUND((ROUND((SUM(BI108:BI115) + SUM(BI135:BI209)), 2) + SUM(BI213)), 2) -> 0 | I39: 0 | J39: =0 -> 0
D41: Cena s DPH | G41: v | H41: EUR | J41: =SUM(J32:J39) -> 0
D50: Projektant | G50: Spracovateľ
D61: Dátum a podpis: | F61: Pečiatka | G61: Dátum a podpis: | J61: Pečiatka
D65: Objednávateľ | G65: Zhotoviteľ
D76: Dátum a podpis: | F76: Pečiatka | G76: Dátum a podpis: | J76: Pečiatka
C82: REKAPITULÁCIA ROZPOČTU
C84: Stavba:
E85: =E7 -> Zateplenie plniarne nealkoholických nápojov, Dunajská Streda - aktualizácia jún 2023
C86: Objekt:
E87: =E9 -> 01 - Zateplenie obvodového plášťa
C89: Miesto: | F89: =F12 -> Dunajská Streda | I89: Dátum: | J89: =IF(J12="","",J12) -> 8. 6. 2023
C91: Objednávateľ: | F91: =E15 -> McCarter, a.s. | I91: Projektant: | J91: =E21 -> Ing.arch. Miroslav Marko M.Arch.
C92: Zhotoviteľ: | F92: =IF(E18="","",E18) -> Vyplň údaj | I92: Spracovateľ: | J92: =E24 -> Rosoft, s.r.o.
C94: Kód dielu - Popis | J94: Cena celkom [EUR]
C96: 1) Náklady z rozpočtu | J96: =J135 -> 0 | AU96: -1
D97: HSV - Práce a dodávky HSV | J97: =J136 -> 0
D98: 3 - Zvislé a kompletné konštrukcie | J98: =J137 -> 0
D99: 6 - Úpravy povrchov, podlahy, osadenie | J99: =J141 -> 0
D100: 9 - Ostatné konštrukcie a práce-búranie | J100: =J153 -> 0
D101: 99 - Presun hmôt HSV | J101: =J167 -> 0
D102: PSV - Práce a dodávky PSV | J102: =J169 -> 0
D103: 764 - Konštrukcie klampiarske | J103: =J170 -> 0
D104: 767 - Konštrukcie doplnkové kovové | J104: =J204 -> 0
D105: VP - Práce naviac | J105: =J212 -> 0
C108: 2) Ostatné náklady | J108: =ROUND(J109 + J110 + J111 + J112 + J113 + J114,2) -> 0 | N108: DPH
D109: GZS | J109: 0 | N109: znížená | AY109: VRN | BE109: =IF(N109="základná",J109,0) -> 0 | BF109: =IF(N109="znížená",J109,0) -> 0 | BG109: =IF(N109="zákl. prenesená",J109,0) -> 0 | BH109: =IF(N109="zníž. prenesená",J109,0) -> 0 | BI109: =IF(N109="nulová",J109,0) -> 0 | BJ109: 2
D110: Projektové práce | J110: 0 | N110: znížená | AY110: VRN | BE110: =IF(N110="základná",J110,0) -> 0 | BF110: =IF(N110="znížená",J110,0) -> 0 | BG110: =IF(N110="zákl. prenesená",J110,0) -> 0 | BH110: =IF(N110="zníž. prenesená",J110,0) -> 0 | BI110: =IF(N110="nulová",J110,0) -> 0 | BJ110: 2
D111: Sťažené podmienky | J111: 0 | N111: znížená | AY111: VRN | BE111: =IF(N111="základná",J111,0) -> 0 | BF111: =IF(N111="znížená",J111,0) -> 0 | BG111: =IF(N111="zákl. prenesená",J111,0) -> 0 | BH111: =IF(N111="zníž. prenesená",J111,0) -> 0 | BI111: =IF(N111="nulová",J111,0) -> 0 | BJ111: 2
D112: Vplyv prostredia | J112: 0 | N112: znížená | AY112: VRN | BE112: =IF(N112="základná",J112,0) -> 0 | BF112: =IF(N112="znížená",J112,0) -> 0 | BG112: =IF(N112="zákl. prenesená",J112,0) -> 0 | BH112: =IF(N112="zníž. prenesená",J112,0) -> 0 | BI112: =IF(N112="nulová",J112,0) -> 0 | BJ112: 2
D113: Iné VRN | J113: 0 | N113: znížená | AY113: VRN | BE113: =IF(N113="základná",J113,0) -> 0 | BF113: =IF(N113="znížená",J113,0) -> 0 | BG113: =IF(N113="zákl. prenesená",J113,0) -> 0 | BH113: =IF(N113="zníž. prenesená",J113,0) -> 0 | BI113: =IF(N113="nulová",J113,0) -> 0 | BJ113: 2
D114: Kompletačná činnosť | J114: =ROUND(J30*T114,2) -> 0 | N114: znížená | AY114: KOMPLETACNA | BE114: =IF(N114="základná",J114,0) -> 0 | BF114: =IF(N114="znížená",J114,0) -> 0 | BG114: =IF(N114="zákl. prenesená",J114,0) -> 0 | BH114: =IF(N114="zníž. prenesená",J114,0) -> 0 | BI114: =IF(N114="nulová",J114,0) -> 0 | BJ114: 2
C116: Celkové náklady za stavbu 1) + 2) | J116: =ROUND(J96+J108,2) -> 0
C122: ROZPOČET
C124: Stavba:
E125: =E7 -> Zateplenie plniarne nealkoholických nápojov, Dunajská Streda - aktualizácia jún 2023
C126: Objekt:
E127: =E9 -> 01 - Zateplenie obvodového plášťa
C129: Miesto: | F129: =F12 -> Dunajská Streda | I129: Dátum: | J129: =IF(J12="","",J12) -> 8. 6. 2023
C131: Objednávateľ: | F131: =E15 -> McCarter, a.s. | I131: Projektant: | J131: =E21 -> Ing.arch. Miroslav Marko M.Arch.
C132: Zhotoviteľ: | F132: =IF(E18="","",E18) -> Vyplň údaj | I132: Spracovateľ: | J132: =E24 -> Rosoft, s.r.o.
C134: PČ | D134: Typ | E134: Kód | F134: Popis | G134: MJ | H134: Množstvo | I134: J.cena [EUR] | J134: Cena celkom [EUR] | K134: Cenová sústava | N134: DPH | O134: J. Nh [h] | P134: Nh celkom [h] | Q134: J. hmotnosť [t] | R134: Hmotnosť celkom [t] | S134: J. suť [t] | T134: Suť Celkom [t]
C135: Náklady z rozpočtu | J135: =BK135 -> 0 | P135: =P136+P169+P212 -> 0 | R135: =R136+R169+R212 -> 0 | T135: =T136+T169+T212 -> 0 | AT135: D | AU135: -1 | BK135: =BK136+BK169+BK212 -> 0
D136: D | E136: HSV | F136: Práce a dodávky HSV | J136: =BK136 -> 0 | P136: =P137+P141+P153+P167 -> 0 | R136: =R137+R141+R153+R167 -> 0 | T136: =T137+T141+T153+T167 -> 0 | AR136: 1 | AT136: D | AU136: 0 | AY136: ROZPOCET | BK136: =BK137+BK141+BK153+BK167 -> 0
D137: D | E137: 3 | F137: Zvislé a kompletné konštrukcie | J137: =BK137 -> 0 | P137: =SUM(P138:P140) -> 0 | R137: =SUM(R138:R140) -> 0 | T137: =SUM(T138:T140) -> 0 | AR137: 1 | AT137: D | AU137: 1 | AY137: ROZPOCET | BK137: =SUM(BK138:BK140) -> 0
C138: 1 | D138: K | E138: 310239211 | F138: Zamurovanie otvoru s plochou nad 1 do 4m2 v murive nadzákladného tehlami na maltu vápennocementovú | G138: m3 | H138: 1.62 | J138: =ROUND(I138*H138,2) -> 0 | N138: znížená | P138: =O138*H138 -> 0 | Q138: 0 | R138: =Q138*H138 -> 0 | S138: 0 | T138: =S138*H138 -> 0 | AR138: 4 | AT138: K | AU138: 2 | AY138: ROZPOCET | BE138: =IF(N138="základná",J138,0) -> 0 | BF138: =IF(N138="znížená",J138,0) -> 0 | BG138: =IF(N138="zákl. prenesená",J138,0) -> 0 | BH138: =IF(N138="zníž. prenesená",J138,0) -> 0 | BI138: =IF(N138="nulová",J138,0) -> 0 | BJ138: 2 | BK138: =ROUND(I138*H138,2) -> 0 | BL138: 4 | BM138: 2
C139: 2 | D139: K | E139: 311273116 | F139: Murivo nosné (m3) z tvárnic YTONG hr. 300 mm P2-400 PDK, na MVC a maltu YTONG (300x249x599) | G139: m3 | H139: 13.8 | J139: =ROUND(I139*H139,2) -> 0 | N139: znížená | P139: =O139*H139 -> 0 | Q139: 0 | R139: =Q139*H139 -> 0 | S139: 0 | T139: =S139*H139 -> 0 | AR139: 4 | AT139: K | AU139: 2 | AY139: ROZPOCET | BE139: =IF(N139="základná",J139,0) -> 0 | BF139: =IF(N139="znížená",J139,0) -> 0 | BG139: =IF(N139="zákl. prenesená",J139,0) -> 0 | BH139: =IF(N139="zníž. prenesená",J139,0) -> 0 | BI139: =IF(N139="nulová",J139,0) -> 0 | BJ139: 2 | BK139: =ROUND(I139*H139,2) -> 0 | BL139: 4 | BM139: 4
C140: 3 | D140: K | E140: 340291132-01 | F140: Dodatočné ukotvenie murív k betonovým konštrukciam plochými nerezovými kotvami hr. priečky nad 100 mm | G140: m | H140: 31.8 | J140: =ROUND(I140*H140,2) -> 0 | N140: znížená | P140: =O140*H140 -> 0 | Q140: 0 | R140: =Q140*H140 -> 0 | S140: 0 | T140: =S140*H140 -> 0 | AR140: 4 | AT140: K | AU140: 2 | AY140: ROZPOCET | BE140: =IF(N140="základná",J140,0) -> 0 | BF140: =IF(N140="znížená",J140,0) -> 0 | BG140: =IF(N140="zákl. prenesená",J140,0) -> 0 | BH140: =IF(N140="zníž. prenesená",J140,0) -> 0 | BI140: =IF(N140="nulová",J140,0) -> 0 | BJ140: 2 | BK140: =ROUND(I140*H140,2) -> 0 | BL140: 4 | BM140: 6
D141: D | E141: 6 | F141: Úpravy povrchov, podlahy, osadenie | J141: =BK141 -> 0 | P141: =SUM(P142:P152) -> 0 | R141: =SUM(R142:R152) -> 0 | T141: =SUM(T142:T152) -> 0 | AR141: 1 | AT141: D | AU141: 1 | AY141: ROZPOCET | BK141: =SUM(BK142:BK152) -> 0
C142: 4 | D142: K | E142: 612460251 | F142: Vnútorná omietka stien vápennocementová štuková (jemná), hr. 3 mm | G142: m2 | H142: 51.4 | J142: =ROUND(I142*H142,2) -> 0 | N142: znížená | P142: =O142*H142 -> 0 | Q142: 0 | R142: =Q142*H142 -> 0 | S142: 0 | T142: =S142*H142 -> 0 | AR142: 4 | AT142: K | AU142: 2 | AY142: ROZPOCET | BE142: =IF(N142="základná",J142,0) -> 0 | BF142: =IF(N142="znížená",J142,0) -> 0 | BG142: =IF(N142="zákl. prenesená",J142,0) -> 0 | BH142: =IF(N142="zníž. prenesená",J142,0) -> 0 | BI142: =IF(N142="nulová",J142,0) -> 0 | BJ142: 2 | BK142: =ROUND(I142*H142,2) -> 0 | BL142: 4 | BM142: 8
C143: 5 | D143: K | E143: 620991121 | F143: Zakrývanie výplní vonkajších otvorov s rámami a zárubňami, zábradlí, oplechovania, atď. zhotovené z lešenia akýmkoľvek spôsobom | G143: m2 | H143: 231.34 | J143: =ROUND(I143*H143,2) -> 0 | N143: znížená | P143: =O143*H143 -> 0 | Q143: 0 | R143: =Q143*H143 -> 0 | S143: 0 | T143: =S143*H143 -> 0 | AR143: 4 | AT143: K | AU143: 2 | AY143: ROZPOCET | BE143: =IF(N143="základná",J143,0) -> 0 | BF143: =IF(N143="znížená",J143,0) -> 0 | BG143: =IF(N143="zákl. prenesená",J143,0) -> 0 | BH143: =IF(N143="zníž. prenesená",J143,0) -> 0 | BI143: =IF(N143="nulová",J143,0) -> 0 | BJ143: 2 | BK143: =ROUND(I143*H143,2) -> 0 | BL143: 4 | BM143: 10
C144: 6 | D144: K | E144: 622464142 | F144: Vonkajšia omietka stien tenkovrstvová Weber - Terranova, silikónová, weber.pas exclusive, roztieraná jemnozrnná | G144: m2 | H144: 1409.962 | J144: =ROUND(I144*H144,2) -> 0 | N144: znížená | P144: =O144*H144 -> 0 | Q144: 0 | R144: =Q144*H144 -> 0 | S144: 0 | T144: =S144*H144 -> 0 | AR144: 4 | AT144: K | AU144: 2 | AY144: ROZPOCET | BE144: =IF(N144="základná",J144,0) -> 0 | BF144: =IF(N144="znížená",J144,0) -> 0 | BG144: =IF(N144="zákl. prenesená",J144,0) -> 0 | BH144: =IF(N144="zníž. prenesená",J144,0) -> 0 | BI144: =IF(N144="nulová",J144,0) -> 0 | BJ144: 2 | BK144: =ROUND(I144*H144,2) -> 0 | BL144: 4 | BM144: 12
C145: 7 | D145: K | E145: 622481119 | F145: Potiahnutie vonkajších stien sklotextílnou mriežkou s celoplošným prilepením | G145: m2 | H145: 165.86 | J145: =ROUND(I145*H145,2) -> 0 | N145: znížená | P145: =O145*H145 -> 0 | Q145: 0 | R145: =Q145*H145 -> 0 | S145: 0 | T145: =S145*H145 -> 0 | AR145: 4 | AT145: K | AU145: 2 | AY145: ROZPOCET | BE145: =IF(N145="základná",J145,0) -> 0 | BF145: =IF(N145="znížená",J145,0) -> 0 | BG145: =IF(N145="zákl. prenesená",J145,0) -> 0 | BH145: =IF(N145="zníž. prenesená",J145,0) -> 0 | BI145: =IF(N145="nulová",J145,0) -> 0 | BJ145: 2 | BK145: =ROUND(I145*H145,2) -> 0 | BL145: 4 | BM145: 14
C146: 8 | D146: K | E146: 625252001-01 | F146: Kontaktný zatepľovací systém hr. 30 mm ref. weber.therm terranova (biely EPS-F), skrutkovacie kotvy vč. certifikovaného príslušenstva | G146: m2 | H146: 177.164 | J146: =ROUND(I146*H146,2) -> 0 | N146: znížená | P146: =O146*H146 -> 0 | Q146: 0 | R146: =Q146*H146 -> 0 | S146: 0 | T146: =S146*H146 -> 0 | AR146: 4 | AT146: K | AU146: 2 | AY146: ROZPOCET | BE146: =IF(N146="základná",J146,0) -> 0 | BF146: =IF(N146="znížená",J146,0) -> 0 | BG146: =IF(N146="zákl. prenesená",J146,0) -> 0 | BH146: =IF(N146="zníž. prenesená",J146,0) -> 0 | BI146: =IF(N146="nulová",J146,0) -> 0 | BJ146: 2 | BK146: =ROUND(I146*H146,2) -> 0 | BL146: 4 | BM146: 16
C147: 9 | D147: K | E147: 625252003-01 | F147: Kontaktný zatepľovací systém hr. 50 mm ref. weber.therm terranova (biely EPS-F) na OSB dosku, skrutkovacie kotvy vč. certifikovaného príslušenstva (lepiaca hmota WEBER.THERM TECHNIK) | G147: m2 | H147: 87.482 | J147: =ROUND(I147*H147,2) -> 0 | N147: znížená | P147: =O147*H147 -> 0 | Q147: 0 | R147: =Q147*H147 -> 0 | S147: 0 | T147: =S147*H147 -> 0 | AR147: 4 | AT147: K | AU147: 2 | AY147: ROZPOCET | BE147: =IF(N147="základná",J147,0) -> 0 | BF147: =IF(N147="znížená",J147,0) -> 0 | BG147: =IF(N147="zákl. prenesená",J147,0) -> 0 | BH147: =IF(N147="zníž. prenesená",J147,0) -> 0 | BI147: =IF(N147="nulová",J147,0) -> 0 | BJ147: 2 | BK147: =ROUND(I147*H147,2) -> 0 | BL147: 4 | BM147: 18
C148: 10 | D148: K | E148: 625252006-01 | F148: Kontaktný zatepľovací systém hr. 80 mm ref. weber.therm terranova (biely EPS-F), skrutkovacie kotvy vč. certifikovaného príslušenstva | G148: m2 | H148: 129.992 | J148: =ROUND(I148*H148,2) -> 0 | N148: znížená | P148: =O148*H148 -> 0 | Q148: 0 | R148: =Q148*H148 -> 0 | S148: 0 | T148: =S148*H148 -> 0 | AR148: 4 | AT148: K | AU148: 2 | AY148: ROZPOCET | BE148: =IF(N148="základná",J148,0) -> 0 | BF148: =IF(N148="znížená",J148,0) -> 0 | BG148: =IF(N148="zákl. prenesená",J148,0) -> 0 | BH148: =IF(N148="zníž. prenesená",J148,0) -> 0 | BI148: =IF(N148="nulová",J148,0) -> 0 | BJ148: 2 | BK148: =ROUND(I148*H148,2) -> 0 | BL148: 4 | BM148: 20
C149: 11 | D149: K | E149: 625252010-01 | F149: Kontaktný zatepľovací systém hr. 150 mm ref. weber.therm terranova (biely EPS-F), skrutkovacie kotvy, vč. certifikovaného príslušenstva | G149: m2 | H149: 799.227 | J149: =ROUND(I149*H149,2) -> 0 | N149: znížená | P149: =O149*H149 -> 0 | Q149: 0 | R149: =Q149*H149 -> 0 | S149: 0 | T149: =S149*H149 -> 0 | AR149: 4 | AT149: K | AU149: 2 | AY149: ROZPOCET | BE149: =IF(N149="základná",J149,0) -> 0 | BF149: =IF(N149="znížená",J149,0) -> 0 | BG149: =IF(N149="zákl. prenesená",J149,0) -> 0 | BH149: =IF(N149="zníž. prenesená",J149,0) -> 0 | BI149: =IF(N149="nulová",J149,0) -> 0 | BJ149: 2 | BK149: =ROUND(I149*H149,2) -> 0 | BL149: 4 | BM149: 22
C150: 12 | D150: K | E150: 625252011-01 | F150: Kontaktný zatepľovací systém hr. 110 mm ref. weber.therm terranova (biely EPS-F), skrutkovacie kotvy vč. certifikovaného príslušenstva | G150: m2 | H150: 6.039 | J150: =ROUND(I150*H150,2) -> 0 | N150: znížená | P150: =O150*H150 -> 0 | Q150: 0 | R150: =Q150*H150 -> 0 | S150: 0 | T150: =S150*H150 -> 0 | AR150: 4 | AT150: K | AU150: 2 | AY150: ROZPOCET | BE150: =IF(N150="základná",J150,0) -> 0 | BF150: =IF(N150="znížená",J150,0) -> 0 | BG150: =IF(N150="zákl. prenesená",J150,0) -> 0 | BH150: =IF(N150="zníž. prenesená",J150,0) -> 0 | BI150: =IF(N150="nulová",J150,0) -> 0 | BJ150: 2 | BK150: =ROUND(I150*H150,2) -> 0 | BL150: 4 | BM150: 24
C151: 13 | D151: K | E151: 625252016-01 | F151: Kontaktný zatepľovací systém hr. 180 mm ref. weber.therm terranova (biely EPS-F), skrutkovacie kotvy vč. certifikovaného príslušenstva | G151: m2 | H151: 19.656 | J151: =ROUND(I151*H151,2) -> 0 | N151: znížená | P151: =O151*H151 -> 0 | Q151: 0 | R151: =Q151*H151 -> 0 | S151: 0 | T151: =S151*H151 -> 0 | AR151: 4 | AT151: K | AU151: 2 | AY151: ROZPOCET | BE151: =IF(N151="základná",J151,0) -> 0 | BF151: =IF(N151="znížená",J151,0) -> 0 | BG151: =IF(N151="zákl. prenesená",J151,0) -> 0 | BH151: =IF(N151="zníž. prenesená",J151,0) -> 0 | BI151: =IF(N151="nulová",J151,0) -> 0 | BJ151: 2 | BK151: =ROUND(I151*H151,2) -> 0 | BL151: 4 | BM151: 26
C152: 14 | D152: K | E152: 625252041-01 | F152: Kontaktný zatepľovací systém ostenia hr. 30 mm ref. weber.therm terranova (biely EPS-F) vč. certifikovaného príslušenstva | G152: m2 | H152: 127.342 | J152: =ROUND(I152*H152,2) -> 0 | N152: znížená | P152: =O152*H152 -> 0 | Q152: 0 | R152: =Q152*H152 -> 0 | S152: 0 | T152: =S152*H152 -> 0 | AR152: 4 | AT152: K | AU152: 2 | AY152: ROZPOCET | BE152: =IF(N152="základná",J152,0) -> 0 | BF152: =IF(N152="znížená",J152,0) -> 0 | BG152: =IF(N152="zákl. prenesená",J152,0) -> 0 | BH152: =IF(N152="zníž. prenesená",J152,0) -> 0 | BI152: =IF(N152="nulová",J152,0) -> 0 | BJ152: 2 | BK152: =ROUND(I152*H152,2) -> 0 | BL152: 4 | BM152: 28
D153: D | E153: 9 | F153: Ostatné konštrukcie a práce-búranie | J153: =BK153 -> 0 | P153: =SUM(P154:P166) -> 0 | R153: =SUM(R154:R166) -> 0 | T153: =SUM(T154:T166) -> 0 | AR153: 1 | AT153: D | AU153: 1 | AY153: ROZPOCET | BK153: =SUM(BK154:BK166) -> 0
C154: 15 | D154: K | E154: 941941041 | F154: Montáž lešenia ľahkého pracovného radového s podlahami šírky nad 1,00 do 1,20 m, výšky do 10 m | G154: m2 | H154: 1131.943 | J154: =ROUND(I154*H154,2) -> 0 | N154: znížená | P154: =O154*H154 -> 0 | Q154: 0 | R154: =Q154*H154 -> 0 | S154: 0 | T154: =S154*H154 -> 0 | AR154: 4 | AT154: K | AU154: 2 | AY154: ROZPOCET | BE154: =IF(N154="základná",J154,0) -> 0 | BF154: =IF(N154="znížená",J154,0) -> 0 | BG154: =IF(N154="zákl. prenesená",J154,0) -> 0 | BH154: =IF(N154="zníž. prenesená",J154,0) -> 0 | BI154: =IF(N154="nulová",J154,0) -> 0 | BJ154: 2 | BK154: =ROUND(I154*H154,2) -> 0 | BL154: 4 | BM154: 30
C155: 16 | D155: K | E155: 941941291 | F155: Príplatok za prvý a každý ďalší i začatý mesiac použitia lešenia ľahkého pracovného radového s podlahami šírky nad 1,00 do 1,20 m, výšky do 10 m | G155: m2 | H155: 1131.943 | J155: =ROUND(I155*H155,2) -> 0 | N155: znížená | P155: =O155*H155 -> 0 | Q155: 0 | R155: =Q155*H155 -> 0 | S155: 0 | T155: =S155*H155 -> 0 | AR155: 4 | AT155: K | AU155: 2 | AY155: ROZPOCET | BE155: =IF(N155="základná",J155,0) -> 0 | BF155: =IF(N155="znížená",J155,0) -> 0 | BG155: =IF(N155="zákl. prenesená",J155,0) -> 0 | BH155: =IF(N155="zníž. prenesená",J155,0) -> 0 | BI155: =IF(N155="nulová",J155,0) -> 0 | BJ155: 2 | BK155: =ROUND(I155*H155,2) -> 0 | BL155: 4 | BM155: 32
C156: 17 | D156: K | E156: 941941841 | F156: Demontáž lešenia ľahkého pracovného radového s podlahami šírky nad 1,00 do 1,20 m, výšky do 10 m | G156: m2 | H156: 1131.943 | J156: =ROUND(I156*H156,2) -> 0 | N156: znížená | P156: =O156*H156 -> 0 | Q156: 0 | R156: =Q156*H156 -> 0 | S156: 0 | T156: =S156*H156 -> 0 | AR156: 4 | AT156: K | AU156: 2 | AY156: ROZPOCET | BE156: =IF(N156="základná",J156,0) -> 0 | BF156: =IF(N156="znížená",J156,0) -> 0 | BG156: =IF(N156="zákl. prenesená",J156,0) -> 0 | BH156: =IF(N156="zníž. prenesená",J156,0) -> 0 | BI156: =IF(N156="nulová",J156,0) -> 0 | BJ156: 2 | BK156: =ROUND(I156*H156,2) -> 0 | BL156: 4 | BM156: 34
C157: 18 | D157: K | E157: 953996610-01 | F157: ref. WEBER - TERRANOVA dilatačný profil priebežný PVC | G157: m | H157: 28.725 | J157: =ROUND(I157*H157,2) -> 0 | N157: znížená | P157: =O157*H157 -> 0 | Q157: 0 | R157: =Q157*H157 -> 0 | S157: 0 | T157: =S157*H157 -> 0 | AR157: 4 | AT157: K | AU157: 2 | AY157: ROZPOCET | BE157: =IF(N157="základná",J157,0) -> 0 | BF157: =IF(N157="znížená",J157,0) -> 0 | BG157: =IF(N157="zákl. prenesená",J157,0) -> 0 | BH157: =IF(N157="zníž. prenesená",J157,0) -> 0 | BI157: =IF(N157="nulová",J157,0) -> 0 | BJ157: 2 | BK157: =ROUND(I157*H157,2) -> 0 | BL157: 4 | BM157: 36
C158: 19 | D158: K | E158: 962032231-01 | F158: Búranie muriva zo siporexových panelov hr. 300 mm | G158: m3 | H158: 1.92 | J158: =ROUND(I158*H158,2) -> 0 | N158: znížená | P158: =O158*H158 -> 0 | Q158: 0 | R158: =Q158*H158 -> 0 | S158: 0 | T158: =S158*H158 -> 0 | AR158: 4 | AT158: K | AU158: 2 | AY158: ROZPOCET | BE158: =IF(N158="základná",J158,0) -> 0 | BF158: =IF(N158="znížená",J158,0) -> 0 | BG158: =IF(N158="zákl. prenesená",J158,0) -> 0 | BH158: =IF(N158="zníž. prenesená",J158,0) -> 0 | BI158: =IF(N158="nulová",J158,0) -> 0 | BJ158: 2 | BK158: =ROUND(I158*H158,2) -> 0 | BL158: 4 | BM158: 38
C159: 20 | D159: K | E159: 962086121 | F159: Búranie muriva priečok z plynosilikátu a siporexu hr. do 300mm, -0,15000t | G159: m2 | H159: 2 | J159: =ROUND(I159*H159,2) -> 0 | N159: znížená | P159: =O159*H159 -> 0 | Q159: 0 | R159: =Q159*H159 -> 0 | S159: 0 | T159: =S159*H159 -> 0 | AR159: 4 | AT159: K | AU159: 2 | AY159: ROZPOCET | BE159: =IF(N159="základná",J159,0) -> 0 | BF159: =IF(N159="znížená",J159,0) -> 0 | BG159: =IF(N159="zákl. prenesená",J159,0) -> 0 | BH159: =IF(N159="zníž. prenesená",J159,0) -> 0 | BI159: =IF(N159="nulová",J159,0) -> 0 | BJ159: 2 | BK159: =ROUND(I159*H159,2) -> 0 | BL159: 4 | BM159: 40
C160: 21 | D160: K | E160: 971055024-01 | F160: Rezanie konštrukcií z panelov Siporex hr.panelu 300mm stenovou pílou -0,03600t | G160: m | H160: 12.1 | J160: =ROUND(I160*H160,2) -> 0 | N160: znížená | P160: =O160*H160 -> 0 | Q160: 0 | R160: =Q160*H160 -> 0 | S160: 0 | T160: =S160*H160 -> 0 | AR160: 4 | AT160: K | AU160: 2 | AY160: ROZPOCET | BE160: =IF(N160="základná",J160,0) -> 0 | BF160: =IF(N160="znížená",J160,0) -> 0 | BG160: =IF(N160="zákl. prenesená",J160,0) -> 0 | BH160: =IF(N160="zníž. prenesená",J160,0) -> 0 | BI160: =IF(N160="nulová",J160,0) -> 0 | BJ160: 2 | BK160: =ROUND(I160*H160,2) -> 0 | BL160: 4 | BM160: 42
C161: 22 | D161: K | E161: 979011111 | F161: Zvislá doprava sutiny a vybúraných hmôt za prvé podlažie nad alebo pod základným podlažím | G161: t | H161: 3.958 | J161: =ROUND(I161*H161,2) -> 0 | N161: znížená | P161: =O161*H161 -> 0 | Q161: 0 | R161: =Q161*H161 -> 0 | S161: 0 | T161: =S161*H161 -> 0 | AR161: 4 | AT161: K | AU161: 2 | AY161: ROZPOCET | BE161: =IF(N161="základná",J161,0) -> 0 | BF161: =IF(N161="znížená",J161,0) -> 0 | BG161: =IF(N161="zákl. prenesená",J161,0) -> 0 | BH161: =IF(N161="zníž. prenesená",J161,0) -> 0 | BI161: =IF(N161="nulová",J161,0) -> 0 | BJ161: 2 | BK161: =ROUND(I161*H161,2) -> 0 | BL161: 4 | BM161: 44
C162: 23 | D162: K | E162: 979081111 | F162: Odvoz sutiny a vybúraných hmôt na skládku do 1 km | G162: t | H162: 3.958 | J162: =ROUND(I162*H162,2) -> 0 | N162: znížená | P162: =O162*H162 -> 0 | Q162: 0 | R162: =Q162*H162 -> 0 | S162: 0 | T162: =S162*H162 -> 0 | AR162: 4 | AT162: K | AU162: 2 | AY162: ROZPOCET | BE162: =IF(N162="základná",J162,0) -> 0 | BF162: =IF(N162="znížená",J162,0) -> 0 | BG162: =IF(N162="zákl. prenesená",J162,0) -> 0 | BH162: =IF(N162="zníž. prenesená",J162,0) -> 0 | BI162: =IF(N162="nulová",J162,0) -> 0 | BJ162: 2 | BK162: =ROUND(I162*H162,2) -> 0 | BL162: 4 | BM162: 46
C163: 24 | D163: K | E163: 979081121 | F163: Odvoz sutiny a vybúraných hmôt na skládku za každý ďalší 1 km | G163: t | H163: 55.412 | J163: =ROUND(I163*H163,2) -> 0 | N163: znížená | P163: =O163*H163 -> 0 | Q163: 0 | R163: =Q163*H163 -> 0 | S163: 0 | T163: =S163*H163 -> 0 | AR163: 4 | AT163: K | AU163: 2 | AY163: ROZPOCET | BE163: =IF(N163="základná",J163,0) -> 0 | BF163: =IF(N163="znížená",J163,0) -> 0 | BG163: =IF(N163="zákl. prenesená",J163,0) -> 0 | BH163: =IF(N163="zníž. prenesená",J163,0) -> 0 | BI163: =IF(N163="nulová",J163,0) -> 0 | BJ163: 2 | BK163: =ROUND(I163*H163,2) -> 0 | BL163: 4 | BM163: 48
C164: 25 | D164: K | E164: 979082111 | F164: Vnútrostavenisková doprava sutiny a vybúraných hmôt do 10 m | G164: t | H164: 3.958 | J164: =ROUND(I164*H164,2) -> 0 | N164: znížená | P164: =O164*H164 -> 0 | Q164: 0 | R164: =Q164*H164 -> 0 | S164: 0 | T164: =S164*H164 -> 0 | AR164: 4 | AT164: K | AU164: 2 | AY164: ROZPOCET | BE164: =IF(N164="základná",J164,0) -> 0 | BF164: =IF(N164="znížená",J164,0) -> 0 | BG164: =IF(N164="zákl. prenesená",J164,0) -> 0 | BH164: =IF(N164="zníž. prenesená",J164,0) -> 0 | BI164: =IF(N164="nulová",J164,0) -> 0 | BJ164: 2 | BK164: =ROUND(I164*H164,2) -> 0 | BL164: 4 | BM164: 50
C165: 26 | D165: K | E165: 979082121 | F165: Vnútrostavenisková doprava sutiny a vybúraných hmôt za každých ďalších 5 m | G165: t | H165: 15.832 | J165: =ROUND(I165*H165,2) -> 0 | N165: znížená | P165: =O165*H165 -> 0 | Q165: 0 | R165: =Q165*H165 -> 0 | S165: 0 | T165: =S165*H165 -> 0 | AR165: 4 | AT165: K | AU165: 2 | AY165: ROZPOCET | BE165: =IF(N165="základná",J165,0) -> 0 | BF165: =IF(N165="znížená",J165,0) -> 0 | BG165: =IF(N165="zákl. prenesená",J165,0) -> 0 | BH165: =IF(N165="zníž. prenesená",J165,0) -> 0 | BI165: =IF(N165="nulová",J165,0) -> 0 | BJ165: 2 | BK165: =ROUND(I165*H165,2) -> 0 | BL165: 4 | BM165: 52
C166: 27 | D166: K | E166: 979089012 | F166: Poplatok za skladovanie - betón, tehly, dlaždice (17 01 ), ostatné | G166: t | H166: 3.958 | J166: =ROUND(I166*H166,2) -> 0 | N166: znížená | P166: =O166*H166 -> 0 | Q166: 0 | R166: =Q166*H166 -> 0 | S166: 0 | T166: =S166*H166 -> 0 | AR166: 4 | AT166: K | AU166: 2 | AY166: ROZPOCET | BE166: =IF(N166="základná",J166,0) -> 0 | BF166: =IF(N166="znížená",J166,0) -> 0 | BG166: =IF(N166="zákl. prenesená",J166,0) -> 0 | BH166: =IF(N166="zníž. prenesená",J166,0) -> 0 | BI166: =IF(N166="nulová",J166,0) -> 0 | BJ166: 2 | BK166: =ROUND(I166*H166,2) -> 0 | BL166: 4 | BM166: 54
...

Sheet 02 - Zateplenie strechy
L2: >> skryté stĺpce << | AT2: {c8c06e1a-8c7d-49de-8e68-58754604c38b}
AT3: 0
D4: KRYCÍ LIST ROZPOČTU | M4: v --- nižšie sa nachádzajú doplnkové a pomocné údaje k zostavám --- v | AT4: False
D6: Stavba:
E7: ='Rekapitulácia stavby'!K6 -> Zateplenie plniarne nealkoholických nápojov, Dunajská Streda - aktualizácia jún 2023
D8: Objekt:
E9: 02 - Zateplenie strechy
D11: JKSO: | I11: KS:
D12: Miesto: | F12: Dunajská Streda | I12: Dátum: | J12: ='Rekapitulácia stavby'!AN8 -> 8. 6. 2023
D14: Objednávateľ: | I14: IČO:
E15: McCarter, a.s. | I15: IČ DPH:
D17: Zhotoviteľ: | I17: IČO: | J17: ='Rekapitulácia stavby'!AN13 -> Vyplň údaj
E18: ='Rekapitulácia stavby'!E14 -> Vyplň údaj | I18: IČ DPH: | J18: ='Rekapitulácia stavby'!AN14 -> Vyplň údaj
D20: Projektant: | I20: IČO:
E21: Ing.arch. Miroslav Marko M.Arch. | I21: IČ DPH:
D23: Spracovateľ: | I23: IČO:
E24: Rosoft, s.r.o. | I24: IČ DPH:
D26: Poznámka:
D30: Náklady z rozpočtu | J30: =J96 -> 0
D31: Ostatné náklady | J31: =J111 -> 0
D32: Cena bez DPH | J32: =ROUND(J30 + J31, 2) -> 0
F34: Základ dane | I34: Sadzba dane | J34: Výška dane
D35: DPH | E35: základná | F35: =ROUND((ROUND((SUM(BE111:BE118) + SUM(BE138:BE198)), 2) + SUM(BE202)), 2) -> 0 | I35: 0.2 | J35: =ROUND((ROUND(((SUM(BE111:BE118) + SUM(BE138:BE198))*I35), 2) + (SUM(BE202)*I35)), 2) -> 0
E36: znížená | F36: =ROUND((ROUND((SUM(BF111:BF118) + SUM(BF138:BF198)), 2) + SUM(BF202)), 2) -> 0 | I36: 0.2 | J36: =ROUND((ROUND(((SUM(BF111:BF118) + SUM(BF138:BF198))*I36), 2) + (SUM(BF202)*I36)), 2) -> 0
E37: zákl. prenesená | F37: =ROUND((ROUND((SUM(BG111:BG118) + SUM(BG138:BG198)), 2) + SUM(BG202)), 2) -> 0 | I37: 0.2 | J37: =0 -> 0
E38: zníž. prenesená | F38: =ROUND((ROUND((SUM(BH111:BH118) + SUM(BH138:BH198)), 2) + SUM(BH202)), 2) -> 0 | I38: 0.2 | J38: =0 -> 0
E39: nulová | F39: =ROUND((ROUND((SUM(BI111:BI118) + SUM(BI138:BI198)), 2) + SUM(BI202)), 2) -> 0 | I39: 0 | J39: =0 -> 0
D41: Cena s DPH | G41: v | H41: EUR | J41: =SUM(J32:J39) -> 0
D50: Projektant | G50: Spracovateľ
D61: Dátum a podpis: | F61: Pečiatka | G61: Dátum a podpis: | J61: Pečiatka
D65: Objednávateľ | G65: Zhotoviteľ
D76: Dátum a podpis: | F76: Pečiatka | G76: Dátum a podpis: | J76: Pečiatka
C82: REKAPITULÁCIA ROZPOČTU
C84: Stavba:
E85: =E7 -> Zateplenie plniarne nealkoholických nápojov, Dunajská Streda - aktualizácia jún 2023
C86: Objekt:
E87: =E9 -> 02 - Zateplenie strechy
C89: Miesto: | F89: =F12 -> Dunajská Streda | I89: Dátum: | J89: =IF(J12="","",J12) -> 8. 6. 2023
C91: Objednávateľ: | F91: =E15 -> McCarter, a.s. | I91: Projektant: | J91: =E21 -> Ing.arch. Miroslav Marko M.Arch.
C92: Zhotoviteľ: | F92: =IF(E18="","",E18) -> Vyplň údaj | I92: Spracovateľ: | J92: =E24 -> Rosoft, s.r.o.
C94: Kód dielu - Popis | J94: Cena celkom [EUR]
C96: 1) Náklady z rozpočtu | J96: =J138 -> 0 | AU96: -1
D97: HSV - Práce a dodávky HSV | J97: =J139 -> 0
D98: 3 - Zvislé a kompletné konštrukcie | J98: =J140 -> 0
D99: 9 - Ostatné konštrukcie a práce-búranie | J99: =J145 -> 0
D100: 99 - Presun hmôt HSV | J100: =J158 -> 0
D101: PSV - Práce a dodávky PSV | J101: =J160 -> 0
D102: 712 - Izolácie striech | J102: =J161 -> 0
D103: 713 - Izolácie tepelné | J103: =J172 -> 0
D104: 721 - Zdravotech. vnútorná kanalizácia | J104: =J182 -> 0
D105: 762 - Konštrukcie tesárske | J105: =J185 -> 0
D106: 763 - Konštrukcie - drevostavby | J106: =J192 -> 0
D107: 767 - Konštrukcie doplnkové kovové | J107: =J195 -> 0
D108: VP - Práce naviac | J108: =J201 -> 0
C111: 2) Ostatné náklady | J111: =ROUND(J112 + J113 + J114 + J115 + J116 + J117,2) -> 0 | N111: DPH
D112: GZS | J112: 0 | N112: znížená | AY112: VRN | BE112: =IF(N112="základná",J112,0) -> 0 | BF112: =IF(N112="znížená",J112,0) -> 0 | BG112: =IF(N112="zákl. prenesená",J112,0) -> 0 | BH112: =IF(N112="zníž. prenesená",J112,0) -> 0 | BI112: =IF(N112="nulová",J112,0) -> 0 | BJ112: 2
D113: Projektové práce | J113: 0 | N113: znížená | AY113: VRN | BE113: =IF(N113="základná",J113,0) -> 0 | BF113: =IF(N113="znížená",J113,0) -> 0 | BG113: =IF(N113="zákl. prenesená",J113,0) -> 0 | BH113: =IF(N113="zníž. prenesená",J113,0) -> 0 | BI113: =IF(N113="nulová",J113,0) -> 0 | BJ113: 2
D114: Sťažené podmienky | J114: 0 | N114: znížená | AY114: VRN | BE114: =IF(N114="základná",J114,0) -> 0 | BF114: =IF(N114="znížená",J114,0) -> 0 | BG114: =IF(N114="zákl. prenesená",J114,0) -> 0 | BH114: =IF(N114="zníž. prenesená",J114,0) -> 0 | BI114: =IF(N114="nulová",J114,0) -> 0 | BJ114: 2
D115: Vplyv prostredia | J115: 0 | N115: znížená | AY115: VRN | BE115: =IF(N115="základná",J115,0) -> 0 | BF115: =IF(N115="znížená",J115,0) -> 0 | BG115: =IF(N115="zákl. prenesená",J115,0) -> 0 | BH115: =IF(N115="zníž. prenesená",J115,0) -> 0 | BI115: =IF(N115="nulová",J115,0) -> 0 | BJ115: 2
D116: Iné VRN | J116: 0 | N116: znížená | AY116: VRN | BE116: =IF(N116="základná",J116,0) -> 0 | BF116: =IF(N116="znížená",J116,0) -> 0 | BG116: =IF(N116="zákl. prenesená",J116,0) -> 0 | BH116: =IF(N116="zníž. prenesená",J116,0) -> 0 | BI116: =IF(N116="nulová",J116,0) -> 0 | BJ116: 2
D117: Kompletačná činnosť | J117: =ROUND(J30*T117,2) -> 0 | N117: znížená | AY117: KOMPLETACNA | BE117: =IF(N117="základná",J117,0) -> 0 | BF117: =IF(N117="znížená",J117,0) -> 0 | BG117: =IF(N117="zákl. prenesená",J117,0) -> 0 | BH117: =IF(N117="zníž. prenesená",J117,0) -> 0 | BI117: =IF(N117="nulová",J117,0) -> 0 | BJ117: 2
C119: Celkové náklady za stavbu 1) + 2) | J119: =ROUND(J96+J111,2) -> 0
C125: ROZPOČET
C127: Stavba:
E128: =E7 -> Zateplenie plniarne nealkoholických nápojov, Dunajská Streda - aktualizácia jún 2023
C129: Objekt:
E130: =E9 -> 02 - Zateplenie strechy
C132: Miesto: | F132: =F12 -> Dunajská Streda | I132: Dátum: | J132: =IF(J12="","",J12) -> 8. 6. 2023
C134: Objednávateľ: | F134: =E15 -> McCarter, a.s. | I134: Projektant: | J134: =E21 -> Ing.arch. Miroslav Marko M.Arch.
C135: Zhotoviteľ: | F135: =IF(E18="","",E18) -> Vyplň údaj | I135: Spracovateľ: | J135: =E24 -> Rosoft, s.r.o.
C137: PČ | D137: Typ | E137: Kód | F137: Popis | G137: MJ | H137: Množstvo | I137: J.cena [EUR] | J137: Cena celkom [EUR] | K137: Cenová sústava | N137: DPH | O137: J. Nh [h] | P137: Nh celkom [h] | Q137: J. hmotnosť [t] | R137: Hmotnosť celkom [t] | S137: J. suť [t] | T137: Suť Celkom [t]
C138: Náklady z rozpočtu | J138: =BK138 -> 0 | P138: =P139+P160+P201 -> 0 | R138: =R139+R160+R201 -> 0 | T138: =T139+T160+T201 -> 0 | AT138: D | AU138: -1 | BK138: =BK139+BK160+BK201 -> 0
D139: D | E139: HSV | F139: Práce a dodávky HSV | J139: =BK139 -> 0 | P139: =P140+P145+P158 -> 0 | R139: =R140+R145+R158 -> 0 | T139: =T140+T145+T158 -> 0 | AR139: 1 | AT139: D | AU139: 0 | AY139: ROZPOCET | BK139: =BK140+BK145+BK158 -> 0
D140: D | E140: 3 | F140: Zvislé a kompletné konštrukcie | J140: =BK140 -> 0 | P140: =SUM(P141:P144) -> 0 | R140: =SUM(R141:R144) -> 0 | T140: =SUM(T141:T144) -> 0 | AR140: 1 | AT140: D | AU140: 1 | AY140: ROZPOCET | BK140: =SUM(BK141:BK144) -> 0
C141: 1 | D141: K | E141: 345321515 | F141: Betón múrikov parapetných, atikových, schodiskových, zábradelných, železový (bez výstuže) tr. C 25/30 | G141: m3 | H141: 12.032 | J141: =ROUND(I141*H141,2) -> 0 | N141: znížená | P141: =O141*H141 -> 0 | Q141: 0 | R141: =Q141*H141 -> 0 | S141: 0 | T141: =S141*H141 -> 0 | AR141: 4 | AT141: K | AU141: 2 | AY141: ROZPOCET | BE141: =IF(N141="základná",J141,0) -> 0 | BF141: =IF(N141="znížená",J141,0) -> 0 | BG141: =IF(N141="zákl. prenesená",J141,0) -> 0 | BH141: =IF(N141="zníž. prenesená",J141,0) -> 0 | BI141: =IF(N141="nulová",J141,0) -> 0 | BJ141: 2 | BK141: =ROUND(I141*H141,2) -> 0 | BL141: 4 | BM141: 2
C142: 2 | D142: K | E142: 345351101 | F142: Debnenie múrikov parapet., atik., zábradl., plnostenných- zhotovenie | G142: m2 | H142: 160.424 | J142: =ROUND(I142*H142,2) -> 0 | N142: znížená | P142: =O142*H142 -> 0 | Q142: 0 | R142: =Q142*H142 -> 0 | S142: 0 | T142: =S142*H142 -> 0 | AR142: 4 | AT142: K | AU142: 2 | AY142: ROZPOCET | BE142: =IF(N142="základná",J142,0) -> 0 | BF142: =IF(N142="znížená",J142,0) -> 0 | BG142: =IF(N142="zákl. prenesená",J142,0) -> 0 | BH142: =IF(N142="zníž. prenesená",J142,0) -> 0 | BI142: =IF(N142="nulová",J142,0) -> 0 | BJ142: 2 | BK142: =ROUND(I142*H142,2) -> 0 | BL142: 4 | BM142: 4
C143: 3 | D143: K | E143: 345351102 | F143: Debnenie múrikov parapet., atik., zábradl., plnostenných- odstránenie | G143: m2 | H143: 160.424 | J143: =ROUND(I143*H143,2) -> 0 | N143: znížená | P143: =O143*H143 -> 0 | Q143: 0 | R143: =Q143*H143 -> 0 | S143: 0 | T143: =S143*H143 -> 0 | AR143: 4 | AT143: K | AU143: 2 | AY143: ROZPOCET | BE143: =IF(N143="základná",J143,0) -> 0 | BF143: =IF(N143="znížená",J143,0) -> 0 | BG143: =IF(N143="zákl. prenesená",J143,0) -> 0 | BH143: =IF(N143="zníž. prenesená",J143,0) -> 0 | BI143: =IF(N143="nulová",J143,0) -> 0 | BJ143: 2 | BK143: =ROUND(I143*H143,2) -> 0 | BL143: 4 | BM143: 6
C144: 4 | D144: K | E144: 345361821 | F144: Výstuž múrikov parapet., atik., schodisk., zábradl., z betonárskej ocele 10505 (vč. kotvenia do jestvuj. ŽB prievlaku) | G144: t | H144: 0.807 | J144: =ROUND(I144*H144,2) -> 0 | N144: znížená | P144: =O144*H144 -> 0 | Q144: 0 | R144: =Q144*H144 -> 0 | S144: 0 | T144: =S144*H144 -> 0 | AR144: 4 | AT144: K | AU144: 2 | AY144: ROZPOCET | BE144: =IF(N144="základná",J144,0) -> 0 | BF144: =IF(N144="znížená",J144,0) -> 0 | BG144: =IF(N144="zákl. prenesená",J144,0) -> 0 | BH144: =IF(N144="zníž. prenesená",J144,0) -> 0 | BI144: =IF(N144="nulová",J144,0) -> 0 | BJ144: 2 | BK144: =ROUND(I144*H144,2) -> 0 | BL144: 4 | BM144: 8
D145: D | E145: 9 | F145: Ostatné konštrukcie a práce-búranie | J145: =BK145 -> 0 | P145: =SUM(P146:P157) -> 0 | R145: =SUM(R146:R157) -> 0 | T145: =SUM(T146:T157) -> 0 | AR145: 1 | AT145: D | AU145: 1 | AY145: ROZPOCET | BK145: =SUM(BK146:BK157) -> 0
C146: 5 | D146: K | E146: 944941101 | F146: Ochranné zábradlie na vonkajších voľných stranách objektov odklonené od zvislice do 15 st. | G146: m | H146: 39 | J146: =ROUND(I146*H146,2) -> 0 | N146: znížená | P146: =O146*H146 -> 0 | Q146: 0 | R146: =Q146*H146 -> 0 | S146: 0 | T146: =S146*H146 -> 0 | AR146: 4 | AT146: K | AU146: 2 | AY146: ROZPOCET | BE146: =IF(N146="základná",J146,0) -> 0 | BF146: =IF(N146="znížená",J146,0) -> 0 | BG146: =IF(N146="zákl. prenesená",J146,0) -> 0 | BH146: =IF(N146="zníž. prenesená",J146,0) -> 0 | BI146: =IF(N146="nulová",J146,0) -> 0 | BJ146: 2 | BK146: =ROUND(I146*H146,2) -> 0 | BL146: 4 | BM146: 10
C147: 6 | D147: K | E147: 959941112-01 | F147: Chemická kotva do ŽB, s vyvŕtaním otvoru dl. 100 mm - prikotvenie novej atiky do jestvuj. ŽB väzníka (prikotvenie zvislej výstuže) | G147: ks | H147: 720 | J147: =ROUND(I147*H147,2) -> 0 | N147: znížená | P147: =O147*H147 -> 0 | Q147: 0 | R147: =Q147*H147 -> 0 | S147: 0 | T147: =S147*H147 -> 0 | AR147: 4 | AT147: K | AU147: 2 | AY147: ROZPOCET | BE147: =IF(N147="základná",J147,0) -> 0 | BF147: =IF(N147="znížená",J147,0) -> 0 | BG147: =IF(N147="zákl. prenesená",J147,0) -> 0 | BH147: =IF(N147="zníž. prenesená",J147,0) -> 0 | BI147: =IF(N147="nulová",J147,0) -> 0 | BJ147: 2 | BK147: =ROUND(I147*H147,2) -> 0 | BL147: 4 | BM147: 12
C148: 7 | D148: K | E148: 962031132 | F148: Búranie priečok z tehál pálených, plných alebo dutých hr. do 150 mm, -0,19600t | G148: m2 | H148: 27.075 | J148: =ROUND(I148*H148,2) -> 0 | N148: znížená | P148: =O148*H148 -> 0 | Q148: 0 | R148: =Q148*H148 -> 0 | S148: 0 | T148: =S148*H148 -> 0 | AR148: 4 | AT148: K | AU148: 2 | AY148: ROZPOCET | BE148: =IF(N148="základná",J148,0) -> 0 | BF148: =IF(N148="znížená",J148,0) -> 0 | BG148: =IF(N148="zákl. prenesená",J148,0) -> 0 | BH148: =IF(N148="zníž. prenesená",J148,0) -> 0 | BI148: =IF(N148="nulová",J148,0) -> 0 | BJ148: 2 | BK148: =ROUND(I148*H148,2) -> 0 | BL148: 4 | BM148: 14
C149: 8 | D149: K | E149: 962051116 | F149: Búranie priečok železobetónových hr.do 150 mm, -0,32400t | G149: m2 | H149: 29.12 | J149: =ROUND(I149*H149,2) -> 0 | N149: znížená | P149: =O149*H149 -> 0 | Q149: 0 | R149: =Q149*H149 -> 0 | S149: 0 | T149: =S149*H149 -> 0 | AR149: 4 | AT149: K | AU149: 2 | AY149: ROZPOCET | BE149: =IF(N149="základná",J149,0) -> 0 | BF149: =IF(N149="znížená",J149,0) -> 0 | BG149: =IF(N149="zákl. prenesená",J149,0) -> 0 | BH149: =IF(N149="zníž. prenesená",J149,0) -> 0 | BI149: =IF(N149="nulová",J149,0) -> 0 | BJ149: 2 | BK149: =ROUND(I149*H149,2) -> 0 | BL149: 4 | BM149: 16
C150: 9 | D150: K | E150: 979011111 | F150: Zvislá doprava sutiny a vybúraných hmôt za prvé podlažie nad alebo pod základným podlažím | G150: t | H150: 229.709 | J150: =ROUND(I150*H150,2) -> 0 | N150: znížená | P150: =O150*H150 -> 0 | Q150: 0 | R150: =Q150*H150 -> 0 | S150: 0 | T150: =S150*H150 -> 0 | AR150: 4 | AT150: K | AU150: 2 | AY150: ROZPOCET | BE150: =IF(N150="základná",J150,0) -> 0 | BF150: =IF(N150="znížená",J150,0) -> 0 | BG150: =IF(N150="zákl. prenesená",J150,0) -> 0 | BH150: =IF(N150="zníž. prenesená",J150,0) -> 0 | BI150: =IF(N150="nulová",J150,0) -> 0 | BJ150: 2 | BK150: =ROUND(I150*H150,2) -> 0 | BL150: 4 | BM150: 18
C151: 10 | D151: K | E151: 979081111 | F151: Odvoz sutiny a vybúraných hmôt na skládku do 1 km | G151: t | H151: 229.709 | J151: =ROUND(I151*H151,2) -> 0 | N151: znížená | P151: =O151*H151 -> 0 | Q151: 0 | R151: =Q151*H151 -> 0 | S151: 0 | T151: =S151*H151 -> 0 | AR151: 4 | AT151: K | AU151: 2 | AY151: ROZPOCET | BE151: =IF(N151="základná",J151,0) -> 0 | BF151: =IF(N151="znížená",J151,0) -> 0 | BG151: =IF(N151="zákl. prenesená",J151,0) -> 0 | BH151: =IF(N151="zníž. prenesená",J151,0) -> 0 | BI151: =IF(N151="nulová",J151,0) -> 0 | BJ151: 2 | BK151: =ROUND(I151*H151,2) -> 0 | BL151: 4 | BM151: 20
C152: 11 | D152: K | E152: 979081121 | F152: Odvoz sutiny a vybúraných hmôt na skládku za každý ďalší 1 km | G152: t | H152: 3215.926 | J152: =ROUND(I152*H152,2) -> 0 | N152: znížená | P152: =O152*H152 -> 0 | Q152: 0 | R152: =Q152*H152 -> 0 | S152: 0 | T152: =S152*H152 -> 0 | AR152: 4 | AT152: K | AU152: 2 | AY152: ROZPOCET | BE152: =IF(N152="základná",J152,0) -> 0 | BF152: =IF(N152="znížená",J152,0) -> 0 | BG152: =IF(N152="zákl. prenesená",J152,0) -> 0 | BH152: =IF(N152="zníž. prenesená",J152,0) -> 0 | BI152: =IF(N152="nulová",J152,0) -> 0 | BJ152: 2 | BK152: =ROUND(I152*H152,2) -> 0 | BL152: 4 | BM152: 22
C153: 12 | D153: K | E153: 979082111 | F153: Vnútrostavenisková doprava sutiny a vybúraných hmôt do 10 m | G153: t | H153: 229.709 | J153: =ROUND(I153*H153,2) -> 0 | N153: znížená | P153: =O153*H153 -> 0 | Q153: 0 | R153: =Q153*H153 -> 0 | S153: 0 | T153: =S153*H153 -> 0 | AR153: 4 | AT153: K | AU153: 2 | AY153: ROZPOCET | BE153: =IF(N153="základná",J153,0) -> 0 | BF153: =IF(N153="znížená",J153,0) -> 0 | BG153: =IF(N153="zákl. prenesená",J153,0) -> 0 | BH153: =IF(N153="zníž. prenesená",J153,0) -> 0 | BI153: =IF(N153="nulová",J153,0) -> 0 | BJ153: 2 | BK153: =ROUND(I153*H153,2) -> 0 | BL153: 4 | BM153: 24
C154: 13 | D154: K | E154: 979082121 | F154: Vnútrostavenisková doprava sutiny a vybúraných hmôt za každých ďalších 5 m | G154: t | H154: 918.836 | J154: =ROUND(I154*H154,2) -> 0 | N154: znížená | P154: =O154*H154 -> 0 | Q154: 0 | R154: =Q154*H154 -> 0 | S154: 0 | T154: =S154*H154 -> 0 | AR154: 4 | AT154: K | AU154: 2 | AY154: ROZPOCET | BE154: =IF(N154="základná",J154,0) -> 0 | BF154: =IF(N154="znížená",J154,0) -> 0 | BG154: =IF(N154="zákl. prenesená",J154,0) -> 0 | BH154: =IF(N154="zníž. prenesená",J154,0) -> 0 | BI154: =IF(N154="nulová",J154,0) -> 0 | BJ154: 2 | BK154: =ROUND(I154*H154,2) -> 0 | BL154: 4 | BM154: 26
C155: 14 | D155: K | E155: 979089012 | F155: Poplatok za skladovanie - betón, tehly, dlaždice (17 01 ), ostatné | G155: t | H155: 40.729 | J155: =ROUND(I155*H155,2) -> 0 | N155: znížená | P155: =O155*H155 -> 0 | Q155: 0 | R155: =Q155*H155 -> 0 | S155: 0 | T155: =S155*H155 -> 0 | AR155: 4 | AT155: K | AU155: 2 | AY155: ROZPOCET | BE155: =IF(N155="základná",J155,0) -> 0 | BF155: =IF(N155="znížená",J155,0) -> 0 | BG155: =IF(N155="zákl. prenesená",J155,0) -> 0 | BH155: =IF(N155="zníž. prenesená",J155,0) -> 0 | BI155: =IF(N155="nulová",J155,0) -> 0 | BJ155: 2 | BK155: =ROUND(I155*H155,2) -> 0 | BL155: 4 | BM155: 28
C156: 15 | D156: K | E156: 979089212 | F156: Poplatok za skladovanie - bitúmenové zmesi, uholný decht, dechtové výrobky (17 03 02 ), ostatné | G156: t | H156: 149.424 | J156: =ROUND(I156*H156,2) -> 0 | N156: znížená | P156: =O156*H156 -> 0 | Q156: 0 | R156: =Q156*H156 -> 0 | S156: 0 | T156: =S156*H156 -> 0 | AR156: 4 | AT156: K | AU156: 2 | AY156: ROZPOCET | BE156: =IF(N156="základná",J156,0) -> 0 | BF156: =IF(N156="znížená",J156,0) -> 0 | BG156: =IF(N156="zákl. prenesená",J156,0) -> 0 | BH156: =IF(N156="zníž. prenesená",J156,0) -> 0 | BI156: =IF(N156="nulová",J156,0) -> 0 | BJ156: 2 | BK156: =ROUND(I156*H156,2) -> 0 | BL156: 4 | BM156: 30
C157: 16 | D157: K | E157: 979089612 | F157: Poplatok za skladovanie - iné odpady zo stavieb a demolácií (17 09), ostatné | G157: t | H157: 39.556 | J157: =ROUND(I157*H157,2) -> 0 | N157: znížená | P157: =O157*H157 -> 0 | Q157: 0 | R157: =Q157*H157 -> 0 | S157: 0 | T157: =S157*H157 -> 0 | AR157: 4 | AT157: K | AU157: 2 | AY157: ROZPOCET | BE157: =IF(N157="základná",J157,0) -> 0 | BF157: =IF(N157="znížená",J157,0) -> 0 | BG157: =IF(N157="zákl. prenesená",J157,0) -> 0 | BH157: =IF(N157="zníž. prenesená",J157,0) -> 0 | BI157: =IF(N157="nulová",J157,0) -> 0 | BJ157: 2 | BK157: =ROUND(I157*H157,2) -> 0 | BL157: 4 | BM157: 32
D158: D | E158: 99 | F158: Presun hmôt HSV | J158: =BK158 -> 0 | P158: =P159 -> 0 | R158: =R159 -> 0 | T158: =T159 -> 0 | AR158: 1 | AT158: D | AU158: 1 | AY158: ROZPOCET | BK158: =BK159 -> 0
C159: 17 | D159: K | E159: 999281111 | F159: Presun hmôt pre opravy a údržbu objektov vrátane vonkajších plášťov výšky do 25 m | G159: t | H159: 33.913 | J159: =ROUND(I159*H159,2) -> 0 | N159: znížená | P159: =O159*H159 -> 0 | Q159: 0 | R159: =Q159*H159 -> 0 | S159: 0 | T159: =S159*H159 -> 0 | AR159: 4 | AT159: K | AU159: 2 | AY159: ROZPOCET | BE159: =IF(N159="základná",J159,0) -> 0 | BF159: =IF(N159="znížená",J159,0) -> 0 | BG159: =IF(N159="zákl. prenesená",J159,0) -> 0 | BH159: =IF(N159="zníž. prenesená",J159,0) -> 0 | BI159: =IF(N159="nulová",J159,0) -> 0 | BJ159: 2 | BK159: =ROUND(I159*H159,2) -> 0 | BL159: 4 | BM159: 34
D160: D | E160: PSV | F160: Práce a dodávky PSV | J160: =BK160 -> 0 | P160: =P161+P172+P182+P185+P192+P195 -> 0 | R160: =R161+R172+R182+R185+R192+R195 -> 0 | T160: =T161+T172+T182+T185+T192+T195 -> 0 | AR160: 2 | AT160: D | AU160: 0 | AY160: ROZPOCET | BK160: =BK161+BK172+BK182+BK185+BK192+BK195 -> 0
D161: D | E161: 712 | F161: Izolácie striech | J161: =BK161 -> 0 | P161: =SUM(P162:P171) -> 0 | R161: =SUM(R162:R171) -> 0 | T161: =SUM(T162:T171) -> 0 | AR161: 2 | AT161: D | AU161: 1 | AY161: ROZPOCET | BK161: =SUM(BK162:BK171) -> 0
C162: 18 | D162: K | E162: 712300833-01 | F162: Odstránenie povlakovej krytiny na strechách plochých 10° trojvrstvovej, -0,01400t (hr. odstraňovanej krytiny cca 20-30 mm) vč. demontáže vybraných odvetrávacích plechových hlavíc | G162: m2 | H162: 6823 | J162: =ROUND(I162*H162,2) -> 0 | N162: znížená | P162: =O162*H162 -> 0 | Q162: 0 | R162: =Q162*H162 -> 0 | S162: 0 | T162: =S162*H162 -> 0 | AR162: 16 | AT162: K | AU162: 2 | AY162: ROZPOCET | BE162: =IF(N162="základná",J162,0) -> 0 | BF162: =IF(N162="znížená",J162,0) -> 0 | BG162: =IF(N162="zákl. prenesená",J162,0) -> 0 | BH162: =IF(N162="zníž. prenesená",J162,0) -> 0 | BI162: =IF(N162="nulová",J162,0) -> 0 | BJ162: 2 | BK162: =ROUND(I162*H162,2) -> 0 | BL162: 16 | BM162: 36
C163: 19 | D163: K | E163: 712311101 | F163: Zhotovenie povlakovej krytiny striech plochých do 10° za studena náterom penetračným | G163: m2 | H163: 1364.6 | J163: =ROUND(I163*H163,2) -> 0 | N163: znížená | P163: =O163*H163 -> 0 | Q163: 0 | R163: =Q163*H163 -> 0 | S163: 0 | T163: =S163*H163 -> 0 | AR163: 16 | AT163: K | AU163: 2 | AY163: ROZPOCET | BE163: =IF(N163="základná",J163,0) -> 0 | BF163: =IF(N163="znížená",J163,0) -> 0 | BG163: =IF(N163="zákl. prenesená",J163,0) -> 0 | BH163: =IF(N163="zníž. prenesená",J163,0) -> 0 | BI163: =IF(N163="nulová",J163,0) -> 0 | BJ163: 2 | BK163: =ROUND(I163*H163,2) -> 0 | BL163: 16 | BM163: 38
C164: 20 | D164: M | E164: 246170000900 | F164: Lak asfaltový ALP-PENETRAL v sudoch | G164: t | H164: 0.102 | J164: =ROUND(I164*H164,2) -> 0 | N164: znížená | P164: =O164*H164 -> 0 | Q164: 0 | R164: =Q164*H164 -> 0 | S164: 0 | T164: =S164*H164 -> 0 | AR164: 32 | AT164: M | AU164: 2 | AY164: ROZPOCET | BE164: =IF(N164="základná",J164,0) -> 0 | BF164: =IF(N164="znížená",J164,0) -> 0 | BG164: =IF(N164="zákl. prenesená",J164,0) -> 0 | BH164: =IF(N164="zníž. prenesená",J164,0) -> 0 | BI164: =IF(N164="nulová",J164,0) -> 0 | BJ164: 2 | BK164: =ROUND(I164*H164,2) -> 0 | BL164: 16 | BM164: 40
C165: 21 | D165: K | E165: 712341559 | F165: Zhotovenie povlak. krytiny striech plochých do 10° pásmi pritav. NAIP na celej ploche, oxidované pásy | G165: m2 | H165: 1364.6 | J165: =ROUND(I165*H165,2) -> 0 | N165: znížená | P165: =O165*H165 -> 0 | Q165: 0 | R165: =Q165*H165 -> 0 | S165: 0 | T165: =S165*H165 -> 0 | AR165: 16 | AT165: K | AU165: 2 | AY165: ROZPOCET | BE165: =IF(N165="základná",J165,0) -> 0 | BF165: =IF(N165="znížená",J165,0) -> 0 | BG165: =IF(N165="zákl. prenesená",J165,0) -> 0 | BH165: =IF(N165="zníž. prenesená",J165,0) -> 0 | BI165: =IF(N165="nulová",J165,0) -> 0 | BJ165: 2 | BK165: =ROUND(I165*H165,2) -> 0 | BL165: 16 | BM165: 42
C166: 22 | D166: M | E166: 628420000900 | F166: napr. Pás ťažký asfaltový Foalbit S 40 | G166: m2 | H166: 1804.684 | J166: =ROUND(I166*H166,2) -> 0 | N166: znížená | P166: =O166*H166 -> 0 | Q166: 0 | R166: =Q166*H166 -> 0 | S166: 0 | T166: =S166*H166 -> 0 | AR166: 32 | AT166: M | AU166: 2 | AY166: ROZPOCET | BE166: =IF(N166="základná",J166,0) -> 0 | BF166: =IF(N166="znížená",J166,0) -> 0 | BG166: =IF(N166="zákl. prenesená",J166,0) -> 0 | BH166: =IF(N166="zníž. prenesená",J166,0) -> 0 | BI166: =IF(N166="nulová",J166,0) -> 0 | BJ166: 2 | BK166: =ROUND(I166*H166,2) -> 0 | BL166: 16 | BM166: 44
...

Sheet 03 - Výmena vonkajších vý...
L2: >> skryté stĺpce << | AT2: {f7144983-ea71-45f3-9703-8eb39781358f}
AT3: 0
D4: KRYCÍ LIST ROZPOČTU | M4: v --- nižšie sa nachádzajú doplnkové a pomocné údaje k zostavám --- v | AT4: False
D6: Stavba:
E7: ='Rekapitulácia stavby'!K6 -> Zateplenie plniarne nealkoholických nápojov, Dunajská Streda - aktualizácia jún 2023
D8: Objekt:
E9: 03 - Výmena vonkajších výplní otvorov
D11: JKSO: | I11: KS:
D12: Miesto: | F12: Dunajská Streda | I12: Dátum: | J12: ='Rekapitulácia stavby'!AN8 -> 8. 6. 2023
D14: Objednávateľ: | I14: IČO:
E15: McCarter, a.s. | I15: IČ DPH:
D17: Zhotoviteľ: | I17: IČO: | J17: ='Rekapitulácia stavby'!AN13 -> Vyplň údaj
E18: ='Rekapitulácia stavby'!E14 -> Vyplň údaj | I18: IČ DPH: | J18: ='Rekapitulácia stavby'!AN14 -> Vyplň údaj
D20: Projektant: | I20: IČO:
E21: Ing.arch. Miroslav Marko M.Arch. | I21: IČ DPH:
D23: Spracovateľ: | I23: IČO:
E24: Rosoft, s.r.o. | I24: IČ DPH:
D26: Poznámka:
D30: Náklady z rozpočtu | J30: =J96 -> 0
D31: Ostatné náklady | J31: =J110 -> 0
D32: Cena bez DPH | J32: =ROUND(J30 + J31, 2) -> 0
F34: Základ dane | I34: Sadzba dane | J34: Výška dane
D35: DPH | E35: základná | F35: =ROUND((ROUND((SUM(BE110:BE117) + SUM(BE137:BE202)), 2) + SUM(BE206)), 2) -> 0 | I35: 0.2 | J35: =ROUND((ROUND(((SUM(BE110:BE117) + SUM(BE137:BE202))*I35), 2) + (SUM(BE206)*I35)), 2) -> 0
E36: znížená | F36: =ROUND((ROUND((SUM(BF110:BF117) + SUM(BF137:BF202)), 2) + SUM(BF206)), 2) -> 0 | I36: 0.2 | J36: =ROUND((ROUND(((SUM(BF110:BF117) + SUM(BF137:BF202))*I36), 2) + (SUM(BF206)*I36)), 2) -> 0
E37: zákl. prenesená | F37: =ROUND((ROUND((SUM(BG110:BG117) + SUM(BG137:BG202)), 2) + SUM(BG206)), 2) -> 0 | I37: 0.2 | J37: =0 -> 0
E38: zníž. prenesená | F38: =ROUND((ROUND((SUM(BH110:BH117) + SUM(BH137:BH202)), 2) + SUM(BH206)), 2) -> 0 | I38: 0.2 | J38: =0 -> 0
E39: nulová | F39: =ROUND((ROUND((SUM(BI110:BI117) + SUM(BI137:BI202)), 2) + SUM(BI206)), 2) -> 0 | I39: 0 | J39: =0 -> 0
D41: Cena s DPH | G41: v | H41: EUR | J41: =SUM(J32:J39) -> 0
D50: Projektant | G50: Spracovateľ
D61: Dátum a podpis: | F61: Pečiatka | G61: Dátum a podpis: | J61: Pečiatka
D65: Objednávateľ | G65: Zhotoviteľ
D76: Dátum a podpis: | F76: Pečiatka | G76: Dátum a podpis: | J76: Pečiatka
C82: REKAPITULÁCIA ROZPOČTU
C84: Stavba:
E85: =E7 -> Zateplenie plniarne nealkoholických nápojov, Dunajská Streda - aktualizácia jún 2023
C86: Objekt:
E87: =E9 -> 03 - Výmena vonkajších výplní otvorov
C89: Miesto: | F89: =F12 -> Dunajská Streda | I89: Dátum: | J89: =IF(J12="","",J12) -> 8. 6. 2023
C91: Objednávateľ: | F91: =E15 -> McCarter, a.s. | I91: Projektant: | J91: =E21 -> Ing.arch. Miroslav Marko M.Arch.
C92: Zhotoviteľ: | F92: =IF(E18="","",E18) -> Vyplň údaj | I92: Spracovateľ: | J92: =E24 -> Rosoft, s.r.o.
C94: Kód dielu - Popis | J94: Cena celkom [EUR]
C96: 1) Náklady z rozpočtu | J96: =J137 -> 0 | AU96: -1
D97: HSV - Práce a dodávky HSV | J97: =J138 -> 0
D98: 6 - Úpravy povrchov, podlahy, osadenie | J98: =J139 -> 0
D99: 9 - Ostatné konštrukcie a práce-búranie | J99: =J141 -> 0
D100: 99 - Presun hmôt HSV | J100: =J170 -> 0
D101: PSV - Práce a dodávky PSV | J101: =J172 -> 0
D102: 764 - Konštrukcie klampiarske | J102: =J173 -> 0
D103: 766 - Konštrukcie stolárske | J103: =J176 -> 0
D104: 767 - Konštrukcie doplnkové kovové | J104: =J183 -> 0
D105: 783 - Nátery | J105: =J197 -> 0
D106: 784 - Dokončovacie práce - maľby | J106: =J200 -> 0
D107: VP - Práce naviac | J107: =J205 -> 0
C110: 2) Ostatné náklady | J110: =ROUND(J111 + J112 + J113 + J114 + J115 + J116,2) -> 0 | N110: DPH
D111: GZS | J111: 0 | N111: znížená | AY111: VRN | BE111: =IF(N111="základná",J111,0) -> 0 | BF111: =IF(N111="znížená",J111,0) -> 0 | BG111: =IF(N111="zákl. prenesená",J111,0) -> 0 | BH111: =IF(N111="zníž. prenesená",J111,0) -> 0 | BI111: =IF(N111="nulová",J111,0) -> 0 | BJ111: 2
D112: Projektové práce | J112: 0 | N112: znížená | AY112: VRN | BE112: =IF(N112="základná",J112,0) -> 0 | BF112: =IF(N112="znížená",J112,0) -> 0 | BG112: =IF(N112="zákl. prenesená",J112,0) -> 0 | BH112: =IF(N112="zníž. prenesená",J112,0) -> 0 | BI112: =IF(N112="nulová",J112,0) -> 0 | BJ112: 2
D113: Sťažené podmienky | J113: 0 | N113: znížená | AY113: VRN | BE113: =IF(N113="základná",J113,0) -> 0 | BF113: =IF(N113="znížená",J113,0) -> 0 | BG113: =IF(N113="zákl. prenesená",J113,0) -> 0 | BH113: =IF(N113="zníž. prenesená",J113,0) -> 0 | BI113: =IF(N113="nulová",J113,0) -> 0 | BJ113: 2
D114: Vplyv prostredia | J114: 0 | N114: znížená | AY114: VRN | BE114: =IF(N114="základná",J114,0) -> 0 | BF114: =IF(N114="znížená",J114,0) -> 0 | BG114: =IF(N114="zákl. prenesená",J114,0) -> 0 | BH114: =IF(N114="zníž. prenesená",J114,0) -> 0 | BI114: =IF(N114="nulová",J114,0) -> 0 | BJ114: 2
D115: Iné VRN | J115: 0 | N115: znížená | AY115: VRN | BE115: =IF(N115="základná",J115,0) -> 0 | BF115: =IF(N115="znížená",J115,0) -> 0 | BG115: =IF(N115="zákl. prenesená",J115,0) -> 0 | BH115: =IF(N115="zníž. prenesená",J115,0) -> 0 | BI115: =IF(N115="nulová",J115,0) -> 0 | BJ115: 2
D116: Kompletačná činnosť | J116: =ROUND(J30*T116,2) -> 0 | N116: znížená | AY116: KOMPLETACNA | BE116: =IF(N116="základná",J116,0) -> 0 | BF116: =IF(N116="znížená",J116,0) -> 0 | BG116: =IF(N116="zákl. prenesená",J116,0) -> 0 | BH116: =IF(N116="zníž. prenesená",J116,0) -> 0 | BI116: =IF(N116="nulová",J116,0) -> 0 | BJ116: 2
C118: Celkové náklady za stavbu 1) + 2) | J118: =ROUND(J96+J110,2) -> 0
C124: ROZPOČET
C126: Stavba:
E127: =E7 -> Zateplenie plniarne nealkoholických nápojov, Dunajská Streda - aktualizácia jún 2023
C128: Objekt:
E129: =E9 -> 03 - Výmena vonkajších výplní otvorov
C131: Miesto: | F131: =F12 -> Dunajská Streda | I131: Dátum: | J131: =IF(J12="","",J12) -> 8. 6. 2023
C133: Objednávateľ: | F133: =E15 -> McCarter, a.s. | I133: Projektant: | J133: =E21 -> Ing.arch. Miroslav Marko M.Arch.
C134: Zhotoviteľ: | F134: =IF(E18="","",E18) -> Vyplň údaj | I134: Spracovateľ: | J134: =E24 -> Rosoft, s.r.o.
C136: PČ | D136: Typ | E136: Kód | F136: Popis | G136: MJ | H136: Množstvo | I136: J.cena [EUR] | J136: Cena celkom [EUR] | K136: Cenová sústava | N136: DPH | O136: J. Nh [h] | P136: Nh celkom [h] | Q136: J. hmotnosť [t] | R136: Hmotnosť celkom [t] | S136: J. suť [t] | T136: Suť Celkom [t]
C137: Náklady z rozpočtu | J137: =BK137 -> 0 | P137: =P138+P172+P205 -> 0 | R137: =R138+R172+R205 -> 0 | T137: =T138+T172+T205 -> 0 | AT137: D | AU137: -1 | BK137: =BK138+BK172+BK205 -> 0
D138: D | E138: HSV | F138: Práce a dodávky HSV | J138: =BK138 -> 0 | P138: =P139+P141+P170 -> 0 | R138: =R139+R141+R170 -> 0 | T138: =T139+T141+T170 -> 0 | AR138: 1 | AT138: D | AU138: 0 | AY138: ROZPOCET | BK138: =BK139+BK141+BK170 -> 0
D139: D | E139: 6 | F139: Úpravy povrchov, podlahy, osadenie | J139: =BK139 -> 0 | P139: =P140 -> 0 | R139: =R140 -> 0 | T139: =T140 -> 0 | AR139: 1 | AT139: D | AU139: 1 | AY139: ROZPOCET | BK139: =BK140 -> 0
C140: 1 | D140: K | E140: 612425931 | F140: Omietka vápenná vnútorného ostenia okenného alebo dverného štuková | G140: m2 | H140: 186.537 | J140: =ROUND(I140*H140,2) -> 0 | N140: znížená | P140: =O140*H140 -> 0 | Q140: 0 | R140: =Q140*H140 -> 0 | S140: 0 | T140: =S140*H140 -> 0 | AR140: 4 | AT140: K | AU140: 2 | AY140: ROZPOCET | BE140: =IF(N140="základná",J140,0) -> 0 | BF140: =IF(N140="znížená",J140,0) -> 0 | BG140: =IF(N140="zákl. prenesená",J140,0) -> 0 | BH140: =IF(N140="zníž. prenesená",J140,0) -> 0 | BI140: =IF(N140="nulová",J140,0) -> 0 | BJ140: 2 | BK140: =ROUND(I140*H140,2) -> 0 | BL140: 4 | BM140: 2
D141: D | E141: 9 | F141: Ostatné konštrukcie a práce-búranie | J141: =BK141 -> 0 | P141: =SUM(P142:P169) -> 0 | R141: =SUM(R142:R169) -> 0 | T141: =SUM(T142:T169) -> 0 | AR141: 1 | AT141: D | AU141: 1 | AY141: ROZPOCET | BK141: =SUM(BK142:BK169) -> 0
C142: 2 | D142: K | E142: 941955001 | F142: Lešenie ľahké pracovné pomocné, s výškou lešeňovej podlahy do 1,20 m | G142: m2 | H142: 159.24 | J142: =ROUND(I142*H142,2) -> 0 | N142: znížená | P142: =O142*H142 -> 0 | Q142: 0 | R142: =Q142*H142 -> 0 | S142: 0 | T142: =S142*H142 -> 0 | AR142: 4 | AT142: K | AU142: 2 | AY142: ROZPOCET | BE142: =IF(N142="základná",J142,0) -> 0 | BF142: =IF(N142="znížená",J142,0) -> 0 | BG142: =IF(N142="zákl. prenesená",J142,0) -> 0 | BH142: =IF(N142="zníž. prenesená",J142,0) -> 0 | BI142: =IF(N142="nulová",J142,0) -> 0 | BJ142: 2 | BK142: =ROUND(I142*H142,2) -> 0 | BL142: 4 | BM142: 4
C143: 3 | D143: K | E143: 943943221 | F143: Montáž lešenia priestorového ľahkého bez podláh pri zaťaženie do 2 kPa, výšky do 10 m | G143: m3 | H143: 2772.45 | J143: =ROUND(I143*H143,2) -> 0 | N143: znížená | P143: =O143*H143 -> 0 | Q143: 0 | R143: =Q143*H143 -> 0 | S143: 0 | T143: =S143*H143 -> 0 | AR143: 4 | AT143: K | AU143: 2 | AY143: ROZPOCET | BE143: =IF(N143="základná",J143,0) -> 0 | BF143: =IF(N143="znížená",J143,0) -> 0 | BG143: =IF(N143="zákl. prenesená",J143,0) -> 0 | BH143: =IF(N143="zníž. prenesená",J143,0) -> 0 | BI143: =IF(N143="nulová",J143,0) -> 0 | BJ143: 2 | BK143: =ROUND(I143*H143,2) -> 0 | BL143: 4 | BM143: 6
C144: 4 | D144: K | E144: 943943292 | F144: Príplatok za prvý a každý ďalší i začatý mesiac používania lešenia priestorového ľahkého bez podláh výšky do 10 m a nad 10 do 22 m | G144: m3 | H144: 2772.45 | J144: =ROUND(I144*H144,2) -> 0 | N144: znížená | P144: =O144*H144 -> 0 | Q144: 0 | R144: =Q144*H144 -> 0 | S144: 0 | T144: =S144*H144 -> 0 | AR144: 4 | AT144: K | AU144: 2 | AY144: ROZPOCET | BE144: =IF(N144="základná",J144,0) -> 0 | BF144: =IF(N144="znížená",J144,0) -> 0 | BG144: =IF(N144="zákl. prenesená",J144,0) -> 0 | BH144: =IF(N144="zníž. prenesená",J144,0) -> 0 | BI144: =IF(N144="nulová",J144,0) -> 0 | BJ144: 2 | BK144: =ROUND(I144*H144,2) -> 0 | BL144: 4 | BM144: 8
C145: 5 | D145: K | E145: 943943821 | F145: Demontáž lešenia priestorového ľahkého bez podláh pri zaťaženie do 2 kPa, výšky do 10 m | G145: m3 | H145: 2772.45 | J145: =ROUND(I145*H145,2) -> 0 | N145: znížená | P145: =O145*H145 -> 0 | Q145: 0 | R145: =Q145*H145 -> 0 | S145: 0 | T145: =S145*H145 -> 0 | AR145: 4 | AT145: K | AU145: 2 | AY145: ROZPOCET | BE145: =IF(N145="základná",J145,0) -> 0 | BF145: =IF(N145="znížená",J145,0) -> 0 | BG145: =IF(N145="zákl. prenesená",J145,0) -> 0 | BH145: =IF(N145="zníž. prenesená",J145,0) -> 0 | BI145: =IF(N145="nulová",J145,0) -> 0 | BJ145: 2 | BK145: =ROUND(I145*H145,2) -> 0 | BL145: 4 | BM145: 10
C146: 6 | D146: K | E146: 943955021 | F146: Montáž lešeňovej podlahy s priečnikmi alebo pozdĺžnikmi výšky do do 10 m | G146: m2 | H146: 1363.5 | J146: =ROUND(I146*H146,2) -> 0 | N146: znížená | P146: =O146*H146 -> 0 | Q146: 0 | R146: =Q146*H146 -> 0 | S146: 0 | T146: =S146*H146 -> 0 | AR146: 4 | AT146: K | AU146: 2 | AY146: ROZPOCET | BE146: =IF(N146="základná",J146,0) -> 0 | BF146: =IF(N146="znížená",J146,0) -> 0 | BG146: =IF(N146="zákl. prenesená",J146,0) -> 0 | BH146: =IF(N146="zníž. prenesená",J146,0) -> 0 | BI146: =IF(N146="nulová",J146,0) -> 0 | BJ146: 2 | BK146: =ROUND(I146*H146,2) -> 0 | BL146: 4 | BM146: 12
C147: 7 | D147: K | E147: 943955191 | F147: Príplatok za prvý a každý i začatý mesiac použitia lešeňovej podlahy pre všetky výšky do 40 m | G147: m2 | H147: 1363.5 | J147: =ROUND(I147*H147,2) -> 0 | N147: znížená | P147: =O147*H147 -> 0 | Q147: 0 | R147: =Q147*H147 -> 0 | S147: 0 | T147: =S147*H147 -> 0 | AR147: 4 | AT147: K | AU147: 2 | AY147: ROZPOCET | BE147: =IF(N147="základná",J147,0) -> 0 | BF147: =IF(N147="znížená",J147,0) -> 0 | BG147: =IF(N147="zákl. prenesená",J147,0) -> 0 | BH147: =IF(N147="zníž. prenesená",J147,0) -> 0 | BI147: =IF(N147="nulová",J147,0) -> 0 | BJ147: 2 | BK147: =ROUND(I147*H147,2) -> 0 | BL147: 4 | BM147: 14
C148: 8 | D148: K | E148: 943955821 | F148: Demontáž lešeňovej podlahy s priečnikmi alebo pozdľžnikmi výšky do 10 m | G148: m2 | H148: 1363.5 | J148: =ROUND(I148*H148,2) -> 0 | N148: znížená | P148: =O148*H148 -> 0 | Q148: 0 | R148: =Q148*H148 -> 0 | S148: 0 | T148: =S148*H148 -> 0 | AR148: 4 | AT148: K | AU148: 2 | AY148: ROZPOCET | BE148: =IF(N148="základná",J148,0) -> 0 | BF148: =IF(N148="znížená",J148,0) -> 0 | BG148: =IF(N148="zákl. prenesená",J148,0) -> 0 | BH148: =IF(N148="zníž. prenesená",J148,0) -> 0 | BI148: =IF(N148="nulová",J148,0) -> 0 | BJ148: 2 | BK148: =ROUND(I148*H148,2) -> 0 | BL148: 4 | BM148: 16
C149: 9 | D149: K | E149: 952901110 | F149: Čistenie budov umývaním vonkajších plôch okien a dverí | G149: m2 | H149: 381.045 | J149: =ROUND(I149*H149,2) -> 0 | N149: znížená | P149: =O149*H149 -> 0 | Q149: 0 | R149: =Q149*H149 -> 0 | S149: 0 | T149: =S149*H149 -> 0 | AR149: 4 | AT149: K | AU149: 2 | AY149: ROZPOCET | BE149: =IF(N149="základná",J149,0) -> 0 | BF149: =IF(N149="znížená",J149,0) -> 0 | BG149: =IF(N149="zákl. prenesená",J149,0) -> 0 | BH149: =IF(N149="zníž. prenesená",J149,0) -> 0 | BI149: =IF(N149="nulová",J149,0) -> 0 | BJ149: 2 | BK149: =ROUND(I149*H149,2) -> 0 | BL149: 4 | BM149: 18
C150: 10 | D150: K | E150: 962081141 | F150: Búranie muriva priečok zo sklenených tvárnic, hr. do 150 mm, -0,08200t | G150: m2 | H150: 96.985 | J150: =ROUND(I150*H150,2) -> 0 | N150: znížená | P150: =O150*H150 -> 0 | Q150: 0 | R150: =Q150*H150 -> 0 | S150: 0 | T150: =S150*H150 -> 0 | AR150: 4 | AT150: K | AU150: 2 | AY150: ROZPOCET | BE150: =IF(N150="základná",J150,0) -> 0 | BF150: =IF(N150="znížená",J150,0) -> 0 | BG150: =IF(N150="zákl. prenesená",J150,0) -> 0 | BH150: =IF(N150="zníž. prenesená",J150,0) -> 0 | BI150: =IF(N150="nulová",J150,0) -> 0 | BJ150: 2 | BK150: =ROUND(I150*H150,2) -> 0 | BL150: 4 | BM150: 20
C151: 11 | D151: K | E151: 968061112 | F151: Vyvesenie dreveného okenného krídla do suti plochy do 1, 5 m2, -0,01200t | G151: ks | H151: 7 | J151: =ROUND(I151*H151,2) -> 0 | N151: znížená | P151: =O151*H151 -> 0 | Q151: 0 | R151: =Q151*H151 -> 0 | S151: 0 | T151: =S151*H151 -> 0 | AR151: 4 | AT151: K | AU151: 2 | AY151: ROZPOCET | BE151: =IF(N151="základná",J151,0) -> 0 | BF151: =IF(N151="znížená",J151,0) -> 0 | BG151: =IF(N151="zákl. prenesená",J151,0) -> 0 | BH151: =IF(N151="zníž. prenesená",J151,0) -> 0 | BI151: =IF(N151="nulová",J151,0) -> 0 | BJ151: 2 | BK151: =ROUND(I151*H151,2) -> 0 | BL151: 4 | BM151: 22
C152: 12 | D152: K | E152: 968061113 | F152: Vyvesenie dreveného okenného krídla do suti plochy nad 1, 5 m2, -0,01600t | G152: ks | H152: 62 | J152: =ROUND(I152*H152,2) -> 0 | N152: znížená | P152: =O152*H152 -> 0 | Q152: 0 | R152: =Q152*H152 -> 0 | S152: 0 | T152: =S152*H152 -> 0 | AR152: 4 | AT152: K | AU152: 2 | AY152: ROZPOCET | BE152: =IF(N152="základná",J152,0) -> 0 | BF152: =IF(N152="znížená",J152,0) -> 0 | BG152: =IF(N152="zákl. prenesená",J152,0) -> 0 | BH152: =IF(N152="zníž. prenesená",J152,0) -> 0 | BI152: =IF(N152="nulová",J152,0) -> 0 | BJ152: 2 | BK152: =ROUND(I152*H152,2) -> 0 | BL152: 4 | BM152: 24
C153: 13 | D153: K | E153: 968061125 | F153: Vyvesenie dreveného dverného krídla do suti plochy do 2 m2, -0,02400t | G153: ks | H153: 1 | J153: =ROUND(I153*H153,2) -> 0 | N153: znížená | P153: =O153*H153 -> 0 | Q153: 0 | R153: =Q153*H153 -> 0 | S153: 0 | T153: =S153*H153 -> 0 | AR153: 4 | AT153: K | AU153: 2 | AY153: ROZPOCET | BE153: =IF(N153="základná",J153,0) -> 0 | BF153: =IF(N153="znížená",J153,0) -> 0 | BG153: =IF(N153="zákl. prenesená",J153,0) -> 0 | BH153: =IF(N153="zníž. prenesená",J153,0) -> 0 | BI153: =IF(N153="nulová",J153,0) -> 0 | BJ153: 2 | BK153: =ROUND(I153*H153,2) -> 0 | BL153: 4 | BM153: 26
... C169: 29 | D169: K | E169: 979089012 | F169: Poplatok za skladovanie - betón, tehly, dlaždice (17 01 ), ostatné | G169: t | H169: 34.349 | J169: =ROUND(I169*H169,2) -> 0 | N169: znížená | P169: =O169*H169 -> 0 | Q169: 0 | R169: =Q169*H169 -> 0 | S169: 0 | T169: =S169*H169 -> 0 | AR169: 4 | AT169: K | AU169: 2 | AY169: ROZPOCET | BE169: =IF(N169="základná",J169,0) -> 0 | BF169: =IF(N169="znížená",J169,0) -> 0 | BG169: =IF(N169="zákl. prenesená",J169,0) -> 0 | BH169: =IF(N169="zníž. prenesená",J169,0) -> 0 | BI169: =IF(N169="nulová",J169,0) -> 0 | BJ169: 2 | BK169: =ROUND(I169*H169,2) -> 0 | BL169: 4 | BM169: 58
D170: D | E170: 99 | F170: Presun hmôt HSV | J170: =BK170 -> 0 | P170: =P171 -> 0 | R170: =R171 -> 0 | T170: =T171 -> 0 | AR170: 1 | AT170: D | AU170: 1 | AY170: ROZPOCET | BK170: =BK171 -> 0
C171: 30 | D171: K | E171: 999281111 | F171: Presun hmôt pre opravy a údržbu objektov vrátane vonkajších plášťov výšky do 25 m | G171: t | H171: 197.144 | J171: =ROUND(I171*H171,2) -> 0 | N171: znížená | P171: =O171*H171 -> 0 | Q171: 0 | R171: =Q171*H171 -> 0 | S171: 0 | T171: =S171*H171 -> 0 | AR171: 4 | AT171: K | AU171: 2 | AY171: ROZPOCET | BE171: =IF(N171="základná",J171,0) -> 0 | BF171: =IF(N171="znížená",J171,0) -> 0 | BG171: =IF(N171="zákl. prenesená",J171,0) -> 0 | BH171: =IF(N171="zníž. prenesená",J171,0) -> 0 | BI171: =IF(N171="nulová",J171,0) -> 0 | BJ171: 2 | BK171: =ROUND(I171*H171,2) -> 0 | BL171: 4 | BM171: 60
D172: D | E172: PSV | F172: Práce a dodávky PSV | J172: =BK172 -> 0 | P172: =P173+P176+P183+P197+P200 -> 0 | R172: =R173+R176+R183+R197+R200 -> 0 | T172: =T173+T176+T183+T197+T200 -> 0 | AR172: 2 | AT172: D | AU172: 0 | AY172: ROZPOCET | BK172: =BK173+BK176+BK183+BK197+BK200 -> 0
D173: D | E173: 764 | F173: Konštrukcie klampiarske | J173: =BK173 -> 0 | P173: =SUM(P174:P175) -> 0 | R173: =SUM(R174:R175) -> 0 | T173: =SUM(T174:T175) -> 0 | AR173: 2 | AT173: D | AU173: 1 | AY173: ROZPOCET | BK173: =SUM(BK174:BK175) -> 0
C174: 31 | D174: K | E174: 764410850 | F174: Demontáž oplechovania parapetov rš od 100 do 330 mm, -0,00135t | G174: m | H174: 514.3 | J174: =ROUND(I174*H174,2) -> 0 | N174: znížená | P174: =O174*H174 -> 0 | Q174: 0 | R174: =Q174*H174 -> 0 | S174: 0 | T174: =S174*H174 -> 0 | AR174: 16 | AT174: K | AU174: 2 | AY174: ROZPOCET | BE174: =IF(N174="základná",J174,0) -> 0 | BF174: =IF(N174="znížená",J174,0) -> 0 | BG174: =IF(N174="zákl. prenesená",J174,0) -> 0 | BH174: =IF(N174="zníž. prenesená",J174,0) -> 0 | BI174: =IF(N174="nulová",J174,0) -> 0 | BJ174: 2 | BK174: =ROUND(I174*H174,2) -> 0 | BL174: 16 | BM174: 62
C175: 32 | D175: K | E175: 998764202 | F175: Presun hmôt pre konštrukcie klampiarske v objektoch výšky nad 6 do 12 m | G175: % | J175: =ROUND(I175*H175,2) -> 0 | N175: znížená | P175: =O175*H175 -> 0 | Q175: 0 | R175: =Q175*H175 -> 0 | S175: 0 | T175: =S175*H175 -> 0 | AR175: 16 | AT175: K | AU175: 2 | AY175: ROZPOCET | BE175: =IF(N175="základná",J175,0) -> 0 | BF175: =IF(N175="znížená",J175,0) -> 0 | BG175: =IF(N175="zákl. prenesená",J175,0) -> 0 | BH175: =IF(N175="zníž. prenesená",J175,0) -> 0 | BI175: =IF(N175="nulová",J175,0) -> 0 | BJ175: 2 | BK175: =ROUND(I175*H175,2) -> 0 | BL175: 16 | BM175: 64
D176: D | E176: 766 | F176: Konštrukcie stolárske | J176: =BK176 -> 0 | P176: =SUM(P177:P182) -> 0 | R176: =SUM(R177:R182) -> 0 | T176: =SUM(T177:T182) -> 0 | AR176: 2 | AT176: D | AU176: 1 | AY176: ROZPOCET | BK176: =SUM(BK177:BK182) -> 0
C177: 33 | D177: K | E177: 76662-O01AN | F177: O01-AN D+M Plastové okno s izolačným trojsklom 1470x1740 mm, Rehau Synego (prípadne porovnateľná alternatíva), otvárovo výklopné krídlo, vonkajší a vnútorný parapet je súčasťou dodávky okien | G177: ks | H177: 24 | J177: =ROUND(I177*H177,2) -> 0 | N177: znížená | P177: =O177*H177 -> 0 | Q177: 0 | R177: =Q177*H177 -> 0 | S177: 0 | T177: =S177*H177 -> 0 | AR177: 16 | AT177: K | AU177: 2 | AY177: ROZPOCET | BE177: =IF(N177="základná",J177,0) -> 0 | BF177: =IF(N177="znížená",J177,0) -> 0 | BG177: =IF(N177="zákl. prenesená",J177,0) -> 0 | BH177: =IF(N177="zníž. prenesená",J177,0) -> 0 | BI177: =IF(N177="nulová",J177,0) -> 0 | BJ177: 2 | BK177: =ROUND(I177*H177,2) -> 0 | BL177: 16 | BM177: 66
C178: 34 | D178: K | E178: 76662-O01BN | F178: O01-BN D+M Plastové okno s izolačným trojsklom 1470x1740 mm, Rehau Synego (prípadne porovnateľná alternatíva), pevné zasklenie, vonkajší a vnútorný parapet je súčasťou dodávky okien | G178: ks | H178: 30 | J178: =ROUND(I178*H178,2) -> 0 | N178: znížená | P178: =O178*H178 -> 0 | Q178: 0 | R178: =Q178*H178 -> 0 | S178: 0 | T178: =S178*H178 -> 0 | AR178: 16 | AT178: K | AU178: 2 | AY178: ROZPOCET | BE178: =IF(N178="základná",J178,0) -> 0 | BF178: =IF(N178="znížená",J178,0) -> 0 | BG178: =IF(N178="zákl. prenesená",J178,0) -> 0 | BH178: =IF(N178="zníž. prenesená",J178,0) -> 0 | BI178: =IF(N178="nulová",J178,0) -> 0 | BJ178: 2 | BK178: =ROUND(I178*H178,2) -> 0 | BL178: 16 | BM178: 68
C179: 35 | D179: K | E179: 76662-O05 | F179: O05 D+M Plastové okno s izolačným trojsklom 1170x1740 mm, Rehau Synego (prípadne porovnateľná alternatíva), otvárovo výklopné krídlo, vonkajší a vnútorný parapet je súčasťou dodávky okien | G179: ks | H179: 7 | J179: =ROUND(I179*H179,2) -> 0 | N179: znížená | P179: =O179*H179 -> 0 | Q179: 0 | R179: =Q179*H179 -> 0 | S179: 0 | T179: =S179*H179 -> 0 | AR179: 16 | AT179: K | AU179: 2 | AY179: ROZPOCET | BE179: =IF(N179="základná",J179,0) -> 0 | BF179: =IF(N179="znížená",J179,0) -> 0 | BG179: =IF(N179="zákl. prenesená",J179,0) -> 0 | BH179: =IF(N179="zníž. prenesená",J179,0) -> 0 | BI179: =IF(N179="nulová",J179,0) -> 0 | BJ179: 2 | BK179: =ROUND(I179*H179,2) -> 0 | BL179: 16 | BM179: 70
C180: 36 | D180: K | E180: 76662-O08 | F180: O08 D+M Plastové okno s izolačným trojsklom 5470x680 mm, Rehau Synego (prípadne porovnateľná alternatíva), pevné zasklenie, vonkajší a vnútorný parapet je súčasťou dodávky okien | G180: ks | H180: 36 | J180: =ROUND(I180*H180,2) -> 0 | N180: znížená | P180: =O180*H180 -> 0 | Q180: 0 | R180: =Q180*H180 -> 0 | S180: 0 | T180: =S180*H180 -> 0 | AR180: 16 | AT180: K | AU180: 2 | AY180: ROZPOCET | BE180: =IF(N180="základná",J180,0) -> 0 | BF180: =IF(N180="znížená",J180,0) -> 0 | BG180: =IF(N180="zákl. prenesená",J180,0) -> 0 | BH180: =IF(N180="zníž. prenesená",J180,0) -> 0 | BI180: =IF(N180="nulová",J180,0) -> 0 | BJ180: 2 | BK180: =ROUND(I180*H180,2) -> 0 | BL180: 16 | BM180: 72
C181: 37 | D181: K | E181: 76664-D01N | F181: D01N D+M Dvere dvojkrídlové 2700x2650 mm, plastový rám so sklenenou výplňou | G181: ks | H181: 1 | J181: =ROUND(I181*H181,2) -> 0 | N181: znížená | P181: =O181*H181 -> 0 | Q181: 0 | R181: =Q181*H181 -> 0 | S181: 0 | T181: =S181*H181 -> 0 | AR181: 16 | AT181: K | AU181: 2 | AY181: ROZPOCET | BE181: =IF(N181="základná",J181,0) -> 0 | BF181: =IF(N181="znížená",J181,0) -> 0 | BG181: =IF(N181="zákl. prenesená",J181,0) -> 0 | BH181: =IF(N181="zníž. prenesená",J181,0) -> 0 | BI181: =IF(N181="nulová",J181,0) -> 0 | BJ181: 2 | BK181: =ROUND(I181*H181,2) -> 0 | BL181: 16 | BM181: 74
...

Sheet 4.1 - Odstránenie a likvi...
L2: >> skryté stĺpce << | AT2: {fbbd3238-9f2d-48ea-9a73-7618e6fd74d6}
AT3: 0
D4: KRYCÍ LIST ROZPOČTU | M4: v --- nižšie sa nachádzajú doplnkové a pomocné údaje k zostavám --- v | AT4: False
D6: Stavba:
E7: ='Rekapitulácia stavby'!K6 -> Zateplenie plniarne nealkoholických nápojov, Dunajská Streda - aktualizácia jún 2023
D8: Objekt:
E9: 4.1 - Odstránenie a likvidácia existujúceho bleskozvodu
D11: JKSO: | I11: KS:
D12: Miesto: | F12: Dunajská Streda | I12: Dátum: | J12: ='Rekapitulácia stavby'!AN8 -> 8. 6. 2023
D14: Objednávateľ: | I14: IČO:
E15: McCarter, a.s. | I15: IČ DPH:
D17: Zhotoviteľ: | I17: IČO: | J17: ='Rekapitulácia stavby'!AN13 -> Vyplň údaj
E18: ='Rekapitulácia stavby'!E14 -> Vyplň údaj | I18: IČ DPH: | J18: ='Rekapitulácia stavby'!AN14 -> Vyplň údaj
D20: Projektant: | I20: IČO:
E21: Ing.arch. Miroslav Marko M.Arch. | I21: IČ DPH:
D23: Spracovateľ: | I23: IČO:
E24: Rosoft, s.r.o. | I24: IČ DPH:
D26: Poznámka:
D30: Náklady z rozpočtu | J30: =J96 -> 0
D31: Ostatné náklady | J31: =J102 -> 0
D32: Cena bez DPH | J32: =ROUND(J30 + J31, 2) -> 0
F34: Základ dane | I34: Sadzba dane | J34: Výška dane
D35: DPH | E35: základná | F35: =ROUND((ROUND((SUM(BE102:BE109) + SUM(BE129:BE149)), 2) + SUM(BE153)), 2) -> 0 | I35: 0.2 | J35: =ROUND((ROUND(((SUM(BE102:BE109) + SUM(BE129:BE149))*I35), 2) + (SUM(BE153)*I35)), 2) -> 0
E36: znížená | F36: =ROUND((ROUND((SUM(BF102:BF109) + SUM(BF129:BF149)), 2) + SUM(BF153)), 2) -> 0 | I36: 0.2 | J36: =ROUND((ROUND(((SUM(BF102:BF109) + SUM(BF129:BF149))*I36), 2) + (SUM(BF153)*I36)), 2) -> 0
E37: zákl. prenesená | F37: =ROUND((ROUND((SUM(BG102:BG109) + SUM(BG129:BG149)), 2) + SUM(BG153)), 2) -> 0 | I37: 0.2 | J37: =0 -> 0
E38: zníž. prenesená | F38: =ROUND((ROUND((SUM(BH102:BH109) + SUM(BH129:BH149)), 2) + SUM(BH153)), 2) -> 0 | I38: 0.2 | J38: =0 -> 0
E39: nulová | F39: =ROUND((ROUND((SUM(BI102:BI109) + SUM(BI129:BI149)), 2) + SUM(BI153)), 2) -> 0 | I39: 0 | J39: =0 -> 0
D41: Cena s DPH | G41: v | H41: EUR | J41: =SUM(J32:J39) -> 0
D50: Projektant | G50: Spracovateľ
D61: Dátum a podpis: | F61: Pečiatka | G61: Dátum a podpis: | J61: Pečiatka
D65: Objednávateľ | G65: Zhotoviteľ
D76: Dátum a podpis: | F76: Pečiatka | G76: Dátum a podpis: | J76: Pečiatka
C82: REKAPITULÁCIA ROZPOČTU
C84: Stavba:
E85: =E7 -> Zateplenie plniarne nealkoholických nápojov, Dunajská Streda - aktualizácia jún 2023
C86: Objekt:
E87: =E9 -> 4.1 - Odstránenie a likvidácia existujúceho bleskozvodu
C89: Miesto: | F89: =F12 -> Dunajská Streda | I89: Dátum: | J89: =IF(J12="","",J12) -> 8. 6. 2023
C91: Objednávateľ: | F91: =E15 -> McCarter, a.s. | I91: Projektant: | J91: =E21 -> Ing.arch. Miroslav Marko M.Arch.
C92: Zhotoviteľ: | F92: =IF(E18="","",E18) -> Vyplň údaj | I92: Spracovateľ: | J92: =E24 -> Rosoft, s.r.o.
C94: Kód dielu - Popis | J94: Cena celkom [EUR]
C96: 1) Náklady z rozpočtu | J96: =J129 -> 0 | AU96: -1
D97: M - Práce a dodávky M | J97: =J130 -> 0
D98: 21-M - Demontáže | J98: =J131 -> 0
D99: VP - Práce naviac | J99: =J152 -> 0
C102: 2) Ostatné náklady | J102: =ROUND(J103 + J104 + J105 + J106 + J107 + J108,2) -> 0 | N102: DPH
D103: GZS | J103: 0 | N103: znížená | AY103: VRN | BE103: =IF(N103="základná",J103,0) -> 0 | BF103: =IF(N103="znížená",J103,0) -> 0 | BG103: =IF(N103="zákl. prenesená",J103,0) -> 0 | BH103: =IF(N103="zníž. prenesená",J103,0) -> 0 | BI103: =IF(N103="nulová",J103,0) -> 0 | BJ103: 2
D104: Projektové práce | J104: 0 | N104: znížená | AY104: VRN | BE104: =IF(N104="základná",J104,0) -> 0 | BF104: =IF(N104="znížená",J104,0) -> 0 | BG104: =IF(N104="zákl. prenesená",J104,0) -> 0 | BH104: =IF(N104="zníž. prenesená",J104,0) -> 0 | BI104: =IF(N104="nulová",J104,0) -> 0 | BJ104: 2
D105: Sťažené podmienky | J105: 0 | N105: znížená | AY105: VRN | BE105: =IF(N105="základná",J105,0) -> 0 | BF105: =IF(N105="znížená",J105,0) -> 0 | BG105: =IF(N105="zákl. prenesená",J105,0) -> 0 | BH105: =IF(N105="zníž. prenesená",J105,0) -> 0 | BI105: =IF(N105="nulová",J105,0) -> 0 | BJ105: 2
D106: Vplyv prostredia | J106: 0 | N106: znížená | AY106: VRN | BE106: =IF(N106="základná",J106,0) -> 0 | BF106: =IF(N106="znížená",J106,0) -> 0 | BG106: =IF(N106="zákl. prenesená",J106,0) -> 0 | BH106: =IF(N106="zníž. prenesená",J106,0) -> 0 | BI106: =IF(N106="nulová",J106,0) -> 0 | BJ106: 2
D107: Iné VRN | J107: 0 | N107: znížená | AY107: VRN | BE107: =IF(N107="základná",J107,0) -> 0 | BF107: =IF(N107="znížená",J107,0) -> 0 | BG107: =IF(N107="zákl. prenesená",J107,0) -> 0 | BH107: =IF(N107="zníž. prenesená",J107,0) -> 0 | BI107: =IF(N107="nulová",J107,0) -> 0 | BJ107: 2
D108: Kompletačná činnosť | J108: =ROUND(J30*T108,2) -> 0 | N108: znížená | AY108: KOMPLETACNA | BE108: =IF(N108="základná",J108,0) -> 0 | BF108: =IF(N108="znížená",J108,0) -> 0 | BG108: =IF(N108="zákl. prenesená",J108,0) -> 0 | BH108: =IF(N108="zníž. prenesená",J108,0) -> 0 | BI108: =IF(N108="nulová",J108,0) -> 0 | BJ108: 2
C110: Celkové náklady za stavbu 1) + 2) | J110: =ROUND(J96+J102,2) -> 0
C116: ROZPOČET
C118: Stavba:
E119: =E7 -> Zateplenie plniarne nealkoholických nápojov, Dunajská Streda - aktualizácia jún 2023
C120: Objekt:
E121: =E9 -> 4.1 - Odstránenie a likvidácia existujúceho bleskozvodu
C123: Miesto: | F123: =F12 -> Dunajská Streda | I123: Dátum: | J123: =IF(J12="","",J12) -> 8. 6. 2023
C125: Objednávateľ: | F125: =E15 -> McCarter, a.s. | I125: Projektant: | J125: =E21 -> Ing.arch. Miroslav Marko M.Arch.
C126: Zhotoviteľ: | F126: =IF(E18="","",E18) -> Vyplň údaj | I126: Spracovateľ: | J126: =E24 -> Rosoft, s.r.o.
C128: PČ | D128: Typ | E128: Kód | F128: Popis | G128: MJ | H128: Množstvo | I128: J.cena [EUR] | J128: Cena celkom [EUR] | K128: Cenová sústava | N128: DPH | O128: J. Nh [h] | P128: Nh celkom [h] | Q128: J. hmotnosť [t] | R128: Hmotnosť celkom [t] | S128: J. suť [t] | T128: Suť Celkom [t]
C129: Náklady z rozpočtu | J129: =BK129 -> 0 | P129: =P130+P152 -> 0 | R129: =R130+R152 -> 0 | T129: =T130+T152 -> 0 | AT129: D | AU129: -1 | BK129: =BK130+BK152 -> 0
D130: D | E130: M | F130: Práce a dodávky M | J130: =BK130 -> 0 | P130: =P131 -> 0 | R130: =R131 -> 0 | T130: =T131 -> 0 | AR130: 3 | AT130: D | AU130: 0 | AY130: ROZPOCET | BK130: =BK131 -> 0
D131: D | E131: 21-M | F131: Demontáže | J131: =BK131 -> 0 | P131: =SUM(P132:P149) -> 0 | R131: =SUM(R132:R149) -> 0 | T131: =SUM(T132:T149) -> 0 | AR131: 3 | AT131: D | AU131: 1 | AY131: ROZPOCET | BK131: =SUM(BK132:BK149) -> 0
C132: 1 | D132: K | E132: 210220001 | F132: Uzemňovacie vedenie na povrchu FeZn | G132: m | H132: 1325 | J132: =ROUND(I132*H132,2) -> 0 | N132: znížená | P132: =O132*H132 -> 0 | Q132: 0 | R132: =Q132*H132 -> 0 | S132: 0 | T132: =S132*H132 -> 0 | AR132: 64 | AT132: K | AU132: 2 | AY132: ROZPOCET | BE132: =IF(N132="základná",J132,0) -> 0 | BF132: =IF(N132="znížená",J132,0) -> 0 | BG132: =IF(N132="zákl. prenesená",J132,0) -> 0 | BH132: =IF(N132="zníž. prenesená",J132,0) -> 0 | BI132: =IF(N132="nulová",J132,0) -> 0 | BJ132: 2 | BK132: =ROUND(I132*H132,2) -> 0 | BL132: 64 | BM132: 2
C133: 2 | D133: K | E133: 210220001 | F133: Uzemňovacie vedenie na povrchu FeZn | G133: m | H133: 90 | J133: =ROUND(I133*H133,2) -> 0 | N133: znížená | P133: =O133*H133 -> 0 | Q133: 0 | R133: =Q133*H133 -> 0 | S133: 0 | T133: =S133*H133 -> 0 | AR133: 64 | AT133: K | AU133: 2 | AY133: ROZPOCET | BE133: =IF(N133="základná",J133,0) -> 0 | BF133: =IF(N133="znížená",J133,0) -> 0 | BG133: =IF(N133="zákl. prenesená",J133,0) -> 0 | BH133: =IF(N133="zníž. prenesená",J133,0) -> 0 | BI133: =IF(N133="nulová",J133,0) -> 0 | BJ133: 2 | BK133: =ROUND(I133*H133,2) -> 0 | BL133: 64 | BM133: 4
C134: 3 | D134: K | E134: 210220020 | F134: Uzemňovacie vedenie v zemi FeZn | G134: m | H134: 270 | J134: =ROUND(I134*H134,2) -> 0 | N134: znížená | P134: =O134*H134 -> 0 | Q134: 0 | R134: =Q134*H134 -> 0 | S134: 0 | T134: =S134*H134 -> 0 | AR134: 64 | AT134: K | AU134: 2 | AY134: ROZPOCET | BE134: =IF(N134="základná",J134,0) -> 0 | BF134: =IF(N134="znížená",J134,0) -> 0 | BG134: =IF(N134="zákl. prenesená",J134,0) -> 0 | BH134: =IF(N134="zníž. prenesená",J134,0) -> 0 | BI134: =IF(N134="nulová",J134,0) -> 0 | BJ134: 2 | BK134: =ROUND(I134*H134,2) -> 0 | BL134: 64 | BM134: 6
C135: 4 | D135: K | E135: 210220101 | F135: Podpery vedenia FeZn na plochú strechu PV21 | G135: ks | H135: 800 | J135: =ROUND(I135*H135,2) -> 0 | N135: znížená | P135: =O135*H135 -> 0 | Q135: 0 | R135: =Q135*H135 -> 0 | S135: 0 | T135: =S135*H135 -> 0 | AR135: 64 | AT135: K | AU135: 2 | AY135: ROZPOCET | BE135: =IF(N135="základná",J135,0) -> 0 | BF135: =IF(N135="znížená",J135,0) -> 0 | BG135: =IF(N135="zákl. prenesená",J135,0) -> 0 | BH135: =IF(N135="zníž. prenesená",J135,0) -> 0 | BI135: =IF(N135="nulová",J135,0) -> 0 | BJ135: 2 | BK135: =ROUND(I135*H135,2) -> 0 | BL135: 64 | BM135: 8
C136: 5 | D136: K | E136: 210220105 | F136: Podpery vedenia FeZn do zvislej steny | G136: ks | H136: 108 | J136: =ROUND(I136*H136,2) -> 0 | N136: znížená | P136: =O136*H136 -> 0 | Q136: 0 | R136: =Q136*H136 -> 0 | S136: 0 | T136: =S136*H136 -> 0 | AR136: 64 | AT136: K | AU136: 2 | AY136: ROZPOCET | BE136: =IF(N136="základná",J136,0) -> 0 | BF136: =IF(N136="znížená",J136,0) -> 0 | BG136: =IF(N136="zákl. prenesená",J136,0) -> 0 | BH136: =IF(N136="zníž. prenesená",J136,0) -> 0 | BI136: =IF(N136="nulová",J136,0) -> 0 | BJ136: 2 | BK136: =ROUND(I136*H136,2) -> 0 | BL136: 64 | BM136: 10
C137: 6 | D137: K | E137: 210220240 | F137: Svorka FeZn k uzemňovacej tyči SJ | G137: ks | H137: 54 | J137: =ROUND(I137*H137,2) -> 0 | N137: znížená | P137: =O137*H137 -> 0 | Q137: 0 | R137: =Q137*H137 -> 0 | S137: 0 | T137: =S137*H137 -> 0 | AR137: 64 | AT137: K | AU137: 2 | AY137: ROZPOCET | BE137: =IF(N137="základná",J137,0) -> 0 | BF137: =IF(N137="znížená",J137,0) -> 0 | BG137: =IF(N137="zákl. prenesená",J137,0) -> 0 | BH137: =IF(N137="zníž. prenesená",J137,0) -> 0 | BI137: =IF(N137="nulová",J137,0) -> 0 | BJ137: 2 | BK137: =ROUND(I137*H137,2) -> 0 | BL137: 64 | BM137: 12
C138: 7 | D138: K | E138: 210220241 | F138: Svorka FeZn krížová SK a diagonálna krížová DKS | G138: ks | H138: 32 | J138: =ROUND(I138*H138,2) -> 0 | N138: znížená | P138: =O138*H138 -> 0 | Q138: 0 | R138: =Q138*H138 -> 0 | S138: 0 | T138: =S138*H138 -> 0 | AR138: 64 | AT138: K | AU138: 2 | AY138: ROZPOCET | BE138: =IF(N138="základná",J138,0) -> 0 | BF138: =IF(N138="znížená",J138,0) -> 0 | BG138: =IF(N138="zákl. prenesená",J138,0) -> 0 | BH138: =IF(N138="zníž. prenesená",J138,0) -> 0 | BI138: =IF(N138="nulová",J138,0) -> 0 | BJ138: 2 | BK138: =ROUND(I138*H138,2) -> 0 | BL138: 64 | BM138: 14
C139: 8 | D139: K | E139: 210220243 | F139: Svorka FeZn spojovacia SS | G139: ks | H139: 270 | J139: =ROUND(I139*H139,2) -> 0 | N139: znížená | P139: =O139*H139 -> 0 | Q139: 0 | R139: =Q139*H139 -> 0 | S139: 0 | T139: =S139*H139 -> 0 | AR139: 64 | AT139: K | AU139: 2 | AY139: ROZPOCET | BE139: =IF(N139="základná",J139,0) -> 0 | BF139: =IF(N139="znížená",J139,0) -> 0 | BG139: =IF(N139="zákl. prenesená",J139,0) -> 0 | BH139: =IF(N139="zníž. prenesená",J139,0) -> 0 | BI139: =IF(N139="nulová",J139,0) -> 0 | BJ139: 2 | BK139: =ROUND(I139*H139,2) -> 0 | BL139: 64 | BM139: 16
C140: 9 | D140: K | E140: 210220245 | F140: Svorka FeZn pripojovacia SP | G140: ks | H140: 14 | J140: =ROUND(I140*H140,2) -> 0 | N140: znížená | P140: =O140*H140 -> 0 | Q140: 0 | R140: =Q140*H140 -> 0 | S140: 0 | T140: =S140*H140 -> 0 | AR140: 64 | AT140: K | AU140: 2 | AY140: ROZPOCET | BE140: =IF(N140="základná",J140,0) -> 0 | BF140: =IF(N140="znížená",J140,0) -> 0 | BG140: =IF(N140="zákl. prenesená",J140,0) -> 0 | BH140: =IF(N140="zníž. prenesená",J140,0) -> 0 | BI140: =IF(N140="nulová",J140,0) -> 0 | BJ140: 2 | BK140: =ROUND(I140*H140,2) -> 0 | BL140: 64 | BM140: 18
C141: 10 | D141: K | E141: 210220246 | F141: Svorka FeZn na odkvapový žľab SO | G141: ks | H141: 18 | J141: =ROUND(I141*H141,2) -> 0 | N141: znížená | P141: =O141*H141 -> 0 | Q141: 0 | R141: =Q141*H141 -> 0 | S141: 0 | T141: =S141*H141 -> 0 | AR141: 64 | AT141: K | AU141: 2 | AY141: ROZPOCET | BE141: =IF(N141="základná",J141,0) -> 0 | BF141: =IF(N141="znížená",J141,0) -> 0 | BG141: =IF(N141="zákl. prenesená",J141,0) -> 0 | BH141: =IF(N141="zníž. prenesená",J141,0) -> 0 | BI141: =IF(N141="nulová",J141,0) -> 0 | BJ141: 2 | BK141: =ROUND(I141*H141,2) -> 0 | BL141: 64 | BM141: 20
C142: 11 | D142: K | E142: 210220247 | F142: Svorka FeZn skúšobná SZ | G142: ks | H142: 18 | J142: =ROUND(I142*H142,2) -> 0 | N142: znížená | P142: =O142*H142 -> 0 | Q142: 0 | R142: =Q142*H142 -> 0 | S142: 0 | T142: =S142*H142 -> 0 | AR142: 64 | AT142: K | AU142: 2 | AY142: ROZPOCET | BE142: =IF(N142="základná",J142,0) -> 0 | BF142: =IF(N142="znížená",J142,0) -> 0 | BG142: =IF(N142="zákl. prenesená",J142,0) -> 0 | BH142: =IF(N142="zníž. prenesená",J142,0) -> 0 | BI142: =IF(N142="nulová",J142,0) -> 0 | BJ142: 2 | BK142: =ROUND(I142*H142,2) -> 0 | BL142: 64 | BM142: 22
C143: 12 | D143: K | E143: 210220248 | F143: Svorka FeZn na potrubie ST01-09 1/2"- 4" | G143: ks | H143: 6 | J143: =ROUND(I143*H143,2) -> 0 | N143: znížená | P143: =O143*H143 -> 0 | Q143: 0 | R143: =Q143*H143 -> 0 | S143: 0 | T143: =S143*H143 -> 0 | AR143: 64 | AT143: K | AU143: 2 | AY143: ROZPOCET | BE143: =IF(N143="základná",J143,0) -> 0 | BF143: =IF(N143="znížená",J143,0) -> 0 | BG143: =IF(N143="zákl. prenesená",J143,0) -> 0 | BH143: =IF(N143="zníž. prenesená",J143,0) -> 0 | BI143: =IF(N143="nulová",J143,0) -> 0 | BJ143: 2 | BK143: =ROUND(I143*H143,2) -> 0 | BL143: 64 | BM143: 24
... C149: 18 | D149: K | E149: 210950101 | F149: Označovací štítok zvodu | G149: ks | H149: 18 | J149: =ROUND(I149*H149,2) -> 0 | N149: znížená | P149: =O149*H149 -> 0 | Q149: 0 | R149: =Q149*H149 -> 0 | S149: 0 | T149: =S149*H149 -> 0 | AR149: 64 | AT149: K | AU149: 2 | AY149: ROZPOCET | BE149: =IF(N149="základná",J149,0) -> 0 | BF149: =IF(N149="znížená",J149,0) -> 0 | BG149: =IF(N149="zákl. prenesená",J149,0) -> 0 | BH149: =IF(N149="zníž. prenesená",J149,0) -> 0 | BI149: =IF(N149="nulová",J149,0) -> 0 | BJ149: 2 | BK149: =ROUND(I149*H149,2) -> 0 | BL149: 64 | BM149: 36
C150: Poznámka
C151: K správnemu naceneniu výkazu výmer je potrebné naštudovanie PD. Naceniť je potrebné jestvujúci výkaz výmer podľa pokynov tendrového zadávateľa, resp. navrhu zmluvy o dielo. Výkaz výmer je neoddeliteľnou súčasťou celej PD. Materiál výrobkov je definovaný vo VV a zároveň sú položky jednoznačne určené a spárovateľné k výkresovej alebo textovej časti projektovej dokumentácie, ktorá dané materiály, v potrebných prípadoch ešte presnejšie podrobnejšie špecifikuje, upresňuje ci konkretizuje technicky, parametricky alebo referenčným výrobkom. Informácie o materiáloch výrobkov vo výkresovej časti alebo technických správach môžu byť aj výrazne rozsiahlejšie ako je možné uviesť technicky v texte názvu položky vo výkaze výmer, preto je potrebné naštudovanie projektovej dokumentácie a oceňovať výkaz výmer ako celok a neoddeliteňú súčasť projektovej dokumentácie. Výmery položiek presunov hmot PSV vyjadrených mernými jednotkami v percentách % si uchádzač výpĺna sám podla metodiky rozpočtárskych programov napr. Cenkros, ODIS. Dodávateľ si zahrnie do jednotkových cien všetky náklady podla ZoD, vrátane VRN-ov: napr. označenie staveniska, čistenie, opatrenia pre stav. v zimnom období, poistenie, geodet. merania a dokumentáciu, skúšky, vzorky, dielenskú dokumentáciu, vyčistenie všetkých dotknutých plôch od stavebného odpadu.
E152: VP | F152: Práce naviac | J152: =BK152 -> 0 | AT152: D | AU152: 0 | AY152: PN | BK152: =BK153 -> 0
D153: K | J153: =BK153 -> 0 | N153: znížená | AT153: PN | AU153: 1 | AY153: PN | BE153: =IF(N153="základná",J153,0) -> 0 | BF153: =IF(N153="znížená",J153,0) -> 0 | BG153: =IF(N153="zákl. prenesená",J153,0) -> 0 | BH153: =IF(N153="zníž. prenesená",J153,0) -> 0 | BI153: =IF(N153="nulová",J153,0) -> 0 | BJ153: 2 | BK153: =I153*H153 -> 0

Sheet 4.2 - Nový bleskozvod vrá...
L2: >> skryté stĺpce << | AT2: {9402b2cd-986d-495f-960b-e7d062e7f3b8}
AT3: 0
D4: KRYCÍ LIST ROZPOČTU | M4: v --- nižšie sa nachádzajú doplnkové a pomocné údaje k zostavám --- v | AT4: False
D6: Stavba:
E7: ='Rekapitulácia stavby'!K6 -> Zateplenie plniarne nealkoholických nápojov, Dunajská Streda - aktualizácia jún 2023
D8: Objekt:
E9: 4.2 - Nový bleskozvod vrátane zvodov a uzemnenia
D11: JKSO: | I11: KS:
D12: Miesto: | F12: Dunajská Streda | I12: Dátum: | J12: ='Rekapitulácia stavby'!AN8 -> 8. 6. 2023
D14: Objednávateľ: | I14: IČO:
E15: McCarter, a.s. | I15: IČ DPH:
D17: Zhotoviteľ: | I17: IČO: | J17: ='Rekapitulácia stavby'!AN13 -> Vyplň údaj
E18: ='Rekapitulácia stavby'!E14 -> Vyplň údaj | I18: IČ DPH: | J18: ='Rekapitulácia stavby'!AN14 -> Vyplň údaj
D20: Projektant: | I20: IČO:
E21: Ing.arch. Miroslav Marko M.Arch. | I21: IČ DPH:
D23: Spracovateľ: | I23: IČO:
E24: Rosoft, s.r.o. | I24: IČ DPH:
D26: Poznámka:
D30: Náklady z rozpočtu | J30: =J96 -> 0
D31: Ostatné náklady | J31: =J106 -> 0
D32: Cena bez DPH | J32: =ROUND(J30 + J31, 2) -> 0
F34: Základ dane | I34: Sadzba dane | J34: Výška dane
D35: DPH | E35: základná | F35: =ROUND((ROUND((SUM(BE106:BE113) + SUM(BE133:BE190)), 2) + SUM(BE194)), 2) -> 0 | I35: 0.2 | J35: =ROUND((ROUND(((SUM(BE106:BE113) + SUM(BE133:BE190))*I35), 2) + (SUM(BE194)*I35)), 2) -> 0
E36: znížená | F36: =ROUND((ROUND((SUM(BF106:BF113) + SUM(BF133:BF190)), 2) + SUM(BF194)), 2) -> 0 | I36: 0.2 | J36: =ROUND((ROUND(((SUM(BF106:BF113) + SUM(BF133:BF190))*I36), 2) + (SUM(BF194)*I36)), 2) -> 0
E37: zákl. prenesená | F37: =ROUND((ROUND((SUM(BG106:BG113) + SUM(BG133:BG190)), 2) + SUM(BG194)), 2) -> 0 | I37: 0.2 | J37: =0 -> 0
E38: zníž. prenesená | F38: =ROUND((ROUND((SUM(BH106:BH113) + SUM(BH133:BH190)), 2) + SUM(BH194)), 2) -> 0 | I38: 0.2 | J38: =0 -> 0
E39: nulová | F39: =ROUND((ROUND((SUM(BI106:BI113) + SUM(BI133:BI190)), 2) + SUM(BI194)), 2) -> 0 | I39: 0 | J39: =0 -> 0
D41: Cena s DPH | G41: v | H41: EUR | J41: =SUM(J32:J39) -> 0
D50: Projektant | G50: Spracovateľ
D61: Dátum a podpis: | F61: Pečiatka | G61: Dátum a podpis: | J61: Pečiatka
D65: Objednávateľ | G65: Zhotoviteľ
D76: Dátum a podpis: | F76: Pečiatka | G76: Dátum a podpis: | J76: Pečiatka
C82: REKAPITULÁCIA ROZPOČTU
C84: Stavba:
E85: =E7 -> Zateplenie plniarne nealkoholických nápojov, Dunajská Streda - aktualizácia jún 2023
C86: Objekt:
E87: =E9 -> 4.2 - Nový bleskozvod vrátane zvodov a uzemnenia
C89: Miesto: | F89: =F12 -> Dunajská Streda | I89: Dátum: | J89: =IF(J12="","",J12) -> 8. 6. 2023
C91: Objednávateľ: | F91: =E15 -> McCarter, a.s. | I91: Projektant: | J91: =E21 -> Ing.arch. Miroslav Marko M.Arch.
C92: Zhotoviteľ: | F92: =IF(E18="","",E18) -> Vyplň údaj | I92: Spracovateľ: | J92: =E24 -> Rosoft, s.r.o.
C94: Kód dielu - Popis | J94: Cena celkom [EUR]
C96: 1) Náklady z rozpočtu | J96: =J133 -> 0 | AU96: -1
D97: HSV - Práce a dodávky HSV | J97: =J134 -> 0
D98: 9 - Ostatné konštrukcie a práce-búranie | J98: =J135 -> 0
D99: M - Práce a dodávky M | J99: =J140 -> 0
D100: 21-M - Elektromontáže | J100: =J141 -> 0
D101: 46-M - Zemné práce vykonávané pri externých montážnych prácach | J101: =J186 -> 0
D102: 95-M - Revízie | J102: =J189 -> 0
D103: VP - Práce naviac | J103: =J193 -> 0
C106: 2) Ostatné náklady | J106: =ROUND(J107 + J108 + J109 + J110 + J111 + J112,2) -> 0 | N106: DPH
D107: GZS | J107: 0 | N107: znížená | AY107: VRN | BE107: =IF(N107="základná",J107,0) -> 0 | BF107: =IF(N107="znížená",J107,0) -> 0 | BG107: =IF(N107="zákl. prenesená",J107,0) -> 0 | BH107: =IF(N107="zníž. prenesená",J107,0) -> 0 | BI107: =IF(N107="nulová",J107,0) -> 0 | BJ107: 2
D108: Projektové práce | J108: 0 | N108: znížená | AY108: VRN | BE108: =IF(N108="základná",J108,0) -> 0 | BF108: =IF(N108="znížená",J108,0) -> 0 | BG108: =IF(N108="zákl. prenesená",J108,0) -> 0 | BH108: =IF(N108="zníž. prenesená",J108,0) -> 0 | BI108: =IF(N108="nulová",J108,0) -> 0 | BJ108: 2
D109: Sťažené podmienky | J109: 0 | N109: znížená | AY109: VRN | BE109: =IF(N109="základná",J109,0) -> 0 | BF109: =IF(N109="znížená",J109,0) -> 0 | BG109: =IF(N109="zákl. prenesená",J109,0) -> 0 | BH109: =IF(N109="zníž. prenesená",J109,0) -> 0 | BI109: =IF(N109="nulová",J109,0) -> 0 | BJ109: 2
D110: Vplyv prostredia | J110: 0 | N110: znížená | AY110: VRN | BE110: =IF(N110="základná",J110,0) -> 0 | BF110: =IF(N110="znížená",J110,0) -> 0 | BG110: =IF(N110="zákl. prenesená",J110,0) -> 0 | BH110: =IF(N110="zníž. prenesená",J110,0) -> 0 | BI110: =IF(N110="nulová",J110,0) -> 0 | BJ110: 2
D111: Iné VRN | J111: 0 | N111: znížená | AY111: VRN | BE111: =IF(N111="základná",J111,0) -> 0 | BF111: =IF(N111="znížená",J111,0) -> 0 | BG111: =IF(N111="zákl. prenesená",J111,0) -> 0 | BH111: =IF(N111="zníž. prenesená",J111,0) -> 0 | BI111: =IF(N111="nulová",J111,0) -> 0 | BJ111: 2
D112: Kompletačná činnosť | J112: =ROUND(J30*T112,2) -> 0 | N112: znížená | AY112: KOMPLETACNA | BE112: =IF(N112="základná",J112,0) -> 0 | BF112: =IF(N112="znížená",J112,0) -> 0 | BG112: =IF(N112="zákl. prenesená",J112,0) -> 0 | BH112: =IF(N112="zníž. prenesená",J112,0) -> 0 | BI112: =IF(N112="nulová",J112,0) -> 0 | BJ112: 2
C114: Celkové náklady za stavbu 1) + 2) | J114: =ROUND(J96+J106,2) -> 0
C120: ROZPOČET
C122: Stavba:
E123: =E7 -> Zateplenie plniarne nealkoholických nápojov, Dunajská Streda - aktualizácia jún 2023
C124: Objekt:
E125: =E9 -> 4.2 - Nový bleskozvod vrátane zvodov a uzemnenia
C127: Miesto: | F127: =F12 -> Dunajská Streda | I127: Dátum: | J127: =IF(J12="","",J12) -> 8. 6. 2023
C129: Objednávateľ: | F129: =E15 -> McCarter, a.s. | I129: Projektant: | J129: =E21 -> Ing.arch. Miroslav Marko M.Arch.
C130: Zhotoviteľ: | F130: =IF(E18="","",E18) -> Vyplň údaj | I130: Spracovateľ: | J130: =E24 -> Rosoft, s.r.o.
C132: PČ | D132: Typ | E132: Kód | F132: Popis | G132: MJ | H132: Množstvo | I132: J.cena [EUR] | J132: Cena celkom [EUR] | K132: Cenová sústava | N132: DPH | O132: J. Nh [h] | P132: Nh celkom [h] | Q132: J. hmotnosť [t] | R132: Hmotnosť celkom [t] | S132: J. suť [t] | T132: Suť Celkom [t]
C133: Náklady z rozpočtu | J133: =BK133 -> 0 | P133: =P134+P140+P193 -> 0 | R133: =R134+R140+R193 -> 7.8834469 | T133: =T134+T140+T193 -> 0 | AT133: D | AU133: -1 | BK133: =BK134+BK140+BK193 -> 0
D134: D | E134: HSV | F134: Práce a dodávky HSV | J134: =BK134 -> 0 | P134: =P135 -> 0 | R134: =R135 -> 4.0731 | T134: =T135 -> 0 | AR134: 1 | AT134: D | AU134: 0 | AY134: ROZPOCET | BK134: =BK135 -> 0
D135: D | E135: 9 | F135: Ostatné konštrukcie a práce-búranie | J135: =BK135 -> 0 | P135: =SUM(P136:P139) -> 0 | R135: =SUM(R136:R139) -> 4.0731 | T135: =SUM(T136:T139) -> 0 | AR135: 1 | AT135: D | AU135: 1 | AY135: ROZPOCET | BK135: =SUM(BK136:BK139) -> 0
C136: 1 | D136: K | E136: 919735123 | F136: Rezanie betónového krytu alebo podkladu tr. nad C 12/15 hr. nad 100 do 150 mm | G136: m | H136: 110 | J136: =ROUND(I136*H136,2) -> 0 | N136: znížená | P136: =O136*H136 -> 0 | Q136: 1e-05 | R136: =Q136*H136 -> 0.0011 | S136: 0 | T136: =S136*H136 -> 0 | AR136: 4 | AT136: K | AU136: 2 | AY136: ROZPOCET | BE136: =IF(N136="základná",J136,0) -> 0 | BF136: =IF(N136="znížená",J136,0) -> 0 | BG136: =IF(N136="zákl. prenesená",J136,0) -> 0 | BH136: =IF(N136="zníž. prenesená",J136,0) -> 0 | BI136: =IF(N136="nulová",J136,0) -> 0 | BJ136: 2 | BK136: =ROUND(I136*H136,2) -> 0 | BL136: 4 | BM136: 2
C137: 2 | D137: M | E137: 5859336401 | F137: Suchý betón B20, zrnitosť 8 mm č.22151 BAUMIT | G137: kg | H137: 1500 | J137: =ROUND(I137*H137,2) -> 0 | N137: znížená | P137: =O137*H137 -> 0 | Q137: 0.001 | R137: =Q137*H137 -> 1.5 | S137: 0 | T137: =S137*H137 -> 0 | AR137: 8 | AT137: M | AU137: 2 | AY137: ROZPOCET | BE137: =IF(N137="základná",J137,0) -> 0 | BF137: =IF(N137="znížená",J137,0) -> 0 | BG137: =IF(N137="zákl. prenesená",J137,0) -> 0 | BH137: =IF(N137="zníž. prenesená",J137,0) -> 0 | BI137: =IF(N137="nulová",J137,0) -> 0 | BJ137: 2 | BK137: =ROUND(I137*H137,2) -> 0 | BL137: 4 | BM137: 4
C138: 3 | D138: K | E138: 941941031 | F138: Montáž lešenia ľahkého pracovného radového s podlahami šírky od 0,80 do 1,00 m, výšky do 10 m | G138: m2 | H138: 100 | J138: =ROUND(I138*H138,2) -> 0 | N138: znížená | P138: =O138*H138 -> 0 | Q138: 0.02572 | R138: =Q138*H138 -> 2.572 | S138: 0 | T138: =S138*H138 -> 0 | AR138: 4 | AT138: K | AU138: 2 | AY138: ROZPOCET | BE138: =IF(N138="základná",J138,0) -> 0 | BF138: =IF(N138="znížená",J138,0) -> 0 | BG138: =IF(N138="zákl. prenesená",J138,0) -> 0 | BH138: =IF(N138="zníž. prenesená",J138,0) -> 0 | BI138: =IF(N138="nulová",J138,0) -> 0 | BJ138: 2 | BK138: =ROUND(I138*H138,2) -> 0 | BL138: 4 | BM138: 6
C139: 4 | D139: K | E139: 949942101 | F139: Hydraulická zdvíhacia plošina vrátane obsluhy inštalovaná na automobilovom podvozku výšky zdvihu do 27 m | G139: hod | H139: 38 | J139: =ROUND(I139*H139,2) -> 0 | N139: znížená | P139: =O139*H139 -> 0 | Q139: 0 | R139: =Q139*H139 -> 0 | S139: 0 | T139: =S139*H139 -> 0 | AR139: 4 | AT139: K | AU139: 2 | AY139: ROZPOCET | BE139: =IF(N139="základná",J139,0) -> 0 | BF139: =IF(N139="znížená",J139,0) -> 0 | BG139: =IF(N139="zákl. prenesená",J139,0) -> 0 | BH139: =IF(N139="zníž. prenesená",J139,0) -> 0 | BI139: =IF(N139="nulová",J139,0) -> 0 | BJ139: 2 | BK139: =ROUND(I139*H139,2) -> 0 | BL139: 4 | BM139: 8
D140: D | E140: M | F140: Práce a dodávky M | J140: =BK140 -> 0 | P140: =P141+P186+P189 -> 0 | R140: =R141+R186+R189 -> 3.8103469 | T140: =T141+T186+T189 -> 0 | AR140: 3 | AT140: D | AU140: 0 | AY140: ROZPOCET | BK140: =BK141+BK186+BK189 -> 0
D141: D | E141: 21-M | F141: Elektromontáže | J141: =BK141 -> 0 | P141: =SUM(P142:P185) -> 0 | R141: =SUM(R142:R185) -> 3.8103469 | T141: =SUM(T142:T185) -> 0 | AR141: 3 | AT141: D | AU141: 1 | AY141: ROZPOCET | BK141: =SUM(BK142:BK185) -> 0
C142: 5 | D142: K | E142: 210220001 | F142: Uzemňovacie vedenie na povrchu FeZn | G142: m | H142: 2650 | J142: =ROUND(I142*H142,2) -> 0 | N142: znížená | P142: =O142*H142 -> 0 | Q142: 0 | R142: =Q142*H142 -> 0 | S142: 0 | T142: =S142*H142 -> 0 | AR142: 64 | AT142: K | AU142: 2 | AY142: ROZPOCET | BE142: =IF(N142="základná",J142,0) -> 0 | BF142: =IF(N142="znížená",J142,0) -> 0 | BG142: =IF(N142="zákl. prenesená",J142,0) -> 0 | BH142: =IF(N142="zníž. prenesená",J142,0) -> 0 | BI142: =IF(N142="nulová",J142,0) -> 0 | BJ142: 2 | BK142: =ROUND(I142*H142,2) -> 0 | BL142: 64 | BM142: 10
C143: 6 | D143: M | E143: 3544224100 | F143: Územňovací vodič ocelový žiarovo zinkovaný označenie O 8, ZIN Hronský Beňadik | G143: kg | H143: 1236.667 | J143: =ROUND(I143*H143,2) -> 0 | N143: znížená | P143: =O143*H143 -> 0 | Q143: 0.001 | R143: =Q143*H143 -> 1.236667 | S143: 0 | T143: =S143*H143 -> 0 | AR143: 256 | AT143: M | AU143: 2 | AY143: ROZPOCET | BE143: =IF(N143="základná",J143,0) -> 0 | BF143: =IF(N143="znížená",J143,0) -> 0 | BG143: =IF(N143="zákl. prenesená",J143,0) -> 0 | BH143: =IF(N143="zníž. prenesená",J143,0) -> 0 | BI143: =IF(N143="nulová",J143,0) -> 0 | BJ143: 2 | BK143: =ROUND(I143*H143,2) -> 0 | BL143: 64 | BM143: 12
C144: 7 | D144: K | E144: 210220001 | F144: Uzemňovacie vedenie na povrchu FeZn | G144: m | H144: 180 | J144: =ROUND(I144*H144,2) -> 0 | N144: znížená | P144: =O144*H144 -> 0 | Q144: 0 | R144: =Q144*H144 -> 0 | S144: 0 | T144: =S144*H144 -> 0 | AR144: 64 | AT144: K | AU144: 2 | AY144: ROZPOCET | BE144: =IF(N144="základná",J144,0) -> 0 | BF144: =IF(N144="znížená",J144,0) -> 0 | BG144: =IF(N144="zákl. prenesená",J144,0) -> 0 | BH144: =IF(N144="zníž. prenesená",J144,0) -> 0 | BI144: =IF(N144="nulová",J144,0) -> 0 | BJ144: 2 | BK144: =ROUND(I144*H144,2) -> 0 | BL144: 64 | BM144: 14
C145: 8 | D145: M | E145: 3544224150 | F145: Územňovací vodič ocelový žiarovo zinkovaný označenie O 10, ZIN Hronský Beňadik | G145: kg | H145: 180 | J145: =ROUND(I145*H145,2) -> 0 | N145: znížená | P145: =O145*H145 -> 0 | Q145: 0.001 | R145: =Q145*H145 -> 0.18 | S145: 0 | T145: =S145*H145 -> 0 | AR145: 256 | AT145: M | AU145: 2 | AY145: ROZPOCET | BE145: =IF(N145="základná",J145,0) -> 0 | BF145: =IF(N145="znížená",J145,0) -> 0 | BG145: =IF(N145="zákl. prenesená",J145,0) -> 0 | BH145: =IF(N145="zníž. prenesená",J145,0) -> 0 | BI145: =IF(N145="nulová",J145,0) -> 0 | BJ145: 2 | BK145: =ROUND(I145*H145,2) -> 0 | BL145: 64 | BM145: 16
C146: 9 | D146: K | E146: 210220020 | F146: Uzemňovacie vedenie v zemi FeZn | G146: m | H146: 540 | J146: =ROUND(I146*H146,2) -> 0 | N146: znížená | P146: =O146*H146 -> 0 | Q146: 0 | R146: =Q146*H146 -> 0 | S146: 0 | T146: =S146*H146 -> 0 | AR146: 64 | AT146: K | AU146: 2 | AY146: ROZPOCET | BE146: =IF(N146="základná",J146,0) -> 0 | BF146: =IF(N146="znížená",J146,0) -> 0 | BG146: =IF(N146="zákl. prenesená",J146,0) -> 0 | BH146: =IF(N146="zníž. prenesená",J146,0) -> 0 | BI146: =IF(N146="nulová",J146,0) -> 0 | BJ146: 2 | BK146: =ROUND(I146*H146,2) -> 0 | BL146: 64 | BM146: 18
C147: 10 | D147: M | E147: 3544223850 | F147: Územňovacia pásovina ocelová žiarovo zinkovaná označenie 30 x 4 mm, ZIN Hronský Beňadik | G147: kg | H147: 540 | J147: =ROUND(I147*H147,2) -> 0 | N147: znížená | P147: =O147*H147 -> 0 | Q147: 0.001 | R147: =Q147*H147 -> 0.54 | S147: 0 | T147: =S147*H147 -> 0 | AR147: 256 | AT147: M | AU147: 2 | AY147: ROZPOCET | BE147: =IF(N147="základná",J147,0) -> 0 | BF147: =IF(N147="znížená",J147,0) -> 0 | BG147: =IF(N147="zákl. prenesená",J147,0) -> 0 | BH147: =IF(N147="zníž. prenesená",J147,0) -> 0 | BI147: =IF(N147="nulová",J147,0) -> 0 | BJ147: 2 | BK147: =ROUND(I147*H147,2) -> 0 | BL147: 64 | BM147: 20
C148: 11 | D148: K | E148: 210220101 | F148: Podpery vedenia FeZn na plochú strechu PV21 | G148: ks | H148: 1600 | J148: =ROUND(I148*H148,2) -> 0 | N148: znížená | P148: =O148*H148 -> 0 | Q148: 0 | R148: =Q148*H148 -> 0 | S148: 0 | T148: =S148*H148 -> 0 | AR148: 64 | AT148: K | AU148: 2 | AY148: ROZPOCET | BE148: =IF(N148="základná",J148,0) -> 0 | BF148: =IF(N148="znížená",J148,0) -> 0 | BG148: =IF(N148="zákl. prenesená",J148,0) -> 0 | BH148: =IF(N148="zníž. prenesená",J148,0) -> 0 | BI148: =IF(N148="nulová",J148,0) -> 0 | BJ148: 2 | BK148: =ROUND(I148*H148,2) -> 0 | BL148: 64 | BM148: 22
C149: 12 | D149: M | E149: 3544217950 | F149: Podpera vedenia na rovné strechy plastová PV 21 plast, ZIN Hronský Beňadik + lepenie na podklad | G149: ks | H149: 1600 | J149: =ROUND(I149*H149,2) -> 0 | N149: znížená | P149: =O149*H149 -> 0 | Q149: 0.0004 | R149: =Q149*H149 -> 0.64 | S149: 0 | T149: =S149*H149 -> 0 | AR149: 256 | AT149: M | AU149: 2 | AY149: ROZPOCET | BE149: =IF(N149="základná",J149,0) -> 0 | BF149: =IF(N149="znížená",J149,0) -> 0 | BG149: =IF(N149="zákl. prenesená",J149,0) -> 0 | BH149: =IF(N149="zníž. prenesená",J149,0) -> 0 | BI149: =IF(N149="nulová",J149,0) -> 0 | BJ149: 2 | BK149: =ROUND(I149*H149,2) -> 0 | BL149: 64 | BM149: 24
C150: 13 | D150: M | E150: 2315234000 | F150: Tmel silikonový Lukopren S 9780 | G150: ks | H150: 53.333 | J150: =ROUND(I150*H150,2) -> 0 | N150: znížená | P150: =O150*H150 -> 0 | Q150: 0.0003 | R150: =Q150*H150 -> 0.0159999 | S150: 0 | T150: =S150*H150 -> 0 | AR150: 256 | AT150: M | AU150: 2 | AY150: ROZPOCET | BE150: =IF(N150="základná",J150,0) -> 0 | BF150: =IF(N150="znížená",J150,0) -> 0 | BG150: =IF(N150="zákl. prenesená",J150,0) -> 0 | BH150: =IF(N150="zníž. prenesená",J150,0) -> 0 | BI150: =IF(N150="nulová",J150,0) -> 0 | BJ150: 2 | BK150: =ROUND(I150*H150,2) -> 0 | BL150: 64 | BM150: 26
C151: 14 | D151: K | E151: 210220105 | F151: Podpery vedenia FeZn do zvislej steny | G151: ks | H151: 216 | J151: =ROUND(I151*H151,2) -> 0 | N151: znížená | P151: =O151*H151 -> 0 | Q151: 0 | R151: =Q151*H151 -> 0 | S151: 0 | T151: =S151*H151 -> 0 | AR151: 64 | AT151: K | AU151: 2 | AY151: ROZPOCET | BE151: =IF(N151="základná",J151,0) -> 0 | BF151: =IF(N151="znížená",J151,0) -> 0 | BG151: =IF(N151="zákl. prenesená",J151,0) -> 0 | BH151: =IF(N151="zníž. prenesená",J151,0) -> 0 | BI151: =IF(N151="nulová",J151,0) -> 0 | BJ151: 2 | BK151: =ROUND(I151*H151,2) -> 0 | BL151: 64 | BM151: 28
C152: 15 | D152: M | E152: 3544216400 | F152: Podpera vedenia do muriva na hmoždinku ocelová žiarovo zinkovaná označenie PV 01 h | G152: ks | H152: 216 | J152: =ROUND(I152*H152,2) -> 0 | N152: znížená | P152: =O152*H152 -> 0 | Q152: 0.00012 | R152: =Q152*H152 -> 0.02592 | S152: 0 | T152: =S152*H152 -> 0 | AR152: 256 | AT152: M | AU152: 2 | AY152: ROZPOCET | BE152: =IF(N152="základná",J152,0) -> 0 | BF152: =IF(N152="znížená",J152,0) -> 0 | BG152: =IF(N152="zákl. prenesená",J152,0) -> 0 | BH152: =IF(N152="zníž. prenesená",J152,0) -> 0 | BI152: =IF(N152="nulová",J152,0) -> 0 | BJ152: 2 | BK152: =ROUND(I152*H152,2) -> 0 | BL152: 64 | BM152: 30
C153: 16 | D153: K | E153: 210220204 | F153: Zachytávacia tyč FeZn bez osadenia a s osadením JP10-30 | G153: ks | H153: 16 | J153: =ROUND(I153*H153,2) -> 0 | N153: znížená | P153: =O153*H153 -> 0 | Q153: 0 | R153: =Q153*H153 -> 0 | S153: 0 | T153: =S153*H153 -> 0 | AR153: 64 | AT153: K | AU153: 2 | AY153: ROZPOCET | BE153: =IF(N153="základná",J153,0) -> 0 | BF153: =IF(N153="znížená",J153,0) -> 0 | BG153: =IF(N153="zákl. prenesená",J153,0) -> 0 | BH153: =IF(N153="zníž. prenesená",J153,0) -> 0 | BI153: =IF(N153="nulová",J153,0) -> 0 | BJ153: 2 | BK153: =ROUND(I153*H153,2) -> 0 | BL153: 64 | BM153: 32
... C185: 48 | D185: M | E185: 2830024200 | F185: Označovač zvodu 1,5 - 4 mm2 "0" samoupínací typ: J150P | G185: ks | H185: 36 | J185: =ROUND(I185*H185,2) -> 0 | N185: znížená | P185: =O185*H185 -> 0 | Q185: 1e-05 | R185: =Q185*H185 -> 0.00036 | S185: 0 | T185: =S185*H185 -> 0 | AR185: 256 | AT185: M | AU185: 2 | AY185: ROZPOCET | BE185: =IF(N185="základná",J185,0) -> 0 | BF185: =IF(N185="znížená",J185,0) -> 0 | BG185: =IF(N185="zákl. prenesená",J185,0) -> 0 | BH185: =IF(N185="zníž. prenesená",J185,0) -> 0 | BI185: =IF(N185="nulová",J185,0) -> 0 | BJ185: 2 | BK185: =ROUND(I185*H185,2) -> 0 | BL185: 64 | BM185: 96
D186: D | E186: 46-M | F186: Zemné práce vykonávané pri externých montážnych prácach | J186: =BK186 -> 0 | P186: =SUM(P187:P188) -> 0 | R186: =SUM(R187:R188) -> 0 | T186: =SUM(T187:T188) -> 0 | AR186: 3 | AT186: D | AU186: 1 | AY186: ROZPOCET | BK186: =SUM(BK187:BK188) -> 0
C187: 49 | D187: K | E187: 460200144 | F187: Hĺbenie káblovej ryhy 35 cm širokej a 60 cm hlbokej, v zemine triedy 4 | G187: m | H187: 180 | J187: =ROUND(I187*H187,2) -> 0 | N187: znížená | P187: =O187*H187 -> 0 | Q187: 0 | R187: =Q187*H187 -> 0 | S187: 0 | T187: =S187*H187 -> 0 | AR187: 64 | AT187: K | AU187: 2 | AY187: ROZPOCET | BE187: =IF(N187="základná",J187,0) -> 0 | BF187: =IF(N187="znížená",J187,0) -> 0 | BG187: =IF(N187="zákl. prenesená",J187,0) -> 0 | BH187: =IF(N187="zníž. prenesená",J187,0) -> 0 | BI187: =IF(N187="nulová",J187,0) -> 0 | BJ187: 2 | BK187: =ROUND(I187*H187,2) -> 0 | BL187: 64 | BM187: 98
C188: 50 | D188: K | E188: 460560144 | F188: Ručný zásyp nezap. káblovej ryhy bez zhutn. zeminy, 35 cm širokej, 60 cm hlbokej v zemine tr. 4 | G188: m | H188: 180 | J188: =ROUND(I188*H188,2) -> 0 | N188: znížená | P188: =O188*H188 -> 0 | Q188: 0 | R188: =Q188*H188 -> 0 | S188: 0 | T188: =S188*H188 -> 0 | AR188: 64 | AT188: K | AU188: 2 | AY188: ROZPOCET | BE188: =IF(N188="základná",J188,0) -> 0 | BF188: =IF(N188="znížená",J188,0) -> 0 | BG188: =IF(N188="zákl. prenesená",J188,0) -> 0 | BH188: =IF(N188="zníž. prenesená",J188,0) -> 0 | BI188: =IF(N188="nulová",J188,0) -> 0 | BJ188: 2 | BK188: =ROUND(I188*H188,2) -> 0 | BL188: 64 | BM188: 100
D189: D | E189: 95-M | F189: Revízie | J189: =BK189 -> 0 | P189: =P190 -> 0 | R189: =R190 -> 0 | T189: =T190 -> 0 | AR189: 3 | AT189: D | AU189: 1 | AY189: ROZPOCET | BK189: =BK190 -> 0
C190: 51 | D190: K | E190: 950103003 | F190: El.inšt.kontrola stavu bleskozvodu | G190: obv. | H190: 36 | J190: =ROUND(I190*H190,2) -> 0 | N190: znížená | P190: =O190*H190 -> 0 | Q190: 0 | R190: =Q190*H190 -> 0 | S190: 0 | T190: =S190*H190 -> 0 | AR190: 64 | AT190: K | AU190: 2 | AY190: ROZPOCET | BE190: =IF(N190="základná",J190,0) -> 0 | BF190: =IF(N190="znížená",J190,0) -> 0 | BG190: =IF(N190="zákl. prenesená",J190,0) -> 0 | BH190: =IF(N190="zníž. prenesená",J190,0) -> 0 | BI190: =IF(N190="nulová",J190,0) -> 0 | BJ190: 2 | BK190: =ROUND(I190*H190,2) -> 0 | BL190: 64 | BM190: 102
C191: Poznámka
C192: K správnemu naceneniu výkazu výmer je potrebné naštudovanie PD. Naceniť je potrebné jestvujúci výkaz výmer podľa pokynov tendrového zadávateľa, resp. navrhu zmluvy o dielo. Výkaz výmer je neoddeliteľnou súčasťou celej PD. Materiál výrobkov je definovaný vo VV a zároveň sú položky jednoznačne určené a spárovateľné k výkresovej alebo textovej časti projektovej dokumentácie, ktorá dané materiály, v potrebných prípadoch ešte presnejšie podrobnejšie špecifikuje, upresňuje ci konkretizuje technicky, parametricky alebo referenčným výrobkom. Informácie o materiáloch výrobkov vo výkresovej časti alebo technických správach môžu byť aj výrazne rozsiahlejšie ako je možné uviesť technicky v texte názvu položky vo výkaze výmer, preto je potrebné naštudovanie projektovej dokumentácie a oceňovať výkaz výmer ako celok a neoddeliteňú súčasť projektovej dokumentácie. Výmery položiek presunov hmot PSV vyjadrených mernými jednotkami v percentách % si uchádzač výpĺna sám podla metodiky rozpočtárskych programov napr. Cenkros, ODIS. Dodávateľ si zahrnie do jednotkových cien všetky náklady podla ZoD, vrátane VRN-ov: napr. označenie staveniska, čistenie, opatrenia pre stav. v zimnom období, poistenie, geodet. merania a dokumentáciu, skúšky, vzorky, dielenskú dokumentáciu, vyčistenie všetkých dotknutých plôch od stavebného odpadu.
E193: VP | F193: Práce naviac | J193: =BK193 -> 0 | AT193: D | AU193: 0 | AY193: PN | BK193: =BK194 -> 0
D194: K | J194: =BK194 -> 0 | N194: znížená | AT194: PN | AU194: 1 | AY194: PN | BE194: =IF(N194="základná",J194,0) -> 0 | BF194: =IF(N194="znížená",J194,0) -> 0 | BG194: =IF(N194="zákl. prenesená",J194,0) -> 0 | BH194: =IF(N194="zníž. prenesená",J194,0) -> 0 | BI194: =IF(N194="nulová",J194,0) -> 0 | BJ194: 2 | BK194: =I194*H194 -> 0

Sheet 4.3 - Výmena osvetlovacíc...
L2: >> skryté stĺpce << | AT2: {c6c7fbb9-4f5c-4de8-ac5f-371702bc60b0}
AT3: 0
D4: KRYCÍ LIST ROZPOČTU | M4: v --- nižšie sa nachádzajú doplnkové a pomocné údaje k zostavám --- v | AT4: False
D6: Stavba:
E7: ='Rekapitulácia stavby'!K6 -> Zateplenie plniarne nealkoholických nápojov, Dunajská Streda - aktualizácia jún 2023
D8: Objekt:
E9: 4.3 - Výmena osvetlovacích telies v interiéri a na fasáde
D11: JKSO: | I11: KS:
D12: Miesto: | F12: Dunajská Streda | I12: Dátum: | J12: ='Rekapitulácia stavby'!AN8 -> 8. 6. 2023
D14: Objednávateľ: | I14: IČO:
E15: McCarter, a.s. | I15: IČ DPH:
D17: Zhotoviteľ: | I17: IČO: | J17: ='Rekapitulácia stavby'!AN13 -> Vyplň údaj
E18: ='Rekapitulácia stavby'!E14 -> Vyplň údaj | I18: IČ DPH: | J18: ='Rekapitulácia stavby'!AN14 -> Vyplň údaj
D20: Projektant: | I20: IČO:
E21: Ing.arch. Miroslav Marko M.Arch. | I21: IČ DPH:
D23: Spracovateľ: | I23: IČO:
E24: Rosoft, s.r.o. | I24: IČ DPH:
D26: Poznámka:
D30: Náklady z rozpočtu | J30: =J96 -> 0
D31: Ostatné náklady | J31: =J102 -> 0
D32: Cena bez DPH | J32: =ROUND(J30 + J31, 2) -> 0
F34: Základ dane | I34: Sadzba dane | J34: Výška dane
D35: DPH | E35: základná | F35: =ROUND((ROUND((SUM(BE102:BE109) + SUM(BE129:BE145)), 2) + SUM(BE149)), 2) -> 0 | I35: 0.2 | J35: =ROUND((ROUND(((SUM(BE102:BE109) + SUM(BE129:BE145))*I35), 2) + (SUM(BE149)*I35)), 2) -> 0
E36: znížená | F36: =ROUND((ROUND((SUM(BF102:BF109) + SUM(BF129:BF145)), 2) + SUM(BF149)), 2) -> 0 | I36: 0.2 | J36: =ROUND((ROUND(((SUM(BF102:BF109) + SUM(BF129:BF145))*I36), 2) + (SUM(BF149)*I36)), 2) -> 0
E37: zákl. prenesená | F37: =ROUND((ROUND((SUM(BG102:BG109) + SUM(BG129:BG145)), 2) + SUM(BG149)), 2) -> 0 | I37: 0.2 | J37: =0 -> 0
E38: zníž. prenesená | F38: =ROUND((ROUND((SUM(BH102:BH109) + SUM(BH129:BH145)), 2) + SUM(BH149)), 2) -> 0 | I38: 0.2 | J38: =0 -> 0
E39: nulová | F39: =ROUND((ROUND((SUM(BI102:BI109) + SUM(BI129:BI145)), 2) + SUM(BI149)), 2) -> 0 | I39: 0 | J39: =0 -> 0
D41: Cena s DPH | G41: v | H41: EUR | J41: =SUM(J32:J39) -> 0
D50: Projektant | G50: Spracovateľ
D61: Dátum a podpis: | F61: Pečiatka | G61: Dátum a podpis: | J61: Pečiatka
D65: Objednávateľ | G65: Zhotoviteľ
D76: Dátum a podpis: | F76: Pečiatka | G76: Dátum a podpis: | J76: Pečiatka
C82: REKAPITULÁCIA ROZPOČTU
C84: Stavba:
E85: =E7 -> Zateplenie plniarne nealkoholických nápojov, Dunajská Streda - aktualizácia jún 2023
C86: Objekt:
E87: =E9 -> 4.3 - Výmena osvetlovacích telies v interiéri a na fasáde
C89: Miesto: | F89: =F12 -> Dunajská Streda | I89: Dátum: | J89: =IF(J12="","",J12) -> 8. 6. 2023
C91: Objednávateľ: | F91: =E15 -> McCarter, a.s. | I91: Projektant: | J91: =E21 -> Ing.arch. Miroslav Marko M.Arch.
C92: Zhotoviteľ: | F92: =IF(E18="","",E18) -> Vyplň údaj | I92: Spracovateľ: | J92: =E24 -> Rosoft, s.r.o.
C94: Kód dielu - Popis | J94: Cena celkom [EUR]
C96: 1) Náklady z rozpočtu | J96: =J129 -> 0 | AU96: -1
D97: M - Práce a dodávky M | J97: =J130 -> 0
D98: 21-M - Elektromontáže | J98: =J131 -> 0
D99: VP - Práce naviac | J99: =J148 -> 0
C102: 2) Ostatné náklady | J102: =ROUND(J103 + J104 + J105 + J106 + J107 + J108,2) -> 0 | N102: DPH
D103: GZS | J103: 0 | N103: znížená | AY103: VRN | BE103: =IF(N103="základná",J103,0) -> 0 | BF103: =IF(N103="znížená",J103,0) -> 0 | BG103: =IF(N103="zákl. prenesená",J103,0) -> 0 | BH103: =IF(N103="zníž. prenesená",J103,0) -> 0 | BI103: =IF(N103="nulová",J103,0) -> 0 | BJ103: 2
D104: Projektové práce | J104: 0 | N104: znížená | AY104: VRN | BE104: =IF(N104="základná",J104,0) -> 0 | BF104: =IF(N104="znížená",J104,0) -> 0 | BG104: =IF(N104="zákl. prenesená",J104,0) -> 0 | BH104: =IF(N104="zníž. prenesená",J104,0) -> 0 | BI104: =IF(N104="nulová",J104,0) -> 0 | BJ104: 2
D105: Sťažené podmienky | J105: 0 | N105: znížená | AY105: VRN | BE105: =IF(N105="základná",J105,0) -> 0 | BF105: =IF(N105="znížená",J105,0) -> 0 | BG105: =IF(N105="zákl. prenesená",J105,0) -> 0 | BH105: =IF(N105="zníž. prenesená",J105,0) -> 0 | BI105: =IF(N105="nulová",J105,0) -> 0 | BJ105: 2
D106: Vplyv prostredia | J106: 0 | N106: znížená | AY106: VRN | BE106: =IF(N106="základná",J106,0) -> 0 | BF106: =IF(N106="znížená",J106,0) -> 0 | BG106: =IF(N106="zákl. prenesená",J106,0) -> 0 | BH106: =IF(N106="zníž. prenesená",J106,0) -> 0 | BI106: =IF(N106="nulová",J106,0) -> 0 | BJ106: 2
D107: Iné VRN | J107: 0 | N107: znížená | AY107: VRN | BE107: =IF(N107="základná",J107,0) -> 0 | BF107: =IF(N107="znížená",J107,0) -> 0 | BG107: =IF(N107="zákl. prenesená",J107,0) -> 0 | BH107: =IF(N107="zníž. prenesená",J107,0) -> 0 | BI107: =IF(N107="nulová",J107,0) -> 0 | BJ107: 2
D108: Kompletačná činnosť | J108: =ROUND(J30*T108,2) -> 0 | N108: znížená | AY108: KOMPLETACNA | BE108: =IF(N108="základná",J108,0) -> 0 | BF108: =IF(N108="znížená",J108,0) -> 0 | BG108: =IF(N108="zákl. prenesená",J108,0) -> 0 | BH108: =IF(N108="zníž. prenesená",J108,0) -> 0 | BI108: =IF(N108="nulová",J108,0) -> 0 | BJ108: 2
C110: Celkové náklady za stavbu 1) + 2) | J110: =ROUND(J96+J102,2) -> 0
C116: ROZPOČET
C118: Stavba:
E119: =E7 -> Zateplenie plniarne nealkoholických nápojov, Dunajská Streda - aktualizácia jún 2023
C120: Objekt:
E121: =E9 -> 4.3 - Výmena osvetlovacích telies v interiéri a na fasáde
C123: Miesto: | F123: =F12 -> Dunajská Streda | I123: Dátum: | J123: =IF(J12="","",J12) -> 8. 6. 2023
C125: Objednávateľ: | F125: =E15 -> McCarter, a.s. | I125: Projektant: | J125: =E21 -> Ing.arch. Miroslav Marko M.Arch.
C126: Zhotoviteľ: | F126: =IF(E18="","",E18) -> Vyplň údaj | I126: Spracovateľ: | J126: =E24 -> Rosoft, s.r.o.
C128: PČ | D128: Typ | E128: Kód | F128: Popis | G128: MJ | H128: Množstvo | I128: J.cena [EUR] | J128: Cena celkom [EUR] | K128: Cenová sústava | N128: DPH | O128: J. Nh [h] | P128: Nh celkom [h] | Q128: J. hmotnosť [t] | R128: Hmotnosť celkom [t] | S128: J. suť [t] | T128: Suť Celkom [t]
C129: Náklady z rozpočtu | J129: =BK129 -> 0 | P129: =P130+P148 -> 0 | R129: =R130+R148 -> 0 | T129: =T130+T148 -> 0 | AT129: D | AU129: -1 | BK129: =BK130+BK148 -> 0
D130: D | E130: M | F130: Práce a dodávky M | J130: =BK130 -> 0 | P130: =P131 -> 0 | R130: =R131 -> 0 | T130: =T131 -> 0 | AR130: 3 | AT130: D | AU130: 0 | AY130: ROZPOCET | BK130: =BK131 -> 0
D131: D | E131: 21-M | F131: Elektromontáže | J131: =BK131 -> 0 | P131: =SUM(P132:P145) -> 0 | R131: =SUM(R132:R145) -> 0 | T131: =SUM(T132:T145) -> 0 | AR131: 3 | AT131: D | AU131: 1 | AY131: ROZPOCET | BK131: =SUM(BK132:BK145) -> 0
C132: 1 | D132: K | E132: 210201415-01 | F132: Montáž svietidla | G132: ks | H132: 16 | J132: =ROUND(I132*H132,2) -> 0 | N132: znížená | P132: =O132*H132 -> 0 | Q132: 0 | R132: =Q132*H132 -> 0 | S132: 0 | T132: =S132*H132 -> 0 | AR132: 64 | AT132: K | AU132: 2 | AY132: ROZPOCET | BE132: =IF(N132="základná",J132,0) -> 0 | BF132: =IF(N132="znížená",J132,0) -> 0 | BG132: =IF(N132="zákl. prenesená",J132,0) -> 0 | BH132: =IF(N132="zníž. prenesená",J132,0) -> 0 | BI132: =IF(N132="nulová",J132,0) -> 0 | BJ132: 2 | BK132: =ROUND(I132*H132,2) -> 0 | BL132: 64 | BM132: 2
C133: 2 | D133: M | E133: 34837000-01 | F133: Cobra street light small 60-100W 80W, T1M, 9000lm, 5000K ref. SC080750-11C | G133: ks | H133: 16 | J133: =ROUND(I133*H133,2) -> 0 | N133: znížená | P133: =O133*H133 -> 0 | Q133: 0 | R133: =Q133*H133 -> 0 | S133: 0 | T133: =S133*H133 -> 0 | AR133: 256 | AT133: M | AU133: 2 | AY133: ROZPOCET | BE133: =IF(N133="základná",J133,0) -> 0 | BF133: =IF(N133="znížená",J133,0) -> 0 | BG133: =IF(N133="zákl. prenesená",J133,0) -> 0 | BH133: =IF(N133="zníž. prenesená",J133,0) -> 0 | BI133: =IF(N133="nulová",J133,0) -> 0 | BJ133: 2 | BK133: =ROUND(I133*H133,2) -> 0 | BL133: 64 | BM133: 4
C134: 3 | D134: K | E134: 210201941-01 | F134: Montáž svietidla strop/záves | G134: ks | H134: 110 | J134: =ROUND(I134*H134,2) -> 0 | N134: znížená | P134: =O134*H134 -> 0 | Q134: 0 | R134: =Q134*H134 -> 0 | S134: 0 | T134: =S134*H134 -> 0 | AR134: 64 | AT134: K | AU134: 2 | AY134: ROZPOCET | BE134: =IF(N134="základná",J134,0) -> 0 | BF134: =IF(N134="znížená",J134,0) -> 0 | BG134: =IF(N134="zákl. prenesená",J134,0) -> 0 | BH134: =IF(N134="zníž. prenesená",J134,0) -> 0 | BI134: =IF(N134="nulová",J134,0) -> 0 | BJ134: 2 | BK134: =ROUND(I134*H134,2) -> 0 | BL134: 64 | BM134: 6
C135: 4 | D135: M | E135: 34832000-01 | F135: High Bay 120W 90°, 4000K, 80 ref. IL12090840-2RS | G135: ks | H135: 5 | J135: =ROUND(I135*H135,2) -> 0 | N135: znížená | P135: =O135*H135 -> 0 | Q135: 0 | R135: =Q135*H135 -> 0 | S135: 0 | T135: =S135*H135 -> 0 | AR135: 256 | AT135: M | AU135: 2 | AY135: ROZPOCET | BE135: =IF(N135="základná",J135,0) -> 0 | BF135: =IF(N135="znížená",J135,0) -> 0 | BG135: =IF(N135="zákl. prenesená",J135,0) -> 0 | BH135: =IF(N135="zníž. prenesená",J135,0) -> 0 | BI135: =IF(N135="nulová",J135,0) -> 0 | BJ135: 2 | BK135: =ROUND(I135*H135,2) -> 0 | BL135: 64 | BM135: 8
C136: 5 | D136: M | E136: 34832000-02 | F136: High Bay 100W 90°, 4000K, 80 ref. IL10090840-2RS | G136: ks | H136: 85 | J136: =ROUND(I136*H136,2) -> 0 | N136: znížená | P136: =O136*H136 -> 0 | Q136: 0 | R136: =Q136*H136 -> 0 | S136: 0 | T136: =S136*H136 -> 0 | AR136: 256 | AT136: M | AU136: 2 | AY136: ROZPOCET | BE136: =IF(N136="základná",J136,0) -> 0 | BF136: =IF(N136="znížená",J136,0) -> 0 | BG136: =IF(N136="zákl. prenesená",J136,0) -> 0 | BH136: =IF(N136="zníž. prenesená",J136,0) -> 0 | BI136: =IF(N136="nulová",J136,0) -> 0 | BJ136: 2 | BK136: =ROUND(I136*H136,2) -> 0 | BL136: 64 | BM136: 10
C137: 6 | D137: M | E137: 34832000-03 | F137: High Bay 160W 90°, 4000K, 80 ref. IL16090840-2RS | G137: ks | H137: 20 | J137: =ROUND(I137*H137,2) -> 0 | N137: znížená | P137: =O137*H137 -> 0 | Q137: 0 | R137: =Q137*H137 -> 0 | S137: 0 | T137: =S137*H137 -> 0 | AR137: 256 | AT137: M | AU137: 2 | AY137: ROZPOCET | BE137: =IF(N137="základná",J137,0) -> 0 | BF137: =IF(N137="znížená",J137,0) -> 0 | BG137: =IF(N137="zákl. prenesená",J137,0) -> 0 | BH137: =IF(N137="zníž. prenesená",J137,0) -> 0 | BI137: =IF(N137="nulová",J137,0) -> 0 | BJ137: 2 | BK137: =ROUND(I137*H137,2) -> 0 | BL137: 64 | BM137: 12
C138: 7 | D138: K | E138: 210201941-02 | F138: Montáž svietidla Tri-proof | G138: ks | H138: 139 | J138: =ROUND(I138*H138,2) -> 0 | N138: znížená | P138: =O138*H138 -> 0 | Q138: 0 | R138: =Q138*H138 -> 0 | S138: 0 | T138: =S138*H138 -> 0 | AR138: 64 | AT138: K | AU138: 2 | AY138: ROZPOCET | BE138: =IF(N138="základná",J138,0) -> 0 | BF138: =IF(N138="znížená",J138,0) -> 0 | BG138: =IF(N138="zákl. prenesená",J138,0) -> 0 | BH138: =IF(N138="zníž. prenesená",J138,0) -> 0 | BI138: =IF(N138="nulová",J138,0) -> 0 | BJ138: 2 | BK138: =ROUND(I138*H138,2) -> 0 | BL138: 64 | BM138: 14
C139: 8 | D139: M | E139: 34832000-11 | F139: BestLumi 28W | G139: ks | H139: 23 | J139: =ROUND(I139*H139,2) -> 0 | N139: znížená | P139: =O139*H139 -> 0 | Q139: 0 | R139: =Q139*H139 -> 0 | S139: 0 | T139: =S139*H139 -> 0 | AR139: 256 | AT139: M | AU139: 2 | AY139: ROZPOCET | BE139: =IF(N139="základná",J139,0) -> 0 | BF139: =IF(N139="znížená",J139,0) -> 0 | BG139: =IF(N139="zákl. prenesená",J139,0) -> 0 | BH139: =IF(N139="zníž. prenesená",J139,0) -> 0 | BI139: =IF(N139="nulová",J139,0) -> 0 | BJ139: 2 | BK139: =ROUND(I139*H139,2) -> 0 | BL139: 64 | BM139: 16
C140: 9 | D140: M | E140: 34832000-12 | F140: BestLumi 35W | G140: ks | H140: 116 | J140: =ROUND(I140*H140,2) -> 0 | N140: znížená | P140: =O140*H140 -> 0 | Q140: 0 | R140: =Q140*H140 -> 0 | S140: 0 | T140: =S140*H140 -> 0 | AR140: 256 | AT140: M | AU140: 2 | AY140: ROZPOCET | BE140: =IF(N140="základná",J140,0) -> 0 | BF140: =IF(N140="znížená",J140,0) -> 0 | BG140: =IF(N140="zákl. prenesená",J140,0) -> 0 | BH140: =IF(N140="zníž. prenesená",J140,0) -> 0 | BI140: =IF(N140="nulová",J140,0) -> 0 | BJ140: 2 | BK140: =ROUND(I140*H140,2) -> 0 | BL140: 64 | BM140: 18
C141: 10 | D141: K | E141: 210203040-01 | F141: Montáž stropného LED svietidla | G141: ks | H141: 14 | J141: =ROUND(I141*H141,2) -> 0 | N141: znížená | P141: =O141*H141 -> 0 | Q141: 0 | R141: =Q141*H141 -> 0 | S141: 0 | T141: =S141*H141 -> 0 | AR141: 64 | AT141: K | AU141: 2 | AY141: ROZPOCET | BE141: =IF(N141="základná",J141,0) -> 0 | BF141: =IF(N141="znížená",J141,0) -> 0 | BG141: =IF(N141="zákl. prenesená",J141,0) -> 0 | BH141: =IF(N141="zníž. prenesená",J141,0) -> 0 | BI141: =IF(N141="nulová",J141,0) -> 0 | BJ141: 2 | BK141: =ROUND(I141*H141,2) -> 0 | BL141: 64 | BM141: 20
C142: 11 | D142: M | E142: 34812000-01 | F142: LED Podhladová svietidlá Professional, DL1 Non-dimmable, 105°, Cutout 150mm, 25W, >80, 2150lm, Ø160mm, 4000K ref. DL125105840-1W | G142: ks | H142: 11 | J142: =ROUND(I142*H142,2) -> 0 | N142: znížená | P142: =O142*H142 -> 0 | Q142: 0 | R142: =Q142*H142 -> 0 | S142: 0 | T142: =S142*H142 -> 0 | AR142: 256 | AT142: M | AU142: 2 | AY142: ROZPOCET | BE142: =IF(N142="základná",J142,0) -> 0 | BF142: =IF(N142="znížená",J142,0) -> 0 | BG142: =IF(N142="zákl. prenesená",J142,0) -> 0 | BH142: =IF(N142="zníž. prenesená",J142,0) -> 0 | BI142: =IF(N142="nulová",J142,0) -> 0 | BJ142: 2 | BK142: =ROUND(I142*H142,2) -> 0 | BL142: 64 | BM142: 22
C143: 12 | D143: M | E143: 34812000-02 | F143: LED Podhladová svietidlá Professional, DL1 Non-dimmable, 100°, Cutout 150mm, 15W, >80, 2150lm, Ø160mm, 4000K ref. DL015100840-1W | G143: ks | H143: 3 | J143: =ROUND(I143*H143,2) -> 0 | N143: znížená | P143: =O143*H143 -> 0 | Q143: 0 | R143: =Q143*H143 -> 0 | S143: 0 | T143: =S143*H143 -> 0 | AR143: 256 | AT143: M | AU143: 2 | AY143: ROZPOCET | BE143: =IF(N143="základná",J143,0) -> 0 | BF143: =IF(N143="znížená",J143,0) -> 0 | BG143: =IF(N143="zákl. prenesená",J143,0) -> 0 | BH143: =IF(N143="zníž. prenesená",J143,0) -> 0 | BI143: =IF(N143="nulová",J143,0) -> 0 | BJ143: 2 | BK143: =ROUND(I143*H143,2) -> 0 | BL143: 64 | BM143: 24
... C145: 14 | D145: M | E145: 34813000-01 | F145: CECSED LED panel 60x60cm UGR<19, Silve, No, 40W, 595x595mm, 100lm/W, 4000K ref. LP606040840-3S | G145: ks | H145: 90 | J145: =ROUND(I145*H145,2) -> 0 | N145: znížená | P145: =O145*H145 -> 0 | Q145: 0 | R145: =Q145*H145 -> 0 | S145: 0 | T145: =S145*H145 -> 0 | AR145: 256 | AT145: M | AU145: 2 | AY145: ROZPOCET | BE145: =IF(N145="základná",J145,0) -> 0 | BF145: =IF(N145="znížená",J145,0) -> 0 | BG145: =IF(N145="zákl. prenesená",J145,0) -> 0 | BH145: =IF(N145="zníž. prenesená",J145,0) -> 0 | BI145: =IF(N145="nulová",J145,0) -> 0 | BJ145: 2 | BK145: =ROUND(I145*H145,2) -> 0 | BL145: 64 | BM145: 28
C146: Poznámka
C147: K správnemu naceneniu výkazu výmer je potrebné naštudovanie PD. Naceniť je potrebné jestvujúci výkaz výmer podľa pokynov tendrového zadávateľa, resp. navrhu zmluvy o dielo. Výkaz výmer je neoddeliteľnou súčasťou celej PD. Materiál výrobkov je definovaný vo VV a zároveň sú položky jednoznačne určené a spárovateľné k výkresovej alebo textovej časti projektovej dokumentácie, ktorá dané materiály, v potrebných prípadoch ešte presnejšie podrobnejšie špecifikuje, upresňuje ci konkretizuje technicky, parametricky alebo referenčným výrobkom. Informácie o materiáloch výrobkov vo výkresovej časti alebo technických správach môžu byť aj výrazne rozsiahlejšie ako je možné uviesť technicky v texte názvu položky vo výkaze výmer, preto je potrebné naštudovanie projektovej dokumentácie a oceňovať výkaz výmer ako celok a neoddeliteňú súčasť projektovej dokumentácie. Výmery položiek presunov hmot PSV vyjadrených mernými jednotkami v percentách % si uchádzač výpĺna sám podla metodiky rozpočtárskych programov napr. Cenkros, ODIS. Dodávateľ si zahrnie do jednotkových cien všetky náklady podla ZoD, vrátane VRN-ov: napr. označenie staveniska, čistenie, opatrenia pre stav. v zimnom období, poistenie, geodet. merania a dokumentáciu, skúšky, vzorky, dielenskú dokumentáciu, vyčistenie všetkých dotknutých plôch od stavebného odpadu.
E148: VP | F148: Práce naviac | J148: =BK148 -> 0 | AT148: D | AU148: 0 | AY148: PN | BK148: =BK149 -> 0
D149: K | J149: =BK149 -> 0 | N149: znížená | AT149: PN | AU149: 1 | AY149: PN | BE149: =IF(N149="základná",J149,0) -> 0 | BF149: =IF(N149="znížená",J149,0) -> 0 | BG149: =IF(N149="zákl. prenesená",J149,0) -> 0 | BH149: =IF(N149="zníž. prenesená",J149,0) -> 0 | BI149: =IF(N149="nulová",J149,0) -> 0 | BJ149: 2 | BK149: =I149*H149 -> 0

Sheet 4.4 - Fotovoltaická elekt...
L2: >> skryté stĺpce << | AT2: {6d690bad-3799-4353-af09-ba733f1c75f3}
AT3: 0
D4: KRYCÍ LIST ROZPOČTU | M4: v --- nižšie sa nachádzajú doplnkové a pomocné údaje k zostavám --- v | AT4: False
D6: Stavba:
E7: ='Rekapitulácia stavby'!K6 -> Zateplenie plniarne nealkoholických nápojov, Dunajská Streda - aktualizácia jún 2023
D8: Objekt:
E9: 4.4 - Fotovoltaická elektráreň
D11: JKSO: | I11: KS:
D12: Miesto: | F12: Dunajská Streda | I12: Dátum: | J12: ='Rekapitulácia stavby'!AN8 -> 8. 6. 2023
D14: Objednávateľ: | I14: IČO:
E15: McCarter, a.s. | I15: IČ DPH:
D17: Zhotoviteľ: | I17: IČO: | J17: ='Rekapitulácia stavby'!AN13 -> Vyplň údaj
E18: ='Rekapitulácia stavby'!E14 -> Vyplň údaj | I18: IČ DPH: | J18: ='Rekapitulácia stavby'!AN14 -> Vyplň údaj
D20: Projektant: | I20: IČO:
E21: Ing.arch. Miroslav Marko M.Arch. | I21: IČ DPH:
D23: Spracovateľ: | I23: IČO:
E24: Rosoft, s.r.o. | I24: IČ DPH:
D26: Poznámka:
D30: Náklady z rozpočtu | J30: =J96 -> 0
D31: Ostatné náklady | J31: =J102 -> 0
D32: Cena bez DPH | J32: =ROUND(J30 + J31, 2) -> 0
F34: Základ dane | I34: Sadzba dane | J34: Výška dane
D35: DPH | E35: základná | F35: =ROUND((ROUND((SUM(BE102:BE109) + SUM(BE129:BE153)), 2) + SUM(BE157)), 2) -> 0 | I35: 0.2 | J35: =ROUND((ROUND(((SUM(BE102:BE109) + SUM(BE129:BE153))*I35), 2) + (SUM(BE157)*I35)), 2) -> 0
E36: znížená | F36: =ROUND((ROUND((SUM(BF102:BF109) + SUM(BF129:BF153)), 2) + SUM(BF157)), 2) -> 0 | I36: 0.2 | J36: =ROUND((ROUND(((SUM(BF102:BF109) + SUM(BF129:BF153))*I36), 2) + (SUM(BF157)*I36)), 2) -> 0
E37: zákl. prenesená | F37: =ROUND((ROUND((SUM(BG102:BG109) + SUM(BG129:BG153)), 2) + SUM(BG157)), 2) -> 0 | I37: 0.2 | J37: =0 -> 0
E38: zníž. prenesená | F38: =ROUND((ROUND((SUM(BH102:BH109) + SUM(BH129:BH153)), 2) + SUM(BH157)), 2) -> 0 | I38: 0.2 | J38: =0 -> 0
E39: nulová | F39: =ROUND((ROUND((SUM(BI102:BI109) + SUM(BI129:BI153)), 2) + SUM(BI157)), 2) -> 0 | I39: 0 | J39: =0 -> 0
D41: Cena s DPH | G41: v | H41: EUR | J41: =SUM(J32:J39) -> 0
D50: Projektant | G50: Spracovateľ
D61: Dátum a podpis: | F61: Pečiatka | G61: Dátum a podpis: | J61: Pečiatka
D65: Objednávateľ | G65: Zhotoviteľ
D76: Dátum a podpis: | F76: Pečiatka | G76: Dátum a podpis: | J76: Pečiatka
C82: REKAPITULÁCIA ROZPOČTU
C84: Stavba:
E85: =E7 -> Zateplenie plniarne nealkoholických nápojov, Dunajská Streda - aktualizácia jún 2023
C86: Objekt:
E87: =E9 -> 4.4 - Fotovoltaická elektráreň
C89: Miesto: | F89: =F12 -> Dunajská Streda | I89: Dátum: | J89: =IF(J12="","",J12) -> 8. 6. 2023
C91: Objednávateľ: | F91: =E15 -> McCarter, a.s. | I91: Projektant: | J91: =E21 -> Ing.arch. Miroslav Marko M.Arch.
C92: Zhotoviteľ: | F92: =IF(E18="","",E18) -> Vyplň údaj | I92: Spracovateľ: | J92: =E24 -> Rosoft, s.r.o.
C94: Kód dielu - Popis | J94: Cena celkom [EUR]
C96: 1) Náklady z rozpočtu | J96: =J129 -> 0 | AU96: -1
D97: M - Práce a dodávky M | J97: =J130 -> 0
D98: 21-M - Elektromontáže | J98: =J131 -> 0
D99: VP - Práce naviac | J99: =J156 -> 0
C102: 2) Ostatné náklady | J102: =ROUND(J103 + J104 + J105 + J106 + J107 + J108,2) -> 0 | N102: DPH
D103: GZS | J103: 0 | N103: znížená | AY103: VRN | BE103: =IF(N103="základná",J103,0) -> 0 | BF103: =IF(N103="znížená",J103,0) -> 0 | BG103: =IF(N103="zákl. prenesená",J103,0) -> 0 | BH103: =IF(N103="zníž. prenesená",J103,0) -> 0 | BI103: =IF(N103="nulová",J103,0) -> 0 | BJ103: 2
D104: Projektové práce | J104: 0 | N104: znížená | AY104: VRN | BE104: =IF(N104="základná",J104,0) -> 0 | BF104: =IF(N104="znížená",J104,0) -> 0 | BG104: =IF(N104="zákl. prenesená",J104,0) -> 0 | BH104: =IF(N104="zníž. prenesená",J104,0) -> 0 | BI104: =IF(N104="nulová",J104,0) -> 0 | BJ104: 2
D105: Sťažené podmienky | J105: 0 | N105: znížená | AY105: VRN | BE105: =IF(N105="základná",J105,0) -> 0 | BF105: =IF(N105="znížená",J105,0) -> 0 | BG105: =IF(N105="zákl. prenesená",J105,0) -> 0 | BH105: =IF(N105="zníž. prenesená",J105,0) -> 0 | BI105: =IF(N105="nulová",J105,0) -> 0 | BJ105: 2
D106: Vplyv prostredia | J106: 0 | N106: znížená | AY106: VRN | BE106: =IF(N106="základná",J106,0) -> 0 | BF106: =IF(N106="znížená",J106,0) -> 0 | BG106: =IF(N106="zákl. prenesená",J106,0) -> 0 | BH106: =IF(N106="zníž. prenesená",J106,0) -> 0 | BI106: =IF(N106="nulová",J106,0) -> 0 | BJ106: 2
D107: Iné VRN | J107: 0 | N107: znížená | AY107: VRN | BE107: =IF(N107="základná",J107,0) -> 0 | BF107: =IF(N107="znížená",J107,0) -> 0 | BG107: =IF(N107="zákl. prenesená",J107,0) -> 0 | BH107: =IF(N107="zníž. prenesená",J107,0) -> 0 | BI107: =IF(N107="nulová",J107,0) -> 0 | BJ107: 2
D108: Kompletačná činnosť | J108: =ROUND(J30*T108,2) -> 0 | N108: znížená | AY108: KOMPLETACNA | BE108: =IF(N108="základná",J108,0) -> 0 | BF108: =IF(N108="znížená",J108,0) -> 0 | BG108: =IF(N108="zákl. prenesená",J108,0) -> 0 | BH108: =IF(N108="zníž. prenesená",J108,0) -> 0 | BI108: =IF(N108="nulová",J108,0) -> 0 | BJ108: 2
C110: Celkové náklady za stavbu 1) + 2) | J110: =ROUND(J96+J102,2) -> 0
C116: ROZPOČET
C118: Stavba:
E119: =E7 -> Zateplenie plniarne nealkoholických nápojov, Dunajská Streda - aktualizácia jún 2023
C120: Objekt:
E121: =E9 -> 4.4 - Fotovoltaická elektráreň
C123: Miesto: | F123: =F12 -> Dunajská Streda | I123: Dátum: | J123: =IF(J12="","",J12) -> 8. 6. 2023
C125: Objednávateľ: | F125: =E15 -> McCarter, a.s. | I125: Projektant: | J125: =E21 -> Ing.arch. Miroslav Marko M.Arch.
C126: Zhotoviteľ: | F126: =IF(E18="","",E18) -> Vyplň údaj | I126: Spracovateľ: | J126: =E24 -> Rosoft, s.r.o.
C128: PČ | D128: Typ | E128: Kód | F128: Popis | G128: MJ | H128: Množstvo | I128: J.cena [EUR] | J128: Cena celkom [EUR] | K128: Cenová sústava | N128: DPH | O128: J. Nh [h] | P128: Nh celkom [h] | Q128: J. hmotnosť [t] | R128: Hmotnosť celkom [t] | S128: J. suť [t] | T128: Suť Celkom [t]
C129: Náklady z rozpočtu | J129: =BK129 -> 0 | P129: =P130+P156 -> 0 | R129: =R130+R156 -> 0 | T129: =T130+T156 -> 0 | AT129: D | AU129: -1 | BK129: =BK130+BK156 -> 0
D130: D | E130: M | F130: Práce a dodávky M | J130: =BK130 -> 0 | P130: =P131 -> 0 | R130: =R131 -> 0 | T130: =T131 -> 0 | AR130: 3 | AT130: D | AU130: 0 | AY130: ROZPOCET | BK130: =BK131 -> 0
D131: D | E131: 21-M | F131: Elektromontáže | J131: =BK131 -> 0 | P131: =SUM(P132:P153) -> 0 | R131: =SUM(R132:R153) -> 0 | T131: =SUM(T132:T153) -> 0 | AR131: 3 | AT131: D | AU131: 1 | AY131: ROZPOCET | BK131: =SUM(BK132:BK153) -> 0
C132: 1 | D132: K | E132: 210010008 | F132: Montáž elektro fve | G132: hod | H132: 48 | J132: =ROUND(I132*H132,2) -> 0 | N132: znížená | P132: =O132*H132 -> 0 | Q132: 0 | R132: =Q132*H132 -> 0 | S132: 0 | T132: =S132*H132 -> 0 | AR132: 64 | AT132: K | AU132: 2 | AY132: ROZPOCET | BE132: =IF(N132="základná",J132,0) -> 0 | BF132: =IF(N132="znížená",J132,0) -> 0 | BG132: =IF(N132="zákl. prenesená",J132,0) -> 0 | BH132: =IF(N132="zníž. prenesená",J132,0) -> 0 | BI132: =IF(N132="nulová",J132,0) -> 0 | BJ132: 2 | BK132: =ROUND(I132*H132,2) -> 0 | BL132: 64 | BM132: 2
C133: 2 | D133: M | E133: 3450726701 | F133: Striedač 3 f. hybridný 10kW, 2xMPPT, On-Grid | G133: ks | H133: 1 | J133: =ROUND(I133*H133,2) -> 0 | N133: znížená | P133: =O133*H133 -> 0 | Q133: 0 | R133: =Q133*H133 -> 0 | S133: 0 | T133: =S133*H133 -> 0 | AR133: 256 | AT133: M | AU133: 2 | AY133: ROZPOCET | BE133: =IF(N133="základná",J133,0) -> 0 | BF133: =IF(N133="znížená",J133,0) -> 0 | BG133: =IF(N133="zákl. prenesená",J133,0) -> 0 | BH133: =IF(N133="zníž. prenesená",J133,0) -> 0 | BI133: =IF(N133="nulová",J133,0) -> 0 | BJ133: 2 | BK133: =ROUND(I133*H133,2) -> 0 | BL133: 64 | BM133: 4
C134: 3 | D134: M | E134: 3450726702 | F134: Skrinka rozvádzača fotovoltaiky 3x12 DIN pozícií | G134: ks | H134: 1 | J134: =ROUND(I134*H134,2) -> 0 | N134: znížená | P134: =O134*H134 -> 0 | Q134: 0 | R134: =Q134*H134 -> 0 | S134: 0 | T134: =S134*H134 -> 0 | AR134: 256 | AT134: M | AU134: 2 | AY134: ROZPOCET | BE134: =IF(N134="základná",J134,0) -> 0 | BF134: =IF(N134="znížená",J134,0) -> 0 | BG134: =IF(N134="zákl. prenesená",J134,0) -> 0 | BH134: =IF(N134="zníž. prenesená",J134,0) -> 0 | BI134: =IF(N134="nulová",J134,0) -> 0 | BJ134: 2 | BK134: =ROUND(I134*H134,2) -> 0 | BL134: 64 | BM134: 6
C135: 4 | D135: M | E135: 3450726705 | F135: Sieťová ochrana UF Guard, 3 fázová, jednostupňová | G135: ks | H135: 1 | J135: =ROUND(I135*H135,2) -> 0 | N135: znížená | P135: =O135*H135 -> 0 | Q135: 0 | R135: =Q135*H135 -> 0 | S135: 0 | T135: =S135*H135 -> 0 | AR135: 256 | AT135: M | AU135: 2 | AY135: ROZPOCET | BE135: =IF(N135="základná",J135,0) -> 0 | BF135: =IF(N135="znížená",J135,0) -> 0 | BG135: =IF(N135="zákl. prenesená",J135,0) -> 0 | BH135: =IF(N135="zníž. prenesená",J135,0) -> 0 | BI135: =IF(N135="nulová",J135,0) -> 0 | BJ135: 2 | BK135: =ROUND(I135*H135,2) -> 0 | BL135: 64 | BM135: 8
C136: 5 | D136: M | E136: 3450726706 | F136: Stykač 3 -pólový, 25-40 | G136: ks | H136: 8 | J136: =ROUND(I136*H136,2) -> 0 | N136: znížená | P136: =O136*H136 -> 0 | Q136: 0 | R136: =Q136*H136 -> 0 | S136: 0 | T136: =S136*H136 -> 0 | AR136: 256 | AT136: M | AU136: 2 | AY136: ROZPOCET | BE136: =IF(N136="základná",J136,0) -> 0 | BF136: =IF(N136="znížená",J136,0) -> 0 | BG136: =IF(N136="zákl. prenesená",J136,0) -> 0 | BH136: =IF(N136="zníž. prenesená",J136,0) -> 0 | BI136: =IF(N136="nulová",J136,0) -> 0 | BJ136: 2 | BK136: =ROUND(I136*H136,2) -> 0 | BL136: 64 | BM136: 10
C137: 6 | D137: M | E137: 3450726707 | F137: Poistka 4A/500V | G137: ks | H137: 3 | J137: =ROUND(I137*H137,2) -> 0 | N137: znížená | P137: =O137*H137 -> 0 | Q137: 0 | R137: =Q137*H137 -> 0 | S137: 0 | T137: =S137*H137 -> 0 | AR137: 256 | AT137: M | AU137: 2 | AY137: ROZPOCET | BE137: =IF(N137="základná",J137,0) -> 0 | BF137: =IF(N137="znížená",J137,0) -> 0 | BG137: =IF(N137="zákl. prenesená",J137,0) -> 0 | BH137: =IF(N137="zníž. prenesená",J137,0) -> 0 | BI137: =IF(N137="nulová",J137,0) -> 0 | BJ137: 2 | BK137: =ROUND(I137*H137,2) -> 0 | BL137: 64 | BM137: 12
C138: 7 | D138: M | E138: 3450726708 | F138: Poistkový odpínač pre valcové poistky, DIN, do 32A | G138: ks | H138: 7 | J138: =ROUND(I138*H138,2) -> 0 | N138: znížená | P138: =O138*H138 -> 0 | Q138: 0 | R138: =Q138*H138 -> 0 | S138: 0 | T138: =S138*H138 -> 0 | AR138: 256 | AT138: M | AU138: 2 | AY138: ROZPOCET | BE138: =IF(N138="základná",J138,0) -> 0 | BF138: =IF(N138="znížená",J138,0) -> 0 | BG138: =IF(N138="zákl. prenesená",J138,0) -> 0 | BH138: =IF(N138="zníž. prenesená",J138,0) -> 0 | BI138: =IF(N138="nulová",J138,0) -> 0 | BJ138: 2 | BK138: =ROUND(I138*H138,2) -> 0 | BL138: 64 | BM138: 14
C139: 8 | D139: M | E139: 3450726709 | F139: istič 16A trieda B, 3-fázový | G139: ks | H139: 1 | J139: =ROUND(I139*H139,2) -> 0 | N139: znížená | P139: =O139*H139 -> 0 | Q139: 0 | R139: =Q139*H139 -> 0 | S139: 0 | T139: =S139*H139 -> 0 | AR139: 256 | AT139: M | AU139: 2 | AY139: ROZPOCET | BE139: =IF(N139="základná",J139,0) -> 0 | BF139: =IF(N139="znížená",J139,0) -> 0 | BG139: =IF(N139="zákl. prenesená",J139,0) -> 0 | BH139: =IF(N139="zníž. prenesená",J139,0) -> 0 | BI139: =IF(N139="nulová",J139,0) -> 0 | BJ139: 2 | BK139: =ROUND(I139*H139,2) -> 0 | BL139: 64 | BM139: 16
C140: 9 | D140: M | E140: 3450726710 | F140: istič 6A trieda B, 1-fázový | G140: ks | H140: 1 | J140: =ROUND(I140*H140,2) -> 0 | N140: znížená | P140: =O140*H140 -> 0 | Q140: 0 | R140: =Q140*H140 -> 0 | S140: 0 | T140: =S140*H140 -> 0 | AR140: 256 | AT140: M | AU140: 2 | AY140: ROZPOCET | BE140: =IF(N140="základná",J140,0) -> 0 | BF140: =IF(N140="znížená",J140,0) -> 0 | BG140: =IF(N140="zákl. prenesená",J140,0) -> 0 | BH140: =IF(N140="zníž. prenesená",J140,0) -> 0 | BI140: =IF(N140="nulová",J140,0) -> 0 | BJ140: 2 | BK140: =ROUND(I140*H140,2) -> 0 | BL140: 64 | BM140: 18
C141: 10 | D141: M | E141: 3450726711 | F141: Poistka 10A/1000V | G141: ks | H141: 4 | J141: =ROUND(I141*H141,2) -> 0 | N141: znížená | P141: =O141*H141 -> 0 | Q141: 0 | R141: =Q141*H141 -> 0 | S141: 0 | T141: =S141*H141 -> 0 | AR141: 256 | AT141: M | AU141: 2 | AY141: ROZPOCET | BE141: =IF(N141="základná",J141,0) -> 0 | BF141: =IF(N141="znížená",J141,0) -> 0 | BG141: =IF(N141="zákl. prenesená",J141,0) -> 0 | BH141: =IF(N141="zníž. prenesená",J141,0) -> 0 | BI141: =IF(N141="nulová",J141,0) -> 0 | BJ141: 2 | BK141: =ROUND(I141*H141,2) -> 0 | BL141: 64 | BM141: 20
C142: 11 | D142: M | E142: 3450726712 | F142: ARCB Box s príslušenstvom | G142: ks | H142: 1 | J142: =ROUND(I142*H142,2) -> 0 | N142: znížená | P142: =O142*H142 -> 0 | Q142: 0 | R142: =Q142*H142 -> 0 | S142: 0 | T142: =S142*H142 -> 0 | AR142: 256 | AT142: M | AU142: 2 | AY142: ROZPOCET | BE142: =IF(N142="základná",J142,0) -> 0 | BF142: =IF(N142="znížená",J142,0) -> 0 | BG142: =IF(N142="zákl. prenesená",J142,0) -> 0 | BH142: =IF(N142="zníž. prenesená",J142,0) -> 0 | BI142: =IF(N142="nulová",J142,0) -> 0 | BJ142: 2 | BK142: =ROUND(I142*H142,2) -> 0 | BL142: 64 | BM142: 22
C143: 12 | D143: M | E143: 3450726713 | F143: Elektromer impulzný 3-fázový s digitálnym výstupom, , Mod BUS | G143: ks | H143: 1 | J143: =ROUND(I143*H143,2) -> 0 | N143: znížená | P143: =O143*H143 -> 0 | Q143: 0 | R143: =Q143*H143 -> 0 | S143: 0 | T143: =S143*H143 -> 0 | AR143: 256 | AT143: M | AU143: 2 | AY143: ROZPOCET | BE143: =IF(N143="základná",J143,0) -> 0 | BF143: =IF(N143="znížená",J143,0) -> 0 | BG143: =IF(N143="zákl. prenesená",J143,0) -> 0 | BH143: =IF(N143="zníž. prenesená",J143,0) -> 0 | BI143: =IF(N143="nulová",J143,0) -> 0 | BJ143: 2 | BK143: =ROUND(I143*H143,2) -> 0 | BL143: 64 | BM143: 24
... C153: 22 | D153: K | E153: 210010010 | F153: Revízia FV systému | G153: ks | H153: 1 | J153: =ROUND(I153*H153,2) -> 0 | N153: znížená | P153: =O153*H153 -> 0 | Q153: 0 | R153: =Q153*H153 -> 0 | S153: 0 | T153: =S153*H153 -> 0 | AR153: 64 | AT153: K | AU153: 2 | AY153: ROZPOCET | BE153: =IF(N153="základná",J153,0) -> 0 | BF153: =IF(N153="znížená",J153,0) -> 0 | BG153: =IF(N153="zákl. prenesená",J153,0) -> 0 | BH153: =IF(N153="zníž. prenesená",J153,0) -> 0 | BI153: =IF(N153="nulová",J153,0) -> 0 | BJ153: 2 | BK153: =ROUND(I153*H153,2) -> 0 | BL153: 64 | BM153: 44
C154: Poznámka
C155: K správnemu naceneniu výkazu výmer je potrebné naštudovanie PD. Naceniť je potrebné jestvujúci výkaz výmer podľa pokynov tendrového zadávateľa, resp. navrhu zmluvy o dielo. Výkaz výmer je neoddeliteľnou súčasťou celej PD. Materiál výrobkov je definovaný vo VV a zároveň sú položky jednoznačne určené a spárovateľné k výkresovej alebo textovej časti projektovej dokumentácie, ktorá dané materiály, v potrebných prípadoch ešte presnejšie podrobnejšie špecifikuje, upresňuje ci konkretizuje technicky, parametricky alebo referenčným výrobkom. Informácie o materiáloch výrobkov vo výkresovej časti alebo technických správach môžu byť aj výrazne rozsiahlejšie ako je možné uviesť technicky v texte názvu položky vo výkaze výmer, preto je potrebné naštudovanie projektovej dokumentácie a oceňovať výkaz výmer ako celok a neoddeliteňú súčasť projektovej dokumentácie. Výmery položiek presunov hmot PSV vyjadrených mernými jednotkami v percentách % si uchádzač výpĺna sám podla metodiky rozpočtárskych programov napr. Cenkros, ODIS. Dodávateľ si zahrnie do jednotkových cien všetky náklady podla ZoD, vrátane VRN-ov: napr. označenie staveniska, čistenie, opatrenia pre stav. v zimnom období, poistenie, geodet. merania a dokumentáciu, skúšky, vzorky, dielenskú dokumentáciu, vyčistenie všetkých dotknutých plôch od stavebného odpadu.
E156: VP | F156: Práce naviac | J156: =BK156 -> 0 | AT156: D | AU156: 0 | AY156: PN | BK156: =BK157 -> 0
D157: K | J157: =BK157 -> 0 | N157: znížená | AT157: PN | AU157: 1 | AY157: PN | BE157: =IF(N157="základná",J157,0) -> 0 | BF157: =IF(N157="znížená",J157,0) -> 0 | BG157: =IF(N157="zákl. prenesená",J157,0) -> 0 | BH157: =IF(N157="zníž. prenesená",J157,0) -> 0 | BI157: =IF(N157="nulová",J157,0) -> 0 | BJ157: 2 | BK157: =I157*H157 -> 0

Sheet 5.1 - 5.1, 5.2, 5.3 - Ost...
L2: >> skryté stĺpce << | AT2: {1cb3509a-cbeb-49cd-bd1d-595f5eea3808}
AT3: 0
D4: KRYCÍ LIST ROZPOČTU | M4: v --- nižšie sa nachádzajú doplnkové a pomocné údaje k zostavám --- v | AT4: False
D6: Stavba:
E7: ='Rekapitulácia stavby'!K6 -> Zateplenie plniarne nealkoholických nápojov, Dunajská Streda - aktualizácia jún 2023
D8: Objekt:
E9: 5.1 - 5.1, 5.2, 5.3 - Ostatné stavebné úpravy
D11: JKSO: | I11: KS:
D12: Miesto: | F12: Dunajská Streda | I12: Dátum: | J12: ='Rekapitulácia stavby'!AN8 -> 8. 6. 2023
D14: Objednávateľ: | I14: IČO:
E15: McCarter, a.s. | I15: IČ DPH:
D17: Zhotoviteľ: | I17: IČO: | J17: ='Rekapitulácia stavby'!AN13 -> Vyplň údaj
E18: ='Rekapitulácia stavby'!E14 -> Vyplň údaj | I18: IČ DPH: | J18: ='Rekapitulácia stavby'!AN14 -> Vyplň údaj
D20: Projektant: | I20: IČO:
E21: Ing.arch. Miroslav Marko M.Arch. | I21: IČ DPH:
D23: Spracovateľ: | I23: IČO:
E24: Rosoft, s.r.o. | I24: IČ DPH:
D26: Poznámka:
D30: Náklady z rozpočtu | J30: =J96 -> 0
D31: Ostatné náklady | J31: =J107 -> 0
D32: Cena bez DPH | J32: =ROUND(J30 + J31, 2) -> 0
F34: Základ dane | I34: Sadzba dane | J34: Výška dane
D35: DPH | E35: základná | F35: =ROUND((ROUND((SUM(BE107:BE114) + SUM(BE134:BE172)), 2) + SUM(BE176)), 2) -> 0 | I35: 0.2 | J35: =ROUND((ROUND(((SUM(BE107:BE114) + SUM(BE134:BE172))*I35), 2) + (SUM(BE176)*I35)), 2) -> 0
E36: znížená | F36: =ROUND((ROUND((SUM(BF107:BF114) + SUM(BF134:BF172)), 2) + SUM(BF176)), 2) -> 0 | I36: 0.2 | J36: =ROUND((ROUND(((SUM(BF107:BF114) + SUM(BF134:BF172))*I36), 2) + (SUM(BF176)*I36)), 2) -> 0
E37: zákl. prenesená | F37: =ROUND((ROUND((SUM(BG107:BG114) + SUM(BG134:BG172)), 2) + SUM(BG176)), 2) -> 0 | I37: 0.2 | J37: =0 -> 0
E38: zníž. prenesená | F38: =ROUND((ROUND((SUM(BH107:BH114) + SUM(BH134:BH172)), 2) + SUM(BH176)), 2) -> 0 | I38: 0.2 | J38: =0 -> 0
E39: nulová | F39: =ROUND((ROUND((SUM(BI107:BI114) + SUM(BI134:BI172)), 2) + SUM(BI176)), 2) -> 0 | I39: 0 | J39: =0 -> 0
D41: Cena s DPH | G41: v | H41: EUR | J41: =SUM(J32:J39) -> 0
D50: Projektant | G50: Spracovateľ
D61: Dátum a podpis: | F61: Pečiatka | G61: Dátum a podpis: | J61: Pečiatka
D65: Objednávateľ | G65: Zhotoviteľ
D76: Dátum a podpis: | F76: Pečiatka | G76: Dátum a podpis: | J76: Pečiatka
C82: REKAPITULÁCIA ROZPOČTU
C84: Stavba:
E85: =E7 -> Zateplenie plniarne nealkoholických nápojov, Dunajská Streda - aktualizácia jún 2023
C86: Objekt:
E87: =E9 -> 5.1 - 5.1, 5.2, 5.3 - Ostatné stavebné úpravy
C89: Miesto: | F89: =F12 -> Dunajská Streda | I89: Dátum: | J89: =IF(J12="","",J12) -> 8. 6. 2023
C91: Objednávateľ: | F91: =E15 -> McCarter, a.s. | I91: Projektant: | J91: =E21 -> Ing.arch. Miroslav Marko M.Arch.
C92: Zhotoviteľ: | F92: =IF(E18="","",E18) -> Vyplň údaj | I92: Spracovateľ: | J92: =E24 -> Rosoft, s.r.o.
C94: Kód dielu - Popis | J94: Cena celkom [EUR]
C96: 1) Náklady z rozpočtu | J96: =J134 -> 0 | AU96: -1
D97: HSV - Práce a dodávky HSV | J97: =J135 -> 0
D98: 9 - Ostatné konštrukcie a práce-búranie | J98: =J136 -> 0
D99: PSV - Práce a dodávky PSV | J99: =J144 -> 0
D100: 712 - Izolácie striech, povlakové krytiny | J100: =J145 -> 0
D101: 721 - Zdravotechnika - vnútorná kanalizácia | J101: =J150 -> 0
D102: 764 - Konštrukcie klampiarske | J102: =J157 -> 0
D103: 767 - Konštrukcie doplnkové kovové | J103: =J170 -> 0
D104: VP - Práce naviac | J104: =J175 -> 0
C107: 2) Ostatné náklady | J107: =ROUND(J108 + J109 + J110 + J111 + J112 + J113,2) -> 0 | N107: DPH
D108: GZS | J108: 0 | N108: znížená | AY108: VRN | BE108: =IF(N108="základná",J108,0) -> 0 | BF108: =IF(N108="znížená",J108,0) -> 0 | BG108: =IF(N108="zákl. prenesená",J108,0) -> 0 | BH108: =IF(N108="zníž. prenesená",J108,0) -> 0 | BI108: =IF(N108="nulová",J108,0) -> 0 | BJ108: 2
D109: Projektové práce | J109: 0 | N109: znížená | AY109: VRN | BE109: =IF(N109="základná",J109,0) -> 0 | BF109: =IF(N109="znížená",J109,0) -> 0 | BG109: =IF(N109="zákl. prenesená",J109,0) -> 0 | BH109: =IF(N109="zníž. prenesená",J109,0) -> 0 | BI109: =IF(N109="nulová",J109,0) -> 0 | BJ109: 2
D110: Sťažené podmienky | J110: 0 | N110: znížená | AY110: VRN | BE110: =IF(N110="základná",J110,0) -> 0 | BF110: =IF(N110="znížená",J110,0) -> 0 | BG110: =IF(N110="zákl. prenesená",J110,0) -> 0 | BH110: =IF(N110="zníž. prenesená",J110,0) -> 0 | BI110: =IF(N110="nulová",J110,0) -> 0 | BJ110: 2
D111: Vplyv prostredia | J111: 0 | N111: znížená | AY111: VRN | BE111: =IF(N111="základná",J111,0) -> 0 | BF111: =IF(N111="znížená",J111,0) -> 0 | BG111: =IF(N111="zákl. prenesená",J111,0) -> 0 | BH111: =IF(N111="zníž. prenesená",J111,0) -> 0 | BI111: =IF(N111="nulová",J111,0) -> 0 | BJ111: 2
D112: Iné VRN | J112: 0 | N112: znížená | AY112: VRN | BE112: =IF(N112="základná",J112,0) -> 0 | BF112: =IF(N112="znížená",J112,0) -> 0 | BG112: =IF(N112="zákl. prenesená",J112,0) -> 0 | BH112: =IF(N112="zníž. prenesená",J112,0) -> 0 | BI112: =IF(N112="nulová",J112,0) -> 0 | BJ112: 2
D113: Kompletačná činnosť | J113: =ROUND(J30*T113,2) -> 0 | N113: znížená | AY113: KOMPLETACNA | BE113: =IF(N113="základná",J113,0) -> 0 | BF113: =IF(N113="znížená",J113,0) -> 0 | BG113: =IF(N113="zákl. prenesená",J113,0) -> 0 | BH113: =IF(N113="zníž. prenesená",J113,0) -> 0 | BI113: =IF(N113="nulová",J113,0) -> 0 | BJ113: 2
C115: Celkové náklady za stavbu 1) + 2) | J115: =ROUND(J96+J107,2) -> 0
C121: ROZPOČET
C123: Stavba:
E124: =E7 -> Zateplenie plniarne nealkoholických nápojov, Dunajská Streda - aktualizácia jún 2023
C125: Objekt:
E126: =E9 -> 5.1 - 5.1, 5.2, 5.3 - Ostatné stavebné úpravy
C128: Miesto: | F128: =F12 -> Dunajská Streda | I128: Dátum: | J128: =IF(J12="","",J12) -> 8. 6. 2023
C130: Objednávateľ: | F130: =E15 -> McCarter, a.s. | I130: Projektant: | J130: =E21 -> Ing.arch. Miroslav Marko M.Arch.
C131: Zhotoviteľ: | F131: =IF(E18="","",E18) -> Vyplň údaj | I131: Spracovateľ: | J131: =E24 -> Rosoft, s.r.o.
C133: PČ | D133: Typ | E133: Kód | F133: Popis | G133: MJ | H133: Množstvo | I133: J.cena [EUR] | J133: Cena celkom [EUR] | K133: Cenová sústava | N133: DPH | O133: J. Nh [h] | P133: Nh celkom [h] | Q133: J. hmotnosť [t] | R133: Hmotnosť celkom [t] | S133: J. suť [t] | T133: Suť Celkom [t]
C134: Náklady z rozpočtu | J134: =BK134 -> 0 | P134: =P135+P144+P175 -> 0 | R134: =R135+R144+R175 -> 0 | T134: =T135+T144+T175 -> 0 | AT134: D | AU134: -1 | BK134: =BK135+BK144+BK175 -> 0
D135: D | E135: HSV | F135: Práce a dodávky HSV | J135: =BK135 -> 0 | P135: =P136 -> 0 | R135: =R136 -> 0 | T135: =T136 -> 0 | AR135: 1 | AT135: D | AU135: 0 | AY135: ROZPOCET | BK135: =BK136 -> 0
D136: D | E136: 9 | F136: Ostatné konštrukcie a práce-búranie | J136: =BK136 -> 0 | P136: =SUM(P137:P143) -> 0 | R136: =SUM(R137:R143) -> 0 | T136: =SUM(T137:T143) -> 0 | AR136: 1 | AT136: D | AU136: 1 | AY136: ROZPOCET | BK136: =SUM(BK137:BK143) -> 0
C137: 1 | D137: K | E137: 961043111 | F137: Búranie základov z betónu prostého alebo preloženého kameňom, -2,20000t | G137: m3 | H137: 1.14 | J137: =ROUND(I137*H137,2) -> 0 | N137: znížená | P137: =O137*H137 -> 0 | Q137: 0 | R137: =Q137*H137 -> 0 | S137: 0 | T137: =S137*H137 -> 0 | AR137: 4 | AT137: K | AU137: 2 | AY137: ROZPOCET | BE137: =IF(N137="základná",J137,0) -> 0 | BF137: =IF(N137="znížená",J137,0) -> 0 | BG137: =IF(N137="zákl. prenesená",J137,0) -> 0 | BH137: =IF(N137="zníž. prenesená",J137,0) -> 0 | BI137: =IF(N137="nulová",J137,0) -> 0 | BJ137: 2 | BK137: =ROUND(I137*H137,2) -> 0 | BL137: 4 | BM137: 2
C138: 2 | D138: K | E138: 979011111 | F138: Zvislá doprava sutiny a vybúraných hmôt za prvé podlažie nad alebo pod základným podlažím | G138: t | H138: 15.78 | J138: =ROUND(I138*H138,2) -> 0 | N138: znížená | P138: =O138*H138 -> 0 | Q138: 0 | R138: =Q138*H138 -> 0 | S138: 0 | T138: =S138*H138 -> 0 | AR138: 4 | AT138: K | AU138: 2 | AY138: ROZPOCET | BE138: =IF(N138="základná",J138,0) -> 0 | BF138: =IF(N138="znížená",J138,0) -> 0 | BG138: =IF(N138="zákl. prenesená",J138,0) -> 0 | BH138: =IF(N138="zníž. prenesená",J138,0) -> 0 | BI138: =IF(N138="nulová",J138,0) -> 0 | BJ138: 2 | BK138: =ROUND(I138*H138,2) -> 0 | BL138: 4 | BM138: 4
C139: 3 | D139: K | E139: 979081111 | F139: Odvoz sutiny a vybúraných hmôt na skládku do 1 km | G139: t | H139: 15.78 | J139: =ROUND(I139*H139,2) -> 0 | N139: znížená | P139: =O139*H139 -> 0 | Q139: 0 | R139: =Q139*H139 -> 0 | S139: 0 | T139: =S139*H139 -> 0 | AR139: 4 | AT139: K | AU139: 2 | AY139: ROZPOCET | BE139: =IF(N139="základná",J139,0) -> 0 | BF139: =IF(N139="znížená",J139,0) -> 0 | BG139: =IF(N139="zákl. prenesená",J139,0) -> 0 | BH139: =IF(N139="zníž. prenesená",J139,0) -> 0 | BI139: =IF(N139="nulová",J139,0) -> 0 | BJ139: 2 | BK139: =ROUND(I139*H139,2) -> 0 | BL139: 4 | BM139: 6
C140: 4 | D140: K | E140: 979081121 | F140: Odvoz sutiny a vybúraných hmôt na skládku za každý ďalší 1 km | G140: t | H140: 220.92 | J140: =ROUND(I140*H140,2) -> 0 | N140: znížená | P140: =O140*H140 -> 0 | Q140: 0 | R140: =Q140*H140 -> 0 | S140: 0 | T140: =S140*H140 -> 0 | AR140: 4 | AT140: K | AU140: 2 | AY140: ROZPOCET | BE140: =IF(N140="základná",J140,0) -> 0 | BF140: =IF(N140="znížená",J140,0) -> 0 | BG140: =IF(N140="zákl. prenesená",J140,0) -> 0 | BH140: =IF(N140="zníž. prenesená",J140,0) -> 0 | BI140: =IF(N140="nulová",J140,0) -> 0 | BJ140: 2 | BK140: =ROUND(I140*H140,2) -> 0 | BL140: 4 | BM140: 8
C141: 5 | D141: K | E141: 979082111 | F141: Vnútrostavenisková doprava sutiny a vybúraných hmôt do 10 m | G141: t | H141: 15.78 | J141: =ROUND(I141*H141,2) -> 0 | N141: znížená | P141: =O141*H141 -> 0 | Q141: 0 | R141: =Q141*H141 -> 0 | S141: 0 | T141: =S141*H141 -> 0 | AR141: 4 | AT141: K | AU141: 2 | AY141: ROZPOCET | BE141: =IF(N141="základná",J141,0) -> 0 | BF141: =IF(N141="znížená",J141,0) -> 0 | BG141: =IF(N141="zákl. prenesená",J141,0) -> 0 | BH141: =IF(N141="zníž. prenesená",J141,0) -> 0 | BI141: =IF(N141="nulová",J141,0) -> 0 | BJ141: 2 | BK141: =ROUND(I141*H141,2) -> 0 | BL141: 4 | BM141: 10
C142: 6 | D142: K | E142: 979082121 | F142: Vnútrostavenisková doprava sutiny a vybúraných hmôt za každých ďalších 5 m | G142: t | H142: 378.72 | J142: =ROUND(I142*H142,2) -> 0 | N142: znížená | P142: =O142*H142 -> 0 | Q142: 0 | R142: =Q142*H142 -> 0 | S142: 0 | T142: =S142*H142 -> 0 | AR142: 4 | AT142: K | AU142: 2 | AY142: ROZPOCET | BE142: =IF(N142="základná",J142,0) -> 0 | BF142: =IF(N142="znížená",J142,0) -> 0 | BG142: =IF(N142="zákl. prenesená",J142,0) -> 0 | BH142: =IF(N142="zníž. prenesená",J142,0) -> 0 | BI142: =IF(N142="nulová",J142,0) -> 0 | BJ142: 2 | BK142: =ROUND(I142*H142,2) -> 0 | BL142: 4 | BM142: 12
C143: 7 | D143: K | E143: 979089012 | F143: Poplatok za skladovanie - betón, tehly, dlaždice (17 01 ), ostatné | G143: t | H143: 15.78 | J143: =ROUND(I143*H143,2) -> 0 | N143: znížená | P143: =O143*H143 -> 0 | Q143: 0 | R143: =Q143*H143 -> 0 | S143: 0 | T143: =S143*H143 -> 0 | AR143: 4 | AT143: K | AU143: 2 | AY143: ROZPOCET | BE143: =IF(N143="základná",J143,0) -> 0 | BF143: =IF(N143="znížená",J143,0) -> 0 | BG143: =IF(N143="zákl. prenesená",J143,0) -> 0 | BH143: =IF(N143="zníž. prenesená",J143,0) -> 0 | BI143: =IF(N143="nulová",J143,0) -> 0 | BJ143: 2 | BK143: =ROUND(I143*H143,2) -> 0 | BL143: 4 | BM143: 14
D144: D | E144: PSV | F144: Práce a dodávky PSV | J144: =BK144 -> 0 | P144: =P145+P150+P157+P170 -> 0 | R144: =R145+R150+R157+R170 -> 0 | T144: =T145+T150+T157+T170 -> 0 | AR144: 2 | AT144: D | AU144: 0 | AY144: ROZPOCET | BK144: =BK145+BK150+BK157+BK170 -> 0
D145: D | E145: 712 | F145: Izolácie striech, povlakové krytiny | J145: =BK145 -> 0 | P145: =SUM(P146:P149) -> 0 | R145: =SUM(R146:R149) -> 0 | T145: =SUM(T146:T149) -> 0 | AR145: 2 | AT145: D | AU145: 1 | AY145: ROZPOCET | BK145: =SUM(BK146:BK149) -> 0
C146: 8 | D146: K | E146: 712991030 | F146: Montáž podkladnej konštrukcie z OSB dosiek na atike šírky 311 - 410 mm pod klampiarske konštrukcie | G146: m | H146: 72.96 | J146: =ROUND(I146*H146,2) -> 0 | N146: znížená | P146: =O146*H146 -> 0 | Q146: 0 | R146: =Q146*H146 -> 0 | S146: 0 | T146: =S146*H146 -> 0 | AR146: 16 | AT146: K | AU146: 2 | AY146: ROZPOCET | BE146: =IF(N146="základná",J146,0) -> 0 | BF146: =IF(N146="znížená",J146,0) -> 0 | BG146: =IF(N146="zákl. prenesená",J146,0) -> 0 | BH146: =IF(N146="zníž. prenesená",J146,0) -> 0 | BI146: =IF(N146="nulová",J146,0) -> 0 | BJ146: 2 | BK146: =ROUND(I146*H146,2) -> 0 | BL146: 16 | BM146: 16
C147: 9 | D147: K | E147: 712991040 | F147: Montáž podkladnej konštrukcie z OSB dosiek atike šírky 411 - 620 mm pod klampiarske konštrukcie | G147: m | H147: 108 | J147: =ROUND(I147*H147,2) -> 0 | N147: znížená | P147: =O147*H147 -> 0 | Q147: 0 | R147: =Q147*H147 -> 0 | S147: 0 | T147: =S147*H147 -> 0 | AR147: 16 | AT147: K | AU147: 2 | AY147: ROZPOCET | BE147: =IF(N147="základná",J147,0) -> 0 | BF147: =IF(N147="znížená",J147,0) -> 0 | BG147: =IF(N147="zákl. prenesená",J147,0) -> 0 | BH147: =IF(N147="zníž. prenesená",J147,0) -> 0 | BI147: =IF(N147="nulová",J147,0) -> 0 | BJ147: 2 | BK147: =ROUND(I147*H147,2) -> 0 | BL147: 16 | BM147: 18
C148: 10 | D148: M | E148: 607260000600 | F148: Doska OSB 3 Superfinish ECO P+D nebrúsené hrxlxš 15x2500x1250 mm | G148: m2 | H148: 100.114 | J148: =ROUND(I148*H148,2) -> 0 | N148: znížená | P148: =O148*H148 -> 0 | Q148: 0 | R148: =Q148*H148 -> 0 | S148: 0 | T148: =S148*H148 -> 0 | AR148: 32 | AT148: M | AU148: 2 | AY148: ROZPOCET | BE148: =IF(N148="základná",J148,0) -> 0 | BF148: =IF(N148="znížená",J148,0) -> 0 | BG148: =IF(N148="zákl. prenesená",J148,0) -> 0 | BH148: =IF(N148="zníž. prenesená",J148,0) -> 0 | BI148: =IF(N148="nulová",J148,0) -> 0 | BJ148: 2 | BK148: =ROUND(I148*H148,2) -> 0 | BL148: 16 | BM148: 20
C149: 11 | D149: K | E149: 998712202 | F149: Presun hmôt pre izoláciu povlakovej krytiny v objektoch výšky nad 6 do 12 m | G149: % | J149: =ROUND(I149*H149,2) -> 0 | N149: znížená | P149: =O149*H149 -> 0 | Q149: 0 | R149: =Q149*H149 -> 0 | S149: 0 | T149: =S149*H149 -> 0 | AR149: 16 | AT149: K | AU149: 2 | AY149: ROZPOCET | BE149: =IF(N149="základná",J149,0) -> 0 | BF149: =IF(N149="znížená",J149,0) -> 0 | BG149: =IF(N149="zákl. prenesená",J149,0) -> 0 | BH149: =IF(N149="zníž. prenesená",J149,0) -> 0 | BI149: =IF(N149="nulová",J149,0) -> 0 | BJ149: 2 | BK149: =ROUND(I149*H149,2) -> 0 | BL149: 16 | BM149: 22
D150: D | E150: 721 | F150: Zdravotechnika - vnútorná kanalizácia | J150: =BK150 -> 0 | P150: =SUM(P151:P156) -> 0 | R150: =SUM(R151:R156) -> 0 | T150: =SUM(T151:T156) -> 0 | AR150: 2 | AT150: D | AU150: 1 | AY150: ROZPOCET | BK150: =SUM(BK151:BK156) -> 0
C151: 12 | D151: K | E151: 721110819 | F151: Demontáž potrubia z kameninových rúr normálnych a kyselinovzdorných nad 300 do DN 400, -0,09230t | G151: m | H151: 86.4 | J151: =ROUND(I151*H151,2) -> 0 | N151: znížená | P151: =O151*H151 -> 0 | Q151: 0 | R151: =Q151*H151 -> 0 | S151: 0 | T151: =S151*H151 -> 0 | AR151: 16 | AT151: K | AU151: 2 | AY151: ROZPOCET | BE151: =IF(N151="základná",J151,0) -> 0 | BF151: =IF(N151="znížená",J151,0) -> 0 | BG151: =IF(N151="zákl. prenesená",J151,0) -> 0 | BH151: =IF(N151="zníž. prenesená",J151,0) -> 0 | BI151: =IF(N151="nulová",J151,0) -> 0 | BJ151: 2 | BK151: =ROUND(I151*H151,2) -> 0 | BL151: 16 | BM151: 24
C152: 13 | D152: K | E152: 721172112-01 | F152: D+M Potrubie z PVC pre dažďové zvody DN 300 opatrené kaučukovou izoláciou hr. 50 mm vč. príslušenstva a napojenia na jestvuj. potrubie | G152: m | H152: 84 | J152: =ROUND(I152*H152,2) -> 0 | N152: znížená | P152: =O152*H152 -> 0 | Q152: 0 | R152: =Q152*H152 -> 0 | S152: 0 | T152: =S152*H152 -> 0 | AR152: 16 | AT152: K | AU152: 2 | AY152: ROZPOCET | BE152: =IF(N152="základná",J152,0) -> 0 | BF152: =IF(N152="znížená",J152,0) -> 0 | BG152: =IF(N152="zákl. prenesená",J152,0) -> 0 | BH152: =IF(N152="zníž. prenesená",J152,0) -> 0 | BI152: =IF(N152="nulová",J152,0) -> 0 | BJ152: 2 | BK152: =ROUND(I152*H152,2) -> 0 | BL152: 16 | BM152: 26
C153: 14 | D153: K | E153: 721230103-01 | F153: D+M strešného vtoku pre mPVC izolácie DN 150 vč. kompletného príslušenstva | G153: ks | H153: 12 | J153: =ROUND(I153*H153,2) -> 0 | N153: znížená | P153: =O153*H153 -> 0 | Q153: 0 | R153: =Q153*H153 -> 0 | S153: 0 | T153: =S153*H153 -> 0 | AR153: 16 | AT153: K | AU153: 2 | AY153: ROZPOCET | BE153: =IF(N153="základná",J153,0) -> 0 | BF153: =IF(N153="znížená",J153,0) -> 0 | BG153: =IF(N153="zákl. prenesená",J153,0) -> 0 | BH153: =IF(N153="zníž. prenesená",J153,0) -> 0 | BI153: =IF(N153="nulová",J153,0) -> 0 | BJ153: 2 | BK153: =ROUND(I153*H153,2) -> 0 | BL153: 16 | BM153: 28
C154: 15 | D154: K | E154: 721242120 | F154: Lapač strešných splavenín plastový univerzálny priamy 300x155/110 | G154: ks | H154: 16 | J154: =ROUND(I154*H154,2) -> 0 | N154: znížená | P154: =O154*H154 -> 0 | Q154: 0 | R154: =Q154*H154 -> 0 | S154: 0 | T154: =S154*H154 -> 0 | AR154: 16 | AT154: K | AU154: 2 | AY154: ROZPOCET | BE154: =IF(N154="základná",J154,0) -> 0 | BF154: =IF(N154="znížená",J154,0) -> 0 | BG154: =IF(N154="zákl. prenesená",J154,0) -> 0 | BH154: =IF(N154="zníž. prenesená",J154,0) -> 0 | BI154: =IF(N154="nulová",J154,0) -> 0 | BJ154: 2 | BK154: =ROUND(I154*H154,2) -> 0 | BL154: 16 | BM154: 30
C155: 16 | D155: K | E155: 721290113 | F155: Ostatné - skúška tesnosti kanalizácie v objektoch vodou DN 250 alebo DN 300 | G155: m | H155: 84 | J155: =ROUND(I155*H155,2) -> 0 | N155: znížená | P155: =O155*H155 -> 0 | Q155: 0 | R155: =Q155*H155 -> 0 | S155: 0 | T155: =S155*H155 -> 0 | AR155: 16 | AT155: K | AU155: 2 | AY155: ROZPOCET | BE155: =IF(N155="základná",J155,0) -> 0 | BF155: =IF(N155="znížená",J155,0) -> 0 | BG155: =IF(N155="zákl. prenesená",J155,0) -> 0 | BH155: =IF(N155="zníž. prenesená",J155,0) -> 0 | BI155: =IF(N155="nulová",J155,0) -> 0 | BJ155: 2 | BK155: =ROUND(I155*H155,2) -> 0 | BL155: 16 | BM155: 32
C156: 17 | D156: K | E156: 998721202 | F156: Presun hmôt pre vnútornú kanalizáciu v objektoch výšky nad 6 do 12 m | G156: % | J156: =ROUND(I156*H156,2) -> 0 | N156: znížená | P156: =O156*H156 -> 0 | Q156: 0 | R156: =Q156*H156 -> 0 | S156: 0 | T156: =S156*H156 -> 0 | AR156: 16 | AT156: K | AU156: 2 | AY156: ROZPOCET | BE156: =IF(N156="základná",J156,0) -> 0 | BF156: =IF(N156="znížená",J156,0) -> 0 | BG156: =IF(N156="zákl. prenesená",J156,0) -> 0 | BH156: =IF(N156="zníž. prenesená",J156,0) -> 0 | BI156: =IF(N156="nulová",J156,0) -> 0 | BJ156: 2 | BK156: =ROUND(I156*H156,2) -> 0 | BL156: 16 | BM156: 34
D157: D | E157: 764 | F157: Konštrukcie klampiarske | J157: =BK157 -> 0 | P157: =SUM(P158:P169) -> 0 | R157: =SUM(R158:R169) -> 0 | T157: =SUM(T158:T169) -> 0 | AR157: 2 | AT157: D | AU157: 1 | AY157: ROZPOCET | BK157: =SUM(BK158:BK169) -> 0
C158: 18 | D158: K | E158: 764351810 | F158: Demontáž žľabov pododkvap. štvorhranných rovných, oblúkových, do 30° rš 250 a 330 mm, -0,00347t | G158: m | H158: 375.5 | J158: =ROUND(I158*H158,2) -> 0 | N158: znížená | P158: =O158*H158 -> 0 | Q158: 0 | R158: =Q158*H158 -> 0 | S158: 0 | T158: =S158*H158 -> 0 | AR158: 16 | AT158: K | AU158: 2 | AY158: ROZPOCET | BE158: =IF(N158="základná",J158,0) -> 0 | BF158: =IF(N158="znížená",J158,0) -> 0 | BG158: =IF(N158="zákl. prenesená",J158,0) -> 0 | BH158: =IF(N158="zníž. prenesená",J158,0) -> 0 | BI158: =IF(N158="nulová",J158,0) -> 0 | BJ158: 2 | BK158: =ROUND(I158*H158,2) -> 0 | BL158: 16 | BM158: 36
C159: 19 | D159: K | E159: 764353202-01 | F159: Žľaby z pozinkovaného PZ plechu (pozink farbený), nadrímsové, štvorhranné, uložené v hákoch r.š. 600 mm | G159: m | H159: 375.62 | J159: =ROUND(I159*H159,2) -> 0 | N159: znížená | P159: =O159*H159 -> 0 | Q159: 0 | R159: =Q159*H159 -> 0 | S159: 0 | T159: =S159*H159 -> 0 | AR159: 16 | AT159: K | AU159: 2 | AY159: ROZPOCET | BE159: =IF(N159="základná",J159,0) -> 0 | BF159: =IF(N159="znížená",J159,0) -> 0 | BG159: =IF(N159="zákl. prenesená",J159,0) -> 0 | BH159: =IF(N159="zníž. prenesená",J159,0) -> 0 | BI159: =IF(N159="nulová",J159,0) -> 0 | BJ159: 2 | BK159: =ROUND(I159*H159,2) -> 0 | BL159: 16 | BM159: 38
C160: 20 | D160: K | E160: 764357801 | F160: Demontáž žľabov medzistrešných a zaatikových rš 1100 mm, -0,00820t | G160: m | H160: 374 | J160: =ROUND(I160*H160,2) -> 0 | N160: znížená | P160: =O160*H160 -> 0 | Q160: 0 | R160: =Q160*H160 -> 0 | S160: 0 | T160: =S160*H160 -> 0 | AR160: 16 | AT160: K | AU160: 2 | AY160: ROZPOCET | BE160: =IF(N160="základná",J160,0) -> 0 | BF160: =IF(N160="znížená",J160,0) -> 0 | BG160: =IF(N160="zákl. prenesená",J160,0) -> 0 | BH160: =IF(N160="zníž. prenesená",J160,0) -> 0 | BI160: =IF(N160="nulová",J160,0) -> 0 | BJ160: 2 | BK160: =ROUND(I160*H160,2) -> 0 | BL160: 16 | BM160: 40
C161: 21 | D161: K | E161: 764359231-01 | F161: Systémové dažďové chrliče 150/150 DN 150 z pozinkovaného Pz plechu (pozink farebný) | G161: ks | H161: 16 | J161: =ROUND(I161*H161,2) -> 0 | N161: znížená | P161: =O161*H161 -> 0 | Q161: 0 | R161: =Q161*H161 -> 0 | S161: 0 | T161: =S161*H161 -> 0 | AR161: 16 | AT161: K | AU161: 2 | AY161: ROZPOCET | BE161: =IF(N161="základná",J161,0) -> 0 | BF161: =IF(N161="znížená",J161,0) -> 0 | BG161: =IF(N161="zákl. prenesená",J161,0) -> 0 | BH161: =IF(N161="zníž. prenesená",J161,0) -> 0 | BI161: =IF(N161="nulová",J161,0) -> 0 | BJ161: 2 | BK161: =ROUND(I161*H161,2) -> 0 | BL161: 16 | BM161: 42
C162: 22 | D162: K | E162: 764359820 | F162: Demontáž kotlíka oválneho a štvorhranného, so sklonom žľabu do 30st., -0,00320t | G162: ks | H162: 16 | J162: =ROUND(I162*H162,2) -> 0 | N162: znížená | P162: =O162*H162 -> 0 | Q162: 0 | R162: =Q162*H162 -> 0 | S162: 0 | T162: =S162*H162 -> 0 | AR162: 16 | AT162: K | AU162: 2 | AY162: ROZPOCET | BE162: =IF(N162="základná",J162,0) -> 0 | BF162: =IF(N162="znížená",J162,0) -> 0 | BG162: =IF(N162="zákl. prenesená",J162,0) -> 0 | BH162: =IF(N162="zníž. prenesená",J162,0) -> 0 | BI162: =IF(N162="nulová",J162,0) -> 0 | BJ162: 2 | BK162: =ROUND(I162*H162,2) -> 0 | BL162: 16 | BM162: 44
C163: 23 | D163: K | E163: 764430810 | F163: Demontáž oplechovania múrov a nadmuroviek rš do 250 mm, -0,00142t | G163: m | H163: 72 | J163: =ROUND(I163*H163,2) -> 0 | N163: znížená | P163: =O163*H163 -> 0 | Q163: 0 | R163: =Q163*H163 -> 0 | S163: 0 | T163: =S163*H163 -> 0 | AR163: 16 | AT163: K | AU163: 2 | AY163: ROZPOCET | BE163: =IF(N163="základná",J163,0) -> 0 | BF163: =IF(N163="znížená",J163,0) -> 0 | BG163: =IF(N163="zákl. prenesená",J163,0) -> 0 | BH163: =IF(N163="zníž. prenesená",J163,0) -> 0 | BI163: =IF(N163="nulová",J163,0) -> 0 | BJ163: 2 | BK163: =ROUND(I163*H163,2) -> 0 | BL163: 16 | BM163: 46
C164: 24 | D164: K | E164: 764430850 | F164: Demontáž oplechovania múrov a nadmuroviek rš 600 mm, -0,00337t | G164: m | H164: 108 | J164: =ROUND(I164*H164,2) -> 0 | N164: znížená | P164: =O164*H164 -> 0 | Q164: 0 | R164: =Q164*H164 -> 0 | S164: 0 | T164: =S164*H164 -> 0 | AR164: 16 | AT164: K | AU164: 2 | AY164: ROZPOCET | BE164: =IF(N164="základná",J164,0) -> 0 | BF164: =IF(N164="znížená",J164,0) -> 0 | BG164: =IF(N164="zákl. prenesená",J164,0) -> 0 | BH164: =IF(N164="zníž. prenesená",J164,0) -> 0 | BI164: =IF(N164="nulová",J164,0) -> 0 | BJ164: 2 | BK164: =ROUND(I164*H164,2) -> 0 | BL164: 16 | BM164: 48
C165: 25 | D165: K | E165: 764454255-01 | F165: Zvodové rúry z pozinkovaného PZ plechu, kruhové priemer 150 mm (pozink farebný) | G165: m | H165: 118.4 | J165: =ROUND(I165*H165,2) -> 0 | N165: znížená | P165: =O165*H165 -> 0 | Q165: 0 | R165: =Q165*H165 -> 0 | S165: 0 | T165: =S165*H165 -> 0 | AR165: 16 | AT165: K | AU165: 2 | AY165: ROZPOCET | BE165: =IF(N165="základná",J165,0) -> 0 | BF165: =IF(N165="znížená",J165,0) -> 0 | BG165: =IF(N165="zákl. prenesená",J165,0) -> 0 | BH165: =IF(N165="zníž. prenesená",J165,0) -> 0 | BI165: =IF(N165="nulová",J165,0) -> 0 | BJ165: 2 | BK165: =ROUND(I165*H165,2) -> 0 | BL165: 16 | BM165: 50
C166: 26 | D166: K | E166: 764454803 | F166: Demontáž odpadových rúr kruhových, s priemerom 150 mm, -0,00356t | G166: m | H166: 115.2 | J166: =ROUND(I166*H166,2) -> 0 | N166: znížená | P166: =O166*H166 -> 0 | Q166: 0 | R166: =Q166*H166 -> 0 | S166: 0 | T166: =S166*H166 -> 0 | AR166: 16 | AT166: K | AU166: 2 | AY166: ROZPOCET | BE166: =IF(N166="základná",J166,0) -> 0 | BF166: =IF(N166="znížená",J166,0) -> 0 | BG166: =IF(N166="zákl. prenesená",J166,0) -> 0 | BH166: =IF(N166="zníž. prenesená",J166,0) -> 0 | BI166: =IF(N166="nulová",J166,0) -> 0 | BJ166: 2 | BK166: =ROUND(I166*H166,2) -> 0 | BL166: 16 | BM166: 52
...
