Workbook

Sheet Rekapitulácia stavby
A1: Export Komplet | BA1: 2.0 | BT1: False | BU1: False | BV1: {98d8a0e2-a5c1-4be2-9acb-0567f1851f33}
AR2: >> skryté stĺpce << | BS2: 0,01 | BT2: 20
BS3: 0,01 | BT3: 20
D4: REKAPITULÁCIA STAVBY | AS4: v --- nižšie sa nachádzajú doplnkové a pomocné údaje k zostavám --- v | BS4: 0,001
D5: Kód: | K5: 2044 | BS5: 0,01
D6: Stavba: | K6: Modernizácia výrobných technológií prevádzky v obci Jelka - Erik Márton, s.r.o. | BS6: 0,01
D7: JKSO: | K7: 811 72 | AK7: KS: | AN7: 1252 | BS7: 0,01
D8: Miesto: | K8: k.ú.: Jelka, p.č.:1390/3,13,14 a15 | AK8: Dátum: | AN8: 0 | BS8: 0,01
BS9: 0,01
D10: Objednávateľ: | AK10: IČO: | AN10: 45508950 | BS10: 0,01
E11: Erik Márton s.r.o., Lehnice 97, 930 37 Lehnice | AK11: IČ DPH: | AN11: SK20230208216 | BS11: 0,01
BS12: 0,01
D13: Zhotoviteľ: | AK13: IČO: | BS13: 0,01
E14: Podľa výberu investora | AK14: IČ DPH: | BS14: 0,01
BS15: False
D16: Projektant: | AK16: IČO: | AN16: 47054409 | BS16: False
E17: ADplan s.r.o.,Jelka,Mierová ul. 956/14 | AK17: IČ DPH: | AN17: SK2023717135 | BS17: True
BS18: 0,01
D19: Spracovateľ: | AK19: IČO: | AN19: 47875062 | BS19: 0,01
E20: ADplan s.r.o.,Jelka,Mierová ul. 956/14 | AK20: IČ DPH: | AN20: 1087138382 | BS20: True
D22: Poznámka:
E23: Výkaz výmer výberom položiek, priloženými výpočtami má napomôcť a urýchliť dodávateľovi správne naceniť všetky práce podľa PD ku kompletnej realizácií, skolaudovaní a užívateľnosti stav. diela._x000D__x000D_ Práce a dodávky obsiahnuté v projektovej dokumentácii a neobsiahnuté vo výkaze výmer je dodávateľ povinný položkovo rozšpecifikovať a naceniť pod čiaru, mimo ponukového rozpočtu pre objektívne rozhodovanie._x000D__x000D_ Zmeny, opravy VV a návrhy na možné zníženie stav. nákladov dodávateľ nacení rovnako pod čiaru a priloží k ponukovému rozpočtu. _x000D__x000D_ Dodávateľ rozšpecifikuje pouzitie VRN-ov: napr. označenie staveniska, čistenie komunikacií, opatrenia pre stav. v zimnom období, poistenie, geodet. merania a dokumentáciu, skúšky, vzorky, dielenskú dokumentáciu, staveb. výťah, žeriav v súčinnosti a položkami pre zvislý presun hmôt vo všetkých výkazoch, vyčistenie všetkých dotknutých plôch od stavebného odpadu, aj ako príprava pre sadové úpravy.
D26: Cena bez DPH | AK26: ='SO-01 - Architektúra (sta...'!J119 -> 0
L28: Sadzba dane | W28: Základ dane | AK28: Výška dane
D29: DPH | F29: základná | L29: 0.2 | W29: 0 | AK29: 0
F30: znížená | L30: 0.2 | W30: =AK26 -> 0 | AK30: =W30*0.2 -> 0
F31: zákl. prenesená | L31: 0.2 | W31: =ROUND(BB94, 2) -> #REF! | AK31: 0
F32: zníž. prenesená | L32: 0.2 | W32: =ROUND(BC94, 2) -> #REF! | AK32: 0
F33: nulová | L33: 0 | W33: =ROUND(BD94, 2) -> #REF! | AK33: 0
D35: Cena s DPH | T35: v | X35: EUR | AK35: =AK26+AK30 -> 0
D49: Projektant | AH49: Spracovateľ
D60: Dátum a podpis: | V60: Pečiatka | AH60: Dátum a podpis: | AM60: Pečiatka
D64: Objednávateľ | AH64: Zhotoviteľ
D75: Dátum a podpis: | V75: Pečiatka | AH75: Dátum a podpis: | AM75: Pečiatka
C82: REKAPITULÁCIA OBJEKTOV STAVBY
C84: Kód: | L84: =K5 -> 2044
C85: Stavba: | L85: =K6 -> Modernizácia výrobných technológií prevádzky v obci Jelka - Erik Márton, s.r.o.
C87: Miesto: | L87: =IF(K8="","",K8) -> k.ú.: Jelka, p.č.:1390/3,13,14 a15 | AI87: Dátum: | AM87: =IF(AN8= "","",AN8) -> 0
C89: Objednávateľ: | L89: =IF(E11= "","",E11) -> Erik Márton s.r.o., Lehnice 97, 930 37 Lehnice | AI89: Projektant: | AM89: =IF(E17="","",E17) -> ADplan s.r.o.,Jelka,Mierová ul. 956/14 | AS89: Informatívne údaje z listov zákaziek
C90: Zhotoviteľ: | L90: =IF(E14="","",E14) -> Podľa výberu investora | AI90: Spracovateľ: | AM90: =IF(E20="","",E20) -> ADplan s.r.o.,Jelka,Mierová ul. 956/14
C92: Kód | I92: Popis | AG92: Cena bez DPH [EUR] | AN92: Cena s DPH [EUR] | AQ92: Typ | AS92: z toho Ostat._x000D_ náklady [EUR] | AT92: DPH [EUR] | AU92: Normohodiny [h] | AV92: DPH základná [EUR] | AW92: DPH znížená [EUR] | AX92: DPH základná prenesená_x000D_ [EUR] | AY92: DPH znížená prenesená_x000D_ [EUR] | AZ92: Základňa_x000D_ DPH základná | BA92: Základňa_x000D_ DPH znížená | BB92: Základňa_x000D_ DPH zákl. prenesená | BC92: Základňa_x000D_ DPH zníž. prenesená | BD92: Základňa_x000D_ DPH nulová
C94: Náklady z rozpočtov | AG94: =AG95 -> 0 | AN94: =AN95 -> 0 | AS94: =ROUND(AS95+#REF!+#REF!,2) -> #REF! | AT94: =ROUND(SUM(AV94:AW94),2) -> #REF! | AU94: =ROUND(AU95+#REF!+#REF!,5) -> #REF! | AV94: =ROUND(AZ94*L29,2) -> #REF! | AW94: =ROUND(BA94*L30,2) -> #REF! | AX94: =ROUND(BB94*L29,2) -> #REF! | AY94: =ROUND(BC94*L30,2) -> #REF! | AZ94: =ROUND(AZ95+#REF!+#REF!,2) -> #REF! | BA94: =ROUND(BA95+#REF!+#REF!,2) -> #REF! | BB94: =ROUND(BB95+#REF!+#REF!,2) -> #REF! | BC94: =ROUND(BC95+#REF!+#REF!,2) -> #REF! | BD94: =ROUND(BD95+#REF!+#REF!,2) -> #REF! | BS94: D | BT94: 0 | BU94: ###NOIMPORT### | BV94: IMPORT | BW94: {98d8a0e2-a5c1-4be2-9acb-0567f1851f33} | BX94: {00000000-0000-0000-0000-000000000000} | CL94: 811 72
A95: / | D95: SO-01 | J95: Architektúra (stavebná časť) | AG95: ='SO-01 - Architektúra (sta...'!J30 -> 0 | AN95: =SUM(AG95,AT95) -> 0 | AQ95: STA | AS95: 0 | AT95: =ROUND(SUM(AV95:AW95),2) -> 0 | AU95: ='SO-01 - Architektúra (sta...'!P119 -> #REF! | AV95: ='SO-01 - Architektúra (sta...'!J33 -> 0 | AW95: ='SO-01 - Architektúra (sta...'!J34 -> 0 | AX95: ='SO-01 - Architektúra (sta...'!J35 -> 0 | AY95: ='SO-01 - Architektúra (sta...'!J36 -> 0 | AZ95: ='SO-01 - Architektúra (sta...'!F33 -> 0 | BA95: ='SO-01 - Architektúra (sta...'!F34 -> 0 | BB95: ='SO-01 - Architektúra (sta...'!F35 -> 0 | BC95: ='SO-01 - Architektúra (sta...'!F36 -> 0 | BD95: ='SO-01 - Architektúra (sta...'!F37 -> 0 | BT95: 1 | BV95: IMPORT | BW95: {124facef-824c-40b4-b1bf-a909b8bca74e} | BX95: {98d8a0e2-a5c1-4be2-9acb-0567f1851f33} | CM95: 0

Sheet SO-01 - Architektúra (sta...
L2: >> skryté stĺpce << | AT2: {124facef-824c-40b4-b1bf-a909b8bca74e}
AT3: 0
D4: KRYCÍ LIST ROZPOČTU | M4: v --- nižšie sa nachádzajú doplnkové a pomocné údaje k zostavám --- v | AT4: False
D6: Stavba:
E7: ='Rekapitulácia stavby'!K6 -> Modernizácia výrobných technológií prevádzky v obci Jelka - Erik Márton, s.r.o.
D8: Objekt:
E9: SO-01 - Architektúra (stavebná časť)
D11: JKSO: | I11: KS:
D12: Miesto: | F12: k.ú.: Jelka, p.č.:1390/3,13,14 a15 | I12: Dátum:
D14: Objednávateľ: | I14: IČO: | J14: 45508950
E15: Erik Márton s.r.o., Lehnice 97, 930 37 Lehnice | I15: IČ DPH: | J15: SK20230208216
D17: Zhotoviteľ: | I17: IČO:
E18: Podľa výberu investora | I18: IČ DPH:
D20: Projektant: | I20: IČO: | J20: 47054409
E21: ADplan s.r.o.,Jelka,Mierová ul. 956/14 | I21: IČ DPH: | J21: SK2023717135
D23: Spracovateľ: | I23: IČO: | J23: 47875062
E24: ADplan s.r.o.,Jelka,Mierová ul. 956/14 | I24: IČ DPH: | J24: 1087138382
D26: Poznámka:
E27: Výkaz výmer výberom položiek, priloženými výpočtami má napomôcť a urýchliť dodávateľovi správne naceniť všetky práce podľa PD ku kompletnej realizácií, skolaudovaní a užívateľnosti stav. diela._x000D_ Práce a dodávky obsiahnuté v projektovej dokumentácii a neobsiahnuté vo výkaze výmer je dodávateľ povinný položkovo rozšpecifikovať a naceniť pod čiaru, mimo ponukového rozpočtu pre objektívne rozhodovanie._x000D_ Zmeny, opravy VV a návrhy na možné zníženie stav. nákladov dodávateľ nacení rovnako pod čiaru a priloží k ponukovému rozpočtu. _x000D_ Dodávateľ rozšpecifikuje pouzitie VRN-ov: napr. označenie staveniska, čistenie komunikacií, opatrenia pre stav. v zimnom období, poistenie, geodet. merania a dokumentáciu, skúšky, vzorky, dielenskú dokumentáciu, staveb. výťah, žeriav v súčinnosti a položkami pre zvislý presun hmôt vo všetkých výkazoch, vyčistenie všetkých dotknutých plôch od stavebného odpadu, aj ako príprava pre sadové úpravy.
D30: Cena bez DPH | J30: =ROUND(J119, 2) -> 0
F32: Základ dane | I32: Sadzba dane | J32: Výška dane
D33: DPH | E33: základná | F33: =ROUND((SUM(BE119:BE126)), 2) -> 0 | I33: 0.2 | J33: =ROUND(((SUM(BE119:BE126))*I33), 2) -> 0
E34: znížená | F34: =ROUND((SUM(BF119:BF126)), 2) -> 0 | I34: 0.2 | J34: =ROUND(((SUM(BF119:BF126))*I34), 2) -> 0
E35: zákl. prenesená | F35: =ROUND((SUM(BG119:BG126)), 2) -> 0 | I35: 0.2 | J35: =0 -> 0
E36: zníž. prenesená | F36: =ROUND((SUM(BH119:BH126)), 2) -> 0 | I36: 0.2 | J36: =0 -> 0
E37: nulová | F37: =ROUND((SUM(BI119:BI126)), 2) -> 0 | I37: 0 | J37: =0 -> 0
D39: Cena s DPH | G39: v | H39: EUR | J39: =SUM(J30:J37) -> 0
D50: Projektant | G50: Spracovateľ
D61: Dátum a podpis: | F61: Pečiatka | G61: Dátum a podpis: | J61: Pečiatka
D65: Objednávateľ | G65: Zhotoviteľ
D76: Dátum a podpis: | F76: Pečiatka | G76: Dátum a podpis: | J76: Pečiatka
C82: REKAPITULÁCIA ROZPOČTU
C84: Stavba:
E85: =E7 -> Modernizácia výrobných technológií prevádzky v obci Jelka - Erik Márton, s.r.o.
C86: Objekt:
E87: =E9 -> SO-01 - Architektúra (stavebná časť)
C89: Miesto: | F89: =F12 -> k.ú.: Jelka, p.č.:1390/3,13,14 a15 | I89: Dátum: | J89: =IF(J12="","",J12)
C91: Objednávateľ: | F91: =E15 -> Erik Márton s.r.o., Lehnice 97, 930 37 Lehnice | I91: Projektant: | J91: =E21 -> ADplan s.r.o.,Jelka,Mierová ul. 956/14
C92: Zhotoviteľ: | F92: =IF(E18="","",E18) -> Podľa výberu investora | I92: Spracovateľ: | J92: =E24 -> ADplan s.r.o.,Jelka,Mierová ul. 956/14
C94: Kód dielu - Popis | J94: Cena celkom [EUR]
C96: Náklady z rozpočtu | J96: =J119 -> 0 | AU96: -1
D97: HSV - Práce a dodávky HSV | J97: =J120 -> 0
D98: 6 - Úpravy povrchov, podlahy, osadenie | J98: =J121 -> 0
D99: 9 - Ostatné konštrukcie a práce-búranie | J99: =J125 -> 0
C106: ROZPOČET
C108: Stavba:
E109: =E7 -> Modernizácia výrobných technológií prevádzky v obci Jelka - Erik Márton, s.r.o.
C110: Objekt:
E111: =E9 -> SO-01 - Architektúra (stavebná časť)
C113: Miesto: | F113: =F12 -> k.ú.: Jelka, p.č.:1390/3,13,14 a15 | I113: Dátum: | J113: =IF(J12="","",J12)
C115: Objednávateľ: | F115: =E15 -> Erik Márton s.r.o., Lehnice 97, 930 37 Lehnice | I115: Projektant: | J115: =E21 -> ADplan s.r.o.,Jelka,Mierová ul. 956/14
C116: Zhotoviteľ: | F116: =IF(E18="","",E18) -> Podľa výberu investora | I116: Spracovateľ: | J116: =E24 -> ADplan s.r.o.,Jelka,Mierová ul. 956/14
C118: PČ | D118: Typ | E118: Kód | F118: Popis | G118: MJ | H118: Množstvo | I118: J.cena [EUR] | J118: Cena celkom [EUR] | K118: Cenová sústava | N118: DPH | O118: J. Nh [h] | P118: Nh celkom [h] | Q118: J. hmotnosť [t] | R118: Hmotnosť celkom [t] | S118: J. suť [t] | T118: Suť Celkom [t] | U118: Dodávateľ
C119: Náklady z rozpočtu | J119: =J120 -> 0 | P119: =P120+#REF!+#REF! -> #REF! | R119: =R120+#REF!+#REF! -> #REF! | T119: =T120+#REF!+#REF! -> #REF! | AT119: D | AU119: -1 | BK119: =BK120+#REF!+#REF! -> #REF!
D120: D | E120: HSV | F120: Práce a dodávky HSV | J120: =J121+J125 -> 0 | P120: =#REF!+#REF!+#REF!+P121+P125+#REF! -> #REF! | R120: =#REF!+#REF!+#REF!+R121+R125+#REF! -> #REF! | T120: =#REF!+#REF!+#REF!+T121+T125+#REF! -> #REF! | AR120: 1 | AT120: D | AU120: 0 | AY120: ROZPOCET | BK120: =#REF!+#REF!+#REF!+BK121+BK125+#REF! -> #REF!
D121: D | E121: 1 | F121: Úpravy povrchov, podlahy, osadenie | J121: =BK121 -> 0 | P121: =SUM(P122:P124) -> 496.56963 | R121: =SUM(R122:R124) -> 6.2048941 | T121: =SUM(T122:T124) -> 0 | AR121: 1 | AT121: D | AU121: 1 | AY121: ROZPOCET | BK121: =SUM(BK122:BK124) -> 0
C122: 1 | D122: K | E122: 622464221 | F122: Vonkajšia omietka stien tenkovrstvová, silikátová, škrabaná, hr. 1,5 mm | G122: m2 | H122: 427.742 | I122: 0 | J122: =ROUND(I122*H122,2) -> 0 | N122: znížená | O122: 0.359 | P122: =O122*H122 -> 153.55938 | Q122: 0.0029 | R122: =Q122*H122 -> 1.2404518 | S122: 0 | T122: =S122*H122 -> 0 | AR122: 4 | AT122: K | AU122: 2 | AY122: ROZPOCET | BE122: =IF(N122="základná",J122,0) -> 0 | BF122: =IF(N122="znížená",J122,0) -> 0 | BG122: =IF(N122="zákl. prenesená",J122,0) -> 0 | BH122: =IF(N122="zníž. prenesená",J122,0) -> 0 | BI122: =IF(N122="nulová",J122,0) -> 0 | BJ122: 2 | BK122: =ROUND(I122*H122,2) -> 0 | BL122: 4 | BM122: 2049180758
C123: 2 | D123: K | E123: 625251272 | F123: Kontaktný zatepľovací systém ostenia hr. 20 mm (biely EPS-F70), štandardné riešenie | G123: m2 | H123: 18.921 | I123: 0 | J123: =ROUND(I123*H123,2) -> 0 | N123: znížená | O123: 1.153 | P123: =O123*H123 -> 21.815913 | Q123: 0.01042 | R123: =Q123*H123 -> 0.19715682 | S123: 0 | T123: =S123*H123 -> 0 | AR123: 4 | AT123: K | AU123: 2 | AY123: ROZPOCET | BE123: =IF(N123="základná",J123,0) -> 0 | BF123: =IF(N123="znížená",J123,0) -> 0 | BG123: =IF(N123="zákl. prenesená",J123,0) -> 0 | BH123: =IF(N123="zníž. prenesená",J123,0) -> 0 | BI123: =IF(N123="nulová",J123,0) -> 0 | BJ123: 2 | BK123: =ROUND(I123*H123,2) -> 0 | BL123: 4 | BM123: 643076175
C124: 3 | D124: K | E124: 625252208 | F124: Kontaktný zatepľovací systém hr. 100 mm (biely EPS-F70), zatĺkacie kotvy | G124: m2 | H124: 405.037 | I124: 0 | J124: =ROUND(I124*H124,2) -> 0 | N124: znížená | O124: 0.793 | P124: =O124*H124 -> 321.19434 | Q124: 0.01177 | R124: =Q124*H124 -> 4.7672855 | S124: 0 | T124: =S124*H124 -> 0 | AR124: 4 | AT124: K | AU124: 2 | AY124: ROZPOCET | BE124: =IF(N124="základná",J124,0) -> 0 | BF124: =IF(N124="znížená",J124,0) -> 0 | BG124: =IF(N124="zákl. prenesená",J124,0) -> 0 | BH124: =IF(N124="zníž. prenesená",J124,0) -> 0 | BI124: =IF(N124="nulová",J124,0) -> 0 | BJ124: 2 | BK124: =ROUND(I124*H124,2) -> 0 | BL124: 4 | BM124: -1774996867
D125: D | E125: 2 | F125: Ostatné konštrukcie a práce-búranie | I125: 0 | J125: =BK125 -> 0 | P125: =SUM(P126:P126) -> 13.63 | R125: =SUM(R126:R126) -> 0.03625 | T125: =SUM(T126:T126) -> 0 | AR125: 1 | AT125: D | AU125: 1 | AY125: ROZPOCET | BK125: =SUM(BK126:BK126) -> 0
C126: 4 | D126: K | E126: 953946517 | F126: Soklový zakladací profil LO 103 mm (hliníkový) | G126: m | H126: 72.5 | I126: 0 | J126: =ROUND(I126*H126,2) -> 0 | N126: znížená | O126: 0.188 | P126: =O126*H126 -> 13.63 | Q126: 0.0005 | R126: =Q126*H126 -> 0.03625 | S126: 0 | T126: =S126*H126 -> 0 | AR126: 4 | AT126: K | AU126: 2 | AY126: ROZPOCET | BE126: =IF(N126="základná",J126,0) -> 0 | BF126: =IF(N126="znížená",J126,0) -> 0 | BG126: =IF(N126="zákl. prenesená",J126,0) -> 0 | BH126: =IF(N126="zníž. prenesená",J126,0) -> 0 | BI126: =IF(N126="nulová",J126,0) -> 0 | BJ126: 2 | BK126: =ROUND(I126*H126,2) -> 0 | BL126: 4 | BM126: -1688900198
