Workbook

Sheet Rekapitulácia stavby
A1: Export Komplet | BA1: 2.0 | BT1: False | BU1: False | BV1: {98d8a0e2-a5c1-4be2-9acb-0567f1851f33}
AR2: >> skryté stĺpce << | BS2: 0,01 | BT2: 20
BS3: 0,01 | BT3: 20
D4: REKAPITULÁCIA STAVBY | AS4: v --- nižšie sa nachádzajú doplnkové a pomocné údaje k zostavám --- v | BS4: 0,001
D5: Kód: | K5: 2044 | BS5: 0,01
D6: Stavba: | K6: Modernizácia výrobných technológií prevádzky v obci Jelka - Erik Márton, s.r.o. | BS6: 0,01
D7: JKSO: | K7: 811 72 | AK7: KS: | AN7: 1252 | BS7: 0,01
D8: Miesto: | K8: k.ú.: Jelka, p.č.:1390/3,13,14 a15 | AK8: Dátum: | AN8: 0 | BS8: 0,01
BS9: 0,01
D10: Objednávateľ: | AK10: IČO: | AN10: 45508950 | BS10: 0,01
E11: Erik Márton s.r.o., Lehnice 97, 930 37 Lehnice | AK11: IČ DPH: | AN11: SK20230208216 | BS11: 0,01
BS12: 0,01
D13: Zhotoviteľ: | AK13: IČO: | BS13: 0,01
E14: Podľa výberu investora | AK14: IČ DPH: | BS14: 0,01
BS15: False
D16: Projektant: | AK16: IČO: | AN16: 47054409 | BS16: False
E17: ADplan s.r.o.,Jelka,Mierová ul. 956/14 | AK17: IČ DPH: | AN17: SK2023717135 | BS17: True
BS18: 0,01
D19: Spracovateľ: | AK19: IČO: | AN19: 47875062 | BS19: 0,01
E20: ADplan s.r.o.,Jelka,Mierová ul. 956/14 | AK20: IČ DPH: | AN20: 1087138382 | BS20: True
D22: Poznámka:
E23: Výkaz výmer výberom položiek, priloženými výpočtami má napomôcť a urýchliť dodávateľovi správne naceniť všetky práce podľa PD ku kompletnej realizácií, skolaudovaní a užívateľnosti stav. diela._x000D__x000D_ Práce a dodávky obsiahnuté v projektovej dokumentácii a neobsiahnuté vo výkaze výmer je dodávateľ povinný položkovo rozšpecifikovať a naceniť pod čiaru, mimo ponukového rozpočtu pre objektívne rozhodovanie._x000D__x000D_ Zmeny, opravy VV a návrhy na možné zníženie stav. nákladov dodávateľ nacení rovnako pod čiaru a priloží k ponukovému rozpočtu. _x000D__x000D_ Dodávateľ rozšpecifikuje pouzitie VRN-ov: napr. označenie staveniska, čistenie komunikacií, opatrenia pre stav. v zimnom období, poistenie, geodet. merania a dokumentáciu, skúšky, vzorky, dielenskú dokumentáciu, staveb. výťah, žeriav v súčinnosti a položkami pre zvislý presun hmôt vo všetkých výkazoch, vyčistenie všetkých dotknutých plôch od stavebného odpadu, aj ako príprava pre sadové úpravy.
D26: Cena bez DPH | AK26: ='SO-01 - Architektúra (sta...'!J119 -> 0
L28: Sadzba dane | W28: Základ dane | AK28: Výška dane
D29: DPH | F29: základná | L29: 0.2 | W29: 0 | AK29: 0
F30: znížená | L30: 0.2 | W30: =AK26 -> 0 | AK30: =W30*0.2 -> 0
F31: zákl. prenesená | L31: 0.2 | W31: =ROUND(BB94, 2) -> #REF! | AK31: 0
F32: zníž. prenesená | L32: 0.2 | W32: =ROUND(BC94, 2) -> #REF! | AK32: 0
F33: nulová | L33: 0 | W33: =ROUND(BD94, 2) -> #REF! | AK33: 0
D35: Cena s DPH | T35: v | X35: EUR | AK35: =AK26+AK30 -> 0
D49: Projektant | AH49: Spracovateľ
D60: Dátum a podpis: | V60: Pečiatka | AH60: Dátum a podpis: | AM60: Pečiatka
D64: Objednávateľ | AH64: Zhotoviteľ
D75: Dátum a podpis: | V75: Pečiatka | AH75: Dátum a podpis: | AM75: Pečiatka
C82: REKAPITULÁCIA OBJEKTOV STAVBY
C84: Kód: | L84: =K5 -> 2044
C85: Stavba: | L85: =K6 -> Modernizácia výrobných technológií prevádzky v obci Jelka - Erik Márton, s.r.o.
C87: Miesto: | L87: =IF(K8="","",K8) -> k.ú.: Jelka, p.č.:1390/3,13,14 a15 | AI87: Dátum: | AM87: =IF(AN8= "","",AN8) -> 0
C89: Objednávateľ: | L89: =IF(E11= "","",E11) -> Erik Márton s.r.o., Lehnice 97, 930 37 Lehnice | AI89: Projektant: | AM89: =IF(E17="","",E17) -> ADplan s.r.o.,Jelka,Mierová ul. 956/14 | AS89: Informatívne údaje z listov zákaziek
C90: Zhotoviteľ: | L90: =IF(E14="","",E14) -> Podľa výberu investora | AI90: Spracovateľ: | AM90: =IF(E20="","",E20) -> ADplan s.r.o.,Jelka,Mierová ul. 956/14
...

Sheet SO-01 - Architektúra (sta...
L2: >> skryté stĺpce << | AT2: {124facef-824c-40b4-b1bf-a909b8bca74e}
AT3: 0
D4: KRYCÍ LIST ROZPOČTU | M4: v --- nižšie sa nachádzajú doplnkové a pomocné údaje k zostavám --- v | AT4: False
D6: Stavba:
E7: ='Rekapitulácia stavby'!K6 -> Modernizácia výrobných technológií prevádzky v obci Jelka - Erik Márton, s.r.o.
D8: Objekt:
E9: SO-01 - Architektúra (stavebná časť)
D11: JKSO: | I11: KS:
D12: Miesto: | F12: k.ú.: Jelka, p.č.:1390/3,13,14 a15 | I12: Dátum:
D14: Objednávateľ: | I14: IČO: | J14: 45508950
E15: Erik Márton s.r.o., Lehnice 97, 930 37 Lehnice | I15: IČ DPH: | J15: SK20230208216
D17: Zhotoviteľ: | I17: IČO:
E18: Podľa výberu investora | I18: IČ DPH:
D20: Projektant: | I20: IČO: | J20: 47054409
E21: ADplan s.r.o.,Jelka,Mierová ul. 956/14 | I21: IČ DPH: | J21: SK2023717135
D23: Spracovateľ: | I23: IČO: | J23: 47875062
E24: ADplan s.r.o.,Jelka,Mierová ul. 956/14 | I24: IČ DPH: | J24: 1087138382
D26: Poznámka:
E27: Výkaz výmer výberom položiek, priloženými výpočtami má napomôcť a urýchliť dodávateľovi správne naceniť všetky práce podľa PD ku kompletnej realizácií, skolaudovaní a užívateľnosti stav. diela._x000D_ Práce a dodávky obsiahnuté v projektovej dokumentácii a neobsiahnuté vo výkaze výmer je dodávateľ povinný položkovo rozšpecifikovať a naceniť pod čiaru, mimo ponukového rozpočtu pre objektívne rozhodovanie._x000D_ Zmeny, opravy VV a návrhy na možné zníženie stav. nákladov dodávateľ nacení rovnako pod čiaru a priloží k ponukovému rozpočtu. _x000D_ Dodávateľ rozšpecifikuje pouzitie VRN-ov: napr. označenie staveniska, čistenie komunikacií, opatrenia pre stav. v zimnom období, poistenie, geodet. merania a dokumentáciu, skúšky, vzorky, dielenskú dokumentáciu, staveb. výťah, žeriav v súčinnosti a položkami pre zvislý presun hmôt vo všetkých výkazoch, vyčistenie všetkých dotknutých plôch od stavebného odpadu, aj ako príprava pre sadové úpravy.
D30: Cena bez DPH | J30: =ROUND(J119, 2) -> 0
F32: Základ dane | I32: Sadzba dane | J32: Výška dane
D33: DPH | E33: základná | F33: =ROUND((SUM(BE119:BE126)), 2) -> 0 | I33: 0.2 | J33: =ROUND(((SUM(BE119:BE126))*I33), 2) -> 0
E34: znížená | F34: =ROUND((SUM(BF119:BF126)), 2) -> 0 | I34: 0.2 | J34: =ROUND(((SUM(BF119:BF126))*I34), 2) -> 0
E35: zákl. prenesená | F35: =ROUND((SUM(BG119:BG126)), 2) -> 0 | I35: 0.2 | J35: =0 -> 0
E36: zníž. prenesená | F36: =ROUND((SUM(BH119:BH126)), 2) -> 0 | I36: 0.2 | J36: =0 -> 0
E37: nulová | F37: =ROUND((SUM(BI119:BI126)), 2) -> 0 | I37: 0 | J37: =0 -> 0
D39: Cena s DPH | G39: v | H39: EUR | J39: =SUM(J30:J37) -> 0
D50: Projektant | G50: Spracovateľ
D61: Dátum a podpis: | F61: Pečiatka | G61: Dátum a podpis: | J61: Pečiatka
D65: Objednávateľ | G65: Zhotoviteľ
D76: Dátum a podpis: | F76: Pečiatka | G76: Dátum a podpis: | J76: Pečiatka
C82: REKAPITULÁCIA ROZPOČTU
C84: Stavba:
E85: =E7 -> Modernizácia výrobných technológií prevádzky v obci Jelka - Erik Márton, s.r.o.
C86: Objekt:
E87: =E9 -> SO-01 - Architektúra (stavebná časť)
C89: Miesto: | F89: =F12 -> k.ú.: Jelka, p.č.:1390/3,13,14 a15 | I89: Dátum: | J89: =IF(J12="","",J12)
C91: Objednávateľ: | F91: =E15 -> Erik Márton s.r.o., Lehnice 97, 930 37 Lehnice | I91: Projektant: | J91: =E21 -> ADplan s.r.o.,Jelka,Mierová ul. 956/14
C92: Zhotoviteľ: | F92: =IF(E18="","",E18) -> Podľa výberu investora | I92: Spracovateľ: | J92: =E24 -> ADplan s.r.o.,Jelka,Mierová ul. 956/14
C94: Kód dielu - Popis | J94: Cena celkom [EUR]
...
