Workbook

Sheet Rekapitulácia
A2: Rekapitulácia výkazu výmer | F2: Sadzby DPH
A3: Stavba Rekonštrukcia maštalí a rozšírenie farmového hnojiska, Bobrov | F3: A | G3: B
F4: 0.2 | G4: 0
A6: Názov objektu | B6: ZRN | C6: VRN % | D6: HZS | E6: Kompl.čin. | F6: Ost. náklady | G6: Cena
A7: SO 02 Kravín | B7: ='SO 27358'!I151-Rekapitulácia!D7 -> 0 | C7: ='Kryci_list 27358'!J26 -> 0 | D7: 0 | E7: ='Kryci_list 27358'!J17 -> 0 | F7: 0 | G7: =B7+C7+D7+E7+F7 -> 0 | K7: ='SO 27358'!K151 -> 0 | Q7: 30.126
A8: PS 02.01 Ustajnenie | B8: ='Kryci_list 27359'!F20 -> 0 | C8: ='Kryci_list 27359'!J26 -> 0 | D8: 0 | E8: ='Kryci_list 27358'!J18 -> 0 | F8: 0 | G8: =B8+C8+D8+E8+F8 -> 0
A9: PS 02.02 Kŕmenie a napájanie | B9: ='kryci_list 27002'!F20 -> 0 | C9: ='kryci_list 27002'!J26 -> 0 | D9: 0 | E9: ='Kryci_list 27358'!J19 -> 0 | F9: 0 | G9: =B9+C9+D9+E9+F9 -> 0
A10: PS 02.03 Vetranie | B10: ='Krycí_list 27003'!F20 -> 0 | C10: 0 | D10: 0 | E10: ='Kryci_list 27358'!J20 -> 0 | F10: 0 | G10: =B10+C10+D10+E10+F10 -> 0
A11: SO 03 Farmové hnojisko | B11: ='SO 27390'!I54-Rekapitulácia!D11 -> 0 | C11: ='Kryci_list 27390'!J26 -> 0 | D11: 0 | E11: ='Kryci_list 27390'!J17 -> 0 | F11: 0 | G11: =B11+C11+D11+E11+F11 -> 0 | K11: ='SO 27390'!K54 -> 0 | Q11: 30.126
A12: SO 02 - vodovodná prípojka,žumpa 12 m3 | B12: ='SO 27391'!I66-Rekapitulácia!D12 -> 0 | C12: ='Kryci_list 27391'!J26 -> 0 | D12: 0 | E12: ='Kryci_list 27391'!J17 -> 0 | F12: 0 | G12: =B12+C12+D12+E12+F12 -> 0 | K12: ='SO 27391'!K66 -> 0 | Q12: 30.126
A13: Celkom bez DPH | B13: =SUM(B7:B12) -> 0 | C13: =SUM(C7:C12) -> 0 | D13: =SUM(D7:D12) -> 0 | E13: =SUM(E7:E12) -> 0 | F13: =SUM(F7:F12) -> 0 | G13: =SUM(G7:G12)-SUM(Z7:Z12) -> 0
A14: DPH 20% z | B14: =G13-SUM(Rekapitulácia!K12)*1 -> 0 | G14: =ROUND(((ROUND(B14,2)*20)/100),2)*1 -> 0
A15: DPH 0% z | B15: =(G13-B14) -> 0 | G15: =ROUND(((ROUND(B15,2)*0)/100),2) -> 0
A16: Celkom v EUR | G16: =SUM(G13:G15) -> 0

Sheet Krycí list stavby
F1: Krycí list stavby | W1: 30.126
B2: Stavba Rekonštrukcia maštalí a rozšírenie farmového hnojiska, Bobrov
I3: Miesto:
I4: Ks:
B5: Zákazka: | F5: Spracoval: | I5: Dňa | J5: 45263
B6: Odberateľ: Podielnícke roľnícko-obchodné družstvo,Družstevná 263,Bobrov
B7: IČO: | G7: DIČ:
B8: Projektant: Ing.Štefan Comba,Levoča
B9: IČO: | G9: DIČ:
B10: Dodávateľ:
B11: IČO: | G11: DIČ:
B15: A | C15: ZRN | D15: Montáž | E15: Materiál | F15: ZRN spolu | G15: B | H15: Ďalšie náklady
B16: 1 | C16: HSV | D16: ='Kryci_list 27358'!D16+'Kryci_list 27390'!D16+'Kryci_list 27391'!D16 -> 0 | E16: ='Kryci_list 27358'!E16+'Kryci_list 27390'!E16+'Kryci_list 27391'!E16 -> 0 | F16: ='Kryci_list 27358'!F16+'Kryci_list 27390'!F16+'Kryci_list 27391'!F16 -> 0 | G16: 6 | H16: Ostatné náklady | J16: =Rekapitulácia!F13 -> 0
B17: 2 | C17: PSV | D17: ='Kryci_list 27358'!D17+'Kryci_list 27390'!D17+'Kryci_list 27391'!D17+'Kryci_list 27359'!D17+'kryci_list 27002'!D17+vetranie!F20 -> 0 | E17: ='Kryci_list 27358'!E17+'Kryci_list 27390'!E17+'Kryci_list 27391'!E17+'Kryci_list 27359'!E17+'kryci_list 27002'!E17+vetranie!G20 -> 0 | F17: ='Kryci_list 27358'!F17+'Kryci_list 27390'!F17+'Kryci_list 27391'!F17+'Kryci_list 27359'!F17+'kryci_list 27002'!F17+vetranie!H20 -> 0 | G17: 7 | H17: Kompletačná činnosť | J17: =Rekapitulácia!E13 -> 0
B18: 3 | C18: MONT | D18: ='Kryci_list 27358'!D18+'Kryci_list 27359'!D18+'Kryci_list 27390'!D18+'Kryci_list 27391'!D18 -> 0 | E18: ='Kryci_list 27358'!E18+'Kryci_list 27359'!E18+'Kryci_list 27390'!E18+'Kryci_list 27391'!E18 -> 0 | F18: ='Kryci_list 27358'!F18+'Kryci_list 27359'!F18+'Kryci_list 27390'!F18+'Kryci_list 27391'!F18 -> 0 | G18: 8 | H18: HZS | J18: =Rekapitulácia!D13 -> 0
B19: 4 | C19: VRN | D19: ='Kryci_list 27358'!D19+'Kryci_list 27359'!D19+'Kryci_list 27390'!D19+'Kryci_list 27391'!D19 -> 0 | E19: ='Kryci_list 27358'!E19+'Kryci_list 27359'!E19+'Kryci_list 27390'!E19+'Kryci_list 27391'!E19 -> 0 | F19: ='Kryci_list 27358'!F19+'Kryci_list 27359'!F19+'Kryci_list 27390'!F19+'Kryci_list 27391'!F19 -> 0 | G19: 9
B20: 5 | C20: Spolu | F20: =SUM(F16:F19) -> 0 | G20: 10 | H20: Spolu | J20: =SUM(J16:J19) -> 0
B21: C | C21: VRN | G21: D | H21: VRN
B22: 11 | C22: Zariadenie staveniska | F22: ='Kryci_list 27358'!F22+'Kryci_list 27359'!F22+'Kryci_list 27390'!F22+'Kryci_list 27391'!F22 -> 0 | G22: 16 | H22: Sťažené podmienky dopravy | J22: ='Kryci_list 27358'!J22+'Kryci_list 27359'!J22+'Kryci_list 27390'!J22+'Kryci_list 27391'!J22 -> 0
B23: 12 | C23: Sťažené výrobné podmienky | F23: ='Kryci_list 27358'!F23+'Kryci_list 27359'!F23+'Kryci_list 27390'!F23+'Kryci_list 27391'!F23 -> 0 | G23: 17 | H23: Horské oblasti | J23: ='Kryci_list 27358'!J23+'Kryci_list 27359'!J23+'Kryci_list 27390'!J23+'Kryci_list 27391'!J23 -> 0
B24: 13 | C24: Prevádzkové vplyvy | F24: ='Kryci_list 27358'!F24+'Kryci_list 27359'!F24+'Kryci_list 27390'!F24+'Kryci_list 27391'!F24 -> 0 | G24: 18 | H24: Mimostavenisková doprava | J24: ='Kryci_list 27358'!J24+'Kryci_list 27359'!J24+'Kryci_list 27390'!J24+'Kryci_list 27391'!J24 -> 0
B25: 14 | G25: 19
B26: 15 | G26: 20 | H26: Spolu | J26: =SUM(J22:J25)+SUM(F22:F25) -> 0
C27: Projektant,rozpočtár | G27: E | H27: Celkové náklady
G28: 21 | H28: Súčet riadkov 5,10,15,20 | J28: =F20+J20+F26+J26 -> 0
G29: 22 | H29: DPH 20% z | I29: =Rekapitulácia!B14 -> 0 | J29: =ROUND(((ROUND(I29,2)*20)/100),2)*1 -> 0
G30: 23 | H30: DPH 0% z | I30: =Rekapitulácia!B15 -> 0 | J30: =ROUND(((ROUND(I30,2)*0)/100),2) -> 0
G31: 24 | H31: Spolu v EUR | J31: =SUM(J28:J30) -> 0
G32: F
D33: Odberateľ | H33: Dodávateľ

Sheet Kryci_list 27358
F1: Krycí list výkazu výmer | W1: 30.126
B2: Stavba Rekonštrukcia maštalí a rozšírenie farmového hnojiska, Bobrov
B3: Objekt SO 02 Kravín | I3: Miesto:
I4: Ks:
B5: Zákazka: | F5: Spracoval: | I5: Dňa | J5: 45263
B6: Odberateľ: Podielnícke roľnícko-obchodné družstvo,Družstevná 263,Bobrov
B7: IČO: | G7: DIČ:
B8: Projektant: Ing.Štefan Comba,Levoča
B9: IČO: | G9: DIČ:
B10: Dodávateľ:
B11: IČO: | G11: DIČ:
B15: A | C15: ZRN | D15: Montáž | E15: Materiál | F15: ZRN spolu | G15: B | H15: Ďalšie náklady
B16: 1 | C16: HSV | D16: ='Rekap 27358'!B20 -> 0 | E16: ='Rekap 27358'!C20 -> 0 | F16: ='Rekap 27358'!D20 -> 0 | G16: 6 | H16: Ostatné náklady | J16: 0
B17: 2 | C17: PSV | D17: ='Rekap 27358'!B29 -> 0 | E17: ='Rekap 27358'!C29 -> 0 | F17: ='Rekap 27358'!D29 -> 0 | G17: 7 | H17: Kompletačná činnosť | J17: ='SO 27358'!Z151 -> 0
B18: 3 | C18: MONT | D18: ='Rekap 27358'!B33 -> 0 | E18: ='Rekap 27358'!C33 -> 0 | F18: ='Rekap 27358'!D33 -> 0 | G18: 8 | H18: HZS | J18: 0
B19: 4 | C19: VRN | G19: 9
B20: 5 | C20: Spolu | F20: =SUM(F16:F19) -> 0 | G20: 10 | H20: Spolu | J20: =SUM(J16:J19) -> 0
B21: C | C21: VRN | G21: D | H21: VRN
B22: 11 | C22: Zariadenie staveniska | E22: 0% z [H+P+M] | F22: =((F16*U22*0)+(F17*V22*0)+(F18*W22*0))/100 -> 0 | G22: 16 | H22: Sťažené podmienky dopravy | I22: 0% z [H+P+M] | J22: =((F16*X22*0)+(F17*Y22*0)+(F18*Z22*0))/100 -> 0 | U22: 1 | V22: 1 | W22: 1 | X22: 1 | Y22: 1 | Z22: 1
B23: 12 | C23: Sťažené výrobné podmienky | E23: 0% z [H+P] | F23: =((F16*U23*0)+(F17*V23*0)+(F18*W23*0))/100 -> 0 | G23: 17 | H23: Horské oblasti | I23: 0% z [H+P+M] | J23: =((F16*X23*0)+(F17*Y23*0)+(F18*Z23*0))/100 -> 0 | U23: 1 | V23: 1 | W23: 0 | X23: 1 | Y23: 1 | Z23: 1
B24: 13 | C24: Prevádzkové vplyvy | E24: 0% z [H+P+M] | F24: =((F16*U24*0)+(F17*V24*0)+(F18*W24*0))/100 -> 0 | G24: 18 | H24: Mimostavenisková doprava | I24: 0% z [H+P] | J24: =((F16*X24*0)+(F17*Y24*0)+(F18*Z24*0))/100 -> 0 | U24: 1 | V24: 1 | W24: 1 | X24: 1 | Y24: 1 | Z24: 0
B25: 14 | G25: 19
B26: 15 | G26: 20 | H26: Spolu | J26: =SUM(J22:J25)+SUM(F22:F25) -> 0
C27: Projektant,rozpočtár | G27: E | H27: Celkové náklady
G28: 21 | H28: Súčet riadkov 5,10,15,20 | J28: =F20+J20+F26+J26 -> 0
G29: 22 | H29: DPH 20% z | I29: =J28-SUM('SO 27358'!K9:'SO 27358'!K150) -> 0 | J29: =ROUND(((ROUND(I29,2)*20)*1/100),2) -> 0
G30: 23 | H30: DPH 0% z | I30: =SUM('SO 27358'!K9:'SO 27358'!K150) -> 0 | J30: =ROUND(((ROUND(I30,2)*0)/100),2) -> 0
G31: 24 | H31: Spolu v EUR | J31: =SUM(J28:J30) -> 0
G32: F
D33: Odberateľ | G33: 26 | H33: Dodávateľ

Sheet Rekap 27358
A1: Odberateľ: Podielnícke roľnícko-obchodné družstvo,Družstevná 263,Bobrov | E1: Spracoval: | W1: 30.126
A2: Projektant: Ing.Štefan Comba,Levoča | E2: Ks:
A3: Dodávateľ: | E3: Dátum: 3. 12. 2023
A4: Stavba Rekonštrukcia maštalí a rozšírenie farmového hnojiska, Bobrov
A5: Objekt SO 02 Kravín
A8: Prehľad výkazu výmer
A9: Oddiel | B9: Montáž | C9: Materiál | D9: Spolu | E9: Hmotnosť (T) | F9: Suť (T)
A10: Práce HSV
A11: ZEMNÉ PRÁCE | B11: ='SO 27358'!L16 -> 0 | C11: ='SO 27358'!M16 -> 0 | D11: ='SO 27358'!I16 -> 0 | E11: ='SO 27358'!S16 -> 0 | F11: ='SO 27358'!V16 -> 0
A12: ZÁKLADY | B12: ='SO 27358'!L28 -> 0 | C12: ='SO 27358'!M28 -> 0 | D12: ='SO 27358'!I28 -> 0 | E12: ='SO 27358'!S28 -> 322.58 | F12: ='SO 27358'!V28 -> 0
A13: ZVISLÉ KONŠTRUKCIE | B13: ='SO 27358'!L37 -> 0 | C13: ='SO 27358'!M37 -> 0 | D13: ='SO 27358'!I37 -> 0 | E13: ='SO 27358'!S37 -> 53.88 | F13: ='SO 27358'!V37 -> 1.11
A14: VODOROVNÉ KONŠTRUKCIE | B14: ='SO 27358'!L44 -> 0 | C14: ='SO 27358'!M44 -> 0 | D14: ='SO 27358'!I44 -> 0 | E14: ='SO 27358'!S44 -> 14.38 | F14: ='SO 27358'!V44 -> 0.39
A15: SPEVNENÉ PLOCHY | B15: ='SO 27358'!L53 -> 0 | C15: ='SO 27358'!M53 -> 0 | D15: ='SO 27358'!I53 -> 0 | E15: ='SO 27358'!S53 -> 234.28 | F15: ='SO 27358'!V53 -> 0
A16: POVRCHOVÉ ÚPRAVY | B16: ='SO 27358'!L67 -> 0 | C16: ='SO 27358'!M67 -> 0 | D16: ='SO 27358'!I67 -> 0 | E16: ='SO 27358'!S67 -> 441.02 | F16: ='SO 27358'!V67 -> 0
A17: Potrubné rozvody | B17: ='SO 27358'!L71 -> 0 | C17: ='SO 27358'!M71 -> 0 | D17: ='SO 27358'!I71 -> 0 | E17: ='SO 27358'!S71 -> 0 | F17: ='SO 27358'!V71 -> 0
A18: OSTATNÉ PRÁCE | B18: ='SO 27358'!L91 -> 0 | C18: ='SO 27358'!M91 -> 0 | D18: ='SO 27358'!I91 -> 0 | E18: ='SO 27358'!S91 -> 8.29 | F18: ='SO 27358'!V91 -> 148.52
A19: PRESUNY HMÔT | B19: ='SO 27358'!L95 -> 0 | C19: ='SO 27358'!M95 -> 0 | D19: ='SO 27358'!I95 -> 0 | E19: ='SO 27358'!S95 -> 0 | F19: ='SO 27358'!V95 -> 0
A20: Práce HSV | B20: ='SO 27358'!L97 -> 0 | C20: ='SO 27358'!M97 -> 0 | D20: ='SO 27358'!I97 -> 0 | E20: ='SO 27358'!S97 -> 1074.43 | F20: ='SO 27358'!V97 -> 150.02
A22: Práce PSV
A23: ZTI - VNÚTORNÝ VODOVOD | B23: ='SO 27358'!L106 -> 0 | C23: ='SO 27358'!M106 -> 0 | D23: ='SO 27358'!I106 -> 0 | E23: ='SO 27358'!S106 -> 0 | F23: ='SO 27358'!V106 -> 0
A24: KONŠTRUKCIE TESÁRSKE | B24: ='SO 27358'!L112 -> 0 | C24: ='SO 27358'!M112 -> 0 | D24: ='SO 27358'!I112 -> 0 | E24: ='SO 27358'!S112 -> 1.5 | F24: ='SO 27358'!V112 -> 0
A25: KONŠTRUKCIE KLAMPIARSKE | B25: ='SO 27358'!L121 -> 0 | C25: ='SO 27358'!M121 -> 0 | D25: ='SO 27358'!I121 -> 0 | E25: ='SO 27358'!S121 -> 0.41 | F25: ='SO 27358'!V121 -> 7.84
A26: KOVOVÉ DOPLNKOVÉ KONŠTRUKCIE | B26: ='SO 27358'!L130 -> 0 | C26: ='SO 27358'!M130 -> 0 | D26: ='SO 27358'!I130 -> 0 | E26: ='SO 27358'!S130 -> 0.56 | F26: ='SO 27358'!V130 -> 0
A27: NÁTERY | B27: ='SO 27358'!L136 -> 0 | C27: ='SO 27358'!M136 -> 0 | D27: ='SO 27358'!I136 -> 0 | E27: ='SO 27358'!S136 -> 0.48 | F27: ='SO 27358'!V136 -> 0
A28: MAĽBY | B28: ='SO 27358'!L141 -> 0 | C28: ='SO 27358'!M141 -> 0 | D28: ='SO 27358'!I141 -> 0 | E28: ='SO 27358'!S141 -> 0.18 | F28: ='SO 27358'!V141 -> 0
A29: Práce PSV | B29: ='SO 27358'!L143 -> 0 | C29: ='SO 27358'!M143 -> 0 | D29: ='SO 27358'!I143 -> 0 | E29: ='SO 27358'!S143 -> 3.12 | F29: ='SO 27358'!V143 -> 7.84
A31: Montážne práce
A32: M-21 ELEKTROMONTÁŽE | B32: ='SO 27358'!L148 -> 0 | C32: ='SO 27358'!M148 -> 0 | D32: ='SO 27358'!I148 -> 0 | E32: ='SO 27358'!S148 -> 0 | F32: ='SO 27358'!V148 -> 0
A33: Montážne práce | B33: ='SO 27358'!L150 -> 0 | C33: ='SO 27358'!M150 -> 0 | D33: ='SO 27358'!I150 -> 0 | E33: ='SO 27358'!S150 -> 0 | F33: ='SO 27358'!V150 -> 0
A35: Celkom v EUR | B35: ='SO 27358'!L151 -> 0 | C35: ='SO 27358'!M151 -> 0 | D35: ='SO 27358'!I151 -> 0 | E35: ='SO 27358'!S151 -> 1077.55 | F35: ='SO 27358'!V151 -> 157.86

Sheet SO 27358
B1: Odberateľ: Podielnícke roľnícko-obchodné družstvo,Družstevná 263,Bobrov | I1: Spracoval: | W1: 30.126
B2: Projektant: Ing.Štefan Comba,Levoča | I2: Ks:
B3: Dodávateľ: | I3: Dátum: | P3: 45263
B4: Zákazka Rekonštrukcia maštalí a rozšírenie farmového hnojiska, Bobrov
B5: Objekt SO 02 Kravín
B7: Prehľad výkazu výmer
A8: Por.č. | B8: Cenník | C8: Kód položky | D8: Názov | E8: Mj | F8: Množstvo | G8: Montáž | H8: Materiál | I8: Cena celkom | P8: Hmotnosť/Mj | S8: Hmotnosť | V8: Suť
D9: Práce HSV
C10: 1 | D10: ZEMNÉ PRÁCE
A11: 1 | B11: 1/A 1 | C11: 132101101 | D11: Výkop ryhy do šírky 600 mm v horn.3 do 100 m3 | E11: m3 | F11: 63.36 | G11: 0 | H11: 0 | I11: =ROUND(F11*(G11+H11),2) -> 0 | J11: =ROUND(F11*(N11),2) -> 2407.68 | K11: =ROUND(F11*(O11),2) -> 0 | L11: =ROUND(F11*(G11),2) -> 0 | M11: =ROUND(F11*(H11),2) -> 0 | N11: 38 | S11: =ROUND(F11*(P11),3) -> 0 | Z11: 0
A12: 2 | B12: 1/A 1 | C12: 181101102 | D12: Úprava pláne so zhutnením | E12: m2 | F12: 330 | G12: 0 | H12: 0 | I12: =ROUND(F12*(G12+H12),2) -> 0 | J12: =ROUND(F12*(N12),2) -> 1145.1 | K12: =ROUND(F12*(O12),2) -> 0 | L12: =ROUND(F12*(G12),2) -> 0 | M12: =ROUND(F12*(H12),2) -> 0 | N12: 3.47 | S12: =ROUND(F12*(P12),3) -> 0 | Z12: 0
A13: 3 | B13: 1/A 1 | C13: 181101101 | D13: Terénne úpravy | E13: m2 | F13: 200 | G13: 0 | H13: 0 | I13: =ROUND(F13*(G13+H13),2) -> 0 | J13: =ROUND(F13*(N13),2) -> 250 | K13: =ROUND(F13*(O13),2) -> 0 | L13: =ROUND(F13*(G13),2) -> 0 | M13: =ROUND(F13*(H13),2) -> 0 | N13: 1.25 | S13: =ROUND(F13*(P13),3) -> 0 | Z13: 0
A14: 4 | B14: 1/A 1 | C14: 132101101 | D14: Výkop ryhy do šírky 600 mm v horn.3 do 100 m3-hnojová koncovka | E14: m3 | F14: 21.645 | G14: 0 | H14: 0 | I14: =ROUND(F14*(G14+H14),2) -> 0 | J14: =ROUND(F14*(N14),2) -> 822.51 | K14: =ROUND(F14*(O14),2) -> 0 | L14: =ROUND(F14*(G14),2) -> 0 | M14: =ROUND(F14*(H14),2) -> 0 | N14: 38 | S14: =ROUND(F14*(P14),3) -> 0 | Z14: 0
A15: 5 | B15: 1/A 1 | C15: 133111101 | D15: Hĺbenie pätiek v horninách tr. 3 | E15: m3 | F15: 44 | G15: 0 | H15: 0 | I15: =ROUND(F15*(G15+H15),2) -> 0 | J15: =ROUND(F15*(N15),2) -> 1672 | K15: =ROUND(F15*(O15),2) -> 0 | L15: =ROUND(F15*(G15),2) -> 0 | M15: =ROUND(F15*(H15),2) -> 0 | N15: 38 | S15: =ROUND(F15*(P15),3) -> 0 | Z15: 0
C16: 1 | D16: ZEMNÉ PRÁCE | G16: =ROUND((SUM(L10:L15))/1,2) -> 0 | H16: =ROUND((SUM(M10:M15))/1,2) -> 0 | I16: =ROUND((SUM(I10:I15))/1,2) -> 0 | L16: =ROUND((SUM(L10:L15))/1,2) -> 0 | M16: =ROUND((SUM(M10:M15))/1,2) -> 0 | S16: =ROUND((SUM(S10:S15))/1,2) -> 0 | V16: =ROUND((SUM(V10:V15))/1,2) -> 0
C18: 2 | D18: ZÁKLADY
A19: 6 | B19: 11/A 1 | C19: 274313611 | D19: Betón základových pásov, prostý tr.C 16/20 | E19: m3 | F19: 69.696 | G19: 0 | H19: 0 | I19: =ROUND(F19*(G19+H19),2) -> 0 | J19: =ROUND(F19*(N19),2) -> 8199.04 | K19: =ROUND(F19*(O19),2) -> 0 | L19: =ROUND(F19*(G19),2) -> 0 | M19: =ROUND(F19*(H19),2) -> 0 | N19: 117.64 | P19: 2.4179 | R19: 2.4179 | S19: =ROUND(F19*(P19),3) -> 168.518 | Z19: 0
A20: 7 | B20: 11/A 1 | C20: 271573001 | D20: Násyp pod zákl. konštr. so zhutnením zo štrkopiesku fr. 0-32 mm hr. 150 mm - pod ryhy | E20: m3 | F20: 9.504 | G20: 0 | H20: 0 | I20: =ROUND(F20*(G20+H20),2) -> 0 | J20: =ROUND(F20*(N20),2) -> 375.41 | K20: =ROUND(F20*(O20),2) -> 0 | L20: =ROUND(F20*(G20),2) -> 0 | M20: =ROUND(F20*(H20),2) -> 0 | N20: 39.5 | S20: =ROUND(F20*(P20),3) -> 0 | Z20: 0
A21: 8 | B21: 11/A 1 | C21: 271573001 | D21: Násyp pod zákl. konštr. so zhutnením zo štrkopiesku fr. 0-32 mm hr. 150 mm | E21: m3 | F21: 50.4 | G21: 0 | H21: 0 | I21: =ROUND(F21*(G21+H21),2) -> 0 | J21: =ROUND(F21*(N21),2) -> 1990.8 | K21: =ROUND(F21*(O21),2) -> 0 | L21: =ROUND(F21*(G21),2) -> 0 | M21: =ROUND(F21*(H21),2) -> 0 | N21: 39.5 | S21: =ROUND(F21*(P21),3) -> 0 | Z21: 0
A22: 9 | B22: 1/A 1 | C22: 279000000 | D22: Kotevné otvory 150x150/250 mm pod stlpami | E22: ks | F22: 44 | G22: 0 | H22: 0 | I22: =ROUND(F22*(G22+H22),2) -> 0 | J22: =ROUND(F22*(N22),2) -> 2992 | K22: =ROUND(F22*(O22),2) -> 0 | L22: =ROUND(F22*(G22),2) -> 0 | M22: =ROUND(F22*(H22),2) -> 0 | N22: 68 | S22: =ROUND(F22*(P22),3) -> 0 | Z22: 0
A23: 10 | B23: 1/A 1 | C23: 279000000 | D23: Zálievka vodostavebným betónom | E23: m3 | F23: 12 | G23: 0 | H23: 0 | I23: =ROUND(F23*(G23+H23),2) -> 0 | J23: =ROUND(F23*(N23),2) -> 1776 | K23: =ROUND(F23*(O23),2) -> 0 | L23: =ROUND(F23*(G23),2) -> 0 | M23: =ROUND(F23*(H23),2) -> 0 | N23: 148 | S23: =ROUND(F23*(P23),3) -> 0 | Z23: 0
A24: 11 | B24: 11/A 1 | C24: 274313611 | D24: Betón základových pásov, prostý tr.C 16/20 s kryštl. hydroizol.- hnojová koncovka | E24: m3 | F24: 23.809 | G24: 0 | H24: 0 | I24: =ROUND(F24*(G24+H24),2) -> 0 | J24: =ROUND(F24*(N24),2) -> 2800.89 | K24: =ROUND(F24*(O24),2) -> 0 | L24: =ROUND(F24*(G24),2) -> 0 | M24: =ROUND(F24*(H24),2) -> 0 | N24: 117.64 | P24: 2.4179 | R24: 2.4179 | S24: =ROUND(F24*(P24),3) -> 57.568 | Z24: 0
A25: 12 | B25: 11/A 1 | C25: 271573001 | D25: Násyp pod zákl. konštr. so zhutnením zo štrkopiesku fr. 0-32 mm, hr. 150 mm - hnojová koncovka | E25: m3 | F25: 15.768 | G25: 0 | H25: 0 | I25: =ROUND(F25*(G25+H25),2) -> 0 | J25: =ROUND(F25*(N25),2) -> 622.84 | K25: =ROUND(F25*(O25),2) -> 0 | L25: =ROUND(F25*(G25),2) -> 0 | M25: =ROUND(F25*(H25),2) -> 0 | N25: 39.5 | S25: =ROUND(F25*(P25),3) -> 0 | Z25: 0
A26: 13 | B26: 11/A 1 | C26: 271573001 | D26: Násyp zhutnený makadam hr. 300 mm - hnojová koncovka | E26: m3 | F26: 34.689 | G26: 0 | H26: 0 | I26: =ROUND(F26*(G26+H26),2) -> 0 | J26: =ROUND(F26*(N26),2) -> 1456.94 | K26: =ROUND(F26*(O26),2) -> 0 | L26: =ROUND(F26*(G26),2) -> 0 | M26: =ROUND(F26*(H26),2) -> 0 | N26: 42 | S26: =ROUND(F26*(P26),3) -> 0 | Z26: 0
A27: 14 | B27: 11/A 1 | C27: 275313611 | D27: Betón základových pätiek, prostý tr.C 16/20 | E27: m3 | F27: 44 | G27: 0 | H27: 0 | I27: =ROUND(F27*(G27+H27),2) -> 0 | J27: =ROUND(F27*(N27),2) -> 5176.16 | K27: =ROUND(F27*(O27),2) -> 0 | L27: =ROUND(F27*(G27),2) -> 0 | M27: =ROUND(F27*(H27),2) -> 0 | N27: 117.64 | P27: 2.19306 | R27: 2.19306 | S27: =ROUND(F27*(P27),3) -> 96.495 | Z27: 0
C28: 2 | D28: ZÁKLADY | G28: =ROUND((SUM(L18:L27))/1,2) -> 0 | H28: =ROUND((SUM(M18:M27))/1,2) -> 0 | I28: =ROUND((SUM(I18:I27))/1,2) -> 0 | L28: =ROUND((SUM(L18:L27))/1,2) -> 0 | M28: =ROUND((SUM(M18:M27))/1,2) -> 0 | S28: =ROUND((SUM(S18:S27))/1,2) -> 322.58 | V28: =ROUND((SUM(V18:V27))/1,2) -> 0
C30: 3 | D30: ZVISLÉ KONŠTRUKCIE
A31: 15 | B31: 14/C 1 | C31: 310238211 | D31: Zamurovanie otvorov - domurovky v murive nadzákladného tehlami na maltu vápennocementovú | E31: m3 | F31: 7.2 | G31: 0 | H31: 0 | I31: =ROUND(F31*(G31+H31),2) -> 0 | J31: =ROUND(F31*(N31),2) -> 1557.58 | K31: =ROUND(F31*(O31),2) -> 0 | L31: =ROUND(F31*(G31),2) -> 0 | M31: =ROUND(F31*(H31),2) -> 0 | N31: 216.33 | P31: 1.87515 | R31: 1.87515 | S31: =ROUND(F31*(P31),3) -> 13.501 | Z31: 0
A32: 16 | B32: 11/A 1 | C32: 317941121 | D32: Osadenie oceľových valcovaných nosníkov L 80/80/6 - 4ks, L 50/50/5 - 2 ks - preklady - murov. steny | E32: t | F32: 0.3 | G32: 0 | H32: 0 | I32: =ROUND(F32*(G32+H32),2) -> 0 | J32: =ROUND(F32*(N32),2) -> 705.8 | K32: =ROUND(F32*(O32),2) -> 0 | L32: =ROUND(F32*(G32),2) -> 0 | M32: =ROUND(F32*(H32),2) -> 0 | N32: 2352.67 | P32: 0.01721 | R32: 0.01721 | S32: =ROUND(F32*(P32),3) -> 0.005 | Z32: 0
A33: 17 | B33: 11/A 1 | C33: 345321313 | D33: Betón múrikov parapet., atik., schodisk., zábradl., železový (bez výstuže) tr.C 16/20- hnojová koncovka | E33: m3 | F33: 17.582 | G33: 0 | H33: 0 | I33: =ROUND(F33*(G33+H33),2) -> 0 | J33: =ROUND(F33*(N33),2) -> 2173.66 | K33: =ROUND(F33*(O33),2) -> 0 | L33: =ROUND(F33*(G33),2) -> 0 | M33: =ROUND(F33*(H33),2) -> 0 | N33: 123.63 | P33: 2.21313 | R33: 2.21313 | S33: =ROUND(F33*(P33),3) -> 38.911 | Z33: 0
A34: 18 | B34: 11/A 1 | C34: 345351101 | D34: Debnenie múrikov parapet., atik., zábradl., plnostenných- zhotovenie | E34: m2 | F34: 79.92 | G34: 0 | H34: 0 | I34: =ROUND(F34*(G34+H34),2) -> 0 | J34: =ROUND(F34*(N34),2) -> 1161.24 | K34: =ROUND(F34*(O34),2) -> 0 | L34: =ROUND(F34*(G34),2) -> 0 | M34: =ROUND(F34*(H34),2) -> 0 | N34: 14.53 | P34: 0.00482 | R34: 0.00482 | S34: =ROUND(F34*(P34),3) -> 0.385 | Z34: 0
A35: 19 | B35: 11/A 1 | C35: 345351102 | D35: Debnenie múrikov parapet., atik., zábradl., plnostenných- odstránenie | E35: m2 | F35: 79.92 | G35: 0 | H35: 0 | I35: =ROUND(F35*(G35+H35),2) -> 0 | J35: =ROUND(F35*(N35),2) -> 347.65 | K35: =ROUND(F35*(O35),2) -> 0 | L35: =ROUND(F35*(G35),2) -> 0 | M35: =ROUND(F35*(H35),2) -> 0 | N35: 4.35 | S35: =ROUND(F35*(P35),3) -> 0 | Z35: 0
A36: 20 | B36: 11/A 1 | C36: 345361821 | D36: Výstuž múrikov parapet., atik., schdisk., zábradl., z betonárskej ocele 10505 | E36: t | F36: 1.055 | G36: 0 | H36: 0 | I36: =ROUND(F36*(G36+H36),2) -> 0 | J36: =ROUND(F36*(N36),2) -> 2082.57 | K36: =ROUND(F36*(O36),2) -> 0 | L36: =ROUND(F36*(G36),2) -> 0 | M36: =ROUND(F36*(H36),2) -> 0 | N36: 1974 | P36: 1.02187 | R36: 1.02187 | S36: =ROUND(F36*(P36),3) -> 1.078 | V36: =ROUND(F36*(X36),3) -> 1.109 | X36: 1.05119 | Z36: 0
C37: 3 | D37: ZVISLÉ KONŠTRUKCIE | G37: =ROUND((SUM(L30:L36))/1,2) -> 0 | H37: =ROUND((SUM(M30:M36))/1,2) -> 0 | I37: =ROUND((SUM(I30:I36))/1,2) -> 0 | L37: =ROUND((SUM(L30:L36))/1,2) -> 0 | M37: =ROUND((SUM(M30:M36))/1,2) -> 0 | S37: =ROUND((SUM(S30:S36))/1,2) -> 53.88 | V37: =ROUND((SUM(V30:V36))/1,2) -> 1.11
C39: 4 | D39: VODOROVNÉ KONŠTRUKCIE
A40: 21 | B40: 11/A 1 | C40: 417321313 | D40: Betón stužujúcich pásov a vencov železový tr. C 16/20 | E40: m3 | F40: 6.257 | G40: 0 | H40: 0 | I40: =ROUND(F40*(G40+H40),2) -> 0 | J40: =ROUND(F40*(N40),2) -> 732.07 | K40: =ROUND(F40*(O40),2) -> 0 | L40: =ROUND(F40*(G40),2) -> 0 | M40: =ROUND(F40*(H40),2) -> 0 | N40: 117 | P40: 2.21321 | R40: 2.21321 | S40: =ROUND(F40*(P40),3) -> 13.848 | Z40: 0
A41: 22 | B41: 11/A 1 | C41: 417351115 | D41: Debnenie bočníc stužujúcich pásov a vencov vrátane vzpier zhotovenie | E41: m2 | F41: 37.92 | G41: 0 | H41: 0 | I41: =ROUND(F41*(G41+H41),2) -> 0 | J41: =ROUND(F41*(N41),2) -> 445.94 | K41: =ROUND(F41*(O41),2) -> 0 | L41: =ROUND(F41*(G41),2) -> 0 | M41: =ROUND(F41*(H41),2) -> 0 | N41: 11.76 | P41: 0.00341 | R41: 0.00341 | S41: =ROUND(F41*(P41),3) -> 0.129 | Z41: 0
A42: 23 | B42: 11/A 1 | C42: 417351116 | D42: Debnenie bočníc stužujúcich pásov a vencov vrátane vzpier odstránenie | E42: m2 | F42: 37.92 | G42: 0 | H42: 0 | I42: =ROUND(F42*(G42+H42),2) -> 0 | J42: =ROUND(F42*(N42),2) -> 240.79 | K42: =ROUND(F42*(O42),2) -> 0 | L42: =ROUND(F42*(G42),2) -> 0 | M42: =ROUND(F42*(H42),2) -> 0 | N42: 6.35 | S42: =ROUND(F42*(P42),3) -> 0 | Z42: 0
A43: 24 | B43: 11/A 1 | C43: 417361821 | D43: Výstuž stužujúcich pásov a vencov z betonárskej ocele 10505 | E43: t | F43: 0.375 | G43: 0 | H43: 0 | I43: =ROUND(F43*(G43+H43),2) -> 0 | J43: =ROUND(F43*(N43),2) -> 417 | K43: =ROUND(F43*(O43),2) -> 0 | L43: =ROUND(F43*(G43),2) -> 0 | M43: =ROUND(F43*(H43),2) -> 0 | N43: 1112 | P43: 1.06754 | R43: 1.06754 | S43: =ROUND(F43*(P43),3) -> 0.4 | V43: =ROUND(F43*(X43),3) -> 0.391 | X43: 1.04157 | Z43: 0
C44: 4 | D44: VODOROVNÉ KONŠTRUKCIE | G44: =ROUND((SUM(L39:L43))/1,2) -> 0 | H44: =ROUND((SUM(M39:M43))/1,2) -> 0 | I44: =ROUND((SUM(I39:I43))/1,2) -> 0 | L44: =ROUND((SUM(L39:L43))/1,2) -> 0 | M44: =ROUND((SUM(M39:M43))/1,2) -> 0 | S44: =ROUND((SUM(S39:S43))/1,2) -> 14.38 | V44: =ROUND((SUM(V39:V43))/1,2) -> 0.39
C46: 5 | D46: SPEVNENÉ PLOCHY
A47: 25 | B47: 221/B 1 | C47: 113106241 | D47: Rozoberanie vozovky a plochy z panelov - uloženie | E47: m2 | F47: 500 | G47: 0 | H47: 0 | I47: =ROUND(F47*(G47+H47),2) -> 0 | J47: =ROUND(F47*(N47),2) -> 3800 | K47: =ROUND(F47*(O47),2) -> 0 | L47: =ROUND(F47*(G47),2) -> 0 | M47: =ROUND(F47*(H47),2) -> 0 | N47: 7.6 | S47: =ROUND(F47*(P47),3) -> 0 | Z47: 0
A48: 26 | B48: 221/A 1 | C48: 584121111 | D48: Prekládka panelovej cesty - osadenie cestných panelov zo železového betónu, so zhotovením podkladu z kam. ťaženého do hr.40 mm | E48: m2 | F48: 500 | G48: 0 | H48: 0 | I48: =ROUND(F48*(G48+H48),2) -> 0 | J48: =ROUND(F48*(N48),2) -> 13280 | K48: =ROUND(F48*(O48),2) -> 0 | L48: =ROUND(F48*(G48),2) -> 0 | M48: =ROUND(F48*(H48),2) -> 0 | N48: 26.56 | P48: 0.0835 | R48: 0.0835 | S48: =ROUND(F48*(P48),3) -> 41.75 | Z48: 0
A49: 27 | B49: 1/A 1 | C49: 564000000 | D49: obslužné a príjazdové komunikácie | E49: kpl | F49: 1 | G49: 0 | H49: 0 | I49: =ROUND(F49*(G49+H49),2) -> 0 | J49: =ROUND(F49*(N49),2) -> 3200 | K49: =ROUND(F49*(O49),2) -> 0 | L49: =ROUND(F49*(G49),2) -> 0 | M49: =ROUND(F49*(H49),2) -> 0 | N49: 3200 | S49: =ROUND(F49*(P49),3) -> 0 | Z49: 0
A50: 28 | B50: 1/A 1 | C50: 564000000 | D50: okapové chodníky | E50: kpl | F50: 1 | G50: 0 | H50: 0 | I50: =ROUND(F50*(G50+H50),2) -> 0 | J50: =ROUND(F50*(N50),2) -> 1250 | K50: =ROUND(F50*(O50),2) -> 0 | L50: =ROUND(F50*(G50),2) -> 0 | M50: =ROUND(F50*(H50),2) -> 0 | N50: 1250 | S50: =ROUND(F50*(P50),3) -> 0 | Z50: 0
A51: 29 | B51: 1/A 1 | C51: 564000000 | D51: odvodňovacie priekopy | E51: kpl | F51: 1 | G51: 0 | H51: 0 | I51: =ROUND(F51*(G51+H51),2) -> 0 | J51: =ROUND(F51*(N51),2) -> 1400 | K51: =ROUND(F51*(O51),2) -> 0 | L51: =ROUND(F51*(G51),2) -> 0 | M51: =ROUND(F51*(H51),2) -> 0 | N51: 1400 | S51: =ROUND(F51*(P51),3) -> 0 | Z51: 0
A52: 30 | B52: 221/A 1 | C52: 564681111 | D52: Podklad z kameniva hrubého drveného veľ.63-125 mm s rozprestrením a zhutnením, po zhutnení hr.300 mm | E52: m2 | F52: 336 | G52: 0 | H52: 0 | I52: =ROUND(F52*(G52+H52),2) -> 0 | J52: =ROUND(F52*(N52),2) -> 5483.52 | K52: =ROUND(F52*(O52),2) -> 0 | L52: =ROUND(F52*(G52),2) -> 0 | M52: =ROUND(F52*(H52),2) -> 0 | N52: 16.32 | P52: 0.573 | R52: 0.573 | S52: =ROUND(F52*(P52),3) -> 192.528 | Z52: 0
C53: 5 | D53: SPEVNENÉ PLOCHY | G53: =ROUND((SUM(L46:L52))/1,2) -> 0 | H53: =ROUND((SUM(M46:M52))/1,2) -> 0 | I53: =ROUND((SUM(I46:I52))/1,2) -> 0 | L53: =ROUND((SUM(L46:L52))/1,2) -> 0 | M53: =ROUND((SUM(M46:M52))/1,2) -> 0 | S53: =ROUND((SUM(S46:S52))/1,2) -> 234.28 | V53: =ROUND((SUM(V46:V52))/1,2) -> 0
C55: 6 | D55: POVRCHOVÉ ÚPRAVY
A56: 31 | B56: 11/A 1 | C56: 631315611 | D56: Mazanina z betónu prostého tr.C 20/25 hr.nad 120 do 240 mm s kryštal. izoláciou | E56: m3 | F56: 177.756 | G56: 0 | H56: 0 | I56: =ROUND(F56*(G56+H56),2) -> 0 | J56: =ROUND(F56*(N56),2) -> 22655 | K56: =ROUND(F56*(O56),2) -> 0 | L56: =ROUND(F56*(G56),2) -> 0 | M56: =ROUND(F56*(H56),2) -> 0 | N56: 127.45 | P56: 2.21311 | R56: 2.21311 | S56: =ROUND(F56*(P56),3) -> 393.394 | Z56: 0
A57: 32 | B57: 11/A 1 | C57: 631362422 | D57: Výstuž mazanín z betónov (z kameniva) a z ľahkých betónov, zo zváraných sietí KARI, priemer drôtu 6/6 mm, veľkosť oka 150x150 mm | E57: t | F57: 4.032 | G57: 0 | H57: 0 | I57: =ROUND(F57*(G57+H57),2) -> 0 | J57: =ROUND(F57*(N57),2) -> 8124.48 | K57: =ROUND(F57*(O57),2) -> 0 | L57: =ROUND(F57*(G57),2) -> 0 | M57: =ROUND(F57*(H57),2) -> 0 | N57: 2015 | P57: 0.00352 | R57: 0.00352 | S57: =ROUND(F57*(P57),3) -> 0.014 | Z57: 0
A58: 33 | B58: 11/A 1 | C58: 612464212 | D58: Vnútorná omietka stien vapennoštuková | E58: m2 | F58: 192.97 | G58: 0 | H58: 0 | I58: =ROUND(F58*(G58+H58),2) -> 0 | J58: =ROUND(F58*(N58),2) -> 2315.64 | K58: =ROUND(F58*(O58),2) -> 0 | L58: =ROUND(F58*(G58),2) -> 0 | M58: =ROUND(F58*(H58),2) -> 0 | N58: 12 | P58: 0.00378 | R58: 0.00378 | S58: =ROUND(F58*(P58),3) -> 0.729 | Z58: 0
A59: 34 | B59: 11/A 1 | C59: 612460312 | D59: Vnutorná omietka pálená do 1850 mm | E59: m2 | F59: 310.43 | G59: 0 | H59: 0 | I59: =ROUND(F59*(G59+H59),2) -> 0 | J59: =ROUND(F59*(N59),2) -> 4718.54 | K59: =ROUND(F59*(O59),2) -> 0 | L59: =ROUND(F59*(G59),2) -> 0 | M59: =ROUND(F59*(H59),2) -> 0 | N59: 15.2 | P59: 0.0235 | R59: 0.0235 | S59: =ROUND(F59*(P59),3) -> 7.295 | Z59: 0
A60: 35 | B60: 11/A 1 | C60: 612460121 | D60: príprava vn. podkladu stien penetráciou zákl. | E60: m2 | F60: 503.4 | G60: 0 | H60: 0 | I60: =ROUND(F60*(G60+H60),2) -> 0 | J60: =ROUND(F60*(N60),2) -> 1258.5 | K60: =ROUND(F60*(O60),2) -> 0 | L60: =ROUND(F60*(G60),2) -> 0 | M60: =ROUND(F60*(H60),2) -> 0 | N60: 2.5 | P60: 0.041 | R60: 0.041 | S60: =ROUND(F60*(P60),3) -> 20.639 | Z60: 0
A61: 36 | B61: 1/A 1 | C61: 631000000 | D61: osadenie + dodávka - L 50/50/5 do podlahy | E61: m2 | F61: 1146.62 | G61: 0 | H61: 0 | I61: =ROUND(F61*(G61+H61),2) -> 0 | J61: =ROUND(F61*(N61),2) -> 7728.22 | K61: =ROUND(F61*(O61),2) -> 0 | L61: =ROUND(F61*(G61),2) -> 0 | M61: =ROUND(F61*(H61),2) -> 0 | N61: 6.74 | S61: =ROUND(F61*(P61),3) -> 0 | Z61: 0
A62: 37 | B62: 1/A 1 | C62: 632000000 | D62: V podlahe krmoviska oc.prof. na vedenie pri vyhrňaní hnoja | E62: m2 | F62: 308 | G62: 0 | H62: 0 | I62: =ROUND(F62*(G62+H62),2) -> 0 | J62: =ROUND(F62*(N62),2) -> 2464 | K62: =ROUND(F62*(O62),2) -> 0 | L62: =ROUND(F62*(G62),2) -> 0 | M62: =ROUND(F62*(H62),2) -> 0 | N62: 8 | S62: =ROUND(F62*(P62),3) -> 0 | Z62: 0
A63: 38 | B63: 11/A 1 | C63: 612481119 | D63: Potiahnutie vnútorných stien, sklotextílnou mriežkou | E63: m2 | F63: 503.4 | G63: 0 | H63: 0 | I63: =ROUND(F63*(G63+H63),2) -> 0 | J63: =ROUND(F63*(N63),2) -> 2023.67 | K63: =ROUND(F63*(O63),2) -> 0 | L63: =ROUND(F63*(G63),2) -> 0 | M63: =ROUND(F63*(H63),2) -> 0 | N63: 4.02 | P63: 0.00288 | R63: 0.00288 | S63: =ROUND(F63*(P63),3) -> 1.45 | Z63: 0
A64: 39 | B64: 11/A 1 | C64: 622466201 | D64: Vonkajšia omietka vápennocementová | E64: m2 | F64: 491.4 | G64: 0 | H64: 0 | I64: =ROUND(F64*(G64+H64),2) -> 0 | J64: =ROUND(F64*(N64),2) -> 9115.47 | K64: =ROUND(F64*(O64),2) -> 0 | L64: =ROUND(F64*(G64),2) -> 0 | M64: =ROUND(F64*(H64),2) -> 0 | N64: 18.55 | P64: 0.0336 | R64: 0.0336 | S64: =ROUND(F64*(P64),3) -> 16.511 | Z64: 0
A65: 40 | B65: 11/A 1 | C65: 622481119 | D65: Potiahnutie vonkajších stien, sklotextílnou mriežkou | E65: m2 | F65: 503.4 | G65: 0 | H65: 0 | I65: =ROUND(F65*(G65+H65),2) -> 0 | J65: =ROUND(F65*(N65),2) -> 2099.18 | K65: =ROUND(F65*(O65),2) -> 0 | L65: =ROUND(F65*(G65),2) -> 0 | M65: =ROUND(F65*(H65),2) -> 0 | N65: 4.17 | P65: 0.00196 | R65: 0.00196 | S65: =ROUND(F65*(P65),3) -> 0.987 | Z65: 0
A66: 41 | B66: 1/A 1 | C66: 631000000 | D66: AQUAFIN IC izolácia voči vplyvom močovky | E66: m2 | F66: 888.78 | G66: 0 | H66: 0 | I66: =ROUND(F66*(G66+H66),2) -> 0 | J66: =ROUND(F66*(N66),2) -> 3679.55 | K66: =ROUND(F66*(O66),2) -> 0 | L66: =ROUND(F66*(G66),2) -> 0 | M66: =ROUND(F66*(H66),2) -> 0 | N66: 4.14 | S66: =ROUND(F66*(P66),3) -> 0 | Z66: 0
C67: 6 | D67: POVRCHOVÉ ÚPRAVY | G67: =ROUND((SUM(L55:L66))/1,2) -> 0 | H67: =ROUND((SUM(M55:M66))/1,2) -> 0 | I67: =ROUND((SUM(I55:I66))/1,2) -> 0 | L67: =ROUND((SUM(L55:L66))/1,2) -> 0 | M67: =ROUND((SUM(M55:M66))/1,2) -> 0 | S67: =ROUND((SUM(S55:S66))/1,2) -> 441.02 | V67: =ROUND((SUM(V55:V66))/1,2) -> 0
C69: 8 | D69: Potrubné rozvody
A70: 42 | B70: 271/A 1 | C70: 871241111 | D70: Daždová kanalizácia - Montáž a dodávka potrubia z PVC 150 | E70: m | F70: 140 | G70: 0 | H70: 0 | I70: =ROUND(F70*(G70+H70),2) -> 0 | J70: =ROUND(F70*(N70),2) -> 2147.6 | K70: =ROUND(F70*(O70),2) -> 0 | L70: =ROUND(F70*(G70),2) -> 0 | M70: =ROUND(F70*(H70),2) -> 0 | N70: 15.34 | P70: 2e-05 | R70: 2e-05 | S70: =ROUND(F70*(P70),3) -> 0.003 | Z70: 0
C71: 8 | D71: Potrubné rozvody | G71: =ROUND((SUM(L69:L70))/1,2) -> 0 | H71: =ROUND((SUM(M69:M70))/1,2) -> 0 | I71: =ROUND((SUM(I69:I70))/1,2) -> 0 | L71: =ROUND((SUM(L69:L70))/1,2) -> 0 | M71: =ROUND((SUM(M69:M70))/1,2) -> 0 | S71: =ROUND((SUM(S69:S70))/1,2) -> 0 | V71: =ROUND((SUM(V69:V70))/1,2) -> 0
C73: 9 | D73: OSTATNÉ PRÁCE
A74: 43 | B74: 3/A 1 | C74: 941941031 | D74: Montáž lešenia ľahkého pracovného radového s podlahami šírky od 0, 80 do 1,00 m a výšky do 10 m | E74: m2 | F74: 160 | G74: 0 | H74: 0 | I74: =ROUND(F74*(G74+H74),2) -> 0 | J74: =ROUND(F74*(N74),2) -> 337.6 | K74: =ROUND(F74*(O74),2) -> 0 | L74: =ROUND(F74*(G74),2) -> 0 | M74: =ROUND(F74*(H74),2) -> 0 | N74: 2.11 | P74: 0.02572 | R74: 0.02572 | S74: =ROUND(F74*(P74),3) -> 4.115 | Z74: 0
A75: 44 | B75: 3/A 1 | C75: 941941191 | D75: Príplatok za prvý a každý ďalší i začatý mesiac použitia lešenia k cene -1031 | E75: m2 | F75: 320 | G75: 0 | H75: 0 | I75: =ROUND(F75*(G75+H75),2) -> 0 | J75: =ROUND(F75*(N75),2) -> 454.4 | K75: =ROUND(F75*(O75),2) -> 0 | L75: =ROUND(F75*(G75),2) -> 0 | M75: =ROUND(F75*(H75),2) -> 0 | N75: 1.42 | S75: =ROUND(F75*(P75),3) -> 0 | Z75: 0
A76: 45 | B76: 3/B 1 | C76: 941941831 | D76: Demontáž lešenia ľahkého pracovného radového a s podlahami, šírky 0,80-1,00 m a výšky do 10m | E76: m2 | F76: 160 | G76: 0 | H76: 0 | I76: =ROUND(F76*(G76+H76),2) -> 0 | J76: =ROUND(F76*(N76),2) -> 212.8 | K76: =ROUND(F76*(O76),2) -> 0 | L76: =ROUND(F76*(G76),2) -> 0 | M76: =ROUND(F76*(H76),2) -> 0 | N76: 1.33 | P76: 0.02572 | R76: 0.02572 | S76: =ROUND(F76*(P76),3) -> 4.115 | Z76: 0
A77: 46 | B77: 11/A 1 | C77: 952901311 | D77: Vyčistenie budov poľnohospodárskych objektov akejkoľvek výšky | E77: m2 | F77: 1146.62 | G77: 0 | H77: 0 | I77: =ROUND(F77*(G77+H77),2) -> 0 | J77: =ROUND(F77*(N77),2) -> 4059.03 | K77: =ROUND(F77*(O77),2) -> 0 | L77: =ROUND(F77*(G77),2) -> 0 | M77: =ROUND(F77*(H77),2) -> 0 | N77: 3.54 | P77: 4e-05 | R77: 4e-05 | S77: =ROUND(F77*(P77),3) -> 0.046 | Z77: 0
A78: 47 | B78: 13/B 1 | C78: 962022391 | D78: Búranie muriva v obvodovom murive | E78: m3 | F78: 23.31 | G78: 0 | H78: 0 | I78: =ROUND(F78*(G78+H78),2) -> 0 | J78: =ROUND(F78*(N78),2) -> 660.14 | K78: =ROUND(F78*(O78),2) -> 0 | L78: =ROUND(F78*(G78),2) -> 0 | M78: =ROUND(F78*(H78),2) -> 0 | N78: 28.32 | S78: =ROUND(F78*(P78),3) -> 0 | V78: =ROUND(F78*(X78),3) -> 58.275 | X78: 2.5 | Z78: 0
A79: 48 | B79: 13/B 1 | C79: 978013191 | D79: Otlčenie vnút. omietok stien MV MVC do 100 % | E79: M2 | F79: 503.4 | G79: 0 | H79: 0 | I79: =ROUND(F79*(G79+H79),2) -> 0 | J79: =ROUND(F79*(N79),2) -> 1122.58 | K79: =ROUND(F79*(O79),2) -> 0 | L79: =ROUND(F79*(G79),2) -> 0 | M79: =ROUND(F79*(H79),2) -> 0 | N79: 2.23 | S79: =ROUND(F79*(P79),3) -> 0 | V79: =ROUND(F79*(X79),3) -> 23.156 | X79: 0.046 | Z79: 0
A80: 49 | B80: 13/B 1 | C80: 978036191 | D80: Otlčenie omietok vonkajších v rozsahu do 100 % -0,050 t | E80: M2 | F80: 491.4 | G80: 0 | H80: 0 | I80: =ROUND(F80*(G80+H80),2) -> 0 | J80: =ROUND(F80*(N80),2) -> 972.97 | K80: =ROUND(F80*(O80),2) -> 0 | L80: =ROUND(F80*(G80),2) -> 0 | M80: =ROUND(F80*(H80),2) -> 0 | N80: 1.98 | S80: =ROUND(F80*(P80),3) -> 0 | V80: =ROUND(F80*(X80),3) -> 24.57 | X80: 0.05 | Z80: 0
A81: 50 | B81: 13/B 1 | C81: 962042321 | D81: Búranie muriva z betónu prostého nadzákladného, - obvodové steny -2,20000t | E81: m3 | F81: 15 | G81: 0 | H81: 0 | I81: =ROUND(F81*(G81+H81),2) -> 0 | J81: =ROUND(F81*(N81),2) -> 1122.9 | K81: =ROUND(F81*(O81),2) -> 0 | L81: =ROUND(F81*(G81),2) -> 0 | M81: =ROUND(F81*(H81),2) -> 0 | N81: 74.86 | S81: =ROUND(F81*(P81),3) -> 0 | V81: =ROUND(F81*(X81),3) -> 33 | X81: 2.2 | Z81: 0
A82: 51 | B82: 13/B 1 | C82: 968072641 | D82: Vybúranie a vybratie kovových brán-0,025 t | E82: M2 | F82: 28 | G82: 0 | H82: 0 | I82: =ROUND(F82*(G82+H82),2) -> 0 | J82: =ROUND(F82*(N82),2) -> 652.68 | K82: =ROUND(F82*(O82),2) -> 0 | L82: =ROUND(F82*(G82),2) -> 0 | M82: =ROUND(F82*(H82),2) -> 0 | N82: 23.31 | P82: 0.00044 | R82: 0.00044 | S82: =ROUND(F82*(P82),3) -> 0.012 | V82: =ROUND(F82*(X82),3) -> 0.7 | X82: 0.025 | Z82: 0
A83: 52 | B83: 13/B 1 | C83: 971033641 | D83: Vybúranie otvorov pre vráta v čelnej stene, tehlové murivo -1,87500t | E83: m3 | F83: 4.9 | G83: 0 | H83: 0 | I83: =ROUND(F83*(G83+H83),2) -> 0 | J83: =ROUND(F83*(N83),2) -> 215.31 | K83: =ROUND(F83*(O83),2) -> 0 | L83: =ROUND(F83*(G83),2) -> 0 | M83: =ROUND(F83*(H83),2) -> 0 | N83: 43.94 | S83: =ROUND(F83*(P83),3) -> 0 | V83: =ROUND(F83*(X83),3) -> 8.82 | X83: 1.8 | Z83: 0
A84: 53 | B84: 13/B 1 | C84: 979082121 | D84: Vnútrostavenisková doprava sutiny a vybúraných hmôt za každých ďalších 5 m | E84: t | F84: 2032.86 | G84: 0 | H84: 0 | I84: =ROUND(F84*(G84+H84),2) -> 0 | J84: =ROUND(F84*(N84),2) -> 2114.17 | K84: =ROUND(F84*(O84),2) -> 0 | L84: =ROUND(F84*(G84),2) -> 0 | M84: =ROUND(F84*(H84),2) -> 0 | N84: 1.04 | S84: =ROUND(F84*(P84),3) -> 0 | Z84: 0
A85: 54 | B85: 13/B 1 | C85: 979081111 | D85: Odvoz sutiny a vybúraných hmôt na skládku do 1 km | E85: t | F85: 203.286 | G85: 0 | H85: 0 | I85: =ROUND(F85*(G85+H85),2) -> 0 | J85: =ROUND(F85*(N85),2) -> 2724.03 | K85: =ROUND(F85*(O85),2) -> 0 | L85: =ROUND(F85*(G85),2) -> 0 | M85: =ROUND(F85*(H85),2) -> 0 | N85: 13.4 | S85: =ROUND(F85*(P85),3) -> 0 | Z85: 0
A86: 55 | B86: 13/B 1 | C86: 979081121 | D86: Odvoz sutiny a vybúraných hmôt na skládku za každý ďalší 1 km | E86: t | F86: 3862.434 | G86: 0 | H86: 0 | I86: =ROUND(F86*(G86+H86),2) -> 0 | J86: =ROUND(F86*(N86),2) -> 1776.72 | K86: =ROUND(F86*(O86),2) -> 0 | L86: =ROUND(F86*(G86),2) -> 0 | M86: =ROUND(F86*(H86),2) -> 0 | N86: 0.46 | S86: =ROUND(F86*(P86),3) -> 0 | Z86: 0
A87: 56 | B87: 13/B 1 | C87: 979089012 | D87: Poplatok za skladovanie - betón, tehly, dlaždice (17 01 ), ostatné | E87: t | F87: 203.286 | G87: 0 | H87: 0 | I87: =ROUND(F87*(G87+H87),2) -> 0 | J87: =ROUND(F87*(N87),2) -> 7115.01 | K87: =ROUND(F87*(O87),2) -> 0 | L87: =ROUND(F87*(G87),2) -> 0 | M87: =ROUND(F87*(H87),2) -> 0 | N87: 35 | S87: =ROUND(F87*(P87),3) -> 0 | Z87: 0
A88: 57 | B88: 13/B 1 | C88: 979082111 | D88: Vnútrostavenisková doprava sutiny a vybúraných hmôt do 10 m | E88: t | F88: 203.2858 | G88: 0 | H88: 0 | I88: =ROUND(F88*(G88+H88),2) -> 0 | J88: =ROUND(F88*(N88),2) -> 1884.46 | K88: =ROUND(F88*(O88),2) -> 0 | L88: =ROUND(F88*(G88),2) -> 0 | M88: =ROUND(F88*(H88),2) -> 0 | N88: 9.27 | S88: =ROUND(F88*(P88),3) -> 0 | Z88: 0
A89: 58 | B89: 1/A 1 | C89: 979000000 | D89: Demontáž prístavby | E89: ks | F89: 1 | G89: 0 | H89: 0 | I89: =ROUND(F89*(G89+H89),2) -> 0 | J89: =ROUND(F89*(N89),2) -> 1980 | K89: =ROUND(F89*(O89),2) -> 0 | L89: =ROUND(F89*(G89),2) -> 0 | M89: =ROUND(F89*(H89),2) -> 0 | N89: 1980 | S89: =ROUND(F89*(P89),3) -> 0 | Z89: 0
A90: 59 | B90: 1/A 1 | C90: 979000000 | D90: Demontáž prístreška | E90: ks | F90: 1 | G90: 0 | H90: 0 | I90: =ROUND(F90*(G90+H90),2) -> 0 | J90: =ROUND(F90*(N90),2) -> 890 | K90: =ROUND(F90*(O90),2) -> 0 | L90: =ROUND(F90*(G90),2) -> 0 | M90: =ROUND(F90*(H90),2) -> 0 | N90: 890 | S90: =ROUND(F90*(P90),3) -> 0 | Z90: 0
C91: 9 | D91: OSTATNÉ PRÁCE | G91: =ROUND((SUM(L73:L90))/1,2) -> 0 | H91: =ROUND((SUM(M73:M90))/1,2) -> 0 | I91: =ROUND((SUM(I73:I90))/1,2) -> 0 | L91: =ROUND((SUM(L73:L90))/1,2) -> 0 | M91: =ROUND((SUM(M73:M90))/1,2) -> 0 | S91: =ROUND((SUM(S73:S90))/1,2) -> 8.29 | V91: =ROUND((SUM(V73:V90))/1,2) -> 148.52
C93: 99 | D93: PRESUNY HMÔT
A94: 60 | B94: 14/C 1 | C94: 999281111 | D94: Presun hmôt | E94: t | F94: 1180.6994 | G94: 0 | H94: 0 | I94: =ROUND(F94*(G94+H94),2) -> 0 | J94: =ROUND(F94*(N94),2) -> 18985.65 | K94: =ROUND(F94*(O94),2) -> 0 | L94: =ROUND(F94*(G94),2) -> 0 | M94: =ROUND(F94*(H94),2) -> 0 | N94: 16.08 | S94: =ROUND(F94*(P94),3) -> 0 | Z94: 0
C95: 99 | D95: PRESUNY HMÔT | G95: =ROUND((SUM(L93:L94))/1,2) -> 0 | H95: =ROUND((SUM(M93:M94))/1,2) -> 0 | I95: =ROUND((SUM(I93:I94))/1,2) -> 0 | L95: =ROUND((SUM(L93:L94))/1,2) -> 0 | M95: =ROUND((SUM(M93:M94))/1,2) -> 0 | S95: =ROUND((SUM(S93:S94))/1,2) -> 0 | V95: =ROUND((SUM(V93:V94))/1,2) -> 0
D97: Práce HSV | G97: =ROUND((SUM(L9:L96))/2,2) -> 0 | H97: =ROUND((SUM(M9:M96))/2,2) -> 0 | I97: =ROUND((SUM(I9:I96))/2,2) -> 0 | L97: =ROUND((SUM(L9:L96))/2,2) -> 0 | M97: =ROUND((SUM(M9:M96))/2,2) -> 0 | S97: =ROUND((SUM(S9:S96))/2,2) -> 1074.43 | V97: =ROUND((SUM(V9:V96))/2,2) -> 150.02
D99: Práce PSV
C100: 722 | D100: ZTI - VNÚTORNÝ VODOVOD
A101: 61 | B101: 722 | C101: 722000000 | D101: Vodovod z rur PE pod podlahou k napajačkám - tlakové rury PE,DN20,DN25,DN32,DN40 | E101: kpl | F101: 1 | G101: 0 | H101: 0 | I101: =ROUND(F101*(G101+H101),2) -> 0 | J101: =ROUND(F101*(N101),2) -> 1900 | K101: =ROUND(F101*(O101),2) -> 0 | L101: =ROUND(F101*(G101),2) -> 0 | M101: =ROUND(F101*(H101),2) -> 0 | N101: 1900 | S101: =ROUND(F101*(P101),3) -> 0 | Z101: 0
A102: 62 | B102: 722 | C102: 722000000 | D102: M+D - vypušťací ventil DN15 | E102: kpl | F102: 6 | G102: 0 | H102: 0 | I102: =ROUND(F102*(G102+H102),2) -> 0 | J102: =ROUND(F102*(N102),2) -> 348 | K102: =ROUND(F102*(O102),2) -> 0 | L102: =ROUND(F102*(G102),2) -> 0 | M102: =ROUND(F102*(H102),2) -> 0 | N102: 58 | S102: =ROUND(F102*(P102),3) -> 0 | Z102: 0
A103: 63 | B103: 722 | C103: 722000000 | D103: M+D - guľový ventil DN15 | E103: kpl | F103: 6 | G103: 0 | H103: 0 | I103: =ROUND(F103*(G103+H103),2) -> 0 | J103: =ROUND(F103*(N103),2) -> 360 | K103: =ROUND(F103*(O103),2) -> 0 | L103: =ROUND(F103*(G103),2) -> 0 | M103: =ROUND(F103*(H103),2) -> 0 | N103: 60 | S103: =ROUND(F103*(P103),3) -> 0 | Z103: 0
A104: 64 | B104: 722 | C104: 722000000 | D104: Tlaková skúška,preplach,dezinfekcia | E104: kpl | F104: 1 | G104: 0 | H104: 0 | I104: =ROUND(F104*(G104+H104),2) -> 0 | J104: =ROUND(F104*(N104),2) -> 150 | K104: =ROUND(F104*(O104),2) -> 0 | L104: =ROUND(F104*(G104),2) -> 0 | M104: =ROUND(F104*(H104),2) -> 0 | N104: 150 | S104: =ROUND(F104*(P104),3) -> 0 | Z104: 0
A105: 65 | B105: 722 | C105: 722000000 | D105: Chranička DN 100 - potrubie križujúce základy | E105: ks | F105: 1 | G105: 0 | H105: 0 | I105: =ROUND(F105*(G105+H105),2) -> 0 | J105: =ROUND(F105*(N105),2) -> 540 | K105: =ROUND(F105*(O105),2) -> 0 | L105: =ROUND(F105*(G105),2) -> 0 | M105: =ROUND(F105*(H105),2) -> 0 | N105: 540 | S105: =ROUND(F105*(P105),3) -> 0 | Z105: 0
C106: 722 | D106: ZTI - VNÚTORNÝ VODOVOD | G106: =ROUND((SUM(L100:L105))/1,2) -> 0 | H106: =ROUND((SUM(M100:M105))/1,2) -> 0 | I106: =ROUND((SUM(I100:I105))/1,2) -> 0 | L106: =ROUND((SUM(L100:L105))/1,2) -> 0 | M106: =ROUND((SUM(M100:M105))/1,2) -> 0 | S106: =ROUND((SUM(S100:S105))/1,2) -> 0 | V106: =ROUND((SUM(V100:V105))/1,2) -> 0
C108: 762 | D108: KONŠTRUKCIE TESÁRSKE
A109: 66 | B109: 762/A 1 | C109: 762332140 | D109: Montáž viazaných konštrukcií krovov striech z reziva priemernej plochy 288-450 cm2 - väznice | E109: m | F109: 1300 | G109: 0 | H109: 0 | I109: =ROUND(F109*(G109+H109),2) -> 0 | J109: =ROUND(F109*(N109),2) -> 13546 | K109: =ROUND(F109*(O109),2) -> 0 | L109: =ROUND(F109*(G109),2) -> 0 | M109: =ROUND(F109*(H109),2) -> 0 | N109: 10.42 | P109: 0.00026 | R109: 0.00026 | S109: =ROUND(F109*(P109),3) -> 0.338 | Z109: 0
A110: 67 | B110: P/PC | C110: 605000000 | D110: dodávka - rezivo -vaznice | E110: m3 | F110: 35 | G110: 0 | H110: 0 | I110: =ROUND(F110*(G110+H110),2) -> 0 | J110: =ROUND(F110*(N110),2) -> 13475 | K110: =ROUND(F110*(O110),2) -> 0 | L110: =ROUND(F110*(G110),2) -> 0 | M110: =ROUND(F110*(H110),2) -> 0 | N110: 385 | S110: =ROUND(F110*(P110),3) -> 0 | Z110: 0
A111: 68 | B111: 762/A 1 | C111: 762395000 | D111: Spojovacie a ochranné prostriedky svorky, dosky, klince, pásová oceľ, vruty, impregnácia | E111: m3 | F111: 50.08 | G111: 0 | H111: 0 | I111: =ROUND(F111*(G111+H111),2) -> 0 | J111: =ROUND(F111*(N111),2) -> 1499.4 | K111: =ROUND(F111*(O111),2) -> 0 | L111: =ROUND(F111*(G111),2) -> 0 | M111: =ROUND(F111*(H111),2) -> 0 | N111: 29.94 | P111: 0.0231 | R111: 0.0231 | S111: =ROUND(F111*(P111),3) -> 1.157 | Z111: 0
C112: 762 | D112: KONŠTRUKCIE TESÁRSKE | G112: =ROUND((SUM(L108:L111))/1,2) -> 0 | H112: =ROUND((SUM(M108:M111))/1,2) -> 0 | I112: =ROUND((SUM(I108:I111))/1,2) -> 0 | L112: =ROUND((SUM(L108:L111))/1,2) -> 0 | M112: =ROUND((SUM(M108:M111))/1,2) -> 0 | S112: =ROUND((SUM(S108:S111))/1,2) -> 1.5 | V112: =ROUND((SUM(V108:V111))/1,2) -> 0
...

Sheet Kryci_list 27359
F1: Krycí list výkazu výmer | W1: 30.126
B2: Stavba Rekonštrukcia maštalí a rozšírenie farmového hnojiska, Bobrov
B3: Objekt PS 02.01 Ustajnenie | I3: Miesto:
I4: Ks:
B5: Zákazka: | F5: Spracoval: | I5: Dňa | J5: 45263
B6: Odberateľ: Podielnícke roľnícko-obchodné družstvo,Družstevná 263,Bobrov
B7: IČO: | G7: DIČ:
B8: Projektant: Ing.Štefan Comba,Levoča
B9: IČO: | G9: DIČ:
B10: Dodávateľ:
B11: IČO: | G11: DIČ:
B15: A | C15: ZRN | D15: Montáž | E15: Materiál | F15: ZRN spolu | G15: B | H15: Ďalšie náklady
B16: 1 | C16: HSV | G16: 6 | H16: Ostatné náklady | J16: 0
B17: 2 | C17: PSV | D17: ='Rekap 27359'!B12 -> 0 | E17: ='Rekap 27359'!C12 -> 0 | F17: ='Rekap 27359'!D12 -> 0 | G17: 7 | H17: Kompletačná činnosť | J17: =0 -> 0
B18: 3 | C18: MONT | G18: 8 | H18: HZS | J18: 0
B19: 4 | C19: VRN | G19: 9
B20: 5 | C20: Spolu | F20: =SUM(F16:F19) -> 0 | G20: 10 | H20: Spolu | J20: =SUM(J16:J19) -> 0
B21: C | C21: VRN | G21: D | H21: VRN
B22: 11 | C22: Zariadenie staveniska | E22: 0% z [H+P+M] | F22: =((F16*U22*0)+(F17*V22*0)+(F18*W22*0))/100 -> 0 | G22: 16 | H22: Sťažené podmienky dopravy | I22: 0% z [H+P+M] | J22: =((F16*X22*0)+(F17*Y22*0)+(F18*Z22*0))/100 -> 0 | U22: 1 | V22: 1 | W22: 1 | X22: 1 | Y22: 1 | Z22: 1
B23: 12 | C23: Sťažené výrobné podmienky | E23: 0% z [H+P] | F23: =((F16*U23*0)+(F17*V23*0)+(F18*W23*0))/100 -> 0 | G23: 17 | H23: Horské oblasti | I23: 0% z [H+P+M] | J23: =((F16*X23*0)+(F17*Y23*0)+(F18*Z23*0))/100 -> 0 | U23: 1 | V23: 1 | W23: 0 | X23: 1 | Y23: 1 | Z23: 1
B24: 13 | C24: Prevádzkové vplyvy | E24: 0% z [H+P+M] | F24: =((F16*U24*0)+(F17*V24*0)+(F18*W24*0))/100 -> 0 | G24: 18 | H24: Mimostavenisková doprava | I24: 0% z [H+P] | J24: =((F16*X24*0)+(F17*Y24*0)+(F18*Z24*0))/100 -> 0 | U24: 1 | V24: 1 | W24: 1 | X24: 1 | Y24: 1 | Z24: 0
B25: 14 | G25: 19
B26: 15 | G26: 20 | H26: Spolu | J26: =SUM(J22:J25)+SUM(F22:F25) -> 0
C27: Projektant,rozpočtár | G27: E | H27: Celkové náklady
G28: 21 | H28: Súčet riadkov 5,10,15,20 | J28: =F20+J20+F26+J26 -> 0
G29: 22 | H29: DPH 20% z | I29: =J28 -> 0 | J29: =ROUND(((ROUND(I29,2)*20)*1/100),2) -> 0
G30: 23 | H30: DPH 0% z | I30: =0 -> 0 | J30: =ROUND(((ROUND(I30,2)*0)/100),2) -> 0
G31: 24 | H31: Spolu v EUR | J31: =SUM(J28:J30) -> 0
G32: F
D33: Odberateľ | G33: 26 | H33: Dodávateľ

Sheet Rekap 27359
A1: Odberateľ: Podielnícke roľnícko-obchodné družstvo,Družstevná 263,Bobrov | E1: Spracoval: | W1: 30.126
A2: Projektant: Ing.Štefan Comba,Levoča | E2: Ks:
A3: Dodávateľ: | E3: Dátum: 3. 12. 2023
A4: Stavba Rekonštrukcia maštalí a rozšírenie farmového hnojiska, Bobrov
A5: Objekt PS 02.01 Ustájnenie
A8: Prehľad výkazu výmer
A9: Oddiel | B9: Montáž | C9: Materiál | D9: Spolu | E9: Hmotnosť (T) | F9: Suť (T)
A10: Práce PSV
A11: PREVÁDZKOVÉ SÚBORY | B11: =Hárok1!G17 -> 0 | C11: =Hárok1!H17 -> 0 | D11: =Hárok1!I17 -> 0 | E11: 0 | F11: 0
A12: Práce PSV | B12: =B11 -> 0 | C12: =C11 -> 0 | D12: =D11 -> 0 | E12: =E11 -> 0 | F12: =F11 -> 0
A14: Celkom v EUR | B14: =B12 -> 0 | C14: =C12 -> 0 | D14: =D12 -> 0 | E14: =E12 -> 0 | F14: =F12 -> 0

Sheet Hárok1
A1: Odberateľ: Podielnícke roľnícko-obchodné družstvo,Družstevná 263,Bobrov | W1: 30.126
A2: Projektant: Ing.Štefan Comba,Levoča | I2: Spracoval:
A3: Dodávateľ: | I3: Ks:
A4: Stavba Rekonštrukcia maštalí a rozšírenie farmového hnojiska, Bobrov | I4: Dátum: | P4: 45263
A5: Objekt PS 02.01 Ustájnenie
A8: Prehľad výkazu výmer
A9: Por.č. | B9: Cenník | C9: Kód položky | D9: Názov | E9: Mj | F9: Množstvo | G9: Montáž | H9: Materiál | I9: Cena celkom | P9: Hmotnosť/Mj | S9: Hmotnosť | V9: Suť
D10: Práce PSV
D11: PREVÁDZKOVÉ SÚBORY
A12: 87 | B12: R/R 0 | C12: 599331111 | D12: Ustajnenie montáž - samostatný rozpočet | E12: SUB | F12: 1 | G12: =ustajnenie!F49 -> 0 | I12: =ROUND(F12*(G12+H12),2) -> 0 | J12: =ROUND(F12*(N12),2) -> 2428 | K12: =ROUND(F12*(O12),2) -> 0 | L12: =ROUND(F12*(G12+H12),2) -> 0 | N12: 2428 | P12: 0 | R12: 0.01 | S12: =ROUND(F12*(X12),3) -> 0 | X12: 0 | Z12: 0
A13: 88 | B13: S/S50 | C13: 5512335003 | D13: Ustajnenie dodávka - samostatný rozpočet | E13: SUB | F13: 1 | H13: =ustajnenie!G49 -> 0 | I13: =ROUND(F13*(G13+H13),2) -> 0 | J13: =ROUND(F13*(N13),2) -> 13493 | K13: =ROUND(F13*(O13),2) -> 0 | M13: =ROUND(F13*(G13+H13),2) -> 0 | N13: 13493 | P13: 0 | R13: 0.00054 | S13: =ROUND(F13*(X13),3) -> 0 | X13: 0 | Z13: 0
D14: PREVÁDZKOVÉ SÚBORY | G14: =ROUND((SUM(L11:L13))/1,2) -> 0 | H14: =ROUND((SUM(M11:M13))/1,2) -> 0 | I14: =ROUND((SUM(I11:I13))/1,2) -> 0 | L14: =ROUND((SUM(L11:L13))/1,2) -> 0 | M14: =ROUND((SUM(M11:M13))/1,2) -> 0 | P14: =ROUND((SUM(P11:P13))/1,2) -> 0 | S14: =ROUND((SUM(S11:S13))/1,2) -> 0
D16: Práce PSV | G16: =ROUND((SUM(L10:L15))/2,2) -> 0 | H16: =ROUND((SUM(M10:M15))/2,2) -> 0 | I16: =ROUND((SUM(I10:I15))/2,2) -> 0 | L16: =ROUND((SUM(L10:L15))/2,2) -> 0 | M16: =ROUND((SUM(M10:M15))/2,2) -> 0 | P16: =ROUND((SUM(P10:P15))/2,2) -> 0 | S16: =ROUND((SUM(S10:S15))/2,2) -> 0
F17: Celkom | G17: =ROUND((SUM(L10:L16))/3,2) -> 0 | H17: =ROUND((SUM(M10:M16))/3,2) -> 0 | I17: =ROUND((SUM(I10:I16))/3,2) -> 0 | L17: =ROUND((SUM(L10:L16))/3,2) -> 0 | M17: =ROUND((SUM(M10:M16))/3,2) -> 0 | P17: =ROUND((SUM(P10:P16))/3,2) -> 0 | S17: =ROUND((SUM(S10:S16))/3,2) -> 0 | Z17: =(SUM(Z10:Z16)) -> 0

Sheet ustajnenie
A1: Odberateľ: Podielnícke roľnícko-obchodné družstvo,Družstevná 263,Bobrov | H1: Spracoval:
A2: Projektant: Ing.Štefan Comba,Levoča | H2: Ks:
A3: Dodávateľ: | H3: Dátum: | O3: 45263
A4: Zákazka Rekonštrukcia maštalí a rozšírenie farmového hnojiska, Bobrov
A5: Objekt PS 02.01 Ustájnenie
A7: Prehľad výkazu výmer
A8: Cenník | B8: Kód položky | C8: Názov | D8: Mj | E8: Množstvo | F8: Montáž | G8: Materiál | H8: Cena celkom | O8: Hmotnosť/Mj | R8: Hmotnosť | U8: Suť
C9: Práce PSV
C10: PREVÁDZKOVÉ SÚBORY
A11: P/PC | B11: 000000001 | C11: Deliaca bránka 2,8-3,1 , Zn | D11: ks | E11: 4 | F11: 0 | G11: 0 | H11: =ROUND(E11*(F11+G11),2) -> 0 | I11: =ROUND(E11*(M11),2) -> 0 | J11: =ROUND(E11*(N11),2) -> 0 | K11: =ROUND(E11*(F11),2) -> 0 | L11: =ROUND(E11*(G11),2) -> 0 | M11: 0 | R11: =ROUND(E11*(O11),3) -> 0
A12: P/PC | B12: 000000002 | C12: Deliaca bránka plachta , Zn | D12: ks | E12: 4 | F12: 0 | G12: 0 | H12: =ROUND(E12*(F12+G12),2) -> 0 | I12: =ROUND(E12*(M12),2) -> 0 | J12: =ROUND(E12*(N12),2) -> 0 | K12: =ROUND(E12*(F12),2) -> 0 | L12: =ROUND(E12*(G12),2) -> 0 | M12: 0 | R12: =ROUND(E12*(O12),3) -> 0
A13: P/PC | B13: 000000003 | C13: Spojovací materlial, bránky | D13: kpl | E13: 1 | F13: 0 | G13: 0 | H13: =ROUND(E13*(F13+G13),2) -> 0 | I13: =ROUND(E13*(M13),2) -> 1 | J13: =ROUND(E13*(N13),2) -> 0 | K13: =ROUND(E13*(F13),2) -> 0 | L13: =ROUND(E13*(G13),2) -> 0 | M13: 1 | R13: =ROUND(E13*(O13),3) -> 0
A14: P/PC | B14: 000000004 | C14: Montáž bránok | D14: kpl | E14: 1 | F14: 0 | G14: 0 | H14: =ROUND(E14*(F14+G14),2) -> 0 | I14: =ROUND(E14*(M14),2) -> 2 | J14: =ROUND(E14*(N14),2) -> 0 | K14: =ROUND(E14*(F14),2) -> 0 | L14: =ROUND(E14*(G14),2) -> 0 | M14: 2 | R14: =ROUND(E14*(O14),3) -> 0
A15: P/PC | B15: 000000005 | C15: Stĺpik 102/2000 , Zn | D15: ks | E15: 4 | F15: 0 | G15: 0 | H15: =ROUND(E15*(F15+G15),2) -> 0 | I15: =ROUND(E15*(M15),2) -> 12 | J15: =ROUND(E15*(N15),2) -> 0 | K15: =ROUND(E15*(F15),2) -> 0 | L15: =ROUND(E15*(G15),2) -> 0 | M15: 3 | R15: =ROUND(E15*(O15),3) -> 0
A16: P/PC | B16: 000000006 | C16: Stĺpik 102/1800 , Zn | D16: ks | E16: 4 | F16: 0 | G16: 0 | H16: =ROUND(E16*(F16+G16),2) -> 0 | I16: =ROUND(E16*(M16),2) -> 16 | J16: =ROUND(E16*(N16),2) -> 0 | K16: =ROUND(E16*(F16),2) -> 0 | L16: =ROUND(E16*(G16),2) -> 0 | M16: 4 | R16: =ROUND(E16*(O16),3) -> 0
A17: P/PC | B17: 00000006a | C17: Stĺpik 76/1800 , Zn | D17: ks | E17: 8 | F17: 0 | G17: 0 | H17: =ROUND(E17*(F17+G17),2) -> 0 | I17: =ROUND(E17*(M17),2) -> 40 | J17: =ROUND(E17*(N17),2) -> 0 | K17: =ROUND(E17*(F17),2) -> 0 | L17: =ROUND(E17*(G17),2) -> 0 | M17: 5 | R17: =ROUND(E17*(O17),3) -> 0
A18: P/PC | B18: 000000007 | C18: Závesy 102/42 komplet, bránka, Zn | D18: ks | E18: 8 | F18: 0 | G18: 0 | H18: =ROUND(E18*(F18+G18),2) -> 0 | I18: =ROUND(E18*(M18),2) -> 40 | J18: =ROUND(E18*(N18),2) -> 0 | K18: =ROUND(E18*(F18),2) -> 0 | L18: =ROUND(E18*(G18),2) -> 0 | M18: 5 | R18: =ROUND(E18*(O18),3) -> 0
A19: P/PC | B19: 000000008 | C19: Istenie bránky 76, na stlpik, Zn | D19: ks | E19: 16 | F19: 0 | G19: 0 | H19: =ROUND(E19*(F19+G19),2) -> 0 | I19: =ROUND(E19*(M19),2) -> 96 | J19: =ROUND(E19*(N19),2) -> 0 | K19: =ROUND(E19*(F19),2) -> 0 | L19: =ROUND(E19*(G19),2) -> 0 | M19: 6 | R19: =ROUND(E19*(O19),3) -> 0
A20: P/PC | B20: 00000009a | C20: Istenie bránky 76, na stenu, Zn | D20: ks | E20: 8 | F20: 0 | G20: 0 | H20: =ROUND(E20*(F20+G20),2) -> 0 | I20: =ROUND(E20*(M20),2) -> 56 | J20: =ROUND(E20*(N20),2) -> 0 | K20: =ROUND(E20*(F20),2) -> 0 | L20: =ROUND(E20*(G20),2) -> 0 | M20: 7 | R20: =ROUND(E20*(O20),3) -> 0
A21: P/PC | B21: 000000009 | C21: Čap bránky 18/400 Zn | D21: ks | E21: 12 | F21: 0 | G21: 0 | H21: =ROUND(E21*(F21+G21),2) -> 0 | I21: =ROUND(E21*(M21),2) -> 84 | J21: =ROUND(E21*(N21),2) -> 0 | K21: =ROUND(E21*(F21),2) -> 0 | L21: =ROUND(E21*(G21),2) -> 0 | M21: 7 | R21: =ROUND(E21*(O21),3) -> 0
A22: P/PC | B22: 000000010 | C22: Stĺpik 76/1800 , istenie, Zn | D22: ks | E22: 12 | F22: 0 | G22: 0 | H22: =ROUND(E22*(F22+G22),2) -> 0 | I22: =ROUND(E22*(M22),2) -> 96 | J22: =ROUND(E22*(N22),2) -> 0 | K22: =ROUND(E22*(F22),2) -> 0 | L22: =ROUND(E22*(G22),2) -> 0 | M22: 8 | R22: =ROUND(E22*(O22),3) -> 0
... A29: P/PC | B29: 000000016 | C29: Šijová zábrana vrtaná 5/4" Zn | D29: ks | E29: 84 | F29: 0 | G29: 0 | H29: =ROUND(E29*(F29+G29),2) -> 0 | I29: =ROUND(E29*(M29),2) -> 1176 | J29: =ROUND(E29*(N29),2) -> 0 | K29: =ROUND(E29*(F29),2) -> 0 | L29: =ROUND(E29*(G29),2) -> 0 | M29: 14 | R29: =ROUND(E29*(O29),3) -> 0
A30: P/PC | B30: 000000017 | C30: Montáž bočných zábran | D30: kpl | E30: 1 | F30: 0 | G30: 0 | H30: =ROUND(E30*(F30+G30),2) -> 0 | J30: =ROUND(E30*(N30),2) -> 0 | K30: =ROUND(E30*(F30),2) -> 0 | R30: =ROUND(E30*(O30),3) -> 0
A31: P/PC | B31: 000000018 | C31: Stĺpik 76/1800 Zn | D31: ks | E31: 24 | F31: 0 | G31: 0 | H31: =ROUND(E31*(F31+G31),2) -> 0 | I31: =ROUND(E31*(M31),2) -> 240 | J31: =ROUND(E31*(N31),2) -> 0 | K31: =ROUND(E31*(F31),2) -> 0 | L31: =ROUND(E31*(G31),2) -> 0 | M31: 10 | R31: =ROUND(E31*(O31),3) -> 0
A32: P/PC | B32: 000000019 | C32: Zakončenie predsunutia 60/3000 Zn | D32: ks | E32: 4 | F32: 0 | G32: 0 | H32: =ROUND(E32*(F32+G32),2) -> 0 | I32: =ROUND(E32*(M32),2) -> 44 | J32: =ROUND(E32*(N32),2) -> 0 | K32: =ROUND(E32*(F32),2) -> 0 | L32: =ROUND(E32*(G32),2) -> 0 | M32: 11 | R32: =ROUND(E32*(O32),3) -> 0
A33: P/PC | B33: 000000020 | C33: Predsunutie šijovej zábrany 76/60 Zn | D33: ks | E33: 20 | F33: 0 | G33: 0 | H33: =ROUND(E33*(F33+G33),2) -> 0 | I33: =ROUND(E33*(M33),2) -> 240 | J33: =ROUND(E33*(N33),2) -> 0 | K33: =ROUND(E33*(F33),2) -> 0 | L33: =ROUND(E33*(G33),2) -> 0 | M33: 12 | R33: =ROUND(E33*(O33),3) -> 0
A34: P/PC | B34: 000000021 | C34: Trubka 5/4" | D34: bm | E34: 120 | F34: 0 | G34: 0 | H34: =ROUND(E34*(F34+G34),2) -> 0 | I34: =ROUND(E34*(M34),2) -> 1560 | J34: =ROUND(E34*(N34),2) -> 0 | K34: =ROUND(E34*(F34),2) -> 0 | L34: =ROUND(E34*(G34),2) -> 0 | M34: 13 | R34: =ROUND(E34*(O34),3) -> 0
A35: P/PC | B35: 000000022 | C35: Trubka 2" | D35: bm | E35: 96 | F35: 0 | G35: 0 | H35: =ROUND(E35*(F35+G35),2) -> 0 | I35: =ROUND(E35*(M35),2) -> 1344 | J35: =ROUND(E35*(N35),2) -> 0 | K35: =ROUND(E35*(F35),2) -> 0 | L35: =ROUND(E35*(G35),2) -> 0 | M35: 14 | R35: =ROUND(E35*(O35),3) -> 0
A36: P/PC | B36: 000000023 | C36: Spona T 76/60 Zn | D36: ks | E36: 6 | F36: 0 | G36: 0 | H36: =ROUND(E36*(F36+G36),2) -> 0 | I36: =ROUND(E36*(M36),2) -> 60 | J36: =ROUND(E36*(N36),2) -> 0 | K36: =ROUND(E36*(F36),2) -> 0 | L36: =ROUND(E36*(G36),2) -> 0 | M36: 10 | R36: =ROUND(E36*(O36),3) -> 0
A37: P/PC | B37: 000000024 | C37: Spona T 76/40 Zn | D37: ks | E37: 6 | F37: 0 | G37: 0 | H37: =ROUND(E37*(F37+G37),2) -> 0 | I37: =ROUND(E37*(M37),2) -> 66 | J37: =ROUND(E37*(N37),2) -> 0 | K37: =ROUND(E37*(F37),2) -> 0 | L37: =ROUND(E37*(G37),2) -> 0 | M37: 11 | R37: =ROUND(E37*(O37),3) -> 0
A38: P/PC | B38: 000000025 | C38: Spona X 76/42 Zn | D38: ks | E38: 22 | F38: 0 | G38: 0 | H38: =ROUND(E38*(F38+G38),2) -> 0 | I38: =ROUND(E38*(M38),2) -> 264 | J38: =ROUND(E38*(N38),2) -> 0 | K38: =ROUND(E38*(F38),2) -> 0 | L38: =ROUND(E38*(G38),2) -> 0 | M38: 12 | R38: =ROUND(E38*(O38),3) -> 0
A39: P/PC | B39: 000000026 | C39: Trubka 51x4 | D39: ks | E39: 6 | F39: 0 | G39: 0 | H39: =ROUND(E39*(F39+G39),2) -> 0 | I39: =ROUND(E39*(M39),2) -> 78 | J39: =ROUND(E39*(N39),2) -> 0 | K39: =ROUND(E39*(F39),2) -> 0 | L39: =ROUND(E39*(G39),2) -> 0 | M39: 13 | R39: =ROUND(E39*(O39),3) -> 0
A40: P/PC | B40: 000000027 | C40: Zámok 60 Zn | D40: ks | E40: 20 | F40: 0 | G40: 0 | H40: =ROUND(E40*(F40+G40),2) -> 0 | I40: =ROUND(E40*(M40),2) -> 280 | J40: =ROUND(E40*(N40),2) -> 0 | K40: =ROUND(E40*(F40),2) -> 0 | L40: =ROUND(E40*(G40),2) -> 0 | M40: 14 | R40: =ROUND(E40*(O40),3) -> 0
A41: P/PC | B41: 000000028 | C41: Spona T 60/60 Zn | D41: kpl | E41: 20 | F41: 0 | G41: 0 | H41: =ROUND(E41*(F41+G41),2) -> 0 | I41: =ROUND(E41*(M41),2) -> 0 | J41: =ROUND(E41*(N41),2) -> 0 | K41: =ROUND(E41*(F41),2) -> 0 | L41: =ROUND(E41*(G41),2) -> 0 | M41: 0 | R41: =ROUND(E41*(O41),3) -> 0
A42: P/PC | B42: 000000029 | C42: Zámok 42 Zn | D42: kpl | E42: 38 | F42: 0 | G42: 0 | H42: =ROUND(E42*(F42+G42),2) -> 0 | I42: =ROUND(E42*(M42),2) -> 38 | J42: =ROUND(E42*(N42),2) -> 0 | K42: =ROUND(E42*(F42),2) -> 0 | L42: =ROUND(E42*(G42),2) -> 0 | M42: 1 | R42: =ROUND(E42*(O42),3) -> 0
... A45: P/PC | B45: 000000032 | C45: Doprava | D45: kpl | E45: 1 | F45: 0 | G45: 0 | H45: =ROUND(E45*(F45+G45),2) -> 0 | I45: =ROUND(E45*(M45),2) -> 0 | J45: =ROUND(E45*(N45),2) -> 0 | K45: =ROUND(E45*(F45),2) -> 0 | L45: =ROUND(E45*(G45),2) -> 0 | M45: 0 | R45: =ROUND(E45*(O45),3) -> 0
C46: PREVÁDZKOVÉ SÚBORY | F46: =ROUND((SUM(K10:K45))/1,2) -> 0 | G46: =ROUND((SUM(L10:L45))/1,2) -> 0 | H46: =ROUND((SUM(H10:H45))/1,2) -> 0 | K46: =ROUND((SUM(K10:K45))/1,2) -> 0 | L46: =ROUND((SUM(L10:L45))/1,2) -> 0 | R46: =ROUND((SUM(R10:R45))/1,2) -> 0 | U46: =ROUND((SUM(U10:U45))/1,2) -> 0
C48: Práce PSV | F48: =ROUND((SUM(K9:K47))/2,2) -> 0 | G48: =ROUND((SUM(L9:L47))/2,2) -> 0 | H48: =ROUND((SUM(H9:H47))/2,2) -> 0 | K48: =ROUND((SUM(K9:K47))/2,2) -> 0 | L48: =ROUND((SUM(L9:L47))/2,2) -> 0 | R48: =ROUND((SUM(R9:R47))/2,2) -> 0 | U48: =ROUND((SUM(U9:U47))/2,2) -> 0
C49: Celkom v EUR | F49: =ROUND((SUM(K9:K48))/3,2) -> 0 | G49: =ROUND((SUM(L9:L48))/3,2) -> 0 | H49: =ROUND((SUM(H9:H48))/3,2) -> 0 | J49: =ROUND((SUM(J9:J48))/3,2) -> 0 | K49: =ROUND((SUM(K9:K48))/3,2) -> 0 | L49: =ROUND((SUM(L9:L48))/3,2) -> 0 | R49: =ROUND((SUM(R9:R48))/3,2) -> 0 | U49: =ROUND((SUM(U9:U48))/3,2) -> 0

Sheet kryci_list 27002
F1: Krycí list výkazu výmer | W1: 30.126
B2: Stavba Rekonštrukcia maštalí a rozšírenie farmového hnojiska, Bobrov
B3: Objekt PS 02.02 Kŕmenie a napájanie | I3: Miesto:
I4: Ks:
B5: Zákazka: | F5: Spracoval: | I5: Dňa | J5: 45263
B6: Odberateľ: Podielnícke roľnícko-obchodné družstvo,Družstevná 263,Bobrov
B7: IČO: | G7: DIČ:
B8: Projektant: Ing.Štefan Comba,Levoča
B9: IČO: | G9: DIČ:
B10: Dodávateľ:
B11: IČO: | G11: DIČ:
B15: A | C15: ZRN | D15: Montáž | E15: Materiál | F15: ZRN spolu | G15: B | H15: Ďalšie náklady
B16: 1 | C16: HSV | G16: 6 | H16: Ostatné náklady | J16: 0
B17: 2 | C17: PSV | D17: ='rekap 27002'!B12 -> 0 | E17: ='rekap 27002'!C12 -> 0 | F17: ='rekap 27002'!D12 -> 0 | G17: 7 | H17: Kompletačná činnosť | J17: =0 -> 0
B18: 3 | C18: MONT | G18: 8 | H18: HZS | J18: 0
B19: 4 | C19: VRN | G19: 9
B20: 5 | C20: Spolu | F20: =SUM(F16:F19) -> 0 | G20: 10 | H20: Spolu | J20: =SUM(J16:J19) -> 0
B21: C | C21: VRN | G21: D | H21: VRN
B22: 11 | C22: Zariadenie staveniska | E22: 0% z [H+P+M] | F22: =((F16*U22*0)+(F17*V22*0)+(F18*W22*0))/100 -> 0 | G22: 16 | H22: Sťažené podmienky dopravy | I22: 0% z [H+P+M] | J22: =((F16*X22*0)+(F17*Y22*0)+(F18*Z22*0))/100 -> 0 | U22: 1 | V22: 1 | W22: 1 | X22: 1 | Y22: 1 | Z22: 1
B23: 12 | C23: Sťažené výrobné podmienky | E23: 0% z [H+P] | F23: =((F16*U23*0)+(F17*V23*0)+(F18*W23*0))/100 -> 0 | G23: 17 | H23: Horské oblasti | I23: 0% z [H+P+M] | J23: =((F16*X23*0)+(F17*Y23*0)+(F18*Z23*0))/100 -> 0 | U23: 1 | V23: 1 | W23: 0 | X23: 1 | Y23: 1 | Z23: 1
B24: 13 | C24: Prevádzkové vplyvy | E24: 0% z [H+P+M] | F24: =((F16*U24*0)+(F17*V24*0)+(F18*W24*0))/100 -> 0 | G24: 18 | H24: Mimostavenisková doprava | I24: 0% z [H+P] | J24: =((F16*X24*0)+(F17*Y24*0)+(F18*Z24*0))/100 -> 0 | U24: 1 | V24: 1 | W24: 1 | X24: 1 | Y24: 1 | Z24: 0
B25: 14 | G25: 19
B26: 15 | G26: 20 | H26: Spolu | J26: =SUM(J22:J25)+SUM(F22:F25) -> 0
C27: Projektant,rozpočtár | G27: E | H27: Celkové náklady
G28: 21 | H28: Súčet riadkov 5,10,15,20 | J28: =F20+J20+F26+J26 -> 0
G29: 22 | H29: DPH 20% z | I29: =J28 -> 0 | J29: =ROUND(((ROUND(I29,2)*20)*1/100),2) -> 0
G30: 23 | H30: DPH 0% z | I30: =0 -> 0 | J30: =ROUND(((ROUND(I30,2)*0)/100),2) -> 0
G31: 24 | H31: Spolu v EUR | J31: =SUM(J28:J30) -> 0
G32: F
D33: Odberateľ | G33: 26 | H33: Dodávateľ

Sheet rekap 27002
A1: Odberateľ: Podielnícke roľnícko-obchodné družstvo,Družstevná 263,Bobrov | E1: Spracoval: | W1: 30.126
A2: Projektant: Ing.Štefan Comba,Levoča | E2: Ks:
A3: Dodávateľ: | E3: Dátum: 3. 12. 2023
A4: Stavba Rekonštrukcia maštalí a rozšírenie farmového hnojiska, Bobrov
A5: Objekt PS 02.02 Krmenie a napájanie
A8: Prehľad výkazu výmer
A9: Oddiel | B9: Montáž | C9: Materiál | D9: Spolu | E9: Hmotnosť (T) | F9: Suť (T)
A10: Práce PSV
A11: PREVÁDZKOVÉ SÚBORY | B11: =Hárok2!G17 -> 0 | C11: =Hárok2!H17 -> 0 | D11: =Hárok2!I17 -> 0 | E11: 0 | F11: 0
A12: Práce PSV | B12: =B11 -> 0 | C12: =C11 -> 0 | D12: =D11 -> 0 | E12: =E11 -> 0 | F12: =F11 -> 0
A14: Celkom v EUR | B14: =B12 -> 0 | C14: =C12 -> 0 | D14: =D12 -> 0 | E14: =E12 -> 0 | F14: =F12 -> 0

Sheet Hárok2
A1: Odberateľ: Podielnícke roľnícko-obchodné družstvo,Družstevná 263,Bobrov | W1: 30.126
A2: Projektant: Ing.Štefan Comba,Levoča | I2: Spracoval:
A3: Dodávateľ: | I3: Ks:
A4: Stavba Rekonštrukcia maštalí a rozšírenie farmového hnojiska, Bobrov | I4: Dátum: | P4: 45263
A5: Objekt PS 02.02 Kŕmenie a napájanie
A8: Prehľad výkazu výmer
A9: Por.č. | B9: Cenník | C9: Kód položky | D9: Názov | E9: Mj | F9: Množstvo | G9: Montáž | H9: Materiál | I9: Cena celkom | P9: Hmotnosť/Mj | S9: Hmotnosť | V9: Suť
D10: Práce PSV
D11: PREVÁDZKOVÉ SÚBORY
A12: 89 | B12: R/R 0 | C12: 597999992 | D12: Kŕmenie a napájanie montáž - samostatný rozpočet | E12: SUB | F12: 1 | G12: ='krmenie a napajanie'!F18 -> 0 | I12: =ROUND(F12*(G12+H12),2) -> 0 | J12: =ROUND(F12*(N12),2) -> 700 | K12: =ROUND(F12*(O12),2) -> 0 | L12: =ROUND(F12*(G12+H12),2) -> 0 | N12: 700 | P12: 0 | R12: 0.01 | S12: =ROUND(F12*(X12),3) -> 0 | X12: 0 | Z12: 0
A13: 90 | B13: S/S50 | C13: 5512335003 | D13: Kŕmenie a napájanie - dodávka - samostatný rozpočet | E13: SUB | F13: 1 | H13: ='krmenie a napajanie'!G18 -> 0 | I13: =ROUND(F13*(G13+H13),2) -> 0 | J13: =ROUND(F13*(N13),2) -> 6580 | K13: =ROUND(F13*(O13),2) -> 0 | M13: =ROUND(F13*(G13+H13),2) -> 0 | N13: 6580 | P13: 0 | R13: 0.00054 | S13: =ROUND(F13*(X13),3) -> 0 | X13: 0 | Z13: 0
D14: PREVÁDZKOVÉ SÚBORY | G14: =ROUND((SUM(L11:L13))/1,2) -> 0 | H14: =ROUND((SUM(M11:M13))/1,2) -> 0 | I14: =ROUND((SUM(I11:I13))/1,2) -> 0 | L14: =ROUND((SUM(L11:L13))/1,2) -> 0 | M14: =ROUND((SUM(M11:M13))/1,2) -> 0 | P14: 0 | S14: =ROUND((SUM(S11:S13))/1,2) -> 0
D16: Práce PSV | G16: =ROUND((SUM(L10:L15))/2,2) -> 0 | H16: =ROUND((SUM(M10:M15))/2,2) -> 0 | I16: =ROUND((SUM(I10:I15))/2,2) -> 0 | L16: =ROUND((SUM(L10:L15))/2,2) -> 0 | M16: =ROUND((SUM(M10:M15))/2,2) -> 0 | P16: =ROUND((SUM(P10:P15))/2,2) -> 0 | S16: =ROUND((SUM(S10:S15))/2,2) -> 0
F17: Celkom | G17: =ROUND((SUM(L10:L16))/3,2) -> 0 | H17: =ROUND((SUM(M10:M16))/3,2) -> 0 | I17: =ROUND((SUM(I10:I16))/3,2) -> 0 | L17: =ROUND((SUM(L10:L16))/3,2) -> 0 | M17: =ROUND((SUM(M10:M16))/3,2) -> 0 | P17: =ROUND((SUM(P10:P16))/3,2) -> 0 | S17: =ROUND((SUM(S10:S16))/3,2) -> 0 | Z17: =(SUM(Z10:Z16)) -> 0

Sheet krmenie a napajanie
A1: Odberateľ: Podielnícke roľnícko-obchodné družstvo,Družstevná 263,Bobrov | H1: Spracoval:
A2: Projektant: Ing.Štefan Comba,Levoča | H2: Ks:
A3: Dodávateľ: | H3: Dátum: | O3: 45263
A4: Zákazka Rekonštrukcia maštalí a rozšírenie farmového hnojiska, Bobrov
A5: Objekt PS - 02,02 krmenie a napájanie
A7: Prehľad rozpočtových nákladov
A8: Cenník | B8: Kód položky | C8: Názov | D8: Mj | E8: Množstvo | F8: Montáž | G8: Materiál | H8: Cena celkom | O8: Hmotnosť/Mj | R8: Hmotnosť | U8: Suť
C9: Práce PSV
C10: PREVÁDZKOVÉ SÚBORY
A11: P/PC | B11: 000000033 | C11: Vyhrievaný napájací žľab - pravý D+M | D11: ks | E11: 2 | F11: 0 | G11: 0 | H11: =ROUND(E11*(F11+G11),2) -> 0 | I11: =ROUND(E11*(M11),2) -> 0 | J11: =ROUND(E11*(N11),2) -> 0 | K11: =ROUND(E11*(F11),2) -> 0 | L11: =ROUND(E11*(G11),2) -> 0 | M11: 0 | R11: =ROUND(E11*(O11),3) -> 0
A12: P/PC | B12: 000000034 | C12: Vyhrievaný napájací žľab - ľavý D+M | D12: ks | E12: 2 | F12: 0 | G12: 0 | H12: =ROUND(E12*(F12+G12),2) -> 0 | I12: =ROUND(E12*(M12),2) -> 0 | J12: =ROUND(E12*(N12),2) -> 0 | K12: =ROUND(E12*(F12),2) -> 0 | L12: =ROUND(E12*(G12),2) -> 0 | M12: 0 | R12: =ROUND(E12*(O12),3) -> 0
A13: P/PC | B13: 000000035 | C13: akrylbetónová vložka krmného stola D+M | D13: bm | E13: 90 | F13: 0 | G13: 0 | H13: =ROUND(E13*(F13+G13),2) -> 0 | I13: =ROUND(E13*(M13),2) -> 0 | J13: =ROUND(E13*(N13),2) -> 0 | K13: =ROUND(E13*(F13),2) -> 0 | L13: =ROUND(E13*(G13),2) -> 0 | M13: 0 | R13: =ROUND(E13*(O13),3) -> 0
A14: P/PC | B14: 000000036 | C14: Doprava | D14: kpl | E14: 1 | G14: 0 | H14: =ROUND(E14*(F14+G14),2) -> 0 | I14: =ROUND(E14*(M14),2) -> 0 | J14: =ROUND(E14*(N14),2) -> 0 | K14: =ROUND(E14*(F14),2) -> 0 | L14: =ROUND(E14*(G14),2) -> 0 | M14: 0 | R14: =ROUND(E14*(O14),3) -> 0
C15: PREVÁDZKOVÉ SÚBORY | F15: =ROUND((SUM(K10:K14))/1,2) -> 0 | G15: =ROUND((SUM(L10:L14))/1,2) -> 0 | H15: =ROUND((SUM(H10:H14))/1,2) -> 0 | K15: =ROUND((SUM(K10:K13))/1,2) -> 0 | L15: =ROUND((SUM(L10:L14))/1,2) -> 0 | R15: =ROUND((SUM(R10:R13))/1,2) -> 0 | U15: =ROUND((SUM(U10:U13))/1,2) -> 0
C17: Práce PSV | F17: =ROUND((SUM(K9:K16))/2,2) -> 0 | G17: =ROUND((SUM(L9:L16))/2,2) -> 0 | H17: =ROUND((SUM(H9:H16))/2,2) -> 0 | K17: =ROUND((SUM(K9:K16))/2,2) -> 0 | L17: =ROUND((SUM(L9:L16))/2,2) -> 0 | R17: =ROUND((SUM(R9:R16))/2,2) -> 0 | U17: =ROUND((SUM(U9:U16))/2,2) -> 0
C18: Celkom v EUR | F18: =ROUND((SUM(K9:K17))/3,2) -> 0 | G18: =ROUND((SUM(L9:L17))/3,2) -> 0 | H18: =ROUND((SUM(H9:H17))/3,2) -> 0 | J18: =ROUND((SUM(J9:J17))/3,2) -> 0 | K18: =ROUND((SUM(K9:K17))/3,2) -> 0 | L18: =ROUND((SUM(L9:L17))/3,2) -> 0 | R18: =ROUND((SUM(R9:R17))/3,2) -> 0 | U18: =ROUND((SUM(U9:U17))/3,2) -> 0

Sheet Krycí_list 27003
F1: Krycí list výkazu výmer | W1: 30.126
B2: Stavba Rekonštrukcia maštalí a rozšírenie farmového hnojiska, Bobrov
B3: Objekt PS 02.03 Vetranie | I3: Miesto:
I4: Ks:
B5: Zákazka: | F5: Spracoval: | I5: Dňa | J5: 45263
B6: Odberateľ: Podielnícke roľnícko-obchodné družstvo,Družstevná 263,Bobrov
B7: IČO: | G7: DIČ:
B8: Projektant: Ing.Štefan Comba,Levoča
B9: IČO: | G9: DIČ:
B10: Dodávateľ:
B11: IČO: | G11: DIČ:
B15: A | C15: ZRN | D15: Montáž | E15: Materiál | F15: ZRN spolu | G15: B | H15: Ďalšie náklady
B16: 1 | C16: HSV | G16: 6 | H16: Ostatné náklady | J16: 0
B17: 2 | C17: PSV | D17: ='Rekap 27003'!B12 -> 0 | E17: ='Rekap 27003'!C12 -> 0 | F17: ='Rekap 27003'!D12 -> 0 | G17: 7 | H17: Kompletačná činnosť | J17: =0 -> 0
B18: 3 | C18: MONT | G18: 8 | H18: HZS | J18: 0
B19: 4 | C19: VRN | G19: 9
B20: 5 | C20: Spolu | F20: =SUM(F16:F19) -> 0 | G20: 10 | H20: Spolu | J20: =SUM(J16:J19) -> 0
B21: C | C21: VRN | G21: D | H21: VRN
B22: 11 | C22: Zariadenie staveniska | E22: 0% z [H+P+M] | F22: =((F16*U22*0)+(F17*V22*0)+(F18*W22*0))/100 -> 0 | G22: 16 | H22: Sťažené podmienky dopravy | I22: 0% z [H+P+M] | J22: =((F16*X22*0)+(F17*Y22*0)+(F18*Z22*0))/100 -> 0 | U22: 1 | V22: 1 | W22: 1 | X22: 1 | Y22: 1 | Z22: 1
B23: 12 | C23: Sťažené výrobné podmienky | E23: 0% z [H+P] | F23: =((F16*U23*0)+(F17*V23*0)+(F18*W23*0))/100 -> 0 | G23: 17 | H23: Horské oblasti | I23: 0% z [H+P+M] | J23: =((F16*X23*0)+(F17*Y23*0)+(F18*Z23*0))/100 -> 0 | U23: 1 | V23: 1 | W23: 0 | X23: 1 | Y23: 1 | Z23: 1
B24: 13 | C24: Prevádzkové vplyvy | E24: 0% z [H+P+M] | F24: =((F16*U24*0)+(F17*V24*0)+(F18*W24*0))/100 -> 0 | G24: 18 | H24: Mimostavenisková doprava | I24: 0% z [H+P] | J24: =((F16*X24*0)+(F17*Y24*0)+(F18*Z24*0))/100 -> 0 | U24: 1 | V24: 1 | W24: 1 | X24: 1 | Y24: 1 | Z24: 0
B25: 14 | G25: 19
B26: 15 | G26: 20 | H26: Spolu | J26: =SUM(J22:J25)+SUM(F22:F25) -> 0
C27: Projektant,rozpočtár | G27: E | H27: Celkové náklady
G28: 21 | H28: Súčet riadkov 5,10,15,20 | J28: =F20+J20+F26+J26 -> 0
G29: 22 | H29: DPH 20% z | I29: =J28 -> 0 | J29: =ROUND(((ROUND(I29,2)*20)*1/100),2) -> 0
G30: 23 | H30: DPH 0% z | I30: =0 -> 0 | J30: =ROUND(((ROUND(I30,2)*0)/100),2) -> 0
G31: 24 | H31: Spolu v EUR | J31: =SUM(J28:J30) -> 0
G32: F
D33: Odberateľ | G33: 26 | H33: Dodávateľ

Sheet Rekap 27003
A1: Odberateľ: Podielnícke roľnícko-obchodné družstvo,Družstevná 263,Bobrov | E1: Spracoval: | W1: 30.126
A2: Projektant: Ing.Štefan Comba,Levoča | E2: Ks:
A3: Dodávateľ: | E3: Dátum: 3. 12. 2023
A4: Stavba Rekonštrukcia maštalí a rozšírenie farmového hnojiska, Bobrov
A5: Objekt PS 02.03 Vetranie
A8: Prehľad výkazu výmer
A9: Oddiel | B9: Montáž | C9: Materiál | D9: Spolu | E9: Hmotnosť (T) | F9: Suť (T)
A10: Práce PSV
A11: PREVÁDZKOVÉ SÚBORY | B11: =Hárok3!G17 -> 0 | C11: =Hárok3!H17 -> 0 | D11: =Hárok3!I17 -> 0 | E11: 0 | F11: 0
A12: Práce PSV | B12: =B11 -> 0 | C12: =C11 -> 0 | D12: =D11 -> 0 | E12: =E11 -> 0 | F12: =F11 -> 0
A14: Celkom v EUR | B14: =B12 -> 0 | C14: =C12 -> 0 | D14: =D12 -> 0 | E14: =E12 -> 0 | F14: =F12 -> 0

Sheet Hárok3
A1: Odberateľ: Podielnícke roľnícko-obchodné družstvo,Družstevná 263,Bobrov | W1: 30.126
A2: Projektant: Ing.Štefan Comba,Levoča | I2: Spracoval:
A3: Dodávateľ: | I3: Ks:
A4: Stavba Rekonštrukcia maštalí a rozšírenie farmového hnojiska, Bobrov | I4: Dátum: | P4: 45263
A5: Objekt PS 02.03 Vetranie
A8: Prehľad výkazu výmer
A9: Por.č. | B9: Cenník | C9: Kód položky | D9: Názov | E9: Mj | F9: Množstvo | G9: Montáž | H9: Materiál | I9: Cena celkom | P9: Hmotnosť/Mj | S9: Hmotnosť | V9: Suť
D10: Práce PSV
D11: PREVÁDZKOVÉ SÚBORY
A12: 91 | B12: R/R 0 | C12: 597999993 | D12: Vetranie montáž - samostatný rozpočet | E12: SUB | F12: 1 | G12: =vetranie!F20 -> 0 | I12: =ROUND(F12*(G12+H12),2) -> 0 | J12: =ROUND(F12*(N12),2) -> 700 | K12: =ROUND(F12*(O12),2) -> 0 | L12: =ROUND(F12*(G12+H12),2) -> 0 | N12: 700 | P12: 0 | R12: 0.01 | S12: =ROUND(F12*(X12),3) -> 0 | X12: 0 | Z12: 0
A13: 92 | B13: S/S50 | C13: 5512335003 | D13: Vetranie - dodávka - samostatný rozpočet | E13: SUB | F13: 1 | H13: =vetranie!G20 -> 0 | I13: =ROUND(F13*(G13+H13),2) -> 0 | J13: =ROUND(F13*(N13),2) -> 6580 | K13: =ROUND(F13*(O13),2) -> 0 | M13: =ROUND(F13*(G13+H13),2) -> 0 | N13: 6580 | P13: 0 | R13: 0.00054 | S13: =ROUND(F13*(X13),3) -> 0 | X13: 0 | Z13: 0
D14: PREVÁDZKOVÉ SÚBORY | G14: =ROUND((SUM(L11:L13))/1,2) -> 0 | H14: =ROUND((SUM(M11:M13))/1,2) -> 0 | I14: =ROUND((SUM(I11:I13))/1,2) -> 0 | L14: =ROUND((SUM(L11:L13))/1,2) -> 0 | M14: =ROUND((SUM(M11:M13))/1,2) -> 0 | P14: 0 | S14: =ROUND((SUM(S11:S13))/1,2) -> 0
D16: Práce PSV | G16: =ROUND((SUM(L10:L15))/2,2) -> 0 | H16: =ROUND((SUM(M10:M15))/2,2) -> 0 | I16: =ROUND((SUM(I10:I15))/2,2) -> 0 | L16: =ROUND((SUM(L10:L15))/2,2) -> 0 | M16: =ROUND((SUM(M10:M15))/2,2) -> 0 | P16: =ROUND((SUM(P10:P15))/2,2) -> 0 | S16: =ROUND((SUM(S10:S15))/2,2) -> 0
F17: Celkom | G17: =ROUND((SUM(L10:L16))/3,2) -> 0 | H17: =ROUND((SUM(M10:M16))/3,2) -> 0 | I17: =ROUND((SUM(I10:I16))/3,2) -> 0 | L17: =ROUND((SUM(L10:L16))/3,2) -> 0 | M17: =ROUND((SUM(M10:M16))/3,2) -> 0 | P17: =ROUND((SUM(P10:P16))/3,2) -> 0 | S17: =ROUND((SUM(S10:S16))/3,2) -> 0 | Z17: =(SUM(Z10:Z16)) -> 0

Sheet vetranie
A1: Odberateľ: Podielnícke roľnícko-obchodné družstvo,Družstevná 263,Bobrov | H1: Spracoval:
A2: Projektant: Ing.Štefan Comba,Levoča | H2: Ks:
A3: Dodávateľ: | H3: Dátum: | O3: 45263
A4: Zákazka Rekonštrukcia maštalí a rozšírenie farmového hnojiska, Bobrov
A5: Objekt PS 02.03 Vetranie
A7: Prehľad výkazu výmer
A8: Cenník | B8: Kód položky | C8: Názov | D8: Mj | E8: Množstvo | F8: Montáž | G8: Materiál | H8: Cena celkom | O8: Hmotnosť/Mj | R8: Hmotnosť | U8: Suť
C9: Práce PSV
C10: PREVÁDZKOVÉ SÚBORY
A11: P/PC | B11: 000000037 | C11: Vetracia štrbina, D+M | D11: kpl | E11: 1 | F11: 0 | G11: 0 | H11: =ROUND(E11*(F11+G11),2) -> 0 | I11: =ROUND(E11*(M11),2) -> 0 | J11: =ROUND(E11*(N11),2) -> 0 | K11: =ROUND(E11*(F11),2) -> 0 | L11: =ROUND(E11*(G11),2) -> 0 | M11: 0 | R11: =ROUND(E11*(O11),3) -> 0
A12: P/PC | B12: 000000038 | C12: Lalemolový prechod,2x2,15 m, folia do 4000N, D+M | D12: kpl | E12: 4 | F12: 0 | G12: 0 | H12: =ROUND(E12*(F12+G12),2) -> 0 | I12: =ROUND(E12*(M12),2) -> 0 | J12: =ROUND(E12*(N12),2) -> 0 | K12: =ROUND(E12*(F12),2) -> 0 | L12: =ROUND(E12*(G12),2) -> 0 | M12: 0 | R12: =ROUND(E12*(O12),3) -> 0
A13: P/PC | B13: 000000039 | C13: Zvinovacia plachta, elektricke ovladanie, otvor 44x1,2m, plachta priehľadná, D+M | D13: kpl | E13: 2 | F13: 0 | G13: 0 | H13: =ROUND(E13*(F13+G13),2) -> 0 | I13: =ROUND(E13*(M13),2) -> 0 | J13: =ROUND(E13*(N13),2) -> 0 | K13: =ROUND(E13*(F13),2) -> 0 | L13: =ROUND(E13*(G13),2) -> 0 | M13: 0 | R13: =ROUND(E13*(O13),3) -> 0
A14: P/PC | B14: 000000040 | C14: Výdreva - zvinovacia plachta D+M | D14: kpl | E14: 2 | F14: 0 | G14: 0 | H14: =ROUND(E14*(F14+G14),2) -> 0 | I14: =ROUND(E14*(M14),2) -> 0 | J14: =ROUND(E14*(N14),2) -> 0 | K14: =ROUND(E14*(F14),2) -> 0 | L14: =ROUND(E14*(G14),2) -> 0 | M14: 0 | R14: =ROUND(E14*(O14),3) -> 0
A15: P/PC | B15: 000000041 | C15: Rolovacie vráta, otvor 2,6x3,5 m, ovladanie retiazkové, 1/2 plachta priesvitná, 1/2 farba D+M | D15: kpl | E15: 4 | F15: 0 | G15: 0 | H15: =ROUND(E15*(F15+G15),2) -> 0 | I15: =ROUND(E15*(M15),2) -> 0 | J15: =ROUND(E15*(N15),2) -> 0 | K15: =ROUND(E15*(F15),2) -> 0 | L15: =ROUND(E15*(G15),2) -> 0 | M15: 0 | R15: =ROUND(E15*(O15),3) -> 0
A16: P/PC | B16: 000000042 | C16: Doprava | D16: kpl | E16: 1 | F16: 0 | G16: 0 | H16: =ROUND(E16*(F16+G16),2) -> 0 | I16: =ROUND(E16*(M16),2) -> 0 | J16: =ROUND(E16*(N16),2) -> 0 | K16: =ROUND(E16*(F16),2) -> 0 | L16: =ROUND(E16*(G16),2) -> 0 | M16: 0 | R16: =ROUND(E16*(O16),3) -> 0
C17: PREVÁDZKOVÉ SÚBORY | F17: =ROUND((SUM(K10:K16))/1,2) -> 0 | G17: =ROUND((SUM(L10:L16))/1,2) -> 0 | H17: =ROUND((SUM(H10:H16))/1,2) -> 0 | K17: =ROUND((SUM(K10:K15))/1,2) -> 0 | L17: =ROUND((SUM(L10:L15))/1,2) -> 0 | R17: =ROUND((SUM(R10:R15))/1,2) -> 0 | U17: =ROUND((SUM(U10:U15))/1,2) -> 0
C19: Práce PSV | F19: =ROUND((SUM(K9:K18))/2,2) -> 0 | G19: =ROUND((SUM(L9:L18))/2,2) -> 0 | H19: =ROUND((SUM(H9:H18))/2,2) -> 0 | K19: =ROUND((SUM(K9:K18))/2,2) -> 0 | L19: =ROUND((SUM(L9:L18))/2,2) -> 0 | R19: =ROUND((SUM(R9:R18))/2,2) -> 0 | U19: =ROUND((SUM(U9:U18))/2,2) -> 0
C20: Celkom v EUR | F20: =ROUND((SUM(K9:K19))/3,2) -> 0 | G20: =ROUND((SUM(L9:L19))/3,2) -> 0 | H20: =ROUND((SUM(H9:H19))/3,2) -> 0 | J20: =ROUND((SUM(J9:J19))/3,2) -> 0 | K20: =ROUND((SUM(K9:K19))/3,2) -> 0 | L20: =ROUND((SUM(L9:L19))/3,2) -> 0 | R20: =ROUND((SUM(R9:R19))/3,2) -> 0 | U20: =ROUND((SUM(U9:U19))/3,2) -> 0

Sheet Kryci_list 27390
F1: Krycí list výkazu výmer | W1: 30.126
B2: Stavba Rekonštrukcia maštalí a rozšírenie farmového hnojiska, Bobrov
B3: Objekt SO 03 Farmové hnojisko | I3: Miesto:
I4: Ks:
B5: Zákazka: | F5: Spracoval: | I5: Dňa | J5: 45263
B6: Odberateľ: Podielnícke roľnícko-obchodné družstvo,Družstevná 263,Bobrov
B7: IČO: | G7: DIČ:
B8: Projektant: Ing.Štefan Comba,Levoča
B9: IČO: | G9: DIČ:
B10: Dodávateľ:
B11: IČO: | G11: DIČ:
B15: A | C15: ZRN | D15: Montáž | E15: Materiál | F15: ZRN spolu | G15: B | H15: Ďalšie náklady
B16: 1 | C16: HSV | D16: ='Rekap 27390'!B18 -> 0 | E16: ='Rekap 27390'!C18 -> 0 | F16: ='Rekap 27390'!D18 -> 0 | G16: 6 | H16: Ostatné náklady | J16: 0
B17: 2 | C17: PSV | G17: 7 | H17: Kompletačná činnosť | J17: ='SO 27390'!Z54 -> 0
B18: 3 | C18: MONT | G18: 8 | H18: HZS | J18: 0
B19: 4 | C19: VRN | G19: 9
B20: 5 | C20: Spolu | F20: =SUM(F16:F19) -> 0 | G20: 10 | H20: Spolu | J20: =SUM(J16:J19) -> 0
B21: C | C21: VRN | G21: D | H21: VRN
B22: 11 | C22: Zariadenie staveniska | E22: 0% z [H+P+M] | F22: =((F16*U22*0)+(F17*V22*0)+(F18*W22*0))/100 -> 0 | G22: 16 | H22: Sťažené podmienky dopravy | I22: 0% z [H+P+M] | J22: =((F16*X22*0)+(F17*Y22*0)+(F18*Z22*0))/100 -> 0 | U22: 1 | V22: 1 | W22: 1 | X22: 1 | Y22: 1 | Z22: 1
B23: 12 | C23: Sťažené výrobné podmienky | E23: 0% z [H+P] | F23: =((F16*U23*0)+(F17*V23*0)+(F18*W23*0))/100 -> 0 | G23: 17 | H23: Horské oblasti | I23: 0% z [H+P+M] | J23: =((F16*X23*0)+(F17*Y23*0)+(F18*Z23*0))/100 -> 0 | U23: 1 | V23: 1 | W23: 0 | X23: 1 | Y23: 1 | Z23: 1
B24: 13 | C24: Prevádzkové vplyvy | E24: 0% z [H+P+M] | F24: =((F16*U24*0)+(F17*V24*0)+(F18*W24*0))/100 -> 0 | G24: 18 | H24: Mimostavenisková doprava | I24: 0% z [H+P] | J24: =((F16*X24*0)+(F17*Y24*0)+(F18*Z24*0))/100 -> 0 | U24: 1 | V24: 1 | W24: 1 | X24: 1 | Y24: 1 | Z24: 0
B25: 14 | G25: 19
B26: 15 | G26: 20 | H26: Spolu | J26: =SUM(J22:J25)+SUM(F22:F25) -> 0
C27: Projektant,rozpočtár | G27: E | H27: Celkové náklady
G28: 21 | H28: Súčet riadkov 5,10,15,20 | J28: =F20+J20+F26+J26 -> 0
G29: 22 | H29: DPH 20% z | I29: =J28-SUM('SO 27390'!K9:'SO 27390'!K53) -> 0 | J29: =ROUND(((ROUND(I29,2)*20)*1/100),2) -> 0
G30: 23 | H30: DPH 0% z | I30: =SUM('SO 27390'!K9:'SO 27390'!K53) -> 0 | J30: =ROUND(((ROUND(I30,2)*0)/100),2) -> 0
G31: 24 | H31: Spolu v EUR | J31: =SUM(J28:J30) -> 0
G32: F
D33: Odberateľ | G33: 26 | H33: Dodávateľ

Sheet Rekap 27390
A1: Odberateľ: Podielnícke roľnícko-obchodné družstvo,Družstevná 263,Bobrov | E1: Spracoval: | W1: 30.126
A2: Projektant: Ing.Štefan Comba,Levoča | E2: Ks:
A3: Dodávateľ: | E3: Dátum: 3. 12. 2023
A4: Stavba Rekonštrukcia maštalí a rozšírenie farmového hnojiska, Bobrov
A5: Objekt SO 03 Farmové hnojisko
A8: Prehľad výkazu výmer
A9: Oddiel | B9: Montáž | C9: Materiál | D9: Spolu | E9: Hmotnosť (T) | F9: Suť (T)
A10: Práce HSV
A11: ZEMNÉ PRÁCE | B11: ='SO 27390'!L13 -> 0 | C11: ='SO 27390'!M13 -> 0 | D11: ='SO 27390'!I13 -> 0 | E11: ='SO 27390'!S13 -> 0 | F11: ='SO 27390'!V13 -> 0
A12: ZÁKLADY | B12: ='SO 27390'!L22 -> 0 | C12: ='SO 27390'!M22 -> 0 | D12: ='SO 27390'!I22 -> 0 | E12: ='SO 27390'!S22 -> 83.47 | F12: ='SO 27390'!V22 -> 0
A13: ZVISLÉ KONŠTRUKCIE | B13: ='SO 27390'!L29 -> 0 | C13: ='SO 27390'!M29 -> 0 | D13: ='SO 27390'!I29 -> 0 | E13: ='SO 27390'!S29 -> 224.35 | F13: ='SO 27390'!V29 -> 0
A14: SPEVNENÉ PLOCHY | B14: ='SO 27390'!L35 -> 0 | C14: ='SO 27390'!M35 -> 0 | D14: ='SO 27390'!I35 -> 0 | E14: ='SO 27390'!S35 -> 545.13 | F14: ='SO 27390'!V35 -> 0
A15: POVRCHOVÉ ÚPRAVY | B15: ='SO 27390'!L42 -> 0 | C15: ='SO 27390'!M42 -> 0 | D15: ='SO 27390'!I42 -> 0 | E15: ='SO 27390'!S42 -> 374.76 | F15: ='SO 27390'!V42 -> 0
A16: OSTATNÉ PRÁCE | B16: ='SO 27390'!L47 -> 0 | C16: ='SO 27390'!M47 -> 0 | D16: ='SO 27390'!I47 -> 0 | E16: ='SO 27390'!S47 -> 0 | F16: ='SO 27390'!V47 -> 0
A17: PRESUNY HMÔT | B17: ='SO 27390'!L51 -> 0 | C17: ='SO 27390'!M51 -> 0 | D17: ='SO 27390'!I51 -> 0 | E17: ='SO 27390'!S51 -> 0 | F17: ='SO 27390'!V51 -> 0
A18: Práce HSV | B18: ='SO 27390'!L53 -> 0 | C18: ='SO 27390'!M53 -> 0 | D18: ='SO 27390'!I53 -> 0 | E18: ='SO 27390'!S53 -> 1227.71 | F18: ='SO 27390'!V53 -> 0
A20: Celkom v EUR | B20: ='SO 27390'!L54 -> 0 | C20: ='SO 27390'!M54 -> 0 | D20: ='SO 27390'!I54 -> 0 | E20: ='SO 27390'!S54 -> 1227.71 | F20: ='SO 27390'!V54 -> 0

Sheet SO 27390
B1: Odberateľ: Podielnícke roľnícko-obchodné družstvo,Družstevná 263,Bobrov | I1: Spracoval: | W1: 30.126
B2: Projektant: Ing.Štefan Comba,Levoča | I2: Ks:
B3: Dodávateľ: | I3: Dátum: | P3: 45263
B4: Zákazka Rekonštrukcia maštalí a rozšírenie farmového hnojiska, Bobrov
B5: Objekt SO 03 Farmové hnojisko
B7: Prehľad výkazu výmer
A8: Por.č. | B8: Cenník | C8: Kód položky | D8: Názov | E8: Mj | F8: Množstvo | G8: Montáž | H8: Materiál | I8: Cena celkom | P8: Hmotnosť/Mj | S8: Hmotnosť | V8: Suť
D9: Práce HSV
C10: 1 | D10: ZEMNÉ PRÁCE
A11: 93 | B11: 1/A 1 | C11: 132101101 | D11: Výkop ryhy do šírky 600 mm v horn.3 do 100 m3 | E11: m3 | F11: 168 | G11: 0 | H11: 0 | I11: =ROUND(F11*(G11+H11),2) -> 0 | J11: =ROUND(F11*(N11),2) -> 6384 | K11: =ROUND(F11*(O11),2) -> 0 | L11: =ROUND(F11*(G11),2) -> 0 | M11: =ROUND(F11*(H11),2) -> 0 | N11: 38 | S11: =ROUND(F11*(P11),3) -> 0 | Z11: 0
A12: 94 | B12: 1/A 1 | C12: 181101102 | D12: Úprava plochy v hornine 1-4 so zhutnením | E12: m2 | F12: 100 | G12: 0 | H12: 0 | I12: =ROUND(F12*(G12+H12),2) -> 0 | J12: =ROUND(F12*(N12),2) -> 450 | K12: =ROUND(F12*(O12),2) -> 0 | L12: =ROUND(F12*(G12),2) -> 0 | M12: =ROUND(F12*(H12),2) -> 0 | N12: 4.5 | S12: =ROUND(F12*(P12),3) -> 0 | Z12: 0
C13: 1 | D13: ZEMNÉ PRÁCE | G13: =ROUND((SUM(L10:L12))/1,2) -> 0 | H13: =ROUND((SUM(M10:M12))/1,2) -> 0 | I13: =ROUND((SUM(I10:I12))/1,2) -> 0 | L13: =ROUND((SUM(L10:L12))/1,2) -> 0 | M13: =ROUND((SUM(M10:M12))/1,2) -> 0 | S13: =ROUND((SUM(S10:S12))/1,2) -> 0 | V13: =ROUND((SUM(V10:V12))/1,2) -> 0
C15: 2 | D15: ZÁKLADY
A16: 95 | B16: 11/A 1 | C16: 274313611 | D16: Betónové lôžko prostý tr.C 16/20 hr. 250 mm - odvodňov. žľab | E16: m3 | F16: 3.5 | G16: 0 | H16: 0 | I16: =ROUND(F16*(G16+H16),2) -> 0 | J16: =ROUND(F16*(N16),2) -> 307.09 | K16: =ROUND(F16*(O16),2) -> 0 | L16: =ROUND(F16*(G16),2) -> 0 | M16: =ROUND(F16*(H16),2) -> 0 | N16: 87.74 | P16: 2.4179 | R16: 2.4179 | S16: =ROUND(F16*(P16),3) -> 8.463 | Z16: 0
A17: 96 | B17: 11/A 1 | C17: 271573001 | D17: Štrkové lôžko 150 mm - odvodňov. žľab | E17: m3 | F17: 1.5 | G17: 0 | H17: 0 | I17: =ROUND(F17*(G17+H17),2) -> 0 | J17: =ROUND(F17*(N17),2) -> 64.88 | K17: =ROUND(F17*(O17),2) -> 0 | L17: =ROUND(F17*(G17),2) -> 0 | M17: =ROUND(F17*(H17),2) -> 0 | N17: 43.25 | P17: 1.8 | R17: 1.8 | S17: =ROUND(F17*(P17),3) -> 2.7 | Z17: 0
A18: 97 | B18: 11/A 1 | C18: 212752241 | D18: Montáž kontrolnej a preplachovacej šachty PVC pre drenažny systém DN 50 mm + dodávka | E18: ks | F18: 1 | G18: 0 | H18: 0 | I18: =ROUND(F18*(G18+H18),2) -> 0 | J18: =ROUND(F18*(N18),2) -> 980 | K18: =ROUND(F18*(O18),2) -> 0 | L18: =ROUND(F18*(G18),2) -> 0 | M18: =ROUND(F18*(H18),2) -> 0 | N18: 980 | S18: =ROUND(F18*(P18),3) -> 0 | Z18: 0
A19: 98 | B19: 271/A 1 | C19: 212752123 | D19: Trativody z flexodrenážnych rúr DN 50 | E19: m | F19: 98 | G19: 0 | H19: 0 | I19: =ROUND(F19*(G19+H19),2) -> 0 | J19: =ROUND(F19*(N19),2) -> 635.04 | K19: =ROUND(F19*(O19),2) -> 0 | L19: =ROUND(F19*(G19),2) -> 0 | M19: =ROUND(F19*(H19),2) -> 0 | N19: 6.48 | P19: 0.2674 | R19: 0.2674 | S19: =ROUND(F19*(P19),3) -> 26.205 | Z19: 0
A20: 99 | B20: 11/A 1 | C20: 274314611 | D20: Betón základových pásov prostého triedy C 20/25 | E20: m3 | F20: 14.88 | G20: 0 | H20: 0 | I20: =ROUND(F20*(G20+H20),2) -> 0 | J20: =ROUND(F20*(N20),2) -> 1323.28 | K20: =ROUND(F20*(O20),2) -> 0 | L20: =ROUND(F20*(G20),2) -> 0 | M20: =ROUND(F20*(H20),2) -> 0 | N20: 88.93 | P20: 2.20099 | R20: 2.20099 | S20: =ROUND(F20*(P20),3) -> 32.751 | Z20: 0
A21: 100 | B21: 271/A 1 | C21: 451541111 | D21: Lôžko pod potrubie, stoky a drobné objekty, v otvorenom výkope zo štrkodrvy 0-63 mm | E21: m3 | F21: 7.84 | G21: 0 | H21: 0 | I21: =ROUND(F21*(G21+H21),2) -> 0 | J21: =ROUND(F21*(N21),2) -> 257.15 | K21: =ROUND(F21*(O21),2) -> 0 | L21: =ROUND(F21*(G21),2) -> 0 | M21: =ROUND(F21*(H21),2) -> 0 | N21: 32.8 | P21: 1.7034 | R21: 1.7034 | S21: =ROUND(F21*(P21),3) -> 13.355 | Z21: 0
C22: 2 | D22: ZÁKLADY | G22: =ROUND((SUM(L15:L21))/1,2) -> 0 | H22: =ROUND((SUM(M15:M21))/1,2) -> 0 | I22: =ROUND((SUM(I15:I21))/1,2) -> 0 | L22: =ROUND((SUM(L15:L21))/1,2) -> 0 | M22: =ROUND((SUM(M15:M21))/1,2) -> 0 | S22: =ROUND((SUM(S15:S21))/1,2) -> 83.47 | V22: =ROUND((SUM(V15:V21))/1,2) -> 0
C24: 3 | D24: ZVISLÉ KONŠTRUKCIE
A25: 101 | B25: 11/A 1 | C25: 341321315 | D25: Betón stien železový (bez výstuže) tr.C 20/25 s kryštal. izoláciou | E25: m3 | F25: 97.5 | G25: 0 | H25: 0 | I25: =ROUND(F25*(G25+H25),2) -> 0 | J25: =ROUND(F25*(N25),2) -> 9807.53 | K25: =ROUND(F25*(O25),2) -> 0 | L25: =ROUND(F25*(G25),2) -> 0 | M25: =ROUND(F25*(H25),2) -> 0 | N25: 100.59 | P25: 2.21191 | R25: 2.21191 | S25: =ROUND(F25*(P25),3) -> 215.661 | Z25: 0
A26: 102 | B26: 11/A 1 | C26: 341351101 | D26: Debnenie stien jednostranné, zhotovenie-dielce | E26: m2 | F26: 776.1 | G26: 0 | H26: 0 | I26: =ROUND(F26*(G26+H26),2) -> 0 | J26: =ROUND(F26*(N26),2) -> 11990.75 | K26: =ROUND(F26*(O26),2) -> 0 | L26: =ROUND(F26*(G26),2) -> 0 | M26: =ROUND(F26*(H26),2) -> 0 | N26: 15.45 | P26: 0.00334 | R26: 0.00334 | S26: =ROUND(F26*(P26),3) -> 2.592 | Z26: 0
A27: 103 | B27: 11/A 1 | C27: 341351102 | D27: Debnenie stien jednostranné, odstránenie-dielce | E27: m2 | F27: 776.1 | G27: 0 | H27: 0 | I27: =ROUND(F27*(G27+H27),2) -> 0 | J27: =ROUND(F27*(N27),2) -> 4633.32 | K27: =ROUND(F27*(O27),2) -> 0 | L27: =ROUND(F27*(G27),2) -> 0 | M27: =ROUND(F27*(H27),2) -> 0 | N27: 5.97 | S27: =ROUND(F27*(P27),3) -> 0 | Z27: 0
A28: 104 | B28: 11/A 1 | C28: 341361821 | D28: Výstuž stien 10505 | E28: t | F28: 6 | G28: 0 | H28: 0 | I28: =ROUND(F28*(G28+H28),2) -> 0 | J28: =ROUND(F28*(N28),2) -> 8509.02 | K28: =ROUND(F28*(O28),2) -> 0 | L28: =ROUND(F28*(G28),2) -> 0 | M28: =ROUND(F28*(H28),2) -> 0 | N28: 1418.17 | P28: 1.01595 | R28: 1.01595 | S28: =ROUND(F28*(P28),3) -> 6.096 | Z28: 0
C29: 3 | D29: ZVISLÉ KONŠTRUKCIE | G29: =ROUND((SUM(L24:L28))/1,2) -> 0 | H29: =ROUND((SUM(M24:M28))/1,2) -> 0 | I29: =ROUND((SUM(I24:I28))/1,2) -> 0 | L29: =ROUND((SUM(L24:L28))/1,2) -> 0 | M29: =ROUND((SUM(M24:M28))/1,2) -> 0 | S29: =ROUND((SUM(S24:S28))/1,2) -> 224.35 | V29: =ROUND((SUM(V24:V28))/1,2) -> 0
C31: 5 | D31: SPEVNENÉ PLOCHY
A32: 105 | B32: 221/A 1 | C32: 564251111 | D32: Podklad alebo podsyp zo štrkopiesku s rozprestretím, vlhčením a zhutnením po zhutnení hr.150 mm, fr. 0-32 | E32: m2 | F32: 840 | G32: 0 | H32: 0 | I32: =ROUND(F32*(G32+H32),2) -> 0 | J32: =ROUND(F32*(N32),2) -> 2881.2 | K32: =ROUND(F32*(O32),2) -> 0 | L32: =ROUND(F32*(G32),2) -> 0 | M32: =ROUND(F32*(H32),2) -> 0 | N32: 3.43 | P32: 0.30361 | R32: 0.30361 | S32: =ROUND(F32*(P32),3) -> 255.032 | Z32: 0
A33: 106 | B33: 221/A 1 | C33: 584121111 | D33: Osadenie cestných panelov zo železového betónu, so zhotovením podkladu z kam. ťaženého do hr.40 mm | E33: m2 | F33: 420 | G33: 0 | H33: 0 | I33: =ROUND(F33*(G33+H33),2) -> 0 | J33: =ROUND(F33*(N33),2) -> 11155.2 | K33: =ROUND(F33*(O33),2) -> 0 | L33: =ROUND(F33*(G33),2) -> 0 | M33: =ROUND(F33*(H33),2) -> 0 | N33: 26.56 | P33: 0.0835 | R33: 0.0835 | S33: =ROUND(F33*(P33),3) -> 35.07 | Z33: 0
A34: 107 | B34: 221/A 1 | C34: 564281111 | D34: Podklad alebo podsyp zo štrkopiesku s rozprestretím, vlhčením a zhutnením po zhutnení hr. 0-300 mm | E34: m2 | F34: 420 | G34: 0 | H34: 0 | I34: =ROUND(F34*(G34+H34),2) -> 0 | J34: =ROUND(F34*(N34),2) -> 2734.2 | K34: =ROUND(F34*(O34),2) -> 0 | L34: =ROUND(F34*(G34),2) -> 0 | M34: =ROUND(F34*(H34),2) -> 0 | N34: 6.51 | P34: 0.60721 | R34: 0.60721 | S34: =ROUND(F34*(P34),3) -> 255.028 | Z34: 0
C35: 5 | D35: SPEVNENÉ PLOCHY | G35: =ROUND((SUM(L31:L34))/1,2) -> 0 | H35: =ROUND((SUM(M31:M34))/1,2) -> 0 | I35: =ROUND((SUM(I31:I34))/1,2) -> 0 | L35: =ROUND((SUM(L31:L34))/1,2) -> 0 | M35: =ROUND((SUM(M31:M34))/1,2) -> 0 | S35: =ROUND((SUM(S31:S34))/1,2) -> 545.13 | V35: =ROUND((SUM(V31:V34))/1,2) -> 0
C37: 6 | D37: POVRCHOVÉ ÚPRAVY
A38: 108 | B38: 11/A 1 | C38: 631315611 | D38: Mazanina z betónu prostého tr.C 20/25 hr.nad 120 do 240 mm s kryštal. izoláciou | E38: m3 | F38: 168 | G38: 0 | H38: 0 | I38: =ROUND(F38*(G38+H38),2) -> 0 | J38: =ROUND(F38*(N38),2) -> 20959.68 | K38: =ROUND(F38*(O38),2) -> 0 | L38: =ROUND(F38*(G38),2) -> 0 | M38: =ROUND(F38*(H38),2) -> 0 | N38: 124.76 | P38: 2.21311 | R38: 2.21311 | S38: =ROUND(F38*(P38),3) -> 371.802 | Z38: 0
A39: 109 | B39: 11/A 1 | C39: 631362422 | D39: Výstuž mazanín z betónov (z kameniva) a z ľahkých betónov, zo zváraných sietí KARI, priemer drôtu 6/6 mm, veľkosť oka 150x150 mm | E39: m2 | F39: 840 | G39: 0 | H39: 0 | I39: =ROUND(F39*(G39+H39),2) -> 0 | J39: =ROUND(F39*(N39),2) -> 3250.8 | K39: =ROUND(F39*(O39),2) -> 0 | L39: =ROUND(F39*(G39),2) -> 0 | M39: =ROUND(F39*(H39),2) -> 0 | N39: 3.87 | P39: 0.00352 | R39: 0.00352 | S39: =ROUND(F39*(P39),3) -> 2.957 | Z39: 0
A40: 110 | B40: 1/A 1 | C40: 631000000 | D40: AQUAFIN IC - izolácia voči vplyvom močovky | E40: m2 | F40: 1130 | G40: 0 | H40: 0 | I40: =ROUND(F40*(G40+H40),2) -> 0 | J40: =ROUND(F40*(N40),2) -> 4678.2 | K40: =ROUND(F40*(O40),2) -> 0 | L40: =ROUND(F40*(G40),2) -> 0 | M40: =ROUND(F40*(H40),2) -> 0 | N40: 4.14 | S40: =ROUND(F40*(P40),3) -> 0 | Z40: 0
A41: 111 | B41: 1/A 1 | C41: 631000000 | D41: AQUAFIN CJ5 - pracovná škára vr. kotviacich omega profilov | E41: m | F41: 120 | G41: 0 | H41: 0 | I41: =ROUND(F41*(G41+H41),2) -> 0 | J41: =ROUND(F41*(N41),2) -> 1336.8 | K41: =ROUND(F41*(O41),2) -> 0 | L41: =ROUND(F41*(G41),2) -> 0 | M41: =ROUND(F41*(H41),2) -> 0 | N41: 11.14 | S41: =ROUND(F41*(P41),3) -> 0 | Z41: 0
C42: 6 | D42: POVRCHOVÉ ÚPRAVY | G42: =ROUND((SUM(L37:L41))/1,2) -> 0 | H42: =ROUND((SUM(M37:M41))/1,2) -> 0 | I42: =ROUND((SUM(I37:I41))/1,2) -> 0 | L42: =ROUND((SUM(L37:L41))/1,2) -> 0 | M42: =ROUND((SUM(M37:M41))/1,2) -> 0 | S42: =ROUND((SUM(S37:S41))/1,2) -> 374.76 | V42: =ROUND((SUM(V37:V41))/1,2) -> 0
C44: 9 | D44: OSTATNÉ PRÁCE
A45: 112 | B45: 221/A 1 | C45: 935114512 | D45: Odvodňovací betonový žľab s mrežou v spáde | E45: m | F45: 14 | G45: 0 | H45: 0 | I45: =ROUND(F45*(G45+H45),2) -> 0 | J45: =ROUND(F45*(N45),2) -> 490 | K45: =ROUND(F45*(O45),2) -> 0 | L45: =ROUND(F45*(G45),2) -> 0 | M45: =ROUND(F45*(H45),2) -> 0 | N45: 35 | S45: =ROUND(F45*(P45),3) -> 0 | Z45: 0
A46: 113 | B46: P/PC | C46: 592000000 | D46: betonový žľab prefabrikát 60 T | E46: ks | F46: 14 | G46: 0 | H46: 0 | I46: =ROUND(F46*(G46+H46),2) -> 0 | J46: =ROUND(F46*(N46),2) -> 1318.8 | K46: =ROUND(F46*(O46),2) -> 0 | L46: =ROUND(F46*(G46),2) -> 0 | M46: =ROUND(F46*(H46),2) -> 0 | N46: 94.2 | S46: =ROUND(F46*(P46),3) -> 0 | Z46: 0
C47: 9 | D47: OSTATNÉ PRÁCE | G47: =ROUND((SUM(L44:L46))/1,2) -> 0 | H47: =ROUND((SUM(M44:M46))/1,2) -> 0 | I47: =ROUND((SUM(I44:I46))/1,2) -> 0 | L47: =ROUND((SUM(L44:L46))/1,2) -> 0 | M47: =ROUND((SUM(M44:M46))/1,2) -> 0 | S47: =ROUND((SUM(S44:S46))/1,2) -> 0 | V47: =ROUND((SUM(V44:V46))/1,2) -> 0
C49: 99 | D49: PRESUNY HMÔT
A50: 114 | B50: 221/A 1 | C50: 998224111 | D50: Presun hmôt | E50: t | F50: 1233.4419 | G50: 0 | H50: 0 | I50: =ROUND(F50*(G50+H50),2) -> 0 | J50: =ROUND(F50*(N50),2) -> 2035.18 | K50: =ROUND(F50*(O50),2) -> 0 | L50: =ROUND(F50*(G50),2) -> 0 | M50: =ROUND(F50*(H50),2) -> 0 | N50: 1.65 | S50: =ROUND(F50*(P50),3) -> 0 | Z50: 0
C51: 99 | D51: PRESUNY HMÔT | G51: =ROUND((SUM(L49:L50))/1,2) -> 0 | H51: =ROUND((SUM(M49:M50))/1,2) -> 0 | I51: =ROUND((SUM(I49:I50))/1,2) -> 0 | L51: =ROUND((SUM(L49:L50))/1,2) -> 0 | M51: =ROUND((SUM(M49:M50))/1,2) -> 0 | S51: =ROUND((SUM(S49:S50))/1,2) -> 0 | V51: =ROUND((SUM(V49:V50))/1,2) -> 0
D53: Práce HSV | G53: =ROUND((SUM(L9:L52))/2,2) -> 0 | H53: =ROUND((SUM(M9:M52))/2,2) -> 0 | I53: =ROUND((SUM(I9:I52))/2,2) -> 0 | L53: =ROUND((SUM(L9:L52))/2,2) -> 0 | M53: =ROUND((SUM(M9:M52))/2,2) -> 0 | S53: =ROUND((SUM(S9:S52))/2,2) -> 1227.71 | V53: =ROUND((SUM(V9:V52))/2,2) -> 0
D54: Celkom v EUR | G54: =ROUND((SUM(L9:L53))/3,2) -> 0 | H54: =ROUND((SUM(M9:M53))/3,2) -> 0 | I54: =ROUND((SUM(I9:I53))/3,2) -> 0 | K54: =ROUND((SUM(K9:K53))/3,2) -> 0 | L54: =ROUND((SUM(L9:L53))/3,2) -> 0 | M54: =ROUND((SUM(M9:M53))/3,2) -> 0 | S54: =ROUND((SUM(S9:S53))/3,2) -> 1227.71 | V54: =ROUND((SUM(V9:V53))/3,2) -> 0 | Z54: =(SUM(Z9:Z53)) -> 0

Sheet Kryci_list 27391
F1: Krycí list výkazu výmer | W1: 30.126
B2: Stavba Rekonštrukcia maštalí a rozšírenie farmového hnojiska, Bobrov
B3: Objekt SO 02 - vodovodná prípojka,žumpa 12 m3 | I3: Miesto:
I4: Ks:
B5: Zákazka: | F5: Spracoval: | I5: Dňa | J5: 45263
B6: Odberateľ: Podielnícke roľnícko-obchodné družstvo,Družstevná 263,Bobrov
B7: IČO: | G7: DIČ:
B8: Projektant: Ing.Štefan Comba,Levoča
B9: IČO: | G9: DIČ:
B10: Dodávateľ:
B11: IČO: | G11: DIČ:
B15: A | C15: ZRN | D15: Montáž | E15: Materiál | F15: ZRN spolu | G15: B | H15: Ďalšie náklady
B16: 1 | C16: HSV | D16: ='Rekap 27391'!B15 -> 0 | E16: ='Rekap 27391'!C15 -> 0 | F16: ='Rekap 27391'!D15 -> 0 | G16: 6 | H16: Ostatné náklady | J16: 0
B17: 2 | C17: PSV | G17: 7 | H17: Kompletačná činnosť | J17: ='SO 27391'!Z66 -> 0
B18: 3 | C18: MONT | G18: 8 | H18: HZS | J18: 0
B19: 4 | C19: VRN | G19: 9
B20: 5 | C20: Spolu | F20: =SUM(F16:F19) -> 0 | G20: 10 | H20: Spolu | J20: =SUM(J16:J19) -> 0
B21: C | C21: VRN | G21: D | H21: VRN
B22: 11 | C22: Zariadenie staveniska | E22: 0% z [H+P+M] | F22: =((F16*U22*0)+(F17*V22*0)+(F18*W22*0))/100 -> 0 | G22: 16 | H22: Sťažené podmienky dopravy | I22: 0% z [H+P+M] | J22: =((F16*X22*0)+(F17*Y22*0)+(F18*Z22*0))/100 -> 0 | U22: 1 | V22: 1 | W22: 1 | X22: 1 | Y22: 1 | Z22: 1
B23: 12 | C23: Sťažené výrobné podmienky | E23: 0% z [H+P] | F23: =((F16*U23*0)+(F17*V23*0)+(F18*W23*0))/100 -> 0 | G23: 17 | H23: Horské oblasti | I23: 0% z [H+P+M] | J23: =((F16*X23*0)+(F17*Y23*0)+(F18*Z23*0))/100 -> 0 | U23: 1 | V23: 1 | W23: 0 | X23: 1 | Y23: 1 | Z23: 1
B24: 13 | C24: Prevádzkové vplyvy | E24: 0% z [H+P+M] | F24: =((F16*U24*0)+(F17*V24*0)+(F18*W24*0))/100 -> 0 | G24: 18 | H24: Mimostavenisková doprava | I24: 0% z [H+P] | J24: =((F16*X24*0)+(F17*Y24*0)+(F18*Z24*0))/100 -> 0 | U24: 1 | V24: 1 | W24: 1 | X24: 1 | Y24: 1 | Z24: 0
B25: 14 | G25: 19
B26: 15 | G26: 20 | H26: Spolu | J26: =SUM(J22:J25)+SUM(F22:F25) -> 0
C27: Projektant,rozpočtár | G27: E | H27: Celkové náklady
G28: 21 | H28: Súčet riadkov 5,10,15,20 | J28: =F20+J20+F26+J26 -> 0
G29: 22 | H29: DPH 20% z | I29: =J28-SUM('SO 27391'!K9:'SO 27391'!K65) -> 0 | J29: =ROUND(((ROUND(I29,2)*20)*1/100),2) -> 0
G30: 23 | H30: DPH 0% z | I30: =SUM('SO 27391'!K9:'SO 27391'!K65) -> 0 | J30: =ROUND(((ROUND(I30,2)*0)/100),2) -> 0
G31: 24 | H31: Spolu v EUR | J31: =SUM(J28:J30) -> 0
G32: F
D33: Odberateľ | G33: 26 | H33: Dodávateľ

Sheet Rekap 27391
A1: Odberateľ: Podielnícke roľnícko-obchodné družstvo,Družstevná 263,Bobrov | E1: Spracoval: | W1: 30.126
A2: Projektant: Ing.Štefan Comba,Levoča | E2: Ks:
A3: Dodávateľ: | E3: Dátum: 3. 12. 2023
A4: Stavba Rekonštrukcia maštalí a rozšírenie farmového hnojiska, Bobrov
A5: Objekt SO 02 - vodovodná prípojka,žumpa 12 m3
A8: Prehľad výkazu výmer
A9: Oddiel | B9: Montáž | C9: Materiál | D9: Spolu | E9: Hmotnosť (T) | F9: Suť (T)
A10: Práce HSV
A11: ZEMNÉ PRÁCE | B11: ='SO 27391'!L27 -> 0 | C11: ='SO 27391'!M27 -> 0 | D11: ='SO 27391'!I27 -> 0 | E11: ='SO 27391'!S27 -> 11.37 | F11: ='SO 27391'!V27 -> 0
A12: VODOROVNÉ KONŠTRUKCIE | B12: ='SO 27391'!L37 -> 0 | C12: ='SO 27391'!M37 -> 0 | D12: ='SO 27391'!I37 -> 0 | E12: ='SO 27391'!S37 -> 12.3 | F12: ='SO 27391'!V37 -> 0
A13: Potrubné rozvody | B13: ='SO 27391'!L59 -> 0 | C13: ='SO 27391'!M59 -> 0 | D13: ='SO 27391'!I59 -> 0 | E13: ='SO 27391'!S59 -> 0.86 | F13: ='SO 27391'!V59 -> 0
A14: PRESUNY HMÔT | B14: ='SO 27391'!L63 -> 0 | C14: ='SO 27391'!M63 -> 0 | D14: ='SO 27391'!I63 -> 0 | E14: ='SO 27391'!S63 -> 0 | F14: ='SO 27391'!V63 -> 0
A15: Práce HSV | B15: ='SO 27391'!L65 -> 0 | C15: ='SO 27391'!M65 -> 0 | D15: ='SO 27391'!I65 -> 0 | E15: ='SO 27391'!S65 -> 24.53 | F15: ='SO 27391'!V65 -> 0
A17: Celkom v EUR | B17: ='SO 27391'!L66 -> 0 | C17: ='SO 27391'!M66 -> 0 | D17: ='SO 27391'!I66 -> 0 | E17: ='SO 27391'!S66 -> 24.53 | F17: ='SO 27391'!V66 -> 0

Sheet SO 27391
B1: Odberateľ: Podielnícke roľnícko-obchodné družstvo,Družstevná 263,Bobrov | I1: Spracoval: | W1: 30.126
B2: Projektant: Ing.Štefan Comba,Levoča | I2: Ks:
B3: Dodávateľ: | I3: Dátum: | P3: 45263
B4: Zákazka Rekonštrukcia maštalí a rozšírenie farmového hnojiska, Bobrov
B5: Objekt SO 02 - vodovodná prípojka,žumpa 12 m3
B7: Výkaz výmer
A8: Por.č. | B8: Cenník | C8: Kód položky | D8: Názov | E8: Mj | F8: Množstvo | G8: Montáž | H8: Materiál | I8: Cena celkom | P8: Hmotnosť/Mj | S8: Hmotnosť | V8: Suť
D9: Práce HSV
C10: 1 | D10: ZEMNÉ PRÁCE
A11: 115 | B11: 1/A 1 | C11: 132111101 | D11: Hĺbenie rýh šírky do 600 mm v horninách tr. 3 - ručným náradím | E11: m3 | F11: 10.5 | G11: 0 | H11: 0 | I11: =ROUND(F11*(G11+H11),2) -> 0 | J11: =ROUND(F11*(N11),2) -> 417.38 | K11: =ROUND(F11*(O11),2) -> 0 | L11: =ROUND(F11*(G11),2) -> 0 | M11: =ROUND(F11*(H11),2) -> 0 | N11: 39.75 | S11: =ROUND(F11*(P11),3) -> 0 | Z11: 0
A12: 116 | B12: 1/A 1 | C12: 133201201 | D12: Výkop šachty nezapaženej, hornina 3 do 100 m3 | E12: m3 | F12: 3.726 | G12: 0 | H12: 0 | I12: =ROUND(F12*(G12+H12),2) -> 0 | J12: =ROUND(F12*(N12),2) -> 136.33 | K12: =ROUND(F12*(O12),2) -> 0 | L12: =ROUND(F12*(G12),2) -> 0 | M12: =ROUND(F12*(H12),2) -> 0 | N12: 36.59 | S12: =ROUND(F12*(P12),3) -> 0 | Z12: 0
A13: 117 | B13: 1/A 1 | C13: 133201209 | D13: Príplatok k cenám za lepivosť horniny | E13: m3 | F13: 14.226 | G13: 0 | H13: 0 | I13: =ROUND(F13*(G13+H13),2) -> 0 | J13: =ROUND(F13*(N13),2) -> 71.27 | K13: =ROUND(F13*(O13),2) -> 0 | L13: =ROUND(F13*(G13),2) -> 0 | M13: =ROUND(F13*(H13),2) -> 0 | N13: 5.01 | S13: =ROUND(F13*(P13),3) -> 0 | Z13: 0
A14: 118 | B14: 1/A 1 | C14: 151101101 | D14: Paženie a rozopretie stien rýh pre podzemné vedenie, príložné do 2 m | E14: m2 | F14: 35 | G14: 0 | H14: 0 | I14: =ROUND(F14*(G14+H14),2) -> 0 | J14: =ROUND(F14*(N14),2) -> 206.5 | K14: =ROUND(F14*(O14),2) -> 0 | L14: =ROUND(F14*(G14),2) -> 0 | M14: =ROUND(F14*(H14),2) -> 0 | N14: 5.9 | P14: 0.00097 | R14: 0.00097 | S14: =ROUND(F14*(P14),3) -> 0.034 | Z14: 0
A15: 119 | B15: 1/A 1 | C15: 151101111 | D15: Odstránenie paženia rýh pre podzemné vedenie, príložné hĺbky do 2 m | E15: m2 | F15: 35 | G15: 0 | H15: 0 | I15: =ROUND(F15*(G15+H15),2) -> 0 | J15: =ROUND(F15*(N15),2) -> 80.85 | K15: =ROUND(F15*(O15),2) -> 0 | L15: =ROUND(F15*(G15),2) -> 0 | M15: =ROUND(F15*(H15),2) -> 0 | N15: 2.31 | S15: =ROUND(F15*(P15),3) -> 0 | Z15: 0
A16: 120 | B16: 1/A 1 | C16: 162501102 | D16: Vodorovné premiestnenie výkopku tr.1-4 do 3000 m | E16: m3 | F16: 14.226 | G16: 0 | H16: 0 | I16: =ROUND(F16*(G16+H16),2) -> 0 | J16: =ROUND(F16*(N16),2) -> 67.72 | K16: =ROUND(F16*(O16),2) -> 0 | L16: =ROUND(F16*(G16),2) -> 0 | M16: =ROUND(F16*(H16),2) -> 0 | N16: 4.76 | S16: =ROUND(F16*(P16),3) -> 0 | Z16: 0
A17: 121 | B17: 1/A 1 | C17: 167101101 | D17: Nakladanie neuľahnutého výkopku z hornín tr.1-4 do 100 m3 | E17: m3 | F17: 14.226 | G17: 0 | H17: 0 | I17: =ROUND(F17*(G17+H17),2) -> 0 | J17: =ROUND(F17*(N17),2) -> 103 | K17: =ROUND(F17*(O17),2) -> 0 | L17: =ROUND(F17*(G17),2) -> 0 | M17: =ROUND(F17*(H17),2) -> 0 | N17: 7.24 | S17: =ROUND(F17*(P17),3) -> 0 | Z17: 0
A18: 122 | B18: 1/A 1 | C18: 171201201 | D18: Uloženie sypaniny na skládky do 100 m3 | E18: m3 | F18: 14.226 | G18: 0 | H18: 0 | I18: =ROUND(F18*(G18+H18),2) -> 0 | J18: =ROUND(F18*(N18),2) -> 12.38 | K18: =ROUND(F18*(O18),2) -> 0 | L18: =ROUND(F18*(G18),2) -> 0 | M18: =ROUND(F18*(H18),2) -> 0 | N18: 0.87 | S18: =ROUND(F18*(P18),3) -> 0 | Z18: 0
A19: 123 | B19: 1/A 1 | C19: 174101001 | D19: Zásyp sypaninou so zhutnením jám, šachiet, rýh, zárezov alebo okolo objektov do 100 m3 | E19: m3 | F19: 10.5 | G19: 0 | H19: 0 | I19: =ROUND(F19*(G19+H19),2) -> 0 | J19: =ROUND(F19*(N19),2) -> 38.96 | K19: =ROUND(F19*(O19),2) -> 0 | L19: =ROUND(F19*(G19),2) -> 0 | M19: =ROUND(F19*(H19),2) -> 0 | N19: 3.71 | S19: =ROUND(F19*(P19),3) -> 0 | Z19: 0
A20: 124 | B20: 1/A 1 | C20: 175101101 | D20: Obsyp potrubia sypaninou z vhodných hornín 1 až 4 bez prehodenia sypaniny | E20: m3 | F20: 3.5 | G20: 0 | H20: 0 | I20: =ROUND(F20*(G20+H20),2) -> 0 | J20: =ROUND(F20*(N20),2) -> 55.48 | K20: =ROUND(F20*(O20),2) -> 0 | L20: =ROUND(F20*(G20),2) -> 0 | M20: =ROUND(F20*(H20),2) -> 0 | N20: 15.85 | S20: =ROUND(F20*(P20),3) -> 0 | Z20: 0
A21: 125 | B21: S/S60 | C21: 5833362000 | D21: Kamenivo ťažené hrubé 4-8 a | E21: t | F21: 6.3 | G21: 0 | H21: 0 | I21: =ROUND(F21*(G21+H21),2) -> 0 | J21: =ROUND(F21*(N21),2) -> 106.47 | K21: =ROUND(F21*(O21),2) -> 0 | L21: =ROUND(F21*(G21),2) -> 0 | M21: =ROUND(F21*(H21),2) -> 0 | N21: 16.9 | P21: 1.8 | R21: 1.8 | S21: =ROUND(F21*(P21),3) -> 11.34 | Z21: 0
A22: 126 | B22: 1/A 1 | C22: 181101102 | D22: Úprava pláne uvedenie do pôvodného stavu | E22: m2 | F22: 20 | G22: 0 | H22: 0 | I22: =ROUND(F22*(G22+H22),2) -> 0 | J22: =ROUND(F22*(N22),2) -> 110 | K22: =ROUND(F22*(O22),2) -> 0 | L22: =ROUND(F22*(G22),2) -> 0 | M22: =ROUND(F22*(H22),2) -> 0 | N22: 5.5 | S22: =ROUND(F22*(P22),3) -> 0 | Z22: 0
A23: 127 | B23: 1/A 1 | C23: 131201101 | D23: Výkop nezapaženej jamy v hornine 3, do 100 m3 - žumpa | E23: m3 | F23: 8.52 | G23: 0 | H23: 0 | I23: =ROUND(F23*(G23+H23),2) -> 0 | J23: =ROUND(F23*(N23),2) -> 85.29 | K23: =ROUND(F23*(O23),2) -> 0 | L23: =ROUND(F23*(G23),2) -> 0 | M23: =ROUND(F23*(H23),2) -> 0 | N23: 10.01 | S23: =ROUND(F23*(P23),3) -> 0 | Z23: 0
A24: 128 | B24: 1/A 1 | C24: 131201109 | D24: Hĺbenie nezapažených jám a zárezov. Príplatok za lepivosť horniny 3 | E24: m3 | F24: 8.52 | G24: 0 | H24: 0 | I24: =ROUND(F24*(G24+H24),2) -> 0 | J24: =ROUND(F24*(N24),2) -> 7.5 | K24: =ROUND(F24*(O24),2) -> 0 | L24: =ROUND(F24*(G24),2) -> 0 | M24: =ROUND(F24*(H24),2) -> 0 | N24: 0.88 | S24: =ROUND(F24*(P24),3) -> 0 | Z24: 0
A25: 129 | B25: 1/A 1 | C25: 161101102 | D25: Zvislé premiestnenie výkopku bez naloženia z horniny 1 až 4, pri hĺbke výkopu nad 2.5 m do 4 m | E25: M3 | F25: 8.52 | G25: 0 | H25: 0 | I25: =ROUND(F25*(G25+H25),2) -> 0 | J25: =ROUND(F25*(N25),2) -> 59.3 | K25: =ROUND(F25*(O25),2) -> 0 | L25: =ROUND(F25*(G25),2) -> 0 | M25: =ROUND(F25*(H25),2) -> 0 | N25: 6.96 | S25: =ROUND(F25*(P25),3) -> 0 | Z25: 0
A26: 130 | B26: 1/A 1 | C26: 174101101 | D26: Zásyp sypaninou so zhutnením jám, šachiet, rýh, zárezov alebo okolo objektov v týchto vykopávkach | E26: M3 | F26: 2.556 | G26: 0 | H26: 0 | I26: =ROUND(F26*(G26+H26),2) -> 0 | J26: =ROUND(F26*(N26),2) -> 11.04 | K26: =ROUND(F26*(O26),2) -> 0 | L26: =ROUND(F26*(G26),2) -> 0 | M26: =ROUND(F26*(H26),2) -> 0 | N26: 4.32 | S26: =ROUND(F26*(P26),3) -> 0 | Z26: 0
C27: 1 | D27: ZEMNÉ PRÁCE | G27: =ROUND((SUM(L10:L26))/1,2) -> 0 | H27: =ROUND((SUM(M10:M26))/1,2) -> 0 | I27: =ROUND((SUM(I10:I26))/1,2) -> 0 | L27: =ROUND((SUM(L10:L26))/1,2) -> 0 | M27: =ROUND((SUM(M10:M26))/1,2) -> 0 | S27: =ROUND((SUM(S10:S26))/1,2) -> 11.37 | V27: =ROUND((SUM(V10:V26))/1,2) -> 0
C29: 4 | D29: VODOROVNÉ KONŠTRUKCIE
A30: 131 | B30: 271/A 1 | C30: 451572111 | D30: Lôžko pod potrubie, stoky a drobné objekty, v otvorenom výkope z kameniva drobného ťaženého 0-4 mm | E30: m3 | F30: 2.1 | G30: 0 | H30: 0 | I30: =ROUND(F30*(G30+H30),2) -> 0 | J30: =ROUND(F30*(N30),2) -> 73 | K30: =ROUND(F30*(O30),2) -> 0 | L30: =ROUND(F30*(G30),2) -> 0 | M30: =ROUND(F30*(H30),2) -> 0 | N30: 34.76 | P30: 1.89077 | R30: 1.89077 | S30: =ROUND(F30*(P30),3) -> 3.971 | Z30: 0
A31: 132 | B31: 271/A 1 | C31: 452311141 | D31: VŠ - podkladný beton hr. 150 mm tr.C 16/20 | E31: m3 | F31: 1 | G31: 0 | H31: 0 | I31: =ROUND(F31*(G31+H31),2) -> 0 | J31: =ROUND(F31*(N31),2) -> 114.9 | K31: =ROUND(F31*(O31),2) -> 0 | L31: =ROUND(F31*(G31),2) -> 0 | M31: =ROUND(F31*(H31),2) -> 0 | N31: 114.9 | P31: 2.18438 | R31: 2.18438 | S31: =ROUND(F31*(P31),3) -> 2.184 | Z31: 0
A32: 133 | B32: 271/A 1 | C32: 452351101 | D32: Debnenie v otvorenom výkope dosiek, sedlových lôžok a blokov pod potrubie,stoky a drobné objekty | E32: m2 | F32: 4.9 | G32: 0 | H32: 0 | I32: =ROUND(F32*(G32+H32),2) -> 0 | J32: =ROUND(F32*(N32),2) -> 91.19 | K32: =ROUND(F32*(O32),2) -> 0 | L32: =ROUND(F32*(G32),2) -> 0 | M32: =ROUND(F32*(H32),2) -> 0 | N32: 18.61 | P32: 0.00461 | R32: 0.00461 | S32: =ROUND(F32*(P32),3) -> 0.023 | Z32: 0
A33: 134 | B33: 1/A 1 | C33: 451542111 | D33: VŠ - piesok hr. 30 mm | E33: m3 | F33: 0.3 | G33: 0 | H33: 0 | I33: =ROUND(F33*(G33+H33),2) -> 0 | J33: =ROUND(F33*(N33),2) -> 10.5 | K33: =ROUND(F33*(O33),2) -> 0 | L33: =ROUND(F33*(G33),2) -> 0 | M33: =ROUND(F33*(H33),2) -> 0 | N33: 35 | P33: 1.8 | R33: 1.8 | S33: =ROUND(F33*(P33),3) -> 0.54 | Z33: 0
A34: 135 | B34: 271/A 1 | C34: 451543111 | D34: VŠ - štrkový násyp hr. 120 mm | E34: m3 | F34: 0.5 | G34: 0 | H34: 0 | I34: =ROUND(F34*(G34+H34),2) -> 0 | J34: =ROUND(F34*(N34),2) -> 19.45 | K34: =ROUND(F34*(O34),2) -> 0 | L34: =ROUND(F34*(G34),2) -> 0 | M34: =ROUND(F34*(H34),2) -> 0 | N34: 38.9 | P34: 1.8 | R34: 1.8 | S34: =ROUND(F34*(P34),3) -> 0.9 | Z34: 0
A35: 136 | B35: 271/A 1 | C35: 451543111 | D35: Násyp štrkový hr. 120 mm pod žumpu | E35: m3 | F35: 1.022 | G35: 0 | H35: 0 | I35: =ROUND(F35*(G35+H35),2) -> 0 | J35: =ROUND(F35*(N35),2) -> 40.37 | K35: =ROUND(F35*(O35),2) -> 0 | L35: =ROUND(F35*(G35),2) -> 0 | M35: =ROUND(F35*(H35),2) -> 0 | N35: 39.5 | P35: 1.8 | R35: 1.8 | S35: =ROUND(F35*(P35),3) -> 1.84 | Z35: 0
A36: 137 | B36: 271/A 1 | C36: 452311141 | D36: Dosky z betónu podkladný beton hr. 150 mm pod žumpu | E36: m3 | F36: 1.3 | G36: 0 | H36: 0 | I36: =ROUND(F36*(G36+H36),2) -> 0 | J36: =ROUND(F36*(N36),2) -> 135.2 | K36: =ROUND(F36*(O36),2) -> 0 | L36: =ROUND(F36*(G36),2) -> 0 | M36: =ROUND(F36*(H36),2) -> 0 | N36: 104 | P36: 2.18438 | R36: 2.18438 | S36: =ROUND(F36*(P36),3) -> 2.84 | Z36: 0
C37: 4 | D37: VODOROVNÉ KONŠTRUKCIE | G37: =ROUND((SUM(L29:L36))/1,2) -> 0 | H37: =ROUND((SUM(M29:M36))/1,2) -> 0 | I37: =ROUND((SUM(I29:I36))/1,2) -> 0 | L37: =ROUND((SUM(L29:L36))/1,2) -> 0 | M37: =ROUND((SUM(M29:M36))/1,2) -> 0 | S37: =ROUND((SUM(S29:S36))/1,2) -> 12.3 | V37: =ROUND((SUM(V29:V36))/1,2) -> 0
C39: 8 | D39: Potrubné rozvody
A40: 138 | B40: 271/A 1 | C40: 871211004 | D40: Montáž vodovodného potrubia - tlaková HDPE rura DN40 50x3,0 SDR 17, PN10 | E40: m | F40: 17.5 | G40: 0 | H40: 0 | I40: =ROUND(F40*(G40+H40),2) -> 0 | J40: =ROUND(F40*(N40),2) -> 396.38 | K40: =ROUND(F40*(O40),2) -> 0 | L40: =ROUND(F40*(G40),2) -> 0 | M40: =ROUND(F40*(H40),2) -> 0 | N40: 22.65 | S40: =ROUND(F40*(P40),3) -> 0 | Z40: 0
A41: 139 | B41: 271/A 1 | C41: 891181111 | D41: Montáž vodovodného posúvača / uzaver / č. 2800 zavit / hrdlo / Hawle DN 40 s výstupom ISO pre napojenie potrubia + dodávka | E41: kus | F41: 1 | G41: 0 | H41: 0 | I41: =ROUND(F41*(G41+H41),2) -> 0 | J41: =ROUND(F41*(N41),2) -> 180 | K41: =ROUND(F41*(O41),2) -> 0 | L41: =ROUND(F41*(G41),2) -> 0 | M41: =ROUND(F41*(H41),2) -> 0 | N41: 180 | P41: 0.00072 | R41: 0.00072 | S41: =ROUND(F41*(P41),3) -> 0.001 | Z41: 0
A42: 140 | B42: 271/A 1 | C42: 891269111 | D42: Montáž navrtávacieho pásu - Hawle typ HAKU 2" + dodávka | E42: kus | F42: 1 | G42: 0 | H42: 0 | I42: =ROUND(F42*(G42+H42),2) -> 0 | J42: =ROUND(F42*(N42),2) -> 220 | K42: =ROUND(F42*(O42),2) -> 0 | L42: =ROUND(F42*(G42),2) -> 0 | M42: =ROUND(F42*(H42),2) -> 0 | N42: 220 | S42: =ROUND(F42*(P42),3) -> 0 | Z42: 0
A43: 141 | B43: 271/A 1 | C43: 892233111 | D43: Preplach a dezinfekcia vodovodného potrubia | E43: m | F43: 17.5 | G43: 0 | H43: 0 | I43: =ROUND(F43*(G43+H43),2) -> 0 | J43: =ROUND(F43*(N43),2) -> 51.98 | K43: =ROUND(F43*(O43),2) -> 0 | L43: =ROUND(F43*(G43),2) -> 0 | M43: =ROUND(F43*(H43),2) -> 0 | N43: 2.97 | S43: =ROUND(F43*(P43),3) -> 0 | Z43: 0
A44: 142 | B44: 271/A 1 | C44: 892241111 | D44: Ostatné práce na rúrovom vedení, tlakové skúšky vodovodného potrubia DN do 80 | E44: m | F44: 17.5 | G44: 0 | H44: 0 | I44: =ROUND(F44*(G44+H44),2) -> 0 | J44: =ROUND(F44*(N44),2) -> 28.88 | K44: =ROUND(F44*(O44),2) -> 0 | L44: =ROUND(F44*(G44),2) -> 0 | M44: =ROUND(F44*(H44),2) -> 0 | N44: 1.65 | S44: =ROUND(F44*(P44),3) -> 0 | Z44: 0
A45: 143 | B45: 271/A 1 | C45: 893301001 | D45: Osadenie + dodávka vodomernej šachty plastovej pr. 1200 mm | E45: ks | F45: 1 | G45: 0 | H45: 0 | I45: =ROUND(F45*(G45+H45),2) -> 0 | J45: =ROUND(F45*(N45),2) -> 1900 | K45: =ROUND(F45*(O45),2) -> 0 | L45: =ROUND(F45*(G45),2) -> 0 | M45: =ROUND(F45*(H45),2) -> 0 | N45: 1900 | S45: =ROUND(F45*(P45),3) -> 0 | Z45: 0
A46: 144 | B46: 271/A 1 | C46: 899102111 | D46: Osadenie + dodávka poklopu 600x600, D400 | E46: kus | F46: 1 | G46: 0 | H46: 0 | I46: =ROUND(F46*(G46+H46),2) -> 0 | J46: =ROUND(F46*(N46),2) -> 295 | K46: =ROUND(F46*(O46),2) -> 0 | L46: =ROUND(F46*(G46),2) -> 0 | M46: =ROUND(F46*(H46),2) -> 0 | N46: 295 | P46: 0.00634 | R46: 0.00634 | S46: =ROUND(F46*(P46),3) -> 0.006 | Z46: 0
A47: 145 | B47: 271/A 1 | C47: 899401112 | D47: Osadenie + dodávka poklopu liatinového posúvačového | E47: kus | F47: 1 | G47: 0 | H47: 0 | I47: =ROUND(F47*(G47+H47),2) -> 0 | J47: =ROUND(F47*(N47),2) -> 85 | K47: =ROUND(F47*(O47),2) -> 0 | L47: =ROUND(F47*(G47),2) -> 0 | M47: =ROUND(F47*(H47),2) -> 0 | N47: 85 | P47: 0.11406 | R47: 0.11406 | S47: =ROUND(F47*(P47),3) -> 0.114 | Z47: 0
A48: 146 | B48: 271/A 1 | C48: 899713111 | D48: Orientačná tabuľka na vodovodných a kanalizačných radoch na stĺpiku oceľovom alebo betónovom | E48: kus | F48: 1 | G48: 0 | H48: 0 | I48: =ROUND(F48*(G48+H48),2) -> 0 | J48: =ROUND(F48*(N48),2) -> 7.65 | K48: =ROUND(F48*(O48),2) -> 0 | L48: =ROUND(F48*(G48),2) -> 0 | M48: =ROUND(F48*(H48),2) -> 0 | N48: 7.65 | P48: 0.00023 | R48: 0.00023 | S48: =ROUND(F48*(P48),3) -> 0 | Z48: 0
A49: 147 | B49: 271/A 1 | C49: 899721111 | D49: Vyhľadávací vodič na potrubí PVC DN do 150 mm | E49: m | F49: 7 | G49: 0 | H49: 0 | I49: =ROUND(F49*(G49+H49),2) -> 0 | J49: =ROUND(F49*(N49),2) -> 8.47 | K49: =ROUND(F49*(O49),2) -> 0 | L49: =ROUND(F49*(G49),2) -> 0 | M49: =ROUND(F49*(H49),2) -> 0 | N49: 1.21 | S49: =ROUND(F49*(P49),3) -> 0 | Z49: 0
A50: 148 | B50: 271/A 1 | C50: 899721131 | D50: Označenie vodovodného potrubia bielou výstražnou fóliou | E50: m | F50: 7 | G50: 0 | H50: 0 | I50: =ROUND(F50*(G50+H50),2) -> 0 | J50: =ROUND(F50*(N50),2) -> 10.5 | K50: =ROUND(F50*(O50),2) -> 0 | L50: =ROUND(F50*(G50),2) -> 0 | M50: =ROUND(F50*(H50),2) -> 0 | N50: 1.5 | S50: =ROUND(F50*(P50),3) -> 0 | Z50: 0
A51: 149 | B51: 1/A 1 | C51: 891000000 | D51: Montáž + dodávka zemná súprava teleskopická | E51: ks | F51: 1 | G51: 0 | H51: 0 | I51: =ROUND(F51*(G51+H51),2) -> 0 | J51: =ROUND(F51*(N51),2) -> 76.5 | K51: =ROUND(F51*(O51),2) -> 0 | L51: =ROUND(F51*(G51),2) -> 0 | M51: =ROUND(F51*(H51),2) -> 0 | N51: 76.5 | S51: =ROUND(F51*(P51),3) -> 0 | Z51: 0
A52: 150 | B52: 1/A 1 | C52: 891000000 | D52: Montáž + dodávka zavitový filter DN40 | E52: ks | F52: 1 | G52: 0 | H52: 0 | I52: =ROUND(F52*(G52+H52),2) -> 0 | J52: =ROUND(F52*(N52),2) -> 95.5 | K52: =ROUND(F52*(O52),2) -> 0 | L52: =ROUND(F52*(G52),2) -> 0 | M52: =ROUND(F52*(H52),2) -> 0 | N52: 95.5 | S52: =ROUND(F52*(P52),3) -> 0 | Z52: 0
A53: 151 | B53: 1/A 1 | C53: 891000000 | D53: Montáž + dodávka uzáver so spätnou klapkou profilu DN 40 a vypušťacím ventilom DN15 | E53: ks | F53: 1 | G53: 0 | H53: 0 | I53: =ROUND(F53*(G53+H53),2) -> 0 | J53: =ROUND(F53*(N53),2) -> 120 | K53: =ROUND(F53*(O53),2) -> 0 | L53: =ROUND(F53*(G53),2) -> 0 | M53: =ROUND(F53*(H53),2) -> 0 | N53: 120 | S53: =ROUND(F53*(P53),3) -> 0 | Z53: 0
A54: 152 | B54: 271/A 3 | C54: 837314111 | D54: Montáž napojenia | E54: kus | F54: 1 | G54: 0 | H54: 0 | I54: =ROUND(F54*(G54+H54),2) -> 0 | J54: =ROUND(F54*(N54),2) -> 90 | K54: =ROUND(F54*(O54),2) -> 0 | L54: =ROUND(F54*(G54),2) -> 0 | M54: =ROUND(F54*(H54),2) -> 0 | N54: 90 | P54: 0.2027 | R54: 0.2027 | S54: =ROUND(F54*(P54),3) -> 0.203 | Z54: 0
A55: 153 | B55: 1/A 1 | C55: 451542111 | D55: lôžko z piesku hr. 30 mm pod žumpu | E55: m3 | F55: 0.3 | G55: 0 | H55: 0 | I55: =ROUND(F55*(G55+H55),2) -> 0 | J55: =ROUND(F55*(N55),2) -> 13.5 | K55: =ROUND(F55*(O55),2) -> 0 | L55: =ROUND(F55*(G55),2) -> 0 | M55: =ROUND(F55*(H55),2) -> 0 | N55: 45 | P55: 1.8 | R55: 1.8 | S55: =ROUND(F55*(P55),3) -> 0.54 | Z55: 0
A56: 154 | B56: 1/A 1 | C56: 893000000 | D56: Osadenie akumulačnej želbet. nádrže 12 m3 | E56: ks | F56: 1 | G56: 0 | H56: 0 | I56: =ROUND(F56*(G56+H56),2) -> 0 | J56: =ROUND(F56*(N56),2) -> 1512 | K56: =ROUND(F56*(O56),2) -> 0 | L56: =ROUND(F56*(G56),2) -> 0 | M56: =ROUND(F56*(H56),2) -> 0 | N56: 1512 | S56: =ROUND(F56*(P56),3) -> 0 | Z56: 0
A57: 155 | B57: P/PC | C57: 592000000 | D57: akumulačná nádrž KL AN 12 12m3 + poklop pr. 600 mm / KLARTEK / | E57: kpl | F57: 1 | G57: 0 | H57: 0 | I57: =ROUND(F57*(G57+H57),2) -> 0 | J57: =ROUND(F57*(N57),2) -> 7560 | K57: =ROUND(F57*(O57),2) -> 0 | L57: =ROUND(F57*(G57),2) -> 0 | M57: =ROUND(F57*(H57),2) -> 0 | N57: 7560 | S57: =ROUND(F57*(P57),3) -> 0 | Z57: 0
A58: 156 | B58: 1/A 1 | C58: 893000000 | D58: dopravné náklady nádrže | E58: kpl | F58: 1 | G58: 0 | H58: 0 | I58: =ROUND(F58*(G58+H58),2) -> 0 | J58: =ROUND(F58*(N58),2) -> 560 | K58: =ROUND(F58*(O58),2) -> 0 | L58: =ROUND(F58*(G58),2) -> 0 | M58: =ROUND(F58*(H58),2) -> 0 | N58: 560 | S58: =ROUND(F58*(P58),3) -> 0 | Z58: 0
C59: 8 | D59: Potrubné rozvody | G59: =ROUND((SUM(L39:L58))/1,2) -> 0 | H59: =ROUND((SUM(M39:M58))/1,2) -> 0 | I59: =ROUND((SUM(I39:I58))/1,2) -> 0 | L59: =ROUND((SUM(L39:L58))/1,2) -> 0 | M59: =ROUND((SUM(M39:M58))/1,2) -> 0 | S59: =ROUND((SUM(S39:S58))/1,2) -> 0.86 | V59: =ROUND((SUM(V39:V58))/1,2) -> 0
C61: 99 | D61: PRESUNY HMÔT
A62: 157 | B62: 271/A 1 | C62: 998276101 | D62: Presun hmôt pre rúrové vedenie hĺbené z rúr z plast., hmôt alebo sklolamin. v otvorenom výkope | E62: t | F62: 24.53488 | G62: 0 | H62: 0 | I62: =ROUND(F62*(G62+H62),2) -> 0 | J62: =ROUND(F62*(N62),2) -> 738.25 | K62: =ROUND(F62*(O62),2) -> 0 | L62: =ROUND(F62*(G62),2) -> 0 | M62: =ROUND(F62*(H62),2) -> 0 | N62: 30.09 | S62: =ROUND(F62*(P62),3) -> 0 | Z62: 0
C63: 99 | D63: PRESUNY HMÔT | G63: =ROUND((SUM(L61:L62))/1,2) -> 0 | H63: =ROUND((SUM(M61:M62))/1,2) -> 0 | I63: =ROUND((SUM(I61:I62))/1,2) -> 0 | L63: =ROUND((SUM(L61:L62))/1,2) -> 0 | M63: =ROUND((SUM(M61:M62))/1,2) -> 0 | S63: =ROUND((SUM(S61:S62))/1,2) -> 0 | V63: =ROUND((SUM(V61:V62))/1,2) -> 0
D65: Práce HSV | G65: =ROUND((SUM(L9:L64))/2,2) -> 0 | H65: =ROUND((SUM(M9:M64))/2,2) -> 0 | I65: =ROUND((SUM(I9:I64))/2,2) -> 0 | L65: =ROUND((SUM(L9:L64))/2,2) -> 0 | M65: =ROUND((SUM(M9:M64))/2,2) -> 0 | S65: =ROUND((SUM(S9:S64))/2,2) -> 24.53 | V65: =ROUND((SUM(V9:V64))/2,2) -> 0
D66: Celkom v EUR | G66: =ROUND((SUM(L9:L65))/3,2) -> 0 | H66: =ROUND((SUM(M9:M65))/3,2) -> 0 | I66: =ROUND((SUM(I9:I65))/3,2) -> 0 | K66: =ROUND((SUM(K9:K65))/3,2) -> 0 | L66: =ROUND((SUM(L9:L65))/3,2) -> 0 | M66: =ROUND((SUM(M9:M65))/3,2) -> 0 | S66: =ROUND((SUM(S9:S65))/3,2) -> 24.53 | V66: =ROUND((SUM(V9:V65))/3,2) -> 0 | Z66: =(SUM(Z9:Z65)) -> 0
