Workbook

Sheet Rekapitulácia
A2: Rekapitulácia výkazu výmer | F2: Sadzby DPH
A3: Stavba Rekonštrukcia maštalí a rozšírenie farmového hnojiska, Bobrov | F3: A | G3: B
F4: 0.2 | G4: 0
A6: Názov objektu | B6: ZRN | C6: VRN % | D6: HZS | E6: Kompl.čin. | F6: Ost. náklady | G6: Cena
A7: SO 02 Kravín | B7: ='SO 27358'!I151-Rekapitulácia!D7 -> 0 | C7: ='Kryci_list 27358'!J26 -> 0 | D7: 0 | E7: ='Kryci_list 27358'!J17 -> 0 | F7: 0 | G7: =B7+C7+D7+E7+F7 -> 0 | K7: ='SO 27358'!K151 -> 0 | Q7: 30.126
A8: PS 02.01 Ustajnenie | B8: ='Kryci_list 27359'!F20 -> 0 | C8: ='Kryci_list 27359'!J26 -> 0 | D8: 0 | E8: ='Kryci_list 27358'!J18 -> 0 | F8: 0 | G8: =B8+C8+D8+E8+F8 -> 0
A9: PS 02.02 Kŕmenie a napájanie | B9: ='kryci_list 27002'!F20 -> 0 | C9: ='kryci_list 27002'!J26 -> 0 | D9: 0 | E9: ='Kryci_list 27358'!J19 -> 0 | F9: 0 | G9: =B9+C9+D9+E9+F9 -> 0
A10: PS 02.03 Vetranie | B10: ='Krycí_list 27003'!F20 -> 0 | C10: 0 | D10: 0 | E10: ='Kryci_list 27358'!J20 -> 0 | F10: 0 | G10: =B10+C10+D10+E10+F10 -> 0
A11: SO 03 Farmové hnojisko | B11: ='SO 27390'!I54-Rekapitulácia!D11 -> 0 | C11: ='Kryci_list 27390'!J26 -> 0 | D11: 0 | E11: ='Kryci_list 27390'!J17 -> 0 | F11: 0 | G11: =B11+C11+D11+E11+F11 -> 0 | K11: ='SO 27390'!K54 -> 0 | Q11: 30.126
A12: SO 02 - vodovodná prípojka,žumpa 12 m3 | B12: ='SO 27391'!I66-Rekapitulácia!D12 -> 0 | C12: ='Kryci_list 27391'!J26 -> 0 | D12: 0 | E12: ='Kryci_list 27391'!J17 -> 0 | F12: 0 | G12: =B12+C12+D12+E12+F12 -> 0 | K12: ='SO 27391'!K66 -> 0 | Q12: 30.126
A13: Celkom bez DPH | B13: =SUM(B7:B12) -> 0 | C13: =SUM(C7:C12) -> 0 | D13: =SUM(D7:D12) -> 0 | E13: =SUM(E7:E12) -> 0 | F13: =SUM(F7:F12) -> 0 | G13: =SUM(G7:G12)-SUM(Z7:Z12) -> 0
A14: DPH 20% z | B14: =G13-SUM(Rekapitulácia!K12)*1 -> 0 | G14: =ROUND(((ROUND(B14,2)*20)/100),2)*1 -> 0
A15: DPH 0% z | B15: =(G13-B14) -> 0 | G15: =ROUND(((ROUND(B15,2)*0)/100),2) -> 0
A16: Celkom v EUR | G16: =SUM(G13:G15) -> 0

Sheet Krycí list stavby
F1: Krycí list stavby | W1: 30.126
B2: Stavba Rekonštrukcia maštalí a rozšírenie farmového hnojiska, Bobrov
I3: Miesto:
I4: Ks:
B5: Zákazka: | F5: Spracoval: | I5: Dňa | J5: 45263
B6: Odberateľ: Podielnícke roľnícko-obchodné družstvo,Družstevná 263,Bobrov
B7: IČO: | G7: DIČ:
B8: Projektant: Ing.Štefan Comba,Levoča
B9: IČO: | G9: DIČ:
B10: Dodávateľ:
B11: IČO: | G11: DIČ:
B15: A | C15: ZRN | D15: Montáž | E15: Materiál | F15: ZRN spolu | G15: B | H15: Ďalšie náklady
B16: 1 | C16: HSV | D16: ='Kryci_list 27358'!D16+'Kryci_list 27390'!D16+'Kryci_list 27391'!D16 -> 0 | E16: ='Kryci_list 27358'!E16+'Kryci_list 27390'!E16+'Kryci_list 27391'!E16 -> 0 | F16: ='Kryci_list 27358'!F16+'Kryci_list 27390'!F16+'Kryci_list 27391'!F16 -> 0 | G16: 6 | H16: Ostatné náklady | J16: =Rekapitulácia!F13 -> 0
B17: 2 | C17: PSV | D17: ='Kryci_list 27358'!D17+'Kryci_list 27390'!D17+'Kryci_list 27391'!D17+'Kryci_list 27359'!D17+'kryci_list 27002'!D17+vetranie!F20 -> 0 | E17: ='Kryci_list 27358'!E17+'Kryci_list 27390'!E17+'Kryci_list 27391'!E17+'Kryci_list 27359'!E17+'kryci_list 27002'!E17+vetranie!G20 -> 0 | F17: ='Kryci_list 27358'!F17+'Kryci_list 27390'!F17+'Kryci_list 27391'!F17+'Kryci_list 27359'!F17+'kryci_list 27002'!F17+vetranie!H20 -> 0 | G17: 7 | H17: Kompletačná činnosť | J17: =Rekapitulácia!E13 -> 0
B18: 3 | C18: MONT | D18: ='Kryci_list 27358'!D18+'Kryci_list 27359'!D18+'Kryci_list 27390'!D18+'Kryci_list 27391'!D18 -> 0 | E18: ='Kryci_list 27358'!E18+'Kryci_list 27359'!E18+'Kryci_list 27390'!E18+'Kryci_list 27391'!E18 -> 0 | F18: ='Kryci_list 27358'!F18+'Kryci_list 27359'!F18+'Kryci_list 27390'!F18+'Kryci_list 27391'!F18 -> 0 | G18: 8 | H18: HZS | J18: =Rekapitulácia!D13 -> 0
B19: 4 | C19: VRN | D19: ='Kryci_list 27358'!D19+'Kryci_list 27359'!D19+'Kryci_list 27390'!D19+'Kryci_list 27391'!D19 -> 0 | E19: ='Kryci_list 27358'!E19+'Kryci_list 27359'!E19+'Kryci_list 27390'!E19+'Kryci_list 27391'!E19 -> 0 | F19: ='Kryci_list 27358'!F19+'Kryci_list 27359'!F19+'Kryci_list 27390'!F19+'Kryci_list 27391'!F19 -> 0 | G19: 9
B20: 5 | C20: Spolu | F20: =SUM(F16:F19) -> 0 | G20: 10 | H20: Spolu | J20: =SUM(J16:J19) -> 0
B21: C | C21: VRN | G21: D | H21: VRN
B22: 11 | C22: Zariadenie staveniska | F22: ='Kryci_list 27358'!F22+'Kryci_list 27359'!F22+'Kryci_list 27390'!F22+'Kryci_list 27391'!F22 -> 0 | G22: 16 | H22: Sťažené podmienky dopravy | J22: ='Kryci_list 27358'!J22+'Kryci_list 27359'!J22+'Kryci_list 27390'!J22+'Kryci_list 27391'!J22 -> 0
B23: 12 | C23: Sťažené výrobné podmienky | F23: ='Kryci_list 27358'!F23+'Kryci_list 27359'!F23+'Kryci_list 27390'!F23+'Kryci_list 27391'!F23 -> 0 | G23: 17 | H23: Horské oblasti | J23: ='Kryci_list 27358'!J23+'Kryci_list 27359'!J23+'Kryci_list 27390'!J23+'Kryci_list 27391'!J23 -> 0
B24: 13 | C24: Prevádzkové vplyvy | F24: ='Kryci_list 27358'!F24+'Kryci_list 27359'!F24+'Kryci_list 27390'!F24+'Kryci_list 27391'!F24 -> 0 | G24: 18 | H24: Mimostavenisková doprava | J24: ='Kryci_list 27358'!J24+'Kryci_list 27359'!J24+'Kryci_list 27390'!J24+'Kryci_list 27391'!J24 -> 0
B25: 14 | G25: 19
B26: 15 | G26: 20 | H26: Spolu | J26: =SUM(J22:J25)+SUM(F22:F25) -> 0
C27: Projektant,rozpočtár | G27: E | H27: Celkové náklady
G28: 21 | H28: Súčet riadkov 5,10,15,20 | J28: =F20+J20+F26+J26 -> 0
G29: 22 | H29: DPH 20% z | I29: =Rekapitulácia!B14 -> 0 | J29: =ROUND(((ROUND(I29,2)*20)/100),2)*1 -> 0
G30: 23 | H30: DPH 0% z | I30: =Rekapitulácia!B15 -> 0 | J30: =ROUND(((ROUND(I30,2)*0)/100),2) -> 0
G31: 24 | H31: Spolu v EUR | J31: =SUM(J28:J30) -> 0
G32: F
D33: Odberateľ | H33: Dodávateľ

Sheet Kryci_list 27358
F1: Krycí list výkazu výmer | W1: 30.126
B2: Stavba Rekonštrukcia maštalí a rozšírenie farmového hnojiska, Bobrov
B3: Objekt SO 02 Kravín | I3: Miesto:
I4: Ks:
B5: Zákazka: | F5: Spracoval: | I5: Dňa | J5: 45263
B6: Odberateľ: Podielnícke roľnícko-obchodné družstvo,Družstevná 263,Bobrov
B7: IČO: | G7: DIČ:
B8: Projektant: Ing.Štefan Comba,Levoča
B9: IČO: | G9: DIČ:
B10: Dodávateľ:
B11: IČO: | G11: DIČ:
B15: A | C15: ZRN | D15: Montáž | E15: Materiál | F15: ZRN spolu | G15: B | H15: Ďalšie náklady
B16: 1 | C16: HSV | D16: ='Rekap 27358'!B20 -> 0 | E16: ='Rekap 27358'!C20 -> 0 | F16: ='Rekap 27358'!D20 -> 0 | G16: 6 | H16: Ostatné náklady | J16: 0
B17: 2 | C17: PSV | D17: ='Rekap 27358'!B29 -> 0 | E17: ='Rekap 27358'!C29 -> 0 | F17: ='Rekap 27358'!D29 -> 0 | G17: 7 | H17: Kompletačná činnosť | J17: ='SO 27358'!Z151 -> 0
B18: 3 | C18: MONT | D18: ='Rekap 27358'!B33 -> 0 | E18: ='Rekap 27358'!C33 -> 0 | F18: ='Rekap 27358'!D33 -> 0 | G18: 8 | H18: HZS | J18: 0
B19: 4 | C19: VRN | G19: 9
B20: 5 | C20: Spolu | F20: =SUM(F16:F19) -> 0 | G20: 10 | H20: Spolu | J20: =SUM(J16:J19) -> 0
B21: C | C21: VRN | G21: D | H21: VRN
B22: 11 | C22: Zariadenie staveniska | E22: 0% z [H+P+M] | F22: =((F16*U22*0)+(F17*V22*0)+(F18*W22*0))/100 -> 0 | G22: 16 | H22: Sťažené podmienky dopravy | I22: 0% z [H+P+M] | J22: =((F16*X22*0)+(F17*Y22*0)+(F18*Z22*0))/100 -> 0 | U22: 1 | V22: 1 | W22: 1 | X22: 1 | Y22: 1 | Z22: 1
B23: 12 | C23: Sťažené výrobné podmienky | E23: 0% z [H+P] | F23: =((F16*U23*0)+(F17*V23*0)+(F18*W23*0))/100 -> 0 | G23: 17 | H23: Horské oblasti | I23: 0% z [H+P+M] | J23: =((F16*X23*0)+(F17*Y23*0)+(F18*Z23*0))/100 -> 0 | U23: 1 | V23: 1 | W23: 0 | X23: 1 | Y23: 1 | Z23: 1
B24: 13 | C24: Prevádzkové vplyvy | E24: 0% z [H+P+M] | F24: =((F16*U24*0)+(F17*V24*0)+(F18*W24*0))/100 -> 0 | G24: 18 | H24: Mimostavenisková doprava | I24: 0% z [H+P] | J24: =((F16*X24*0)+(F17*Y24*0)+(F18*Z24*0))/100 -> 0 | U24: 1 | V24: 1 | W24: 1 | X24: 1 | Y24: 1 | Z24: 0
B25: 14 | G25: 19
B26: 15 | G26: 20 | H26: Spolu | J26: =SUM(J22:J25)+SUM(F22:F25) -> 0
C27: Projektant,rozpočtár | G27: E | H27: Celkové náklady
G28: 21 | H28: Súčet riadkov 5,10,15,20 | J28: =F20+J20+F26+J26 -> 0
G29: 22 | H29: DPH 20% z | I29: =J28-SUM('SO 27358'!K9:'SO 27358'!K150) -> 0 | J29: =ROUND(((ROUND(I29,2)*20)*1/100),2) -> 0
G30: 23 | H30: DPH 0% z | I30: =SUM('SO 27358'!K9:'SO 27358'!K150) -> 0 | J30: =ROUND(((ROUND(I30,2)*0)/100),2) -> 0
G31: 24 | H31: Spolu v EUR | J31: =SUM(J28:J30) -> 0
G32: F
D33: Odberateľ | G33: 26 | H33: Dodávateľ

Sheet Rekap 27358
A1: Odberateľ: Podielnícke roľnícko-obchodné družstvo,Družstevná 263,Bobrov | E1: Spracoval: | W1: 30.126
A2: Projektant: Ing.Štefan Comba,Levoča | E2: Ks:
A3: Dodávateľ: | E3: Dátum: 3. 12. 2023
A4: Stavba Rekonštrukcia maštalí a rozšírenie farmového hnojiska, Bobrov
A5: Objekt SO 02 Kravín
A8: Prehľad výkazu výmer
A9: Oddiel | B9: Montáž | C9: Materiál | D9: Spolu | E9: Hmotnosť (T) | F9: Suť (T)
A10: Práce HSV
A11: ZEMNÉ PRÁCE | B11: ='SO 27358'!L16 -> 0 | C11: ='SO 27358'!M16 -> 0 | D11: ='SO 27358'!I16 -> 0 | E11: ='SO 27358'!S16 -> 0 | F11: ='SO 27358'!V16 -> 0
A12: ZÁKLADY | B12: ='SO 27358'!L28 -> 0 | C12: ='SO 27358'!M28 -> 0 | D12: ='SO 27358'!I28 -> 0 | E12: ='SO 27358'!S28 -> 322.58 | F12: ='SO 27358'!V28 -> 0
A13: ZVISLÉ KONŠTRUKCIE | B13: ='SO 27358'!L37 -> 0 | C13: ='SO 27358'!M37 -> 0 | D13: ='SO 27358'!I37 -> 0 | E13: ='SO 27358'!S37 -> 53.88 | F13: ='SO 27358'!V37 -> 1.11
A14: VODOROVNÉ KONŠTRUKCIE | B14: ='SO 27358'!L44 -> 0 | C14: ='SO 27358'!M44 -> 0 | D14: ='SO 27358'!I44 -> 0 | E14: ='SO 27358'!S44 -> 14.38 | F14: ='SO 27358'!V44 -> 0.39
A15: SPEVNENÉ PLOCHY | B15: ='SO 27358'!L53 -> 0 | C15: ='SO 27358'!M53 -> 0 | D15: ='SO 27358'!I53 -> 0 | E15: ='SO 27358'!S53 -> 234.28 | F15: ='SO 27358'!V53 -> 0
A16: POVRCHOVÉ ÚPRAVY | B16: ='SO 27358'!L67 -> 0 | C16: ='SO 27358'!M67 -> 0 | D16: ='SO 27358'!I67 -> 0 | E16: ='SO 27358'!S67 -> 441.02 | F16: ='SO 27358'!V67 -> 0
A17: Potrubné rozvody | B17: ='SO 27358'!L71 -> 0 | C17: ='SO 27358'!M71 -> 0 | D17: ='SO 27358'!I71 -> 0 | E17: ='SO 27358'!S71 -> 0 | F17: ='SO 27358'!V71 -> 0
A18: OSTATNÉ PRÁCE | B18: ='SO 27358'!L91 -> 0 | C18: ='SO 27358'!M91 -> 0 | D18: ='SO 27358'!I91 -> 0 | E18: ='SO 27358'!S91 -> 8.29 | F18: ='SO 27358'!V91 -> 148.52
A19: PRESUNY HMÔT | B19: ='SO 27358'!L95 -> 0 | C19: ='SO 27358'!M95 -> 0 | D19: ='SO 27358'!I95 -> 0 | E19: ='SO 27358'!S95 -> 0 | F19: ='SO 27358'!V95 -> 0
A20: Práce HSV | B20: ='SO 27358'!L97 -> 0 | C20: ='SO 27358'!M97 -> 0 | D20: ='SO 27358'!I97 -> 0 | E20: ='SO 27358'!S97 -> 1074.43 | F20: ='SO 27358'!V97 -> 150.02
A22: Práce PSV
A23: ZTI - VNÚTORNÝ VODOVOD | B23: ='SO 27358'!L106 -> 0 | C23: ='SO 27358'!M106 -> 0 | D23: ='SO 27358'!I106 -> 0 | E23: ='SO 27358'!S106 -> 0 | F23: ='SO 27358'!V106 -> 0
A24: KONŠTRUKCIE TESÁRSKE | B24: ='SO 27358'!L112 -> 0 | C24: ='SO 27358'!M112 -> 0 | D24: ='SO 27358'!I112 -> 0 | E24: ='SO 27358'!S112 -> 1.5 | F24: ='SO 27358'!V112 -> 0
A25: KONŠTRUKCIE KLAMPIARSKE | B25: ='SO 27358'!L121 -> 0 | C25: ='SO 27358'!M121 -> 0 | D25: ='SO 27358'!I121 -> 0 | E25: ='SO 27358'!S121 -> 0.41 | F25: ='SO 27358'!V121 -> 7.84
A26: KOVOVÉ DOPLNKOVÉ KONŠTRUKCIE | B26: ='SO 27358'!L130 -> 0 | C26: ='SO 27358'!M130 -> 0 | D26: ='SO 27358'!I130 -> 0 | E26: ='SO 27358'!S130 -> 0.56 | F26: ='SO 27358'!V130 -> 0
A27: NÁTERY | B27: ='SO 27358'!L136 -> 0 | C27: ='SO 27358'!M136 -> 0 | D27: ='SO 27358'!I136 -> 0 | E27: ='SO 27358'!S136 -> 0.48 | F27: ='SO 27358'!V136 -> 0
A28: MAĽBY | B28: ='SO 27358'!L141 -> 0 | C28: ='SO 27358'!M141 -> 0 | D28: ='SO 27358'!I141 -> 0 | E28: ='SO 27358'!S141 -> 0.18 | F28: ='SO 27358'!V141 -> 0
A29: Práce PSV | B29: ='SO 27358'!L143 -> 0 | C29: ='SO 27358'!M143 -> 0 | D29: ='SO 27358'!I143 -> 0 | E29: ='SO 27358'!S143 -> 3.12 | F29: ='SO 27358'!V143 -> 7.84
A31: Montážne práce
A32: M-21 ELEKTROMONTÁŽE | B32: ='SO 27358'!L148 -> 0 | C32: ='SO 27358'!M148 -> 0 | D32: ='SO 27358'!I148 -> 0 | E32: ='SO 27358'!S148 -> 0 | F32: ='SO 27358'!V148 -> 0
A33: Montážne práce | B33: ='SO 27358'!L150 -> 0 | C33: ='SO 27358'!M150 -> 0 | D33: ='SO 27358'!I150 -> 0 | E33: ='SO 27358'!S150 -> 0 | F33: ='SO 27358'!V150 -> 0
A35: Celkom v EUR | B35: ='SO 27358'!L151 -> 0 | C35: ='SO 27358'!M151 -> 0 | D35: ='SO 27358'!I151 -> 0 | E35: ='SO 27358'!S151 -> 1077.55 | F35: ='SO 27358'!V151 -> 157.86

Sheet SO 27358
B1: Odberateľ: Podielnícke roľnícko-obchodné družstvo,Družstevná 263,Bobrov | I1: Spracoval: | W1: 30.126
B2: Projektant: Ing.Štefan Comba,Levoča | I2: Ks:
B3: Dodávateľ: | I3: Dátum: | P3: 45263
B4: Zákazka Rekonštrukcia maštalí a rozšírenie farmového hnojiska, Bobrov
B5: Objekt SO 02 Kravín
B7: Prehľad výkazu výmer
A8: Por.č. | B8: Cenník | C8: Kód položky | D8: Názov | E8: Mj | F8: Množstvo | G8: Montáž | H8: Materiál | I8: Cena celkom | P8: Hmotnosť/Mj | S8: Hmotnosť | V8: Suť
D9: Práce HSV
C10: 1 | D10: ZEMNÉ PRÁCE
A11: 1 | B11: 1/A 1 | C11: 132101101 | D11: Výkop ryhy do šírky 600 mm v horn.3 do 100 m3 | E11: m3 | F11: 63.36 | G11: 0 | H11: 0 | I11: =ROUND(F11*(G11+H11),2) -> 0 | J11: =ROUND(F11*(N11),2) -> 2407.68 | K11: =ROUND(F11*(O11),2) -> 0 | L11: =ROUND(F11*(G11),2) -> 0 | M11: =ROUND(F11*(H11),2) -> 0 | N11: 38 | S11: =ROUND(F11*(P11),3) -> 0 | Z11: 0
A12: 2 | B12: 1/A 1 | C12: 181101102 | D12: Úprava pláne so zhutnením | E12: m2 | F12: 330 | G12: 0 | H12: 0 | I12: =ROUND(F12*(G12+H12),2) -> 0 | J12: =ROUND(F12*(N12),2) -> 1145.1 | K12: =ROUND(F12*(O12),2) -> 0 | L12: =ROUND(F12*(G12),2) -> 0 | M12: =ROUND(F12*(H12),2) -> 0 | N12: 3.47 | S12: =ROUND(F12*(P12),3) -> 0 | Z12: 0
A13: 3 | B13: 1/A 1 | C13: 181101101 | D13: Terénne úpravy | E13: m2 | F13: 200 | G13: 0 | H13: 0 | I13: =ROUND(F13*(G13+H13),2) -> 0 | J13: =ROUND(F13*(N13),2) -> 250 | K13: =ROUND(F13*(O13),2) -> 0 | L13: =ROUND(F13*(G13),2) -> 0 | M13: =ROUND(F13*(H13),2) -> 0 | N13: 1.25 | S13: =ROUND(F13*(P13),3) -> 0 | Z13: 0
A14: 4 | B14: 1/A 1 | C14: 132101101 | D14: Výkop ryhy do šírky 600 mm v horn.3 do 100 m3-hnojová koncovka | E14: m3 | F14: 21.645 | G14: 0 | H14: 0 | I14: =ROUND(F14*(G14+H14),2) -> 0 | J14: =ROUND(F14*(N14),2) -> 822.51 | K14: =ROUND(F14*(O14),2) -> 0 | L14: =ROUND(F14*(G14),2) -> 0 | M14: =ROUND(F14*(H14),2) -> 0 | N14: 38 | S14: =ROUND(F14*(P14),3) -> 0 | Z14: 0
A15: 5 | B15: 1/A 1 | C15: 133111101 | D15: Hĺbenie pätiek v horninách tr. 3 | E15: m3 | F15: 44 | G15: 0 | H15: 0 | I15: =ROUND(F15*(G15+H15),2) -> 0 | J15: =ROUND(F15*(N15),2) -> 1672 | K15: =ROUND(F15*(O15),2) -> 0 | L15: =ROUND(F15*(G15),2) -> 0 | M15: =ROUND(F15*(H15),2) -> 0 | N15: 38 | S15: =ROUND(F15*(P15),3) -> 0 | Z15: 0
C16: 1 | D16: ZEMNÉ PRÁCE | G16: =ROUND((SUM(L10:L15))/1,2) -> 0 | H16: =ROUND((SUM(M10:M15))/1,2) -> 0 | I16: =ROUND((SUM(I10:I15))/1,2) -> 0 | L16: =ROUND((SUM(L10:L15))/1,2) -> 0 | M16: =ROUND((SUM(M10:M15))/1,2) -> 0 | S16: =ROUND((SUM(S10:S15))/1,2) -> 0 | V16: =ROUND((SUM(V10:V15))/1,2) -> 0
C18: 2 | D18: ZÁKLADY
A19: 6 | B19: 11/A 1 | C19: 274313611 | D19: Betón základových pásov, prostý tr.C 16/20 | E19: m3 | F19: 69.696 | G19: 0 | H19: 0 | I19: =ROUND(F19*(G19+H19),2) -> 0 | J19: =ROUND(F19*(N19),2) -> 8199.04 | K19: =ROUND(F19*(O19),2) -> 0 | L19: =ROUND(F19*(G19),2) -> 0 | M19: =ROUND(F19*(H19),2) -> 0 | N19: 117.64 | P19: 2.4179 | R19: 2.4179 | S19: =ROUND(F19*(P19),3) -> 168.518 | Z19: 0
A20: 7 | B20: 11/A 1 | C20: 271573001 | D20: Násyp pod zákl. konštr. so zhutnením zo štrkopiesku fr. 0-32 mm hr. 150 mm - pod ryhy | E20: m3 | F20: 9.504 | G20: 0 | H20: 0 | I20: =ROUND(F20*(G20+H20),2) -> 0 | J20: =ROUND(F20*(N20),2) -> 375.41 | K20: =ROUND(F20*(O20),2) -> 0 | L20: =ROUND(F20*(G20),2) -> 0 | M20: =ROUND(F20*(H20),2) -> 0 | N20: 39.5 | S20: =ROUND(F20*(P20),3) -> 0 | Z20: 0
A21: 8 | B21: 11/A 1 | C21: 271573001 | D21: Násyp pod zákl. konštr. so zhutnením zo štrkopiesku fr. 0-32 mm hr. 150 mm | E21: m3 | F21: 50.4 | G21: 0 | H21: 0 | I21: =ROUND(F21*(G21+H21),2) -> 0 | J21: =ROUND(F21*(N21),2) -> 1990.8 | K21: =ROUND(F21*(O21),2) -> 0 | L21: =ROUND(F21*(G21),2) -> 0 | M21: =ROUND(F21*(H21),2) -> 0 | N21: 39.5 | S21: =ROUND(F21*(P21),3) -> 0 | Z21: 0
A22: 9 | B22: 1/A 1 | C22: 279000000 | D22: Kotevné otvory 150x150/250 mm pod stlpami | E22: ks | F22: 44 | G22: 0 | H22: 0 | I22: =ROUND(F22*(G22+H22),2) -> 0 | J22: =ROUND(F22*(N22),2) -> 2992 | K22: =ROUND(F22*(O22),2) -> 0 | L22: =ROUND(F22*(G22),2) -> 0 | M22: =ROUND(F22*(H22),2) -> 0 | N22: 68 | S22: =ROUND(F22*(P22),3) -> 0 | Z22: 0
A23: 10 | B23: 1/A 1 | C23: 279000000 | D23: Zálievka vodostavebným betónom | E23: m3 | F23: 12 | G23: 0 | H23: 0 | I23: =ROUND(F23*(G23+H23),2) -> 0 | J23: =ROUND(F23*(N23),2) -> 1776 | K23: =ROUND(F23*(O23),2) -> 0 | L23: =ROUND(F23*(G23),2) -> 0 | M23: =ROUND(F23*(H23),2) -> 0 | N23: 148 | S23: =ROUND(F23*(P23),3) -> 0 | Z23: 0
A24: 11 | B24: 11/A 1 | C24: 274313611 | D24: Betón základových pásov, prostý tr.C 16/20 s kryštl. hydroizol.- hnojová koncovka | E24: m3 | F24: 23.809 | G24: 0 | H24: 0 | I24: =ROUND(F24*(G24+H24),2) -> 0 | J24: =ROUND(F24*(N24),2) -> 2800.89 | K24: =ROUND(F24*(O24),2) -> 0 | L24: =ROUND(F24*(G24),2) -> 0 | M24: =ROUND(F24*(H24),2) -> 0 | N24: 117.64 | P24: 2.4179 | R24: 2.4179 | S24: =ROUND(F24*(P24),3) -> 57.568 | Z24: 0
A25: 12 | B25: 11/A 1 | C25: 271573001 | D25: Násyp pod zákl. konštr. so zhutnením zo štrkopiesku fr. 0-32 mm, hr. 150 mm - hnojová koncovka | E25: m3 | F25: 15.768 | G25: 0 | H25: 0 | I25: =ROUND(F25*(G25+H25),2) -> 0 | J25: =ROUND(F25*(N25),2) -> 622.84 | K25: =ROUND(F25*(O25),2) -> 0 | L25: =ROUND(F25*(G25),2) -> 0 | M25: =ROUND(F25*(H25),2) -> 0 | N25: 39.5 | S25: =ROUND(F25*(P25),3) -> 0 | Z25: 0
A26: 13 | B26: 11/A 1 | C26: 271573001 | D26: Násyp zhutnený makadam hr. 300 mm - hnojová koncovka | E26: m3 | F26: 34.689 | G26: 0 | H26: 0 | I26: =ROUND(F26*(G26+H26),2) -> 0 | J26: =ROUND(F26*(N26),2) -> 1456.94 | K26: =ROUND(F26*(O26),2) -> 0 | L26: =ROUND(F26*(G26),2) -> 0 | M26: =ROUND(F26*(H26),2) -> 0 | N26: 42 | S26: =ROUND(F26*(P26),3) -> 0 | Z26: 0
A27: 14 | B27: 11/A 1 | C27: 275313611 | D27: Betón základových pätiek, prostý tr.C 16/20 | E27: m3 | F27: 44 | G27: 0 | H27: 0 | I27: =ROUND(F27*(G27+H27),2) -> 0 | J27: =ROUND(F27*(N27),2) -> 5176.16 | K27: =ROUND(F27*(O27),2) -> 0 | L27: =ROUND(F27*(G27),2) -> 0 | M27: =ROUND(F27*(H27),2) -> 0 | N27: 117.64 | P27: 2.19306 | R27: 2.19306 | S27: =ROUND(F27*(P27),3) -> 96.495 | Z27: 0
C28: 2 | D28: ZÁKLADY | G28: =ROUND((SUM(L18:L27))/1,2) -> 0 | H28: =ROUND((SUM(M18:M27))/1,2) -> 0 | I28: =ROUND((SUM(I18:I27))/1,2) -> 0 | L28: =ROUND((SUM(L18:L27))/1,2) -> 0 | M28: =ROUND((SUM(M18:M27))/1,2) -> 0 | S28: =ROUND((SUM(S18:S27))/1,2) -> 322.58 | V28: =ROUND((SUM(V18:V27))/1,2) -> 0
C30: 3 | D30: ZVISLÉ KONŠTRUKCIE
A31: 15 | B31: 14/C 1 | C31: 310238211 | D31: Zamurovanie otvorov - domurovky v murive nadzákladného tehlami na maltu vápennocementovú | E31: m3 | F31: 7.2 | G31: 0 | H31: 0 | I31: =ROUND(F31*(G31+H31),2) -> 0 | J31: =ROUND(F31*(N31),2) -> 1557.58 | K31: =ROUND(F31*(O31),2) -> 0 | L31: =ROUND(F31*(G31),2) -> 0 | M31: =ROUND(F31*(H31),2) -> 0 | N31: 216.33 | P31: 1.87515 | R31: 1.87515 | S31: =ROUND(F31*(P31),3) -> 13.501 | Z31: 0
A32: 16 | B32: 11/A 1 | C32: 317941121 | D32: Osadenie oceľových valcovaných nosníkov L 80/80/6 - 4ks, L 50/50/5 - 2 ks - preklady - murov. steny | E32: t | F32: 0.3 | G32: 0 | H32: 0 | I32: =ROUND(F32*(G32+H32),2) -> 0 | J32: =ROUND(F32*(N32),2) -> 705.8 | K32: =ROUND(F32*(O32),2) -> 0 | L32: =ROUND(F32*(G32),2) -> 0 | M32: =ROUND(F32*(H32),2) -> 0 | N32: 2352.67 | P32: 0.01721 | R32: 0.01721 | S32: =ROUND(F32*(P32),3) -> 0.005 | Z32: 0
A33: 17 | B33: 11/A 1 | C33: 345321313 | D33: Betón múrikov parapet., atik., schodisk., zábradl., železový (bez výstuže) tr.C 16/20- hnojová koncovka | E33: m3 | F33: 17.582 | G33: 0 | H33: 0 | I33: =ROUND(F33*(G33+H33),2) -> 0 | J33: =ROUND(F33*(N33),2) -> 2173.66 | K33: =ROUND(F33*(O33),2) -> 0 | L33: =ROUND(F33*(G33),2) -> 0 | M33: =ROUND(F33*(H33),2) -> 0 | N33: 123.63 | P33: 2.21313 | R33: 2.21313 | S33: =ROUND(F33*(P33),3) -> 38.911 | Z33: 0
A34: 18 | B34: 11/A 1 | C34: 345351101 | D34: Debnenie múrikov parapet., atik., zábradl., plnostenných- zhotovenie | E34: m2 | F34: 79.92 | G34: 0 | H34: 0 | I34: =ROUND(F34*(G34+H34),2) -> 0 | J34: =ROUND(F34*(N34),2) -> 1161.24 | K34: =ROUND(F34*(O34),2) -> 0 | L34: =ROUND(F34*(G34),2) -> 0 | M34: =ROUND(F34*(H34),2) -> 0 | N34: 14.53 | P34: 0.00482 | R34: 0.00482 | S34: =ROUND(F34*(P34),3) -> 0.385 | Z34: 0
A35: 19 | B35: 11/A 1 | C35: 345351102 | D35: Debnenie múrikov parapet., atik., zábradl., plnostenných- odstránenie | E35: m2 | F35: 79.92 | G35: 0 | H35: 0 | I35: =ROUND(F35*(G35+H35),2) -> 0 | J35: =ROUND(F35*(N35),2) -> 347.65 | K35: =ROUND(F35*(O35),2) -> 0 | L35: =ROUND(F35*(G35),2) -> 0 | M35: =ROUND(F35*(H35),2) -> 0 | N35: 4.35 | S35: =ROUND(F35*(P35),3) -> 0 | Z35: 0
A36: 20 | B36: 11/A 1 | C36: 345361821 | D36: Výstuž múrikov parapet., atik., schdisk., zábradl., z betonárskej ocele 10505 | E36: t | F36: 1.055 | G36: 0 | H36: 0 | I36: =ROUND(F36*(G36+H36),2) -> 0 | J36: =ROUND(F36*(N36),2) -> 2082.57 | K36: =ROUND(F36*(O36),2) -> 0 | L36: =ROUND(F36*(G36),2) -> 0 | M36: =ROUND(F36*(H36),2) -> 0 | N36: 1974 | P36: 1.02187 | R36: 1.02187 | S36: =ROUND(F36*(P36),3) -> 1.078 | V36: =ROUND(F36*(X36),3) -> 1.109 | X36: 1.05119 | Z36: 0
C37: 3 | D37: ZVISLÉ KONŠTRUKCIE | G37: =ROUND((SUM(L30:L36))/1,2) -> 0 | H37: =ROUND((SUM(M30:M36))/1,2) -> 0 | I37: =ROUND((SUM(I30:I36))/1,2) -> 0 | L37: =ROUND((SUM(L30:L36))/1,2) -> 0 | M37: =ROUND((SUM(M30:M36))/1,2) -> 0 | S37: =ROUND((SUM(S30:S36))/1,2) -> 53.88 | V37: =ROUND((SUM(V30:V36))/1,2) -> 1.11
C39: 4 | D39: VODOROVNÉ KONŠTRUKCIE
A40: 21 | B40: 11/A 1 | C40: 417321313 | D40: Betón stužujúcich pásov a vencov železový tr. C 16/20 | E40: m3 | F40: 6.257 | G40: 0 | H40: 0 | I40: =ROUND(F40*(G40+H40),2) -> 0 | J40: =ROUND(F40*(N40),2) -> 732.07 | K40: =ROUND(F40*(O40),2) -> 0 | L40: =ROUND(F40*(G40),2) -> 0 | M40: =ROUND(F40*(H40),2) -> 0 | N40: 117 | P40: 2.21321 | R40: 2.21321 | S40: =ROUND(F40*(P40),3) -> 13.848 | Z40: 0
A41: 22 | B41: 11/A 1 | C41: 417351115 | D41: Debnenie bočníc stužujúcich pásov a vencov vrátane vzpier zhotovenie | E41: m2 | F41: 37.92 | G41: 0 | H41: 0 | I41: =ROUND(F41*(G41+H41),2) -> 0 | J41: =ROUND(F41*(N41),2) -> 445.94 | K41: =ROUND(F41*(O41),2) -> 0 | L41: =ROUND(F41*(G41),2) -> 0 | M41: =ROUND(F41*(H41),2) -> 0 | N41: 11.76 | P41: 0.00341 | R41: 0.00341 | S41: =ROUND(F41*(P41),3) -> 0.129 | Z41: 0
A42: 23 | B42: 11/A 1 | C42: 417351116 | D42: Debnenie bočníc stužujúcich pásov a vencov vrátane vzpier odstránenie | E42: m2 | F42: 37.92 | G42: 0 | H42: 0 | I42: =ROUND(F42*(G42+H42),2) -> 0 | J42: =ROUND(F42*(N42),2) -> 240.79 | K42: =ROUND(F42*(O42),2) -> 0 | L42: =ROUND(F42*(G42),2) -> 0 | M42: =ROUND(F42*(H42),2) -> 0 | N42: 6.35 | S42: =ROUND(F42*(P42),3) -> 0 | Z42: 0
A43: 24 | B43: 11/A 1 | C43: 417361821 | D43: Výstuž stužujúcich pásov a vencov z betonárskej ocele 10505 | E43: t | F43: 0.375 | G43: 0 | H43: 0 | I43: =ROUND(F43*(G43+H43),2) -> 0 | J43: =ROUND(F43*(N43),2) -> 417 | K43: =ROUND(F43*(O43),2) -> 0 | L43: =ROUND(F43*(G43),2) -> 0 | M43: =ROUND(F43*(H43),2) -> 0 | N43: 1112 | P43: 1.06754 | R43: 1.06754 | S43: =ROUND(F43*(P43),3) -> 0.4 | V43: =ROUND(F43*(X43),3) -> 0.391 | X43: 1.04157 | Z43: 0
C44: 4 | D44: VODOROVNÉ KONŠTRUKCIE | G44: =ROUND((SUM(L39:L43))/1,2) -> 0 | H44: =ROUND((SUM(M39:M43))/1,2) -> 0 | I44: =ROUND((SUM(I39:I43))/1,2) -> 0 | L44: =ROUND((SUM(L39:L43))/1,2) -> 0 | M44: =ROUND((SUM(M39:M43))/1,2) -> 0 | S44: =ROUND((SUM(S39:S43))/1,2) -> 14.38 | V44: =ROUND((SUM(V39:V43))/1,2) -> 0.39
...

Sheet Kryci_list 27359
F1: Krycí list výkazu výmer | W1: 30.126
B2: Stavba Rekonštrukcia maštalí a rozšírenie farmového hnojiska, Bobrov
B3: Objekt PS 02.01 Ustajnenie | I3: Miesto:
I4: Ks:
B5: Zákazka: | F5: Spracoval: | I5: Dňa | J5: 45263
B6: Odberateľ: Podielnícke roľnícko-obchodné družstvo,Družstevná 263,Bobrov
B7: IČO: | G7: DIČ:
B8: Projektant: Ing.Štefan Comba,Levoča
B9: IČO: | G9: DIČ:
B10: Dodávateľ:
B11: IČO: | G11: DIČ:
B15: A | C15: ZRN | D15: Montáž | E15: Materiál | F15: ZRN spolu | G15: B | H15: Ďalšie náklady
B16: 1 | C16: HSV | G16: 6 | H16: Ostatné náklady | J16: 0
B17: 2 | C17: PSV | D17: ='Rekap 27359'!B12 -> 0 | E17: ='Rekap 27359'!C12 -> 0 | F17: ='Rekap 27359'!D12 -> 0 | G17: 7 | H17: Kompletačná činnosť | J17: =0 -> 0
B18: 3 | C18: MONT | G18: 8 | H18: HZS | J18: 0
B19: 4 | C19: VRN | G19: 9
B20: 5 | C20: Spolu | F20: =SUM(F16:F19) -> 0 | G20: 10 | H20: Spolu | J20: =SUM(J16:J19) -> 0
B21: C | C21: VRN | G21: D | H21: VRN
B22: 11 | C22: Zariadenie staveniska | E22: 0% z [H+P+M] | F22: =((F16*U22*0)+(F17*V22*0)+(F18*W22*0))/100 -> 0 | G22: 16 | H22: Sťažené podmienky dopravy | I22: 0% z [H+P+M] | J22: =((F16*X22*0)+(F17*Y22*0)+(F18*Z22*0))/100 -> 0 | U22: 1 | V22: 1 | W22: 1 | X22: 1 | Y22: 1 | Z22: 1
B23: 12 | C23: Sťažené výrobné podmienky | E23: 0% z [H+P] | F23: =((F16*U23*0)+(F17*V23*0)+(F18*W23*0))/100 -> 0 | G23: 17 | H23: Horské oblasti | I23: 0% z [H+P+M] | J23: =((F16*X23*0)+(F17*Y23*0)+(F18*Z23*0))/100 -> 0 | U23: 1 | V23: 1 | W23: 0 | X23: 1 | Y23: 1 | Z23: 1
B24: 13 | C24: Prevádzkové vplyvy | E24: 0% z [H+P+M] | F24: =((F16*U24*0)+(F17*V24*0)+(F18*W24*0))/100 -> 0 | G24: 18 | H24: Mimostavenisková doprava | I24: 0% z [H+P] | J24: =((F16*X24*0)+(F17*Y24*0)+(F18*Z24*0))/100 -> 0 | U24: 1 | V24: 1 | W24: 1 | X24: 1 | Y24: 1 | Z24: 0
B25: 14 | G25: 19
B26: 15 | G26: 20 | H26: Spolu | J26: =SUM(J22:J25)+SUM(F22:F25) -> 0
C27: Projektant,rozpočtár | G27: E | H27: Celkové náklady
G28: 21 | H28: Súčet riadkov 5,10,15,20 | J28: =F20+J20+F26+J26 -> 0
G29: 22 | H29: DPH 20% z | I29: =J28 -> 0 | J29: =ROUND(((ROUND(I29,2)*20)*1/100),2) -> 0
G30: 23 | H30: DPH 0% z | I30: =0 -> 0 | J30: =ROUND(((ROUND(I30,2)*0)/100),2) -> 0
G31: 24 | H31: Spolu v EUR | J31: =SUM(J28:J30) -> 0
G32: F
D33: Odberateľ | G33: 26 | H33: Dodávateľ

Sheet Rekap 27359
A1: Odberateľ: Podielnícke roľnícko-obchodné družstvo,Družstevná 263,Bobrov | E1: Spracoval: | W1: 30.126
A2: Projektant: Ing.Štefan Comba,Levoča | E2: Ks:
A3: Dodávateľ: | E3: Dátum: 3. 12. 2023
A4: Stavba Rekonštrukcia maštalí a rozšírenie farmového hnojiska, Bobrov
A5: Objekt PS 02.01 Ustájnenie
A8: Prehľad výkazu výmer
A9: Oddiel | B9: Montáž | C9: Materiál | D9: Spolu | E9: Hmotnosť (T) | F9: Suť (T)
A10: Práce PSV
A11: PREVÁDZKOVÉ SÚBORY | B11: =Hárok1!G17 -> 0 | C11: =Hárok1!H17 -> 0 | D11: =Hárok1!I17 -> 0 | E11: 0 | F11: 0
A12: Práce PSV | B12: =B11 -> 0 | C12: =C11 -> 0 | D12: =D11 -> 0 | E12: =E11 -> 0 | F12: =F11 -> 0
A14: Celkom v EUR | B14: =B12 -> 0 | C14: =C12 -> 0 | D14: =D12 -> 0 | E14: =E12 -> 0 | F14: =F12 -> 0

Sheet Hárok1
A1: Odberateľ: Podielnícke roľnícko-obchodné družstvo,Družstevná 263,Bobrov | W1: 30.126
A2: Projektant: Ing.Štefan Comba,Levoča | I2: Spracoval:
A3: Dodávateľ: | I3: Ks:
A4: Stavba Rekonštrukcia maštalí a rozšírenie farmového hnojiska, Bobrov | I4: Dátum: | P4: 45263
A5: Objekt PS 02.01 Ustájnenie
A8: Prehľad výkazu výmer
A9: Por.č. | B9: Cenník | C9: Kód položky | D9: Názov | E9: Mj | F9: Množstvo | G9: Montáž | H9: Materiál | I9: Cena celkom | P9: Hmotnosť/Mj | S9: Hmotnosť | V9: Suť
D10: Práce PSV
D11: PREVÁDZKOVÉ SÚBORY
A12: 87 | B12: R/R 0 | C12: 599331111 | D12: Ustajnenie montáž - samostatný rozpočet | E12: SUB | F12: 1 | G12: =ustajnenie!F49 -> 0 | I12: =ROUND(F12*(G12+H12),2) -> 0 | J12: =ROUND(F12*(N12),2) -> 2428 | K12: =ROUND(F12*(O12),2) -> 0 | L12: =ROUND(F12*(G12+H12),2) -> 0 | N12: 2428 | P12: 0 | R12: 0.01 | S12: =ROUND(F12*(X12),3) -> 0 | X12: 0 | Z12: 0
A13: 88 | B13: S/S50 | C13: 5512335003 | D13: Ustajnenie dodávka - samostatný rozpočet | E13: SUB | F13: 1 | H13: =ustajnenie!G49 -> 0 | I13: =ROUND(F13*(G13+H13),2) -> 0 | J13: =ROUND(F13*(N13),2) -> 13493 | K13: =ROUND(F13*(O13),2) -> 0 | M13: =ROUND(F13*(G13+H13),2) -> 0 | N13: 13493 | P13: 0 | R13: 0.00054 | S13: =ROUND(F13*(X13),3) -> 0 | X13: 0 | Z13: 0
D14: PREVÁDZKOVÉ SÚBORY | G14: =ROUND((SUM(L11:L13))/1,2) -> 0 | H14: =ROUND((SUM(M11:M13))/1,2) -> 0 | I14: =ROUND((SUM(I11:I13))/1,2) -> 0 | L14: =ROUND((SUM(L11:L13))/1,2) -> 0 | M14: =ROUND((SUM(M11:M13))/1,2) -> 0 | P14: =ROUND((SUM(P11:P13))/1,2) -> 0 | S14: =ROUND((SUM(S11:S13))/1,2) -> 0
D16: Práce PSV | G16: =ROUND((SUM(L10:L15))/2,2) -> 0 | H16: =ROUND((SUM(M10:M15))/2,2) -> 0 | I16: =ROUND((SUM(I10:I15))/2,2) -> 0 | L16: =ROUND((SUM(L10:L15))/2,2) -> 0 | M16: =ROUND((SUM(M10:M15))/2,2) -> 0 | P16: =ROUND((SUM(P10:P15))/2,2) -> 0 | S16: =ROUND((SUM(S10:S15))/2,2) -> 0
F17: Celkom | G17: =ROUND((SUM(L10:L16))/3,2) -> 0 | H17: =ROUND((SUM(M10:M16))/3,2) -> 0 | I17: =ROUND((SUM(I10:I16))/3,2) -> 0 | L17: =ROUND((SUM(L10:L16))/3,2) -> 0 | M17: =ROUND((SUM(M10:M16))/3,2) -> 0 | P17: =ROUND((SUM(P10:P16))/3,2) -> 0 | S17: =ROUND((SUM(S10:S16))/3,2) -> 0 | Z17: =(SUM(Z10:Z16)) -> 0

Sheet ustajnenie
A1: Odberateľ: Podielnícke roľnícko-obchodné družstvo,Družstevná 263,Bobrov | H1: Spracoval:
A2: Projektant: Ing.Štefan Comba,Levoča | H2: Ks:
A3: Dodávateľ: | H3: Dátum: | O3: 45263
A4: Zákazka Rekonštrukcia maštalí a rozšírenie farmového hnojiska, Bobrov
A5: Objekt PS 02.01 Ustájnenie
A7: Prehľad výkazu výmer
A8: Cenník | B8: Kód položky | C8: Názov | D8: Mj | E8: Množstvo | F8: Montáž | G8: Materiál | H8: Cena celkom | O8: Hmotnosť/Mj | R8: Hmotnosť | U8: Suť
C9: Práce PSV
C10: PREVÁDZKOVÉ SÚBORY
A11: P/PC | B11: 000000001 | C11: Deliaca bránka 2,8-3,1 , Zn | D11: ks | E11: 4 | F11: 0 | G11: 0 | H11: =ROUND(E11*(F11+G11),2) -> 0 | I11: =ROUND(E11*(M11),2) -> 0 | J11: =ROUND(E11*(N11),2) -> 0 | K11: =ROUND(E11*(F11),2) -> 0 | L11: =ROUND(E11*(G11),2) -> 0 | M11: 0 | R11: =ROUND(E11*(O11),3) -> 0
A12: P/PC | B12: 000000002 | C12: Deliaca bránka plachta , Zn | D12: ks | E12: 4 | F12: 0 | G12: 0 | H12: =ROUND(E12*(F12+G12),2) -> 0 | I12: =ROUND(E12*(M12),2) -> 0 | J12: =ROUND(E12*(N12),2) -> 0 | K12: =ROUND(E12*(F12),2) -> 0 | L12: =ROUND(E12*(G12),2) -> 0 | M12: 0 | R12: =ROUND(E12*(O12),3) -> 0
A13: P/PC | B13: 000000003 | C13: Spojovací materlial, bránky | D13: kpl | E13: 1 | F13: 0 | G13: 0 | H13: =ROUND(E13*(F13+G13),2) -> 0 | I13: =ROUND(E13*(M13),2) -> 1 | J13: =ROUND(E13*(N13),2) -> 0 | K13: =ROUND(E13*(F13),2) -> 0 | L13: =ROUND(E13*(G13),2) -> 0 | M13: 1 | R13: =ROUND(E13*(O13),3) -> 0
A14: P/PC | B14: 000000004 | C14: Montáž bránok | D14: kpl | E14: 1 | F14: 0 | G14: 0 | H14: =ROUND(E14*(F14+G14),2) -> 0 | I14: =ROUND(E14*(M14),2) -> 2 | J14: =ROUND(E14*(N14),2) -> 0 | K14: =ROUND(E14*(F14),2) -> 0 | L14: =ROUND(E14*(G14),2) -> 0 | M14: 2 | R14: =ROUND(E14*(O14),3) -> 0
A15: P/PC | B15: 000000005 | C15: Stĺpik 102/2000 , Zn | D15: ks | E15: 4 | F15: 0 | G15: 0 | H15: =ROUND(E15*(F15+G15),2) -> 0 | I15: =ROUND(E15*(M15),2) -> 12 | J15: =ROUND(E15*(N15),2) -> 0 | K15: =ROUND(E15*(F15),2) -> 0 | L15: =ROUND(E15*(G15),2) -> 0 | M15: 3 | R15: =ROUND(E15*(O15),3) -> 0
A16: P/PC | B16: 000000006 | C16: Stĺpik 102/1800 , Zn | D16: ks | E16: 4 | F16: 0 | G16: 0 | H16: =ROUND(E16*(F16+G16),2) -> 0 | I16: =ROUND(E16*(M16),2) -> 16 | J16: =ROUND(E16*(N16),2) -> 0 | K16: =ROUND(E16*(F16),2) -> 0 | L16: =ROUND(E16*(G16),2) -> 0 | M16: 4 | R16: =ROUND(E16*(O16),3) -> 0
A17: P/PC | B17: 00000006a | C17: Stĺpik 76/1800 , Zn | D17: ks | E17: 8 | F17: 0 | G17: 0 | H17: =ROUND(E17*(F17+G17),2) -> 0 | I17: =ROUND(E17*(M17),2) -> 40 | J17: =ROUND(E17*(N17),2) -> 0 | K17: =ROUND(E17*(F17),2) -> 0 | L17: =ROUND(E17*(G17),2) -> 0 | M17: 5 | R17: =ROUND(E17*(O17),3) -> 0
A18: P/PC | B18: 000000007 | C18: Závesy 102/42 komplet, bránka, Zn | D18: ks | E18: 8 | F18: 0 | G18: 0 | H18: =ROUND(E18*(F18+G18),2) -> 0 | I18: =ROUND(E18*(M18),2) -> 40 | J18: =ROUND(E18*(N18),2) -> 0 | K18: =ROUND(E18*(F18),2) -> 0 | L18: =ROUND(E18*(G18),2) -> 0 | M18: 5 | R18: =ROUND(E18*(O18),3) -> 0
A19: P/PC | B19: 000000008 | C19: Istenie bránky 76, na stlpik, Zn | D19: ks | E19: 16 | F19: 0 | G19: 0 | H19: =ROUND(E19*(F19+G19),2) -> 0 | I19: =ROUND(E19*(M19),2) -> 96 | J19: =ROUND(E19*(N19),2) -> 0 | K19: =ROUND(E19*(F19),2) -> 0 | L19: =ROUND(E19*(G19),2) -> 0 | M19: 6 | R19: =ROUND(E19*(O19),3) -> 0
A20: P/PC | B20: 00000009a | C20: Istenie bránky 76, na stenu, Zn | D20: ks | E20: 8 | F20: 0 | G20: 0 | H20: =ROUND(E20*(F20+G20),2) -> 0 | I20: =ROUND(E20*(M20),2) -> 56 | J20: =ROUND(E20*(N20),2) -> 0 | K20: =ROUND(E20*(F20),2) -> 0 | L20: =ROUND(E20*(G20),2) -> 0 | M20: 7 | R20: =ROUND(E20*(O20),3) -> 0
A21: P/PC | B21: 000000009 | C21: Čap bránky 18/400 Zn | D21: ks | E21: 12 | F21: 0 | G21: 0 | H21: =ROUND(E21*(F21+G21),2) -> 0 | I21: =ROUND(E21*(M21),2) -> 84 | J21: =ROUND(E21*(N21),2) -> 0 | K21: =ROUND(E21*(F21),2) -> 0 | L21: =ROUND(E21*(G21),2) -> 0 | M21: 7 | R21: =ROUND(E21*(O21),3) -> 0
A22: P/PC | B22: 000000010 | C22: Stĺpik 76/1800 , istenie, Zn | D22: ks | E22: 12 | F22: 0 | G22: 0 | H22: =ROUND(E22*(F22+G22),2) -> 0 | I22: =ROUND(E22*(M22),2) -> 96 | J22: =ROUND(E22*(N22),2) -> 0 | K22: =ROUND(E22*(F22),2) -> 0 | L22: =ROUND(E22*(G22),2) -> 0 | M22: 8 | R22: =ROUND(E22*(O22),3) -> 0
... A29: P/PC | B29: 000000016 | C29: Šijová zábrana vrtaná 5/4" Zn | D29: ks | E29: 84 | F29: 0 | G29: 0 | H29: =ROUND(E29*(F29+G29),2) -> 0 | I29: =ROUND(E29*(M29),2) -> 1176 | J29: =ROUND(E29*(N29),2) -> 0 | K29: =ROUND(E29*(F29),2) -> 0 | L29: =ROUND(E29*(G29),2) -> 0 | M29: 14 | R29: =ROUND(E29*(O29),3) -> 0
A30: P/PC | B30: 000000017 | C30: Montáž bočných zábran | D30: kpl | E30: 1 | F30: 0 | G30: 0 | H30: =ROUND(E30*(F30+G30),2) -> 0 | J30: =ROUND(E30*(N30),2) -> 0 | K30: =ROUND(E30*(F30),2) -> 0 | R30: =ROUND(E30*(O30),3) -> 0
A31: P/PC | B31: 000000018 | C31: Stĺpik 76/1800 Zn | D31: ks | E31: 24 | F31: 0 | G31: 0 | H31: =ROUND(E31*(F31+G31),2) -> 0 | I31: =ROUND(E31*(M31),2) -> 240 | J31: =ROUND(E31*(N31),2) -> 0 | K31: =ROUND(E31*(F31),2) -> 0 | L31: =ROUND(E31*(G31),2) -> 0 | M31: 10 | R31: =ROUND(E31*(O31),3) -> 0
A32: P/PC | B32: 000000019 | C32: Zakončenie predsunutia 60/3000 Zn | D32: ks | E32: 4 | F32: 0 | G32: 0 | H32: =ROUND(E32*(F32+G32),2) -> 0 | I32: =ROUND(E32*(M32),2) -> 44 | J32: =ROUND(E32*(N32),2) -> 0 | K32: =ROUND(E32*(F32),2) -> 0 | L32: =ROUND(E32*(G32),2) -> 0 | M32: 11 | R32: =ROUND(E32*(O32),3) -> 0
A33: P/PC | B33: 000000020 | C33: Predsunutie šijovej zábrany 76/60 Zn | D33: ks | E33: 20 | F33: 0 | G33: 0 | H33: =ROUND(E33*(F33+G33),2) -> 0 | I33: =ROUND(E33*(M33),2) -> 240 | J33: =ROUND(E33*(N33),2) -> 0 | K33: =ROUND(E33*(F33),2) -> 0 | L33: =ROUND(E33*(G33),2) -> 0 | M33: 12 | R33: =ROUND(E33*(O33),3) -> 0
A34: P/PC | B34: 000000021 | C34: Trubka 5/4" | D34: bm | E34: 120 | F34: 0 | G34: 0 | H34: =ROUND(E34*(F34+G34),2) -> 0 | I34: =ROUND(E34*(M34),2) -> 1560 | J34: =ROUND(E34*(N34),2) -> 0 | K34: =ROUND(E34*(F34),2) -> 0 | L34: =ROUND(E34*(G34),2) -> 0 | M34: 13 | R34: =ROUND(E34*(O34),3) -> 0
A35: P/PC | B35: 000000022 | C35: Trubka 2" | D35: bm | E35: 96 | F35: 0 | G35: 0 | H35: =ROUND(E35*(F35+G35),2) -> 0 | I35: =ROUND(E35*(M35),2) -> 1344 | J35: =ROUND(E35*(N35),2) -> 0 | K35: =ROUND(E35*(F35),2) -> 0 | L35: =ROUND(E35*(G35),2) -> 0 | M35: 14 | R35: =ROUND(E35*(O35),3) -> 0
A36: P/PC | B36: 000000023 | C36: Spona T 76/60 Zn | D36: ks | E36: 6 | F36: 0 | G36: 0 | H36: =ROUND(E36*(F36+G36),2) -> 0 | I36: =ROUND(E36*(M36),2) -> 60 | J36: =ROUND(E36*(N36),2) -> 0 | K36: =ROUND(E36*(F36),2) -> 0 | L36: =ROUND(E36*(G36),2) -> 0 | M36: 10 | R36: =ROUND(E36*(O36),3) -> 0
A37: P/PC | B37: 000000024 | C37: Spona T 76/40 Zn | D37: ks | E37: 6 | F37: 0 | G37: 0 | H37: =ROUND(E37*(F37+G37),2) -> 0 | I37: =ROUND(E37*(M37),2) -> 66 | J37: =ROUND(E37*(N37),2) -> 0 | K37: =ROUND(E37*(F37),2) -> 0 | L37: =ROUND(E37*(G37),2) -> 0 | M37: 11 | R37: =ROUND(E37*(O37),3) -> 0
A38: P/PC | B38: 000000025 | C38: Spona X 76/42 Zn | D38: ks | E38: 22 | F38: 0 | G38: 0 | H38: =ROUND(E38*(F38+G38),2) -> 0 | I38: =ROUND(E38*(M38),2) -> 264 | J38: =ROUND(E38*(N38),2) -> 0 | K38: =ROUND(E38*(F38),2) -> 0 | L38: =ROUND(E38*(G38),2) -> 0 | M38: 12 | R38: =ROUND(E38*(O38),3) -> 0
A39: P/PC | B39: 000000026 | C39: Trubka 51x4 | D39: ks | E39: 6 | F39: 0 | G39: 0 | H39: =ROUND(E39*(F39+G39),2) -> 0 | I39: =ROUND(E39*(M39),2) -> 78 | J39: =ROUND(E39*(N39),2) -> 0 | K39: =ROUND(E39*(F39),2) -> 0 | L39: =ROUND(E39*(G39),2) -> 0 | M39: 13 | R39: =ROUND(E39*(O39),3) -> 0
A40: P/PC | B40: 000000027 | C40: Zámok 60 Zn | D40: ks | E40: 20 | F40: 0 | G40: 0 | H40: =ROUND(E40*(F40+G40),2) -> 0 | I40: =ROUND(E40*(M40),2) -> 280 | J40: =ROUND(E40*(N40),2) -> 0 | K40: =ROUND(E40*(F40),2) -> 0 | L40: =ROUND(E40*(G40),2) -> 0 | M40: 14 | R40: =ROUND(E40*(O40),3) -> 0
A41: P/PC | B41: 000000028 | C41: Spona T 60/60 Zn | D41: kpl | E41: 20 | F41: 0 | G41: 0 | H41: =ROUND(E41*(F41+G41),2) -> 0 | I41: =ROUND(E41*(M41),2) -> 0 | J41: =ROUND(E41*(N41),2) -> 0 | K41: =ROUND(E41*(F41),2) -> 0 | L41: =ROUND(E41*(G41),2) -> 0 | M41: 0 | R41: =ROUND(E41*(O41),3) -> 0
A42: P/PC | B42: 000000029 | C42: Zámok 42 Zn | D42: kpl | E42: 38 | F42: 0 | G42: 0 | H42: =ROUND(E42*(F42+G42),2) -> 0 | I42: =ROUND(E42*(M42),2) -> 38 | J42: =ROUND(E42*(N42),2) -> 0 | K42: =ROUND(E42*(F42),2) -> 0 | L42: =ROUND(E42*(G42),2) -> 0 | M42: 1 | R42: =ROUND(E42*(O42),3) -> 0
... A45: P/PC | B45: 000000032 | C45: Doprava | D45: kpl | E45: 1 | F45: 0 | G45: 0 | H45: =ROUND(E45*(F45+G45),2) -> 0 | I45: =ROUND(E45*(M45),2) -> 0 | J45: =ROUND(E45*(N45),2) -> 0 | K45: =ROUND(E45*(F45),2) -> 0 | L45: =ROUND(E45*(G45),2) -> 0 | M45: 0 | R45: =ROUND(E45*(O45),3) -> 0
C46: PREVÁDZKOVÉ SÚBORY | F46: =ROUND((SUM(K10:K45))/1,2) -> 0 | G46: =ROUND((SUM(L10:L45))/1,2) -> 0 | H46: =ROUND((SUM(H10:H45))/1,2) -> 0 | K46: =ROUND((SUM(K10:K45))/1,2) -> 0 | L46: =ROUND((SUM(L10:L45))/1,2) -> 0 | R46: =ROUND((SUM(R10:R45))/1,2) -> 0 | U46: =ROUND((SUM(U10:U45))/1,2) -> 0
C48: Práce PSV | F48: =ROUND((SUM(K9:K47))/2,2) -> 0 | G48: =ROUND((SUM(L9:L47))/2,2) -> 0 | H48: =ROUND((SUM(H9:H47))/2,2) -> 0 | K48: =ROUND((SUM(K9:K47))/2,2) -> 0 | L48: =ROUND((SUM(L9:L47))/2,2) -> 0 | R48: =ROUND((SUM(R9:R47))/2,2) -> 0 | U48: =ROUND((SUM(U9:U47))/2,2) -> 0
C49: Celkom v EUR | F49: =ROUND((SUM(K9:K48))/3,2) -> 0 | G49: =ROUND((SUM(L9:L48))/3,2) -> 0 | H49: =ROUND((SUM(H9:H48))/3,2) -> 0 | J49: =ROUND((SUM(J9:J48))/3,2) -> 0 | K49: =ROUND((SUM(K9:K48))/3,2) -> 0 | L49: =ROUND((SUM(L9:L48))/3,2) -> 0 | R49: =ROUND((SUM(R9:R48))/3,2) -> 0 | U49: =ROUND((SUM(U9:U48))/3,2) -> 0

Sheet kryci_list 27002
F1: Krycí list výkazu výmer | W1: 30.126
B2: Stavba Rekonštrukcia maštalí a rozšírenie farmového hnojiska, Bobrov
B3: Objekt PS 02.02 Kŕmenie a napájanie | I3: Miesto:
I4: Ks:
B5: Zákazka: | F5: Spracoval: | I5: Dňa | J5: 45263
B6: Odberateľ: Podielnícke roľnícko-obchodné družstvo,Družstevná 263,Bobrov
B7: IČO: | G7: DIČ:
B8: Projektant: Ing.Štefan Comba,Levoča
B9: IČO: | G9: DIČ:
B10: Dodávateľ:
B11: IČO: | G11: DIČ:
B15: A | C15: ZRN | D15: Montáž | E15: Materiál | F15: ZRN spolu | G15: B | H15: Ďalšie náklady
B16: 1 | C16: HSV | G16: 6 | H16: Ostatné náklady | J16: 0
B17: 2 | C17: PSV | D17: ='rekap 27002'!B12 -> 0 | E17: ='rekap 27002'!C12 -> 0 | F17: ='rekap 27002'!D12 -> 0 | G17: 7 | H17: Kompletačná činnosť | J17: =0 -> 0
B18: 3 | C18: MONT | G18: 8 | H18: HZS | J18: 0
B19: 4 | C19: VRN | G19: 9
B20: 5 | C20: Spolu | F20: =SUM(F16:F19) -> 0 | G20: 10 | H20: Spolu | J20: =SUM(J16:J19) -> 0
B21: C | C21: VRN | G21: D | H21: VRN
B22: 11 | C22: Zariadenie staveniska | E22: 0% z [H+P+M] | F22: =((F16*U22*0)+(F17*V22*0)+(F18*W22*0))/100 -> 0 | G22: 16 | H22: Sťažené podmienky dopravy | I22: 0% z [H+P+M] | J22: =((F16*X22*0)+(F17*Y22*0)+(F18*Z22*0))/100 -> 0 | U22: 1 | V22: 1 | W22: 1 | X22: 1 | Y22: 1 | Z22: 1
B23: 12 | C23: Sťažené výrobné podmienky | E23: 0% z [H+P] | F23: =((F16*U23*0)+(F17*V23*0)+(F18*W23*0))/100 -> 0 | G23: 17 | H23: Horské oblasti | I23: 0% z [H+P+M] | J23: =((F16*X23*0)+(F17*Y23*0)+(F18*Z23*0))/100 -> 0 | U23: 1 | V23: 1 | W23: 0 | X23: 1 | Y23: 1 | Z23: 1
B24: 13 | C24: Prevádzkové vplyvy | E24: 0% z [H+P+M] | F24: =((F16*U24*0)+(F17*V24*0)+(F18*W24*0))/100 -> 0 | G24: 18 | H24: Mimostavenisková doprava | I24: 0% z [H+P] | J24: =((F16*X24*0)+(F17*Y24*0)+(F18*Z24*0))/100 -> 0 | U24: 1 | V24: 1 | W24: 1 | X24: 1 | Y24: 1 | Z24: 0
B25: 14 | G25: 19
B26: 15 | G26: 20 | H26: Spolu | J26: =SUM(J22:J25)+SUM(F22:F25) -> 0
C27: Projektant,rozpočtár | G27: E | H27: Celkové náklady
G28: 21 | H28: Súčet riadkov 5,10,15,20 | J28: =F20+J20+F26+J26 -> 0
G29: 22 | H29: DPH 20% z | I29: =J28 -> 0 | J29: =ROUND(((ROUND(I29,2)*20)*1/100),2) -> 0
G30: 23 | H30: DPH 0% z | I30: =0 -> 0 | J30: =ROUND(((ROUND(I30,2)*0)/100),2) -> 0
G31: 24 | H31: Spolu v EUR | J31: =SUM(J28:J30) -> 0
G32: F
D33: Odberateľ | G33: 26 | H33: Dodávateľ

Sheet rekap 27002
A1: Odberateľ: Podielnícke roľnícko-obchodné družstvo,Družstevná 263,Bobrov | E1: Spracoval: | W1: 30.126
A2: Projektant: Ing.Štefan Comba,Levoča | E2: Ks:
A3: Dodávateľ: | E3: Dátum: 3. 12. 2023
A4: Stavba Rekonštrukcia maštalí a rozšírenie farmového hnojiska, Bobrov
A5: Objekt PS 02.02 Krmenie a napájanie
A8: Prehľad výkazu výmer
A9: Oddiel | B9: Montáž | C9: Materiál | D9: Spolu | E9: Hmotnosť (T) | F9: Suť (T)
A10: Práce PSV
A11: PREVÁDZKOVÉ SÚBORY | B11: =Hárok2!G17 -> 0 | C11: =Hárok2!H17 -> 0 | D11: =Hárok2!I17 -> 0 | E11: 0 | F11: 0
A12: Práce PSV | B12: =B11 -> 0 | C12: =C11 -> 0 | D12: =D11 -> 0 | E12: =E11 -> 0 | F12: =F11 -> 0
A14: Celkom v EUR | B14: =B12 -> 0 | C14: =C12 -> 0 | D14: =D12 -> 0 | E14: =E12 -> 0 | F14: =F12 -> 0

Sheet Hárok2
A1: Odberateľ: Podielnícke roľnícko-obchodné družstvo,Družstevná 263,Bobrov | W1: 30.126
A2: Projektant: Ing.Štefan Comba,Levoča | I2: Spracoval:
A3: Dodávateľ: | I3: Ks:
A4: Stavba Rekonštrukcia maštalí a rozšírenie farmového hnojiska, Bobrov | I4: Dátum: | P4: 45263
A5: Objekt PS 02.02 Kŕmenie a napájanie
A8: Prehľad výkazu výmer
A9: Por.č. | B9: Cenník | C9: Kód položky | D9: Názov | E9: Mj | F9: Množstvo | G9: Montáž | H9: Materiál | I9: Cena celkom | P9: Hmotnosť/Mj | S9: Hmotnosť | V9: Suť
D10: Práce PSV
D11: PREVÁDZKOVÉ SÚBORY
A12: 89 | B12: R/R 0 | C12: 597999992 | D12: Kŕmenie a napájanie montáž - samostatný rozpočet | E12: SUB | F12: 1 | G12: ='krmenie a napajanie'!F18 -> 0 | I12: =ROUND(F12*(G12+H12),2) -> 0 | J12: =ROUND(F12*(N12),2) -> 700 | K12: =ROUND(F12*(O12),2) -> 0 | L12: =ROUND(F12*(G12+H12),2) -> 0 | N12: 700 | P12: 0 | R12: 0.01 | S12: =ROUND(F12*(X12),3) -> 0 | X12: 0 | Z12: 0
A13: 90 | B13: S/S50 | C13: 5512335003 | D13: Kŕmenie a napájanie - dodávka - samostatný rozpočet | E13: SUB | F13: 1 | H13: ='krmenie a napajanie'!G18 -> 0 | I13: =ROUND(F13*(G13+H13),2) -> 0 | J13: =ROUND(F13*(N13),2) -> 6580 | K13: =ROUND(F13*(O13),2) -> 0 | M13: =ROUND(F13*(G13+H13),2) -> 0 | N13: 6580 | P13: 0 | R13: 0.00054 | S13: =ROUND(F13*(X13),3) -> 0 | X13: 0 | Z13: 0
D14: PREVÁDZKOVÉ SÚBORY | G14: =ROUND((SUM(L11:L13))/1,2) -> 0 | H14: =ROUND((SUM(M11:M13))/1,2) -> 0 | I14: =ROUND((SUM(I11:I13))/1,2) -> 0 | L14: =ROUND((SUM(L11:L13))/1,2) -> 0 | M14: =ROUND((SUM(M11:M13))/1,2) -> 0 | P14: 0 | S14: =ROUND((SUM(S11:S13))/1,2) -> 0
D16: Práce PSV | G16: =ROUND((SUM(L10:L15))/2,2) -> 0 | H16: =ROUND((SUM(M10:M15))/2,2) -> 0 | I16: =ROUND((SUM(I10:I15))/2,2) -> 0 | L16: =ROUND((SUM(L10:L15))/2,2) -> 0 | M16: =ROUND((SUM(M10:M15))/2,2) -> 0 | P16: =ROUND((SUM(P10:P15))/2,2) -> 0 | S16: =ROUND((SUM(S10:S15))/2,2) -> 0
F17: Celkom | G17: =ROUND((SUM(L10:L16))/3,2) -> 0 | H17: =ROUND((SUM(M10:M16))/3,2) -> 0 | I17: =ROUND((SUM(I10:I16))/3,2) -> 0 | L17: =ROUND((SUM(L10:L16))/3,2) -> 0 | M17: =ROUND((SUM(M10:M16))/3,2) -> 0 | P17: =ROUND((SUM(P10:P16))/3,2) -> 0 | S17: =ROUND((SUM(S10:S16))/3,2) -> 0 | Z17: =(SUM(Z10:Z16)) -> 0

Sheet krmenie a napajanie
A1: Odberateľ: Podielnícke roľnícko-obchodné družstvo,Družstevná 263,Bobrov | H1: Spracoval:
A2: Projektant: Ing.Štefan Comba,Levoča | H2: Ks:
A3: Dodávateľ: | H3: Dátum: | O3: 45263
A4: Zákazka Rekonštrukcia maštalí a rozšírenie farmového hnojiska, Bobrov
A5: Objekt PS - 02,02 krmenie a napájanie
A7: Prehľad rozpočtových nákladov
A8: Cenník | B8: Kód položky | C8: Názov | D8: Mj | E8: Množstvo | F8: Montáž | G8: Materiál | H8: Cena celkom | O8: Hmotnosť/Mj | R8: Hmotnosť | U8: Suť
C9: Práce PSV
C10: PREVÁDZKOVÉ SÚBORY
A11: P/PC | B11: 000000033 | C11: Vyhrievaný napájací žľab - pravý D+M | D11: ks | E11: 2 | F11: 0 | G11: 0 | H11: =ROUND(E11*(F11+G11),2) -> 0 | I11: =ROUND(E11*(M11),2) -> 0 | J11: =ROUND(E11*(N11),2) -> 0 | K11: =ROUND(E11*(F11),2) -> 0 | L11: =ROUND(E11*(G11),2) -> 0 | M11: 0 | R11: =ROUND(E11*(O11),3) -> 0
A12: P/PC | B12: 000000034 | C12: Vyhrievaný napájací žľab - ľavý D+M | D12: ks | E12: 2 | F12: 0 | G12: 0 | H12: =ROUND(E12*(F12+G12),2) -> 0 | I12: =ROUND(E12*(M12),2) -> 0 | J12: =ROUND(E12*(N12),2) -> 0 | K12: =ROUND(E12*(F12),2) -> 0 | L12: =ROUND(E12*(G12),2) -> 0 | M12: 0 | R12: =ROUND(E12*(O12),3) -> 0
A13: P/PC | B13: 000000035 | C13: akrylbetónová vložka krmného stola D+M | D13: bm | E13: 90 | F13: 0 | G13: 0 | H13: =ROUND(E13*(F13+G13),2) -> 0 | I13: =ROUND(E13*(M13),2) -> 0 | J13: =ROUND(E13*(N13),2) -> 0 | K13: =ROUND(E13*(F13),2) -> 0 | L13: =ROUND(E13*(G13),2) -> 0 | M13: 0 | R13: =ROUND(E13*(O13),3) -> 0
A14: P/PC | B14: 000000036 | C14: Doprava | D14: kpl | E14: 1 | G14: 0 | H14: =ROUND(E14*(F14+G14),2) -> 0 | I14: =ROUND(E14*(M14),2) -> 0 | J14: =ROUND(E14*(N14),2) -> 0 | K14: =ROUND(E14*(F14),2) -> 0 | L14: =ROUND(E14*(G14),2) -> 0 | M14: 0 | R14: =ROUND(E14*(O14),3) -> 0
C15: PREVÁDZKOVÉ SÚBORY | F15: =ROUND((SUM(K10:K14))/1,2) -> 0 | G15: =ROUND((SUM(L10:L14))/1,2) -> 0 | H15: =ROUND((SUM(H10:H14))/1,2) -> 0 | K15: =ROUND((SUM(K10:K13))/1,2) -> 0 | L15: =ROUND((SUM(L10:L14))/1,2) -> 0 | R15: =ROUND((SUM(R10:R13))/1,2) -> 0 | U15: =ROUND((SUM(U10:U13))/1,2) -> 0
C17: Práce PSV | F17: =ROUND((SUM(K9:K16))/2,2) -> 0 | G17: =ROUND((SUM(L9:L16))/2,2) -> 0 | H17: =ROUND((SUM(H9:H16))/2,2) -> 0 | K17: =ROUND((SUM(K9:K16))/2,2) -> 0 | L17: =ROUND((SUM(L9:L16))/2,2) -> 0 | R17: =ROUND((SUM(R9:R16))/2,2) -> 0 | U17: =ROUND((SUM(U9:U16))/2,2) -> 0
C18: Celkom v EUR | F18: =ROUND((SUM(K9:K17))/3,2) -> 0 | G18: =ROUND((SUM(L9:L17))/3,2) -> 0 | H18: =ROUND((SUM(H9:H17))/3,2) -> 0 | J18: =ROUND((SUM(J9:J17))/3,2) -> 0 | K18: =ROUND((SUM(K9:K17))/3,2) -> 0 | L18: =ROUND((SUM(L9:L17))/3,2) -> 0 | R18: =ROUND((SUM(R9:R17))/3,2) -> 0 | U18: =ROUND((SUM(U9:U17))/3,2) -> 0

Sheet Krycí_list 27003
F1: Krycí list výkazu výmer | W1: 30.126
B2: Stavba Rekonštrukcia maštalí a rozšírenie farmového hnojiska, Bobrov
B3: Objekt PS 02.03 Vetranie | I3: Miesto:
I4: Ks:
B5: Zákazka: | F5: Spracoval: | I5: Dňa | J5: 45263
B6: Odberateľ: Podielnícke roľnícko-obchodné družstvo,Družstevná 263,Bobrov
B7: IČO: | G7: DIČ:
B8: Projektant: Ing.Štefan Comba,Levoča
B9: IČO: | G9: DIČ:
B10: Dodávateľ:
B11: IČO: | G11: DIČ:
B15: A | C15: ZRN | D15: Montáž | E15: Materiál | F15: ZRN spolu | G15: B | H15: Ďalšie náklady
B16: 1 | C16: HSV | G16: 6 | H16: Ostatné náklady | J16: 0
B17: 2 | C17: PSV | D17: ='Rekap 27003'!B12 -> 0 | E17: ='Rekap 27003'!C12 -> 0 | F17: ='Rekap 27003'!D12 -> 0 | G17: 7 | H17: Kompletačná činnosť | J17: =0 -> 0
B18: 3 | C18: MONT | G18: 8 | H18: HZS | J18: 0
B19: 4 | C19: VRN | G19: 9
B20: 5 | C20: Spolu | F20: =SUM(F16:F19) -> 0 | G20: 10 | H20: Spolu | J20: =SUM(J16:J19) -> 0
B21: C | C21: VRN | G21: D | H21: VRN
B22: 11 | C22: Zariadenie staveniska | E22: 0% z [H+P+M] | F22: =((F16*U22*0)+(F17*V22*0)+(F18*W22*0))/100 -> 0 | G22: 16 | H22: Sťažené podmienky dopravy | I22: 0% z [H+P+M] | J22: =((F16*X22*0)+(F17*Y22*0)+(F18*Z22*0))/100 -> 0 | U22: 1 | V22: 1 | W22: 1 | X22: 1 | Y22: 1 | Z22: 1
B23: 12 | C23: Sťažené výrobné podmienky | E23: 0% z [H+P] | F23: =((F16*U23*0)+(F17*V23*0)+(F18*W23*0))/100 -> 0 | G23: 17 | H23: Horské oblasti | I23: 0% z [H+P+M] | J23: =((F16*X23*0)+(F17*Y23*0)+(F18*Z23*0))/100 -> 0 | U23: 1 | V23: 1 | W23: 0 | X23: 1 | Y23: 1 | Z23: 1
B24: 13 | C24: Prevádzkové vplyvy | E24: 0% z [H+P+M] | F24: =((F16*U24*0)+(F17*V24*0)+(F18*W24*0))/100 -> 0 | G24: 18 | H24: Mimostavenisková doprava | I24: 0% z [H+P] | J24: =((F16*X24*0)+(F17*Y24*0)+(F18*Z24*0))/100 -> 0 | U24: 1 | V24: 1 | W24: 1 | X24: 1 | Y24: 1 | Z24: 0
B25: 14 | G25: 19
B26: 15 | G26: 20 | H26: Spolu | J26: =SUM(J22:J25)+SUM(F22:F25) -> 0
C27: Projektant,rozpočtár | G27: E | H27: Celkové náklady
G28: 21 | H28: Súčet riadkov 5,10,15,20 | J28: =F20+J20+F26+J26 -> 0
G29: 22 | H29: DPH 20% z | I29: =J28 -> 0 | J29: =ROUND(((ROUND(I29,2)*20)*1/100),2) -> 0
G30: 23 | H30: DPH 0% z | I30: =0 -> 0 | J30: =ROUND(((ROUND(I30,2)*0)/100),2) -> 0
G31: 24 | H31: Spolu v EUR | J31: =SUM(J28:J30) -> 0
G32: F
D33: Odberateľ | G33: 26 | H33: Dodávateľ

Sheet Rekap 27003
A1: Odberateľ: Podielnícke roľnícko-obchodné družstvo,Družstevná 263,Bobrov | E1: Spracoval: | W1: 30.126
A2: Projektant: Ing.Štefan Comba,Levoča | E2: Ks:
A3: Dodávateľ: | E3: Dátum: 3. 12. 2023
A4: Stavba Rekonštrukcia maštalí a rozšírenie farmového hnojiska, Bobrov
A5: Objekt PS 02.03 Vetranie
A8: Prehľad výkazu výmer
A9: Oddiel | B9: Montáž | C9: Materiál | D9: Spolu | E9: Hmotnosť (T) | F9: Suť (T)
A10: Práce PSV
A11: PREVÁDZKOVÉ SÚBORY | B11: =Hárok3!G17 -> 0 | C11: =Hárok3!H17 -> 0 | D11: =Hárok3!I17 -> 0 | E11: 0 | F11: 0
A12: Práce PSV | B12: =B11 -> 0 | C12: =C11 -> 0 | D12: =D11 -> 0 | E12: =E11 -> 0 | F12: =F11 -> 0
A14: Celkom v EUR | B14: =B12 -> 0 | C14: =C12 -> 0 | D14: =D12 -> 0 | E14: =E12 -> 0 | F14: =F12 -> 0

Sheet Hárok3
A1: Odberateľ: Podielnícke roľnícko-obchodné družstvo,Družstevná 263,Bobrov | W1: 30.126
A2: Projektant: Ing.Štefan Comba,Levoča | I2: Spracoval:
A3: Dodávateľ: | I3: Ks:
A4: Stavba Rekonštrukcia maštalí a rozšírenie farmového hnojiska, Bobrov | I4: Dátum: | P4: 45263
A5: Objekt PS 02.03 Vetranie
A8: Prehľad výkazu výmer
A9: Por.č. | B9: Cenník | C9: Kód položky | D9: Názov | E9: Mj | F9: Množstvo | G9: Montáž | H9: Materiál | I9: Cena celkom | P9: Hmotnosť/Mj | S9: Hmotnosť | V9: Suť
D10: Práce PSV
D11: PREVÁDZKOVÉ SÚBORY
A12: 91 | B12: R/R 0 | C12: 597999993 | D12: Vetranie montáž - samostatný rozpočet | E12: SUB | F12: 1 | G12: =vetranie!F20 -> 0 | I12: =ROUND(F12*(G12+H12),2) -> 0 | J12: =ROUND(F12*(N12),2) -> 700 | K12: =ROUND(F12*(O12),2) -> 0 | L12: =ROUND(F12*(G12+H12),2) -> 0 | N12: 700 | P12: 0 | R12: 0.01 | S12: =ROUND(F12*(X12),3) -> 0 | X12: 0 | Z12: 0
A13: 92 | B13: S/S50 | C13: 5512335003 | D13: Vetranie - dodávka - samostatný rozpočet | E13: SUB | F13: 1 | H13: =vetranie!G20 -> 0 | I13: =ROUND(F13*(G13+H13),2) -> 0 | J13: =ROUND(F13*(N13),2) -> 6580 | K13: =ROUND(F13*(O13),2) -> 0 | M13: =ROUND(F13*(G13+H13),2) -> 0 | N13: 6580 | P13: 0 | R13: 0.00054 | S13: =ROUND(F13*(X13),3) -> 0 | X13: 0 | Z13: 0
D14: PREVÁDZKOVÉ SÚBORY | G14: =ROUND((SUM(L11:L13))/1,2) -> 0 | H14: =ROUND((SUM(M11:M13))/1,2) -> 0 | I14: =ROUND((SUM(I11:I13))/1,2) -> 0 | L14: =ROUND((SUM(L11:L13))/1,2) -> 0 | M14: =ROUND((SUM(M11:M13))/1,2) -> 0 | P14: 0 | S14: =ROUND((SUM(S11:S13))/1,2) -> 0
D16: Práce PSV | G16: =ROUND((SUM(L10:L15))/2,2) -> 0 | H16: =ROUND((SUM(M10:M15))/2,2) -> 0 | I16: =ROUND((SUM(I10:I15))/2,2) -> 0 | L16: =ROUND((SUM(L10:L15))/2,2) -> 0 | M16: =ROUND((SUM(M10:M15))/2,2) -> 0 | P16: =ROUND((SUM(P10:P15))/2,2) -> 0 | S16: =ROUND((SUM(S10:S15))/2,2) -> 0
F17: Celkom | G17: =ROUND((SUM(L10:L16))/3,2) -> 0 | H17: =ROUND((SUM(M10:M16))/3,2) -> 0 | I17: =ROUND((SUM(I10:I16))/3,2) -> 0 | L17: =ROUND((SUM(L10:L16))/3,2) -> 0 | M17: =ROUND((SUM(M10:M16))/3,2) -> 0 | P17: =ROUND((SUM(P10:P16))/3,2) -> 0 | S17: =ROUND((SUM(S10:S16))/3,2) -> 0 | Z17: =(SUM(Z10:Z16)) -> 0

Sheet vetranie
A1: Odberateľ: Podielnícke roľnícko-obchodné družstvo,Družstevná 263,Bobrov | H1: Spracoval:
A2: Projektant: Ing.Štefan Comba,Levoča | H2: Ks:
A3: Dodávateľ: | H3: Dátum: | O3: 45263
A4: Zákazka Rekonštrukcia maštalí a rozšírenie farmového hnojiska, Bobrov
A5: Objekt PS 02.03 Vetranie
A7: Prehľad výkazu výmer
A8: Cenník | B8: Kód položky | C8: Názov | D8: Mj | E8: Množstvo | F8: Montáž | G8: Materiál | H8: Cena celkom | O8: Hmotnosť/Mj | R8: Hmotnosť | U8: Suť
C9: Práce PSV
C10: PREVÁDZKOVÉ SÚBORY
A11: P/PC | B11: 000000037 | C11: Vetracia štrbina, D+M | D11: kpl | E11: 1 | F11: 0 | G11: 0 | H11: =ROUND(E11*(F11+G11),2) -> 0 | I11: =ROUND(E11*(M11),2) -> 0 | J11: =ROUND(E11*(N11),2) -> 0 | K11: =ROUND(E11*(F11),2) -> 0 | L11: =ROUND(E11*(G11),2) -> 0 | M11: 0 | R11: =ROUND(E11*(O11),3) -> 0
A12: P/PC | B12: 000000038 | C12: Lalemolový prechod,2x2,15 m, folia do 4000N, D+M | D12: kpl | E12: 4 | F12: 0 | G12: 0 | H12: =ROUND(E12*(F12+G12),2) -> 0 | I12: =ROUND(E12*(M12),2) -> 0 | J12: =ROUND(E12*(N12),2) -> 0 | K12: =ROUND(E12*(F12),2) -> 0 | L12: =ROUND(E12*(G12),2) -> 0 | M12: 0 | R12: =ROUND(E12*(O12),3) -> 0
A13: P/PC | B13: 000000039 | C13: Zvinovacia plachta, elektricke ovladanie, otvor 44x1,2m, plachta priehľadná, D+M | D13: kpl | E13: 2 | F13: 0 | G13: 0 | H13: =ROUND(E13*(F13+G13),2) -> 0 | I13: =ROUND(E13*(M13),2) -> 0 | J13: =ROUND(E13*(N13),2) -> 0 | K13: =ROUND(E13*(F13),2) -> 0 | L13: =ROUND(E13*(G13),2) -> 0 | M13: 0 | R13: =ROUND(E13*(O13),3) -> 0
A14: P/PC | B14: 000000040 | C14: Výdreva - zvinovacia plachta D+M | D14: kpl | E14: 2 | F14: 0 | G14: 0 | H14: =ROUND(E14*(F14+G14),2) -> 0 | I14: =ROUND(E14*(M14),2) -> 0 | J14: =ROUND(E14*(N14),2) -> 0 | K14: =ROUND(E14*(F14),2) -> 0 | L14: =ROUND(E14*(G14),2) -> 0 | M14: 0 | R14: =ROUND(E14*(O14),3) -> 0
A15: P/PC | B15: 000000041 | C15: Rolovacie vráta, otvor 2,6x3,5 m, ovladanie retiazkové, 1/2 plachta priesvitná, 1/2 farba D+M | D15: kpl | E15: 4 | F15: 0 | G15: 0 | H15: =ROUND(E15*(F15+G15),2) -> 0 | I15: =ROUND(E15*(M15),2) -> 0 | J15: =ROUND(E15*(N15),2) -> 0 | K15: =ROUND(E15*(F15),2) -> 0 | L15: =ROUND(E15*(G15),2) -> 0 | M15: 0 | R15: =ROUND(E15*(O15),3) -> 0
A16: P/PC | B16: 000000042 | C16: Doprava | D16: kpl | E16: 1 | F16: 0 | G16: 0 | H16: =ROUND(E16*(F16+G16),2) -> 0 | I16: =ROUND(E16*(M16),2) -> 0 | J16: =ROUND(E16*(N16),2) -> 0 | K16: =ROUND(E16*(F16),2) -> 0 | L16: =ROUND(E16*(G16),2) -> 0 | M16: 0 | R16: =ROUND(E16*(O16),3) -> 0
C17: PREVÁDZKOVÉ SÚBORY | F17: =ROUND((SUM(K10:K16))/1,2) -> 0 | G17: =ROUND((SUM(L10:L16))/1,2) -> 0 | H17: =ROUND((SUM(H10:H16))/1,2) -> 0 | K17: =ROUND((SUM(K10:K15))/1,2) -> 0 | L17: =ROUND((SUM(L10:L15))/1,2) -> 0 | R17: =ROUND((SUM(R10:R15))/1,2) -> 0 | U17: =ROUND((SUM(U10:U15))/1,2) -> 0
C19: Práce PSV | F19: =ROUND((SUM(K9:K18))/2,2) -> 0 | G19: =ROUND((SUM(L9:L18))/2,2) -> 0 | H19: =ROUND((SUM(H9:H18))/2,2) -> 0 | K19: =ROUND((SUM(K9:K18))/2,2) -> 0 | L19: =ROUND((SUM(L9:L18))/2,2) -> 0 | R19: =ROUND((SUM(R9:R18))/2,2) -> 0 | U19: =ROUND((SUM(U9:U18))/2,2) -> 0
C20: Celkom v EUR | F20: =ROUND((SUM(K9:K19))/3,2) -> 0 | G20: =ROUND((SUM(L9:L19))/3,2) -> 0 | H20: =ROUND((SUM(H9:H19))/3,2) -> 0 | J20: =ROUND((SUM(J9:J19))/3,2) -> 0 | K20: =ROUND((SUM(K9:K19))/3,2) -> 0 | L20: =ROUND((SUM(L9:L19))/3,2) -> 0 | R20: =ROUND((SUM(R9:R19))/3,2) -> 0 | U20: =ROUND((SUM(U9:U19))/3,2) -> 0

Sheet Kryci_list 27390
F1: Krycí list výkazu výmer | W1: 30.126
B2: Stavba Rekonštrukcia maštalí a rozšírenie farmového hnojiska, Bobrov
B3: Objekt SO 03 Farmové hnojisko | I3: Miesto:
I4: Ks:
B5: Zákazka: | F5: Spracoval: | I5: Dňa | J5: 45263
B6: Odberateľ: Podielnícke roľnícko-obchodné družstvo,Družstevná 263,Bobrov
B7: IČO: | G7: DIČ:
B8: Projektant: Ing.Štefan Comba,Levoča
B9: IČO: | G9: DIČ:
B10: Dodávateľ:
B11: IČO: | G11: DIČ:
B15: A | C15: ZRN | D15: Montáž | E15: Materiál | F15: ZRN spolu | G15: B | H15: Ďalšie náklady
B16: 1 | C16: HSV | D16: ='Rekap 27390'!B18 -> 0 | E16: ='Rekap 27390'!C18 -> 0 | F16: ='Rekap 27390'!D18 -> 0 | G16: 6 | H16: Ostatné náklady | J16: 0
B17: 2 | C17: PSV | G17: 7 | H17: Kompletačná činnosť | J17: ='SO 27390'!Z54 -> 0
B18: 3 | C18: MONT | G18: 8 | H18: HZS | J18: 0
B19: 4 | C19: VRN | G19: 9
B20: 5 | C20: Spolu | F20: =SUM(F16:F19) -> 0 | G20: 10 | H20: Spolu | J20: =SUM(J16:J19) -> 0
B21: C | C21: VRN | G21: D | H21: VRN
B22: 11 | C22: Zariadenie staveniska | E22: 0% z [H+P+M] | F22: =((F16*U22*0)+(F17*V22*0)+(F18*W22*0))/100 -> 0 | G22: 16 | H22: Sťažené podmienky dopravy | I22: 0% z [H+P+M] | J22: =((F16*X22*0)+(F17*Y22*0)+(F18*Z22*0))/100 -> 0 | U22: 1 | V22: 1 | W22: 1 | X22: 1 | Y22: 1 | Z22: 1
B23: 12 | C23: Sťažené výrobné podmienky | E23: 0% z [H+P] | F23: =((F16*U23*0)+(F17*V23*0)+(F18*W23*0))/100 -> 0 | G23: 17 | H23: Horské oblasti | I23: 0% z [H+P+M] | J23: =((F16*X23*0)+(F17*Y23*0)+(F18*Z23*0))/100 -> 0 | U23: 1 | V23: 1 | W23: 0 | X23: 1 | Y23: 1 | Z23: 1
B24: 13 | C24: Prevádzkové vplyvy | E24: 0% z [H+P+M] | F24: =((F16*U24*0)+(F17*V24*0)+(F18*W24*0))/100 -> 0 | G24: 18 | H24: Mimostavenisková doprava | I24: 0% z [H+P] | J24: =((F16*X24*0)+(F17*Y24*0)+(F18*Z24*0))/100 -> 0 | U24: 1 | V24: 1 | W24: 1 | X24: 1 | Y24: 1 | Z24: 0
B25: 14 | G25: 19
B26: 15 | G26: 20 | H26: Spolu | J26: =SUM(J22:J25)+SUM(F22:F25) -> 0
C27: Projektant,rozpočtár | G27: E | H27: Celkové náklady
G28: 21 | H28: Súčet riadkov 5,10,15,20 | J28: =F20+J20+F26+J26 -> 0
G29: 22 | H29: DPH 20% z | I29: =J28-SUM('SO 27390'!K9:'SO 27390'!K53) -> 0 | J29: =ROUND(((ROUND(I29,2)*20)*1/100),2) -> 0
G30: 23 | H30: DPH 0% z | I30: =SUM('SO 27390'!K9:'SO 27390'!K53) -> 0 | J30: =ROUND(((ROUND(I30,2)*0)/100),2) -> 0
G31: 24 | H31: Spolu v EUR | J31: =SUM(J28:J30) -> 0
G32: F
D33: Odberateľ | G33: 26 | H33: Dodávateľ

Sheet Rekap 27390
A1: Odberateľ: Podielnícke roľnícko-obchodné družstvo,Družstevná 263,Bobrov | E1: Spracoval: | W1: 30.126
A2: Projektant: Ing.Štefan Comba,Levoča | E2: Ks:
A3: Dodávateľ: | E3: Dátum: 3. 12. 2023
A4: Stavba Rekonštrukcia maštalí a rozšírenie farmového hnojiska, Bobrov
A5: Objekt SO 03 Farmové hnojisko
A8: Prehľad výkazu výmer
A9: Oddiel | B9: Montáž | C9: Materiál | D9: Spolu | E9: Hmotnosť (T) | F9: Suť (T)
A10: Práce HSV
A11: ZEMNÉ PRÁCE | B11: ='SO 27390'!L13 -> 0 | C11: ='SO 27390'!M13 -> 0 | D11: ='SO 27390'!I13 -> 0 | E11: ='SO 27390'!S13 -> 0 | F11: ='SO 27390'!V13 -> 0
A12: ZÁKLADY | B12: ='SO 27390'!L22 -> 0 | C12: ='SO 27390'!M22 -> 0 | D12: ='SO 27390'!I22 -> 0 | E12: ='SO 27390'!S22 -> 83.47 | F12: ='SO 27390'!V22 -> 0
A13: ZVISLÉ KONŠTRUKCIE | B13: ='SO 27390'!L29 -> 0 | C13: ='SO 27390'!M29 -> 0 | D13: ='SO 27390'!I29 -> 0 | E13: ='SO 27390'!S29 -> 224.35 | F13: ='SO 27390'!V29 -> 0
A14: SPEVNENÉ PLOCHY | B14: ='SO 27390'!L35 -> 0 | C14: ='SO 27390'!M35 -> 0 | D14: ='SO 27390'!I35 -> 0 | E14: ='SO 27390'!S35 -> 545.13 | F14: ='SO 27390'!V35 -> 0
A15: POVRCHOVÉ ÚPRAVY | B15: ='SO 27390'!L42 -> 0 | C15: ='SO 27390'!M42 -> 0 | D15: ='SO 27390'!I42 -> 0 | E15: ='SO 27390'!S42 -> 374.76 | F15: ='SO 27390'!V42 -> 0
A16: OSTATNÉ PRÁCE | B16: ='SO 27390'!L47 -> 0 | C16: ='SO 27390'!M47 -> 0 | D16: ='SO 27390'!I47 -> 0 | E16: ='SO 27390'!S47 -> 0 | F16: ='SO 27390'!V47 -> 0
A17: PRESUNY HMÔT | B17: ='SO 27390'!L51 -> 0 | C17: ='SO 27390'!M51 -> 0 | D17: ='SO 27390'!I51 -> 0 | E17: ='SO 27390'!S51 -> 0 | F17: ='SO 27390'!V51 -> 0
A18: Práce HSV | B18: ='SO 27390'!L53 -> 0 | C18: ='SO 27390'!M53 -> 0 | D18: ='SO 27390'!I53 -> 0 | E18: ='SO 27390'!S53 -> 1227.71 | F18: ='SO 27390'!V53 -> 0
A20: Celkom v EUR | B20: ='SO 27390'!L54 -> 0 | C20: ='SO 27390'!M54 -> 0 | D20: ='SO 27390'!I54 -> 0 | E20: ='SO 27390'!S54 -> 1227.71 | F20: ='SO 27390'!V54 -> 0

Sheet SO 27390
B1: Odberateľ: Podielnícke roľnícko-obchodné družstvo,Družstevná 263,Bobrov | I1: Spracoval: | W1: 30.126
B2: Projektant: Ing.Štefan Comba,Levoča | I2: Ks:
B3: Dodávateľ: | I3: Dátum: | P3: 45263
B4: Zákazka Rekonštrukcia maštalí a rozšírenie farmového hnojiska, Bobrov
B5: Objekt SO 03 Farmové hnojisko
B7: Prehľad výkazu výmer
A8: Por.č. | B8: Cenník | C8: Kód položky | D8: Názov | E8: Mj | F8: Množstvo | G8: Montáž | H8: Materiál | I8: Cena celkom | P8: Hmotnosť/Mj | S8: Hmotnosť | V8: Suť
D9: Práce HSV
C10: 1 | D10: ZEMNÉ PRÁCE
A11: 93 | B11: 1/A 1 | C11: 132101101 | D11: Výkop ryhy do šírky 600 mm v horn.3 do 100 m3 | E11: m3 | F11: 168 | G11: 0 | H11: 0 | I11: =ROUND(F11*(G11+H11),2) -> 0 | J11: =ROUND(F11*(N11),2) -> 6384 | K11: =ROUND(F11*(O11),2) -> 0 | L11: =ROUND(F11*(G11),2) -> 0 | M11: =ROUND(F11*(H11),2) -> 0 | N11: 38 | S11: =ROUND(F11*(P11),3) -> 0 | Z11: 0
A12: 94 | B12: 1/A 1 | C12: 181101102 | D12: Úprava plochy v hornine 1-4 so zhutnením | E12: m2 | F12: 100 | G12: 0 | H12: 0 | I12: =ROUND(F12*(G12+H12),2) -> 0 | J12: =ROUND(F12*(N12),2) -> 450 | K12: =ROUND(F12*(O12),2) -> 0 | L12: =ROUND(F12*(G12),2) -> 0 | M12: =ROUND(F12*(H12),2) -> 0 | N12: 4.5 | S12: =ROUND(F12*(P12),3) -> 0 | Z12: 0
C13: 1 | D13: ZEMNÉ PRÁCE | G13: =ROUND((SUM(L10:L12))/1,2) -> 0 | H13: =ROUND((SUM(M10:M12))/1,2) -> 0 | I13: =ROUND((SUM(I10:I12))/1,2) -> 0 | L13: =ROUND((SUM(L10:L12))/1,2) -> 0 | M13: =ROUND((SUM(M10:M12))/1,2) -> 0 | S13: =ROUND((SUM(S10:S12))/1,2) -> 0 | V13: =ROUND((SUM(V10:V12))/1,2) -> 0
