Workbook

Sheet Rekapitulácia stavby
A1: Export Komplet | BA1: 2.0 | BT1: False | BU1: False | BV1: {2b221290-403c-4d6c-af22-4ecc4c2c0865}
AR2: >> skryté stĺpce << | BS2: 0,001 | BT2: 20
BS3: 0,001 | BT3: 20
D4: REKAPITULÁCIA STAVBY | AS4: v --- nižšie sa nachádzajú doplnkové a pomocné údaje k zostavám --- v | BS4: 0,001
D5: Kód: | K5: 31012 | BS5: 0,001
D6: Stavba: | K6: Stavebné úpravy maštale pre voľné ustajnenie HD, č. 305, k.u.Zbudský Rokytov | BS6: 0,001
D7: JKSO: | AK7: KS: | BS7: 0,001
D8: Miesto: | K8: Zbudský Rokytov, okr.Humenné | AK8: Dátum: | AN8: 45236 | BS8: 0,001
BS9: 0,001
D10: Objednávateľ: | AK10: IČO: | BS10: 0,001
E11: Notax Consolting s.r.o. | AK11: IČ DPH: | BS11: 0,001
BS12: 0,001
D13: Zhotoviteľ: | AK13: IČO: | BS13: 0,001
AK14: IČ DPH: | BS14: 0,001
BS15: False
D16: Projektant: | AK16: IČO: | BS16: False
E17: Ing.Mária Salanciová | AK17: IČ DPH: | BS17: True
BS18: 0,01
D19: Spracovateľ: | AK19: IČO: | BS19: 0,01
E20: Ing.Mária Salanciová | AK20: IČ DPH: | BS20: True
D22: Poznámka:
D26: Cena bez DPH | AK26: =ROUND(AG94,2) -> 0
L28: Sadzba dane | W28: Základ dane | AK28: Výška dane
D29: DPH | F29: základná | L29: 0.2 | W29: =ROUND(AZ94, 2) -> 0 | AK29: =ROUND(AV94, 2) -> 0
F30: znížená | L30: 0.2 | W30: =ROUND(BA94, 2) -> 0 | AK30: =ROUND(AW94, 2) -> 0
F31: zákl. prenesená | L31: 0.2 | W31: =ROUND(BB94, 2) -> 0 | AK31: 0
F32: zníž. prenesená | L32: 0.2 | W32: =ROUND(BC94, 2) -> 0 | AK32: 0
F33: nulová | L33: 0 | W33: =ROUND(BD94, 2) -> 0 | AK33: 0
D35: Cena s DPH | T35: v | X35: EUR | AK35: =SUM(AK26:AK33) -> 0
D49: Projektant | AH49: Spracovateľ
D60: Dátum a podpis: | V60: Pečiatka | AH60: Dátum a podpis: | AM60: Pečiatka
D64: Objednávateľ | AH64: Zhotoviteľ
D75: Dátum a podpis: | V75: Pečiatka | AH75: Dátum a podpis: | AM75: Pečiatka
C82: REKAPITULÁCIA OBJEKTOV STAVBY
C84: Kód: | L84: =K5 -> 31012
C85: Stavba: | L85: =K6 -> Stavebné úpravy maštale pre voľné ustajnenie HD, č. 305, k.u.Zbudský Rokytov
C87: Miesto: | L87: =IF(K8="","",K8) -> Zbudský Rokytov, okr.Humenné | AI87: Dátum: | AM87: =IF(AN8= "","",AN8) -> 45236
C89: Objednávateľ: | L89: =IF(E11= "","",E11) -> Notax Consolting s.r.o. | AI89: Projektant: | AM89: =IF(E17="","",E17) -> Ing.Mária Salanciová | AS89: Informatívne údaje z listov zákaziek
C90: Zhotoviteľ: | L90: =IF(E14="","",E14) | AI90: Spracovateľ: | AM90: =IF(E20="","",E20) -> Ing.Mária Salanciová
C92: Kód | I92: Popis | AG92: Cena bez DPH [EUR] | AN92: Cena s DPH [EUR] | AQ92: Typ | AS92: z toho Ostat._x000D_ náklady [EUR] | AT92: DPH [EUR] | AU92: Normohodiny [h] | AV92: DPH základná [EUR] | AW92: DPH znížená [EUR] | AX92: DPH základná prenesená_x000D_ [EUR] | AY92: DPH znížená prenesená_x000D_ [EUR] | AZ92: Základňa_x000D_ DPH základná | BA92: Základňa_x000D_ DPH znížená | BB92: Základňa_x000D_ DPH zákl. prenesená | BC92: Základňa_x000D_ DPH zníž. prenesená | BD92: Základňa_x000D_ DPH nulová
C94: Náklady z rozpočtov | AG94: =ROUND(AG95,2) -> 0 | AN94: =SUM(AG94,AT94) -> 0 | AS94: =ROUND(AS95,2) -> 0 | AT94: =ROUND(SUM(AV94:AW94),2) -> 0 | AU94: =ROUND(AU95,5) -> 3762.073 | AV94: =ROUND(AZ94*L29,2) -> 0 | AW94: =ROUND(BA94*L30,2) -> 0 | AX94: =ROUND(BB94*L29,2) -> 0 | AY94: =ROUND(BC94*L30,2) -> 0 | AZ94: =ROUND(AZ95,2) -> 0 | BA94: =ROUND(BA95,2) -> 0 | BB94: =ROUND(BB95,2) -> 0 | BC94: =ROUND(BC95,2) -> 0 | BD94: =ROUND(BD95,2) -> 0 | BS94: D | BT94: 0 | BU94: ###NOIMPORT### | BV94: IMPORT | BW94: {2b221290-403c-4d6c-af22-4ecc4c2c0865} | BX94: {00000000-0000-0000-0000-000000000000}
A95: / | D95: 01 | J95: ASR | AG95: ='01 - ASR'!J30 -> 0 | AN95: =SUM(AG95,AT95) -> 0 | AQ95: STA | AS95: 0 | AT95: =ROUND(SUM(AV95:AW95),2) -> 0 | AU95: ='01 - ASR'!P133 -> 3762.0729 | AV95: ='01 - ASR'!J33 -> 0 | AW95: ='01 - ASR'!J34 -> 0 | AX95: ='01 - ASR'!J35 -> 0 | AY95: ='01 - ASR'!J36 -> 0 | AZ95: ='01 - ASR'!F33 -> 0 | BA95: ='01 - ASR'!F34 -> 0 | BB95: ='01 - ASR'!F35 -> 0 | BC95: ='01 - ASR'!F36 -> 0 | BD95: ='01 - ASR'!F37 -> 0 | BT95: 1 | BV95: IMPORT | BW95: {de32a8d9-07e3-4399-a463-62cd2699a0e7} | BX95: {2b221290-403c-4d6c-af22-4ecc4c2c0865} | CM95: 0

Sheet 01 - ASR
L2: >> skryté stĺpce << | AT2: {de32a8d9-07e3-4399-a463-62cd2699a0e7}
AT3: 0
D4: KRYCÍ LIST ROZPOČTU | M4: v --- nižšie sa nachádzajú doplnkové a pomocné údaje k zostavám --- v | AT4: False
D6: Stavba:
E7: ='Rekapitulácia stavby'!K6 -> Stavebné úpravy maštale pre voľné ustajnenie HD, č. 305, k.u.Zbudský Rokytov
D8: Objekt:
E9: 01 - ASR
D11: JKSO: | I11: KS:
D12: Miesto: | F12: Zbudský Rokytov | I12: Dátum: | J12: ='Rekapitulácia stavby'!AN8 -> 45236
D14: Objednávateľ: | I14: IČO:
E15: NOTAX CONSULTING spol. s r.o., Fidlikova 3 | I15: IČ DPH:
D17: Zhotoviteľ: | I17: IČO: | J17: ='Rekapitulácia stavby'!AN13
E18: ='Rekapitulácia stavby'!E14 | I18: IČ DPH: | J18: ='Rekapitulácia stavby'!AN14
D20: Projektant: | I20: IČO:
E21: Ing.Mária Salanciová | I21: IČ DPH:
D23: Spracovateľ: | I23: IČO:
E24: Ing.Mária Salanciová | I24: IČ DPH:
D26: Poznámka:
D30: Cena bez DPH | J30: =ROUND(J133, 2) -> 0
F32: Základ dane | I32: Sadzba dane | J32: Výška dane
D33: DPH | E33: základná | F33: =ROUND((SUM(BE133:BE324)), 2) -> 0 | I33: 0.2 | J33: =ROUND(((SUM(BE133:BE324))*I33), 2) -> 0
E34: znížená | F34: =ROUND((SUM(BF133:BF324)), 2) -> 0 | I34: 0.2 | J34: =ROUND(((SUM(BF133:BF324))*I34), 2) -> 0
E35: zákl. prenesená | F35: =ROUND((SUM(BG133:BG324)), 2) -> 0 | I35: 0.2 | J35: =0 -> 0
E36: zníž. prenesená | F36: =ROUND((SUM(BH133:BH324)), 2) -> 0 | I36: 0.2 | J36: =0 -> 0
E37: nulová | F37: =ROUND((SUM(BI133:BI324)), 2) -> 0 | I37: 0 | J37: =0 -> 0
D39: Cena s DPH | G39: v | H39: EUR | J39: =SUM(J30:J37) -> 0
D50: Projektant | G50: Spracovateľ
D61: Dátum a podpis: | F61: Pečiatka | G61: Dátum a podpis: | J61: Pečiatka
D65: Objednávateľ | G65: Zhotoviteľ
D76: Dátum a podpis: | F76: Pečiatka | G76: Dátum a podpis: | J76: Pečiatka
C82: REKAPITULÁCIA ROZPOČTU
C84: Stavba:
E85: =E7 -> Stavebné úpravy maštale pre voľné ustajnenie HD, č. 305, k.u.Zbudský Rokytov
C86: Objekt:
E87: =E9 -> 01 - ASR
C89: Miesto: | F89: =F12 -> Zbudský Rokytov | I89: Dátum: | J89: =IF(J12="","",J12) -> 45236
C91: Objednávateľ: | F91: =E15 -> NOTAX CONSULTING spol. s r.o., Fidlikova 3 | I91: Projektant: | J91: =E21 -> Ing.Mária Salanciová
C92: Zhotoviteľ: | F92: =IF(E18="","",E18) | I92: Spracovateľ: | J92: =E24 -> Ing.Mária Salanciová
C94: Kód dielu - Popis | J94: Cena celkom [EUR]
C96: Náklady z rozpočtu | J96: =J133 -> 0 | AU96: -1
D97: HSV - Práce a dodávky HSV | J97: =J134 -> 0
D98: 1 - Zemné práce | J98: =J135 -> 0
D99: 2 - Zakladanie | J99: =J148 -> 0
D100: 3 - Zvislé a kompletné konštrukcie | J100: =J177 -> 0
D101: 5 - Komunikácie | J101: =J197 -> 0
D102: 6 - Úpravy povrchov, podlahy, osadenie | J102: =J203 -> 0
D103: 9 - Ostatné konštrukcie a práce | J103: =J213 -> 0
D104: 99 - Presun hmôt HSV | J104: =J232 -> 0
D105: PSV - Práce a dodávky PSV | J105: =J234 -> 0
D106: 722 - Zdravotechnika - vnútorný vodovod | J106: =J235 -> 0
D107: 762 - Konštrukcie tesárske | J107: =J243 -> 0
D108: 764 - Konštrukcie klampiarske | J108: =J248 -> 0
D109: 767 - Konštrukcie doplnkové kovové | J109: =J262 -> 0
D110: 783 - Nátery | J110: =J288 -> 0
D111: M - Práce a dodávky M | J111: =J292 -> 0
D112: 21-M - Elektromontáže | J112: =J293 -> 0
D113: 43-M - Montáž oceľových konštrukcií | J113: =J319 -> 0
C120: ROZPOČET
C122: Stavba:
E123: =E7 -> Stavebné úpravy maštale pre voľné ustajnenie HD, č. 305, k.u.Zbudský Rokytov
C124: Objekt:
E125: =E9 -> 01 - ASR
C127: Miesto: | F127: =F12 -> Zbudský Rokytov | I127: Dátum: | J127: =IF(J12="","",J12) -> 45236
C129: Objednávateľ: | F129: =E15 -> NOTAX CONSULTING spol. s r.o., Fidlikova 3 | I129: Projektant: | J129: =E21 -> Ing.Mária Salanciová
C130: Zhotoviteľ: | F130: =IF(E18="","",E18) | I130: Spracovateľ: | J130: =E24 -> Ing.Mária Salanciová
C132: PČ | D132: Typ | E132: Kód | F132: Popis | G132: MJ | H132: Množstvo | I132: J.cena [EUR] | J132: Cena celkom [EUR] | K132: Cenová sústava | N132: DPH | O132: J. Nh [h] | P132: Nh celkom [h] | Q132: J. hmotnosť [t] | R132: Hmotnosť celkom [t] | S132: J. suť [t] | T132: Suť Celkom [t]
C133: Náklady z rozpočtu | J133: =BK133 -> 0 | P133: =P134+P234+P292 -> 3762.0729 | R133: =R134+R234+R292 -> 1176.0784 | T133: =T134+T234+T292 -> 0 | AT133: D | AU133: -1 | BK133: =BK134+BK234+BK292 -> 0
D134: D | E134: HSV | F134: Práce a dodávky HSV | J134: =BK134 -> 0 | P134: =P135+P148+P177+P197+P203+P213+P232 -> 1933.6854 | R134: =R135+R148+R177+R197+R203+R213+R232 -> 1160.0617 | T134: =T135+T148+T177+T197+T203+T213+T232 -> 0 | AR134: 1 | AT134: D | AU134: 0 | AY134: ROZPOCET | BK134: =BK135+BK148+BK177+BK197+BK203+BK213+BK232 -> 0
D135: D | E135: 1 | F135: Zemné práce | J135: =BK135 -> 0 | P135: =SUM(P136:P147) -> 306.22165 | R135: =SUM(R136:R147) -> 0 | T135: =SUM(T136:T147) -> 0 | AR135: 1 | AT135: D | AU135: 1 | AY135: ROZPOCET | BK135: =SUM(BK136:BK147) -> 0
C136: 1 | D136: K | E136: 131201101.S | F136: Výkop nezapaženej jamy v hornine 3, do 100 m3 | G136: m3 | H136: 59.4 | J136: =ROUND(I136*H136,3) -> 0 | N136: znížená | O136: 0.838 | P136: =O136*H136 -> 49.7772 | Q136: 0 | R136: =Q136*H136 -> 0 | S136: 0 | T136: =S136*H136 -> 0 | AR136: 4 | AT136: K | AU136: 2 | AY136: ROZPOCET | BE136: =IF(N136="základná",J136,0) -> 0 | BF136: =IF(N136="znížená",J136,0) -> 0 | BG136: =IF(N136="zákl. prenesená",J136,0) -> 0 | BH136: =IF(N136="zníž. prenesená",J136,0) -> 0 | BI136: =IF(N136="nulová",J136,0) -> 0 | BJ136: 2 | BK136: =ROUND(I136*H136,3) -> 0 | BL136: 4 | BM136: -1373810407
D137: VV | F137: 1,5*1,5*1,2*11*2 | H137: 59.4 | AT137: VV | AU137: 2 | AV137: 2 | AW137: True | AX137: 0 | AY137: ROZPOCET
D138: VV | F138: Súčet | H138: 59.4 | AT138: VV | AU138: 2 | AV138: 4 | AW138: True | AX138: 1 | AY138: ROZPOCET
C139: 2 | D139: K | E139: 131201109.S | F139: Hĺbenie nezapažených jám a zárezov. Príplatok za lepivosť horniny 3 | G139: m3 | H139: 29.65 | J139: =ROUND(I139*H139,3) -> 0 | N139: znížená | O139: 0.042 | P139: =O139*H139 -> 1.2453 | Q139: 0 | R139: =Q139*H139 -> 0 | S139: 0 | T139: =S139*H139 -> 0 | AR139: 4 | AT139: K | AU139: 2 | AY139: ROZPOCET | BE139: =IF(N139="základná",J139,0) -> 0 | BF139: =IF(N139="znížená",J139,0) -> 0 | BG139: =IF(N139="zákl. prenesená",J139,0) -> 0 | BH139: =IF(N139="zníž. prenesená",J139,0) -> 0 | BI139: =IF(N139="nulová",J139,0) -> 0 | BJ139: 2 | BK139: =ROUND(I139*H139,3) -> 0 | BL139: 4 | BM139: -4743063
D140: VV | F140: 59,3*0,5 'Prepočítané koeficientom množstva | H140: 29.65 | AT140: VV | AU140: 2 | AV140: 2 | AW140: False | AX140: 1 | AY140: ROZPOCET
C141: 3 | D141: K | E141: 132201101.S | F141: Výkop ryhy do šírky 600 mm v horn.3 do 100 m3 | G141: m3 | H141: 88.29 | J141: =ROUND(I141*H141,3) -> 0 | N141: znížená | O141: 2.514 | P141: =O141*H141 -> 221.96106 | Q141: 0 | R141: =Q141*H141 -> 0 | S141: 0 | T141: =S141*H141 -> 0 | AR141: 4 | AT141: K | AU141: 2 | AY141: ROZPOCET | BE141: =IF(N141="základná",J141,0) -> 0 | BF141: =IF(N141="znížená",J141,0) -> 0 | BG141: =IF(N141="zákl. prenesená",J141,0) -> 0 | BH141: =IF(N141="zníž. prenesená",J141,0) -> 0 | BI141: =IF(N141="nulová",J141,0) -> 0 | BJ141: 2 | BK141: =ROUND(I141*H141,3) -> 0 | BL141: 4 | BM141: 1983291112
D142: VV | F142: (45,32+11,8)*2*0,6*0,7 | H142: 47.981 | AT142: VV | AU142: 2 | AV142: 2 | AW142: True | AX142: 0 | AY142: ROZPOCET
D143: VV | F143: 45,32*0,4*0,7*3 | H143: 38.069 | AT143: VV | AU143: 2 | AV143: 2 | AW143: True | AX143: 0 | AY143: ROZPOCET
D144: VV | F144: 8*0,4*0,7 | H144: 2.24 | AT144: VV | AU144: 2 | AV144: 2 | AW144: True | AX144: 0 | AY144: ROZPOCET
D145: VV | F145: Súčet | H145: 88.29 | AT145: VV | AU145: 2 | AV145: 4 | AW145: True | AX145: 1 | AY145: ROZPOCET
C146: 4 | D146: K | E146: 132201109.S | F146: Príplatok k cene za lepivosť pri hĺbení rýh šírky do 600 mm zapažených i nezapažených s urovnaním dna v hornine 3 | G146: m3 | H146: 54.222 | J146: =ROUND(I146*H146,3) -> 0 | N146: znížená | O146: 0.613 | P146: =O146*H146 -> 33.238086 | Q146: 0 | R146: =Q146*H146 -> 0 | S146: 0 | T146: =S146*H146 -> 0 | AR146: 4 | AT146: K | AU146: 2 | AY146: ROZPOCET | BE146: =IF(N146="základná",J146,0) -> 0 | BF146: =IF(N146="znížená",J146,0) -> 0 | BG146: =IF(N146="zákl. prenesená",J146,0) -> 0 | BH146: =IF(N146="zníž. prenesená",J146,0) -> 0 | BI146: =IF(N146="nulová",J146,0) -> 0 | BJ146: 2 | BK146: =ROUND(I146*H146,3) -> 0 | BL146: 4 | BM146: 1567749713
D147: VV | F147: 108,444*0,5 | H147: 54.222 | AT147: VV | AU147: 2 | AV147: 2 | AW147: True | AX147: 1 | AY147: ROZPOCET
D148: D | E148: 2 | F148: Zakladanie | J148: =BK148 -> 0 | P148: =SUM(P149:P176) -> 148.73519 | R148: =SUM(R149:R176) -> 289.68212 | T148: =SUM(T149:T176) -> 0 | AR148: 1 | AT148: D | AU148: 1 | AY148: ROZPOCET | BK148: =SUM(BK149:BK176) -> 0
C149: 5 | D149: K | E149: 215901101.S | F149: Zhutnenie podložia z rastlej horniny 1 až 4 pod násypy, z hornina súdržných do 92 % PS a nesúdržných | G149: m2 | H149: 1079.496 | J149: =ROUND(I149*H149,3) -> 0 | N149: znížená | O149: 0.004 | P149: =O149*H149 -> 4.317984 | Q149: 0 | R149: =Q149*H149 -> 0 | S149: 0 | T149: =S149*H149 -> 0 | AR149: 4 | AT149: K | AU149: 2 | AY149: ROZPOCET | BE149: =IF(N149="základná",J149,0) -> 0 | BF149: =IF(N149="znížená",J149,0) -> 0 | BG149: =IF(N149="zákl. prenesená",J149,0) -> 0 | BH149: =IF(N149="zníž. prenesená",J149,0) -> 0 | BI149: =IF(N149="nulová",J149,0) -> 0 | BJ149: 2 | BK149: =ROUND(I149*H149,3) -> 0 | BL149: 4 | BM149: 1713209944
D150: VV | F150: 11,8*45,32 | H150: 534.776 | AT150: VV | AU150: 2 | AV150: 2 | AW150: True | AX150: 0 | AY150: ROZPOCET
D151: VV | F151: 17,95*5 | H151: 89.75 | AT151: VV | AU151: 2 | AV151: 2 | AW151: True | AX151: 0 | AY151: ROZPOCET
D152: VV | F152: 17,95*8 | H152: 143.6 | AT152: VV | AU152: 2 | AV152: 2 | AW152: True | AX152: 0 | AY152: ROZPOCET
D153: VV | F153: 58,32*3,5 | H153: 204.12 | AT153: VV | AU153: 2 | AV153: 2 | AW153: True | AX153: 0 | AY153: ROZPOCET
D154: VV | F154: 21,45*5 | H154: 107.25 | AT154: VV | AU154: 2 | AV154: 2 | AW154: True | AX154: 0 | AY154: ROZPOCET
D155: VV | F155: Súčet | H155: 1079.496 | AT155: VV | AU155: 2 | AV155: 4 | AW155: True | AX155: 1 | AY155: ROZPOCET
C156: 6 | D156: K | E156: 271571111.S | F156: Vankúše zhutnené pod základy zo štrkopiesku | G156: m3 | H156: 15.278 | J156: =ROUND(I156*H156,3) -> 0 | N156: znížená | O156: 0.908 | P156: =O156*H156 -> 13.872424 | Q156: 2.0664 | R156: =Q156*H156 -> 31.570459 | S156: 0 | T156: =S156*H156 -> 0 | AR156: 4 | AT156: K | AU156: 2 | AY156: ROZPOCET | BE156: =IF(N156="základná",J156,0) -> 0 | BF156: =IF(N156="znížená",J156,0) -> 0 | BG156: =IF(N156="zákl. prenesená",J156,0) -> 0 | BH156: =IF(N156="zníž. prenesená",J156,0) -> 0 | BI156: =IF(N156="nulová",J156,0) -> 0 | BJ156: 2 | BK156: =ROUND(I156*H156,3) -> 0 | BL156: 4 | BM156: 864577706
D157: VV | F157: 1,5*1,5*0,1*11*2 | H157: 4.95 | AT157: VV | AU157: 2 | AV157: 2 | AW157: True | AX157: 0 | AY157: ROZPOCET
D158: VV | F158: (45,32+11,8)*2*0,4*0,1 | H158: 4.57 | AT158: VV | AU158: 2 | AV158: 2 | AW158: True | AX158: 0 | AY158: ROZPOCET
D159: VV | F159: 45,32*0,4*0,1*3 | H159: 5.438 | AT159: VV | AU159: 2 | AV159: 2 | AW159: True | AX159: 0 | AY159: ROZPOCET
D160: VV | F160: 8*0,4*0,1 | H160: 0.32 | AT160: VV | AU160: 2 | AV160: 2 | AW160: True | AX160: 0 | AY160: ROZPOCET
D161: VV | F161: Súčet | H161: 15.278 | AT161: VV | AU161: 2 | AV161: 4 | AW161: True | AX161: 1 | AY161: ROZPOCET
C162: 7 | D162: K | E162: 273351217.S | F162: Debnenie stien základových dosiek, zhotovenie | G162: m2 | H162: 56.672 | J162: =ROUND(I162*H162,3) -> 0 | N162: znížená | O162: 0.788 | P162: =O162*H162 -> 44.657536 | Q162: 0.00407 | R162: =Q162*H162 -> 0.23065504 | S162: 0 | T162: =S162*H162 -> 0 | AR162: 4 | AT162: K | AU162: 2 | AY162: ROZPOCET | BE162: =IF(N162="základná",J162,0) -> 0 | BF162: =IF(N162="znížená",J162,0) -> 0 | BG162: =IF(N162="zákl. prenesená",J162,0) -> 0 | BH162: =IF(N162="zníž. prenesená",J162,0) -> 0 | BI162: =IF(N162="nulová",J162,0) -> 0 | BJ162: 2 | BK162: =ROUND(I162*H162,3) -> 0 | BL162: 4 | BM162: -1052193222
D163: VV | F163: (5+17,45)*2*0,2 | H163: 8.98 | AT163: VV | AU163: 2 | AV163: 2 | AW163: True | AX163: 0 | AY163: ROZPOCET
D164: VV | F164: (8+21,45)*2*0,2 | H164: 11.78 | AT164: VV | AU164: 2 | AV164: 2 | AW164: True | AX164: 0 | AY164: ROZPOCET
D165: VV | F165: (8+45,32+5)*0,2+3,5*2*0,2 | H165: 13.064 | AT165: VV | AU165: 2 | AV165: 2 | AW165: True | AX165: 0 | AY165: ROZPOCET
D166: VV | F166: (45,32+11,8)*2*0,2 | H166: 22.848 | AT166: VV | AU166: 2 | AV166: 2 | AW166: True | AX166: 0 | AY166: ROZPOCET
...
