Workbook

Sheet Rekapitulácia stavby
A1: Export Komplet | BA1: 2.0 | BT1: False | BU1: False | BV1: {217ecbf7-5b51-454a-9662-045c8cbda354}
AR2: >> skryté stĺpce << | BS2: 0,01 | BT2: 20
BS3: 0,01 | BT3: 20
D4: REKAPITULÁCIA STAVBY | AS4: v --- nižšie sa nachádzajú doplnkové a pomocné údaje k zostavám --- v | BS4: 0,001
D5: Kód: | K5: 99-15 | BS5: 0,01
D6: Stavba: | K6: Stavebné úpravy maštale pre voľné ustajnenie HD, p.č. 611 Pichne okr. Snina | BS6: 0,01
D7: JKSO: | AK7: KS: | BS7: 0,01
D8: Miesto: | AK8: Dátum: | AN8: 45236 | BS8: 0,01
BS9: 0,01
D10: Objednávateľ: | AK10: IČO: | AN10: 36 472 166 | BS10: 0,01
E11: Notax Consulting s.r.o., Fidlíkova 3, Humenné 066 01 | AK11: IČ DPH: | AN11: SK202 156 6778 | BS11: 0,01
BS12: 0,01
D13: Zhotoviteľ: | AK13: IČO: | BS13: 0,01
AK14: IČ DPH: | BS14: 0,01
BS15: False
D16: Projektant: | AK16: IČO: | BS16: False
E17: Argo-PK, Projekčná kancelária, Strojárska 3998, Snina | AK17: IČ DPH: | BS17: True
BS18: 0,01
D19: Spracovateľ: | AK19: IČO: | BS19: 0,01
AK20: IČ DPH: | BS20: True
D22: Poznámka:
D26: Cena bez DPH | AK26: =ROUND(AG94,2) -> 0
L28: Sadzba dane | W28: Základ dane | AK28: Výška dane
D29: DPH | F29: základná | L29: 0.2 | W29: =ROUND(AZ94, 2) -> 0 | AK29: =ROUND(AV94, 2) -> 0
F30: znížená | L30: 0.2 | W30: =ROUND(BA94, 2) -> 0 | AK30: =ROUND(AW94, 2) -> 0
F31: zákl. prenesená | L31: 0.2 | W31: =ROUND(BB94, 2) -> 0 | AK31: 0
F32: zníž. prenesená | L32: 0.2 | W32: =ROUND(BC94, 2) -> 0 | AK32: 0
F33: nulová | L33: 0 | W33: =ROUND(BD94, 2) -> 0 | AK33: 0
D35: Cena s DPH | T35: v | X35: EUR | AK35: =SUM(AK26:AK33) -> 0
D49: Projektant | AH49: Spracovateľ
D60: Dátum a podpis: | V60: Pečiatka | AH60: Dátum a podpis: | AM60: Pečiatka
D64: Objednávateľ | AH64: Zhotoviteľ
D75: Dátum a podpis: | V75: Pečiatka | AH75: Dátum a podpis: | AM75: Pečiatka
C82: REKAPITULÁCIA OBJEKTOV STAVBY
C84: Kód: | L84: =K5 -> 99-15
C85: Stavba: | L85: =K6 -> Stavebné úpravy maštale pre voľné ustajnenie HD, p.č. 611 Pichne okr. Snina
C87: Miesto: | L87: =IF(K8="","",K8) | AI87: Dátum: | AM87: =IF(AN8= "","",AN8) -> 45236
C89: Objednávateľ: | L89: =IF(E11= "","",E11) -> Notax Consulting s.r.o., Fidlíkova 3, Humenné 066 01 | AI89: Projektant: | AM89: =IF(E17="","",E17) -> Argo-PK, Projekčná kancelária, Strojárska 3998, Snina | AS89: Informatívne údaje z listov zákaziek
C90: Zhotoviteľ: | L90: =IF(E14="","",E14) | AI90: Spracovateľ: | AM90: =IF(E20="","",E20)
C92: Kód | I92: Popis | AG92: Cena bez DPH [EUR] | AN92: Cena s DPH [EUR] | AQ92: Typ | AS92: z toho Ostat._x000D_ náklady [EUR] | AT92: DPH [EUR] | AU92: Normohodiny [h] | AV92: DPH základná [EUR] | AW92: DPH znížená [EUR] | AX92: DPH základná prenesená_x000D_ [EUR] | AY92: DPH znížená prenesená_x000D_ [EUR] | AZ92: Základňa_x000D_ DPH základná | BA92: Základňa_x000D_ DPH znížená | BB92: Základňa_x000D_ DPH zákl. prenesená | BC92: Základňa_x000D_ DPH zníž. prenesená | BD92: Základňa_x000D_ DPH nulová
C94: Náklady z rozpočtov | AG94: =ROUND(SUM(AG95:AG98),2) -> 0 | AN94: =SUM(AG94,AT94) -> 0 | AS94: =ROUND(SUM(AS95:AS98),2) -> 0 | AT94: =ROUND(SUM(AV94:AW94),2) -> 0 | AU94: =ROUND(SUM(AU95:AU98),5) -> 3932.9654 | AV94: =ROUND(AZ94*L29,2) -> 0 | AW94: =ROUND(BA94*L30,2) -> 0 | AX94: =ROUND(BB94*L29,2) -> 0 | AY94: =ROUND(BC94*L30,2) -> 0 | AZ94: =ROUND(SUM(AZ95:AZ98),2) -> 0 | BA94: =ROUND(SUM(BA95:BA98),2) -> 0 | BB94: =ROUND(SUM(BB95:BB98),2) -> 0 | BC94: =ROUND(SUM(BC95:BC98),2) -> 0 | BD94: =ROUND(SUM(BD95:BD98),2) -> 0 | BS94: D | BT94: 0 | BU94: ###NOIMPORT### | BV94: IMPORT | BW94: {217ecbf7-5b51-454a-9662-045c8cbda354} | BX94: {00000000-0000-0000-0000-000000000000}
A95: / | D95: 01 | J95: SO 01 Vlastná stavba | AG95: ='01 - SO 01 Vlastná stavba'!J30 -> 0 | AN95: =SUM(AG95,AT95) -> 0 | AQ95: STA | AS95: 0 | AT95: =ROUND(SUM(AV95:AW95),2) -> 0 | AU95: ='01 - SO 01 Vlastná stavba'!P127 -> 3744.022 | AV95: ='01 - SO 01 Vlastná stavba'!J33 -> 0 | AW95: ='01 - SO 01 Vlastná stavba'!J34 -> 0 | AX95: ='01 - SO 01 Vlastná stavba'!J35 -> 0 | AY95: ='01 - SO 01 Vlastná stavba'!J36 -> 0 | AZ95: ='01 - SO 01 Vlastná stavba'!F33 -> 0 | BA95: ='01 - SO 01 Vlastná stavba'!F34 -> 0 | BB95: ='01 - SO 01 Vlastná stavba'!F35 -> 0 | BC95: ='01 - SO 01 Vlastná stavba'!F36 -> 0 | BD95: ='01 - SO 01 Vlastná stavba'!F37 -> 0 | BT95: 1 | BV95: IMPORT | BW95: {e990adc0-64c3-4604-b3ab-3d94c6fa3150} | BX95: {217ecbf7-5b51-454a-9662-045c8cbda354} | CM95: 0
A96: / | D96: 02 | J96: SO 02 Búracie práce | AG96: ='02 - SO 02 Búracie práce'!J30 -> 0 | AN96: =SUM(AG96,AT96) -> 0 | AQ96: STA | AS96: 0 | AT96: =ROUND(SUM(AV96:AW96),2) -> 0 | AU96: ='02 - SO 02 Búracie práce'!P122 -> 188.94337 | AV96: ='02 - SO 02 Búracie práce'!J33 -> 0 | AW96: ='02 - SO 02 Búracie práce'!J34 -> 0 | AX96: ='02 - SO 02 Búracie práce'!J35 -> 0 | AY96: ='02 - SO 02 Búracie práce'!J36 -> 0 | AZ96: ='02 - SO 02 Búracie práce'!F33 -> 0 | BA96: ='02 - SO 02 Búracie práce'!F34 -> 0 | BB96: ='02 - SO 02 Búracie práce'!F35 -> 0 | BC96: ='02 - SO 02 Búracie práce'!F36 -> 0 | BD96: ='02 - SO 02 Búracie práce'!F37 -> 0 | BT96: 1 | BV96: IMPORT | BW96: {5322e3a0-6162-45bf-a543-6b5f550dfa8a} | BX96: {217ecbf7-5b51-454a-9662-045c8cbda354} | CM96: 0

Sheet 01 - SO 01 Vlastná stavba
L2: >> skryté stĺpce << | AT2: {e990adc0-64c3-4604-b3ab-3d94c6fa3150}
AT3: 0
D4: KRYCÍ LIST ROZPOČTU | M4: v --- nižšie sa nachádzajú doplnkové a pomocné údaje k zostavám --- v | AT4: False
D6: Stavba:
E7: ='Rekapitulácia stavby'!K6 -> Stavebné úpravy maštale pre voľné ustajnenie HD, p.č. 611 Pichne okr. Snina
D8: Objekt:
E9: 01 - SO 01 Vlastná stavba
D11: JKSO: | I11: KS:
D12: Miesto: | I12: Dátum: | J12: ='Rekapitulácia stavby'!AN8 -> 45236
D14: Objednávateľ: | I14: IČO: | J14: 36 472 166
E15: Notax Consulting s.r.o., Fidlíkova 3, Humenné 066 01 | I15: IČ DPH: | J15: SK202 156 6778
D17: Zhotoviteľ: | I17: IČO: | J17: ='Rekapitulácia stavby'!AN13
E18: ='Rekapitulácia stavby'!E14 | I18: IČ DPH: | J18: ='Rekapitulácia stavby'!AN14
D20: Projektant: | I20: IČO:
E21: Argo-PK, Projekčná kancelária, Strojárska 3998, Snina | I21: IČ DPH:
D23: Spracovateľ: | I23: IČO: | J23: =IF('Rekapitulácia stavby'!AN19="","",'Rekapitulácia stavby'!AN19)
E24: =IF('Rekapitulácia stavby'!E20="","",'Rekapitulácia stavby'!E20) | I24: IČ DPH: | J24: =IF('Rekapitulácia stavby'!AN20="","",'Rekapitulácia stavby'!AN20)
D26: Poznámka:
D30: Cena bez DPH | J30: =ROUND(J127, 2) -> 0
F32: Základ dane | I32: Sadzba dane | J32: Výška dane
D33: DPH | E33: základná | F33: =ROUND((SUM(BE127:BE282)), 2) -> 0 | I33: 0.2 | J33: =ROUND(((SUM(BE127:BE282))*I33), 2) -> 0
E34: znížená | F34: =ROUND((SUM(BF127:BF282)), 2) -> 0 | I34: 0.2 | J34: =ROUND(((SUM(BF127:BF282))*I34), 2) -> 0
E35: zákl. prenesená | F35: =ROUND((SUM(BG127:BG282)), 2) -> 0 | I35: 0.2 | J35: =0 -> 0
E36: zníž. prenesená | F36: =ROUND((SUM(BH127:BH282)), 2) -> 0 | I36: 0.2 | J36: =0 -> 0
E37: nulová | F37: =ROUND((SUM(BI127:BI282)), 2) -> 0 | I37: 0 | J37: =0 -> 0
D39: Cena s DPH | G39: v | H39: EUR | J39: =SUM(J30:J37) -> 0
D50: Projektant | G50: Spracovateľ
D61: Dátum a podpis: | F61: Pečiatka | G61: Dátum a podpis: | J61: Pečiatka
D65: Objednávateľ | G65: Zhotoviteľ
D76: Dátum a podpis: | F76: Pečiatka | G76: Dátum a podpis: | J76: Pečiatka
C82: REKAPITULÁCIA ROZPOČTU
C84: Stavba:
E85: =E7 -> Stavebné úpravy maštale pre voľné ustajnenie HD, p.č. 611 Pichne okr. Snina
C86: Objekt:
E87: =E9 -> 01 - SO 01 Vlastná stavba
C89: Miesto: | F89: =F12 | I89: Dátum: | J89: =IF(J12="","",J12) -> 45236
C91: Objednávateľ: | F91: =E15 -> Notax Consulting s.r.o., Fidlíkova 3, Humenné 066 01 | I91: Projektant: | J91: =E21 -> Argo-PK, Projekčná kancelária, Strojárska 3998, Snina
C92: Zhotoviteľ: | F92: =IF(E18="","",E18) | I92: Spracovateľ: | J92: =E24
C94: Kód dielu - Popis | J94: Cena celkom [EUR]
C96: Náklady z rozpočtu | J96: =J127 -> 0 | AU96: -1
D97: HSV - Práce a dodávky HSV | J97: =J128 -> 0
D98: 1 - Zemné práce | J98: =J129 -> 0
D99: 2 - Zakladanie | J99: =J153 -> 0
D100: 3 - Zvislé a kompletné konštrukcie | J100: =J185 -> 0
D101: 6 - Úpravy povrchov, podlahy, osadenie | J101: =J208 -> 0
D102: 9 - Ostatné konštrukcie a práce | J102: =J229 -> 0
D103: 99 - Presun hmôt HSV | J103: =J232 -> 0
D104: PSV - Práce a dodávky PSV | J104: =J234 -> 0
D105: 762 - Konštrukcie tesárske | J105: =J235 -> 0
D106: 764 - Konštrukcie klampiarske | J106: =J242 -> 0
D107: 767 - Konštrukcie doplnkové kovové | J107: =J249 -> 0
C114: ROZPOČET
C116: Stavba:
E117: =E7 -> Stavebné úpravy maštale pre voľné ustajnenie HD, p.č. 611 Pichne okr. Snina
C118: Objekt:
E119: =E9 -> 01 - SO 01 Vlastná stavba
C121: Miesto: | F121: =F12 | I121: Dátum: | J121: =IF(J12="","",J12) -> 45236
C123: Objednávateľ: | F123: =E15 -> Notax Consulting s.r.o., Fidlíkova 3, Humenné 066 01 | I123: Projektant: | J123: =E21 -> Argo-PK, Projekčná kancelária, Strojárska 3998, Snina
C124: Zhotoviteľ: | F124: =IF(E18="","",E18) | I124: Spracovateľ: | J124: =E24
C126: PČ | D126: Typ | E126: Kód | F126: Popis | G126: MJ | H126: Množstvo | I126: J.cena [EUR] | J126: Cena celkom [EUR] | K126: Cenová sústava | N126: DPH | O126: J. Nh [h] | P126: Nh celkom [h] | Q126: J. hmotnosť [t] | R126: Hmotnosť celkom [t] | S126: J. suť [t] | T126: Suť Celkom [t]
C127: Náklady z rozpočtu | J127: =BK127 -> 0 | P127: =P128+P234 -> 3744.022 | R127: =R128+R234 -> 1111.3268 | T127: =T128+T234 -> 0 | AT127: D | AU127: -1 | BK127: =BK128+BK234 -> 0
D128: D | E128: HSV | F128: Práce a dodávky HSV | J128: =BK128 -> 0 | P128: =P129+P153+P185+P208+P229+P232 -> 1959.865 | R128: =R129+R153+R185+R208+R229+R232 -> 1075.503 | T128: =T129+T153+T185+T208+T229+T232 -> 0 | AR128: 1 | AT128: D | AU128: 0 | AY128: ROZPOCET | BK128: =BK129+BK153+BK185+BK208+BK229+BK232 -> 0
D129: D | E129: 1 | F129: Zemné práce | J129: =BK129 -> 0 | P129: =SUM(P130:P152) -> 198.755 | R129: =SUM(R130:R152) -> 0 | T129: =SUM(T130:T152) -> 0 | AR129: 1 | AT129: D | AU129: 1 | AY129: ROZPOCET | BK129: =SUM(BK130:BK152) -> 0
C130: 1 | D130: K | E130: 111101101.S | F130: Odstránenie travín a tŕstia s príp. premiestnením a uložením na hromady do 50 m, pri celkovej ploche do 1000m2 | G130: m2 | H130: 776 | J130: =ROUND(I130*H130,2) -> 0 | N130: znížená | O130: 0.01 | P130: =O130*H130 -> 7.76 | Q130: 0 | R130: =Q130*H130 -> 0 | S130: 0 | T130: =S130*H130 -> 0 | AR130: 4 | AT130: K | AU130: 2 | AY130: ROZPOCET | BE130: =IF(N130="základná",J130,0) -> 0 | BF130: =IF(N130="znížená",J130,0) -> 0 | BG130: =IF(N130="zákl. prenesená",J130,0) -> 0 | BH130: =IF(N130="zníž. prenesená",J130,0) -> 0 | BI130: =IF(N130="nulová",J130,0) -> 0 | BJ130: 2 | BK130: =ROUND(I130*H130,2) -> 0 | BL130: 4 | BM130: 1155186560
D131: VV | F131: 73*8+12*16 | H131: 776 | AT131: VV | AU131: 2 | AV131: 2 | AW131: True | AX131: 1 | AY131: ROZPOCET
C132: 2 | D132: K | E132: 121101112.S | F132: Odstránenie ornice s premiestn. na hromady, so zložením na vzdialenosť do 100 m a do 1000 m3 | G132: m3 | H132: 232.8 | J132: =ROUND(I132*H132,2) -> 0 | N132: znížená | O132: 0.012 | P132: =O132*H132 -> 2.7936 | Q132: 0 | R132: =Q132*H132 -> 0 | S132: 0 | T132: =S132*H132 -> 0 | AR132: 4 | AT132: K | AU132: 2 | AY132: ROZPOCET | BE132: =IF(N132="základná",J132,0) -> 0 | BF132: =IF(N132="znížená",J132,0) -> 0 | BG132: =IF(N132="zákl. prenesená",J132,0) -> 0 | BH132: =IF(N132="zníž. prenesená",J132,0) -> 0 | BI132: =IF(N132="nulová",J132,0) -> 0 | BJ132: 2 | BK132: =ROUND(I132*H132,2) -> 0 | BL132: 4 | BM132: -473997380
D133: VV | F133: 776*0,3 | H133: 232.8 | AT133: VV | AU133: 2 | AV133: 2 | AW133: True | AX133: 0 | AY133: ROZPOCET
D134: VV | F134: Súčet | H134: 232.8 | AT134: VV | AU134: 2 | AV134: 4 | AW134: True | AX134: 1 | AY134: ROZPOCET
C135: 3 | D135: K | E135: 131201101.S | F135: Výkop nezapaženej jamy v hornine 3, do 100 m3 | G135: m3 | H135: 57.056 | J135: =ROUND(I135*H135,2) -> 0 | N135: znížená | O135: 0.838 | P135: =O135*H135 -> 47.812928 | Q135: 0 | R135: =Q135*H135 -> 0 | S135: 0 | T135: =S135*H135 -> 0 | AR135: 4 | AT135: K | AU135: 2 | AY135: ROZPOCET | BE135: =IF(N135="základná",J135,0) -> 0 | BF135: =IF(N135="znížená",J135,0) -> 0 | BG135: =IF(N135="zákl. prenesená",J135,0) -> 0 | BH135: =IF(N135="zníž. prenesená",J135,0) -> 0 | BI135: =IF(N135="nulová",J135,0) -> 0 | BJ135: 2 | BK135: =ROUND(I135*H135,2) -> 0 | BL135: 4 | BM135: 111709215
D136: VV | F136: 0,5*0,5*0,95*30 | H136: 7.125 | AT136: VV | AU136: 2 | AV136: 2 | AW136: True | AX136: 0 | AY136: ROZPOCET
D137: VV | F137: 71,33*3,5*0,2 "krmna cesta | H137: 49.931 | AT137: VV | AU137: 2 | AV137: 2 | AW137: True | AX137: 0 | AY137: ROZPOCET
D138: VV | F138: Súčet | H138: 57.056 | AT138: VV | AU138: 2 | AV138: 4 | AW138: True | AX138: 1 | AY138: ROZPOCET
C139: 4 | D139: K | E139: 131201109.S | F139: Hĺbenie nezapažených jám a zárezov. Príplatok za lepivosť horniny 3 | G139: m3 | H139: 17.117 | J139: =ROUND(I139*H139,2) -> 0 | N139: znížená | O139: 0.042 | P139: =O139*H139 -> 0.718914 | Q139: 0 | R139: =Q139*H139 -> 0 | S139: 0 | T139: =S139*H139 -> 0 | AR139: 4 | AT139: K | AU139: 2 | AY139: ROZPOCET | BE139: =IF(N139="základná",J139,0) -> 0 | BF139: =IF(N139="znížená",J139,0) -> 0 | BG139: =IF(N139="zákl. prenesená",J139,0) -> 0 | BH139: =IF(N139="zníž. prenesená",J139,0) -> 0 | BI139: =IF(N139="nulová",J139,0) -> 0 | BJ139: 2 | BK139: =ROUND(I139*H139,2) -> 0 | BL139: 4 | BM139: 1808814375
D140: VV | F140: 57,056*0,3 | H140: 17.117 | AT140: VV | AU140: 2 | AV140: 2 | AW140: True | AX140: 1 | AY140: ROZPOCET
C141: 5 | D141: K | E141: 132201102.S | F141: Výkop ryhy do šírky 600 mm v horn.3 nad 100 m3 | G141: m3 | H141: 80.848 | J141: =ROUND(I141*H141,2) -> 0 | N141: znížená | O141: 1.301 | P141: =O141*H141 -> 105.18325 | Q141: 0 | R141: =Q141*H141 -> 0 | S141: 0 | T141: =S141*H141 -> 0 | AR141: 4 | AT141: K | AU141: 2 | AY141: ROZPOCET | BE141: =IF(N141="základná",J141,0) -> 0 | BF141: =IF(N141="znížená",J141,0) -> 0 | BG141: =IF(N141="zákl. prenesená",J141,0) -> 0 | BH141: =IF(N141="zníž. prenesená",J141,0) -> 0 | BI141: =IF(N141="nulová",J141,0) -> 0 | BJ141: 2 | BK141: =ROUND(I141*H141,2) -> 0 | BL141: 4 | BM141: 1955742084
D142: VV | F142: (11,63+55,38)*2*0,6*0,95 | H142: 76.391 | AT142: VV | AU142: 2 | AV142: 2 | AW142: True | AX142: 0 | AY142: ROZPOCET
D143: VV | F143: (5+2,5)*0,2*0,95 | H143: 1.425 | AT143: VV | AU143: 2 | AV143: 2 | AW143: True | AX143: 0 | AY143: ROZPOCET
D144: VV | F144: (8,08+7,88)*0,2*0,95 | H144: 3.032 | AT144: VV | AU144: 2 | AV144: 2 | AW144: True | AX144: 0 | AY144: ROZPOCET
D145: VV | F145: Súčet | H145: 80.848 | AT145: VV | AU145: 2 | AV145: 4 | AW145: True | AX145: 1 | AY145: ROZPOCET
C146: 6 | D146: K | E146: 132201109.S | F146: Príplatok k cene za lepivosť pri hĺbení rýh šírky do 600 mm zapažených i nezapažených s urovnaním dna v hornine 3 | G146: m3 | H146: 24.254 | J146: =ROUND(I146*H146,2) -> 0 | N146: znížená | O146: 0.613 | P146: =O146*H146 -> 14.867702 | Q146: 0 | R146: =Q146*H146 -> 0 | S146: 0 | T146: =S146*H146 -> 0 | AR146: 4 | AT146: K | AU146: 2 | AY146: ROZPOCET | BE146: =IF(N146="základná",J146,0) -> 0 | BF146: =IF(N146="znížená",J146,0) -> 0 | BG146: =IF(N146="zákl. prenesená",J146,0) -> 0 | BH146: =IF(N146="zníž. prenesená",J146,0) -> 0 | BI146: =IF(N146="nulová",J146,0) -> 0 | BJ146: 2 | BK146: =ROUND(I146*H146,2) -> 0 | BL146: 4 | BM146: 252229012
D147: VV | F147: 80,848*0,3 | H147: 24.254 | AT147: VV | AU147: 2 | AV147: 2 | AW147: True | AX147: 1 | AY147: ROZPOCET
C148: 7 | D148: K | E148: 162201102.S | F148: Vodorovné premiestnenie výkopku z horniny 1-4 nad 20-50m | G148: m3 | H148: 137.904 | J148: =ROUND(I148*H148,2) -> 0 | N148: znížená | O148: 0.069 | P148: =O148*H148 -> 9.515376 | Q148: 0 | R148: =Q148*H148 -> 0 | S148: 0 | T148: =S148*H148 -> 0 | AR148: 4 | AT148: K | AU148: 2 | AY148: ROZPOCET | BE148: =IF(N148="základná",J148,0) -> 0 | BF148: =IF(N148="znížená",J148,0) -> 0 | BG148: =IF(N148="zákl. prenesená",J148,0) -> 0 | BH148: =IF(N148="zníž. prenesená",J148,0) -> 0 | BI148: =IF(N148="nulová",J148,0) -> 0 | BJ148: 2 | BK148: =ROUND(I148*H148,2) -> 0 | BL148: 4 | BM148: 184184456
D149: VV | F149: 57,056+80,848 | H149: 137.904 | AT149: VV | AU149: 2 | AV149: 2 | AW149: True | AX149: 1 | AY149: ROZPOCET
C150: 8 | D150: K | E150: 171201202.S | F150: Uloženie sypaniny na skládky nad 100 do 1000 m3 | G150: m3 | H150: 137.904 | J150: =ROUND(I150*H150,2) -> 0 | N150: znížená | O150: 0.008 | P150: =O150*H150 -> 1.103232 | Q150: 0 | R150: =Q150*H150 -> 0 | S150: 0 | T150: =S150*H150 -> 0 | AR150: 4 | AT150: K | AU150: 2 | AY150: ROZPOCET | BE150: =IF(N150="základná",J150,0) -> 0 | BF150: =IF(N150="znížená",J150,0) -> 0 | BG150: =IF(N150="zákl. prenesená",J150,0) -> 0 | BH150: =IF(N150="zníž. prenesená",J150,0) -> 0 | BI150: =IF(N150="nulová",J150,0) -> 0 | BJ150: 2 | BK150: =ROUND(I150*H150,2) -> 0 | BL150: 4 | BM150: -800393466
C151: 9 | D151: K | E151: 181201101.S | F151: Úprava pláne v násypoch v hornine 1-4 bez zhutnenia | G151: m2 | H151: 750 | J151: =ROUND(I151*H151,2) -> 0 | N151: znížená | O151: 0.012 | P151: =O151*H151 -> 9 | Q151: 0 | R151: =Q151*H151 -> 0 | S151: 0 | T151: =S151*H151 -> 0 | AR151: 4 | AT151: K | AU151: 2 | AY151: ROZPOCET | BE151: =IF(N151="základná",J151,0) -> 0 | BF151: =IF(N151="znížená",J151,0) -> 0 | BG151: =IF(N151="zákl. prenesená",J151,0) -> 0 | BH151: =IF(N151="zníž. prenesená",J151,0) -> 0 | BI151: =IF(N151="nulová",J151,0) -> 0 | BJ151: 2 | BK151: =ROUND(I151*H151,2) -> 0 | BL151: 4 | BM151: 105431285
D152: VV | F152: 75*10 | H152: 750 | AT152: VV | AU152: 2 | AV152: 2 | AW152: True | AX152: 1 | AY152: ROZPOCET
D153: D | E153: 2 | F153: Zakladanie | J153: =BK153 -> 0 | P153: =SUM(P154:P184) -> 324.33752 | R153: =SUM(R154:R184) -> 466.63613 | T153: =SUM(T154:T184) -> 0 | AR153: 1 | AT153: D | AU153: 1 | AY153: ROZPOCET | BK153: =SUM(BK154:BK184) -> 0
C154: 10 | D154: K | E154: 271573001.S | F154: Násyp pod základové konštrukcie so zhutnením zo štrkopiesku fr.0-32 mm | G154: m3 | H154: 144.362 | J154: =ROUND(I154*H154,2) -> 0 | N154: znížená | O154: 1.097 | P154: =O154*H154 -> 158.36511 | Q154: 2.07 | R154: =Q154*H154 -> 298.82934 | S154: 0 | T154: =S154*H154 -> 0 | AR154: 4 | AT154: K | AU154: 2 | AY154: ROZPOCET | BE154: =IF(N154="základná",J154,0) -> 0 | BF154: =IF(N154="znížená",J154,0) -> 0 | BG154: =IF(N154="zákl. prenesená",J154,0) -> 0 | BH154: =IF(N154="zníž. prenesená",J154,0) -> 0 | BI154: =IF(N154="nulová",J154,0) -> 0 | BJ154: 2 | BK154: =ROUND(I154*H154,2) -> 0 | BL154: 4 | BM154: 162845637
D155: VV | F155: 0,5*0,5*30*0,15 | H155: 1.125 | AT155: VV | AU155: 2 | AV155: 2 | AW155: True | AX155: 0 | AY155: ROZPOCET
D156: VV | F156: (8,08+7,88)*15,63*0,15 | H156: 37.418 | AT156: VV | AU156: 2 | AV156: 2 | AW156: True | AX156: 0 | AY156: ROZPOCET
D157: VV | F157: 4*55,38*0,10 | H157: 22.152 | AT157: VV | AU157: 2 | AV157: 2 | AW157: True | AX157: 0 | AY157: ROZPOCET
D158: VV | F158: (11,63+55,38)*2*0,6*0,15 | H158: 12.062 | AT158: VV | AU158: 2 | AV158: 2 | AW158: True | AX158: 0 | AY158: ROZPOCET
D159: VV | F159: (5+2,5)*0,2*0,15 | H159: 0.225 | AT159: VV | AU159: 2 | AV159: 2 | AW159: True | AX159: 0 | AY159: ROZPOCET
D160: VV | F160: (8,08+7,88)*0,2*0,10 | H160: 0.319 | AT160: VV | AU160: 2 | AV160: 2 | AW160: True | AX160: 0 | AY160: ROZPOCET
D161: VV | F161: 11,63*55,38*0,10 | H161: 64.407 | AT161: VV | AU161: 2 | AV161: 2 | AW161: True | AX161: 0 | AY161: ROZPOCET
D162: VV | F162: 55,38*1,2*0,10 | H162: 6.646 | AT162: VV | AU162: 2 | AV162: 2 | AW162: True | AX162: 0 | AY162: ROZPOCET
D163: VV | F163: Súčet | H163: 144.362 | AT163: VV | AU163: 2 | AV163: 4 | AW163: True | AX163: 1 | AY163: ROZPOCET
C164: 11 | D164: K | E164: 274321311.S | F164: Betón základových pásov, železový (bez výstuže), tr. C 16/20 | G164: m3 | H164: 68.117 | J164: =ROUND(I164*H164,2) -> 0 | N164: znížená | O164: 0.583 | P164: =O164*H164 -> 39.712211 | Q164: 2.19407 | R164: =Q164*H164 -> 149.45347 | S164: 0 | T164: =S164*H164 -> 0 | AR164: 4 | AT164: K | AU164: 2 | AY164: ROZPOCET | BE164: =IF(N164="základná",J164,0) -> 0 | BF164: =IF(N164="znížená",J164,0) -> 0 | BG164: =IF(N164="zákl. prenesená",J164,0) -> 0 | BH164: =IF(N164="zníž. prenesená",J164,0) -> 0 | BI164: =IF(N164="nulová",J164,0) -> 0 | BJ164: 2 | BK164: =ROUND(I164*H164,2) -> 0 | BL164: 4 | BM164: -81084945
D165: VV | F165: (11,63+55,38)*2*0,5*0,95 | H165: 63.66 | AT165: VV | AU165: 2 | AV165: 2 | AW165: True | AX165: 0 | AY165: ROZPOCET
D166: VV | F166: (5+2,5)*0,2*0,95 | H166: 1.425 | AT166: VV | AU166: 2 | AV166: 2 | AW166: True | AX166: 0 | AY166: ROZPOCET
...

Sheet 02 - SO 02 Búracie práce
L2: >> skryté stĺpce << | AT2: {5322e3a0-6162-45bf-a543-6b5f550dfa8a}
AT3: 0
D4: KRYCÍ LIST ROZPOČTU | M4: v --- nižšie sa nachádzajú doplnkové a pomocné údaje k zostavám --- v | AT4: False
D6: Stavba:
E7: ='Rekapitulácia stavby'!K6 -> Stavebné úpravy maštale pre voľné ustajnenie HD, p.č. 611 Pichne okr. Snina
D8: Objekt:
E9: 02 - SO 02 Búracie práce
D11: JKSO: | I11: KS:
D12: Miesto: | I12: Dátum: | J12: ='Rekapitulácia stavby'!AN8 -> 45236
D14: Objednávateľ: | I14: IČO: | J14: 36 472 166
E15: Notax Consulting s.r.o., Fidlíkova 3, Humenné 066 01 | I15: IČ DPH: | J15: SK202 156 6778
D17: Zhotoviteľ: | I17: IČO: | J17: ='Rekapitulácia stavby'!AN13
E18: ='Rekapitulácia stavby'!E14 | I18: IČ DPH: | J18: ='Rekapitulácia stavby'!AN14
D20: Projektant: | I20: IČO:
E21: Argo-PK, Projekčná kancelária, Strojárska 3998, Snina | I21: IČ DPH:
D23: Spracovateľ: | I23: IČO: | J23: =IF('Rekapitulácia stavby'!AN19="","",'Rekapitulácia stavby'!AN19)
E24: =IF('Rekapitulácia stavby'!E20="","",'Rekapitulácia stavby'!E20) | I24: IČ DPH: | J24: =IF('Rekapitulácia stavby'!AN20="","",'Rekapitulácia stavby'!AN20)
D26: Poznámka:
D30: Cena bez DPH | J30: =ROUND(J122, 2) -> 0
F32: Základ dane | I32: Sadzba dane | J32: Výška dane
D33: DPH | E33: základná | F33: =ROUND((SUM(BE122:BE145)), 2) -> 0 | I33: 0.2 | J33: =ROUND(((SUM(BE122:BE145))*I33), 2) -> 0
E34: znížená | F34: =ROUND((SUM(BF122:BF145)), 2) -> 0 | I34: 0.2 | J34: =ROUND(((SUM(BF122:BF145))*I34), 2) -> 0
E35: zákl. prenesená | F35: =ROUND((SUM(BG122:BG145)), 2) -> 0 | I35: 0.2 | J35: =0 -> 0
E36: zníž. prenesená | F36: =ROUND((SUM(BH122:BH145)), 2) -> 0 | I36: 0.2 | J36: =0 -> 0
E37: nulová | F37: =ROUND((SUM(BI122:BI145)), 2) -> 0 | I37: 0 | J37: =0 -> 0
D39: Cena s DPH | G39: v | H39: EUR | J39: =SUM(J30:J37) -> 0
D50: Projektant | G50: Spracovateľ
D61: Dátum a podpis: | F61: Pečiatka | G61: Dátum a podpis: | J61: Pečiatka
D65: Objednávateľ | G65: Zhotoviteľ
D76: Dátum a podpis: | F76: Pečiatka | G76: Dátum a podpis: | J76: Pečiatka
C82: REKAPITULÁCIA ROZPOČTU
C84: Stavba:
E85: =E7 -> Stavebné úpravy maštale pre voľné ustajnenie HD, p.č. 611 Pichne okr. Snina
C86: Objekt:
E87: =E9 -> 02 - SO 02 Búracie práce
C89: Miesto: | F89: =F12 | I89: Dátum: | J89: =IF(J12="","",J12) -> 45236
C91: Objednávateľ: | F91: =E15 -> Notax Consulting s.r.o., Fidlíkova 3, Humenné 066 01 | I91: Projektant: | J91: =E21 -> Argo-PK, Projekčná kancelária, Strojárska 3998, Snina
C92: Zhotoviteľ: | F92: =IF(E18="","",E18) | I92: Spracovateľ: | J92: =E24
C94: Kód dielu - Popis | J94: Cena celkom [EUR]
C96: Náklady z rozpočtu | J96: =J122 -> 0 | AU96: -1
D97: HSV - Práce a dodávky HSV | J97: =J123 -> 0
D98: 9 - Ostatné konštrukcie a práce-búranie | J98: =J124 -> 0
D99: PSV - Práce a dodávky PSV | J99: =J132 -> 0
D100: 762 - Konštrukcie tesárske | J100: =J133 -> 0
D101: 763 - Konštrukcie - drevostavby | J101: =J137 -> 0
D102: 767 - Konštrukcie doplnkové kovové | J102: =J141 -> 0
C109: ROZPOČET
C111: Stavba:
E112: =E7 -> Stavebné úpravy maštale pre voľné ustajnenie HD, p.č. 611 Pichne okr. Snina
C113: Objekt:
E114: =E9 -> 02 - SO 02 Búracie práce
C116: Miesto: | F116: =F12 | I116: Dátum: | J116: =IF(J12="","",J12) -> 45236
C118: Objednávateľ: | F118: =E15 -> Notax Consulting s.r.o., Fidlíkova 3, Humenné 066 01 | I118: Projektant: | J118: =E21 -> Argo-PK, Projekčná kancelária, Strojárska 3998, Snina
C119: Zhotoviteľ: | F119: =IF(E18="","",E18) | I119: Spracovateľ: | J119: =E24
C121: PČ | D121: Typ | E121: Kód | F121: Popis | G121: MJ | H121: Množstvo | I121: J.cena [EUR] | J121: Cena celkom [EUR] | K121: Cenová sústava | N121: DPH | O121: J. Nh [h] | P121: Nh celkom [h] | Q121: J. hmotnosť [t] | R121: Hmotnosť celkom [t] | S121: J. suť [t] | T121: Suť Celkom [t]
C122: Náklady z rozpočtu | J122: =BK122 -> 0 | P122: =P123+P132 -> 188.94337 | R122: =R123+R132 -> 0 | T122: =T123+T132 -> 44.886034 | AT122: D | AU122: -1 | BK122: =BK123+BK132 -> 0
D123: D | E123: HSV | F123: Práce a dodávky HSV | J123: =BK123 -> 0 | P123: =P124 -> 86.49374 | R123: =R124 -> 0 | T123: =T124 -> 41.23944 | AR123: 1 | AT123: D | AU123: 0 | AY123: ROZPOCET | BK123: =BK124 -> 0
D124: D | E124: 9 | F124: Ostatné konštrukcie a práce-búranie | J124: =BK124 -> 0 | P124: =SUM(P125:P131) -> 86.49374 | R124: =SUM(R125:R131) -> 0 | T124: =SUM(T125:T131) -> 41.23944 | AR124: 1 | AT124: D | AU124: 1 | AY124: ROZPOCET | BK124: =SUM(BK125:BK131) -> 0
C125: 1 | D125: K | E125: 962032231.S2 | F125: Búranie muriva alebo vybúranie otvorov plochy nad 4 m2 nadzákladového z tehál pálených, vápenopieskových, cementových na maltu, -1,90500t | G125: m3 | H125: 21.648 | J125: =ROUND(I125*H125,2) -> 0 | N125: znížená | O125: 1.455 | P125: =O125*H125 -> 31.49784 | Q125: 0 | R125: =Q125*H125 -> 0 | S125: 1.905 | T125: =S125*H125 -> 41.23944 | AR125: 4 | AT125: K | AU125: 2 | AY125: ROZPOCET | BE125: =IF(N125="základná",J125,0) -> 0 | BF125: =IF(N125="znížená",J125,0) -> 0 | BG125: =IF(N125="zákl. prenesená",J125,0) -> 0 | BH125: =IF(N125="zníž. prenesená",J125,0) -> 0 | BI125: =IF(N125="nulová",J125,0) -> 0 | BJ125: 2 | BK125: =ROUND(I125*H125,2) -> 0 | BL125: 4 | BM125: 1449501037
D126: VV | F126: (7,6*2,2+12,6*2*2,2)*0,3 | H126: 21.648 | AT126: VV | AU126: 2 | AV126: 2 | AW126: True | AX126: 0 | AY126: ROZPOCET
D127: VV | F127: Súčet | H127: 21.648 | AT127: VV | AU127: 2 | AV127: 4 | AW127: True | AX127: 1 | AY127: ROZPOCET
C128: 2 | D128: K | E128: 979082111.S | F128: Vnútrostavenisková doprava sutiny a vybúraných hmôt do 10 m | G128: t | H128: 36.91 | J128: =ROUND(I128*H128,2) -> 0 | N128: znížená | O128: 0.89 | P128: =O128*H128 -> 32.8499 | Q128: 0 | R128: =Q128*H128 -> 0 | S128: 0 | T128: =S128*H128 -> 0 | AR128: 4 | AT128: K | AU128: 2 | AY128: ROZPOCET | BE128: =IF(N128="základná",J128,0) -> 0 | BF128: =IF(N128="znížená",J128,0) -> 0 | BG128: =IF(N128="zákl. prenesená",J128,0) -> 0 | BH128: =IF(N128="zníž. prenesená",J128,0) -> 0 | BI128: =IF(N128="nulová",J128,0) -> 0 | BJ128: 2 | BK128: =ROUND(I128*H128,2) -> 0 | BL128: 4 | BM128: -361582650
D129: VV | F129: 21,648*1,705 | H129: 36.91 | AT129: VV | AU129: 2 | AV129: 2 | AW129: True | AX129: 1 | AY129: ROZPOCET
C130: 3 | D130: K | E130: 979082121.S | F130: Vnútrostavenisková doprava sutiny a vybúraných hmôt za každých ďalších 5 m | G130: t | H130: 221.46 | J130: =ROUND(I130*H130,2) -> 0 | N130: znížená | O130: 0.1 | P130: =O130*H130 -> 22.146 | Q130: 0 | R130: =Q130*H130 -> 0 | S130: 0 | T130: =S130*H130 -> 0 | AR130: 4 | AT130: K | AU130: 2 | AY130: ROZPOCET | BE130: =IF(N130="základná",J130,0) -> 0 | BF130: =IF(N130="znížená",J130,0) -> 0 | BG130: =IF(N130="zákl. prenesená",J130,0) -> 0 | BH130: =IF(N130="zníž. prenesená",J130,0) -> 0 | BI130: =IF(N130="nulová",J130,0) -> 0 | BJ130: 2 | BK130: =ROUND(I130*H130,2) -> 0 | BL130: 4 | BM130: 1676285744
D131: VV | F131: 36,910*6 "30 m | H131: 221.46 | AT131: VV | AU131: 2 | AV131: 2 | AW131: True | AX131: 1 | AY131: ROZPOCET
D132: D | E132: PSV | F132: Práce a dodávky PSV | J132: =BK132 -> 0 | P132: =P133+P137+P141 -> 102.44963 | R132: =R133+R137+R141 -> 0 | T132: =T133+T137+T141 -> 3.646594 | AR132: 2 | AT132: D | AU132: 0 | AY132: ROZPOCET | BK132: =BK133+BK137+BK141 -> 0
D133: D | E133: 762 | F133: Konštrukcie tesárske | J133: =BK133 -> 0 | P133: =SUM(P134:P136) -> 11.023096 | R133: =SUM(R134:R136) -> 0 | T133: =SUM(T134:T136) -> 1.377887 | AR133: 2 | AT133: D | AU133: 1 | AY133: ROZPOCET | BK133: =SUM(BK134:BK136) -> 0
C134: 4 | D134: K | E134: 762342811.S | F134: Demontáž latovania striech so sklonom do 60° pri osovej vzdialenosti lát do 0,22 m, -0,00700 t | G134: m2 | H134: 196.841 | J134: =ROUND(I134*H134,2) -> 0 | N134: znížená | O134: 0.056 | P134: =O134*H134 -> 11.023096 | Q134: 0 | R134: =Q134*H134 -> 0 | S134: 0.007 | T134: =S134*H134 -> 1.377887 | AR134: 16 | AT134: K | AU134: 2 | AY134: ROZPOCET | BE134: =IF(N134="základná",J134,0) -> 0 | BF134: =IF(N134="znížená",J134,0) -> 0 | BG134: =IF(N134="zákl. prenesená",J134,0) -> 0 | BH134: =IF(N134="zníž. prenesená",J134,0) -> 0 | BI134: =IF(N134="nulová",J134,0) -> 0 | BJ134: 2 | BK134: =ROUND(I134*H134,2) -> 0 | BL134: 16 | BM134: -949055885
D135: VV | F135: 10,88*45,23*0,4 | H135: 196.841 | AT135: VV | AU135: 2 | AV135: 2 | AW135: True | AX135: 1 | AY135: ROZPOCET
C136: 5 | D136: K | E136: 998762202.S | F136: Presun hmôt pre konštrukcie tesárske v objektoch výšky do 12 m | G136: % | H136: 1.752 | J136: =ROUND(I136*H136,2) -> 0 | N136: znížená | O136: 0 | P136: =O136*H136 -> 0 | Q136: 0 | R136: =Q136*H136 -> 0 | S136: 0 | T136: =S136*H136 -> 0 | AR136: 16 | AT136: K | AU136: 2 | AY136: ROZPOCET | BE136: =IF(N136="základná",J136,0) -> 0 | BF136: =IF(N136="znížená",J136,0) -> 0 | BG136: =IF(N136="zákl. prenesená",J136,0) -> 0 | BH136: =IF(N136="zníž. prenesená",J136,0) -> 0 | BI136: =IF(N136="nulová",J136,0) -> 0 | BJ136: 2 | BK136: =ROUND(I136*H136,2) -> 0 | BL136: 16 | BM136: 840662816
D137: D | E137: 763 | F137: Konštrukcie - drevostavby | J137: =BK137 -> 0 | P137: =SUM(P138:P140) -> 28.0476 | R137: =SUM(R138:R140) -> 0 | T137: =SUM(T138:T140) -> 0 | AR137: 2 | AT137: D | AU137: 1 | AY137: ROZPOCET | BK137: =SUM(BK138:BK140) -> 0
C138: 6 | D138: K | E138: 763717212.S | F138: Demontáž zvislej konštrukcie plnostenné stľpy, prierezovej plochy 150-500 cm2 | G138: m | H138: 143.1 | J138: =ROUND(I138*H138,2) -> 0 | N138: znížená | O138: 0.196 | P138: =O138*H138 -> 28.0476 | Q138: 0 | R138: =Q138*H138 -> 0 | S138: 0 | T138: =S138*H138 -> 0 | AR138: 16 | AT138: K | AU138: 2 | AY138: ROZPOCET | BE138: =IF(N138="základná",J138,0) -> 0 | BF138: =IF(N138="znížená",J138,0) -> 0 | BG138: =IF(N138="zákl. prenesená",J138,0) -> 0 | BH138: =IF(N138="zníž. prenesená",J138,0) -> 0 | BI138: =IF(N138="nulová",J138,0) -> 0 | BJ138: 2 | BK138: =ROUND(I138*H138,2) -> 0 | BL138: 16 | BM138: -1221839015
D139: VV | F139: 2,2*8*2+4,06*15+2,35*10*2 | H139: 143.1 | AT139: VV | AU139: 2 | AV139: 2 | AW139: True | AX139: 1 | AY139: ROZPOCET
C140: 7 | D140: K | E140: 998763201.S | F140: Presun hmôt pre drevostavby v objektoch výšky do 12 m | G140: % | H140: 7.584 | J140: =ROUND(I140*H140,2) -> 0 | N140: znížená | O140: 0 | P140: =O140*H140 -> 0 | Q140: 0 | R140: =Q140*H140 -> 0 | S140: 0 | T140: =S140*H140 -> 0 | AR140: 16 | AT140: K | AU140: 2 | AY140: ROZPOCET | BE140: =IF(N140="základná",J140,0) -> 0 | BF140: =IF(N140="znížená",J140,0) -> 0 | BG140: =IF(N140="zákl. prenesená",J140,0) -> 0 | BH140: =IF(N140="zníž. prenesená",J140,0) -> 0 | BI140: =IF(N140="nulová",J140,0) -> 0 | BJ140: 2 | BK140: =ROUND(I140*H140,2) -> 0 | BL140: 16 | BM140: -41708753
D141: D | E141: 767 | F141: Konštrukcie doplnkové kovové | J141: =BK141 -> 0 | P141: =SUM(P142:P145) -> 63.378937 | R141: =SUM(R142:R145) -> 0 | T141: =SUM(T142:T145) -> 2.268707 | AR141: 2 | AT141: D | AU141: 1 | AY141: ROZPOCET | BK141: =SUM(BK142:BK145) -> 0
C142: 8 | D142: K | E142: 767134802.S | F142: Demontáž oplechovania stien plechmi skrutkovanými, -0,00900 t | G142: m2 | H142: 98.98 | J142: =ROUND(I142*H142,2) -> 0 | N142: znížená | O142: 0.169 | P142: =O142*H142 -> 16.72762 | Q142: 0 | R142: =Q142*H142 -> 0 | S142: 0.009 | T142: =S142*H142 -> 0.89082 | AR142: 16 | AT142: K | AU142: 2 | AY142: ROZPOCET | BE142: =IF(N142="základná",J142,0) -> 0 | BF142: =IF(N142="znížená",J142,0) -> 0 | BG142: =IF(N142="zákl. prenesená",J142,0) -> 0 | BH142: =IF(N142="zníž. prenesená",J142,0) -> 0 | BI142: =IF(N142="nulová",J142,0) -> 0 | BJ142: 2 | BK142: =ROUND(I142*H142,2) -> 0 | BL142: 16 | BM142: 1275410401
D143: VV | F143: (12,6+7,6)*2*2,45 | H143: 98.98 | AT143: VV | AU143: 2 | AV143: 2 | AW143: True | AX143: 1 | AY143: ROZPOCET
C144: 9 | D144: K | E144: 767392802.S | F144: Demontáž krytín striech z plechov skrutkovaných, -0,00700t | G144: m2 | H144: 196.841 | J144: =ROUND(I144*H144,2) -> 0 | N144: znížená | O144: 0.237 | P144: =O144*H144 -> 46.651317 | Q144: 0 | R144: =Q144*H144 -> 0 | S144: 0.007 | T144: =S144*H144 -> 1.377887 | AR144: 16 | AT144: K | AU144: 2 | AY144: ROZPOCET | BE144: =IF(N144="základná",J144,0) -> 0 | BF144: =IF(N144="znížená",J144,0) -> 0 | BG144: =IF(N144="zákl. prenesená",J144,0) -> 0 | BH144: =IF(N144="zníž. prenesená",J144,0) -> 0 | BI144: =IF(N144="nulová",J144,0) -> 0 | BJ144: 2 | BK144: =ROUND(I144*H144,2) -> 0 | BL144: 16 | BM144: 343688934
C145: 10 | D145: K | E145: 998767201.S | F145: Presun hmôt pre kovové stavebné doplnkové konštrukcie v objektoch výšky do 6 m | G145: % | H145: 21.23 | J145: =ROUND(I145*H145,2) -> 0 | N145: znížená | O145: 0 | P145: =O145*H145 -> 0 | Q145: 0 | R145: =Q145*H145 -> 0 | S145: 0 | T145: =S145*H145 -> 0 | AR145: 16 | AT145: K | AU145: 2 | AY145: ROZPOCET | BE145: =IF(N145="základná",J145,0) -> 0 | BF145: =IF(N145="znížená",J145,0) -> 0 | BG145: =IF(N145="zákl. prenesená",J145,0) -> 0 | BH145: =IF(N145="zníž. prenesená",J145,0) -> 0 | BI145: =IF(N145="nulová",J145,0) -> 0 | BJ145: 2 | BK145: =ROUND(I145*H145,2) -> 0 | BL145: 16 | BM145: -1959040096

Sheet Hárok1
