Workbook

Sheet Rekapitulácia stavby
A1: Export Komplet | BA1: 2.0 | BT1: False | BU1: False | BV1: {217ecbf7-5b51-454a-9662-045c8cbda354}
AR2: >> skryté stĺpce << | BS2: 0,01 | BT2: 20
BS3: 0,01 | BT3: 20
D4: REKAPITULÁCIA STAVBY | AS4: v --- nižšie sa nachádzajú doplnkové a pomocné údaje k zostavám --- v | BS4: 0,001
D5: Kód: | K5: 99-15 | BS5: 0,01
D6: Stavba: | K6: Stavebné úpravy maštale pre voľné ustajnenie HD, p.č. 611 Pichne okr. Snina | BS6: 0,01
D7: JKSO: | AK7: KS: | BS7: 0,01
D8: Miesto: | AK8: Dátum: | AN8: 45236 | BS8: 0,01
BS9: 0,01
D10: Objednávateľ: | AK10: IČO: | AN10: 36 472 166 | BS10: 0,01
E11: Notax Consulting s.r.o., Fidlíkova 3, Humenné 066 01 | AK11: IČ DPH: | AN11: SK202 156 6778 | BS11: 0,01
BS12: 0,01
D13: Zhotoviteľ: | AK13: IČO: | BS13: 0,01
AK14: IČ DPH: | BS14: 0,01
BS15: False
D16: Projektant: | AK16: IČO: | BS16: False
E17: Argo-PK, Projekčná kancelária, Strojárska 3998, Snina | AK17: IČ DPH: | BS17: True
BS18: 0,01
D19: Spracovateľ: | AK19: IČO: | BS19: 0,01
AK20: IČ DPH: | BS20: True
D22: Poznámka:
D26: Cena bez DPH | AK26: =ROUND(AG94,2) -> 0
L28: Sadzba dane | W28: Základ dane | AK28: Výška dane
D29: DPH | F29: základná | L29: 0.2 | W29: =ROUND(AZ94, 2) -> 0 | AK29: =ROUND(AV94, 2) -> 0
F30: znížená | L30: 0.2 | W30: =ROUND(BA94, 2) -> 0 | AK30: =ROUND(AW94, 2) -> 0
F31: zákl. prenesená | L31: 0.2 | W31: =ROUND(BB94, 2) -> 0 | AK31: 0
F32: zníž. prenesená | L32: 0.2 | W32: =ROUND(BC94, 2) -> 0 | AK32: 0
F33: nulová | L33: 0 | W33: =ROUND(BD94, 2) -> 0 | AK33: 0
D35: Cena s DPH | T35: v | X35: EUR | AK35: =SUM(AK26:AK33) -> 0
D49: Projektant | AH49: Spracovateľ
D60: Dátum a podpis: | V60: Pečiatka | AH60: Dátum a podpis: | AM60: Pečiatka
D64: Objednávateľ | AH64: Zhotoviteľ
D75: Dátum a podpis: | V75: Pečiatka | AH75: Dátum a podpis: | AM75: Pečiatka
C82: REKAPITULÁCIA OBJEKTOV STAVBY
C84: Kód: | L84: =K5 -> 99-15
C85: Stavba: | L85: =K6 -> Stavebné úpravy maštale pre voľné ustajnenie HD, p.č. 611 Pichne okr. Snina
C87: Miesto: | L87: =IF(K8="","",K8) | AI87: Dátum: | AM87: =IF(AN8= "","",AN8) -> 45236
C89: Objednávateľ: | L89: =IF(E11= "","",E11) -> Notax Consulting s.r.o., Fidlíkova 3, Humenné 066 01 | AI89: Projektant: | AM89: =IF(E17="","",E17) -> Argo-PK, Projekčná kancelária, Strojárska 3998, Snina | AS89: Informatívne údaje z listov zákaziek
C90: Zhotoviteľ: | L90: =IF(E14="","",E14) | AI90: Spracovateľ: | AM90: =IF(E20="","",E20)
C92: Kód | I92: Popis | AG92: Cena bez DPH [EUR] | AN92: Cena s DPH [EUR] | AQ92: Typ | AS92: z toho Ostat._x000D_ náklady [EUR] | AT92: DPH [EUR] | AU92: Normohodiny [h] | AV92: DPH základná [EUR] | AW92: DPH znížená [EUR] | AX92: DPH základná prenesená_x000D_ [EUR] | AY92: DPH znížená prenesená_x000D_ [EUR] | AZ92: Základňa_x000D_ DPH základná | BA92: Základňa_x000D_ DPH znížená | BB92: Základňa_x000D_ DPH zákl. prenesená | BC92: Základňa_x000D_ DPH zníž. prenesená | BD92: Základňa_x000D_ DPH nulová
...

Sheet 01 - SO 01 Vlastná stavba
L2: >> skryté stĺpce << | AT2: {e990adc0-64c3-4604-b3ab-3d94c6fa3150}
AT3: 0
D4: KRYCÍ LIST ROZPOČTU | M4: v --- nižšie sa nachádzajú doplnkové a pomocné údaje k zostavám --- v | AT4: False
D6: Stavba:
E7: ='Rekapitulácia stavby'!K6 -> Stavebné úpravy maštale pre voľné ustajnenie HD, p.č. 611 Pichne okr. Snina
D8: Objekt:
E9: 01 - SO 01 Vlastná stavba
D11: JKSO: | I11: KS:
D12: Miesto: | I12: Dátum: | J12: ='Rekapitulácia stavby'!AN8 -> 45236
D14: Objednávateľ: | I14: IČO: | J14: 36 472 166
E15: Notax Consulting s.r.o., Fidlíkova 3, Humenné 066 01 | I15: IČ DPH: | J15: SK202 156 6778
D17: Zhotoviteľ: | I17: IČO: | J17: ='Rekapitulácia stavby'!AN13
E18: ='Rekapitulácia stavby'!E14 | I18: IČ DPH: | J18: ='Rekapitulácia stavby'!AN14
D20: Projektant: | I20: IČO:
E21: Argo-PK, Projekčná kancelária, Strojárska 3998, Snina | I21: IČ DPH:
D23: Spracovateľ: | I23: IČO: | J23: =IF('Rekapitulácia stavby'!AN19="","",'Rekapitulácia stavby'!AN19)
E24: =IF('Rekapitulácia stavby'!E20="","",'Rekapitulácia stavby'!E20) | I24: IČ DPH: | J24: =IF('Rekapitulácia stavby'!AN20="","",'Rekapitulácia stavby'!AN20)
D26: Poznámka:
D30: Cena bez DPH | J30: =ROUND(J127, 2) -> 0
F32: Základ dane | I32: Sadzba dane | J32: Výška dane
D33: DPH | E33: základná | F33: =ROUND((SUM(BE127:BE282)), 2) -> 0 | I33: 0.2 | J33: =ROUND(((SUM(BE127:BE282))*I33), 2) -> 0
E34: znížená | F34: =ROUND((SUM(BF127:BF282)), 2) -> 0 | I34: 0.2 | J34: =ROUND(((SUM(BF127:BF282))*I34), 2) -> 0
E35: zákl. prenesená | F35: =ROUND((SUM(BG127:BG282)), 2) -> 0 | I35: 0.2 | J35: =0 -> 0
E36: zníž. prenesená | F36: =ROUND((SUM(BH127:BH282)), 2) -> 0 | I36: 0.2 | J36: =0 -> 0
E37: nulová | F37: =ROUND((SUM(BI127:BI282)), 2) -> 0 | I37: 0 | J37: =0 -> 0
D39: Cena s DPH | G39: v | H39: EUR | J39: =SUM(J30:J37) -> 0
D50: Projektant | G50: Spracovateľ
D61: Dátum a podpis: | F61: Pečiatka | G61: Dátum a podpis: | J61: Pečiatka
D65: Objednávateľ | G65: Zhotoviteľ
D76: Dátum a podpis: | F76: Pečiatka | G76: Dátum a podpis: | J76: Pečiatka
C82: REKAPITULÁCIA ROZPOČTU
C84: Stavba:
E85: =E7 -> Stavebné úpravy maštale pre voľné ustajnenie HD, p.č. 611 Pichne okr. Snina
C86: Objekt:
E87: =E9 -> 01 - SO 01 Vlastná stavba
C89: Miesto: | F89: =F12 | I89: Dátum: | J89: =IF(J12="","",J12) -> 45236
C91: Objednávateľ: | F91: =E15 -> Notax Consulting s.r.o., Fidlíkova 3, Humenné 066 01 | I91: Projektant: | J91: =E21 -> Argo-PK, Projekčná kancelária, Strojárska 3998, Snina
C92: Zhotoviteľ: | F92: =IF(E18="","",E18) | I92: Spracovateľ: | J92: =E24
C94: Kód dielu - Popis | J94: Cena celkom [EUR]
C96: Náklady z rozpočtu | J96: =J127 -> 0 | AU96: -1
...

Sheet 02 - SO 02 Búracie práce
L2: >> skryté stĺpce << | AT2: {5322e3a0-6162-45bf-a543-6b5f550dfa8a}
AT3: 0
D4: KRYCÍ LIST ROZPOČTU | M4: v --- nižšie sa nachádzajú doplnkové a pomocné údaje k zostavám --- v | AT4: False
D6: Stavba:
E7: ='Rekapitulácia stavby'!K6 -> Stavebné úpravy maštale pre voľné ustajnenie HD, p.č. 611 Pichne okr. Snina
D8: Objekt:
E9: 02 - SO 02 Búracie práce
D11: JKSO: | I11: KS:
D12: Miesto: | I12: Dátum: | J12: ='Rekapitulácia stavby'!AN8 -> 45236
D14: Objednávateľ: | I14: IČO: | J14: 36 472 166
E15: Notax Consulting s.r.o., Fidlíkova 3, Humenné 066 01 | I15: IČ DPH: | J15: SK202 156 6778
D17: Zhotoviteľ: | I17: IČO: | J17: ='Rekapitulácia stavby'!AN13
E18: ='Rekapitulácia stavby'!E14 | I18: IČ DPH: | J18: ='Rekapitulácia stavby'!AN14
D20: Projektant: | I20: IČO:
E21: Argo-PK, Projekčná kancelária, Strojárska 3998, Snina | I21: IČ DPH:
D23: Spracovateľ: | I23: IČO: | J23: =IF('Rekapitulácia stavby'!AN19="","",'Rekapitulácia stavby'!AN19)
E24: =IF('Rekapitulácia stavby'!E20="","",'Rekapitulácia stavby'!E20) | I24: IČ DPH: | J24: =IF('Rekapitulácia stavby'!AN20="","",'Rekapitulácia stavby'!AN20)
D26: Poznámka:
D30: Cena bez DPH | J30: =ROUND(J122, 2) -> 0
F32: Základ dane | I32: Sadzba dane | J32: Výška dane
D33: DPH | E33: základná | F33: =ROUND((SUM(BE122:BE145)), 2) -> 0 | I33: 0.2 | J33: =ROUND(((SUM(BE122:BE145))*I33), 2) -> 0
E34: znížená | F34: =ROUND((SUM(BF122:BF145)), 2) -> 0 | I34: 0.2 | J34: =ROUND(((SUM(BF122:BF145))*I34), 2) -> 0
E35: zákl. prenesená | F35: =ROUND((SUM(BG122:BG145)), 2) -> 0 | I35: 0.2 | J35: =0 -> 0
E36: zníž. prenesená | F36: =ROUND((SUM(BH122:BH145)), 2) -> 0 | I36: 0.2 | J36: =0 -> 0
E37: nulová | F37: =ROUND((SUM(BI122:BI145)), 2) -> 0 | I37: 0 | J37: =0 -> 0
D39: Cena s DPH | G39: v | H39: EUR | J39: =SUM(J30:J37) -> 0
D50: Projektant | G50: Spracovateľ
D61: Dátum a podpis: | F61: Pečiatka | G61: Dátum a podpis: | J61: Pečiatka
D65: Objednávateľ | G65: Zhotoviteľ
D76: Dátum a podpis: | F76: Pečiatka | G76: Dátum a podpis: | J76: Pečiatka
C82: REKAPITULÁCIA ROZPOČTU
C84: Stavba:
E85: =E7 -> Stavebné úpravy maštale pre voľné ustajnenie HD, p.č. 611 Pichne okr. Snina
C86: Objekt:
E87: =E9 -> 02 - SO 02 Búracie práce
C89: Miesto: | F89: =F12 | I89: Dátum: | J89: =IF(J12="","",J12) -> 45236
C91: Objednávateľ: | F91: =E15 -> Notax Consulting s.r.o., Fidlíkova 3, Humenné 066 01 | I91: Projektant: | J91: =E21 -> Argo-PK, Projekčná kancelária, Strojárska 3998, Snina
C92: Zhotoviteľ: | F92: =IF(E18="","",E18) | I92: Spracovateľ: | J92: =E24
C94: Kód dielu - Popis | J94: Cena celkom [EUR]
C96: Náklady z rozpočtu | J96: =J122 -> 0 | AU96: -1
...

Sheet Hárok1
