Workbook
Name fakt1R: #REF!

Sheet Prehlad
A1: Odberateľ: LAKLA s.r.o. | I1: Spracoval: | Z1: V module | AA1: Hlavička1 | AB1: Mena | AC1: Hlavička2 | AD1: Obdobie | AE1: Počet des.miest | AF1: Formát
A2: Projektant: | I2: JKSO : | Z2: Rozpočet | AA2: Prehľad rozpočtových nákladov v | AB2: EUR | AE2: 1 | AF2: 123.5
A3: Dodávateľ: | I3: Dátum: | Z3: Čerpanie | AA3: Súpis vykonaných prác a dodávok v | AB3: EUR | AC3: za obdobie | AD3: Mesiac 2011 | AE3: 2 | AF3: 123.46
Z4: VK | AA4: Prehľad kalkulovaných nákladov v | AB4: EUR | AE4: 3 | AF4: 123.457
A5: Stavba : Prístavba k liehovaru na destiláty a na pestovateľské pálenie ovocia - Bodza | Z5: VF | AA5: Súpis vykonaných prác a dodávok v | AB5: EUR | AC5: za obdobie | AD5: Mesiac 2011 | AE5: 4 | AF5: 123.4567
AE6: N | AF6: 123.46
D8: =CONCATENATE(AA2," ",AB2," ",AC2," ",AD2) -> Prehľad rozpočtových nákladov v EUR
A9: Por. | B9: Kód | C9: Kód položky | D9: Popis položky, stavebného dielu, remesla, | E9: Množstvo | F9: Merná | G9: Jednotková | H9: Konštrukcie | I9: Špecifikovaný | J9: Spolu | K9: Hmotnosť v tonách | M9: Suť v tonách | O9: DPH | P9: Pozícia | Q9: Množstvo | R9: Množstvo | S9: Množstvo | T9: Vyňatý | U9: Vysoká sadzba | V9: Typ | W9: Nh | X9: Kód položky | Y9: Kód položky | Z9: Klasifikácia | AA9: Katalógové | AB9: Typ | AC9: AC | AD9: AD | AE9: Jedn. cena | AF9: Index JC | AG9: Množstvo | AH9: Index mn. | AJ9: Zaradenie | AK9: Lev0
A10: číslo | B10: cen. | D10: výkaz-výmer | E10: výmera | F10: jednotka | G10: cena | I10: materiál | K10: Jednotková | L10: Spolu | M10: Jednotková | N10: Spolu | O10: % | Q10: rozpočtované | R10: od začiatku | S10: dodatok | T10: z režimu stavba | U10: DPH ( materiál ) | V10: položky | X10: pre tlač | Z10: produkcie | AA10: číslo | AB10: ceny | AJ10: pre KL | AK10: pozícia
D12: PRÁCE A DODÁVKY HSV
D13: 1 - ZEMNE PRÁCE
A14: 1 | B14: 272 | C14: 131201101 | D14: Hĺbenie jám nezapaž. v horn. tr. 3 do 100 m3 | E14: 27.914 | F14: m3 | H14: =G14*E14 -> 0 | J14: =I14+H14 -> 0 | O14: 20 | P14: E1 | V14: E | W14: 16.05055 | X14: 13120-1101 | Y14: 131201101 | Z14: 45.11.21 | AB14: 1 | AJ14: EK | AK14: S
D15: 0,35*0,5*(6,05+4,99+16,3) = 4,785 | V15: a
D16: 0,45*10,3*4,99 = 23,129 | V16: a
A17: 2 | B17: 272 | C17: 131201109 | D17: Príplatok za lepivosť v horn. tr. 3 | E17: 13.957 | F17: m3 | H17: =G17*E17 -> 0 | J17: =I17+H17 -> 0 | O17: 20 | P17: E1 | V17: E | W17: 0.55828 | X17: 13120-1109 | Y17: 131201109 | Z17: 45.11.21 | AB17: 1 | AJ17: EK | AK17: S
A18: 3 | B18: 272 | C18: 132201101 | D18: Hĺbenie rýh šírka do 60 cm v horn. tr. 3 do 100 m3 | E18: 4.301 | F18: m3 | H18: =G18*E18 -> 0 | J18: =I18+H18 -> 0 | O18: 20 | P18: E1 | V18: E | W18: 8.447164 | X18: 13220-1101 | Y18: 132201101 | Z18: 45.11.21 | AB18: 1 | AJ18: EK | AK18: S
D19: 0,4*0,8*(0,35+1,5*2+2,59+1,5*5) = 4,301 | V19: a
A20: 4 | B20: 272 | C20: 132201109 | D20: Príplatok za lepivosť horniny tr. 3 v rýhach š. do 60 cm | E20: 2.151 | F20: m3 | H20: =G20*E20 -> 0 | J20: =I20+H20 -> 0 | O20: 20 | P20: E1 | V20: E | W20: 0.591525 | X20: 13220-1109 | Y20: 132201109 | Z20: 45.11.21 | AB20: 1 | AJ20: EK | AK20: S
A21: 5 | B21: 272 | C21: 133201101 | D21: Hĺbenie šachiet v horn. tr. 3 do 100 m3 | E21: 13 | F21: m3 | H21: =G21*E21 -> 0 | J21: =I21+H21 -> 0 | O21: 20 | P21: E1 | V21: E | W21: 40.534 | X21: 13320-1101 | Y21: 133201101 | Z21: 45.11.21 | AB21: 1 | AJ21: EK | AK21: S
D22: 1*1*13 = 13,000 | V22: a
A23: 6 | B23: 272 | C23: 133201109 | D23: Príplatok za lepivosť horniny tr.3 | E23: 6.5 | F23: m3 | H23: =G23*E23 -> 0 | J23: =I23+H23 -> 0 | O23: 20 | P23: E1 | V23: E | W23: 1.6185 | X23: 13320-1109 | Y23: 133201109 | Z23: 45.11.21 | AB23: 1 | AJ23: EK | AK23: S
A24: 7 | B24: 272 | C24: 162701105 | D24: Vodorovné premiestnenie výkopu do 10000 m horn. tr. 1-4 | E24: 38.008 | F24: m3 | H24: =G24*E24 -> 0 | J24: =I24+H24 -> 0 | O24: 20 | P24: E1 | V24: E | W24: 0.418088 | X24: 16270-1105 | Y24: 162701105 | Z24: 45.11.24 | AB24: 1 | AJ24: EK | AK24: S
D25: 13-7,207+4,301+27,914 = 38,008 | V25: a
A26: 8 | B26: 253 | C26: 1712041110 | D26: Uloženie sypaniny bez zhut. na skl.-poplatok | E26: 38.008 | F26: m3 | H26: =G26*E26 -> 0 | J26: =I26+H26 -> 0 | O26: 20 | P26: E1 | V26: E | W26: 1.482312 | X26: 17120-41110 | Y26: 1712041110 | Z26: 45.21.22 | AB26: 7 | AJ26: EK | AK26: S
A27: 9 | B27: 001 | C27: 174101001 | D27: Zásyp zhutnený jám, šachiet, rýh, zárezov alebo okolo objektov do 100 m3 | E27: 5.8 | F27: m3 | H27: =G27*E27 -> 0 | J27: =I27+H27 -> 0 | O27: 20 | P27: E1 | V27: E | W27: 1.4036 | X27: 17410-1001 | Y27: 174101001 | Z27: 45.11.21 | AB27: 1 | AJ27: EK | AK27: S
D28: 13-7,2 = 5,800 | V28: a
A29: 10 | B29: 001 | C29: 175203101 | D29: Prisypanie tesniacej fólie alebo geotext. bez zhut. v rovine | E29: 11.2 | F29: m3 | H29: =G29*E29 -> 0 | J29: =I29+H29 -> 0 | O29: 20 | P29: E1 | V29: E | W29: 0.2912 | X29: 17520-3101 | Y29: 175203101 | Z29: 45.24.14 | AB29: 1 | AJ29: EK | AK29: S
D30: 0,5*(6,55+4,99+16,8)*0,2 = 2,834 | V30: a
D31: 4,85*5,75*0,3 = 8,366 | V31: a
A32: 11 | B32: MAT | C32: 693C00105 | D32: Geotextílie TYPAR SF 94 - 320 g/m2 - 2,60x100 m | E32: 75.975 | F32: m2 | I32: =G32*E32 -> 0 | J32: =I32+H32 -> 0 | O32: 20 | P32: E1 | V32: D | X32: 693C00105 | Y32: 693C00105 | Z32: 17.20.10 | AB32: 2 | AJ32: EZ | AK32: S
D33: 4,85*5,75*1,2+1,5*(6,55+4,99+16,8) = 75,975 | V33: a
D34: 1 - ZEMNE PRÁCE spolu: | E34: 2522.83 | H34: =SUM(H14:H33) -> 0 | I34: =SUM(I14:I33) -> 0 | J34: =I34+H34 -> 0 | W34: 71.395219
D35: 2 - ZÁKLADY
A36: 12 | B36: 011 | C36: 274313611 | D36: Základové pásy z betónu prostého tr. C16/20 | E36: 4.301 | F36: m3 | H36: =G36*E36 -> 0 | J36: =I36+H36 -> 0 | K36: 2.41931 | L36: 10.405452 | O36: 20 | P36: E2 | V36: E | W36: 1.961256 | X36: 27431-3611 | Y36: 274313611 | Z36: 45.25.32 | AB36: 1 | AJ36: EK | AK36: S
A37: 13 | B37: 011 | C37: 275321311 | D37: Základové pätky zo železobetónu tr. C16/20 | E37: 7.207 | F37: m3 | H37: =G37*E37 -> 0 | J37: =I37+H37 -> 0 | K37: 2.4186 | L37: 17.43085 | O37: 20 | P37: E2 | V37: E | W37: 3.31522 | X37: 27532-1311 | Y37: 275321311 | Z37: 45.25.32 | AB37: 1 | AJ37: EK | AK37: S
D38: 1*1*0,36*13+0,6*0,6*0,54*13 = 7,207 | V38: a
A39: 14 | B39: 011 | C39: 275351215 | D39: Debnenie základových pätiek zhotovenie | E39: 18.72 | F39: m2 | H39: =G39*E39 -> 0 | J39: =I39+H39 -> 0 | K39: 0.00223 | L39: 0.0417456 | O39: 20 | P39: E2 | V39: E | W39: 6.8328 | X39: 27535-1215 | Y39: 275351215 | Z39: 45.25.32 | AB39: 1 | AJ39: EK | AK39: S
D40: 2,4*0,6*13 = 18,720 | V40: a
A41: 15 | B41: 252 | C41: 275352119 | D41: Odstránenie debnenia základových pätiek a blokov | E41: 18.72 | F41: m2 | H41: =G41*E41 -> 0 | J41: =I41+H41 -> 0 | O41: 20 | P41: E2 | V41: E | W41: 3.31344 | X41: 27535-2119 | Y41: 275352119 | Z41: 45.25.32 | AB41: 1 | AJ41: EK | AK41: S
A42: 16 | B42: 011 | C42: 275361821 | D42: Výstuž základových pätiek BSt 500 (10505) | E42: 0.576 | F42: t | H42: =G42*E42 -> 0 | J42: =I42+H42 -> 0 | K42: 1.14997 | L42: 0.66238272 | O42: 20 | P42: E2 | V42: E | W42: 22.19328 | X42: 27536-1821 | Y42: 275361821 | Z42: 45.25.32 | AB42: 1 | AJ42: EK | AK42: S
...

Sheet Figury
A1: Odberateľ: LAKLA s.r.o. | D1: Spracoval:
A2: Projektant: | D2: JKSO :
A3: Dodávateľ: | D3: Dátum:
A5: Stavba : Prístavba k liehovaru na destiláty a na pestovateľské pálenie ovocia - Bodza
A9: Názov figúry | B9: Popis figúry | C9: Aritmetický výraz | D9: Hodnota | F9: Figura

Sheet Rekapitulacia
A1: Odberateľ: LAKLA s.r.o. | E1: Spracoval: | Z1: V module | AA1: Hlavička1 | AB1: Mena | AC1: Hlavička2 | AD1: Obdobie
A2: Projektant: | E2: JKSO : | Z2: Rozpočet | AA2: Rekapitulácia rozpočtu v | AB2: EUR
A3: Dodávateľ: | E3: Dátum: | Z3: Čerpanie | AA3: Rekapitulácia splátky v | AB3: EUR | AC3: za obdobie | AD3: Mesiac 2011
Z4: VK | AA4: Rekapitulácia výrobnej kalkulácie v | AB4: EUR
A5: Stavba : Prístavba k liehovaru na destiláty a na pestovateľské pálenie ovocia - Bodza | Z5: VF | AA5: Rekapitulácia splátky v | AB5: EUR | AC5: za obdobie | AD5: Mesiac 2011
B8: =CONCATENATE(AA2," ",AB2," ",AC2," ",AD2) -> Rekapitulácia rozpočtu v EUR
A9: Popis položky, stavebného dielu, remesla | B9: Konštrukcie | C9: Špecifikovaný | D9: Spolu | E9: Hmotnosť v tonách | F9: Suť v tonách | G9: Nh
C10: materiál | E10: Spolu | F10: Spolu | G10: Spolu
A12: 1 - ZEMNE PRÁCE spolu: | B12: =Prehlad!H34 -> 0 | C12: =Prehlad!I34 -> 0 | D12: =Prehlad!J34 -> 0 | E12: =Prehlad!L34 -> 0 | F12: =Prehlad!N34 -> 0 | G12: =Prehlad!W34 -> 71.395219
A13: 2 - ZÁKLADY spolu: | B13: =Prehlad!H43 -> 0 | C13: =Prehlad!I43 -> 0 | D13: =Prehlad!J43 -> 0 | E13: =Prehlad!L43 -> 28.540431 | F13: =Prehlad!N43 -> 0 | G13: =Prehlad!W43 -> 37.615996
A14: 3 - ZVISLÉ A KOMPLETNÉ KONŠTRUKCIE spolu: | B14: =Prehlad!H47 -> 0 | C14: =Prehlad!I47 -> 0 | D14: =Prehlad!J47 -> 0 | E14: =Prehlad!L47 -> 3.200526 | F14: =Prehlad!N47 -> 0 | G14: =Prehlad!W47 -> 6.9156
A15: 5 - KOMUNIKÁCIE spolu: | B15: =Prehlad!H54 -> 0 | C15: =Prehlad!I54 -> 0 | D15: =Prehlad!J54 -> 0 | E15: =Prehlad!L54 -> 17.303126 | F15: =Prehlad!N54 -> 0 | G15: =Prehlad!W54 -> 3.40164
A16: 6 - ÚPRAVY POVRCHOV, PODLAHY, VÝPLNE spolu: | B16: =Prehlad!H68 -> 0 | C16: =Prehlad!I68 -> 0 | D16: =Prehlad!J68 -> 0 | E16: =Prehlad!L68 -> 59.878591 | F16: =Prehlad!N68 -> 0 | G16: =Prehlad!W68 -> 101.36278
A17: 9 - OSTATNÉ KONŠTRUKCIE A PRÁCE spolu: | B17: =Prehlad!H83 -> 0 | C17: =Prehlad!I83 -> 0 | D17: =Prehlad!J83 -> 0 | E17: =Prehlad!L83 -> 4.6608304 | F17: =Prehlad!N83 -> 0.279 | G17: =Prehlad!W83 -> 25.85715
A18: PRÁCE A DODÁVKY HSV spolu: | B18: =Prehlad!H84 -> 0 | C18: =Prehlad!I84 -> 0 | D18: =Prehlad!J84 -> 0 | E18: =Prehlad!L84 -> 113.5835 | F18: =Prehlad!N84 -> 0.279 | G18: =Prehlad!W84 -> 246.54838
A19: 711 - Izolácie proti vode a vlhkosti spolu: | B19: =Prehlad!H93 -> 0 | C19: =Prehlad!I93 -> 0 | D19: =Prehlad!J93 -> 0 | E19: =Prehlad!L93 -> 0.5101941 | F19: =Prehlad!N93 -> 0 | G19: =Prehlad!W93 -> 12.769909
A20: 713 - Izolácie tepelné spolu: | B20: =Prehlad!H97 -> 0 | C20: =Prehlad!I97 -> 0 | D20: =Prehlad!J97 -> 0 | E20: =Prehlad!L97 -> 0.12556842 | F20: =Prehlad!N97 -> 0 | G20: =Prehlad!W97 -> 2.695314
A21: 71 - IZOLÁCIE spolu: | B21: =Prehlad!H98 -> 0 | C21: =Prehlad!I98 -> 0 | D21: =Prehlad!J98 -> 0 | E21: =Prehlad!L98 -> 0.63576252 | F21: =Prehlad!N98 -> 0 | G21: =Prehlad!W98 -> 15.465223
A22: 764 - Konštrukcie klampiarske spolu: | B22: =Prehlad!H105 -> 0 | C22: =Prehlad!I105 -> 0 | D22: =Prehlad!J105 -> 0 | E22: =Prehlad!L105 -> 0.040852 | F22: =Prehlad!N105 -> 0 | G22: =Prehlad!W105 -> 6.0329
A23: 767 - Konštrukcie doplnk. kovové stavebné spolu: | B23: =Prehlad!H134 -> 0 | C23: =Prehlad!I134 -> 0 | D23: =Prehlad!J134 -> 0 | E23: =Prehlad!L134 -> 7.3043126 | F23: =Prehlad!N134 -> 0.504 | G23: =Prehlad!W134 -> 272.51071
A24: 76 - KONŠTRUKCIE spolu: | B24: =Prehlad!H135 -> 0 | C24: =Prehlad!I135 -> 0 | D24: =Prehlad!J135 -> 0 | E24: =Prehlad!L135 -> 7.3451646 | F24: =Prehlad!N135 -> 0.504 | G24: =Prehlad!W135 -> 278.54361
A25: 783 - Nátery spolu: | B25: =Prehlad!H141 -> 0 | C25: =Prehlad!I141 -> 0 | D25: =Prehlad!J141 -> 0 | E25: =Prehlad!L141 -> 0.03426432 | F25: =Prehlad!N141 -> 0 | G25: =Prehlad!W141 -> 55.822288
A26: 78 - DOKONČOVACIE PRÁCE spolu: | B26: =Prehlad!H142 -> 0 | C26: =Prehlad!I142 -> 0 | D26: =Prehlad!J142 -> 0 | E26: =Prehlad!L142 -> 0.03426432 | F26: =Prehlad!N142 -> 0 | G26: =Prehlad!W142 -> 55.822288
A27: PRÁCE A DODÁVKY PSV spolu: | B27: =Prehlad!H143 -> 0 | C27: =Prehlad!I143 -> 0 | D27: =Prehlad!J143 -> 0 | E27: =Prehlad!L143 -> 8.0151915 | F27: =Prehlad!N143 -> 0.504 | G27: =Prehlad!W143 -> 349.83112
A28: Rozpočet celkom: | B28: =Prehlad!H144 -> 0 | C28: =Prehlad!I144 -> 0 | D28: =Prehlad!J144 -> 0 | E28: =Prehlad!L144 -> 121.5987 | F28: =Prehlad!N144 -> 0.783 | G28: =Prehlad!W144 -> 596.3795

Sheet Kryci list
H1: =CONCATENATE(AA2," ",AB2," ",AC2," ",AD2) -> Krycí list rozpočtu v EUR | Z1: V module | AA1: Hlavička1 | AB1: Mena | AC1: Hlavička2 | AD1: Obdobie
B2: Stavba : Prístavba k liehovaru na destiláty a na pestovateľské pálenie ovocia - Bodza | G2: Miesto: | J2: Rozpočet: | Z2: Rozpočet | AA2: Krycí list rozpočtu v | AB2: EUR
G3: JKSO : | J3: Spracoval: | Z3: Čerpanie | AA3: Krycí list splátky v | AB3: EUR | AC3: za obdobie | AD3: Mesiac 2011
J4: Dňa: | L4: Zmluva č.: | Z4: VK | AA4: Krycí list výrobnej kalkulácie v | AB4: EUR
B5: Odberateľ: | D5: LAKLA s.r.o. | J5: IČO: | L5: DIČ: | Z5: VF | AA5: Krycí list splátky v | AB5: EUR | AC5: za obdobie | AD5: Mesiac 2011
B6: Dodávateľ: | J6: IČO: | L6: DIČ:
B7: Projektant: | J7: IČO: | L7: DIČ:
F8: =IF(B8<>0,ROUND($M$26/B8,0),0) -> 0 | I8: =IF(G8<>0,ROUND($M$26/G8,0),0) -> 0 | M8: =IF(J8<>0,ROUND($M$26/J8,0),0) -> 0
F9: =IF(B9<>0,ROUND($M$26/B9,0),0) -> 0 | I9: =IF(G9<>0,ROUND($M$26/G9,0),0) -> 0 | M9: =IF(J9<>0,ROUND($M$26/J9,0),0) -> 0
B10: A | C10: ZRN | D10: Konštrukcie | E10: Špecifikovaný materiál | F10: Spolu ZRN | G10: B | H10: IN - Individuálne náklady | J10: C | K10: NUS - náklady umiestnenia stavby
B11: 1 | C11: HSV: | D11: =Prehlad!H84 -> 0 | E11: =Prehlad!I84 -> 0 | F11: =D11+E11 -> 0 | G11: 6 | H11: Práce nadčas | I11: 0 | J11: 11 | K11: Zariadenie staveniska | L11: 0 | M11: 0
B12: 2 | C12: PSV: | D12: =Prehlad!H143 -> 0 | E12: =Prehlad!I143 -> 0 | F12: =D12+E12 -> 0 | G12: 7 | H12: Murárske výpomoce | I12: 0 | J12: 12 | K12: Prevádzkové vplyvy | L12: 0 | M12: 0
B13: 3 | C13: MCE: | D13: 0 | E13: 0 | F13: =D13+E13 -> 0 | G13: 8 | H13: Bez pevnej podlahy | I13: 0 | J13: 13 | K13: Sťažené podmienky | L13: 0 | M13: 0
B14: 4 | C14: Iné: | D14: 0 | E14: 0 | F14: =D14+E14 -> 0 | G14: 9 | I14: 0 | J14: 14 | L14: 0 | M14: 0
B15: 5 | C15: Súčet: | D15: =SUM(D11:D14) -> 0 | E15: =SUM(E11:E14) -> 0 | F15: =SUM(F11:F14) -> 0 | G15: 10 | H15: Súčet riadkov 6 až 9: | I15: =SUM(I11:I14) -> 0 | J15: 15 | L15: Súčet riadkov 11 až 14: | M15: =SUM(M11:M14) -> 0
B16: projektant, rozpočtár, cenár | G16: dodávateľ, zhotoviteľ | J16: D | K16: ON - ostatné náklady
C17: dátum: | E17: podpis: | J17: 16 | K17: Ostatné náklady uvedené v rozpočte | M17: 0
C18: pečiatka: | H18: dátum: | J18: 17 | K18: Inžinierska činnosť | M18: 0
J19: 18 | K19: Projektové práce | M19: 0
H20: podpis: | J20: 19 | M20: 0
H21: pečiatka: | J21: 20 | L21: Súčet riadkov 16 až 19: | M21: =SUM(M17:M20) -> 0
B22: odberateľ, obstarávateľ | J22: E | K22: Celkové náklady
C23: dátum: | E23: podpis: | J23: 21 | L23: Súčet riadkov 5, 10, 15 a 20: | M23: =ROUND(F15,2)+I15+M15+M21 -> 0
C24: pečiatka: | J24: 22 | K24: DPH 20% z: | L24: =M23-L25 -> 0 | M24: =ROUND((L24*20)/100,2) -> 0
J25: 23 | K25: DPH 0% z: | L25: =SUMIF(Prehlad!O11:O9999,0,Prehlad!J11:J9999) -> 0 | M25: =ROUND((L25*0)/100,1) -> 0
J26: 24 | L26: Súčet riadkov 21 až 23: | M26: =M23+M24+M25 -> 0
J27: F | K27: Odpočet - prípočet | M27: 0
