Workbook
Name fakt1R: #REF!

Sheet Prehlad
A1: Odberateľ: LAKLA s.r.o. | I1: Spracoval: | Z1: V module | AA1: Hlavička1 | AB1: Mena | AC1: Hlavička2 | AD1: Obdobie | AE1: Počet des.miest | AF1: Formát
A2: Projektant: | I2: JKSO : | Z2: Rozpočet | AA2: Prehľad rozpočtových nákladov v | AB2: EUR | AE2: 1 | AF2: 123.5
A3: Dodávateľ: | I3: Dátum: | Z3: Čerpanie | AA3: Súpis vykonaných prác a dodávok v | AB3: EUR | AC3: za obdobie | AD3: Mesiac 2011 | AE3: 2 | AF3: 123.46
Z4: VK | AA4: Prehľad kalkulovaných nákladov v | AB4: EUR | AE4: 3 | AF4: 123.457
A5: Stavba : Prístavba k liehovaru na destiláty a na pestovateľské pálenie ovocia - Bodza | Z5: VF | AA5: Súpis vykonaných prác a dodávok v | AB5: EUR | AC5: za obdobie | AD5: Mesiac 2011 | AE5: 4 | AF5: 123.4567
AE6: N | AF6: 123.46
D8: =CONCATENATE(AA2," ",AB2," ",AC2," ",AD2) -> Prehľad rozpočtových nákladov v EUR
A9: Por. | B9: Kód | C9: Kód položky | D9: Popis položky, stavebného dielu, remesla, | E9: Množstvo | F9: Merná | G9: Jednotková | H9: Konštrukcie | I9: Špecifikovaný | J9: Spolu | K9: Hmotnosť v tonách | M9: Suť v tonách | O9: DPH | P9: Pozícia | Q9: Množstvo | R9: Množstvo | S9: Množstvo | T9: Vyňatý | U9: Vysoká sadzba | V9: Typ | W9: Nh | X9: Kód položky | Y9: Kód položky | Z9: Klasifikácia | AA9: Katalógové | AB9: Typ | AC9: AC | AD9: AD | AE9: Jedn. cena | AF9: Index JC | AG9: Množstvo | AH9: Index mn. | AJ9: Zaradenie | AK9: Lev0
A10: číslo | B10: cen. | D10: výkaz-výmer | E10: výmera | F10: jednotka | G10: cena | I10: materiál | K10: Jednotková | L10: Spolu | M10: Jednotková | N10: Spolu | O10: % | Q10: rozpočtované | R10: od začiatku | S10: dodatok | T10: z režimu stavba | U10: DPH ( materiál ) | V10: položky | X10: pre tlač | Z10: produkcie | AA10: číslo | AB10: ceny | AJ10: pre KL | AK10: pozícia
D12: PRÁCE A DODÁVKY HSV
D13: 1 - ZEMNE PRÁCE
A14: 1 | B14: 272 | C14: 131201101 | D14: Hĺbenie jám nezapaž. v horn. tr. 3 do 100 m3 | E14: 27.914 | F14: m3 | H14: =G14*E14 -> 0 | J14: =I14+H14 -> 0 | O14: 20 | P14: E1 | V14: E | W14: 16.05055 | X14: 13120-1101 | Y14: 131201101 | Z14: 45.11.21 | AB14: 1 | AJ14: EK | AK14: S
D15: 0,35*0,5*(6,05+4,99+16,3) = 4,785 | V15: a
D16: 0,45*10,3*4,99 = 23,129 | V16: a
A17: 2 | B17: 272 | C17: 131201109 | D17: Príplatok za lepivosť v horn. tr. 3 | E17: 13.957 | F17: m3 | H17: =G17*E17 -> 0 | J17: =I17+H17 -> 0 | O17: 20 | P17: E1 | V17: E | W17: 0.55828 | X17: 13120-1109 | Y17: 131201109 | Z17: 45.11.21 | AB17: 1 | AJ17: EK | AK17: S
A18: 3 | B18: 272 | C18: 132201101 | D18: Hĺbenie rýh šírka do 60 cm v horn. tr. 3 do 100 m3 | E18: 4.301 | F18: m3 | H18: =G18*E18 -> 0 | J18: =I18+H18 -> 0 | O18: 20 | P18: E1 | V18: E | W18: 8.447164 | X18: 13220-1101 | Y18: 132201101 | Z18: 45.11.21 | AB18: 1 | AJ18: EK | AK18: S
D19: 0,4*0,8*(0,35+1,5*2+2,59+1,5*5) = 4,301 | V19: a
A20: 4 | B20: 272 | C20: 132201109 | D20: Príplatok za lepivosť horniny tr. 3 v rýhach š. do 60 cm | E20: 2.151 | F20: m3 | H20: =G20*E20 -> 0 | J20: =I20+H20 -> 0 | O20: 20 | P20: E1 | V20: E | W20: 0.591525 | X20: 13220-1109 | Y20: 132201109 | Z20: 45.11.21 | AB20: 1 | AJ20: EK | AK20: S
A21: 5 | B21: 272 | C21: 133201101 | D21: Hĺbenie šachiet v horn. tr. 3 do 100 m3 | E21: 13 | F21: m3 | H21: =G21*E21 -> 0 | J21: =I21+H21 -> 0 | O21: 20 | P21: E1 | V21: E | W21: 40.534 | X21: 13320-1101 | Y21: 133201101 | Z21: 45.11.21 | AB21: 1 | AJ21: EK | AK21: S
D22: 1*1*13 = 13,000 | V22: a
A23: 6 | B23: 272 | C23: 133201109 | D23: Príplatok za lepivosť horniny tr.3 | E23: 6.5 | F23: m3 | H23: =G23*E23 -> 0 | J23: =I23+H23 -> 0 | O23: 20 | P23: E1 | V23: E | W23: 1.6185 | X23: 13320-1109 | Y23: 133201109 | Z23: 45.11.21 | AB23: 1 | AJ23: EK | AK23: S
A24: 7 | B24: 272 | C24: 162701105 | D24: Vodorovné premiestnenie výkopu do 10000 m horn. tr. 1-4 | E24: 38.008 | F24: m3 | H24: =G24*E24 -> 0 | J24: =I24+H24 -> 0 | O24: 20 | P24: E1 | V24: E | W24: 0.418088 | X24: 16270-1105 | Y24: 162701105 | Z24: 45.11.24 | AB24: 1 | AJ24: EK | AK24: S
D25: 13-7,207+4,301+27,914 = 38,008 | V25: a
A26: 8 | B26: 253 | C26: 1712041110 | D26: Uloženie sypaniny bez zhut. na skl.-poplatok | E26: 38.008 | F26: m3 | H26: =G26*E26 -> 0 | J26: =I26+H26 -> 0 | O26: 20 | P26: E1 | V26: E | W26: 1.482312 | X26: 17120-41110 | Y26: 1712041110 | Z26: 45.21.22 | AB26: 7 | AJ26: EK | AK26: S
A27: 9 | B27: 001 | C27: 174101001 | D27: Zásyp zhutnený jám, šachiet, rýh, zárezov alebo okolo objektov do 100 m3 | E27: 5.8 | F27: m3 | H27: =G27*E27 -> 0 | J27: =I27+H27 -> 0 | O27: 20 | P27: E1 | V27: E | W27: 1.4036 | X27: 17410-1001 | Y27: 174101001 | Z27: 45.11.21 | AB27: 1 | AJ27: EK | AK27: S
D28: 13-7,2 = 5,800 | V28: a
A29: 10 | B29: 001 | C29: 175203101 | D29: Prisypanie tesniacej fólie alebo geotext. bez zhut. v rovine | E29: 11.2 | F29: m3 | H29: =G29*E29 -> 0 | J29: =I29+H29 -> 0 | O29: 20 | P29: E1 | V29: E | W29: 0.2912 | X29: 17520-3101 | Y29: 175203101 | Z29: 45.24.14 | AB29: 1 | AJ29: EK | AK29: S
D30: 0,5*(6,55+4,99+16,8)*0,2 = 2,834 | V30: a
D31: 4,85*5,75*0,3 = 8,366 | V31: a
A32: 11 | B32: MAT | C32: 693C00105 | D32: Geotextílie TYPAR SF 94 - 320 g/m2 - 2,60x100 m | E32: 75.975 | F32: m2 | I32: =G32*E32 -> 0 | J32: =I32+H32 -> 0 | O32: 20 | P32: E1 | V32: D | X32: 693C00105 | Y32: 693C00105 | Z32: 17.20.10 | AB32: 2 | AJ32: EZ | AK32: S
D33: 4,85*5,75*1,2+1,5*(6,55+4,99+16,8) = 75,975 | V33: a
D34: 1 - ZEMNE PRÁCE spolu: | E34: 2522.83 | H34: =SUM(H14:H33) -> 0 | I34: =SUM(I14:I33) -> 0 | J34: =I34+H34 -> 0 | W34: 71.395219
D35: 2 - ZÁKLADY
A36: 12 | B36: 011 | C36: 274313611 | D36: Základové pásy z betónu prostého tr. C16/20 | E36: 4.301 | F36: m3 | H36: =G36*E36 -> 0 | J36: =I36+H36 -> 0 | K36: 2.41931 | L36: 10.405452 | O36: 20 | P36: E2 | V36: E | W36: 1.961256 | X36: 27431-3611 | Y36: 274313611 | Z36: 45.25.32 | AB36: 1 | AJ36: EK | AK36: S
A37: 13 | B37: 011 | C37: 275321311 | D37: Základové pätky zo železobetónu tr. C16/20 | E37: 7.207 | F37: m3 | H37: =G37*E37 -> 0 | J37: =I37+H37 -> 0 | K37: 2.4186 | L37: 17.43085 | O37: 20 | P37: E2 | V37: E | W37: 3.31522 | X37: 27532-1311 | Y37: 275321311 | Z37: 45.25.32 | AB37: 1 | AJ37: EK | AK37: S
D38: 1*1*0,36*13+0,6*0,6*0,54*13 = 7,207 | V38: a
A39: 14 | B39: 011 | C39: 275351215 | D39: Debnenie základových pätiek zhotovenie | E39: 18.72 | F39: m2 | H39: =G39*E39 -> 0 | J39: =I39+H39 -> 0 | K39: 0.00223 | L39: 0.0417456 | O39: 20 | P39: E2 | V39: E | W39: 6.8328 | X39: 27535-1215 | Y39: 275351215 | Z39: 45.25.32 | AB39: 1 | AJ39: EK | AK39: S
D40: 2,4*0,6*13 = 18,720 | V40: a
A41: 15 | B41: 252 | C41: 275352119 | D41: Odstránenie debnenia základových pätiek a blokov | E41: 18.72 | F41: m2 | H41: =G41*E41 -> 0 | J41: =I41+H41 -> 0 | O41: 20 | P41: E2 | V41: E | W41: 3.31344 | X41: 27535-2119 | Y41: 275352119 | Z41: 45.25.32 | AB41: 1 | AJ41: EK | AK41: S
A42: 16 | B42: 011 | C42: 275361821 | D42: Výstuž základových pätiek BSt 500 (10505) | E42: 0.576 | F42: t | H42: =G42*E42 -> 0 | J42: =I42+H42 -> 0 | K42: 1.14997 | L42: 0.66238272 | O42: 20 | P42: E2 | V42: E | W42: 22.19328 | X42: 27536-1821 | Y42: 275361821 | Z42: 45.25.32 | AB42: 1 | AJ42: EK | AK42: S
D43: 2 - ZÁKLADY spolu: | E43: 2600.81 | H43: =SUM(H36:H42) -> 0 | I43: =SUM(I36:I42) -> 0 | J43: =I43+H43 -> 0 | L43: 28.540431 | W43: 37.615996
D44: 3 - ZVISLÉ A KOMPLETNÉ KONŠTRUKCIE
A45: 17 | B45: 014 | C45: 310239211 | D45: Zamurovanie otvoru do 4 m2 pálenými tehlami v murive akejkoľvek hr. na maltu MVC | E45: 1.8 | F45: m3 | H45: =G45*E45 -> 0 | J45: =I45+H45 -> 0 | K45: 1.77807 | L45: 3.200526 | O45: 20 | P45: E3 | V45: E | W45: 6.9156 | X45: 31023-9211 | Y45: 310239211 | Z45: 45.25.50 | AB45: 1 | AJ45: EK | AK45: S
D46: 0,4*1*1,5*3 = 1,800 | V46: a
D47: 3 - ZVISLÉ A KOMPLETNÉ KONŠTRUKCIE spolu: | E47: 535.39 | H47: =SUM(H45:H46) -> 0 | I47: =SUM(I45:I46) -> 0 | J47: =I47+H47 -> 0 | L47: 3.200526 | W47: 6.9156
D48: 5 - KOMUNIKÁCIE
A49: 18 | B49: 221 | C49: 564871112 | D49: Podklad zo štrkodrte hr. 300 mm | E49: 27.888 | F49: m2 | H49: =G49*E49 -> 0 | J49: =I49+H49 -> 0 | K49: 0.55986 | L49: 15.613376 | O49: 20 | P49: E5 | V49: E | W49: 0.83664 | X49: 56487-1112 | Y49: 564871112 | Z49: 45.23.11 | AB49: 1 | AJ49: EK | AK49: S
D50: 5,75*4,85 = 27,888 | V50: a
A51: 19 | B51: 221 | C51: 598621100 | D51: Montáž uzavretého žľabu BGF, BGU, BGF-Z, SV 100 do lôžka z betónu prostého tr.C 16/20 | E51: 15 | F51: m | H51: =G51*E51 -> 0 | J51: =I51+H51 -> 0 | K51: 0.05945 | L51: 0.89175 | O51: 20 | P51: E5 | V51: E | W51: 2.565 | X51: 59862-1100 | Y51: 598621100 | Z51: . . | AB51: 1 | AJ51: EK | AK51: S
A52: 20 | B52: MAT | C52: 5927A0601 | D52: Žľab univerzálny BGU-Z SV G NW 100, č.0, s liatinovou hranou, bez spádu | E52: 15 | F52: kus | I52: =G52*E52 -> 0 | J52: =I52+H52 -> 0 | K52: 0.037 | L52: 0.555 | O52: 20 | P52: E5 | V52: D | X52: 5927A0601 | Y52: 5927A0601 | Z52: 26.61.11 | AA52: 14500 | AB52: 2 | AJ52: EZ | AK52: S
A53: 21 | B53: MAT | C53: 5927A3212 | D53: Rošt liatinový NW 100, 500/140/40, SW 16/100 tr. D 400 kN (BG) | E53: 30 | F53: kus | I53: =G53*E53 -> 0 | J53: =I53+H53 -> 0 | K53: 0.0081 | L53: 0.243 | O53: 20 | P53: E5 | V53: D | X53: 5927A3212 | Y53: 5927A3212 | Z53: . . | AB53: 2 | AJ53: EZ | AK53: S
D54: 5 - KOMUNIKÁCIE spolu: | E54: 2292.62 | H54: =SUM(H49:H53) -> 0 | I54: =SUM(I49:I53) -> 0 | J54: =I54+H54 -> 0 | L54: 17.303126 | W54: 3.40164
D55: 6 - ÚPRAVY POVRCHOV, PODLAHY, VÝPLNE
A56: 22 | B56: 011 | C56: 612421637 | D56: Omietka vnút. stien vápenná štuková | E56: 9 | F56: m2 | H56: =G56*E56 -> 0 | J56: =I56+H56 -> 0 | K56: 0.05538 | L56: 0.49842 | O56: 20 | P56: E6 | V56: E | W56: 6.264 | X56: 61242-1637 | Y56: 612421637 | Z56: 45.41.10 | AB56: 1 | AJ56: EK | AK56: S
D57: 1*1,5*6 = 9,000 | V57: a
A58: 23 | B58: 011 | C58: 631315711 | D58: Mazanina z betónu prostého tr. C25/30 hr. 12-24 cm | E58: 21.726 | F58: m3 | H58: =G58*E58 -> 0 | J58: =I58+H58 -> 0 | K58: 2.45421 | L58: 53.320166 | O58: 20 | P58: E6 | V58: E | W58: 47.949282 | X58: 63131-5711 | Y58: 631315711 | Z58: 45.25.32 | AB58: 1 | AJ58: EK | AK58: S
D59: 0,125*4,99*16,3+0,138*5,75*4,85 = 14,016 | V59: a
D60: *podkladný mimo pov. plochy | V60: a
D61: 0,15*4,99*10,3 = 7,710 | V61: a
A62: 24 | B62: 011 | C62: 631318202 | D62: Úprava povrchu pancier. podláh cementovou zmesou hr. 5 mm stredné zaťaženie | E62: 65.037 | F62: m2 | H62: =G62*E62 -> 0 | J62: =I62+H62 -> 0 | K62: 0.00882 | L62: 0.57362634 | O62: 20 | P62: E6 | V62: E | W62: 17.690064 | X62: 63131-8202 | Y62: 631318202 | Z62: . . | AB62: 1 | AJ62: EK | AK62: S
A63: 25 | B63: 011 | C63: 631319111 | D63: Prípl. za vytvorenie odtokového žliabka v mazanine š./v. do 20/10 cm | E63: 15 | F63: m | H63: =G63*E63 -> 0 | J63: =I63+H63 -> 0 | O63: 20 | P63: E6 | V63: E | W63: 6.975 | X63: 63131-9111 | Y63: 631319111 | Z63: 45.25.32 | AB63: 1 | AJ63: EK | AK63: S
A64: 26 | B64: 011 | C64: 631319154 | D64: Príplatok k mazanine hr. do 120 mm za prehladenie s poprášením cementom | E64: 14.016 | F64: m3 | H64: =G64*E64 -> 0 | J64: =I64+H64 -> 0 | K64: 0.02 | L64: 0.28032 | O64: 20 | P64: E6 | V64: E | W64: 18.36096 | X64: 63131-9154 | Y64: 631319154 | Z64: . . | AB64: 1 | AJ64: EK | AK64: S
D65: 4,99*16,3*0,125+5,75*4,85*0,138 = 14,016 | V65: a
A66: 27 | B66: 011 | C66: 637121113 | D66: Odkvapový chodník z dekoračného kameniva hr. 200 mm so zhutnením | E66: 14.17 | F66: m2 | H66: =G66*E66 -> 0 | J66: =I66+H66 -> 0 | K66: 0.3674 | L66: 5.206058 | O66: 20 | P66: E6 | V66: E | W66: 4.12347 | X66: 63712-1113 | Y66: 637121113 | Z66: . . | AB66: 1 | AJ66: EK | AK66: S
D67: 0,5*(6,55+4,99+16,8) = 14,170 | V67: a
D68: 6 - ÚPRAVY POVRCHOV, PODLAHY, VÝPLNE spolu: | E68: 4749.49 | H68: =SUM(H56:H67) -> 0 | J68: =I68+H68 -> 0 | L68: 59.878591 | W68: 101.36278
D69: 9 - OSTATNÉ KONŠTRUKCIE A PRÁCE
A70: 28 | B70: 221 | C70: 916531111 | D70: Osadenie záhon. obrubníka betón. do lôžka z betónu tr. C 12/15 bez bočnej opory | E70: 40.34 | F70: m | H70: =G70*E70 -> 0 | J70: =I70+H70 -> 0 | K70: 0.08924 | L70: 3.5999416 | O70: 20 | P70: E9 | V70: E | W70: 4.2357 | X70: 91653-1111 | Y70: 916531111 | Z70: 45.23.12 | AB70: 1 | AJ70: EK | AK70: S
D71: 6,55+4,99+17,3+5,75*2 = 40,340 | V71: a
A72: 29 | B72: MAT | C72: 592173208 | D72: Obrubník záhonový 100x5x20 | E72: 40.743 | F72: kus | J72: =I72+H72 -> 0 | K72: 0.022 | L72: 0.896346 | O72: 20 | P72: E9 | V72: D | X72: 592173208 | Y72: 592173208 | Z72: 26.61.11 | AB72: 2 | AJ72: EZ | AK72: S
D73: 40,34*1,01 = 40,743 | V73: a
A74: 30 | B74: 003 | C74: 941955002 | D74: Lešenie ľahké prac. pomocné výš. podlahy do 1,9 m | E74: 96.33 | F74: m2 | H74: =G74*E74 -> 0 | J74: =I74+H74 -> 0 | K74: 0.00166 | L74: 0.1599078 | O74: 20 | P74: E9 | V74: E | W74: 17.82105 | X74: 94195-5002 | Y74: 941955002 | Z74: 45.25.10 | AB74: 1 | AJ74: EK | AK74: S
D75: 6+3,99*2+16,3+0,85+16,3*4 = 96,330 | V75: a
A76: 31 | B76: 013 | C76: 968062355 | D76: Vybúranie rámov okien drev. dvojitých alebo zdvoj. do 2 m2 | E76: 4.5 | F76: m2 | H76: =G76*E76 -> 0 | J76: =I76+H76 -> 0 | K76: 0.00103 | L76: 0.004635 | M76: 0.062 | N76: 0.279 | O76: 20 | P76: E9 | V76: E | W76: 2.466 | X76: 96806-2355 | Y76: 968062355 | Z76: 45.11.11 | AB76: 1 | AJ76: EK | AK76: S
D77: 1*1,5*3 = 4,500 | V77: a
A78: 32 | B78: 013 | C78: 979081111 | D78: Odvoz sute a vybúraných hmôt na skládku do 1 km | E78: 0.8 | F78: t | H78: =G78*E78 -> 0 | J78: =I78+H78 -> 0 | O78: 20 | P78: E9 | V78: E | W78: 0.4328 | X78: 97908-1111 | Y78: 979081111 | Z78: 45.11.11 | AB78: 1 | AJ78: EK | AK78: S
A79: 33 | B79: 013 | C79: 979081121 | D79: Odvoz sute a vybúraných hmôt na skládku každý ďalší 1 km | E79: 16 | F79: t | H79: =G79*E79 -> 0 | J79: =I79+H79 -> 0 | O79: 20 | P79: E9 | V79: E | X79: 97908-1121 | Y79: 979081121 | Z79: 45.11.11 | AB79: 1 | AJ79: EK | AK79: S
D80: 0,8*20 = 16,000 | V80: a
A81: 34 | B81: 013 | C81: 979082111 | D81: Vnútrostavenisková doprava sute a vybúraných hmôt do 10 m | E81: 0.8 | F81: t | H81: =G81*E81 -> 0 | J81: =I81+H81 -> 0 | O81: 20 | P81: E9 | V81: E | W81: 0.9016 | X81: 97908-2111 | Y81: 979082111 | Z81: 45.11.11 | AB81: 1 | AJ81: EK | AK81: S
A82: 35 | B82: 013 | C82: 979131409 | D82: Poplatok za ulož.a znešk.staveb.sute na vymedzených skládkach "O"-ostatný odpad | E82: 0.8 | F82: t | H82: =G82*E82 -> 0 | J82: =I82+H82 -> 0 | O82: 20 | P82: E9 | V82: E | X82: 97913-1409 | Y82: 979131409 | Z82: 45.11.11 | AB82: 1 | AJ82: EK | AK82: S
D83: 9 - OSTATNÉ KONŠTRUKCIE A PRÁCE spolu: | E83: 928.73 | H83: =SUM(H70:H82) -> 0 | I83: =SUM(I70:I82) -> 0 | J83: =I83+H83 -> 0 | L83: 4.6608304 | N83: 0.279 | W83: 25.85715
D84: PRÁCE A DODÁVKY HSV spolu: | E84: 13629.87 | H84: =H83+H68+H54+H47+H34+H43 -> 0 | I84: =I83+I68+I54+I47+I34+I43 -> 0 | J84: =I84+H84 -> 0 | L84: 113.5835 | N84: 0.279 | W84: 246.54838
D85: PRÁCE A DODÁVKY PSV
D86: 71 - IZOLÁCIE
D87: 711 - Izolácie proti vode a vlhkosti
A88: 36 | B88: 711 | C88: 711111001 | D88: Zhotovenie izolácie proti vlhkosti za studena vodor. náterom asfalt. penetr. | E88: 81.337 | F88: m2 | H88: =G88*E88 -> 0 | J88: =I88+H88 -> 0 | O88: 20 | P88: I71 1 | V88: I | W88: 1.382729 | X88: 71111-1001 | Y88: 711111001 | Z88: 45.22.20 | AB88: 1 | AJ88: IK | AK88: S
D89: 16,3*4,99 = 81,337 | V89: a
A90: 37 | B90: MAT | C90: 111631500 | D90: Lak asfaltový ALP-PENETRAL sudy | E90: 0.024 | F90: t | I90: =G90*E90 -> 0 | J90: =I90+H90 -> 0 | K90: 1 | L90: 0.024 | O90: 20 | P90: I71 1 | V90: D | X90: 111631500 | Y90: 111631500 | Z90: 26.82.13 | AB90: 2 | AJ90: IZ | AK90: S
A91: 38 | B91: 711 | C91: 711141559 | D91: Zhotovenie izolácie proti vlhkosti pritavením NAIP vodor. | E91: 81.337 | F91: m2 | H91: =G91*E91 -> 0 | J91: =I91+H91 -> 0 | K91: 0.0004 | L91: 0.0325348 | O91: 20 | P91: I71 1 | V91: I | W91: 11.38718 | X91: 71114-1559 | Y91: 711141559 | Z91: 45.22.20 | AB91: 1 | AJ91: IK | AK91: S
A92: 39 | B92: MAT | C92: 628329200 | D92: Pás ťažký asfaltový ELASTOBIT PR S 40 | E92: 93.538 | F92: m2 | I92: =G92*E92 -> 0 | J92: =I92+H92 -> 0 | K92: 0.00485 | L92: 0.4536593 | O92: 20 | P92: I71 1 | V92: D | X92: 628329200 | Y92: 628329200 | Z92: 21.12.56 | AB92: 2 | AJ92: IZ | AK92: S
D93: 711 - Izolácie proti vode a vlhkosti spolu: | E93: 992.56 | H93: =SUM(H88:H92) -> 0 | I93: =SUM(I88:I92) -> 0 | J93: =I93+H93 -> 0 | L93: 0.5101941 | W93: 12.769909
D94: 713 - Izolácie tepelné
A95: 40 | B95: 713 | C95: 713131141 | D95: Montáž tep. izol. stien a základov lepením celopl. rohoží, pásov dielcov, dosiek | E95: 12.774 | F95: m2 | H95: =G95*E95 -> 0 | J95: =I95+H95 -> 0 | K95: 0.00983 | L95: 0.12556842 | O95: 20 | P95: I71 3 | V95: I | W95: 2.695314 | X95: 71313-1141 | Y95: 713131141 | Z95: 45.32.11 | AB95: 1 | AJ95: IK | AK95: S
D96: 0,3*(4,99*2+16,3*2) = 12,774 | V96: a
D97: 713 - Izolácie tepelné spolu: | E97: 83.29 | H97: =SUM(H95:H96) -> 0 | J97: =I97+H97 -> 0 | L97: 0.12556842 | W97: 2.695314
D98: 71 - IZOLÁCIE spolu: | E98: 1075.85 | H98: =H97+H93 -> 0 | I98: =I97+I93 -> 0 | J98: =I98+H98 -> 0 | L98: 0.63576252 | W98: 15.465223
D99: 76 - KONŠTRUKCIE
D100: 764 - Konštrukcie klampiarske
A101: 41 | B101: 764 | C101: 764751112 | D101: LINDAB rúry odkvapové SROR d 100 mm | E101: 10.2 | F101: m | H101: =G101*E101 -> 0 | J101: =I101+H101 -> 0 | K101: 0.00172 | L101: 0.017544 | O101: 20 | P101: I76 4 | V101: I | W101: 2.5092 | X101: 76475-1112 | Y101: 764751112 | Z101: 45.22.13 | AB101: 1 | AJ101: IK | AK101: S
D102: 3*3,4 = 10,200 | V102: a
...

Sheet Figury
A1: Odberateľ: LAKLA s.r.o. | D1: Spracoval:
A2: Projektant: | D2: JKSO :
A3: Dodávateľ: | D3: Dátum:
A5: Stavba : Prístavba k liehovaru na destiláty a na pestovateľské pálenie ovocia - Bodza
A9: Názov figúry | B9: Popis figúry | C9: Aritmetický výraz | D9: Hodnota | F9: Figura

Sheet Rekapitulacia
A1: Odberateľ: LAKLA s.r.o. | E1: Spracoval: | Z1: V module | AA1: Hlavička1 | AB1: Mena | AC1: Hlavička2 | AD1: Obdobie
A2: Projektant: | E2: JKSO : | Z2: Rozpočet | AA2: Rekapitulácia rozpočtu v | AB2: EUR
A3: Dodávateľ: | E3: Dátum: | Z3: Čerpanie | AA3: Rekapitulácia splátky v | AB3: EUR | AC3: za obdobie | AD3: Mesiac 2011
Z4: VK | AA4: Rekapitulácia výrobnej kalkulácie v | AB4: EUR
A5: Stavba : Prístavba k liehovaru na destiláty a na pestovateľské pálenie ovocia - Bodza | Z5: VF | AA5: Rekapitulácia splátky v | AB5: EUR | AC5: za obdobie | AD5: Mesiac 2011
B8: =CONCATENATE(AA2," ",AB2," ",AC2," ",AD2) -> Rekapitulácia rozpočtu v EUR
A9: Popis položky, stavebného dielu, remesla | B9: Konštrukcie | C9: Špecifikovaný | D9: Spolu | E9: Hmotnosť v tonách | F9: Suť v tonách | G9: Nh
C10: materiál | E10: Spolu | F10: Spolu | G10: Spolu
A12: 1 - ZEMNE PRÁCE spolu: | B12: =Prehlad!H34 -> 0 | C12: =Prehlad!I34 -> 0 | D12: =Prehlad!J34 -> 0 | E12: =Prehlad!L34 -> 0 | F12: =Prehlad!N34 -> 0 | G12: =Prehlad!W34 -> 71.395219
A13: 2 - ZÁKLADY spolu: | B13: =Prehlad!H43 -> 0 | C13: =Prehlad!I43 -> 0 | D13: =Prehlad!J43 -> 0 | E13: =Prehlad!L43 -> 28.540431 | F13: =Prehlad!N43 -> 0 | G13: =Prehlad!W43 -> 37.615996
A14: 3 - ZVISLÉ A KOMPLETNÉ KONŠTRUKCIE spolu: | B14: =Prehlad!H47 -> 0 | C14: =Prehlad!I47 -> 0 | D14: =Prehlad!J47 -> 0 | E14: =Prehlad!L47 -> 3.200526 | F14: =Prehlad!N47 -> 0 | G14: =Prehlad!W47 -> 6.9156
A15: 5 - KOMUNIKÁCIE spolu: | B15: =Prehlad!H54 -> 0 | C15: =Prehlad!I54 -> 0 | D15: =Prehlad!J54 -> 0 | E15: =Prehlad!L54 -> 17.303126 | F15: =Prehlad!N54 -> 0 | G15: =Prehlad!W54 -> 3.40164
A16: 6 - ÚPRAVY POVRCHOV, PODLAHY, VÝPLNE spolu: | B16: =Prehlad!H68 -> 0 | C16: =Prehlad!I68 -> 0 | D16: =Prehlad!J68 -> 0 | E16: =Prehlad!L68 -> 59.878591 | F16: =Prehlad!N68 -> 0 | G16: =Prehlad!W68 -> 101.36278
A17: 9 - OSTATNÉ KONŠTRUKCIE A PRÁCE spolu: | B17: =Prehlad!H83 -> 0 | C17: =Prehlad!I83 -> 0 | D17: =Prehlad!J83 -> 0 | E17: =Prehlad!L83 -> 4.6608304 | F17: =Prehlad!N83 -> 0.279 | G17: =Prehlad!W83 -> 25.85715
A18: PRÁCE A DODÁVKY HSV spolu: | B18: =Prehlad!H84 -> 0 | C18: =Prehlad!I84 -> 0 | D18: =Prehlad!J84 -> 0 | E18: =Prehlad!L84 -> 113.5835 | F18: =Prehlad!N84 -> 0.279 | G18: =Prehlad!W84 -> 246.54838
A19: 711 - Izolácie proti vode a vlhkosti spolu: | B19: =Prehlad!H93 -> 0 | C19: =Prehlad!I93 -> 0 | D19: =Prehlad!J93 -> 0 | E19: =Prehlad!L93 -> 0.5101941 | F19: =Prehlad!N93 -> 0 | G19: =Prehlad!W93 -> 12.769909
A20: 713 - Izolácie tepelné spolu: | B20: =Prehlad!H97 -> 0 | C20: =Prehlad!I97 -> 0 | D20: =Prehlad!J97 -> 0 | E20: =Prehlad!L97 -> 0.12556842 | F20: =Prehlad!N97 -> 0 | G20: =Prehlad!W97 -> 2.695314
A21: 71 - IZOLÁCIE spolu: | B21: =Prehlad!H98 -> 0 | C21: =Prehlad!I98 -> 0 | D21: =Prehlad!J98 -> 0 | E21: =Prehlad!L98 -> 0.63576252 | F21: =Prehlad!N98 -> 0 | G21: =Prehlad!W98 -> 15.465223
A22: 764 - Konštrukcie klampiarske spolu: | B22: =Prehlad!H105 -> 0 | C22: =Prehlad!I105 -> 0 | D22: =Prehlad!J105 -> 0 | E22: =Prehlad!L105 -> 0.040852 | F22: =Prehlad!N105 -> 0 | G22: =Prehlad!W105 -> 6.0329
A23: 767 - Konštrukcie doplnk. kovové stavebné spolu: | B23: =Prehlad!H134 -> 0 | C23: =Prehlad!I134 -> 0 | D23: =Prehlad!J134 -> 0 | E23: =Prehlad!L134 -> 7.3043126 | F23: =Prehlad!N134 -> 0.504 | G23: =Prehlad!W134 -> 272.51071
A24: 76 - KONŠTRUKCIE spolu: | B24: =Prehlad!H135 -> 0 | C24: =Prehlad!I135 -> 0 | D24: =Prehlad!J135 -> 0 | E24: =Prehlad!L135 -> 7.3451646 | F24: =Prehlad!N135 -> 0.504 | G24: =Prehlad!W135 -> 278.54361
A25: 783 - Nátery spolu: | B25: =Prehlad!H141 -> 0 | C25: =Prehlad!I141 -> 0 | D25: =Prehlad!J141 -> 0 | E25: =Prehlad!L141 -> 0.03426432 | F25: =Prehlad!N141 -> 0 | G25: =Prehlad!W141 -> 55.822288
A26: 78 - DOKONČOVACIE PRÁCE spolu: | B26: =Prehlad!H142 -> 0 | C26: =Prehlad!I142 -> 0 | D26: =Prehlad!J142 -> 0 | E26: =Prehlad!L142 -> 0.03426432 | F26: =Prehlad!N142 -> 0 | G26: =Prehlad!W142 -> 55.822288
A27: PRÁCE A DODÁVKY PSV spolu: | B27: =Prehlad!H143 -> 0 | C27: =Prehlad!I143 -> 0 | D27: =Prehlad!J143 -> 0 | E27: =Prehlad!L143 -> 8.0151915 | F27: =Prehlad!N143 -> 0.504 | G27: =Prehlad!W143 -> 349.83112
A28: Rozpočet celkom: | B28: =Prehlad!H144 -> 0 | C28: =Prehlad!I144 -> 0 | D28: =Prehlad!J144 -> 0 | E28: =Prehlad!L144 -> 121.5987 | F28: =Prehlad!N144 -> 0.783 | G28: =Prehlad!W144 -> 596.3795

Sheet Kryci list
H1: =CONCATENATE(AA2," ",AB2," ",AC2," ",AD2) -> Krycí list rozpočtu v EUR | Z1: V module | AA1: Hlavička1 | AB1: Mena | AC1: Hlavička2 | AD1: Obdobie
B2: Stavba : Prístavba k liehovaru na destiláty a na pestovateľské pálenie ovocia - Bodza | G2: Miesto: | J2: Rozpočet: | Z2: Rozpočet | AA2: Krycí list rozpočtu v | AB2: EUR
G3: JKSO : | J3: Spracoval: | Z3: Čerpanie | AA3: Krycí list splátky v | AB3: EUR | AC3: za obdobie | AD3: Mesiac 2011
J4: Dňa: | L4: Zmluva č.: | Z4: VK | AA4: Krycí list výrobnej kalkulácie v | AB4: EUR
B5: Odberateľ: | D5: LAKLA s.r.o. | J5: IČO: | L5: DIČ: | Z5: VF | AA5: Krycí list splátky v | AB5: EUR | AC5: za obdobie | AD5: Mesiac 2011
B6: Dodávateľ: | J6: IČO: | L6: DIČ:
B7: Projektant: | J7: IČO: | L7: DIČ:
F8: =IF(B8<>0,ROUND($M$26/B8,0),0) -> 0 | I8: =IF(G8<>0,ROUND($M$26/G8,0),0) -> 0 | M8: =IF(J8<>0,ROUND($M$26/J8,0),0) -> 0
F9: =IF(B9<>0,ROUND($M$26/B9,0),0) -> 0 | I9: =IF(G9<>0,ROUND($M$26/G9,0),0) -> 0 | M9: =IF(J9<>0,ROUND($M$26/J9,0),0) -> 0
B10: A | C10: ZRN | D10: Konštrukcie | E10: Špecifikovaný materiál | F10: Spolu ZRN | G10: B | H10: IN - Individuálne náklady | J10: C | K10: NUS - náklady umiestnenia stavby
B11: 1 | C11: HSV: | D11: =Prehlad!H84 -> 0 | E11: =Prehlad!I84 -> 0 | F11: =D11+E11 -> 0 | G11: 6 | H11: Práce nadčas | I11: 0 | J11: 11 | K11: Zariadenie staveniska | L11: 0 | M11: 0
B12: 2 | C12: PSV: | D12: =Prehlad!H143 -> 0 | E12: =Prehlad!I143 -> 0 | F12: =D12+E12 -> 0 | G12: 7 | H12: Murárske výpomoce | I12: 0 | J12: 12 | K12: Prevádzkové vplyvy | L12: 0 | M12: 0
B13: 3 | C13: MCE: | D13: 0 | E13: 0 | F13: =D13+E13 -> 0 | G13: 8 | H13: Bez pevnej podlahy | I13: 0 | J13: 13 | K13: Sťažené podmienky | L13: 0 | M13: 0
B14: 4 | C14: Iné: | D14: 0 | E14: 0 | F14: =D14+E14 -> 0 | G14: 9 | I14: 0 | J14: 14 | L14: 0 | M14: 0
B15: 5 | C15: Súčet: | D15: =SUM(D11:D14) -> 0 | E15: =SUM(E11:E14) -> 0 | F15: =SUM(F11:F14) -> 0 | G15: 10 | H15: Súčet riadkov 6 až 9: | I15: =SUM(I11:I14) -> 0 | J15: 15 | L15: Súčet riadkov 11 až 14: | M15: =SUM(M11:M14) -> 0
B16: projektant, rozpočtár, cenár | G16: dodávateľ, zhotoviteľ | J16: D | K16: ON - ostatné náklady
C17: dátum: | E17: podpis: | J17: 16 | K17: Ostatné náklady uvedené v rozpočte | M17: 0
C18: pečiatka: | H18: dátum: | J18: 17 | K18: Inžinierska činnosť | M18: 0
J19: 18 | K19: Projektové práce | M19: 0
H20: podpis: | J20: 19 | M20: 0
H21: pečiatka: | J21: 20 | L21: Súčet riadkov 16 až 19: | M21: =SUM(M17:M20) -> 0
B22: odberateľ, obstarávateľ | J22: E | K22: Celkové náklady
C23: dátum: | E23: podpis: | J23: 21 | L23: Súčet riadkov 5, 10, 15 a 20: | M23: =ROUND(F15,2)+I15+M15+M21 -> 0
C24: pečiatka: | J24: 22 | K24: DPH 20% z: | L24: =M23-L25 -> 0 | M24: =ROUND((L24*20)/100,2) -> 0
J25: 23 | K25: DPH 0% z: | L25: =SUMIF(Prehlad!O11:O9999,0,Prehlad!J11:J9999) -> 0 | M25: =ROUND((L25*0)/100,1) -> 0
J26: 24 | L26: Súčet riadkov 21 až 23: | M26: =M23+M24+M25 -> 0
J27: F | K27: Odpočet - prípočet | M27: 0
