Workbook

Sheet Rekapitulácia stavby
A1: Export Komplet | BA1: 2.0 | BT1: False | BU1: False | BV1: {1554c3bd-ffe7-4a2c-8a62-e4e1d30a7447}
AR2: >> skryté stĺpce << | BS2: 0,01 | BT2: 20
BS3: 0,01 | BT3: 20
D4: REKAPITULÁCIA STAVBY | AS4: v --- nižšie sa nachádzajú doplnkové a pomocné údaje k zostavám --- v | BS4: 0,001
D5: Kód: | K5: 99-14 | BS5: 0,01
D6: Stavba: | K6: Stavebné úpravy oblúkovej haly na voľné ustajnenie HD, č. 606/4, okr. Snina | BS6: 0,01
D7: JKSO: | AK7: KS: | BS7: 0,01
D8: Miesto: | AK8: Dátum: | AN8: 45236 | BS8: 0,01
BS9: 0,01
D10: Objednávateľ: | AK10: IČO: | AN10: 36 469 076 | BS10: 0,01
E11: JRD Pichne s.r.o., Námestie slobody 2, Humenné 066 01 | AK11: IČ DPH: | AN11: SK202 002 2719 | BS11: 0,01
BS12: 0,01
D13: Zhotoviteľ: | AK13: IČO: | BS13: 0,01
AK14: IČ DPH: | BS14: 0,01
BS15: False
D16: Projektant: | AK16: IČO: | BS16: False
E17: Argo-PK, Projekčná kancelária, Strojárska 3998, Snina | AK17: IČ DPH: | BS17: True
BS18: 0,01
D19: Spracovateľ: | AK19: IČO: | BS19: 0,01
AK20: IČ DPH: | BS20: True
D22: Poznámka:
D26: Cena bez DPH | AK26: =ROUND(AG94,2) -> 0
L28: Sadzba dane | W28: Základ dane | AK28: Výška dane
D29: DPH | F29: základná | L29: 0.2 | W29: =ROUND(AZ94, 2) -> 0 | AK29: =ROUND(AV94, 2) -> 0
F30: znížená | L30: 0.2 | W30: =ROUND(BA94, 2) -> 0 | AK30: =ROUND(AW94, 2) -> 0
F31: zákl. prenesená | L31: 0.2 | W31: =ROUND(BB94, 2) -> 0 | AK31: 0
F32: zníž. prenesená | L32: 0.2 | W32: =ROUND(BC94, 2) -> 0 | AK32: 0
F33: nulová | L33: 0 | W33: =ROUND(BD94, 2) -> 0 | AK33: 0
D35: Cena s DPH | T35: v | X35: EUR | AK35: =SUM(AK26:AK33) -> 0
D49: Projektant | AH49: Spracovateľ
D60: Dátum a podpis: | V60: Pečiatka | AH60: Dátum a podpis: | AM60: Pečiatka
D64: Objednávateľ | AH64: Zhotoviteľ
D75: Dátum a podpis: | V75: Pečiatka | AH75: Dátum a podpis: | AM75: Pečiatka
C82: REKAPITULÁCIA OBJEKTOV STAVBY
C84: Kód: | L84: =K5 -> 99-14
C85: Stavba: | L85: =K6 -> Stavebné úpravy oblúkovej haly na voľné ustajnenie HD, č. 606/4, okr. Snina
C87: Miesto: | L87: =IF(K8="","",K8) | AI87: Dátum: | AM87: =IF(AN8= "","",AN8) -> 45236
C89: Objednávateľ: | L89: =IF(E11= "","",E11) -> JRD Pichne s.r.o., Námestie slobody 2, Humenné 066 01 | AI89: Projektant: | AM89: =IF(E17="","",E17) -> Argo-PK, Projekčná kancelária, Strojárska 3998, Snina | AS89: Informatívne údaje z listov zákaziek
C90: Zhotoviteľ: | L90: =IF(E14="","",E14) | AI90: Spracovateľ: | AM90: =IF(E20="","",E20)
C92: Kód | I92: Popis | AG92: Cena bez DPH [EUR] | AN92: Cena s DPH [EUR] | AQ92: Typ | AS92: z toho Ostat._x000D_ náklady [EUR] | AT92: DPH [EUR] | AU92: Normohodiny [h] | AV92: DPH základná [EUR] | AW92: DPH znížená [EUR] | AX92: DPH základná prenesená_x000D_ [EUR] | AY92: DPH znížená prenesená_x000D_ [EUR] | AZ92: Základňa_x000D_ DPH základná | BA92: Základňa_x000D_ DPH znížená | BB92: Základňa_x000D_ DPH zákl. prenesená | BC92: Základňa_x000D_ DPH zníž. prenesená | BD92: Základňa_x000D_ DPH nulová
C94: Náklady z rozpočtov | AG94: =ROUND(SUM(AG95:AG98),2) -> 0 | AN94: =SUM(AG94,AT94) -> 0 | AS94: =ROUND(SUM(AS95:AS98),2) -> 0 | AT94: =ROUND(SUM(AV94:AW94),2) -> 0 | AU94: =ROUND(SUM(AU95:AU98),5) -> 5233.3702 | AV94: =ROUND(AZ94*L29,2) -> 0 | AW94: =ROUND(BA94*L30,2) -> 0 | AX94: =ROUND(BB94*L29,2) -> 0 | AY94: =ROUND(BC94*L30,2) -> 0 | AZ94: =ROUND(SUM(AZ95:AZ98),2) -> 0 | BA94: =ROUND(SUM(BA95:BA98),2) -> 0 | BB94: =ROUND(SUM(BB95:BB98),2) -> 0 | BC94: =ROUND(SUM(BC95:BC98),2) -> 0 | BD94: =ROUND(SUM(BD95:BD98),2) -> 0 | BS94: D | BT94: 0 | BU94: ###NOIMPORT### | BV94: IMPORT | BW94: {1554c3bd-ffe7-4a2c-8a62-e4e1d30a7447} | BX94: {00000000-0000-0000-0000-000000000000}
A95: / | D95: 01 | J95: SO - 01 Vlastná stavba | AG95: ='01 - SO - 01 Vlastná stavba'!J30 -> 0 | AN95: =SUM(AG95,AT95) -> 0 | AQ95: STA | AS95: 0 | AT95: =ROUND(SUM(AV95:AW95),2) -> 0 | AU95: ='01 - SO - 01 Vlastná stavba'!P128 -> 4895.3945 | AV95: ='01 - SO - 01 Vlastná stavba'!J33 -> 0 | AW95: ='01 - SO - 01 Vlastná stavba'!J34 -> 0 | AX95: ='01 - SO - 01 Vlastná stavba'!J35 -> 0 | AY95: ='01 - SO - 01 Vlastná stavba'!J36 -> 0 | AZ95: ='01 - SO - 01 Vlastná stavba'!F33 -> 0 | BA95: ='01 - SO - 01 Vlastná stavba'!F34 -> 0 | BB95: ='01 - SO - 01 Vlastná stavba'!F35 -> 0 | BC95: ='01 - SO - 01 Vlastná stavba'!F36 -> 0 | BD95: ='01 - SO - 01 Vlastná stavba'!F37 -> 0 | BT95: 1 | BV95: IMPORT | BW95: {be1d82aa-4b97-4e43-b4ff-9b63ef148421} | BX95: {1554c3bd-ffe7-4a2c-8a62-e4e1d30a7447} | CM95: 0
A96: / | D96: 02 | J96: SO - 02 Búracie práce | AG96: ='02 - SO - 02 Búracie práce'!J30 -> 0 | AN96: =SUM(AG96,AT96) -> 0 | AQ96: STA | AS96: 0 | AT96: =ROUND(SUM(AV96:AW96),2) -> 0 | AU96: ='02 - SO - 02 Búracie práce'!P121 -> 205.00693 | AV96: ='02 - SO - 02 Búracie práce'!J33 -> 0 | AW96: ='02 - SO - 02 Búracie práce'!J34 -> 0 | AX96: ='02 - SO - 02 Búracie práce'!J35 -> 0 | AY96: ='02 - SO - 02 Búracie práce'!J36 -> 0 | AZ96: ='02 - SO - 02 Búracie práce'!F33 -> 0 | BA96: ='02 - SO - 02 Búracie práce'!F34 -> 0 | BB96: ='02 - SO - 02 Búracie práce'!F35 -> 0 | BC96: ='02 - SO - 02 Búracie práce'!F36 -> 0 | BD96: ='02 - SO - 02 Búracie práce'!F37 -> 0 | BT96: 1 | BV96: IMPORT | BW96: {780cfff5-9a7c-4269-8adc-986f931e32df} | BX96: {1554c3bd-ffe7-4a2c-8a62-e4e1d30a7447} | CM96: 0
A97: / | D97: 03 | J97: SO - 03 Vodovodná prípojka + vnútorný vodovod | AG97: ='03 - SO - 03 Vodovodná pr...'!J30 -> 0 | AN97: =SUM(AG97,AT97) -> 0 | AQ97: STA | AS97: 0 | AT97: =ROUND(SUM(AV97:AW97),2) -> 0 | AU97: ='03 - SO - 03 Vodovodná pr...'!P123 -> 90.453801 | AV97: ='03 - SO - 03 Vodovodná pr...'!J33 -> 0 | AW97: ='03 - SO - 03 Vodovodná pr...'!J34 -> 0 | AX97: ='03 - SO - 03 Vodovodná pr...'!J35 -> 0 | AY97: ='03 - SO - 03 Vodovodná pr...'!J36 -> 0 | AZ97: ='03 - SO - 03 Vodovodná pr...'!F33 -> 0 | BA97: ='03 - SO - 03 Vodovodná pr...'!F34 -> 0 | BB97: ='03 - SO - 03 Vodovodná pr...'!F35 -> 0 | BC97: ='03 - SO - 03 Vodovodná pr...'!F36 -> 0 | BD97: ='03 - SO - 03 Vodovodná pr...'!F37 -> 0 | BT97: 1 | BV97: IMPORT | BW97: {ece3a69f-3e19-4eaf-abd9-420aee08e8ac} | BX97: {1554c3bd-ffe7-4a2c-8a62-e4e1d30a7447} | CM97: 0
A98: / | D98: 04 | J98: SO - 04 Vnútorna elektroinštalácia | AG98: ='04 - SO - 04 Vnútorna ele...'!J30 -> 0 | AN98: =SUM(AG98,AT98) -> 0 | AQ98: STA | AS98: 0 | AT98: =ROUND(SUM(AV98:AW98),2) -> 0 | AU98: ='04 - SO - 04 Vnútorna ele...'!P119 -> 42.515 | AV98: ='04 - SO - 04 Vnútorna ele...'!J33 -> 0 | AW98: ='04 - SO - 04 Vnútorna ele...'!J34 -> 0 | AX98: ='04 - SO - 04 Vnútorna ele...'!J35 -> 0 | AY98: ='04 - SO - 04 Vnútorna ele...'!J36 -> 0 | AZ98: ='04 - SO - 04 Vnútorna ele...'!F33 -> 0 | BA98: ='04 - SO - 04 Vnútorna ele...'!F34 -> 0 | BB98: ='04 - SO - 04 Vnútorna ele...'!F35 -> 0 | BC98: ='04 - SO - 04 Vnútorna ele...'!F36 -> 0 | BD98: ='04 - SO - 04 Vnútorna ele...'!F37 -> 0 | BT98: 1 | BV98: IMPORT | BW98: {ac4208d4-c1de-46c4-b65b-3847683de28d} | BX98: {1554c3bd-ffe7-4a2c-8a62-e4e1d30a7447} | CM98: 0

Sheet 01 - SO - 01 Vlastná stavba
L2: >> skryté stĺpce << | AT2: {be1d82aa-4b97-4e43-b4ff-9b63ef148421}
AT3: 0
D4: KRYCÍ LIST ROZPOČTU | M4: v --- nižšie sa nachádzajú doplnkové a pomocné údaje k zostavám --- v | AT4: False
D6: Stavba:
E7: ='Rekapitulácia stavby'!K6 -> Stavebné úpravy oblúkovej haly na voľné ustajnenie HD, č. 606/4, okr. Snina
D8: Objekt:
E9: 01 - SO - 01 Vlastná stavba
D11: JKSO: | I11: KS:
D12: Miesto: | I12: Dátum: | J12: ='Rekapitulácia stavby'!AN8 -> 45236
D14: Objednávateľ: | I14: IČO: | J14: 36 469 076
E15: JRD Pichne s.r.o., Námestie slobody 2, Humenné 066 01 | I15: IČ DPH: | J15: SK202 002 2719
D17: Zhotoviteľ: | I17: IČO: | J17: ='Rekapitulácia stavby'!AN13
E18: ='Rekapitulácia stavby'!E14 | I18: IČ DPH: | J18: ='Rekapitulácia stavby'!AN14
D20: Projektant: | I20: IČO:
E21: Argo-PK, Projekčná kancelária, Strojárska 3998, Snina | I21: IČ DPH:
D23: Spracovateľ: | I23: IČO: | J23: =IF('Rekapitulácia stavby'!AN19="","",'Rekapitulácia stavby'!AN19)
E24: =IF('Rekapitulácia stavby'!E20="","",'Rekapitulácia stavby'!E20) | I24: IČ DPH: | J24: =IF('Rekapitulácia stavby'!AN20="","",'Rekapitulácia stavby'!AN20)
D26: Poznámka:
D30: Cena bez DPH | J30: =ROUND(J128, 2) -> 0
F32: Základ dane | I32: Sadzba dane | J32: Výška dane
D33: DPH | E33: základná | F33: =ROUND((SUM(BE128:BE293)), 2) -> 0 | I33: 0.2 | J33: =ROUND(((SUM(BE128:BE293))*I33), 2) -> 0
E34: znížená | F34: =ROUND((SUM(BF128:BF293)), 2) -> 0 | I34: 0.2 | J34: =ROUND(((SUM(BF128:BF293))*I34), 2) -> 0
E35: zákl. prenesená | F35: =ROUND((SUM(BG128:BG293)), 2) -> 0 | I35: 0.2 | J35: =0 -> 0
E36: zníž. prenesená | F36: =ROUND((SUM(BH128:BH293)), 2) -> 0 | I36: 0.2 | J36: =0 -> 0
E37: nulová | F37: =ROUND((SUM(BI128:BI293)), 2) -> 0 | I37: 0 | J37: =0 -> 0
D39: Cena s DPH | G39: v | H39: EUR | J39: =SUM(J30:J37) -> 0
D50: Projektant | G50: Spracovateľ
D61: Dátum a podpis: | F61: Pečiatka | G61: Dátum a podpis: | J61: Pečiatka
D65: Objednávateľ | G65: Zhotoviteľ
D76: Dátum a podpis: | F76: Pečiatka | G76: Dátum a podpis: | J76: Pečiatka
C82: REKAPITULÁCIA ROZPOČTU
C84: Stavba:
E85: =E7 -> Stavebné úpravy oblúkovej haly na voľné ustajnenie HD, č. 606/4, okr. Snina
C86: Objekt:
E87: =E9 -> 01 - SO - 01 Vlastná stavba
C89: Miesto: | F89: =F12 | I89: Dátum: | J89: =IF(J12="","",J12) -> 45236
C91: Objednávateľ: | F91: =E15 -> JRD Pichne s.r.o., Námestie slobody 2, Humenné 066 01 | I91: Projektant: | J91: =E21 -> Argo-PK, Projekčná kancelária, Strojárska 3998, Snina
C92: Zhotoviteľ: | F92: =IF(E18="","",E18) | I92: Spracovateľ: | J92: =E24
C94: Kód dielu - Popis | J94: Cena celkom [EUR]
C96: Náklady z rozpočtu | J96: =J128 -> 0 | AU96: -1
D97: HSV - Práce a dodávky HSV | J97: =J129 -> 0
D98: 1 - Zemné práce | J98: =J130 -> 0
D99: 2 - Zakladanie | J99: =J154 -> 0
D100: 3 - Zvislé a kompletné konštrukcie | J100: =J179 -> 0
D101: 6 - Úpravy povrchov, podlahy, osadenie | J101: =J201 -> 0
D102: 9 - Ostatné konštrukcie a práce-búranie | J102: =J219 -> 0
D103: 99 - Presun hmôt HSV | J103: =J232 -> 0
D104: PSV - Práce a dodávky PSV | J104: =J234 -> 0
D105: 762 - Konštrukcie tesárske | J105: =J235 -> 0
D106: 764 - Konštrukcie klampiarske | J106: =J243 -> 0
D107: 767 - Konštrukcie doplnkové kovové | J107: =J250 -> 0
D108: 783 - Nátery | J108: =J288 -> 0
C115: ROZPOČET
C117: Stavba:
E118: =E7 -> Stavebné úpravy oblúkovej haly na voľné ustajnenie HD, č. 606/4, okr. Snina
C119: Objekt:
E120: =E9 -> 01 - SO - 01 Vlastná stavba
C122: Miesto: | F122: =F12 | I122: Dátum: | J122: =IF(J12="","",J12) -> 45236
C124: Objednávateľ: | F124: =E15 -> JRD Pichne s.r.o., Námestie slobody 2, Humenné 066 01 | I124: Projektant: | J124: =E21 -> Argo-PK, Projekčná kancelária, Strojárska 3998, Snina
C125: Zhotoviteľ: | F125: =IF(E18="","",E18) | I125: Spracovateľ: | J125: =E24
C127: PČ | D127: Typ | E127: Kód | F127: Popis | G127: MJ | H127: Množstvo | I127: J.cena [EUR] | J127: Cena celkom [EUR] | K127: Cenová sústava | N127: DPH | O127: J. Nh [h] | P127: Nh celkom [h] | Q127: J. hmotnosť [t] | R127: Hmotnosť celkom [t] | S127: J. suť [t] | T127: Suť Celkom [t]
C128: Náklady z rozpočtu | J128: =BK128 -> 0 | P128: =P129+P234 -> 4895.3945 | R128: =R129+R234 -> 1156.0752 | T128: =T129+T234 -> 0 | AT128: D | AU128: -1 | BK128: =BK129+BK234 -> 0
D129: D | E129: HSV | F129: Práce a dodávky HSV | J129: =BK129 -> 0 | P129: =P130+P154+P179+P201+P219+P232 -> 2489.6132 | R129: =R130+R154+R179+R201+R219+R232 -> 1128.9961 | T129: =T130+T154+T179+T201+T219+T232 -> 0 | AR129: 1 | AT129: D | AU129: 0 | AY129: ROZPOCET | BK129: =BK130+BK154+BK179+BK201+BK219+BK232 -> 0
D130: D | E130: 1 | F130: Zemné práce | J130: =BK130 -> 0 | P130: =SUM(P131:P153) -> 36.97512 | R130: =SUM(R131:R153) -> 0 | T130: =SUM(T131:T153) -> 0 | AR130: 1 | AT130: D | AU130: 1 | AY130: ROZPOCET | BK130: =SUM(BK131:BK153) -> 0
C131: 1 | D131: K | E131: 111101101.S | F131: Odstránenie travín a tŕstia s príp. premiestnením a uložením na hromady do 50 m, pri celkovej ploche do 1000m2 | G131: m2 | H131: 698 | J131: =ROUND(I131*H131,2) -> 0 | N131: znížená | O131: 0.01 | P131: =O131*H131 -> 6.98 | Q131: 0 | R131: =Q131*H131 -> 0 | S131: 0 | T131: =S131*H131 -> 0 | AR131: 4 | AT131: K | AU131: 2 | AY131: ROZPOCET | BE131: =IF(N131="základná",J131,0) -> 0 | BF131: =IF(N131="znížená",J131,0) -> 0 | BG131: =IF(N131="zákl. prenesená",J131,0) -> 0 | BH131: =IF(N131="zníž. prenesená",J131,0) -> 0 | BI131: =IF(N131="nulová",J131,0) -> 0 | BJ131: 2 | BK131: =ROUND(I131*H131,2) -> 0 | BL131: 4 | BM131: -1600184582
D132: VV | F132: 56*7+9*17*2 | H132: 698 | AT132: VV | AU132: 2 | AV132: 2 | AW132: True | AX132: 1 | AY132: ROZPOCET
C133: 2 | D133: K | E133: 121101112.S | F133: Odstránenie ornice s premiestn. na hromady, so zložením na vzdialenosť do 100 m a do 1000 m3 | G133: m3 | H133: 166.134 | J133: =ROUND(I133*H133,2) -> 0 | N133: znížená | O133: 0.012 | P133: =O133*H133 -> 1.993608 | Q133: 0 | R133: =Q133*H133 -> 0 | S133: 0 | T133: =S133*H133 -> 0 | AR133: 4 | AT133: K | AU133: 2 | AY133: ROZPOCET | BE133: =IF(N133="základná",J133,0) -> 0 | BF133: =IF(N133="znížená",J133,0) -> 0 | BG133: =IF(N133="zákl. prenesená",J133,0) -> 0 | BH133: =IF(N133="zníž. prenesená",J133,0) -> 0 | BI133: =IF(N133="nulová",J133,0) -> 0 | BJ133: 2 | BK133: =ROUND(I133*H133,2) -> 0 | BL133: 4 | BM133: -348211641
D134: VV | F134: 55,46*3,86*0,2 | H134: 42.815 | AT134: VV | AU134: 2 | AV134: 2 | AW134: True | AX134: 0 | AY134: ROZPOCET
D135: VV | F135: 55,46*3,5*0,3 "krmna cesta | H135: 58.233 | AT135: VV | AU135: 2 | AV135: 2 | AW135: True | AX135: 0 | AY135: ROZPOCET
D136: VV | F136: (9,02+10)*17,11*0,2 | H136: 65.086 | AT136: VV | AU136: 2 | AV136: 2 | AW136: True | AX136: 0 | AY136: ROZPOCET
D137: VV | F137: Súčet | H137: 166.134 | AT137: VV | AU137: 2 | AV137: 4 | AW137: True | AX137: 1 | AY137: ROZPOCET
C138: 3 | D138: K | E138: 131201101.S | F138: Výkop nezapaženej jamy v hornine 3, do 100 m3 | G138: m3 | H138: 3.938 | J138: =ROUND(I138*H138,2) -> 0 | N138: znížená | O138: 0.838 | P138: =O138*H138 -> 3.300044 | Q138: 0 | R138: =Q138*H138 -> 0 | S138: 0 | T138: =S138*H138 -> 0 | AR138: 4 | AT138: K | AU138: 2 | AY138: ROZPOCET | BE138: =IF(N138="základná",J138,0) -> 0 | BF138: =IF(N138="znížená",J138,0) -> 0 | BG138: =IF(N138="zákl. prenesená",J138,0) -> 0 | BH138: =IF(N138="zníž. prenesená",J138,0) -> 0 | BI138: =IF(N138="nulová",J138,0) -> 0 | BJ138: 2 | BK138: =ROUND(I138*H138,2) -> 0 | BL138: 4 | BM138: 1384849124
D139: VV | F139: 0,5*0,5*1,05*15 | H139: 3.938 | AT139: VV | AU139: 2 | AV139: 2 | AW139: True | AX139: 0 | AY139: ROZPOCET
D140: VV | F140: Súčet | H140: 3.938 | AT140: VV | AU140: 2 | AV140: 4 | AW140: True | AX140: 1 | AY140: ROZPOCET
C141: 4 | D141: K | E141: 131201109.S | F141: Hĺbenie nezapažených jám a zárezov. Príplatok za lepivosť horniny 3 | G141: m3 | H141: 1.181 | J141: =ROUND(I141*H141,2) -> 0 | N141: znížená | O141: 0.042 | P141: =O141*H141 -> 0.049602 | Q141: 0 | R141: =Q141*H141 -> 0 | S141: 0 | T141: =S141*H141 -> 0 | AR141: 4 | AT141: K | AU141: 2 | AY141: ROZPOCET | BE141: =IF(N141="základná",J141,0) -> 0 | BF141: =IF(N141="znížená",J141,0) -> 0 | BG141: =IF(N141="zákl. prenesená",J141,0) -> 0 | BH141: =IF(N141="zníž. prenesená",J141,0) -> 0 | BI141: =IF(N141="nulová",J141,0) -> 0 | BJ141: 2 | BK141: =ROUND(I141*H141,2) -> 0 | BL141: 4 | BM141: 10352993
D142: VV | F142: 3,938*0,3 | H142: 1.181 | AT142: VV | AU142: 2 | AV142: 2 | AW142: True | AX142: 1 | AY142: ROZPOCET
C143: 5 | D143: K | E143: 132201101.S | F143: Výkop ryhy do šírky 600 mm v horn.3 do 100 m3 | G143: m3 | H143: 7.755 | J143: =ROUND(I143*H143,2) -> 0 | N143: znížená | O143: 2.514 | P143: =O143*H143 -> 19.49607 | Q143: 0 | R143: =Q143*H143 -> 0 | S143: 0 | T143: =S143*H143 -> 0 | AR143: 4 | AT143: K | AU143: 2 | AY143: ROZPOCET | BE143: =IF(N143="základná",J143,0) -> 0 | BF143: =IF(N143="znížená",J143,0) -> 0 | BG143: =IF(N143="zákl. prenesená",J143,0) -> 0 | BH143: =IF(N143="zníž. prenesená",J143,0) -> 0 | BI143: =IF(N143="nulová",J143,0) -> 0 | BJ143: 2 | BK143: =ROUND(I143*H143,2) -> 0 | BL143: 4 | BM143: 759432417
D144: VV | F144: (15,6+9,02)*0,3*1,05 | H144: 7.755 | AT144: VV | AU144: 2 | AV144: 2 | AW144: True | AX144: 0 | AY144: ROZPOCET
D145: VV | F145: Súčet | H145: 7.755 | AT145: VV | AU145: 2 | AV145: 4 | AW145: True | AX145: 1 | AY145: ROZPOCET
C146: 6 | D146: K | E146: 132201109.S | F146: Príplatok k cene za lepivosť pri hĺbení rýh šírky do 600 mm zapažených i nezapažených s urovnaním dna v hornine 3 | G146: m3 | H146: 2.327 | J146: =ROUND(I146*H146,2) -> 0 | N146: znížená | O146: 0.613 | P146: =O146*H146 -> 1.426451 | Q146: 0 | R146: =Q146*H146 -> 0 | S146: 0 | T146: =S146*H146 -> 0 | AR146: 4 | AT146: K | AU146: 2 | AY146: ROZPOCET | BE146: =IF(N146="základná",J146,0) -> 0 | BF146: =IF(N146="znížená",J146,0) -> 0 | BG146: =IF(N146="zákl. prenesená",J146,0) -> 0 | BH146: =IF(N146="zníž. prenesená",J146,0) -> 0 | BI146: =IF(N146="nulová",J146,0) -> 0 | BJ146: 2 | BK146: =ROUND(I146*H146,2) -> 0 | BL146: 4 | BM146: 1148738752
D147: VV | F147: 7,755*0,3 | H147: 2.327 | AT147: VV | AU147: 2 | AV147: 2 | AW147: True | AX147: 1 | AY147: ROZPOCET
C148: 7 | D148: K | E148: 162201102.S | F148: Vodorovné premiestnenie výkopku z horniny 1-4 nad 20-50m | G148: m3 | H148: 11.693 | J148: =ROUND(I148*H148,2) -> 0 | N148: znížená | O148: 0.069 | P148: =O148*H148 -> 0.806817 | Q148: 0 | R148: =Q148*H148 -> 0 | S148: 0 | T148: =S148*H148 -> 0 | AR148: 4 | AT148: K | AU148: 2 | AY148: ROZPOCET | BE148: =IF(N148="základná",J148,0) -> 0 | BF148: =IF(N148="znížená",J148,0) -> 0 | BG148: =IF(N148="zákl. prenesená",J148,0) -> 0 | BH148: =IF(N148="zníž. prenesená",J148,0) -> 0 | BI148: =IF(N148="nulová",J148,0) -> 0 | BJ148: 2 | BK148: =ROUND(I148*H148,2) -> 0 | BL148: 4 | BM148: 1065429234
D149: VV | F149: 3,938+7,755 | H149: 11.693 | AT149: VV | AU149: 2 | AV149: 2 | AW149: True | AX149: 1 | AY149: ROZPOCET
C150: 8 | D150: K | E150: 167101102.S | F150: Nakladanie neuľahnutého výkopku z hornín tr.1-4 nad 100 do 1000 m3 | G150: m3 | H150: 11.693 | J150: =ROUND(I150*H150,2) -> 0 | N150: znížená | O150: 0.087 | P150: =O150*H150 -> 1.017291 | Q150: 0 | R150: =Q150*H150 -> 0 | S150: 0 | T150: =S150*H150 -> 0 | AR150: 4 | AT150: K | AU150: 2 | AY150: ROZPOCET | BE150: =IF(N150="základná",J150,0) -> 0 | BF150: =IF(N150="znížená",J150,0) -> 0 | BG150: =IF(N150="zákl. prenesená",J150,0) -> 0 | BH150: =IF(N150="zníž. prenesená",J150,0) -> 0 | BI150: =IF(N150="nulová",J150,0) -> 0 | BJ150: 2 | BK150: =ROUND(I150*H150,2) -> 0 | BL150: 4 | BM150: -727591385
D151: VV | F151: 11,693 | H151: 11.693 | AT151: VV | AU151: 2 | AV151: 2 | AW151: True | AX151: 1 | AY151: ROZPOCET
C152: 9 | D152: K | E152: 171201201.S | F152: Uloženie sypaniny na skládky do 100 m3 | G152: m3 | H152: 11.693 | J152: =ROUND(I152*H152,2) -> 0 | N152: znížená | O152: 0.009 | P152: =O152*H152 -> 0.105237 | Q152: 0 | R152: =Q152*H152 -> 0 | S152: 0 | T152: =S152*H152 -> 0 | AR152: 4 | AT152: K | AU152: 2 | AY152: ROZPOCET | BE152: =IF(N152="základná",J152,0) -> 0 | BF152: =IF(N152="znížená",J152,0) -> 0 | BG152: =IF(N152="zákl. prenesená",J152,0) -> 0 | BH152: =IF(N152="zníž. prenesená",J152,0) -> 0 | BI152: =IF(N152="nulová",J152,0) -> 0 | BJ152: 2 | BK152: =ROUND(I152*H152,2) -> 0 | BL152: 4 | BM152: -2005904033
C153: 10 | D153: K | E153: 181201101.S | F153: Úprava pláne v násypoch v hornine 1-4 bez zhutnenia | G153: m2 | H153: 150 | J153: =ROUND(I153*H153,2) -> 0 | N153: znížená | O153: 0.012 | P153: =O153*H153 -> 1.8 | Q153: 0 | R153: =Q153*H153 -> 0 | S153: 0 | T153: =S153*H153 -> 0 | AR153: 4 | AT153: K | AU153: 2 | AY153: ROZPOCET | BE153: =IF(N153="základná",J153,0) -> 0 | BF153: =IF(N153="znížená",J153,0) -> 0 | BG153: =IF(N153="zákl. prenesená",J153,0) -> 0 | BH153: =IF(N153="zníž. prenesená",J153,0) -> 0 | BI153: =IF(N153="nulová",J153,0) -> 0 | BJ153: 2 | BK153: =ROUND(I153*H153,2) -> 0 | BL153: 4 | BM153: -484510166
D154: D | E154: 2 | F154: Zakladanie | J154: =BK154 -> 0 | P154: =SUM(P155:P178) -> 178.53082 | R154: =SUM(R155:R178) -> 319.01279 | T154: =SUM(T155:T178) -> 0 | AR154: 1 | AT154: D | AU154: 1 | AY154: ROZPOCET | BK154: =SUM(BK155:BK178) -> 0
C155: 11 | D155: K | E155: 271573001.S | F155: Násyp pod základové konštrukcie so zhutnením zo štrkopiesku fr.0-32 mm | G155: m3 | H155: 141.516 | J155: =ROUND(I155*H155,2) -> 0 | N155: znížená | O155: 1.097 | P155: =O155*H155 -> 155.24305 | Q155: 2.07 | R155: =Q155*H155 -> 292.93812 | S155: 0 | T155: =S155*H155 -> 0 | AR155: 4 | AT155: K | AU155: 2 | AY155: ROZPOCET | BE155: =IF(N155="základná",J155,0) -> 0 | BF155: =IF(N155="znížená",J155,0) -> 0 | BG155: =IF(N155="zákl. prenesená",J155,0) -> 0 | BH155: =IF(N155="zníž. prenesená",J155,0) -> 0 | BI155: =IF(N155="nulová",J155,0) -> 0 | BJ155: 2 | BK155: =ROUND(I155*H155,2) -> 0 | BL155: 4 | BM155: -487912162
D156: VV | F156: 0,5*0,5*15*0,15 | H156: 0.563 | AT156: VV | AU156: 2 | AV156: 2 | AW156: True | AX156: 0 | AY156: ROZPOCET
D157: VV | F157: (9,02+10)*17,11*0,15 | H157: 48.815 | AT157: VV | AU157: 2 | AV157: 2 | AW157: True | AX157: 0 | AY157: ROZPOCET
D158: VV | F158: (15,6+9,02)*0,3*0,15 | H158: 1.108 | AT158: VV | AU158: 2 | AV158: 2 | AW158: True | AX158: 0 | AY158: ROZPOCET
D159: VV | F159: 50,46*3,86*0,15 | H159: 29.216 | AT159: VV | AU159: 2 | AV159: 2 | AW159: True | AX159: 0 | AY159: ROZPOCET
D160: VV | F160: 50,46*3,5*0,35 "krmna cesta | H160: 61.814 | AT160: VV | AU160: 2 | AV160: 2 | AW160: True | AX160: 0 | AY160: ROZPOCET
D161: VV | F161: Súčet | H161: 141.516 | AT161: VV | AU161: 2 | AV161: 4 | AW161: True | AX161: 1 | AY161: ROZPOCET
C162: 12 | D162: K | E162: 274321311.S | F162: Betón základových pásov, železový (bez výstuže), tr. C 16/20 | G162: m3 | H162: 7.755 | J162: =ROUND(I162*H162,2) -> 0 | N162: znížená | O162: 0.583 | P162: =O162*H162 -> 4.521165 | Q162: 2.19407 | R162: =Q162*H162 -> 17.015013 | S162: 0 | T162: =S162*H162 -> 0 | AR162: 4 | AT162: K | AU162: 2 | AY162: ROZPOCET | BE162: =IF(N162="základná",J162,0) -> 0 | BF162: =IF(N162="znížená",J162,0) -> 0 | BG162: =IF(N162="zákl. prenesená",J162,0) -> 0 | BH162: =IF(N162="zníž. prenesená",J162,0) -> 0 | BI162: =IF(N162="nulová",J162,0) -> 0 | BJ162: 2 | BK162: =ROUND(I162*H162,2) -> 0 | BL162: 4 | BM162: 1048653689
D163: VV | F163: (15,6+9,02)*0,3*1,05 | H163: 7.755 | AT163: VV | AU163: 2 | AV163: 2 | AW163: True | AX163: 0 | AY163: ROZPOCET
D164: VV | F164: Súčet | H164: 7.755 | AT164: VV | AU164: 2 | AV164: 4 | AW164: True | AX164: 1 | AY164: ROZPOCET
C165: 13 | D165: K | E165: 274351215.S | F165: Debnenie stien základových pásov, zhotovenie-dielce | G165: m2 | H165: 2.462 | J165: =ROUND(I165*H165,2) -> 0 | N165: znížená | O165: 0.358 | P165: =O165*H165 -> 0.881396 | Q165: 0.00067 | R165: =Q165*H165 -> 0.00164954 | S165: 0 | T165: =S165*H165 -> 0 | AR165: 4 | AT165: K | AU165: 2 | AY165: ROZPOCET | BE165: =IF(N165="základná",J165,0) -> 0 | BF165: =IF(N165="znížená",J165,0) -> 0 | BG165: =IF(N165="zákl. prenesená",J165,0) -> 0 | BH165: =IF(N165="zníž. prenesená",J165,0) -> 0 | BI165: =IF(N165="nulová",J165,0) -> 0 | BJ165: 2 | BK165: =ROUND(I165*H165,2) -> 0 | BL165: 4 | BM165: 1050453604
D166: VV | F166: (15,6+9,02)*0,05*2 | H166: 2.462 | AT166: VV | AU166: 2 | AV166: 2 | AW166: True | AX166: 0 | AY166: ROZPOCET
...

Sheet 02 - SO - 02 Búracie práce
L2: >> skryté stĺpce << | AT2: {780cfff5-9a7c-4269-8adc-986f931e32df}
AT3: 0
D4: KRYCÍ LIST ROZPOČTU | M4: v --- nižšie sa nachádzajú doplnkové a pomocné údaje k zostavám --- v | AT4: False
D6: Stavba:
E7: ='Rekapitulácia stavby'!K6 -> Stavebné úpravy oblúkovej haly na voľné ustajnenie HD, č. 606/4, okr. Snina
D8: Objekt:
E9: 02 - SO - 02 Búracie práce
D11: JKSO: | I11: KS:
D12: Miesto: | I12: Dátum: | J12: ='Rekapitulácia stavby'!AN8 -> 45236
D14: Objednávateľ: | I14: IČO: | J14: 36 469 076
E15: JRD Pichne s.r.o., Námestie slobody 2, Humenné 066 01 | I15: IČ DPH: | J15: SK202 002 2719
D17: Zhotoviteľ: | I17: IČO: | J17: ='Rekapitulácia stavby'!AN13
E18: ='Rekapitulácia stavby'!E14 | I18: IČ DPH: | J18: ='Rekapitulácia stavby'!AN14
D20: Projektant: | I20: IČO:
E21: Argo-PK, Projekčná kancelária, Strojárska 3998, Snina | I21: IČ DPH:
D23: Spracovateľ: | I23: IČO: | J23: =IF('Rekapitulácia stavby'!AN19="","",'Rekapitulácia stavby'!AN19)
E24: =IF('Rekapitulácia stavby'!E20="","",'Rekapitulácia stavby'!E20) | I24: IČ DPH: | J24: =IF('Rekapitulácia stavby'!AN20="","",'Rekapitulácia stavby'!AN20)
D26: Poznámka:
D30: Cena bez DPH | J30: =ROUND(J121, 2) -> 0
F32: Základ dane | I32: Sadzba dane | J32: Výška dane
D33: DPH | E33: základná | F33: =ROUND((SUM(BE121:BE144)), 2) -> 0 | I33: 0.2 | J33: =ROUND(((SUM(BE121:BE144))*I33), 2) -> 0
E34: znížená | F34: =ROUND((SUM(BF121:BF144)), 2) -> 0 | I34: 0.2 | J34: =ROUND(((SUM(BF121:BF144))*I34), 2) -> 0
E35: zákl. prenesená | F35: =ROUND((SUM(BG121:BG144)), 2) -> 0 | I35: 0.2 | J35: =0 -> 0
E36: zníž. prenesená | F36: =ROUND((SUM(BH121:BH144)), 2) -> 0 | I36: 0.2 | J36: =0 -> 0
E37: nulová | F37: =ROUND((SUM(BI121:BI144)), 2) -> 0 | I37: 0 | J37: =0 -> 0
D39: Cena s DPH | G39: v | H39: EUR | J39: =SUM(J30:J37) -> 0
D50: Projektant | G50: Spracovateľ
D61: Dátum a podpis: | F61: Pečiatka | G61: Dátum a podpis: | J61: Pečiatka
D65: Objednávateľ | G65: Zhotoviteľ
D76: Dátum a podpis: | F76: Pečiatka | G76: Dátum a podpis: | J76: Pečiatka
C82: REKAPITULÁCIA ROZPOČTU
C84: Stavba:
E85: =E7 -> Stavebné úpravy oblúkovej haly na voľné ustajnenie HD, č. 606/4, okr. Snina
C86: Objekt:
E87: =E9 -> 02 - SO - 02 Búracie práce
C89: Miesto: | F89: =F12 | I89: Dátum: | J89: =IF(J12="","",J12) -> 45236
C91: Objednávateľ: | F91: =E15 -> JRD Pichne s.r.o., Námestie slobody 2, Humenné 066 01 | I91: Projektant: | J91: =E21 -> Argo-PK, Projekčná kancelária, Strojárska 3998, Snina
C92: Zhotoviteľ: | F92: =IF(E18="","",E18) | I92: Spracovateľ: | J92: =E24
C94: Kód dielu - Popis | J94: Cena celkom [EUR]
C96: Náklady z rozpočtu | J96: =J121 -> 0 | AU96: -1
D97: HSV - Práce a dodávky HSV | J97: =J122 -> 0
D98: 9 - Ostatné konštrukcie a práce-búranie | J98: =J123 -> 0
D99: PSV - Práce a dodávky PSV | J99: =J133 -> 0
D100: 765 - Konštrukcie - krytiny tvrdé | J100: =J134 -> 0
D101: 767 - Konštrukcie doplnkové kovové | J101: =J141 -> 0
C108: ROZPOČET
C110: Stavba:
E111: =E7 -> Stavebné úpravy oblúkovej haly na voľné ustajnenie HD, č. 606/4, okr. Snina
C112: Objekt:
E113: =E9 -> 02 - SO - 02 Búracie práce
C115: Miesto: | F115: =F12 | I115: Dátum: | J115: =IF(J12="","",J12) -> 45236
C117: Objednávateľ: | F117: =E15 -> JRD Pichne s.r.o., Námestie slobody 2, Humenné 066 01 | I117: Projektant: | J117: =E21 -> Argo-PK, Projekčná kancelária, Strojárska 3998, Snina
C118: Zhotoviteľ: | F118: =IF(E18="","",E18) | I118: Spracovateľ: | J118: =E24
C120: PČ | D120: Typ | E120: Kód | F120: Popis | G120: MJ | H120: Množstvo | I120: J.cena [EUR] | J120: Cena celkom [EUR] | K120: Cenová sústava | N120: DPH | O120: J. Nh [h] | P120: Nh celkom [h] | Q120: J. hmotnosť [t] | R120: Hmotnosť celkom [t] | S120: J. suť [t] | T120: Suť Celkom [t]
C121: Náklady z rozpočtu | J121: =BK121 -> 0 | P121: =P122+P133 -> 205.00693 | R121: =R122+R133 -> 0 | T121: =T122+T133 -> 26.360144 | AT121: D | AU121: -1 | BK121: =BK122+BK133 -> 0
D122: D | E122: HSV | F122: Práce a dodávky HSV | J122: =BK122 -> 0 | P122: =P123 -> 73.46188 | R122: =R123 -> 0 | T122: =T123 -> 0 | AR122: 1 | AT122: D | AU122: 0 | AY122: ROZPOCET | BK122: =BK123 -> 0
D123: D | E123: 9 | F123: Ostatné konštrukcie a práce-búranie | J123: =BK123 -> 0 | P123: =SUM(P124:P132) -> 73.46188 | R123: =SUM(R124:R132) -> 0 | T123: =SUM(T124:T132) -> 0 | AR123: 1 | AT123: D | AU123: 1 | AY123: ROZPOCET | BK123: =SUM(BK124:BK132) -> 0
C124: 1 | D124: K | E124: 968071137.S | F124: Vyvesenie kovového krídla vrát plochy nad 4 m2 | G124: ks | H124: 4 | J124: =ROUND(I124*H124,2) -> 0 | N124: znížená | O124: 0.355 | P124: =O124*H124 -> 1.42 | Q124: 0 | R124: =Q124*H124 -> 0 | S124: 0 | T124: =S124*H124 -> 0 | AR124: 4 | AT124: K | AU124: 2 | AY124: ROZPOCET | BE124: =IF(N124="základná",J124,0) -> 0 | BF124: =IF(N124="znížená",J124,0) -> 0 | BG124: =IF(N124="zákl. prenesená",J124,0) -> 0 | BH124: =IF(N124="zníž. prenesená",J124,0) -> 0 | BI124: =IF(N124="nulová",J124,0) -> 0 | BJ124: 2 | BK124: =ROUND(I124*H124,2) -> 0 | BL124: 4 | BM124: -1537285418
D125: VV | F125: 2*2 | H125: 4 | AT125: VV | AU125: 2 | AV125: 2 | AW125: True | AX125: 1 | AY125: ROZPOCET
C126: 2 | D126: K | E126: 979081111.S | F126: Odvoz sutiny a vybúraných hmôt na skládku do 1 km | G126: t | H126: 26.36 | J126: =ROUND(I126*H126,2) -> 0 | N126: znížená | O126: 0.598 | P126: =O126*H126 -> 15.76328 | Q126: 0 | R126: =Q126*H126 -> 0 | S126: 0 | T126: =S126*H126 -> 0 | AR126: 4 | AT126: K | AU126: 2 | AY126: ROZPOCET | BE126: =IF(N126="základná",J126,0) -> 0 | BF126: =IF(N126="znížená",J126,0) -> 0 | BG126: =IF(N126="zákl. prenesená",J126,0) -> 0 | BH126: =IF(N126="zníž. prenesená",J126,0) -> 0 | BI126: =IF(N126="nulová",J126,0) -> 0 | BJ126: 2 | BK126: =ROUND(I126*H126,2) -> 0 | BL126: 4 | BM126: -1672723259
C127: 3 | D127: K | E127: 979081121.S | F127: Odvoz sutiny a vybúraných hmôt na skládku za každý ďalší 1 km- 35 km | G127: t | H127: 922.6 | J127: =ROUND(I127*H127,2) -> 0 | N127: znížená | O127: 0.007 | P127: =O127*H127 -> 6.4582 | Q127: 0 | R127: =Q127*H127 -> 0 | S127: 0 | T127: =S127*H127 -> 0 | AR127: 4 | AT127: K | AU127: 2 | AY127: ROZPOCET | BE127: =IF(N127="základná",J127,0) -> 0 | BF127: =IF(N127="znížená",J127,0) -> 0 | BG127: =IF(N127="zákl. prenesená",J127,0) -> 0 | BH127: =IF(N127="zníž. prenesená",J127,0) -> 0 | BI127: =IF(N127="nulová",J127,0) -> 0 | BJ127: 2 | BK127: =ROUND(I127*H127,2) -> 0 | BL127: 4 | BM127: -1661335108
D128: VV | F128: 26,36*35 'Prepočítané koeficientom množstva | H128: 922.6 | AT128: VV | AU128: 2 | AV128: 2 | AW128: False | AX128: 1 | AY128: ROZPOCET
C129: 4 | D129: K | E129: 979082111.S | F129: Vnútrostavenisková doprava sutiny a vybúraných hmôt do 10 m | G129: t | H129: 26.36 | J129: =ROUND(I129*H129,2) -> 0 | N129: znížená | O129: 0.89 | P129: =O129*H129 -> 23.4604 | Q129: 0 | R129: =Q129*H129 -> 0 | S129: 0 | T129: =S129*H129 -> 0 | AR129: 4 | AT129: K | AU129: 2 | AY129: ROZPOCET | BE129: =IF(N129="základná",J129,0) -> 0 | BF129: =IF(N129="znížená",J129,0) -> 0 | BG129: =IF(N129="zákl. prenesená",J129,0) -> 0 | BH129: =IF(N129="zníž. prenesená",J129,0) -> 0 | BI129: =IF(N129="nulová",J129,0) -> 0 | BJ129: 2 | BK129: =ROUND(I129*H129,2) -> 0 | BL129: 4 | BM129: -1628655056
C130: 5 | D130: K | E130: 979082121.S | F130: Vnútrostavenisková doprava sutiny a vybúraných hmôt za každých ďalších 5 m-50 m | G130: t | H130: 263.6 | J130: =ROUND(I130*H130,2) -> 0 | N130: znížená | O130: 0.1 | P130: =O130*H130 -> 26.36 | Q130: 0 | R130: =Q130*H130 -> 0 | S130: 0 | T130: =S130*H130 -> 0 | AR130: 4 | AT130: K | AU130: 2 | AY130: ROZPOCET | BE130: =IF(N130="základná",J130,0) -> 0 | BF130: =IF(N130="znížená",J130,0) -> 0 | BG130: =IF(N130="zákl. prenesená",J130,0) -> 0 | BH130: =IF(N130="zníž. prenesená",J130,0) -> 0 | BI130: =IF(N130="nulová",J130,0) -> 0 | BJ130: 2 | BK130: =ROUND(I130*H130,2) -> 0 | BL130: 4 | BM130: -291410288
D131: VV | F131: 26,36*10 'Prepočítané koeficientom množstva | H131: 263.6 | AT131: VV | AU131: 2 | AV131: 2 | AW131: False | AX131: 1 | AY131: ROZPOCET
C132: 6 | D132: K | E132: 979089012.S | F132: Poplatok za skladovanie - betón, tehly, dlaždice (17 01) ostatné | G132: t | H132: 26.36 | J132: =ROUND(I132*H132,2) -> 0 | N132: znížená | O132: 0 | P132: =O132*H132 -> 0 | Q132: 0 | R132: =Q132*H132 -> 0 | S132: 0 | T132: =S132*H132 -> 0 | AR132: 4 | AT132: K | AU132: 2 | AY132: ROZPOCET | BE132: =IF(N132="základná",J132,0) -> 0 | BF132: =IF(N132="znížená",J132,0) -> 0 | BG132: =IF(N132="zákl. prenesená",J132,0) -> 0 | BH132: =IF(N132="zníž. prenesená",J132,0) -> 0 | BI132: =IF(N132="nulová",J132,0) -> 0 | BJ132: 2 | BK132: =ROUND(I132*H132,2) -> 0 | BL132: 4 | BM132: 895710685
D133: D | E133: PSV | F133: Práce a dodávky PSV | J133: =BK133 -> 0 | P133: =P134+P141 -> 131.54505 | R133: =R134+R141 -> 0 | T133: =T134+T141 -> 26.360144 | AR133: 2 | AT133: D | AU133: 0 | AY133: ROZPOCET | BK133: =BK134+BK141 -> 0
D134: D | E134: 765 | F134: Konštrukcie - krytiny tvrdé | J134: =BK134 -> 0 | P134: =SUM(P135:P140) -> 114.71029 | R134: =SUM(R135:R140) -> 0 | T134: =SUM(T135:T140) -> 26.360144 | AR134: 2 | AT134: D | AU134: 1 | AY134: ROZPOCET | BK134: =SUM(BK135:BK140) -> 0
C135: 7 | D135: K | E135: 765356501.S | F135: Demontáž krytiny sklolaminátovej, do sutiny, sklon strechy nad 45°, -0,023t | G135: m2 | H135: 1048.902 | J135: =ROUND(I135*H135,2) -> 0 | N135: znížená | O135: 0.102 | P135: =O135*H135 -> 106.988 | Q135: 0 | R135: =Q135*H135 -> 0 | S135: 0.023 | T135: =S135*H135 -> 24.124746 | AR135: 16 | AT135: K | AU135: 2 | AY135: ROZPOCET | BE135: =IF(N135="základná",J135,0) -> 0 | BF135: =IF(N135="znížená",J135,0) -> 0 | BG135: =IF(N135="zákl. prenesená",J135,0) -> 0 | BH135: =IF(N135="zníž. prenesená",J135,0) -> 0 | BI135: =IF(N135="nulová",J135,0) -> 0 | BJ135: 2 | BK135: =ROUND(I135*H135,2) -> 0 | BL135: 16 | BM135: -1325671579
D136: VV | F136: 2*3,14*6,62/2*50,46 | H136: 1048.902 | AT136: VV | AU136: 2 | AV136: 2 | AW136: True | AX136: 0 | AY136: ROZPOCET
D137: VV | F137: Súčet | H137: 1048.902 | AT137: VV | AU137: 2 | AV137: 4 | AW137: True | AX137: 1 | AY137: ROZPOCET
C138: 8 | D138: K | E138: 765483830.S | F138: Demont obkladu sklolaminátového tvaru vlny na konštrukcii na suť -0.02200 t | G138: m2 | H138: 101.609 | J138: =ROUND(I138*H138,2) -> 0 | N138: znížená | O138: 0.076 | P138: =O138*H138 -> 7.722284 | Q138: 0 | R138: =Q138*H138 -> 0 | S138: 0.022 | T138: =S138*H138 -> 2.235398 | AR138: 16 | AT138: K | AU138: 2 | AY138: ROZPOCET | BE138: =IF(N138="základná",J138,0) -> 0 | BF138: =IF(N138="znížená",J138,0) -> 0 | BG138: =IF(N138="zákl. prenesená",J138,0) -> 0 | BH138: =IF(N138="zníž. prenesená",J138,0) -> 0 | BI138: =IF(N138="nulová",J138,0) -> 0 | BJ138: 2 | BK138: =ROUND(I138*H138,2) -> 0 | BL138: 16 | BM138: 1700029276
D139: VV | F139: (3,14*6,62*6,62/2-4*4,5)*2 | H139: 101.609 | AT139: VV | AU139: 2 | AV139: 2 | AW139: True | AX139: 1 | AY139: ROZPOCET
C140: 9 | D140: K | E140: 998765202.S | F140: Presun hmôt pre tvrdé krytiny v objektoch výšky nad 6 do 12 m | G140: % | H140: 17.948 | J140: =ROUND(I140*H140,2) -> 0 | N140: znížená | O140: 0 | P140: =O140*H140 -> 0 | Q140: 0 | R140: =Q140*H140 -> 0 | S140: 0 | T140: =S140*H140 -> 0 | AR140: 16 | AT140: K | AU140: 2 | AY140: ROZPOCET | BE140: =IF(N140="základná",J140,0) -> 0 | BF140: =IF(N140="znížená",J140,0) -> 0 | BG140: =IF(N140="zákl. prenesená",J140,0) -> 0 | BH140: =IF(N140="zníž. prenesená",J140,0) -> 0 | BI140: =IF(N140="nulová",J140,0) -> 0 | BJ140: 2 | BK140: =ROUND(I140*H140,2) -> 0 | BL140: 16 | BM140: 1132559507
D141: D | E141: 767 | F141: Konštrukcie doplnkové kovové | J141: =BK141 -> 0 | P141: =SUM(P142:P144) -> 16.83476 | R141: =SUM(R142:R144) -> 0 | T141: =SUM(T142:T144) -> 0 | AR141: 2 | AT141: D | AU141: 1 | AY141: ROZPOCET | BK141: =SUM(BK142:BK144) -> 0
C142: 10 | D142: K | E142: 767431801.S | F142: Demontáž oceľovej haly zo samonosných oblúkov, hala | G142: m2 | H142: 49.514 | J142: =ROUND(I142*H142,2) -> 0 | N142: znížená | O142: 0.34 | P142: =O142*H142 -> 16.83476 | Q142: 0 | R142: =Q142*H142 -> 0 | S142: 0 | T142: =S142*H142 -> 0 | AR142: 16 | AT142: K | AU142: 2 | AY142: ROZPOCET | BE142: =IF(N142="základná",J142,0) -> 0 | BF142: =IF(N142="znížená",J142,0) -> 0 | BG142: =IF(N142="zákl. prenesená",J142,0) -> 0 | BH142: =IF(N142="zníž. prenesená",J142,0) -> 0 | BI142: =IF(N142="nulová",J142,0) -> 0 | BJ142: 2 | BK142: =ROUND(I142*H142,2) -> 0 | BL142: 16 | BM142: 1344353433
D143: VV | F143: 2*3,14*6,25/2*50,46*0,05 | H143: 49.514 | AT143: VV | AU143: 2 | AV143: 2 | AW143: True | AX143: 1 | AY143: ROZPOCET
C144: 11 | D144: K | E144: 998767202.S | F144: Presun hmôt pre kovové stavebné doplnkové konštrukcie v objektoch výšky nad 6 do 12 m | G144: % | H144: 5.551 | J144: =ROUND(I144*H144,2) -> 0 | N144: znížená | O144: 0 | P144: =O144*H144 -> 0 | Q144: 0 | R144: =Q144*H144 -> 0 | S144: 0 | T144: =S144*H144 -> 0 | AR144: 16 | AT144: K | AU144: 2 | AY144: ROZPOCET | BE144: =IF(N144="základná",J144,0) -> 0 | BF144: =IF(N144="znížená",J144,0) -> 0 | BG144: =IF(N144="zákl. prenesená",J144,0) -> 0 | BH144: =IF(N144="zníž. prenesená",J144,0) -> 0 | BI144: =IF(N144="nulová",J144,0) -> 0 | BJ144: 2 | BK144: =ROUND(I144*H144,2) -> 0 | BL144: 16 | BM144: 1681664923

Sheet 03 - SO - 03 Vodovodná pr...
L2: >> skryté stĺpce << | AT2: {ece3a69f-3e19-4eaf-abd9-420aee08e8ac}
AT3: 0
D4: KRYCÍ LIST ROZPOČTU | M4: v --- nižšie sa nachádzajú doplnkové a pomocné údaje k zostavám --- v | AT4: False
D6: Stavba:
E7: ='Rekapitulácia stavby'!K6 -> Stavebné úpravy oblúkovej haly na voľné ustajnenie HD, č. 606/4, okr. Snina
D8: Objekt:
E9: 03 - SO - 03 Vodovodná prípojka + vnútorný vodovod
D11: JKSO: | I11: KS:
D12: Miesto: | I12: Dátum: | J12: ='Rekapitulácia stavby'!AN8 -> 45236
D14: Objednávateľ: | I14: IČO: | J14: 36 469 076
E15: JRD Pichne s.r.o., Námestie slobody 2, Humenné 066 01 | I15: IČ DPH: | J15: SK202 002 2719
D17: Zhotoviteľ: | I17: IČO: | J17: ='Rekapitulácia stavby'!AN13
E18: ='Rekapitulácia stavby'!E14 | I18: IČ DPH: | J18: ='Rekapitulácia stavby'!AN14
D20: Projektant: | I20: IČO:
E21: Argo-PK, Projekčná kancelária, Strojárska 3998, Snina | I21: IČ DPH:
D23: Spracovateľ: | I23: IČO: | J23: =IF('Rekapitulácia stavby'!AN19="","",'Rekapitulácia stavby'!AN19)
E24: =IF('Rekapitulácia stavby'!E20="","",'Rekapitulácia stavby'!E20) | I24: IČ DPH: | J24: =IF('Rekapitulácia stavby'!AN20="","",'Rekapitulácia stavby'!AN20)
D26: Poznámka:
D30: Cena bez DPH | J30: =ROUND(J123, 2) -> 0
F32: Základ dane | I32: Sadzba dane | J32: Výška dane
D33: DPH | E33: základná | F33: =ROUND((SUM(BE123:BE158)), 2) -> 0 | I33: 0.2 | J33: =ROUND(((SUM(BE123:BE158))*I33), 2) -> 0
E34: znížená | F34: =ROUND((SUM(BF123:BF158)), 2) -> 0 | I34: 0.2 | J34: =ROUND(((SUM(BF123:BF158))*I34), 2) -> 0
E35: zákl. prenesená | F35: =ROUND((SUM(BG123:BG158)), 2) -> 0 | I35: 0.2 | J35: =0 -> 0
E36: zníž. prenesená | F36: =ROUND((SUM(BH123:BH158)), 2) -> 0 | I36: 0.2 | J36: =0 -> 0
E37: nulová | F37: =ROUND((SUM(BI123:BI158)), 2) -> 0 | I37: 0 | J37: =0 -> 0
D39: Cena s DPH | G39: v | H39: EUR | J39: =SUM(J30:J37) -> 0
D50: Projektant | G50: Spracovateľ
D61: Dátum a podpis: | F61: Pečiatka | G61: Dátum a podpis: | J61: Pečiatka
D65: Objednávateľ | G65: Zhotoviteľ
D76: Dátum a podpis: | F76: Pečiatka | G76: Dátum a podpis: | J76: Pečiatka
C82: REKAPITULÁCIA ROZPOČTU
C84: Stavba:
E85: =E7 -> Stavebné úpravy oblúkovej haly na voľné ustajnenie HD, č. 606/4, okr. Snina
C86: Objekt:
E87: =E9 -> 03 - SO - 03 Vodovodná prípojka + vnútorný vodovod
C89: Miesto: | F89: =F12 | I89: Dátum: | J89: =IF(J12="","",J12) -> 45236
C91: Objednávateľ: | F91: =E15 -> JRD Pichne s.r.o., Námestie slobody 2, Humenné 066 01 | I91: Projektant: | J91: =E21 -> Argo-PK, Projekčná kancelária, Strojárska 3998, Snina
C92: Zhotoviteľ: | F92: =IF(E18="","",E18) | I92: Spracovateľ: | J92: =E24
C94: Kód dielu - Popis | J94: Cena celkom [EUR]
C96: Náklady z rozpočtu | J96: =J123 -> 0 | AU96: -1
D97: HSV - Práce a dodávky HSV | J97: =J124 -> 0
D98: 1 - Zemné práce | J98: =J125 -> 0
D99: 4 - Vodorovné konštrukcie | J99: =J137 -> 0
D100: PSV - Práce a dodávky PSV | J100: =J140 -> 0
D101: 8 - Rúrové vedenie | J101: =J141 -> 0
D102: 99 - Presun hmôt HSV | J102: =J147 -> 0
D103: 722 - Zdravotechnika - vnútorný vodovod | J103: =J149 -> 0
C110: ROZPOČET
C112: Stavba:
E113: =E7 -> Stavebné úpravy oblúkovej haly na voľné ustajnenie HD, č. 606/4, okr. Snina
C114: Objekt:
E115: =E9 -> 03 - SO - 03 Vodovodná prípojka + vnútorný vodovod
C117: Miesto: | F117: =F12 | I117: Dátum: | J117: =IF(J12="","",J12) -> 45236
C119: Objednávateľ: | F119: =E15 -> JRD Pichne s.r.o., Námestie slobody 2, Humenné 066 01 | I119: Projektant: | J119: =E21 -> Argo-PK, Projekčná kancelária, Strojárska 3998, Snina
C120: Zhotoviteľ: | F120: =IF(E18="","",E18) | I120: Spracovateľ: | J120: =E24
C122: PČ | D122: Typ | E122: Kód | F122: Popis | G122: MJ | H122: Množstvo | I122: J.cena [EUR] | J122: Cena celkom [EUR] | K122: Cenová sústava | N122: DPH | O122: J. Nh [h] | P122: Nh celkom [h] | Q122: J. hmotnosť [t] | R122: Hmotnosť celkom [t] | S122: J. suť [t] | T122: Suť Celkom [t]
C123: Náklady z rozpočtu | J123: =BK123 -> 0 | P123: =P124+P140 -> 90.453801 | R123: =R124+R140 -> 9.5866797 | T123: =T124+T140 -> 0 | AT123: D | AU123: -1 | BK123: =BK124+BK140 -> 0
D124: D | E124: HSV | F124: Práce a dodávky HSV | J124: =BK124 -> 0 | P124: =P125+P137 -> 46.693038 | R124: =R125+R137 -> 9.5137547 | T124: =T125+T137 -> 0 | AR124: 1 | AT124: D | AU124: 0 | AY124: ROZPOCET | BK124: =BK125+BK137 -> 0
D125: D | E125: 1 | F125: Zemné práce | J125: =BK125 -> 0 | P125: =SUM(P126:P136) -> 44.913708 | R125: =SUM(R126:R136) -> 7.415 | T125: =SUM(T126:T136) -> 0 | AR125: 1 | AT125: D | AU125: 1 | AY125: ROZPOCET | BK125: =SUM(BK126:BK136) -> 0
C126: 1 | D126: K | E126: 132201101 | F126: Hľbenie rýh do šírky 600 mm v hornine 3 do 100 m3 | G126: M3 | H126: 13.32 | J126: =ROUND(I126*H126,2) -> 0 | N126: znížená | O126: 2.514 | P126: =O126*H126 -> 33.48648 | Q126: 0 | R126: =Q126*H126 -> 0 | S126: 0 | T126: =S126*H126 -> 0 | AR126: 4 | AT126: K | AU126: 2 | AY126: ROZPOCET | BE126: =IF(N126="základná",J126,0) -> 0 | BF126: =IF(N126="znížená",J126,0) -> 0 | BG126: =IF(N126="zákl. prenesená",J126,0) -> 0 | BH126: =IF(N126="zníž. prenesená",J126,0) -> 0 | BI126: =IF(N126="nulová",J126,0) -> 0 | BJ126: 2 | BK126: =ROUND(I126*H126,2) -> 0 | BL126: 4 | BM126: -1043223154
D127: VV | F127: 18,5*0,6*1,2 | H127: 13.32 | AT127: VV | AU127: 2 | AV127: 2 | AW127: True | AX127: 1 | AY127: ROZPOCET
C128: 2 | D128: K | E128: 132201109 | F128: Príplatok k cene za lepivosť horniny 3 | G128: M3 | H128: 3.996 | J128: =ROUND(I128*H128,2) -> 0 | N128: znížená | O128: 0.613 | P128: =O128*H128 -> 2.449548 | Q128: 0 | R128: =Q128*H128 -> 0 | S128: 0 | T128: =S128*H128 -> 0 | AR128: 4 | AT128: K | AU128: 2 | AY128: ROZPOCET | BE128: =IF(N128="základná",J128,0) -> 0 | BF128: =IF(N128="znížená",J128,0) -> 0 | BG128: =IF(N128="zákl. prenesená",J128,0) -> 0 | BH128: =IF(N128="zníž. prenesená",J128,0) -> 0 | BI128: =IF(N128="nulová",J128,0) -> 0 | BJ128: 2 | BK128: =ROUND(I128*H128,2) -> 0 | BL128: 4 | BM128: -1800436960
D129: VV | F129: 13,320*0,3 | H129: 3.996 | AT129: VV | AU129: 2 | AV129: 2 | AW129: True | AX129: 1 | AY129: ROZPOCET
C130: 3 | D130: K | E130: 162201102.S | F130: Vodorovné premiestnenie výkopku z horniny 1-4 nad 20-50m | G130: m3 | H130: 5.55 | J130: =ROUND(I130*H130,2) -> 0 | N130: znížená | O130: 0.069 | P130: =O130*H130 -> 0.38295 | Q130: 0 | R130: =Q130*H130 -> 0 | S130: 0 | T130: =S130*H130 -> 0 | AR130: 4 | AT130: K | AU130: 2 | AY130: ROZPOCET | BE130: =IF(N130="základná",J130,0) -> 0 | BF130: =IF(N130="znížená",J130,0) -> 0 | BG130: =IF(N130="zákl. prenesená",J130,0) -> 0 | BH130: =IF(N130="zníž. prenesená",J130,0) -> 0 | BI130: =IF(N130="nulová",J130,0) -> 0 | BJ130: 2 | BK130: =ROUND(I130*H130,2) -> 0 | BL130: 4 | BM130: -1841774495
D131: VV | F131: 1,11+4,44 | H131: 5.55 | AT131: VV | AU131: 2 | AV131: 2 | AW131: True | AX131: 1 | AY131: ROZPOCET
C132: 4 | D132: K | E132: 171201201 | F132: Uloženie sypaniny na skládky | G132: M3 | H132: 5.55 | J132: =ROUND(I132*H132,2) -> 0 | N132: znížená | O132: 0.009 | P132: =O132*H132 -> 0.04995 | Q132: 0 | R132: =Q132*H132 -> 0 | S132: 0 | T132: =S132*H132 -> 0 | AR132: 4 | AT132: K | AU132: 2 | AY132: ROZPOCET | BE132: =IF(N132="základná",J132,0) -> 0 | BF132: =IF(N132="znížená",J132,0) -> 0 | BG132: =IF(N132="zákl. prenesená",J132,0) -> 0 | BH132: =IF(N132="zníž. prenesená",J132,0) -> 0 | BI132: =IF(N132="nulová",J132,0) -> 0 | BJ132: 2 | BK132: =ROUND(I132*H132,2) -> 0 | BL132: 4 | BM132: 171789112
C133: 5 | D133: K | E133: 174101001.S | F133: Zásyp sypaninou so zhutnením jám, šachiet, rýh, zárezov alebo okolo objektov do 100 m3 | G133: m3 | H133: 7.77 | J133: =ROUND(I133*H133,2) -> 0 | N133: znížená | O133: 0.242 | P133: =O133*H133 -> 1.88034 | Q133: 0 | R133: =Q133*H133 -> 0 | S133: 0 | T133: =S133*H133 -> 0 | AR133: 4 | AT133: K | AU133: 2 | AY133: ROZPOCET | BE133: =IF(N133="základná",J133,0) -> 0 | BF133: =IF(N133="znížená",J133,0) -> 0 | BG133: =IF(N133="zákl. prenesená",J133,0) -> 0 | BH133: =IF(N133="zníž. prenesená",J133,0) -> 0 | BI133: =IF(N133="nulová",J133,0) -> 0 | BJ133: 2 | BK133: =ROUND(I133*H133,2) -> 0 | BL133: 4 | BM133: -2046456670
D134: VV | F134: 13,32-4,44-1,11 | H134: 7.77 | AT134: VV | AU134: 2 | AV134: 2 | AW134: True | AX134: 1 | AY134: ROZPOCET
C135: 6 | D135: K | E135: 175101101 | F135: Obsyp potrubia sypaninou z vhodných hornín 1 až 4 bez prehodenia sypaniny | G135: M3 | H135: 4.44 | J135: =ROUND(I135*H135,2) -> 0 | N135: znížená | O135: 1.501 | P135: =O135*H135 -> 6.66444 | Q135: 0 | R135: =Q135*H135 -> 0 | S135: 0 | T135: =S135*H135 -> 0 | AR135: 4 | AT135: K | AU135: 2 | AY135: ROZPOCET | BE135: =IF(N135="základná",J135,0) -> 0 | BF135: =IF(N135="znížená",J135,0) -> 0 | BG135: =IF(N135="zákl. prenesená",J135,0) -> 0 | BH135: =IF(N135="zníž. prenesená",J135,0) -> 0 | BI135: =IF(N135="nulová",J135,0) -> 0 | BJ135: 2 | BK135: =ROUND(I135*H135,2) -> 0 | BL135: 4 | BM135: 2063386079
C136: 7 | D136: M | E136: 583373430 | F136: Strkopiesok 8-32a | G136: t | H136: 7.415 | J136: =ROUND(I136*H136,2) -> 0 | N136: znížená | O136: 0 | P136: =O136*H136 -> 0 | Q136: 1 | R136: =Q136*H136 -> 7.415 | S136: 0 | T136: =S136*H136 -> 0 | AR136: 8 | AT136: M | AU136: 2 | AY136: ROZPOCET | BE136: =IF(N136="základná",J136,0) -> 0 | BF136: =IF(N136="znížená",J136,0) -> 0 | BG136: =IF(N136="zákl. prenesená",J136,0) -> 0 | BH136: =IF(N136="zníž. prenesená",J136,0) -> 0 | BI136: =IF(N136="nulová",J136,0) -> 0 | BJ136: 2 | BK136: =ROUND(I136*H136,2) -> 0 | BL136: 4 | BM136: -1388015659
D137: D | E137: 4 | F137: Vodorovné konštrukcie | J137: =BK137 -> 0 | P137: =SUM(P138:P139) -> 1.77933 | R137: =SUM(R138:R139) -> 2.0987547 | T137: =SUM(T138:T139) -> 0 | AR137: 1 | AT137: D | AU137: 1 | AY137: ROZPOCET | BK137: =SUM(BK138:BK139) -> 0
C138: 8 | D138: K | E138: 451572111 | F138: Lôžko pod potrubie, stoky a drobné objekty, v otvorenom výkope z kameniva drobného ťaženého 0-4 mm | G138: M3 | H138: 1.11 | J138: =ROUND(I138*H138,2) -> 0 | N138: znížená | O138: 1.603 | P138: =O138*H138 -> 1.77933 | Q138: 1.89077 | R138: =Q138*H138 -> 2.0987547 | S138: 0 | T138: =S138*H138 -> 0 | AR138: 4 | AT138: K | AU138: 2 | AY138: ROZPOCET | BE138: =IF(N138="základná",J138,0) -> 0 | BF138: =IF(N138="znížená",J138,0) -> 0 | BG138: =IF(N138="zákl. prenesená",J138,0) -> 0 | BH138: =IF(N138="zníž. prenesená",J138,0) -> 0 | BI138: =IF(N138="nulová",J138,0) -> 0 | BJ138: 2 | BK138: =ROUND(I138*H138,2) -> 0 | BL138: 4 | BM138: -130303460
D139: VV | F139: 18,5*0,6*0,1 | H139: 1.11 | AT139: VV | AU139: 2 | AV139: 2 | AW139: True | AX139: 1 | AY139: ROZPOCET
D140: D | E140: PSV | F140: Práce a dodávky PSV | J140: =BK140 -> 0 | P140: =P141+P147+P149 -> 43.760763 | R140: =R141+R147+R149 -> 0.072925 | T140: =T141+T147+T149 -> 0 | AR140: 1 | AT140: D | AU140: 0 | AY140: ROZPOCET | BK140: =BK141+BK147+BK149 -> 0
D141: D | E141: 8 | F141: Rúrové vedenie | J141: =BK141 -> 0 | P141: =SUM(P142:P146) -> 6.586 | R141: =SUM(R142:R146) -> 0.028015 | T141: =SUM(T142:T146) -> 0 | AR141: 1 | AT141: D | AU141: 1 | AY141: ROZPOCET | BK141: =SUM(BK142:BK146) -> 0
C142: 9 | D142: K | E142: 871241008.S | F142: Montáž vodovodného potrubia D 75x6,8 mm | G142: m | H142: 18.5 | J142: =ROUND(I142*H142,2) -> 0 | N142: znížená | O142: 0.039 | P142: =O142*H142 -> 0.7215 | Q142: 0 | R142: =Q142*H142 -> 0 | S142: 0 | T142: =S142*H142 -> 0 | AR142: 4 | AT142: K | AU142: 2 | AY142: ROZPOCET | BE142: =IF(N142="základná",J142,0) -> 0 | BF142: =IF(N142="znížená",J142,0) -> 0 | BG142: =IF(N142="zákl. prenesená",J142,0) -> 0 | BH142: =IF(N142="zníž. prenesená",J142,0) -> 0 | BI142: =IF(N142="nulová",J142,0) -> 0 | BJ142: 2 | BK142: =ROUND(I142*H142,2) -> 0 | BL142: 4 | BM142: -1603573648
C143: 10 | D143: M | E143: 286130033800.S | F143: Rúra HDPE na vodu PE100 PN16 75x6,8x100 m | G143: m | H143: 18.5 | J143: =ROUND(I143*H143,2) -> 0 | N143: znížená | O143: 0 | P143: =O143*H143 -> 0 | Q143: 0.00147 | R143: =Q143*H143 -> 0.027195 | S143: 0 | T143: =S143*H143 -> 0 | AR143: 8 | AT143: M | AU143: 2 | AY143: ROZPOCET | BE143: =IF(N143="základná",J143,0) -> 0 | BF143: =IF(N143="znížená",J143,0) -> 0 | BG143: =IF(N143="zákl. prenesená",J143,0) -> 0 | BH143: =IF(N143="zníž. prenesená",J143,0) -> 0 | BI143: =IF(N143="nulová",J143,0) -> 0 | BJ143: 2 | BK143: =ROUND(I143*H143,2) -> 0 | BL143: 4 | BM143: -58677982
C144: 11 | D144: M | E144: 286530020500.S | F144: Koleno 90° na tupo PE 100, na vodu, plyn a kanalizáciu, D 75 mm | G144: ks | H144: 2 | J144: =ROUND(I144*H144,2) -> 0 | N144: znížená | O144: 0 | P144: =O144*H144 -> 0 | Q144: 0.00041 | R144: =Q144*H144 -> 0.00082 | S144: 0 | T144: =S144*H144 -> 0 | AR144: 8 | AT144: M | AU144: 2 | AY144: ROZPOCET | BE144: =IF(N144="základná",J144,0) -> 0 | BF144: =IF(N144="znížená",J144,0) -> 0 | BG144: =IF(N144="zákl. prenesená",J144,0) -> 0 | BH144: =IF(N144="zníž. prenesená",J144,0) -> 0 | BI144: =IF(N144="nulová",J144,0) -> 0 | BJ144: 2 | BK144: =ROUND(I144*H144,2) -> 0 | BL144: 4 | BM144: 918240593
C145: 12 | D145: K | E145: 892241111.S | F145: Ostatné práce na rúrovom vedení, tlakové skúšky vodovodného potrubia DN do 80 | G145: m | H145: 18.5 | J145: =ROUND(I145*H145,2) -> 0 | N145: znížená | O145: 0.041 | P145: =O145*H145 -> 0.7585 | Q145: 0 | R145: =Q145*H145 -> 0 | S145: 0 | T145: =S145*H145 -> 0 | AR145: 4 | AT145: K | AU145: 2 | AY145: ROZPOCET | BE145: =IF(N145="základná",J145,0) -> 0 | BF145: =IF(N145="znížená",J145,0) -> 0 | BG145: =IF(N145="zákl. prenesená",J145,0) -> 0 | BH145: =IF(N145="zníž. prenesená",J145,0) -> 0 | BI145: =IF(N145="nulová",J145,0) -> 0 | BJ145: 2 | BK145: =ROUND(I145*H145,2) -> 0 | BL145: 4 | BM145: -1351111633
C146: 13 | D146: K | E146: 892273111.S | F146: Preplach a dezinfekcia vodovodného potrubia DN od 80 do 125 | G146: m | H146: 18.5 | J146: =ROUND(I146*H146,2) -> 0 | N146: znížená | O146: 0.276 | P146: =O146*H146 -> 5.106 | Q146: 0 | R146: =Q146*H146 -> 0 | S146: 0 | T146: =S146*H146 -> 0 | AR146: 4 | AT146: K | AU146: 2 | AY146: ROZPOCET | BE146: =IF(N146="základná",J146,0) -> 0 | BF146: =IF(N146="znížená",J146,0) -> 0 | BG146: =IF(N146="zákl. prenesená",J146,0) -> 0 | BH146: =IF(N146="zníž. prenesená",J146,0) -> 0 | BI146: =IF(N146="nulová",J146,0) -> 0 | BJ146: 2 | BK146: =ROUND(I146*H146,2) -> 0 | BL146: 4 | BM146: 834310786
D147: D | E147: 99 | F147: Presun hmôt HSV | J147: =BK147 -> 0 | P147: =P148 -> 12.299638 | R147: =R148 -> 0 | T147: =T148 -> 0 | AR147: 1 | AT147: D | AU147: 1 | AY147: ROZPOCET | BK147: =BK148 -> 0
C148: 14 | D148: K | E148: 998276101.S | F148: Presun hmôt pre rúrové vedenie hĺbené z rúr z plast., hmôt alebo sklolamin. v otvorenom výkope | G148: t | H148: 9.542 | J148: =ROUND(I148*H148,2) -> 0 | N148: znížená | O148: 1.289 | P148: =O148*H148 -> 12.299638 | Q148: 0 | R148: =Q148*H148 -> 0 | S148: 0 | T148: =S148*H148 -> 0 | AR148: 4 | AT148: K | AU148: 2 | AY148: ROZPOCET | BE148: =IF(N148="základná",J148,0) -> 0 | BF148: =IF(N148="znížená",J148,0) -> 0 | BG148: =IF(N148="zákl. prenesená",J148,0) -> 0 | BH148: =IF(N148="zníž. prenesená",J148,0) -> 0 | BI148: =IF(N148="nulová",J148,0) -> 0 | BJ148: 2 | BK148: =ROUND(I148*H148,2) -> 0 | BL148: 4 | BM148: 133545470
D149: D | E149: 722 | F149: Zdravotechnika - vnútorný vodovod | J149: =BK149 -> 0 | P149: =SUM(P150:P158) -> 24.875125 | R149: =SUM(R150:R158) -> 0.04491 | T149: =SUM(T150:T158) -> 0 | AR149: 2 | AT149: D | AU149: 1 | AY149: ROZPOCET | BK149: =SUM(BK150:BK158) -> 0
C150: 15 | D150: K | E150: 722172306.S | F150: Montáž vodovodného potrubia zváraním PN 10 D 32 mm | G150: m | H150: 55.5 | J150: =ROUND(I150*H150,2) -> 0 | N150: znížená | O150: 0.341 | P150: =O150*H150 -> 18.9255 | Q150: 9e-05 | R150: =Q150*H150 -> 0.004995 | S150: 0 | T150: =S150*H150 -> 0 | AR150: 16 | AT150: K | AU150: 2 | AY150: ROZPOCET | BE150: =IF(N150="základná",J150,0) -> 0 | BF150: =IF(N150="znížená",J150,0) -> 0 | BG150: =IF(N150="zákl. prenesená",J150,0) -> 0 | BH150: =IF(N150="zníž. prenesená",J150,0) -> 0 | BI150: =IF(N150="nulová",J150,0) -> 0 | BJ150: 2 | BK150: =ROUND(I150*H150,2) -> 0 | BL150: 16 | BM150: -577343221
C151: 16 | D151: M | E151: 286140018900.S | F151: Rúra D 32x2,9 mm PN 10, systém pre rozvod pitnej vody | G151: m | H151: 55.5 | J151: =ROUND(I151*H151,2) -> 0 | N151: znížená | O151: 0 | P151: =O151*H151 -> 0 | Q151: 0.00026 | R151: =Q151*H151 -> 0.01443 | S151: 0 | T151: =S151*H151 -> 0 | AR151: 32 | AT151: M | AU151: 2 | AY151: ROZPOCET | BE151: =IF(N151="základná",J151,0) -> 0 | BF151: =IF(N151="znížená",J151,0) -> 0 | BG151: =IF(N151="zákl. prenesená",J151,0) -> 0 | BH151: =IF(N151="zníž. prenesená",J151,0) -> 0 | BI151: =IF(N151="nulová",J151,0) -> 0 | BJ151: 2 | BK151: =ROUND(I151*H151,2) -> 0 | BL151: 16 | BM151: 772505994
C152: 17 | D152: K | E152: 722190405.S | F152: Vyvedenie a upevnenie výpustky do DN 50 | G152: ks | H152: 3 | J152: =ROUND(I152*H152,2) -> 0 | N152: znížená | O152: 0.529 | P152: =O152*H152 -> 1.587 | Q152: 0 | R152: =Q152*H152 -> 0 | S152: 0 | T152: =S152*H152 -> 0 | AR152: 16 | AT152: K | AU152: 2 | AY152: ROZPOCET | BE152: =IF(N152="základná",J152,0) -> 0 | BF152: =IF(N152="znížená",J152,0) -> 0 | BG152: =IF(N152="zákl. prenesená",J152,0) -> 0 | BH152: =IF(N152="zníž. prenesená",J152,0) -> 0 | BI152: =IF(N152="nulová",J152,0) -> 0 | BJ152: 2 | BK152: =ROUND(I152*H152,2) -> 0 | BL152: 16 | BM152: 1339424679
C153: 18 | D153: K | E153: 722221210.S | F153: Montáž tlakového redukčného závitového ventilu bez manometru G 6/4 | G153: ks | H153: 1 | J153: =ROUND(I153*H153,2) -> 0 | N153: znížená | O153: 0.3616 | P153: =O153*H153 -> 0.3616 | Q153: 6e-05 | R153: =Q153*H153 -> 6e-05 | S153: 0 | T153: =S153*H153 -> 0 | AR153: 16 | AT153: K | AU153: 2 | AY153: ROZPOCET | BE153: =IF(N153="základná",J153,0) -> 0 | BF153: =IF(N153="znížená",J153,0) -> 0 | BG153: =IF(N153="zákl. prenesená",J153,0) -> 0 | BH153: =IF(N153="zníž. prenesená",J153,0) -> 0 | BI153: =IF(N153="nulová",J153,0) -> 0 | BJ153: 2 | BK153: =ROUND(I153*H153,2) -> 0 | BL153: 16 | BM153: -427320456
C154: 19 | D154: M | E154: 551110018000.S | F154: Tlakový redukčný ventil, 6/4" mm, | G154: ks | H154: 1 | J154: =ROUND(I154*H154,2) -> 0 | N154: znížená | O154: 0 | P154: =O154*H154 -> 0 | Q154: 0.021 | R154: =Q154*H154 -> 0.021 | S154: 0 | T154: =S154*H154 -> 0 | AR154: 32 | AT154: M | AU154: 2 | AY154: ROZPOCET | BE154: =IF(N154="základná",J154,0) -> 0 | BF154: =IF(N154="znížená",J154,0) -> 0 | BG154: =IF(N154="zákl. prenesená",J154,0) -> 0 | BH154: =IF(N154="zníž. prenesená",J154,0) -> 0 | BI154: =IF(N154="nulová",J154,0) -> 0 | BJ154: 2 | BK154: =ROUND(I154*H154,2) -> 0 | BL154: 16 | BM154: -283235669
C155: 20 | D155: K | E155: 722222018.S | F155: Montáž uzatváracieho ventilu šikmého na pitnú vodu DN 32 | G155: ks | H155: 3 | J155: =ROUND(I155*H155,2) -> 0 | N155: znížená | O155: 0.25975 | P155: =O155*H155 -> 0.77925 | Q155: 1e-05 | R155: =Q155*H155 -> 3e-05 | S155: 0 | T155: =S155*H155 -> 0 | AR155: 16 | AT155: K | AU155: 2 | AY155: ROZPOCET | BE155: =IF(N155="základná",J155,0) -> 0 | BF155: =IF(N155="znížená",J155,0) -> 0 | BG155: =IF(N155="zákl. prenesená",J155,0) -> 0 | BH155: =IF(N155="zníž. prenesená",J155,0) -> 0 | BI155: =IF(N155="nulová",J155,0) -> 0 | BJ155: 2 | BK155: =ROUND(I155*H155,2) -> 0 | BL155: 16 | BM155: 1024852918
C156: 21 | D156: M | E156: 551110029610.S | F156: Ventil uzatvárací šikmý DN 32, na pitnú vodu, | G156: ks | H156: 3 | J156: =ROUND(I156*H156,2) -> 0 | N156: znížená | O156: 0 | P156: =O156*H156 -> 0 | Q156: 0.00128 | R156: =Q156*H156 -> 0.00384 | S156: 0 | T156: =S156*H156 -> 0 | AR156: 32 | AT156: M | AU156: 2 | AY156: ROZPOCET | BE156: =IF(N156="základná",J156,0) -> 0 | BF156: =IF(N156="znížená",J156,0) -> 0 | BG156: =IF(N156="zákl. prenesená",J156,0) -> 0 | BH156: =IF(N156="zníž. prenesená",J156,0) -> 0 | BI156: =IF(N156="nulová",J156,0) -> 0 | BJ156: 2 | BK156: =ROUND(I156*H156,2) -> 0 | BL156: 16 | BM156: 252915539
C157: 22 | D157: K | E157: 722290234.S | F157: Prepláchnutie a dezinfekcia vodovodného potrubia do DN 80 | G157: m | H157: 55.5 | J157: =ROUND(I157*H157,2) -> 0 | N157: znížená | O157: 0.05805 | P157: =O157*H157 -> 3.221775 | Q157: 1e-05 | R157: =Q157*H157 -> 0.000555 | S157: 0 | T157: =S157*H157 -> 0 | AR157: 16 | AT157: K | AU157: 2 | AY157: ROZPOCET | BE157: =IF(N157="základná",J157,0) -> 0 | BF157: =IF(N157="znížená",J157,0) -> 0 | BG157: =IF(N157="zákl. prenesená",J157,0) -> 0 | BH157: =IF(N157="zníž. prenesená",J157,0) -> 0 | BI157: =IF(N157="nulová",J157,0) -> 0 | BJ157: 2 | BK157: =ROUND(I157*H157,2) -> 0 | BL157: 16 | BM157: 1208579866
C158: 23 | D158: K | E158: 998722201.S | F158: Presun hmôt pre vnútorný vodovod v objektoch výšky do 6 m | G158: % | H158: 8.311 | J158: =ROUND(I158*H158,2) -> 0 | N158: znížená | O158: 0 | P158: =O158*H158 -> 0 | Q158: 0 | R158: =Q158*H158 -> 0 | S158: 0 | T158: =S158*H158 -> 0 | AR158: 16 | AT158: K | AU158: 2 | AY158: ROZPOCET | BE158: =IF(N158="základná",J158,0) -> 0 | BF158: =IF(N158="znížená",J158,0) -> 0 | BG158: =IF(N158="zákl. prenesená",J158,0) -> 0 | BH158: =IF(N158="zníž. prenesená",J158,0) -> 0 | BI158: =IF(N158="nulová",J158,0) -> 0 | BJ158: 2 | BK158: =ROUND(I158*H158,2) -> 0 | BL158: 16 | BM158: 1741061930

Sheet 04 - SO - 04 Vnútorna ele...
L2: >> skryté stĺpce << | AT2: {ac4208d4-c1de-46c4-b65b-3847683de28d}
AT3: 0
D4: KRYCÍ LIST ROZPOČTU | M4: v --- nižšie sa nachádzajú doplnkové a pomocné údaje k zostavám --- v | AT4: False
D6: Stavba:
E7: ='Rekapitulácia stavby'!K6 -> Stavebné úpravy oblúkovej haly na voľné ustajnenie HD, č. 606/4, okr. Snina
D8: Objekt:
E9: 04 - SO - 04 Vnútorna elektroinštalácia
D11: JKSO: | I11: KS:
D12: Miesto: | I12: Dátum: | J12: ='Rekapitulácia stavby'!AN8 -> 45236
D14: Objednávateľ: | I14: IČO: | J14: 36 469 076
E15: JRD Pichne s.r.o., Námestie slobody 2, Humenné 066 01 | I15: IČ DPH: | J15: SK202 002 2719
D17: Zhotoviteľ: | I17: IČO: | J17: ='Rekapitulácia stavby'!AN13
E18: ='Rekapitulácia stavby'!E14 | I18: IČ DPH: | J18: ='Rekapitulácia stavby'!AN14
D20: Projektant: | I20: IČO:
E21: Argo-PK, Projekčná kancelária, Strojárska 3998, Snina | I21: IČ DPH:
D23: Spracovateľ: | I23: IČO: | J23: =IF('Rekapitulácia stavby'!AN19="","",'Rekapitulácia stavby'!AN19)
E24: =IF('Rekapitulácia stavby'!E20="","",'Rekapitulácia stavby'!E20) | I24: IČ DPH: | J24: =IF('Rekapitulácia stavby'!AN20="","",'Rekapitulácia stavby'!AN20)
D26: Poznámka:
D30: Cena bez DPH | J30: =ROUND(J119, 2) -> 0
F32: Základ dane | I32: Sadzba dane | J32: Výška dane
D33: DPH | E33: základná | F33: =ROUND((SUM(BE119:BE145)), 2) -> 0 | I33: 0.2 | J33: =ROUND(((SUM(BE119:BE145))*I33), 2) -> 0
E34: znížená | F34: =ROUND((SUM(BF119:BF145)), 2) -> 0 | I34: 0.2 | J34: =ROUND(((SUM(BF119:BF145))*I34), 2) -> 0
E35: zákl. prenesená | F35: =ROUND((SUM(BG119:BG145)), 2) -> 0 | I35: 0.2 | J35: =0 -> 0
E36: zníž. prenesená | F36: =ROUND((SUM(BH119:BH145)), 2) -> 0 | I36: 0.2 | J36: =0 -> 0
E37: nulová | F37: =ROUND((SUM(BI119:BI145)), 2) -> 0 | I37: 0 | J37: =0 -> 0
D39: Cena s DPH | G39: v | H39: EUR | J39: =SUM(J30:J37) -> 0
D50: Projektant | G50: Spracovateľ
D61: Dátum a podpis: | F61: Pečiatka | G61: Dátum a podpis: | J61: Pečiatka
D65: Objednávateľ | G65: Zhotoviteľ
D76: Dátum a podpis: | F76: Pečiatka | G76: Dátum a podpis: | J76: Pečiatka
C82: REKAPITULÁCIA ROZPOČTU
C84: Stavba:
E85: =E7 -> Stavebné úpravy oblúkovej haly na voľné ustajnenie HD, č. 606/4, okr. Snina
C86: Objekt:
E87: =E9 -> 04 - SO - 04 Vnútorna elektroinštalácia
C89: Miesto: | F89: =F12 | I89: Dátum: | J89: =IF(J12="","",J12) -> 45236
C91: Objednávateľ: | F91: =E15 -> JRD Pichne s.r.o., Námestie slobody 2, Humenné 066 01 | I91: Projektant: | J91: =E21 -> Argo-PK, Projekčná kancelária, Strojárska 3998, Snina
C92: Zhotoviteľ: | F92: =IF(E18="","",E18) | I92: Spracovateľ: | J92: =E24
C94: Kód dielu - Popis | J94: Cena celkom [EUR]
C96: Náklady z rozpočtu | J96: =J119 -> 0 | AU96: -1
D97: HSV - Práce a dodávky HSV | J97: =J120 -> 0
D98: M - Práce a dodávky M | J98: =J121 -> 0
D99: 21-M - Elektromontáže | J99: =J122 -> 0
C106: ROZPOČET
C108: Stavba:
E109: =E7 -> Stavebné úpravy oblúkovej haly na voľné ustajnenie HD, č. 606/4, okr. Snina
C110: Objekt:
E111: =E9 -> 04 - SO - 04 Vnútorna elektroinštalácia
C113: Miesto: | F113: =F12 | I113: Dátum: | J113: =IF(J12="","",J12) -> 45236
C115: Objednávateľ: | F115: =E15 -> JRD Pichne s.r.o., Námestie slobody 2, Humenné 066 01 | I115: Projektant: | J115: =E21 -> Argo-PK, Projekčná kancelária, Strojárska 3998, Snina
C116: Zhotoviteľ: | F116: =IF(E18="","",E18) | I116: Spracovateľ: | J116: =E24
C118: PČ | D118: Typ | E118: Kód | F118: Popis | G118: MJ | H118: Množstvo | I118: J.cena [EUR] | J118: Cena celkom [EUR] | K118: Cenová sústava | N118: DPH | O118: J. Nh [h] | P118: Nh celkom [h] | Q118: J. hmotnosť [t] | R118: Hmotnosť celkom [t] | S118: J. suť [t] | T118: Suť Celkom [t]
C119: Náklady z rozpočtu | J119: =BK119 -> 0 | P119: =P120+P121 -> 42.515 | R119: =R120+R121 -> 0.17736 | T119: =T120+T121 -> 0 | AT119: D | AU119: -1 | BK119: =BK120+BK121 -> 0
D120: D | E120: HSV | F120: Práce a dodávky HSV | J120: =BK120 -> 0 | P120: 0 | R120: 0 | T120: 0 | AR120: 1 | AT120: D | AU120: 0 | AY120: ROZPOCET | BK120: 0
D121: D | E121: M | F121: Práce a dodávky M | J121: =BK121 -> 0 | P121: =P122 -> 42.515 | R121: =R122 -> 0.17736 | T121: =T122 -> 0 | AR121: 3 | AT121: D | AU121: 0 | AY121: ROZPOCET | BK121: =BK122 -> 0
D122: D | E122: 21-M | F122: Elektromontáže | J122: =BK122 -> 0 | P122: =SUM(P123:P145) -> 42.515 | R122: =SUM(R123:R145) -> 0.17736 | T122: =SUM(T123:T145) -> 0 | AR122: 3 | AT122: D | AU122: 1 | AY122: ROZPOCET | BK122: =SUM(BK123:BK145) -> 0
C123: 1 | D123: K | E123: 210010041.S | F123: Rúrka elektroinštalačná ohybná kovová typ 3313, uložená pevne | G123: m | H123: 65 | J123: =ROUND(I123*H123,2) -> 0 | N123: znížená | O123: 0.098 | P123: =O123*H123 -> 6.37 | Q123: 0 | R123: =Q123*H123 -> 0 | S123: 0 | T123: =S123*H123 -> 0 | AR123: 64 | AT123: K | AU123: 2 | AY123: ROZPOCET | BE123: =IF(N123="základná",J123,0) -> 0 | BF123: =IF(N123="znížená",J123,0) -> 0 | BG123: =IF(N123="zákl. prenesená",J123,0) -> 0 | BH123: =IF(N123="zníž. prenesená",J123,0) -> 0 | BI123: =IF(N123="nulová",J123,0) -> 0 | BJ123: 2 | BK123: =ROUND(I123*H123,2) -> 0 | BL123: 64 | BM123: 345405972
C124: 2 | D124: M | E124: 345710008305.S | F124: Rúrka ohybná 3313 kovová z vrchnej pozink. oceľovej pásky a vnútornej izolačnej vrstvy, D 18,9 mm | G124: m | H124: 65 | J124: =ROUND(I124*H124,2) -> 0 | N124: znížená | O124: 0 | P124: =O124*H124 -> 0 | Q124: 0.00019 | R124: =Q124*H124 -> 0.01235 | S124: 0 | T124: =S124*H124 -> 0 | AR124: 128 | AT124: M | AU124: 2 | AY124: ROZPOCET | BE124: =IF(N124="základná",J124,0) -> 0 | BF124: =IF(N124="znížená",J124,0) -> 0 | BG124: =IF(N124="zákl. prenesená",J124,0) -> 0 | BH124: =IF(N124="zníž. prenesená",J124,0) -> 0 | BI124: =IF(N124="nulová",J124,0) -> 0 | BJ124: 2 | BK124: =ROUND(I124*H124,2) -> 0 | BL124: 128 | BM124: 185823012
C125: 3 | D125: M | E125: 345710036510.S | F125: Príchytka obojstranná 3613 z pozinkovanej ocele pre ohybné kovové elektroinštal. rúrky D 13 mm | G125: ks | H125: 65 | J125: =ROUND(I125*H125,2) -> 0 | N125: znížená | O125: 0 | P125: =O125*H125 -> 0 | Q125: 5e-05 | R125: =Q125*H125 -> 0.00325 | S125: 0 | T125: =S125*H125 -> 0 | AR125: 128 | AT125: M | AU125: 2 | AY125: ROZPOCET | BE125: =IF(N125="základná",J125,0) -> 0 | BF125: =IF(N125="znížená",J125,0) -> 0 | BG125: =IF(N125="zákl. prenesená",J125,0) -> 0 | BH125: =IF(N125="zníž. prenesená",J125,0) -> 0 | BI125: =IF(N125="nulová",J125,0) -> 0 | BJ125: 2 | BK125: =ROUND(I125*H125,2) -> 0 | BL125: 128 | BM125: -1759918804
C126: 4 | D126: K | E126: 210010301 | F126: Škatuľa prístrojová bez zapojenia | G126: KUS | H126: 5 | J126: =ROUND(I126*H126,2) -> 0 | N126: znížená | O126: 0.091 | P126: =O126*H126 -> 0.455 | Q126: 0 | R126: =Q126*H126 -> 0 | S126: 0 | T126: =S126*H126 -> 0 | AR126: 64 | AT126: K | AU126: 2 | AY126: ROZPOCET | BE126: =IF(N126="základná",J126,0) -> 0 | BF126: =IF(N126="znížená",J126,0) -> 0 | BG126: =IF(N126="zákl. prenesená",J126,0) -> 0 | BH126: =IF(N126="zníž. prenesená",J126,0) -> 0 | BI126: =IF(N126="nulová",J126,0) -> 0 | BJ126: 2 | BK126: =ROUND(I126*H126,2) -> 0 | BL126: 64 | BM126: 1893131413
C127: 5 | D127: M | E127: 3450906510 | F127: Krabica | G127: ks | H127: 5 | J127: =ROUND(I127*H127,2) -> 0 | N127: znížená | O127: 0 | P127: =O127*H127 -> 0 | Q127: 0 | R127: =Q127*H127 -> 0 | S127: 0 | T127: =S127*H127 -> 0 | AR127: 128 | AT127: M | AU127: 2 | AY127: ROZPOCET | BE127: =IF(N127="základná",J127,0) -> 0 | BF127: =IF(N127="znížená",J127,0) -> 0 | BG127: =IF(N127="zákl. prenesená",J127,0) -> 0 | BH127: =IF(N127="zníž. prenesená",J127,0) -> 0 | BI127: =IF(N127="nulová",J127,0) -> 0 | BJ127: 2 | BK127: =ROUND(I127*H127,2) -> 0 | BL127: 128 | BM127: -883459590
C128: 6 | D128: K | E128: 210100002 | F128: Ukončenie vodičov v rozvádzač. vč. zapojenia a vodičovej koncovky do 6 mm2 | G128: KUS | H128: 5 | J128: =ROUND(I128*H128,2) -> 0 | N128: znížená | O128: 0.057 | P128: =O128*H128 -> 0.285 | Q128: 0 | R128: =Q128*H128 -> 0 | S128: 0 | T128: =S128*H128 -> 0 | AR128: 64 | AT128: K | AU128: 2 | AY128: ROZPOCET | BE128: =IF(N128="základná",J128,0) -> 0 | BF128: =IF(N128="znížená",J128,0) -> 0 | BG128: =IF(N128="zákl. prenesená",J128,0) -> 0 | BH128: =IF(N128="zníž. prenesená",J128,0) -> 0 | BI128: =IF(N128="nulová",J128,0) -> 0 | BJ128: 2 | BK128: =ROUND(I128*H128,2) -> 0 | BL128: 64 | BM128: 1978828732
C129: 7 | D129: K | E129: 210110001.S | F129: Jednopólový spínač, nástenný , vrátane zapojenia | G129: ks | H129: 5 | J129: =ROUND(I129*H129,2) -> 0 | N129: znížená | O129: 0.288 | P129: =O129*H129 -> 1.44 | Q129: 0 | R129: =Q129*H129 -> 0 | S129: 0 | T129: =S129*H129 -> 0 | AR129: 64 | AT129: K | AU129: 2 | AY129: ROZPOCET | BE129: =IF(N129="základná",J129,0) -> 0 | BF129: =IF(N129="znížená",J129,0) -> 0 | BG129: =IF(N129="zákl. prenesená",J129,0) -> 0 | BH129: =IF(N129="zníž. prenesená",J129,0) -> 0 | BI129: =IF(N129="nulová",J129,0) -> 0 | BJ129: 2 | BK129: =ROUND(I129*H129,2) -> 0 | BL129: 64 | BM129: 243845944
C130: 8 | D130: M | E130: 345340003000.S | F130: Spínač jednopólový nástenný | G130: ks | H130: 5 | J130: =ROUND(I130*H130,2) -> 0 | N130: znížená | O130: 0 | P130: =O130*H130 -> 0 | Q130: 0.0001 | R130: =Q130*H130 -> 0.0005 | S130: 0 | T130: =S130*H130 -> 0 | AR130: 128 | AT130: M | AU130: 2 | AY130: ROZPOCET | BE130: =IF(N130="základná",J130,0) -> 0 | BF130: =IF(N130="znížená",J130,0) -> 0 | BG130: =IF(N130="zákl. prenesená",J130,0) -> 0 | BH130: =IF(N130="zníž. prenesená",J130,0) -> 0 | BI130: =IF(N130="nulová",J130,0) -> 0 | BJ130: 2 | BK130: =ROUND(I130*H130,2) -> 0 | BL130: 128 | BM130: -628302505
C131: 9 | D131: K | E131: 210111011.S | F131: Domová zásuvka polozapustená alebo zapustená 250 V vrátane zapojenia | G131: ks | H131: 3 | J131: =ROUND(I131*H131,2) -> 0 | N131: znížená | O131: 0.258 | P131: =O131*H131 -> 0.774 | Q131: 0 | R131: =Q131*H131 -> 0 | S131: 0 | T131: =S131*H131 -> 0 | AR131: 64 | AT131: K | AU131: 2 | AY131: ROZPOCET | BE131: =IF(N131="základná",J131,0) -> 0 | BF131: =IF(N131="znížená",J131,0) -> 0 | BG131: =IF(N131="zákl. prenesená",J131,0) -> 0 | BH131: =IF(N131="zníž. prenesená",J131,0) -> 0 | BI131: =IF(N131="nulová",J131,0) -> 0 | BJ131: 2 | BK131: =ROUND(I131*H131,2) -> 0 | BL131: 64 | BM131: -1353264004
C132: 10 | D132: M | E132: 345350004320.S | F132: Rámik jednoduchý pre spínače a zásuvky | G132: ks | H132: 3 | J132: =ROUND(I132*H132,2) -> 0 | N132: znížená | O132: 0 | P132: =O132*H132 -> 0 | Q132: 3e-05 | R132: =Q132*H132 -> 9e-05 | S132: 0 | T132: =S132*H132 -> 0 | AR132: 128 | AT132: M | AU132: 2 | AY132: ROZPOCET | BE132: =IF(N132="základná",J132,0) -> 0 | BF132: =IF(N132="znížená",J132,0) -> 0 | BG132: =IF(N132="zákl. prenesená",J132,0) -> 0 | BH132: =IF(N132="zníž. prenesená",J132,0) -> 0 | BI132: =IF(N132="nulová",J132,0) -> 0 | BJ132: 2 | BK132: =ROUND(I132*H132,2) -> 0 | BL132: 128 | BM132: -1554667524
C133: 11 | D133: M | E133: 345520000430.S | F133: Zásuvka jednonásobná polozapustená, komplet | G133: ks | H133: 3 | J133: =ROUND(I133*H133,2) -> 0 | N133: znížená | O133: 0 | P133: =O133*H133 -> 0 | Q133: 8e-05 | R133: =Q133*H133 -> 0.00024 | S133: 0 | T133: =S133*H133 -> 0 | AR133: 128 | AT133: M | AU133: 2 | AY133: ROZPOCET | BE133: =IF(N133="základná",J133,0) -> 0 | BF133: =IF(N133="znížená",J133,0) -> 0 | BG133: =IF(N133="zákl. prenesená",J133,0) -> 0 | BH133: =IF(N133="zníž. prenesená",J133,0) -> 0 | BI133: =IF(N133="nulová",J133,0) -> 0 | BJ133: 2 | BK133: =ROUND(I133*H133,2) -> 0 | BL133: 128 | BM133: -1257456084
C134: 12 | D134: K | E134: 210111102.S | F134: Priemyslová zásuvka nástenná vrátane zapojenia, | G134: ks | H134: 3 | J134: =ROUND(I134*H134,2) -> 0 | N134: znížená | O134: 0.387 | P134: =O134*H134 -> 1.161 | Q134: 0 | R134: =Q134*H134 -> 0 | S134: 0 | T134: =S134*H134 -> 0 | AR134: 64 | AT134: K | AU134: 2 | AY134: ROZPOCET | BE134: =IF(N134="základná",J134,0) -> 0 | BF134: =IF(N134="znížená",J134,0) -> 0 | BG134: =IF(N134="zákl. prenesená",J134,0) -> 0 | BH134: =IF(N134="zníž. prenesená",J134,0) -> 0 | BI134: =IF(N134="nulová",J134,0) -> 0 | BJ134: 2 | BK134: =ROUND(I134*H134,2) -> 0 | BL134: 64 | BM134: -1012769676
... C145: 23 | D145: K | E145: PPV | F145: Podiel pridružených výkonov | G145: % | H145: 18.792 | J145: =ROUND(I145*H145,2) -> 0 | N145: znížená | O145: 0 | P145: =O145*H145 -> 0 | Q145: 0 | R145: =Q145*H145 -> 0 | S145: 0 | T145: =S145*H145 -> 0 | AR145: 64 | AT145: K | AU145: 2 | AY145: ROZPOCET | BE145: =IF(N145="základná",J145,0) -> 0 | BF145: =IF(N145="znížená",J145,0) -> 0 | BG145: =IF(N145="zákl. prenesená",J145,0) -> 0 | BH145: =IF(N145="zníž. prenesená",J145,0) -> 0 | BI145: =IF(N145="nulová",J145,0) -> 0 | BJ145: 2 | BK145: =ROUND(I145*H145,2) -> 0 | BL145: 64 | BM145: -1642277277

Sheet Hárok1
