Workbook

Sheet Rekapitulácia stavby
A1: Export Komplet | BT1: False | BU1: False | BV1: {1610fd6c-9c7c-4eb8-9ca8-d13054ebdc25}
BS2: 0,001 | BT2: 20
BS3: 0,001 | BT3: 20
D4: REKAPITULÁCIA STAVBY | BS4: 0,001
D5: Kód: | K5: 31021 | BS5: 0,001
D6: Stavba: | K6: Stavebné úpravy skladu objemových krmovín pre ŽV, p.č. 375 , k.ú. Vyšný Hrušov okr. Humenné | BS6: 0,001
D7: JKSO: | AK7: KS: | BS7: 0,001
D8: Miesto: | K8: Vyšný Hrušov okr. Humenné | AK8: Dátum: | AN8: 45236 | BS8: 0,001
BS9: 0,001
D10: Objednávateľ: | AK10: IČO: | BS10: 0,001
E11: Agro Borkov s.r.o. | AK11: IČ DPH: | BS11: 0,001
BS12: 0,001
D13: Zhotoviteľ: | AK13: IČO: | BS13: 0,001
AK14: IČ DPH: | BS14: 0,001
BS15: False
D16: Projektant: | AK16: IČO: | BS16: False
E17: Ing.Mária Salanciová | AK17: IČ DPH: | BS17: True
BS18: 0,01
D19: Spracovateľ: | AK19: IČO: | BS19: 0,01
E20: Ing.Mária Salanciová | AK20: IČ DPH: | BS20: True
D22: Poznámka:
D26: Cena bez DPH | AK26: =ROUND(AG94,2) -> 0
L28: Sadzba dane | W28: Základ dane | AK28: Výška dane
D29: DPH | F29: základná | L29: 0.2 | W29: =ROUND(AZ94, 2) -> 0 | AK29: =ROUND(AV94, 2) -> 0
F30: znížená | L30: 0.2 | W30: =ROUND(BA94, 2) -> 0 | AK30: =ROUND(AW94, 2) -> 0
F31: zákl. prenesená | L31: 0.2 | W31: =ROUND(BB94, 2) -> 0 | AK31: 0
F32: zníž. prenesená | L32: 0.2 | W32: =ROUND(BC94, 2) -> 0 | AK32: 0
F33: nulová | L33: 0 | W33: =ROUND(BD94, 2) -> 0 | AK33: 0
D35: Cena s DPH | T35: v | X35: EUR | AK35: =SUM(AK26:AK33) -> 0
D49: Projektant | AH49: Spracovateľ
D60: Dátum a podpis: | V60: Pečiatka | AH60: Dátum a podpis: | AM60: Pečiatka
D64: Objednávateľ | AH64: Zhotoviteľ
D75: Dátum a podpis: | V75: Pečiatka | AH75: Dátum a podpis: | AM75: Pečiatka
C82: REKAPITULÁCIA OBJEKTOV STAVBY
C84: Kód: | L84: =K5 -> 31021
C85: Stavba: | L85: =K6 -> Stavebné úpravy skladu objemových krmovín pre ŽV, p.č. 375 , k.ú. Vyšný Hrušov okr. Humenné
C87: Miesto: | L87: =IF(K8="","",K8) -> Vyšný Hrušov okr. Humenné | AI87: Dátum: | AM87: =IF(AN8= "","",AN8) -> 45236
C89: Objednávateľ: | L89: =IF(E11= "","",E11) -> Agro Borkov s.r.o. | AI89: Projektant: | AM89: =IF(E17="","",E17) -> Ing.Mária Salanciová
C90: Zhotoviteľ: | L90: =IF(E14="","",E14) | AI90: Spracovateľ: | AM90: =IF(E20="","",E20) -> Ing.Mária Salanciová
C92: Kód | I92: Popis | AG92: Cena bez DPH [EUR] | AN92: Cena s DPH [EUR] | AQ92: Typ
C94: Náklady z rozpočtov | AG94: =ROUND(AG95,2) -> 0 | AN94: =SUM(AG94,AT94) -> 0 | BS94: D | BT94: 0 | BU94: ###NOIMPORT### | BV94: IMPORT | BW94: {1610fd6c-9c7c-4eb8-9ca8-d13054ebdc25} | BX94: {00000000-0000-0000-0000-000000000000}
A95: / | D95: 01 | J95: Stavebné úpravy senníka | AG95: ='01 - Stavebné úpravy senníka'!J30 -> 0 | AN95: =SUM(AG95,AT95) -> 0 | AQ95: STA | BT95: 1 | BV95: IMPORT | BW95: {9bdeb70b-1809-4f6f-ab31-2605a0e18e56} | BX95: {1610fd6c-9c7c-4eb8-9ca8-d13054ebdc25} | CM95: 0

Sheet 01 - Stavebné úpravy senníka
L2: >> skryté stĺpce << | AT2: {9bdeb70b-1809-4f6f-ab31-2605a0e18e56}
AT3: 0
D4: KRYCÍ LIST ROZPOČTU | M4: v --- nižšie sa nachádzajú doplnkové a pomocné údaje k zostavám --- v | AT4: False
D6: Stavba:
E7: ='Rekapitulácia stavby'!K6 -> Stavebné úpravy skladu objemových krmovín pre ŽV, p.č. 375 , k.ú. Vyšný Hrušov okr. Humenné
D8: Objekt:
E9: 01 - Stavebné úpravy senníka
D11: JKSO: | I11: KS:
D12: Miesto: | F12: Vyšný Hrušov okr. Humenné | I12: Dátum: | J12: ='Rekapitulácia stavby'!AN8 -> 45236
D14: Objednávateľ: | I14: IČO:
E15: Agro Borkov s.r.o. | I15: IČ DPH:
D17: Zhotoviteľ: | I17: IČO: | J17: ='Rekapitulácia stavby'!AN13
E18: ='Rekapitulácia stavby'!E14 | I18: IČ DPH: | J18: ='Rekapitulácia stavby'!AN14
D20: Projektant: | I20: IČO:
E21: Ing.Mária Salanciová | I21: IČ DPH:
D23: Spracovateľ: | I23: IČO:
E24: Ing.Mária Salanciová | I24: IČ DPH:
D26: Poznámka:
D30: Cena bez DPH | J30: =ROUND(J131, 2) -> 0
F32: Základ dane | I32: Sadzba dane | J32: Výška dane
D33: DPH | E33: základná | F33: =ROUND((SUM(BE131:BE266)), 2) -> 0 | I33: 0.2 | J33: =ROUND(((SUM(BE131:BE266))*I33), 2) -> 0
E34: znížená | F34: =ROUND((SUM(BF131:BF266)), 2) -> 0 | I34: 0.2 | J34: =ROUND(((SUM(BF131:BF266))*I34), 2) -> 0
E35: zákl. prenesená | F35: =ROUND((SUM(BG131:BG266)), 2) -> 0 | I35: 0.2 | J35: =0 -> 0
E36: zníž. prenesená | F36: =ROUND((SUM(BH131:BH266)), 2) -> 0 | I36: 0.2 | J36: =0 -> 0
E37: nulová | F37: =ROUND((SUM(BI131:BI266)), 2) -> 0 | I37: 0 | J37: =0 -> 0
D39: Cena s DPH | G39: v | H39: EUR | J39: =SUM(J30:J37) -> 0
D50: Projektant | G50: Spracovateľ
D61: Dátum a podpis: | F61: Pečiatka | G61: Dátum a podpis: | J61: Pečiatka
D65: Objednávateľ | G65: Zhotoviteľ
D76: Dátum a podpis: | F76: Pečiatka | G76: Dátum a podpis: | J76: Pečiatka
C82: REKAPITULÁCIA ROZPOČTU
C84: Stavba:
E85: =E7 -> Stavebné úpravy skladu objemových krmovín pre ŽV, p.č. 375 , k.ú. Vyšný Hrušov okr. Humenné
C86: Objekt:
E87: =E9 -> 01 - Stavebné úpravy senníka
C89: Miesto: | F89: =F12 -> Vyšný Hrušov okr. Humenné | I89: Dátum: | J89: =IF(J12="","",J12) -> 45236
C91: Objednávateľ: | F91: =E15 -> Agro Borkov s.r.o. | I91: Projektant: | J91: =E21 -> Ing.Mária Salanciová
C92: Zhotoviteľ: | F92: =IF(E18="","",E18) | I92: Spracovateľ: | J92: =E24 -> Ing.Mária Salanciová
C94: Kód dielu - Popis | J94: Cena celkom [EUR]
C96: Náklady z rozpočtu | J96: =J131 -> 0 | AU96: -1
D97: HSV - Práce a dodávky HSV | J97: =J132 -> 0
D98: 1 - Zemné práce | J98: =J133 -> 0
D99: 2 - Zakladanie | J99: =J146 -> 0
D100: 3 - Zvislé a kompletné konštrukcie | J100: =J169 -> 0
D101: 5 - Komunikácie | J101: =J182 -> 0
D102: 6 - Úpravy povrchov, podlahy, osadenie | J102: =J189 -> 0
D103: 9 - Ostatné konštrukcie a práce-búranie | J103: =J197 -> 0
D104: 99 - Presun hmôt HSV | J104: =J208 -> 0
D105: PSV - Práce a dodávky PSV | J105: =J210 -> 0
D106: 762 - Konštrukcie tesárske | J106: =J211 -> 0
D107: 764 - Konštrukcie klampiarske | J107: =J216 -> 0
D108: 767 - Konštrukcie doplnkové kovové | J108: =J237 -> 0
D109: 783 - Nátery | J109: =J253 -> 0
D110: M - Práce a dodávky M | J110: =J258 -> 0
D111: 43-M - Montáž oceľových konštrukcií | J111: =J259 -> 0
C118: ROZPOČET
C120: Stavba:
E121: =E7 -> Stavebné úpravy skladu objemových krmovín pre ŽV, p.č. 375 , k.ú. Vyšný Hrušov okr. Humenné
C122: Objekt:
E123: =E9 -> 01 - Stavebné úpravy senníka
C125: Miesto: | F125: =F12 -> Vyšný Hrušov okr. Humenné | I125: Dátum: | J125: =IF(J12="","",J12) -> 45236
C127: Objednávateľ: | F127: =E15 -> Agro Borkov s.r.o. | I127: Projektant: | J127: =E21 -> Ing.Mária Salanciová
C128: Zhotoviteľ: | F128: =IF(E18="","",E18) | I128: Spracovateľ: | J128: =E24 -> Ing.Mária Salanciová
C130: PČ | D130: Typ | E130: Kód | F130: Popis | G130: MJ | H130: Množstvo | I130: J.cena [EUR] | J130: Cena celkom [EUR] | K130: Cenová sústava | N130: DPH | O130: J. Nh [h] | P130: Nh celkom [h] | Q130: J. hmotnosť [t] | R130: Hmotnosť celkom [t] | S130: J. suť [t] | T130: Suť Celkom [t]
C131: Náklady z rozpočtu | J131: =BK131 -> 0 | P131: =P132+P210+P258 -> 0 | R131: =R132+R210+R258 -> 0 | T131: =T132+T210+T258 -> 0 | AT131: D | AU131: -1 | BK131: =BK132+BK210+BK258 -> 0
D132: D | E132: HSV | F132: Práce a dodávky HSV | J132: =BK132 -> 0 | P132: =P133+P146+P169+P182+P189+P197+P208 -> 0 | R132: =R133+R146+R169+R182+R189+R197+R208 -> 0 | T132: =T133+T146+T169+T182+T189+T197+T208 -> 0 | AR132: 1 | AT132: D | AU132: 0 | AY132: ROZPOCET | BK132: =BK133+BK146+BK169+BK182+BK189+BK197+BK208 -> 0
D133: D | E133: 1 | F133: Zemné práce | J133: =BK133 -> 0 | P133: =SUM(P134:P145) -> 0 | R133: =SUM(R134:R145) -> 0 | T133: =SUM(T134:T145) -> 0 | AR133: 1 | AT133: D | AU133: 1 | AY133: ROZPOCET | BK133: =SUM(BK134:BK145) -> 0
C134: 1 | D134: K | E134: 131201101.S | F134: Výkop nezapaženej jamy v hornine 3, do 100 m3 | G134: m3 | H134: 48.6 | J134: =ROUND(I134*H134,3) -> 0 | N134: znížená | O134: 0 | P134: =O134*H134 -> 0 | Q134: 0 | R134: =Q134*H134 -> 0 | S134: 0 | T134: =S134*H134 -> 0 | AR134: 4 | AT134: K | AU134: 2 | AY134: ROZPOCET | BE134: =IF(N134="základná",J134,0) -> 0 | BF134: =IF(N134="znížená",J134,0) -> 0 | BG134: =IF(N134="zákl. prenesená",J134,0) -> 0 | BH134: =IF(N134="zníž. prenesená",J134,0) -> 0 | BI134: =IF(N134="nulová",J134,0) -> 0 | BJ134: 2 | BK134: =ROUND(I134*H134,3) -> 0 | BL134: 4 | BM134: 6
D135: VV | F135: 1,5*1,5*1,2*5*2 | H135: 27 | AT135: VV | AU135: 2 | AV135: 2 | AW135: True | AX135: 0 | AY135: ROZPOCET
D136: VV | F136: 1*1*1,2*18 | H136: 21.6 | AT136: VV | AU136: 2 | AV136: 2 | AW136: True | AX136: 0 | AY136: ROZPOCET
D137: VV | F137: Súčet | H137: 48.6 | AT137: VV | AU137: 2 | AV137: 4 | AW137: True | AX137: 1 | AY137: ROZPOCET
C138: 2 | D138: K | E138: 131201109.S | F138: Hĺbenie nezapažených jám a zárezov. Príplatok za lepivosť horniny 3 | G138: m3 | H138: 12.15 | J138: =ROUND(I138*H138,3) -> 0 | N138: znížená | O138: 0 | P138: =O138*H138 -> 0 | Q138: 0 | R138: =Q138*H138 -> 0 | S138: 0 | T138: =S138*H138 -> 0 | AR138: 4 | AT138: K | AU138: 2 | AY138: ROZPOCET | BE138: =IF(N138="základná",J138,0) -> 0 | BF138: =IF(N138="znížená",J138,0) -> 0 | BG138: =IF(N138="zákl. prenesená",J138,0) -> 0 | BH138: =IF(N138="zníž. prenesená",J138,0) -> 0 | BI138: =IF(N138="nulová",J138,0) -> 0 | BJ138: 2 | BK138: =ROUND(I138*H138,3) -> 0 | BL138: 4 | BM138: 8
D139: VV | F139: 48,6*0,25 'Prepočítané koeficientom množstva | H139: 12.15 | AT139: VV | AU139: 2 | AV139: 2 | AW139: False | AX139: 1 | AY139: ROZPOCET
C140: 3 | D140: K | E140: 132201101.S | F140: Výkop ryhy do šírky 600 mm v horn.3 do 100 m3 | G140: m3 | H140: 36 | J140: =ROUND(I140*H140,3) -> 0 | N140: znížená | O140: 0 | P140: =O140*H140 -> 0 | Q140: 0 | R140: =Q140*H140 -> 0 | S140: 0 | T140: =S140*H140 -> 0 | AR140: 4 | AT140: K | AU140: 2 | AY140: ROZPOCET | BE140: =IF(N140="základná",J140,0) -> 0 | BF140: =IF(N140="znížená",J140,0) -> 0 | BG140: =IF(N140="zákl. prenesená",J140,0) -> 0 | BH140: =IF(N140="zníž. prenesená",J140,0) -> 0 | BI140: =IF(N140="nulová",J140,0) -> 0 | BJ140: 2 | BK140: =ROUND(I140*H140,3) -> 0 | BL140: 4 | BM140: 10
D141: VV | F141: 4,5*5*2*0,6*0,8 | H141: 21.6 | AT141: VV | AU141: 2 | AV141: 2 | AW141: True | AX141: 0 | AY141: ROZPOCET
D142: VV | F142: 15*2*0,6*0,8 | H142: 14.4 | AT142: VV | AU142: 2 | AV142: 2 | AW142: True | AX142: 0 | AY142: ROZPOCET
D143: VV | F143: Súčet | H143: 36 | AT143: VV | AU143: 2 | AV143: 4 | AW143: True | AX143: 1 | AY143: ROZPOCET
C144: 4 | D144: K | E144: 132201109.S | F144: Príplatok k cene za lepivosť pri hĺbení rýh šírky do 600 mm zapažených i nezapažených s urovnaním dna v hornine 3 | G144: m3 | H144: 9 | J144: =ROUND(I144*H144,3) -> 0 | N144: znížená | O144: 0 | P144: =O144*H144 -> 0 | Q144: 0 | R144: =Q144*H144 -> 0 | S144: 0 | T144: =S144*H144 -> 0 | AR144: 4 | AT144: K | AU144: 2 | AY144: ROZPOCET | BE144: =IF(N144="základná",J144,0) -> 0 | BF144: =IF(N144="znížená",J144,0) -> 0 | BG144: =IF(N144="zákl. prenesená",J144,0) -> 0 | BH144: =IF(N144="zníž. prenesená",J144,0) -> 0 | BI144: =IF(N144="nulová",J144,0) -> 0 | BJ144: 2 | BK144: =ROUND(I144*H144,3) -> 0 | BL144: 4 | BM144: 12
D145: VV | F145: 36*0,25 'Prepočítané koeficientom množstva | H145: 9 | AT145: VV | AU145: 2 | AV145: 2 | AW145: False | AX145: 1 | AY145: ROZPOCET
D146: D | E146: 2 | F146: Zakladanie | J146: =BK146 -> 0 | P146: =SUM(P147:P168) -> 0 | R146: =SUM(R147:R168) -> 0 | T146: =SUM(T147:T168) -> 0 | AR146: 1 | AT146: D | AU146: 1 | AY146: ROZPOCET | BK146: =SUM(BK147:BK168) -> 0
C147: 5 | D147: K | E147: 271571111.S | F147: Vankúše zhutnené pod základy zo štrkopiesku | G147: m3 | H147: 17.1 | J147: =ROUND(I147*H147,3) -> 0 | N147: znížená | O147: 0 | P147: =O147*H147 -> 0 | Q147: 0 | R147: =Q147*H147 -> 0 | S147: 0 | T147: =S147*H147 -> 0 | AR147: 4 | AT147: K | AU147: 2 | AY147: ROZPOCET | BE147: =IF(N147="základná",J147,0) -> 0 | BF147: =IF(N147="znížená",J147,0) -> 0 | BG147: =IF(N147="zákl. prenesená",J147,0) -> 0 | BH147: =IF(N147="zníž. prenesená",J147,0) -> 0 | BI147: =IF(N147="nulová",J147,0) -> 0 | BJ147: 2 | BK147: =ROUND(I147*H147,3) -> 0 | BL147: 4 | BM147: 20
D148: VV | F148: 1,5*1,5*0,2*5*2 | H148: 4.5 | AT148: VV | AU148: 2 | AV148: 2 | AW148: True | AX148: 0 | AY148: ROZPOCET
D149: VV | F149: 1*1*0,2*18 | H149: 3.6 | AT149: VV | AU149: 2 | AV149: 2 | AW149: True | AX149: 0 | AY149: ROZPOCET
D150: VV | F150: 4,5*5*2*0,6*0,2 | H150: 5.4 | AT150: VV | AU150: 2 | AV150: 2 | AW150: True | AX150: 0 | AY150: ROZPOCET
D151: VV | F151: 15*2*0,6*0,2 | H151: 3.6 | AT151: VV | AU151: 2 | AV151: 2 | AW151: True | AX151: 0 | AY151: ROZPOCET
D152: VV | F152: Súčet | H152: 17.1 | AT152: VV | AU152: 2 | AV152: 4 | AW152: True | AX152: 1 | AY152: ROZPOCET
C153: 6 | D153: K | E153: 273351217.S | F153: Debnenie stien základových dosiek, zhotovenie | G153: m2 | H153: 43.6 | J153: =ROUND(I153*H153,3) -> 0 | N153: znížená | O153: 0 | P153: =O153*H153 -> 0 | Q153: 0 | R153: =Q153*H153 -> 0 | S153: 0 | T153: =S153*H153 -> 0 | AR153: 4 | AT153: K | AU153: 2 | AY153: ROZPOCET | BE153: =IF(N153="základná",J153,0) -> 0 | BF153: =IF(N153="znížená",J153,0) -> 0 | BG153: =IF(N153="zákl. prenesená",J153,0) -> 0 | BH153: =IF(N153="zníž. prenesená",J153,0) -> 0 | BI153: =IF(N153="nulová",J153,0) -> 0 | BJ153: 2 | BK153: =ROUND(I153*H153,3) -> 0 | BL153: 4 | BM153: 22
D154: VV | F154: (6+27)*2*0,2 | H154: 13.2 | AT154: VV | AU154: 2 | AV154: 2 | AW154: True | AX154: 0 | AY154: ROZPOCET
D155: VV | F155: (45+6)*2*0,2 | H155: 20.4 | AT155: VV | AU155: 2 | AV155: 2 | AW155: True | AX155: 0 | AY155: ROZPOCET
D156: VV | F156: (15+10)*2*0,2 | H156: 10 | AT156: VV | AU156: 2 | AV156: 2 | AW156: True | AX156: 0 | AY156: ROZPOCET
D157: VV | F157: Súčet | H157: 43.6 | AT157: VV | AU157: 2 | AV157: 4 | AW157: True | AX157: 1 | AY157: ROZPOCET
C158: 7 | D158: K | E158: 273351218.S | F158: Debnenie stien základových dosiek, odstránenie | G158: m2 | H158: 43.6 | J158: =ROUND(I158*H158,3) -> 0 | N158: znížená | O158: 0 | P158: =O158*H158 -> 0 | Q158: 0 | R158: =Q158*H158 -> 0 | S158: 0 | T158: =S158*H158 -> 0 | AR158: 4 | AT158: K | AU158: 2 | AY158: ROZPOCET | BE158: =IF(N158="základná",J158,0) -> 0 | BF158: =IF(N158="znížená",J158,0) -> 0 | BG158: =IF(N158="zákl. prenesená",J158,0) -> 0 | BH158: =IF(N158="zníž. prenesená",J158,0) -> 0 | BI158: =IF(N158="nulová",J158,0) -> 0 | BJ158: 2 | BK158: =ROUND(I158*H158,3) -> 0 | BL158: 4 | BM158: 24
C159: 8 | D159: K | E159: 273362421.S | F159: Výstuž základových dosiek zo zvár. sietí KARI, priemer drôtu 6/6 mm, veľkosť oka 100x100 mm | G159: m2 | H159: 272 | J159: =ROUND(I159*H159,3) -> 0 | N159: znížená | O159: 0 | P159: =O159*H159 -> 0 | Q159: 0 | R159: =Q159*H159 -> 0 | S159: 0 | T159: =S159*H159 -> 0 | AR159: 4 | AT159: K | AU159: 2 | AY159: ROZPOCET | BE159: =IF(N159="základná",J159,0) -> 0 | BF159: =IF(N159="znížená",J159,0) -> 0 | BG159: =IF(N159="zákl. prenesená",J159,0) -> 0 | BH159: =IF(N159="zníž. prenesená",J159,0) -> 0 | BI159: =IF(N159="nulová",J159,0) -> 0 | BJ159: 2 | BK159: =ROUND(I159*H159,3) -> 0 | BL159: 4 | BM159: 26
D160: VV | F160: 15*10+20,35*6-0,1 | H160: 272 | AT160: VV | AU160: 2 | AV160: 2 | AW160: True | AX160: 0 | AY160: ROZPOCET
D161: VV | F161: Súčet | H161: 272 | AT161: VV | AU161: 2 | AV161: 4 | AW161: True | AX161: 1 | AY161: ROZPOCET
C162: 9 | D162: K | E162: 274313612.S | F162: Betón základových pásov, prostý tr. C 20/25 | G162: m3 | H162: 35 | J162: =ROUND(I162*H162,3) -> 0 | N162: znížená | O162: 0 | P162: =O162*H162 -> 0 | Q162: 0 | R162: =Q162*H162 -> 0 | S162: 0 | T162: =S162*H162 -> 0 | AR162: 4 | AT162: K | AU162: 2 | AY162: ROZPOCET | BE162: =IF(N162="základná",J162,0) -> 0 | BF162: =IF(N162="znížená",J162,0) -> 0 | BG162: =IF(N162="zákl. prenesená",J162,0) -> 0 | BH162: =IF(N162="zníž. prenesená",J162,0) -> 0 | BI162: =IF(N162="nulová",J162,0) -> 0 | BJ162: 2 | BK162: =ROUND(I162*H162,3) -> 0 | BL162: 4 | BM162: 28
D163: VV | F163: 45*0,6*0,8 | H163: 21.6 | AT163: VV | AU163: 2 | AV163: 2 | AW163: True | AX163: 0 | AY163: ROZPOCET
D164: VV | F164: 28*0,6*0,8-0,04 | H164: 13.4 | AT164: VV | AU164: 2 | AV164: 2 | AW164: True | AX164: 0 | AY164: ROZPOCET
D165: VV | F165: Súčet | H165: 35 | AT165: VV | AU165: 2 | AV165: 4 | AW165: True | AX165: 1 | AY165: ROZPOCET
C166: 10 | D166: K | E166: 275313612.S | F166: Betón základových pätiek, prostý tr. C 20/25 | G166: m3 | H166: 15 | J166: =ROUND(I166*H166,3) -> 0 | N166: znížená | O166: 0 | P166: =O166*H166 -> 0 | Q166: 0 | R166: =Q166*H166 -> 0 | S166: 0 | T166: =S166*H166 -> 0 | AR166: 4 | AT166: K | AU166: 2 | AY166: ROZPOCET | BE166: =IF(N166="základná",J166,0) -> 0 | BF166: =IF(N166="znížená",J166,0) -> 0 | BG166: =IF(N166="zákl. prenesená",J166,0) -> 0 | BH166: =IF(N166="zníž. prenesená",J166,0) -> 0 | BI166: =IF(N166="nulová",J166,0) -> 0 | BJ166: 2 | BK166: =ROUND(I166*H166,3) -> 0 | BL166: 4 | BM166: 30
...
