Workbook

Sheet Rekapitulácia stavby
A1: Export Komplet | BA1: 2.0 | BT1: False | BU1: False | BV1: {e6293d3a-cc1d-4ce8-a2b3-66b8332732de}
AR2: >> skryté stĺpce << | BS2: 0,001 | BT2: 20
BS3: 0,001 | BT3: 20
D4: REKAPITULÁCIA STAVBY | AS4: v --- nižšie sa nachádzajú doplnkové a pomocné údaje k zostavám --- v | BS4: 0,001
D5: Kód: | K5: 31020 | BS5: 0,001
D6: Stavba: | K6: Stavebné úpravy skladu krmovín pre ŽV, č.384/1,2 Vyšný Hrušov, okr. Humenné | BS6: 0,001
D7: JKSO: | AK7: KS: | BS7: 0,001
D8: Miesto: | K8: Vyšný Hrušov, okr. Humenné | AK8: Dátum: | AN8: 45236 | BS8: 0,001
BS9: 0,001
D10: Objednávateľ: | AK10: IČO: | BS10: 0,001
E11: Agro Borkov s.r.o. | AK11: IČ DPH: | BS11: 0,001
BS12: 0,001
D13: Zhotoviteľ: | AK13: IČO: | BS13: 0,001
AK14: IČ DPH: | BS14: 0,001
BS15: False
D16: Projektant: | AK16: IČO: | BS16: False
E17: Ing.Mária Salanciová | AK17: IČ DPH: | BS17: True
BS18: 0,01
D19: Spracovateľ: | AK19: IČO: | BS19: 0,01
E20: Ing.Mária Salanciová | AK20: IČ DPH: | BS20: True
D22: Poznámka:
D26: Cena bez DPH | AK26: =ROUND(AG94,2) -> 0
L28: Sadzba dane | W28: Základ dane | AK28: Výška dane
D29: DPH | F29: základná | L29: 0.2 | W29: =ROUND(AZ94, 2) -> 0 | AK29: =ROUND(AV94, 2) -> 0
F30: znížená | L30: 0.2 | W30: =ROUND(BA94, 2) -> 0 | AK30: =ROUND(AW94, 2) -> 0
F31: zákl. prenesená | L31: 0.2 | W31: =ROUND(BB94, 2) -> 0 | AK31: 0
F32: zníž. prenesená | L32: 0.2 | W32: =ROUND(BC94, 2) -> 0 | AK32: 0
F33: nulová | L33: 0 | W33: =ROUND(BD94, 2) -> 0 | AK33: 0
D35: Cena s DPH | T35: v | X35: EUR | AK35: =SUM(AK26:AK33) -> 0
D49: Projektant | AH49: Spracovateľ
D60: Dátum a podpis: | V60: Pečiatka | AH60: Dátum a podpis: | AM60: Pečiatka
D64: Objednávateľ | AH64: Zhotoviteľ
D75: Dátum a podpis: | V75: Pečiatka | AH75: Dátum a podpis: | AM75: Pečiatka
C82: REKAPITULÁCIA OBJEKTOV STAVBY
C84: Kód: | L84: =K5 -> 31020
C85: Stavba: | L85: =K6 -> Stavebné úpravy skladu krmovín pre ŽV, č.384/1,2 Vyšný Hrušov, okr. Humenné
C87: Miesto: | L87: =IF(K8="","",K8) -> Vyšný Hrušov, okr. Humenné | AI87: Dátum: | AM87: =IF(AN8= "","",AN8) -> 45236
C89: Objednávateľ: | L89: =IF(E11= "","",E11) -> Agro Borkov s.r.o. | AI89: Projektant: | AM89: =IF(E17="","",E17) -> Ing.Mária Salanciová | AS89: Informatívne údaje z listov zákaziek
C90: Zhotoviteľ: | L90: =IF(E14="","",E14) | AI90: Spracovateľ: | AM90: =IF(E20="","",E20) -> Ing.Mária Salanciová
C92: Kód | I92: Popis | AG92: Cena bez DPH [EUR] | AN92: Cena s DPH [EUR] | AQ92: Typ | AS92: z toho Ostat._x000D_ náklady [EUR] | AT92: DPH [EUR] | AU92: Normohodiny [h] | AV92: DPH základná [EUR] | AW92: DPH znížená [EUR] | AX92: DPH základná prenesená_x000D_ [EUR] | AY92: DPH znížená prenesená_x000D_ [EUR] | AZ92: Základňa_x000D_ DPH základná | BA92: Základňa_x000D_ DPH znížená | BB92: Základňa_x000D_ DPH zákl. prenesená | BC92: Základňa_x000D_ DPH zníž. prenesená | BD92: Základňa_x000D_ DPH nulová
C94: Náklady z rozpočtov | AG94: =ROUND(AG95,2) -> 0 | AN94: =SUM(AG94,AT94) -> 0 | AS94: =ROUND(AS95,2) -> 0 | AT94: =ROUND(SUM(AV94:AW94),2) -> 0 | AU94: =ROUND(AU95,5) -> 1968.4752 | AV94: =ROUND(AZ94*L29,2) -> 0 | AW94: =ROUND(BA94*L30,2) -> 0 | AX94: =ROUND(BB94*L29,2) -> 0 | AY94: =ROUND(BC94*L30,2) -> 0 | AZ94: =ROUND(AZ95,2) -> 0 | BA94: =ROUND(BA95,2) -> 0 | BB94: =ROUND(BB95,2) -> 0 | BC94: =ROUND(BC95,2) -> 0 | BD94: =ROUND(BD95,2) -> 0 | BS94: D | BT94: 0 | BU94: ###NOIMPORT### | BV94: IMPORT | BW94: {e6293d3a-cc1d-4ce8-a2b3-66b8332732de} | BX94: {00000000-0000-0000-0000-000000000000}
A95: / | D95: 01 | J95: Stavebné úpravy skladu krmovín | AG95: ='01 - Stavebné úpravy skla...'!J30 -> 0 | AN95: =SUM(AG95,AT95) -> 0 | AQ95: STA | AS95: 0 | AT95: =ROUND(SUM(AV95:AW95),2) -> 0 | AU95: ='01 - Stavebné úpravy skla...'!P130 -> 1968.4752 | AV95: ='01 - Stavebné úpravy skla...'!J33 -> 0 | AW95: ='01 - Stavebné úpravy skla...'!J34 -> 0 | AX95: ='01 - Stavebné úpravy skla...'!J35 -> 0 | AY95: ='01 - Stavebné úpravy skla...'!J36 -> 0 | AZ95: ='01 - Stavebné úpravy skla...'!F33 -> 0 | BA95: ='01 - Stavebné úpravy skla...'!F34 -> 0 | BB95: ='01 - Stavebné úpravy skla...'!F35 -> 0 | BC95: ='01 - Stavebné úpravy skla...'!F36 -> 0 | BD95: ='01 - Stavebné úpravy skla...'!F37 -> 0 | BT95: 1 | BV95: IMPORT | BW95: {bb33d6f5-ecc7-49e1-9261-6d48df25a452} | BX95: {e6293d3a-cc1d-4ce8-a2b3-66b8332732de} | CM95: 0

Sheet 01 - Stavebné úpravy skla...
L2: >> skryté stĺpce << | AT2: {bb33d6f5-ecc7-49e1-9261-6d48df25a452}
AT3: 0
D4: KRYCÍ LIST ROZPOČTU | M4: v --- nižšie sa nachádzajú doplnkové a pomocné údaje k zostavám --- v | AT4: False
D6: Stavba:
E7: ='Rekapitulácia stavby'!K6 -> Stavebné úpravy skladu krmovín pre ŽV, č.384/1,2 Vyšný Hrušov, okr. Humenné
D8: Objekt:
E9: 01 - Stavebné úpravy skladu krmovín
D11: JKSO: | I11: KS:
D12: Miesto: | F12: Vyšný Hrušov, okr. Humenné | I12: Dátum: | J12: ='Rekapitulácia stavby'!AN8 -> 45236
D14: Objednávateľ: | I14: IČO:
E15: Agro Borkov s.r.o. | I15: IČ DPH:
D17: Zhotoviteľ: | I17: IČO: | J17: ='Rekapitulácia stavby'!AN13
E18: ='Rekapitulácia stavby'!E14 | I18: IČ DPH: | J18: ='Rekapitulácia stavby'!AN14
D20: Projektant: | I20: IČO:
E21: Ing.Mária Salanciová | I21: IČ DPH:
D23: Spracovateľ: | I23: IČO:
E24: Ing.Mária Salanciová | I24: IČ DPH:
D26: Poznámka:
D30: Cena bez DPH | J30: =ROUND(J130, 2) -> 0
F32: Základ dane | I32: Sadzba dane | J32: Výška dane
D33: DPH | E33: základná | F33: =ROUND((SUM(BE130:BE261)), 2) -> 0 | I33: 0.2 | J33: =ROUND(((SUM(BE130:BE261))*I33), 2) -> 0
E34: znížená | F34: =ROUND((SUM(BF130:BF261)), 2) -> 0 | I34: 0.2 | J34: =ROUND(((SUM(BF130:BF261))*I34), 2) -> 0
E35: zákl. prenesená | F35: =ROUND((SUM(BG130:BG261)), 2) -> 0 | I35: 0.2 | J35: =0 -> 0
E36: zníž. prenesená | F36: =ROUND((SUM(BH130:BH261)), 2) -> 0 | I36: 0.2 | J36: =0 -> 0
E37: nulová | F37: =ROUND((SUM(BI130:BI261)), 2) -> 0 | I37: 0 | J37: =0 -> 0
D39: Cena s DPH | G39: v | H39: EUR | J39: =SUM(J30:J37) -> 0
D50: Projektant | G50: Spracovateľ
D61: Dátum a podpis: | F61: Pečiatka | G61: Dátum a podpis: | J61: Pečiatka
D65: Objednávateľ | G65: Zhotoviteľ
D76: Dátum a podpis: | F76: Pečiatka | G76: Dátum a podpis: | J76: Pečiatka
C82: REKAPITULÁCIA ROZPOČTU
C84: Stavba:
E85: =E7 -> Stavebné úpravy skladu krmovín pre ŽV, č.384/1,2 Vyšný Hrušov, okr. Humenné
C86: Objekt:
E87: =E9 -> 01 - Stavebné úpravy skladu krmovín
C89: Miesto: | F89: =F12 -> Vyšný Hrušov, okr. Humenné | I89: Dátum: | J89: =IF(J12="","",J12) -> 45236
C91: Objednávateľ: | F91: =E15 -> Agro Borkov s.r.o. | I91: Projektant: | J91: =E21 -> Ing.Mária Salanciová
C92: Zhotoviteľ: | F92: =IF(E18="","",E18) | I92: Spracovateľ: | J92: =E24 -> Ing.Mária Salanciová
C94: Kód dielu - Popis | J94: Cena celkom [EUR]
C96: Náklady z rozpočtu | J96: =J130 -> 0 | AU96: -1
D97: HSV - Práce a dodávky HSV | J97: =J131 -> 0
D98: 1 - Zemné práce | J98: =J132 -> 0
D99: 2 - Zakladanie | J99: =J146 -> 0
D100: 3 - Zvislé a kompletné konštrukcie | J100: =J154 -> 0
D101: 5 - Komunikácie | J101: =J167 -> 0
D102: 6 - Úpravy povrchov, podlahy, osadenie | J102: =J171 -> 0
D103: 9 - Ostatné konštrukcie a práce-búranie | J103: =J185 -> 0
D104: 99 - Presun hmôt HSV | J104: =J205 -> 0
D105: PSV - Práce a dodávky PSV | J105: =J207 -> 0
D106: 762 - Konštrukcie tesárske | J106: =J208 -> 0
D107: 764 - Konštrukcie klampiarske | J107: =J218 -> 0
D108: 766 - Konštrukcie stolárske | J108: =J235 -> 0
D109: 767 - Konštrukcie doplnkové kovové | J109: =J245 -> 0
D110: 783 - Nátery | J110: =J258 -> 0
C117: ROZPOČET
C119: Stavba:
E120: =E7 -> Stavebné úpravy skladu krmovín pre ŽV, č.384/1,2 Vyšný Hrušov, okr. Humenné
C121: Objekt:
E122: =E9 -> 01 - Stavebné úpravy skladu krmovín
C124: Miesto: | F124: =F12 -> Vyšný Hrušov, okr. Humenné | I124: Dátum: | J124: =IF(J12="","",J12) -> 45236
C126: Objednávateľ: | F126: =E15 -> Agro Borkov s.r.o. | I126: Projektant: | J126: =E21 -> Ing.Mária Salanciová
C127: Zhotoviteľ: | F127: =IF(E18="","",E18) | I127: Spracovateľ: | J127: =E24 -> Ing.Mária Salanciová
C129: PČ | D129: Typ | E129: Kód | F129: Popis | G129: MJ | H129: Množstvo | I129: J.cena [EUR] | J129: Cena celkom [EUR] | K129: Cenová sústava | N129: DPH | O129: J. Nh [h] | P129: Nh celkom [h] | Q129: J. hmotnosť [t] | R129: Hmotnosť celkom [t] | S129: J. suť [t] | T129: Suť Celkom [t]
C130: Náklady z rozpočtu | J130: =BK130 -> 0 | P130: =P131+P207 -> 1968.4752 | R130: =R131+R207 -> 288.98736 | T130: =T131+T207 -> 38.052488 | AT130: D | AU130: -1 | BK130: =BK131+BK207 -> 0
D131: D | E131: HSV | F131: Práce a dodávky HSV | J131: =BK131 -> 0 | P131: =P132+P146+P154+P167+P171+P185+P205 -> 822.93023 | R131: =R132+R146+R154+R167+R171+R185+R205 -> 275.7056 | T131: =T132+T146+T154+T167+T171+T185+T205 -> 0 | AR131: 1 | AT131: D | AU131: 0 | AY131: ROZPOCET | BK131: =BK132+BK146+BK154+BK167+BK171+BK185+BK205 -> 0
D132: D | E132: 1 | F132: Zemné práce | J132: =BK132 -> 0 | P132: =SUM(P133:P145) -> 441.85663 | R132: =SUM(R133:R145) -> 0 | T132: =SUM(T133:T145) -> 0 | AR132: 1 | AT132: D | AU132: 1 | AY132: ROZPOCET | BK132: =SUM(BK133:BK145) -> 0
C133: 3 | D133: K | E133: 131201101.S | F133: Výkop nezapaženej jamy v hornine 3, do 100 m3 | G133: m3 | H133: 20 | J133: =ROUND(I133*H133,3) -> 0 | N133: znížená | O133: 0 | P133: =O133*H133 -> 0 | Q133: 0 | R133: =Q133*H133 -> 0 | S133: 0 | T133: =S133*H133 -> 0 | AR133: 4 | AT133: K | AU133: 2 | AY133: ROZPOCET | BE133: =IF(N133="základná",J133,0) -> 0 | BF133: =IF(N133="znížená",J133,0) -> 0 | BG133: =IF(N133="zákl. prenesená",J133,0) -> 0 | BH133: =IF(N133="zníž. prenesená",J133,0) -> 0 | BI133: =IF(N133="nulová",J133,0) -> 0 | BJ133: 2 | BK133: =ROUND(I133*H133,3) -> 0 | BL133: 4 | BM133: -1566471914
D134: VV | F134: 1*1*1*10*2 | H134: 20 | AT134: VV | AU134: 2 | AV134: 2 | AW134: True | AX134: 1 | AY134: ROZPOCET
C135: 4 | D135: K | E135: 131201109.S | F135: Hĺbenie nezapažených jám a zárezov. Príplatok za lepivosť horniny 3 | G135: m3 | H135: 20 | J135: =ROUND(I135*H135,3) -> 0 | N135: znížená | O135: 0 | P135: =O135*H135 -> 0 | Q135: 0 | R135: =Q135*H135 -> 0 | S135: 0 | T135: =S135*H135 -> 0 | AR135: 4 | AT135: K | AU135: 2 | AY135: ROZPOCET | BE135: =IF(N135="základná",J135,0) -> 0 | BF135: =IF(N135="znížená",J135,0) -> 0 | BG135: =IF(N135="zákl. prenesená",J135,0) -> 0 | BH135: =IF(N135="zníž. prenesená",J135,0) -> 0 | BI135: =IF(N135="nulová",J135,0) -> 0 | BJ135: 2 | BK135: =ROUND(I135*H135,3) -> 0 | BL135: 4 | BM135: 528180258
C136: 5 | D136: K | E136: 139711101.S | F136: Výkop v uzavretých priestoroch s naložením výkopu na dopravný prostriedok v hornine 1 až 4 | G136: m3 | H136: 45.853 | J136: =ROUND(I136*H136,3) -> 0 | N136: znížená | O136: 7.287 | P136: =O136*H136 -> 334.13081 | Q136: 0 | R136: =Q136*H136 -> 0 | S136: 0 | T136: =S136*H136 -> 0 | AR136: 4 | AT136: K | AU136: 2 | AY136: ROZPOCET | BE136: =IF(N136="základná",J136,0) -> 0 | BF136: =IF(N136="znížená",J136,0) -> 0 | BG136: =IF(N136="zákl. prenesená",J136,0) -> 0 | BH136: =IF(N136="zníž. prenesená",J136,0) -> 0 | BI136: =IF(N136="nulová",J136,0) -> 0 | BJ136: 2 | BK136: =ROUND(I136*H136,3) -> 0 | BL136: 4 | BM136: -1426481132
D137: VV | F137: 15,47*9,88*0,3 | H137: 45.853 | AT137: VV | AU137: 2 | AV137: 2 | AW137: True | AX137: 1 | AY137: ROZPOCET
C138: 6 | D138: K | E138: 162501102.S | F138: Vodorovné premiestnenie výkopku po spevnenej ceste z horniny tr.1-4, do 100 m3 na vzdialenosť do 3000 m | G138: m3 | H138: 303.453 | J138: =ROUND(I138*H138,3) -> 0 | N138: znížená | O138: 0.071 | P138: =O138*H138 -> 21.545163 | Q138: 0 | R138: =Q138*H138 -> 0 | S138: 0 | T138: =S138*H138 -> 0 | AR138: 4 | AT138: K | AU138: 2 | AY138: ROZPOCET | BE138: =IF(N138="základná",J138,0) -> 0 | BF138: =IF(N138="znížená",J138,0) -> 0 | BG138: =IF(N138="zákl. prenesená",J138,0) -> 0 | BH138: =IF(N138="zníž. prenesená",J138,0) -> 0 | BI138: =IF(N138="nulová",J138,0) -> 0 | BJ138: 2 | BK138: =ROUND(I138*H138,3) -> 0 | BL138: 4 | BM138: -1347908084
D139: VV | F139: 303,453 | H139: 303.453 | AT139: VV | AU139: 2 | AV139: 2 | AW139: True | AX139: 1 | AY139: ROZPOCET
C140: 7 | D140: K | E140: 166101102.S | F140: Prehodenie neuľahnutého výkopku z horniny 1 až 4 nad 100 do 1000 m3 | G140: m3 | H140: 303.453 | J140: =ROUND(I140*H140,3) -> 0 | N140: znížená | O140: 0.242 | P140: =O140*H140 -> 73.435626 | Q140: 0 | R140: =Q140*H140 -> 0 | S140: 0 | T140: =S140*H140 -> 0 | AR140: 4 | AT140: K | AU140: 2 | AY140: ROZPOCET | BE140: =IF(N140="základná",J140,0) -> 0 | BF140: =IF(N140="znížená",J140,0) -> 0 | BG140: =IF(N140="zákl. prenesená",J140,0) -> 0 | BH140: =IF(N140="zníž. prenesená",J140,0) -> 0 | BI140: =IF(N140="nulová",J140,0) -> 0 | BJ140: 2 | BK140: =ROUND(I140*H140,3) -> 0 | BL140: 4 | BM140: 1824391437
C141: 8 | D141: K | E141: 171101101.S | F141: Uloženie sypaniny do násypu súdržnej horniny | G141: m3 | H141: 303.453 | J141: =ROUND(I141*H141,3) -> 0 | N141: znížená | O141: 0.042 | P141: =O141*H141 -> 12.745026 | Q141: 0 | R141: =Q141*H141 -> 0 | S141: 0 | T141: =S141*H141 -> 0 | AR141: 4 | AT141: K | AU141: 2 | AY141: ROZPOCET | BE141: =IF(N141="základná",J141,0) -> 0 | BF141: =IF(N141="znížená",J141,0) -> 0 | BG141: =IF(N141="zákl. prenesená",J141,0) -> 0 | BH141: =IF(N141="zníž. prenesená",J141,0) -> 0 | BI141: =IF(N141="nulová",J141,0) -> 0 | BJ141: 2 | BK141: =ROUND(I141*H141,3) -> 0 | BL141: 4 | BM141: -515613481
C142: 9 | D142: K | E142: 174101001.S | F142: Zásyp štrkom | G142: m3 | H142: 20 | J142: =ROUND(I142*H142,3) -> 0 | N142: znížená | O142: 0 | P142: =O142*H142 -> 0 | Q142: 0 | R142: =Q142*H142 -> 0 | S142: 0 | T142: =S142*H142 -> 0 | AR142: 4 | AT142: K | AU142: 2 | AY142: ROZPOCET | BE142: =IF(N142="základná",J142,0) -> 0 | BF142: =IF(N142="znížená",J142,0) -> 0 | BG142: =IF(N142="zákl. prenesená",J142,0) -> 0 | BH142: =IF(N142="zníž. prenesená",J142,0) -> 0 | BI142: =IF(N142="nulová",J142,0) -> 0 | BJ142: 2 | BK142: =ROUND(I142*H142,3) -> 0 | BL142: 4 | BM142: 1172028026
C143: 10 | D143: M | E143: 583410004300.S | F143: Štrkodrva | G143: t | H143: 56.7 | J143: =ROUND(I143*H143,3) -> 0 | N143: znížená | O143: 0 | P143: =O143*H143 -> 0 | Q143: 0 | R143: =Q143*H143 -> 0 | S143: 0 | T143: =S143*H143 -> 0 | AR143: 8 | AT143: M | AU143: 2 | AY143: ROZPOCET | BE143: =IF(N143="základná",J143,0) -> 0 | BF143: =IF(N143="znížená",J143,0) -> 0 | BG143: =IF(N143="zákl. prenesená",J143,0) -> 0 | BH143: =IF(N143="zníž. prenesená",J143,0) -> 0 | BI143: =IF(N143="nulová",J143,0) -> 0 | BJ143: 2 | BK143: =ROUND(I143*H143,3) -> 0 | BL143: 4 | BM143: -1545711431
D144: VV | F144: 20*1,5 | H144: 30 | AT144: VV | AU144: 2 | AV144: 2 | AW144: True | AX144: 1 | AY144: ROZPOCET
D145: VV | F145: 30*1,89 'Prepočítané koeficientom množstva | H145: 56.7 | AT145: VV | AU145: 2 | AV145: 2 | AW145: False | AX145: 1 | AY145: ROZPOCET
D146: D | E146: 2 | F146: Zakladanie | J146: =BK146 -> 0 | P146: =SUM(P147:P153) -> 2.944 | R146: =SUM(R147:R153) -> 0 | T146: =SUM(T147:T153) -> 0 | AR146: 1 | AT146: D | AU146: 1 | AY146: ROZPOCET | BK146: =SUM(BK147:BK153) -> 0
C147: 11 | D147: K | E147: 215901101.S | F147: Zhutnenie podložia z rastlej horniny 1 až 4 pod násypy, z hornina súdržných do 92 % PS a nesúdržných | G147: m2 | H147: 736 | J147: =ROUND(I147*H147,3) -> 0 | N147: znížená | O147: 0.004 | P147: =O147*H147 -> 2.944 | Q147: 0 | R147: =Q147*H147 -> 0 | S147: 0 | T147: =S147*H147 -> 0 | AR147: 4 | AT147: K | AU147: 2 | AY147: ROZPOCET | BE147: =IF(N147="základná",J147,0) -> 0 | BF147: =IF(N147="znížená",J147,0) -> 0 | BG147: =IF(N147="zákl. prenesená",J147,0) -> 0 | BH147: =IF(N147="zníž. prenesená",J147,0) -> 0 | BI147: =IF(N147="nulová",J147,0) -> 0 | BJ147: 2 | BK147: =ROUND(I147*H147,3) -> 0 | BL147: 4 | BM147: 738052491
D148: VV | F148: 92*8 | H148: 736 | AT148: VV | AU148: 2 | AV148: 2 | AW148: True | AX148: 1 | AY148: ROZPOCET
C149: 12 | D149: K | E149: 273351217.S | F149: Debnenie stien základových dosiek, zhotovenie | G149: m2 | H149: 40 | J149: =ROUND(I149*H149,3) -> 0 | N149: znížená | O149: 0 | P149: =O149*H149 -> 0 | Q149: 0 | R149: =Q149*H149 -> 0 | S149: 0 | T149: =S149*H149 -> 0 | AR149: 4 | AT149: K | AU149: 2 | AY149: ROZPOCET | BE149: =IF(N149="základná",J149,0) -> 0 | BF149: =IF(N149="znížená",J149,0) -> 0 | BG149: =IF(N149="zákl. prenesená",J149,0) -> 0 | BH149: =IF(N149="zníž. prenesená",J149,0) -> 0 | BI149: =IF(N149="nulová",J149,0) -> 0 | BJ149: 2 | BK149: =ROUND(I149*H149,3) -> 0 | BL149: 4 | BM149: -631683943
D150: VV | F150: (8+92)*2*0,2 | H150: 40 | AT150: VV | AU150: 2 | AV150: 2 | AW150: True | AX150: 1 | AY150: ROZPOCET
C151: 13 | D151: K | E151: 273351218.S | F151: Debnenie stien základových dosiek, odstránenie | G151: m2 | H151: 40 | J151: =ROUND(I151*H151,3) -> 0 | N151: znížená | O151: 0 | P151: =O151*H151 -> 0 | Q151: 0 | R151: =Q151*H151 -> 0 | S151: 0 | T151: =S151*H151 -> 0 | AR151: 4 | AT151: K | AU151: 2 | AY151: ROZPOCET | BE151: =IF(N151="základná",J151,0) -> 0 | BF151: =IF(N151="znížená",J151,0) -> 0 | BG151: =IF(N151="zákl. prenesená",J151,0) -> 0 | BH151: =IF(N151="zníž. prenesená",J151,0) -> 0 | BI151: =IF(N151="nulová",J151,0) -> 0 | BJ151: 2 | BK151: =ROUND(I151*H151,3) -> 0 | BL151: 4 | BM151: -1968246770
C152: 14 | D152: K | E152: 273362422.S | F152: Výstuž základových dosiek zo zvár. sietí KARI, priemer drôtu 6/6 mm, veľkosť oka 150x150 mm | G152: m2 | H152: 736 | J152: =ROUND(I152*H152,3) -> 0 | N152: znížená | O152: 0 | P152: =O152*H152 -> 0 | Q152: 0 | R152: =Q152*H152 -> 0 | S152: 0 | T152: =S152*H152 -> 0 | AR152: 4 | AT152: K | AU152: 2 | AY152: ROZPOCET | BE152: =IF(N152="základná",J152,0) -> 0 | BF152: =IF(N152="znížená",J152,0) -> 0 | BG152: =IF(N152="zákl. prenesená",J152,0) -> 0 | BH152: =IF(N152="zníž. prenesená",J152,0) -> 0 | BI152: =IF(N152="nulová",J152,0) -> 0 | BJ152: 2 | BK152: =ROUND(I152*H152,3) -> 0 | BL152: 4 | BM152: -729972471
D153: VV | F153: 8*92 | H153: 736 | AT153: VV | AU153: 2 | AV153: 2 | AW153: True | AX153: 1 | AY153: ROZPOCET
D154: D | E154: 3 | F154: Zvislé a kompletné konštrukcie | J154: =BK154 -> 0 | P154: =SUM(P155:P166) -> 0 | R154: =SUM(R155:R166) -> 0 | T154: =SUM(T155:T166) -> 0 | AR154: 1 | AT154: D | AU154: 1 | AY154: ROZPOCET | BK154: =SUM(BK155:BK166) -> 0
C155: 15 | D155: K | E155: 341321315.S | F155: Betón stien a priečok, železový (bez výstuže) tr. C 20/25 | G155: m3 | H155: 12.338 | J155: =ROUND(I155*H155,3) -> 0 | N155: znížená | O155: 0 | P155: =O155*H155 -> 0 | Q155: 0 | R155: =Q155*H155 -> 0 | S155: 0 | T155: =S155*H155 -> 0 | AR155: 4 | AT155: K | AU155: 2 | AY155: ROZPOCET | BE155: =IF(N155="základná",J155,0) -> 0 | BF155: =IF(N155="znížená",J155,0) -> 0 | BG155: =IF(N155="zákl. prenesená",J155,0) -> 0 | BH155: =IF(N155="zníž. prenesená",J155,0) -> 0 | BI155: =IF(N155="nulová",J155,0) -> 0 | BJ155: 2 | BK155: =ROUND(I155*H155,3) -> 0 | BL155: 4 | BM155: -1928057615
D156: VV | F156: 16,45*1,5*2*0,25 | H156: 12.338 | AT156: VV | AU156: 2 | AV156: 2 | AW156: True | AX156: 1 | AY156: ROZPOCET
C157: 16 | D157: K | E157: 341351105.S | F157: Debnenie stien a priečok obojstranné zhotovenie-dielce | G157: m2 | H157: 98.7 | J157: =ROUND(I157*H157,3) -> 0 | N157: znížená | O157: 0 | P157: =O157*H157 -> 0 | Q157: 0 | R157: =Q157*H157 -> 0 | S157: 0 | T157: =S157*H157 -> 0 | AR157: 4 | AT157: K | AU157: 2 | AY157: ROZPOCET | BE157: =IF(N157="základná",J157,0) -> 0 | BF157: =IF(N157="znížená",J157,0) -> 0 | BG157: =IF(N157="zákl. prenesená",J157,0) -> 0 | BH157: =IF(N157="zníž. prenesená",J157,0) -> 0 | BI157: =IF(N157="nulová",J157,0) -> 0 | BJ157: 2 | BK157: =ROUND(I157*H157,3) -> 0 | BL157: 4 | BM157: -1865225666
D158: VV | F158: 16,45*1,5*2*2 | H158: 98.7 | AT158: VV | AU158: 2 | AV158: 2 | AW158: True | AX158: 1 | AY158: ROZPOCET
C159: 17 | D159: K | E159: 341351106.S | F159: Debnenie stien a priečok obojstranné odstránenie-dielce | G159: m2 | H159: 98.7 | J159: =ROUND(I159*H159,3) -> 0 | N159: znížená | O159: 0 | P159: =O159*H159 -> 0 | Q159: 0 | R159: =Q159*H159 -> 0 | S159: 0 | T159: =S159*H159 -> 0 | AR159: 4 | AT159: K | AU159: 2 | AY159: ROZPOCET | BE159: =IF(N159="základná",J159,0) -> 0 | BF159: =IF(N159="znížená",J159,0) -> 0 | BG159: =IF(N159="zákl. prenesená",J159,0) -> 0 | BH159: =IF(N159="zníž. prenesená",J159,0) -> 0 | BI159: =IF(N159="nulová",J159,0) -> 0 | BJ159: 2 | BK159: =ROUND(I159*H159,3) -> 0 | BL159: 4 | BM159: 1716166902
C160: 19 | D160: K | E160: 345321414.S | F160: Betón múrikov parapetných, atikových, schodiskových, zábradelných, železový (bez výstuže) tr. C 20/25 | G160: m3 | H160: 3.825 | J160: =ROUND(I160*H160,3) -> 0 | N160: znížená | O160: 0 | P160: =O160*H160 -> 0 | Q160: 0 | R160: =Q160*H160 -> 0 | S160: 0 | T160: =S160*H160 -> 0 | AR160: 4 | AT160: K | AU160: 2 | AY160: ROZPOCET | BE160: =IF(N160="základná",J160,0) -> 0 | BF160: =IF(N160="znížená",J160,0) -> 0 | BG160: =IF(N160="zákl. prenesená",J160,0) -> 0 | BH160: =IF(N160="zníž. prenesená",J160,0) -> 0 | BI160: =IF(N160="nulová",J160,0) -> 0 | BJ160: 2 | BK160: =ROUND(I160*H160,3) -> 0 | BL160: 4 | BM160: 472707956
D161: VV | F161: (92+10)*0,15*0,25 | H161: 3.825 | AT161: VV | AU161: 2 | AV161: 2 | AW161: True | AX161: 1 | AY161: ROZPOCET
C162: 20 | D162: K | E162: 345351101.S | F162: Debnenie múrikov parapet., atik., zábradl., plnostenných- zhotovenie | G162: m2 | H162: 45.9 | J162: =ROUND(I162*H162,3) -> 0 | N162: znížená | O162: 0 | P162: =O162*H162 -> 0 | Q162: 0 | R162: =Q162*H162 -> 0 | S162: 0 | T162: =S162*H162 -> 0 | AR162: 4 | AT162: K | AU162: 2 | AY162: ROZPOCET | BE162: =IF(N162="základná",J162,0) -> 0 | BF162: =IF(N162="znížená",J162,0) -> 0 | BG162: =IF(N162="zákl. prenesená",J162,0) -> 0 | BH162: =IF(N162="zníž. prenesená",J162,0) -> 0 | BI162: =IF(N162="nulová",J162,0) -> 0 | BJ162: 2 | BK162: =ROUND(I162*H162,3) -> 0 | BL162: 4 | BM162: 587352659
D163: VV | F163: (92+10)*0,15*3 | H163: 45.9 | AT163: VV | AU163: 2 | AV163: 2 | AW163: True | AX163: 1 | AY163: ROZPOCET
C164: 21 | D164: K | E164: 345351102.S | F164: Debnenie múrikov parapet., atik., zábradl., plnostenných- odstránenie | G164: m2 | H164: 45.9 | J164: =ROUND(I164*H164,3) -> 0 | N164: znížená | O164: 0 | P164: =O164*H164 -> 0 | Q164: 0 | R164: =Q164*H164 -> 0 | S164: 0 | T164: =S164*H164 -> 0 | AR164: 4 | AT164: K | AU164: 2 | AY164: ROZPOCET | BE164: =IF(N164="základná",J164,0) -> 0 | BF164: =IF(N164="znížená",J164,0) -> 0 | BG164: =IF(N164="zákl. prenesená",J164,0) -> 0 | BH164: =IF(N164="zníž. prenesená",J164,0) -> 0 | BI164: =IF(N164="nulová",J164,0) -> 0 | BJ164: 2 | BK164: =ROUND(I164*H164,3) -> 0 | BL164: 4 | BM164: 1636539535
C165: 22 | D165: K | E165: 345361821.S | F165: Výstuž múrikov parapet., atik., schodisk., zábradl., z betonárskej ocele B500 (10505) | G165: t | H165: 0.306 | J165: =ROUND(I165*H165,3) -> 0 | N165: znížená | O165: 0 | P165: =O165*H165 -> 0 | Q165: 0 | R165: =Q165*H165 -> 0 | S165: 0 | T165: =S165*H165 -> 0 | AR165: 4 | AT165: K | AU165: 2 | AY165: ROZPOCET | BE165: =IF(N165="základná",J165,0) -> 0 | BF165: =IF(N165="znížená",J165,0) -> 0 | BG165: =IF(N165="zákl. prenesená",J165,0) -> 0 | BH165: =IF(N165="zníž. prenesená",J165,0) -> 0 | BI165: =IF(N165="nulová",J165,0) -> 0 | BJ165: 2 | BK165: =ROUND(I165*H165,3) -> 0 | BL165: 4 | BM165: 297276569
D166: VV | F166: 3,825*0,08 | H166: 0.306 | AT166: VV | AU166: 2 | AV166: 2 | AW166: True | AX166: 1 | AY166: ROZPOCET
...
