Workbook

Sheet Rekapitulácia stavby
A1: Export Komplet | BA1: 2.0 | BT1: False | BU1: False | BV1: {6d9e05f3-25e5-4bdd-a5ed-3cc34ebdd01d}
AR2: >> skryté stĺpce << | BS2: 0,001 | BT2: 20
BS3: 0,001 | BT3: 20
D4: REKAPITULÁCIA STAVBY | AS4: v --- nižšie sa nachádzajú doplnkové a pomocné údaje k zostavám --- v | BS4: 0,001
D5: Kód: | K5: PV482 | BS5: 0,001
D6: Stavba: | K6: VINÁRSTVO - novostavba haly | BS6: 0,001
D7: JKSO: | AK7: KS: | BS7: 0,001
D8: Miesto: | K8: Modrany, č. p. 2080/1, 2080/2 | AK8: Dátum: | BS8: 0,001
BS9: 0,001
D10: Objednávateľ: | AK10: IČO: | BS10: 0,001
E11: Agropark Modrany s.r.o. | AK11: IČ DPH: | BS11: 0,001
BS12: 0,001
D13: Zhotoviteľ: | AK13: IČO: | BS13: 0,001
AK14: IČ DPH: | BS14: 0,001
BS15: False
D16: Projektant: | AK16: IČO: | BS16: False
AK17: IČ DPH: | BS17: True
BS18: 0,01
D19: Spracovateľ: | AK19: IČO: | BS19: 0,01
AK20: IČ DPH: | BS20: True
D22: Poznámka:
E23: Jedná sa len o orientačný rozpočet spracovaný podľa poskytnuých podkladov. Všetky výmery a ceny sú len informatívne a odhadované. K správnemu naceneniu výkazu výmer je potrebné naštudovanie PD a obhliadka stavby. Naceniť je potrebné jestvujúci výkaz výmer podľa pokynov tendrového zadávateľa, resp. zmluvy o dielo. Rozdiely uviesť pod čiaru._x000D_ Výkaz výmer výberom položiek, priloženými výpočtami má napomôcť a urýchliť dodávateľovi správne naceniť všetky práce podľa PD ku kompletnej realizácií, skolaudovaní a užívateľnosti stav. diela._x000D_ Práce a dodávky obsiahnuté v projektovej dokumentácii a neobsiahnuté vo výkaze výmer je dodávateľ povinný položkovo rozšpecifikovať a naceniť pod čiaru, mimo ponukového rozpočtu pre objektívne rozhodovanie._x000D_ Zmeny, opravy VV a návrhy na možné zníženie stav. nákladov dodávateľ nacení rovnako pod čiaru a priloží k ponukovému rozpočtu. _x000D_ Dodávateľ rozšpecifikuje pouzitie VRN-ov: napr. označenie staveniska, čistenie komunikacií, opatrenia pre stav. v zimnom období, poistenie, geodet. merania a dokumentáciu, skúšky, vzorky, dielenskú dokumentáciu, staveb. výťah, žeriav v súčinnosti a položkami pre zvislý presun hmôt vo všetkých výkazoch, vyčistenie všetkých dotknutých plôch od stavebného odpadu, aj ako príprava pre sadové úpravy.
D26: Náklady z rozpočtov | AK26: =ROUND(AG94,2) -> 0
D27: Ostatné náklady zo súhrnného listu | AK27: =ROUND(AG101, 2) -> 0
D29: Cena bez DPH | AK29: =ROUND(AK26 + AK27, 2) -> 0
L31: Sadzba dane | W31: Základ dane | AK31: Výška dane
D32: DPH | F32: základná | L32: 0.2 | W32: =ROUND(AZ94 + SUM(CD101), 2) -> 0 | AK32: =ROUND(AV94 + SUM(BY101), 2) -> 0
F33: znížená | L33: 0.2 | W33: =ROUND(BA94 + SUM(CE101), 2) -> 0 | AK33: =ROUND(AW94 + SUM(BZ101), 2) -> 0
F34: zákl. prenesená | L34: 0.2 | W34: =ROUND(BB94 + SUM(CF101), 2) -> 0 | AK34: 0
F35: zníž. prenesená | L35: 0.2 | W35: =ROUND(BC94 + SUM(CG101), 2) -> 0 | AK35: 0
F36: nulová | L36: 0 | W36: =ROUND(BD94 + SUM(CH101), 2) -> 0 | AK36: 0
D38: Cena s DPH | T38: v | X38: EUR | AK38: =SUM(AK29:AK36) -> 0
D49: Projektant | AH49: Spracovateľ
D60: Dátum a podpis: | V60: Pečiatka | AH60: Dátum a podpis: | AM60: Pečiatka
D64: Objednávateľ | AH64: Zhotoviteľ
D75: Dátum a podpis: | V75: Pečiatka | AH75: Dátum a podpis: | AM75: Pečiatka
C82: REKAPITULÁCIA OBJEKTOV STAVBY
C84: Kód: | L84: =K5 -> PV482
C85: Stavba: | L85: =K6 -> VINÁRSTVO - novostavba haly
C87: Miesto: | L87: =IF(K8="","",K8) -> Modrany, č. p. 2080/1, 2080/2 | AI87: Dátum:
...

Sheet 1 - SO 01 - Výrobná hala ...
L2: >> skryté stĺpce << | AT2: {61c9294f-bbfa-45b2-91fe-6f38c90ce117}
AT3: 0
D4: KRYCÍ LIST ROZPOČTU | M4: v --- nižšie sa nachádzajú doplnkové a pomocné údaje k zostavám --- v | AT4: False
D6: Stavba:
E7: ='Rekapitulácia stavby'!K6 -> VINÁRSTVO - novostavba haly
D8: Objekt:
E9: 1 - SO 01 - Výrobná hala - stavebná časť
D11: JKSO: | I11: KS:
D12: Miesto: | F12: Modrany, č. p. 2080/1, 2080/2 | I12: Dátum:
D14: Objednávateľ: | I14: IČO:
E15: Agropark Modrany s.r.o. | I15: IČ DPH:
D17: Zhotoviteľ: | I17: IČO: | J17: ='Rekapitulácia stavby'!AN13
E18: ='Rekapitulácia stavby'!E14 | I18: IČ DPH: | J18: ='Rekapitulácia stavby'!AN14
D20: Projektant: | I20: IČO:
I21: IČ DPH:
D23: Spracovateľ: | I23: IČO: | J23: =IF('Rekapitulácia stavby'!AN19="","",'Rekapitulácia stavby'!AN19)
E24: =IF('Rekapitulácia stavby'!E20="","",'Rekapitulácia stavby'!E20) | I24: IČ DPH: | J24: =IF('Rekapitulácia stavby'!AN20="","",'Rekapitulácia stavby'!AN20)
D26: Poznámka:
E27: Jedná sa len o orientačný rozpočet spracovaný podľa poskytnuých podkladov. Všetky výmery a ceny sú len informatívne a odhadované. K správnemu naceneniu výkazu výmer je potrebné naštudovanie PD a obhliadka stavby. Naceniť je potrebné jestvujúci výkaz výmer podľa pokynov tendrového zadávateľa, resp. zmluvy o dielo. Rozdiely uviesť pod čiaru. Výkaz výmer výberom položiek, priloženými výpočtami má napomôcť a urýchliť dodávateľovi správne naceniť všetky práce podľa PD ku kompletnej realizácií, skolaudovaní a užívateľnosti stav. diela. Práce a dodávky obsiahnuté v projektovej dokumentácii a neobsiahnuté vo výkaze výmer je dodávateľ povinný položkovo rozšpecifikovať a naceniť pod čiaru, mimo ponukového rozpočtu pre objektívne rozhodovanie. Zmeny, opravy VV a návrhy na možné zníženie stav. nákladov dodávateľ nacení rovnako pod čiaru a priloží k ponukovému rozpočtu. Dodávateľ rozšpecifikuje pouzitie VRN-ov: napr. označenie staveniska, čistenie komunikacií, opatrenia pre stav. v zimnom období, poistenie, geodet. merania a dokumentáciu, skúšky, vzorky, dielenskú dokumentáciu, staveb. výťah, žeriav v súčinnosti a položkami pre zvislý presun hmôt vo všetkých výkazoch, vyčistenie všetkých dotknutých plôch od stavebného odpadu, aj ako príprava pre sadové úpravy.
D30: Náklady z rozpočtu | J30: =J96 -> 0
D31: Ostatné náklady | J31: =J115 -> 0
D32: Cena bez DPH | J32: =ROUND(J30 + J31, 2) -> 0
F34: Základ dane | I34: Sadzba dane | J34: Výška dane
D35: DPH | E35: základná | F35: =ROUND((SUM(BE115:BE116) + SUM(BE136:BE350)), 2) -> 0 | I35: 0.2 | J35: =ROUND(((SUM(BE115:BE116) + SUM(BE136:BE350))*I35), 2) -> 0
E36: znížená | F36: =ROUND((SUM(BF115:BF116) + SUM(BF136:BF350)), 2) -> 0 | I36: 0.2 | J36: =ROUND(((SUM(BF115:BF116) + SUM(BF136:BF350))*I36), 2) -> 0
E37: zákl. prenesená | F37: =ROUND((SUM(BG115:BG116) + SUM(BG136:BG350)), 2) -> 0 | I37: 0.2 | J37: =0 -> 0
E38: zníž. prenesená | F38: =ROUND((SUM(BH115:BH116) + SUM(BH136:BH350)), 2) -> 0 | I38: 0.2 | J38: =0 -> 0
E39: nulová | F39: =ROUND((SUM(BI115:BI116) + SUM(BI136:BI350)), 2) -> 0 | I39: 0 | J39: =0 -> 0
D41: Cena s DPH | G41: v | H41: EUR | J41: =SUM(J32:J39) -> 0
D50: Projektant | G50: Spracovateľ
D61: Dátum a podpis: | F61: Pečiatka | G61: Dátum a podpis: | J61: Pečiatka
D65: Objednávateľ | G65: Zhotoviteľ
D76: Dátum a podpis: | F76: Pečiatka | G76: Dátum a podpis: | J76: Pečiatka
C82: REKAPITULÁCIA ROZPOČTU
C84: Stavba:
E85: =E7 -> VINÁRSTVO - novostavba haly
C86: Objekt:
E87: =E9 -> 1 - SO 01 - Výrobná hala - stavebná časť
C89: Miesto: | F89: =F12 -> Modrany, č. p. 2080/1, 2080/2 | I89: Dátum: | J89: =IF(J12="","",J12)
C91: Objednávateľ: | F91: =E15 -> Agropark Modrany s.r.o. | I91: Projektant:
...

Sheet 1_1 - Kúrenie a chladenie
L2: >> skryté stĺpce << | AT2: {0166adfb-ac6f-40a3-81b7-3a8b74b88da4}
AT3: 0
D4: KRYCÍ LIST ROZPOČTU | M4: v --- nižšie sa nachádzajú doplnkové a pomocné údaje k zostavám --- v | AT4: False
D6: Stavba:
E7: ='Rekapitulácia stavby'!K6 -> VINÁRSTVO - novostavba haly
D8: Objekt:
E9: 1 - SO 01 - Výrobná hala - stavebná časť
D10: Časť:
E11: 1_1 - Kúrenie a chladenie
D13: JKSO: | I13: KS:
D14: Miesto: | F14: Modrany, č. p. 2080/1, 2080/2 | I14: Dátum:
D16: Objednávateľ: | I16: IČO:
E17: Agropark Modrany s.r.o. | I17: IČ DPH:
D19: Zhotoviteľ: | I19: IČO: | J19: ='Rekapitulácia stavby'!AN13
E20: ='Rekapitulácia stavby'!E14 | I20: IČ DPH: | J20: ='Rekapitulácia stavby'!AN14
D22: Projektant: | I22: IČO:
I23: IČ DPH:
D25: Spracovateľ: | I25: IČO: | J25: =IF('Rekapitulácia stavby'!AN19="","",'Rekapitulácia stavby'!AN19)
E26: =IF('Rekapitulácia stavby'!E20="","",'Rekapitulácia stavby'!E20) | I26: IČ DPH: | J26: =IF('Rekapitulácia stavby'!AN20="","",'Rekapitulácia stavby'!AN20)
D28: Poznámka:
E29: Jedná sa len o orientačný rozpočet spracovaný podľa poskytnuých podkladov. Všetky výmery a ceny sú len informatívne a odhadované. K správnemu naceneniu výkazu výmer je potrebné naštudovanie PD a obhliadka stavby. Naceniť je potrebné jestvujúci výkaz výmer podľa pokynov tendrového zadávateľa, resp. zmluvy o dielo. Rozdiely uviesť pod čiaru. Výkaz výmer výberom položiek, priloženými výpočtami má napomôcť a urýchliť dodávateľovi správne naceniť všetky práce podľa PD ku kompletnej realizácií, skolaudovaní a užívateľnosti stav. diela. Práce a dodávky obsiahnuté v projektovej dokumentácii a neobsiahnuté vo výkaze výmer je dodávateľ povinný položkovo rozšpecifikovať a naceniť pod čiaru, mimo ponukového rozpočtu pre objektívne rozhodovanie. Zmeny, opravy VV a návrhy na možné zníženie stav. nákladov dodávateľ nacení rovnako pod čiaru a priloží k ponukovému rozpočtu. Dodávateľ rozšpecifikuje pouzitie VRN-ov: napr. označenie staveniska, čistenie komunikacií, opatrenia pre stav. v zimnom období, poistenie, geodet. merania a dokumentáciu, skúšky, vzorky, dielenskú dokumentáciu, staveb. výťah, žeriav v súčinnosti a položkami pre zvislý presun hmôt vo všetkých výkazoch, vyčistenie všetkých dotknutých plôch od stavebného odpadu, aj ako príprava pre sadové úpravy.
D32: Náklady z rozpočtu | J32: =J98 -> 0
D33: Ostatné náklady | J33: =J103 -> 0
D34: Cena bez DPH | J34: =ROUND(J32 + J33, 2) -> 0
F36: Základ dane | I36: Sadzba dane | J36: Výška dane
D37: DPH | E37: základná | F37: =ROUND((SUM(BE103:BE104) + SUM(BE126:BE129)), 2) -> 0 | I37: 0.2 | J37: =ROUND(((SUM(BE103:BE104) + SUM(BE126:BE129))*I37), 2) -> 0
E38: znížená | F38: =ROUND((SUM(BF103:BF104) + SUM(BF126:BF129)), 2) -> 0 | I38: 0.2 | J38: =ROUND(((SUM(BF103:BF104) + SUM(BF126:BF129))*I38), 2) -> 0
E39: zákl. prenesená | F39: =ROUND((SUM(BG103:BG104) + SUM(BG126:BG129)), 2) -> 0 | I39: 0.2 | J39: =0 -> 0
E40: zníž. prenesená | F40: =ROUND((SUM(BH103:BH104) + SUM(BH126:BH129)), 2) -> 0 | I40: 0.2 | J40: =0 -> 0
E41: nulová | F41: =ROUND((SUM(BI103:BI104) + SUM(BI126:BI129)), 2) -> 0 | I41: 0 | J41: =0 -> 0
D43: Cena s DPH | G43: v | H43: EUR | J43: =SUM(J34:J41) -> 0
D50: Projektant | G50: Spracovateľ
D61: Dátum a podpis: | F61: Pečiatka | G61: Dátum a podpis: | J61: Pečiatka
D65: Objednávateľ | G65: Zhotoviteľ
D76: Dátum a podpis: | F76: Pečiatka | G76: Dátum a podpis: | J76: Pečiatka
C82: REKAPITULÁCIA ROZPOČTU
C84: Stavba:
E85: =E7 -> VINÁRSTVO - novostavba haly
C86: Objekt:
E87: 1 - SO 01 - Výrobná hala - stavebná časť
...

Sheet 1_2 - Odsávanie - vetranie
L2: >> skryté stĺpce << | AT2: {f3bae621-604d-4936-af0f-4835513ab50a}
AT3: 0
D4: KRYCÍ LIST ROZPOČTU | M4: v --- nižšie sa nachádzajú doplnkové a pomocné údaje k zostavám --- v | AT4: False
D6: Stavba:
E7: ='Rekapitulácia stavby'!K6 -> VINÁRSTVO - novostavba haly
D8: Objekt:
E9: 1 - SO 01 - Výrobná hala - stavebná časť
D10: Časť:
E11: 1_2 - Odsávanie - vetranie
D13: JKSO: | I13: KS:
D14: Miesto: | F14: Modrany, č. p. 2080/1, 2080/2 | I14: Dátum:
D16: Objednávateľ: | I16: IČO:
E17: Agropark Modrany s.r.o. | I17: IČ DPH:
D19: Zhotoviteľ: | I19: IČO: | J19: ='Rekapitulácia stavby'!AN13
E20: ='Rekapitulácia stavby'!E14 | I20: IČ DPH: | J20: ='Rekapitulácia stavby'!AN14
D22: Projektant: | I22: IČO:
I23: IČ DPH:
D25: Spracovateľ: | I25: IČO: | J25: =IF('Rekapitulácia stavby'!AN19="","",'Rekapitulácia stavby'!AN19)
E26: =IF('Rekapitulácia stavby'!E20="","",'Rekapitulácia stavby'!E20) | I26: IČ DPH: | J26: =IF('Rekapitulácia stavby'!AN20="","",'Rekapitulácia stavby'!AN20)
D28: Poznámka:
E29: Jedná sa len o orientačný rozpočet spracovaný podľa poskytnuých podkladov. Všetky výmery a ceny sú len informatívne a odhadované. K správnemu naceneniu výkazu výmer je potrebné naštudovanie PD a obhliadka stavby. Naceniť je potrebné jestvujúci výkaz výmer podľa pokynov tendrového zadávateľa, resp. zmluvy o dielo. Rozdiely uviesť pod čiaru. Výkaz výmer výberom položiek, priloženými výpočtami má napomôcť a urýchliť dodávateľovi správne naceniť všetky práce podľa PD ku kompletnej realizácií, skolaudovaní a užívateľnosti stav. diela. Práce a dodávky obsiahnuté v projektovej dokumentácii a neobsiahnuté vo výkaze výmer je dodávateľ povinný položkovo rozšpecifikovať a naceniť pod čiaru, mimo ponukového rozpočtu pre objektívne rozhodovanie. Zmeny, opravy VV a návrhy na možné zníženie stav. nákladov dodávateľ nacení rovnako pod čiaru a priloží k ponukovému rozpočtu. Dodávateľ rozšpecifikuje pouzitie VRN-ov: napr. označenie staveniska, čistenie komunikacií, opatrenia pre stav. v zimnom období, poistenie, geodet. merania a dokumentáciu, skúšky, vzorky, dielenskú dokumentáciu, staveb. výťah, žeriav v súčinnosti a položkami pre zvislý presun hmôt vo všetkých výkazoch, vyčistenie všetkých dotknutých plôch od stavebného odpadu, aj ako príprava pre sadové úpravy.
D32: Náklady z rozpočtu | J32: =J98 -> 0
D33: Ostatné náklady | J33: =J103 -> 0
D34: Cena bez DPH | J34: =ROUND(J32 + J33, 2) -> 0
F36: Základ dane | I36: Sadzba dane | J36: Výška dane
D37: DPH | E37: základná | F37: =ROUND((SUM(BE103:BE104) + SUM(BE126:BE129)), 2) -> 0 | I37: 0.2 | J37: =ROUND(((SUM(BE103:BE104) + SUM(BE126:BE129))*I37), 2) -> 0
E38: znížená | F38: =ROUND((SUM(BF103:BF104) + SUM(BF126:BF129)), 2) -> 0 | I38: 0.2 | J38: =ROUND(((SUM(BF103:BF104) + SUM(BF126:BF129))*I38), 2) -> 0
E39: zákl. prenesená | F39: =ROUND((SUM(BG103:BG104) + SUM(BG126:BG129)), 2) -> 0 | I39: 0.2 | J39: =0 -> 0
E40: zníž. prenesená | F40: =ROUND((SUM(BH103:BH104) + SUM(BH126:BH129)), 2) -> 0 | I40: 0.2 | J40: =0 -> 0
E41: nulová | F41: =ROUND((SUM(BI103:BI104) + SUM(BI126:BI129)), 2) -> 0 | I41: 0 | J41: =0 -> 0
D43: Cena s DPH | G43: v | H43: EUR | J43: =SUM(J34:J41) -> 0
D50: Projektant | G50: Spracovateľ
D61: Dátum a podpis: | F61: Pečiatka | G61: Dátum a podpis: | J61: Pečiatka
D65: Objednávateľ | G65: Zhotoviteľ
D76: Dátum a podpis: | F76: Pečiatka | G76: Dátum a podpis: | J76: Pečiatka
C82: REKAPITULÁCIA ROZPOČTU
C84: Stavba:
E85: =E7 -> VINÁRSTVO - novostavba haly
C86: Objekt:
E87: 1 - SO 01 - Výrobná hala - stavebná časť
...

Sheet 1_3 - Elektroinštalácia
L2: >> skryté stĺpce << | AT2: {d8641a4a-4925-41ef-8b2a-83cfd8f78634}
AT3: 0
D4: KRYCÍ LIST ROZPOČTU | M4: v --- nižšie sa nachádzajú doplnkové a pomocné údaje k zostavám --- v | AT4: False
D6: Stavba:
E7: ='Rekapitulácia stavby'!K6 -> VINÁRSTVO - novostavba haly
D8: Objekt:
E9: 1 - SO 01 - Výrobná hala - stavebná časť
D10: Časť:
E11: 1_3 - Elektroinštalácia
D13: JKSO: | I13: KS:
D14: Miesto: | F14: Modrany, č. p. 2080/1, 2080/2 | I14: Dátum:
D16: Objednávateľ: | I16: IČO:
E17: Agropark Modrany s.r.o. | I17: IČ DPH:
D19: Zhotoviteľ: | I19: IČO: | J19: ='Rekapitulácia stavby'!AN13
E20: ='Rekapitulácia stavby'!E14 | I20: IČ DPH: | J20: ='Rekapitulácia stavby'!AN14
D22: Projektant: | I22: IČO:
I23: IČ DPH:
D25: Spracovateľ: | I25: IČO: | J25: =IF('Rekapitulácia stavby'!AN19="","",'Rekapitulácia stavby'!AN19)
E26: =IF('Rekapitulácia stavby'!E20="","",'Rekapitulácia stavby'!E20) | I26: IČ DPH: | J26: =IF('Rekapitulácia stavby'!AN20="","",'Rekapitulácia stavby'!AN20)
D28: Poznámka:
E29: Jedná sa len o orientačný rozpočet spracovaný podľa poskytnuých podkladov. Všetky výmery a ceny sú len informatívne a odhadované. K správnemu naceneniu výkazu výmer je potrebné naštudovanie PD a obhliadka stavby. Naceniť je potrebné jestvujúci výkaz výmer podľa pokynov tendrového zadávateľa, resp. zmluvy o dielo. Rozdiely uviesť pod čiaru. Výkaz výmer výberom položiek, priloženými výpočtami má napomôcť a urýchliť dodávateľovi správne naceniť všetky práce podľa PD ku kompletnej realizácií, skolaudovaní a užívateľnosti stav. diela. Práce a dodávky obsiahnuté v projektovej dokumentácii a neobsiahnuté vo výkaze výmer je dodávateľ povinný položkovo rozšpecifikovať a naceniť pod čiaru, mimo ponukového rozpočtu pre objektívne rozhodovanie. Zmeny, opravy VV a návrhy na možné zníženie stav. nákladov dodávateľ nacení rovnako pod čiaru a priloží k ponukovému rozpočtu. Dodávateľ rozšpecifikuje pouzitie VRN-ov: napr. označenie staveniska, čistenie komunikacií, opatrenia pre stav. v zimnom období, poistenie, geodet. merania a dokumentáciu, skúšky, vzorky, dielenskú dokumentáciu, staveb. výťah, žeriav v súčinnosti a položkami pre zvislý presun hmôt vo všetkých výkazoch, vyčistenie všetkých dotknutých plôch od stavebného odpadu, aj ako príprava pre sadové úpravy.
D32: Náklady z rozpočtu | J32: =J98 -> 0
D33: Ostatné náklady | J33: =J103 -> 0
D34: Cena bez DPH | J34: =ROUND(J32 + J33, 2) -> 0
F36: Základ dane | I36: Sadzba dane | J36: Výška dane
D37: DPH | E37: základná | F37: =ROUND((SUM(BE103:BE104) + SUM(BE126:BE129)), 2) -> 0 | I37: 0.2 | J37: =ROUND(((SUM(BE103:BE104) + SUM(BE126:BE129))*I37), 2) -> 0
E38: znížená | F38: =ROUND((SUM(BF103:BF104) + SUM(BF126:BF129)), 2) -> 0 | I38: 0.2 | J38: =ROUND(((SUM(BF103:BF104) + SUM(BF126:BF129))*I38), 2) -> 0
E39: zákl. prenesená | F39: =ROUND((SUM(BG103:BG104) + SUM(BG126:BG129)), 2) -> 0 | I39: 0.2 | J39: =0 -> 0
E40: zníž. prenesená | F40: =ROUND((SUM(BH103:BH104) + SUM(BH126:BH129)), 2) -> 0 | I40: 0.2 | J40: =0 -> 0
E41: nulová | F41: =ROUND((SUM(BI103:BI104) + SUM(BI126:BI129)), 2) -> 0 | I41: 0 | J41: =0 -> 0
D43: Cena s DPH | G43: v | H43: EUR | J43: =SUM(J34:J41) -> 0
D50: Projektant | G50: Spracovateľ
D61: Dátum a podpis: | F61: Pečiatka | G61: Dátum a podpis: | J61: Pečiatka
D65: Objednávateľ | G65: Zhotoviteľ
D76: Dátum a podpis: | F76: Pečiatka | G76: Dátum a podpis: | J76: Pečiatka
C82: REKAPITULÁCIA ROZPOČTU
C84: Stavba:
E85: =E7 -> VINÁRSTVO - novostavba haly
C86: Objekt:
E87: 1 - SO 01 - Výrobná hala - stavebná časť
...

Sheet Zoznam figúr
C4: ZOZNAM FIGÚR
C5: Kód: | D5: PV482
C6: Stavba: | D6: VINÁRSTVO - novostavba haly
C7: Dátum: | D7: ='Rekapitulácia stavby'!AN8 -> 0
C9: Kód | D9: Popis | E9: MJ | F9: Výmera
C10: 1 | D10: SO 01 - Výrobná hala - stavebná časť
C11: OP1 | D11: OP1 | E11: m2 | F11: 396.875
C12: OP2 | D12: OP2 | E12: m2 | F12: 126.209
C13: OP3 | D13: OP3 | E13: m2 | F13: 184.09
C14: P02 | D14: P02 | E14: m2 | F14: 143.65
D15: 86,45 | F15: 86.45
D16: 28,1 | F16: 28.1
D17: 1,4 | F17: 1.4
D18: 1,4 | F18: 1.4
D19: 3,75 | F19: 3.75
D20: 4,9 | F20: 4.9
D21: 1,4 | F21: 1.4
D22: 4,9 | F22: 4.9
D23: 1,4 | F23: 1.4
D24: 6,2 | F24: 6.2
D25: 3,75 | F25: 3.75
D26: Medzisúčet | F26: 143.65
D27: Súčet | F27: 143.65
C28: P03 | D28: P03 | E28: m2 | F28: 138.59
D29: 138,59 | F29: 138.59
C30: S01 | D30: S01 | E30: m2 | F30: 420
C31: S02 | D31: S02 | E31: m2 | F31: 160.236
D32: 160,236 "52,58m | F32: 160.236
D33: Medzisúčet | F33: 160.236
D34: Súčet | F34: 160.236
C35: S03 | D35: S03 | E35: m2 | F35: 29.24
