Workbook

Sheet Rekapitulácia stavby
A1: Export Komplet | BA1: 2.0 | BT1: False | BU1: False | BV1: {6d9e05f3-25e5-4bdd-a5ed-3cc34ebdd01d}
AR2: >> skryté stĺpce << | BS2: 0,001 | BT2: 20
BS3: 0,001 | BT3: 20
D4: REKAPITULÁCIA STAVBY | AS4: v --- nižšie sa nachádzajú doplnkové a pomocné údaje k zostavám --- v | BS4: 0,001
D5: Kód: | K5: PV482 | BS5: 0,001
D6: Stavba: | K6: VINÁRSTVO - novostavba haly | BS6: 0,001
D7: JKSO: | AK7: KS: | BS7: 0,001
D8: Miesto: | K8: Modrany, č. p. 2080/1, 2080/2 | AK8: Dátum: | BS8: 0,001
BS9: 0,001
D10: Objednávateľ: | AK10: IČO: | BS10: 0,001
E11: Agropark Modrany s.r.o. | AK11: IČ DPH: | BS11: 0,001
BS12: 0,001
D13: Zhotoviteľ: | AK13: IČO: | BS13: 0,001
AK14: IČ DPH: | BS14: 0,001
BS15: False
D16: Projektant: | AK16: IČO: | BS16: False
AK17: IČ DPH: | BS17: True
BS18: 0,01
D19: Spracovateľ: | AK19: IČO: | BS19: 0,01
AK20: IČ DPH: | BS20: True
D22: Poznámka:
E23: Jedná sa len o orientačný rozpočet spracovaný podľa poskytnuých podkladov. Všetky výmery a ceny sú len informatívne a odhadované. K správnemu naceneniu výkazu výmer je potrebné naštudovanie PD a obhliadka stavby. Naceniť je potrebné jestvujúci výkaz výmer podľa pokynov tendrového zadávateľa, resp. zmluvy o dielo. Rozdiely uviesť pod čiaru._x000D_ Výkaz výmer výberom položiek, priloženými výpočtami má napomôcť a urýchliť dodávateľovi správne naceniť všetky práce podľa PD ku kompletnej realizácií, skolaudovaní a užívateľnosti stav. diela._x000D_ Práce a dodávky obsiahnuté v projektovej dokumentácii a neobsiahnuté vo výkaze výmer je dodávateľ povinný položkovo rozšpecifikovať a naceniť pod čiaru, mimo ponukového rozpočtu pre objektívne rozhodovanie._x000D_ Zmeny, opravy VV a návrhy na možné zníženie stav. nákladov dodávateľ nacení rovnako pod čiaru a priloží k ponukovému rozpočtu. _x000D_ Dodávateľ rozšpecifikuje pouzitie VRN-ov: napr. označenie staveniska, čistenie komunikacií, opatrenia pre stav. v zimnom období, poistenie, geodet. merania a dokumentáciu, skúšky, vzorky, dielenskú dokumentáciu, staveb. výťah, žeriav v súčinnosti a položkami pre zvislý presun hmôt vo všetkých výkazoch, vyčistenie všetkých dotknutých plôch od stavebného odpadu, aj ako príprava pre sadové úpravy.
D26: Náklady z rozpočtov | AK26: =ROUND(AG94,2) -> 0
D27: Ostatné náklady zo súhrnného listu | AK27: =ROUND(AG101, 2) -> 0
D29: Cena bez DPH | AK29: =ROUND(AK26 + AK27, 2) -> 0
L31: Sadzba dane | W31: Základ dane | AK31: Výška dane
D32: DPH | F32: základná | L32: 0.2 | W32: =ROUND(AZ94 + SUM(CD101), 2) -> 0 | AK32: =ROUND(AV94 + SUM(BY101), 2) -> 0
F33: znížená | L33: 0.2 | W33: =ROUND(BA94 + SUM(CE101), 2) -> 0 | AK33: =ROUND(AW94 + SUM(BZ101), 2) -> 0
F34: zákl. prenesená | L34: 0.2 | W34: =ROUND(BB94 + SUM(CF101), 2) -> 0 | AK34: 0
F35: zníž. prenesená | L35: 0.2 | W35: =ROUND(BC94 + SUM(CG101), 2) -> 0 | AK35: 0
F36: nulová | L36: 0 | W36: =ROUND(BD94 + SUM(CH101), 2) -> 0 | AK36: 0
D38: Cena s DPH | T38: v | X38: EUR | AK38: =SUM(AK29:AK36) -> 0
D49: Projektant | AH49: Spracovateľ
D60: Dátum a podpis: | V60: Pečiatka | AH60: Dátum a podpis: | AM60: Pečiatka
D64: Objednávateľ | AH64: Zhotoviteľ
D75: Dátum a podpis: | V75: Pečiatka | AH75: Dátum a podpis: | AM75: Pečiatka
C82: REKAPITULÁCIA OBJEKTOV STAVBY
C84: Kód: | L84: =K5 -> PV482
C85: Stavba: | L85: =K6 -> VINÁRSTVO - novostavba haly
C87: Miesto: | L87: =IF(K8="","",K8) -> Modrany, č. p. 2080/1, 2080/2 | AI87: Dátum:
C89: Objednávateľ: | L89: =IF(E11= "","",E11) -> Agropark Modrany s.r.o. | AI89: Projektant: | AS89: Informatívne údaje z listov zákaziek
C90: Zhotoviteľ: | L90: =IF(E14="","",E14) | AI90: Spracovateľ: | AM90: =IF(E20="","",E20)
C92: Kód | I92: Popis | AG92: Cena bez DPH [EUR] | AN92: Cena s DPH [EUR] | AQ92: Typ | AS92: z toho Ostat._x000D_ náklady [EUR] | AT92: DPH [EUR] | AU92: Normohodiny [h] | AV92: DPH základná [EUR] | AW92: DPH znížená [EUR] | AX92: DPH základná prenesená_x000D_ [EUR] | AY92: DPH znížená prenesená_x000D_ [EUR] | AZ92: Základňa_x000D_ DPH základná | BA92: Základňa_x000D_ DPH znížená | BB92: Základňa_x000D_ DPH zákl. prenesená | BC92: Základňa_x000D_ DPH zníž. prenesená | BD92: Základňa_x000D_ DPH nulová
C94: 1) Náklady z rozpočtov | AG94: =ROUND(AG95,2) -> 0 | AN94: =SUM(AG94,AT94) -> 0 | AS94: =ROUND(AS95,2) -> 0 | AT94: =ROUND(SUM(AV94:AW94),2) -> 0 | AU94: =ROUND(AU95,5) -> 6887.8304 | AV94: =ROUND(AZ94*L32,2) -> 0 | AW94: =ROUND(BA94*L33,2) -> 0 | AX94: =ROUND(BB94*L32,2) -> 0 | AY94: =ROUND(BC94*L33,2) -> 0 | AZ94: =ROUND(AZ95,2) -> 0 | BA94: =ROUND(BA95,2) -> 0 | BB94: =ROUND(BB95,2) -> 0 | BC94: =ROUND(BC95,2) -> 0 | BD94: =ROUND(BD95,2) -> 0 | BS94: D | BT94: 0 | BU94: ###NOIMPORT### | BV94: IMPORT | BW94: {6d9e05f3-25e5-4bdd-a5ed-3cc34ebdd01d} | BX94: {00000000-0000-0000-0000-000000000000}
D95: 1 | J95: SO 01 - Výrobná hala - stavebná časť | AG95: =ROUND(SUM(AG96:AG99),2) -> 0 | AN95: =SUM(AG95,AT95) -> 0 | AQ95: STA | AS95: =ROUND(SUM(AS96:AS99),2) -> 0 | AT95: =ROUND(SUM(AV95:AW95),2) -> 0 | AU95: =ROUND(SUM(AU96:AU99),5) -> 6887.8304 | AV95: =ROUND(AZ95*L32,2) -> 0 | AW95: =ROUND(BA95*L33,2) -> 0 | AX95: =ROUND(BB95*L32,2) -> 0 | AY95: =ROUND(BC95*L33,2) -> 0 | AZ95: =ROUND(SUM(AZ96:AZ99),2) -> 0 | BA95: =ROUND(SUM(BA96:BA99),2) -> 0 | BB95: =ROUND(SUM(BB96:BB99),2) -> 0 | BC95: =ROUND(SUM(BC96:BC99),2) -> 0 | BD95: =ROUND(SUM(BD96:BD99),2) -> 0 | BS95: D | BT95: 1 | BV95: IMPORT | BW95: {61c9294f-bbfa-45b2-91fe-6f38c90ce117} | BX95: {6d9e05f3-25e5-4bdd-a5ed-3cc34ebdd01d} | CM95: 0
A96: / | E96: 1 | K96: SO 01 - Výrobná hala - stavebná časť | AG96: ='1 - SO 01 - Výrobná hala ...'!J32 -> 0 | AN96: =SUM(AG96,AT96) -> 0 | AQ96: Časť | AS96: 0 | AT96: =ROUND(SUM(AV96:AW96),2) -> 0 | AU96: ='1 - SO 01 - Výrobná hala ...'!P136 -> 6887.8304 | AV96: ='1 - SO 01 - Výrobná hala ...'!J35 -> 0 | AW96: ='1 - SO 01 - Výrobná hala ...'!J36 -> 0 | AX96: ='1 - SO 01 - Výrobná hala ...'!J37 -> 0 | AY96: ='1 - SO 01 - Výrobná hala ...'!J38 -> 0 | AZ96: ='1 - SO 01 - Výrobná hala ...'!F35 -> 0 | BA96: ='1 - SO 01 - Výrobná hala ...'!F36 -> 0 | BB96: ='1 - SO 01 - Výrobná hala ...'!F37 -> 0 | BC96: ='1 - SO 01 - Výrobná hala ...'!F38 -> 0 | BD96: ='1 - SO 01 - Výrobná hala ...'!F39 -> 0 | BT96: 2 | BU96: ###NOINSERT### | BV96: IMPORT | BW96: {61c9294f-bbfa-45b2-91fe-6f38c90ce117} | BX96: {6d9e05f3-25e5-4bdd-a5ed-3cc34ebdd01d} | CM96: 0
A97: / | E97: 1_1 | K97: Kúrenie a chladenie | AG97: ='1_1 - Kúrenie a chladenie'!J34 -> 0 | AN97: =SUM(AG97,AT97) -> 0 | AQ97: Časť | AS97: 0 | AT97: =ROUND(SUM(AV97:AW97),2) -> 0 | AU97: ='1_1 - Kúrenie a chladenie'!P126 -> 0 | AV97: ='1_1 - Kúrenie a chladenie'!J37 -> 0 | AW97: ='1_1 - Kúrenie a chladenie'!J38 -> 0 | AX97: ='1_1 - Kúrenie a chladenie'!J39 -> 0 | AY97: ='1_1 - Kúrenie a chladenie'!J40 -> 0 | AZ97: ='1_1 - Kúrenie a chladenie'!F37 -> 0 | BA97: ='1_1 - Kúrenie a chladenie'!F38 -> 0 | BB97: ='1_1 - Kúrenie a chladenie'!F39 -> 0 | BC97: ='1_1 - Kúrenie a chladenie'!F40 -> 0 | BD97: ='1_1 - Kúrenie a chladenie'!F41 -> 0 | BT97: 2 | BV97: IMPORT | BW97: {0166adfb-ac6f-40a3-81b7-3a8b74b88da4} | BX97: {61c9294f-bbfa-45b2-91fe-6f38c90ce117}
A98: / | E98: 1_2 | K98: Odsávanie - vetranie | AG98: ='1_2 - Odsávanie - vetranie'!J34 -> 0 | AN98: =SUM(AG98,AT98) -> 0 | AQ98: Časť | AS98: 0 | AT98: =ROUND(SUM(AV98:AW98),2) -> 0 | AU98: ='1_2 - Odsávanie - vetranie'!P126 -> 0 | AV98: ='1_2 - Odsávanie - vetranie'!J37 -> 0 | AW98: ='1_2 - Odsávanie - vetranie'!J38 -> 0 | AX98: ='1_2 - Odsávanie - vetranie'!J39 -> 0 | AY98: ='1_2 - Odsávanie - vetranie'!J40 -> 0 | AZ98: ='1_2 - Odsávanie - vetranie'!F37 -> 0 | BA98: ='1_2 - Odsávanie - vetranie'!F38 -> 0 | BB98: ='1_2 - Odsávanie - vetranie'!F39 -> 0 | BC98: ='1_2 - Odsávanie - vetranie'!F40 -> 0 | BD98: ='1_2 - Odsávanie - vetranie'!F41 -> 0 | BT98: 2 | BV98: IMPORT | BW98: {f3bae621-604d-4936-af0f-4835513ab50a} | BX98: {61c9294f-bbfa-45b2-91fe-6f38c90ce117}
A99: / | E99: 1_3 | K99: Elektroinštalácia | AG99: ='1_3 - Elektroinštalácia'!J34 -> 0 | AN99: =SUM(AG99,AT99) -> 0 | AQ99: Časť | AS99: 0 | AT99: =ROUND(SUM(AV99:AW99),2) -> 0 | AU99: ='1_3 - Elektroinštalácia'!P126 -> 0 | AV99: ='1_3 - Elektroinštalácia'!J37 -> 0 | AW99: ='1_3 - Elektroinštalácia'!J38 -> 0 | AX99: ='1_3 - Elektroinštalácia'!J39 -> 0 | AY99: ='1_3 - Elektroinštalácia'!J40 -> 0 | AZ99: ='1_3 - Elektroinštalácia'!F37 -> 0 | BA99: ='1_3 - Elektroinštalácia'!F38 -> 0 | BB99: ='1_3 - Elektroinštalácia'!F39 -> 0 | BC99: ='1_3 - Elektroinštalácia'!F40 -> 0 | BD99: ='1_3 - Elektroinštalácia'!F41 -> 0 | BT99: 2 | BV99: IMPORT | BW99: {d8641a4a-4925-41ef-8b2a-83cfd8f78634} | BX99: {61c9294f-bbfa-45b2-91fe-6f38c90ce117}
C101: 2) Ostatné náklady zo súhrnného listu | AG101: 0 | AN101: 0 | AS101: Percent. zadanie_x000D_ [% nákladov rozpočtu] | AT101: Zaradenie nákladov | AU101: DPH | AV101: DPH [EUR]
C103: Celkové náklady za stavbu 1) + 2) | AG103: =ROUND(AG94 + AG101, 2) -> 0 | AN103: =ROUND(AN94 + AN101, 2) -> 0

Sheet 1 - SO 01 - Výrobná hala ...
L2: >> skryté stĺpce << | AT2: {61c9294f-bbfa-45b2-91fe-6f38c90ce117}
AT3: 0
D4: KRYCÍ LIST ROZPOČTU | M4: v --- nižšie sa nachádzajú doplnkové a pomocné údaje k zostavám --- v | AT4: False
D6: Stavba:
E7: ='Rekapitulácia stavby'!K6 -> VINÁRSTVO - novostavba haly
D8: Objekt:
E9: 1 - SO 01 - Výrobná hala - stavebná časť
D11: JKSO: | I11: KS:
D12: Miesto: | F12: Modrany, č. p. 2080/1, 2080/2 | I12: Dátum:
D14: Objednávateľ: | I14: IČO:
E15: Agropark Modrany s.r.o. | I15: IČ DPH:
D17: Zhotoviteľ: | I17: IČO: | J17: ='Rekapitulácia stavby'!AN13
E18: ='Rekapitulácia stavby'!E14 | I18: IČ DPH: | J18: ='Rekapitulácia stavby'!AN14
D20: Projektant: | I20: IČO:
I21: IČ DPH:
D23: Spracovateľ: | I23: IČO: | J23: =IF('Rekapitulácia stavby'!AN19="","",'Rekapitulácia stavby'!AN19)
E24: =IF('Rekapitulácia stavby'!E20="","",'Rekapitulácia stavby'!E20) | I24: IČ DPH: | J24: =IF('Rekapitulácia stavby'!AN20="","",'Rekapitulácia stavby'!AN20)
D26: Poznámka:
E27: Jedná sa len o orientačný rozpočet spracovaný podľa poskytnuých podkladov. Všetky výmery a ceny sú len informatívne a odhadované. K správnemu naceneniu výkazu výmer je potrebné naštudovanie PD a obhliadka stavby. Naceniť je potrebné jestvujúci výkaz výmer podľa pokynov tendrového zadávateľa, resp. zmluvy o dielo. Rozdiely uviesť pod čiaru. Výkaz výmer výberom položiek, priloženými výpočtami má napomôcť a urýchliť dodávateľovi správne naceniť všetky práce podľa PD ku kompletnej realizácií, skolaudovaní a užívateľnosti stav. diela. Práce a dodávky obsiahnuté v projektovej dokumentácii a neobsiahnuté vo výkaze výmer je dodávateľ povinný položkovo rozšpecifikovať a naceniť pod čiaru, mimo ponukového rozpočtu pre objektívne rozhodovanie. Zmeny, opravy VV a návrhy na možné zníženie stav. nákladov dodávateľ nacení rovnako pod čiaru a priloží k ponukovému rozpočtu. Dodávateľ rozšpecifikuje pouzitie VRN-ov: napr. označenie staveniska, čistenie komunikacií, opatrenia pre stav. v zimnom období, poistenie, geodet. merania a dokumentáciu, skúšky, vzorky, dielenskú dokumentáciu, staveb. výťah, žeriav v súčinnosti a položkami pre zvislý presun hmôt vo všetkých výkazoch, vyčistenie všetkých dotknutých plôch od stavebného odpadu, aj ako príprava pre sadové úpravy.
D30: Náklady z rozpočtu | J30: =J96 -> 0
D31: Ostatné náklady | J31: =J115 -> 0
D32: Cena bez DPH | J32: =ROUND(J30 + J31, 2) -> 0
F34: Základ dane | I34: Sadzba dane | J34: Výška dane
D35: DPH | E35: základná | F35: =ROUND((SUM(BE115:BE116) + SUM(BE136:BE350)), 2) -> 0 | I35: 0.2 | J35: =ROUND(((SUM(BE115:BE116) + SUM(BE136:BE350))*I35), 2) -> 0
E36: znížená | F36: =ROUND((SUM(BF115:BF116) + SUM(BF136:BF350)), 2) -> 0 | I36: 0.2 | J36: =ROUND(((SUM(BF115:BF116) + SUM(BF136:BF350))*I36), 2) -> 0
E37: zákl. prenesená | F37: =ROUND((SUM(BG115:BG116) + SUM(BG136:BG350)), 2) -> 0 | I37: 0.2 | J37: =0 -> 0
E38: zníž. prenesená | F38: =ROUND((SUM(BH115:BH116) + SUM(BH136:BH350)), 2) -> 0 | I38: 0.2 | J38: =0 -> 0
E39: nulová | F39: =ROUND((SUM(BI115:BI116) + SUM(BI136:BI350)), 2) -> 0 | I39: 0 | J39: =0 -> 0
D41: Cena s DPH | G41: v | H41: EUR | J41: =SUM(J32:J39) -> 0
D50: Projektant | G50: Spracovateľ
D61: Dátum a podpis: | F61: Pečiatka | G61: Dátum a podpis: | J61: Pečiatka
D65: Objednávateľ | G65: Zhotoviteľ
D76: Dátum a podpis: | F76: Pečiatka | G76: Dátum a podpis: | J76: Pečiatka
C82: REKAPITULÁCIA ROZPOČTU
C84: Stavba:
E85: =E7 -> VINÁRSTVO - novostavba haly
C86: Objekt:
E87: =E9 -> 1 - SO 01 - Výrobná hala - stavebná časť
C89: Miesto: | F89: =F12 -> Modrany, č. p. 2080/1, 2080/2 | I89: Dátum: | J89: =IF(J12="","",J12)
C91: Objednávateľ: | F91: =E15 -> Agropark Modrany s.r.o. | I91: Projektant:
C92: Zhotoviteľ: | F92: =IF(E18="","",E18) | I92: Spracovateľ: | J92: =E24
C94: Kód dielu - Popis | J94: Cena celkom [EUR]
C96: 1) Náklady z rozpočtu | J96: =J136 -> 0 | AU96: -1
D97: HSV - Práce a dodávky HSV | J97: =J137 -> 0
D98: 1 - Zemné práce | J98: =J138 -> 0
D99: 2 - Zakladanie | J99: =J162 -> 0
D100: 3 - Zvislé a kompletné konštrukcie | J100: =J211 -> 0
D101: 6 - Úpravy povrchov, podlahy, osadenie | J101: =J229 -> 0
D102: 9 - Ostatné konštrukcie a práce-búranie | J102: =J251 -> 0
D103: 99 - Presun hmôt HSV | J103: =J262 -> 0
D104: PSV - Práce a dodávky PSV | J104: =J264 -> 0
D105: 711 - Izolácie proti vode a vlhkosti | J105: =J265 -> 0
D106: 722 - Zdravotechnika - vnútorný vodovod | J106: =J289 -> 0
D107: 763 - Konštrukcie - drevostavby | J107: =J293 -> 0
D108: 764 - Konštrukcie klampiarske | J108: =J304 -> 0
D109: 767 - Konštrukcie doplnkové kovové | J109: =J310 -> 0
D110: 777 - Podlahy syntetické | J110: =J332 -> 0
D111: 783 - Nátery | J111: =J335 -> 0
D112: 784 - Maľby | J112: =J338 -> 0
C115: 2) Ostatné náklady | J115: 0 | N115: DPH
C117: Celkové náklady za stavbu 1) + 2) | J117: =ROUND(J96+J115,2) -> 0
C123: ROZPOČET
C125: Stavba:
E126: =E7 -> VINÁRSTVO - novostavba haly
C127: Objekt:
E128: =E9 -> 1 - SO 01 - Výrobná hala - stavebná časť
C130: Miesto: | F130: =F12 -> Modrany, č. p. 2080/1, 2080/2 | I130: Dátum: | J130: =IF(J12="","",J12)
C132: Objednávateľ: | F132: =E15 -> Agropark Modrany s.r.o. | I132: Projektant:
C133: Zhotoviteľ: | F133: =IF(E18="","",E18) | I133: Spracovateľ: | J133: =E24
C135: PČ | D135: Typ | E135: Kód | F135: Popis | G135: MJ | H135: Množstvo | I135: J.cena [EUR] | J135: Cena celkom [EUR] | K135: Cenová sústava | N135: DPH | O135: J. Nh [h] | P135: Nh celkom [h] | Q135: J. hmotnosť [t] | R135: Hmotnosť celkom [t] | S135: J. suť [t] | T135: Suť Celkom [t]
C136: Náklady z rozpočtu | J136: =BK136 -> 0 | P136: =P137+P264 -> 6887.8304 | R136: =R137+R264 -> 242.41256 | T136: =T137+T264 -> 0 | AT136: D | AU136: -1 | BK136: =BK137+BK264 -> 0
D137: D | E137: HSV | F137: Práce a dodávky HSV | J137: =BK137 -> 0 | P137: =P138+P162+P211+P229+P251+P262 -> 831.86724 | R137: =R138+R162+R211+R229+R251+R262 -> 199.46051 | T137: =T138+T162+T211+T229+T251+T262 -> 0 | AR137: 1 | AT137: D | AU137: 0 | AY137: ROZPOCET | BK137: =BK138+BK162+BK211+BK229+BK251+BK262 -> 0
D138: D | E138: 1 | F138: Zemné práce | J138: =BK138 -> 0 | P138: =SUM(P139:P161) -> 140.95548 | R138: =SUM(R139:R161) -> 0 | T138: =SUM(T139:T161) -> 0 | AR138: 1 | AT138: D | AU138: 1 | AY138: ROZPOCET | BK138: =SUM(BK139:BK161) -> 0
C139: 1 | D139: K | E139: 131201101.S | F139: Výkop nezapaženej jamy v hornine 3, do 100 m3 | G139: m3 | H139: 20.462 | J139: =ROUND(I139*H139,3) -> 0 | N139: znížená | O139: 0.838 | P139: =O139*H139 -> 17.147156 | Q139: 0 | R139: =Q139*H139 -> 0 | S139: 0 | T139: =S139*H139 -> 0 | AR139: 4 | AT139: K | AU139: 2 | AY139: ROZPOCET | BE139: =IF(N139="základná",J139,0) -> 0 | BF139: =IF(N139="znížená",J139,0) -> 0 | BG139: =IF(N139="zákl. prenesená",J139,0) -> 0 | BH139: =IF(N139="zníž. prenesená",J139,0) -> 0 | BI139: =IF(N139="nulová",J139,0) -> 0 | BJ139: 2 | BK139: =ROUND(I139*H139,3) -> 0 | BL139: 4 | BM139: 1611601194
D140: VV | F140: 6,7*10,18*0,3 | H140: 20.462 | AT140: VV | AU140: 2 | AV140: 2 | AW140: True | AX140: 1 | AY140: ROZPOCET
C141: 2 | D141: K | E141: 131201109.S | F141: Hĺbenie nezapažených jám a zárezov. Príplatok za lepivosť horniny 3 | G141: m3 | H141: 20.462 | J141: =ROUND(I141*H141,3) -> 0 | N141: znížená | O141: 0.042 | P141: =O141*H141 -> 0.859404 | Q141: 0 | R141: =Q141*H141 -> 0 | S141: 0 | T141: =S141*H141 -> 0 | AR141: 4 | AT141: K | AU141: 2 | AY141: ROZPOCET | BE141: =IF(N141="základná",J141,0) -> 0 | BF141: =IF(N141="znížená",J141,0) -> 0 | BG141: =IF(N141="zákl. prenesená",J141,0) -> 0 | BH141: =IF(N141="zníž. prenesená",J141,0) -> 0 | BI141: =IF(N141="nulová",J141,0) -> 0 | BJ141: 2 | BK141: =ROUND(I141*H141,3) -> 0 | BL141: 4 | BM141: -1923617464
C142: 3 | D142: K | E142: 132201101.S | F142: Výkop ryhy do šírky 600 mm v horn.3 do 100 m3 | G142: m3 | H142: 14.348 | J142: =ROUND(I142*H142,3) -> 0 | N142: znížená | O142: 2.514 | P142: =O142*H142 -> 36.070872 | Q142: 0 | R142: =Q142*H142 -> 0 | S142: 0 | T142: =S142*H142 -> 0 | AR142: 4 | AT142: K | AU142: 2 | AY142: ROZPOCET | BE142: =IF(N142="základná",J142,0) -> 0 | BF142: =IF(N142="znížená",J142,0) -> 0 | BG142: =IF(N142="zákl. prenesená",J142,0) -> 0 | BH142: =IF(N142="zníž. prenesená",J142,0) -> 0 | BI142: =IF(N142="nulová",J142,0) -> 0 | BJ142: 2 | BK142: =ROUND(I142*H142,3) -> 0 | BL142: 4 | BM142: 688984534
D143: VV | F143: 10,128/0,6*0,85 | H143: 14.348 | AT143: VV | AU143: 2 | AV143: 2 | AW143: True | AX143: 1 | AY143: ROZPOCET
C144: 4 | D144: K | E144: 132201109.S | F144: Príplatok k cene za lepivosť pri hĺbení rýh šírky do 600 mm zapažených i nezapažených s urovnaním dna v hornine 3 | G144: m3 | H144: 14.348 | J144: =ROUND(I144*H144,3) -> 0 | N144: znížená | O144: 0.613 | P144: =O144*H144 -> 8.795324 | Q144: 0 | R144: =Q144*H144 -> 0 | S144: 0 | T144: =S144*H144 -> 0 | AR144: 4 | AT144: K | AU144: 2 | AY144: ROZPOCET | BE144: =IF(N144="základná",J144,0) -> 0 | BF144: =IF(N144="znížená",J144,0) -> 0 | BG144: =IF(N144="zákl. prenesená",J144,0) -> 0 | BH144: =IF(N144="zníž. prenesená",J144,0) -> 0 | BI144: =IF(N144="nulová",J144,0) -> 0 | BJ144: 2 | BK144: =ROUND(I144*H144,3) -> 0 | BL144: 4 | BM144: -1360057066
C145: 5 | D145: K | E145: 133201201.S | F145: Výkop šachty nezapaženej, hornina 3 do 100 m3 | G145: m3 | H145: 12.597 | J145: =ROUND(I145*H145,3) -> 0 | N145: znížená | O145: 2.961 | P145: =O145*H145 -> 37.299717 | Q145: 0 | R145: =Q145*H145 -> 0 | S145: 0 | T145: =S145*H145 -> 0 | AR145: 4 | AT145: K | AU145: 2 | AY145: ROZPOCET | BE145: =IF(N145="základná",J145,0) -> 0 | BF145: =IF(N145="znížená",J145,0) -> 0 | BG145: =IF(N145="zákl. prenesená",J145,0) -> 0 | BH145: =IF(N145="zníž. prenesená",J145,0) -> 0 | BI145: =IF(N145="nulová",J145,0) -> 0 | BJ145: 2 | BK145: =ROUND(I145*H145,3) -> 0 | BL145: 4 | BM145: -1020660528
D146: VV | F146: 1,3*1,9*0,85*6 | H146: 12.597 | AT146: VV | AU146: 2 | AV146: 2 | AW146: True | AX146: 0 | AY146: ROZPOCET
D147: VV | F147: Medzisúčet | H147: 12.597 | AT147: VV | AU147: 2 | AV147: 3 | AW147: True | AX147: 0 | AY147: ROZPOCET
D148: VV | F148: Súčet | H148: 12.597 | AT148: VV | AU148: 2 | AV148: 4 | AW148: True | AX148: 1 | AY148: ROZPOCET
C149: 6 | D149: K | E149: 133201209.S | F149: Príplatok k cenám za lepivosť horniny tr.3 | G149: m3 | H149: 12.597 | J149: =ROUND(I149*H149,3) -> 0 | N149: znížená | O149: 0.447 | P149: =O149*H149 -> 5.630859 | Q149: 0 | R149: =Q149*H149 -> 0 | S149: 0 | T149: =S149*H149 -> 0 | AR149: 4 | AT149: K | AU149: 2 | AY149: ROZPOCET | BE149: =IF(N149="základná",J149,0) -> 0 | BF149: =IF(N149="znížená",J149,0) -> 0 | BG149: =IF(N149="zákl. prenesená",J149,0) -> 0 | BH149: =IF(N149="zníž. prenesená",J149,0) -> 0 | BI149: =IF(N149="nulová",J149,0) -> 0 | BJ149: 2 | BK149: =ROUND(I149*H149,3) -> 0 | BL149: 4 | BM149: -499740661
C150: 7 | D150: K | E150: 162201102.S | F150: Vodorovné premiestnenie výkopku z horniny 1-4 nad 20-50m | G150: m3 | H150: 47.407 | J150: =ROUND(I150*H150,3) -> 0 | N150: znížená | O150: 0.069 | P150: =O150*H150 -> 3.271083 | Q150: 0 | R150: =Q150*H150 -> 0 | S150: 0 | T150: =S150*H150 -> 0 | AR150: 4 | AT150: K | AU150: 2 | AY150: ROZPOCET | BE150: =IF(N150="základná",J150,0) -> 0 | BF150: =IF(N150="znížená",J150,0) -> 0 | BG150: =IF(N150="zákl. prenesená",J150,0) -> 0 | BH150: =IF(N150="zníž. prenesená",J150,0) -> 0 | BI150: =IF(N150="nulová",J150,0) -> 0 | BJ150: 2 | BK150: =ROUND(I150*H150,3) -> 0 | BL150: 4 | BM150: -456940159
D151: VV | F151: 20,462+14,348+12,597 | H151: 47.407 | AT151: VV | AU151: 2 | AV151: 2 | AW151: True | AX151: 1 | AY151: ROZPOCET
C152: 8 | D152: K | E152: 162501102.S | F152: Vodorovné premiestnenie výkopku po spevnenej ceste z horniny tr.1-4, do 100 m3 na vzdialenosť do 3000 m | G152: m3 | H152: 35.555 | J152: =ROUND(I152*H152,3) -> 0 | N152: znížená | O152: 0.071 | P152: =O152*H152 -> 2.524405 | Q152: 0 | R152: =Q152*H152 -> 0 | S152: 0 | T152: =S152*H152 -> 0 | AR152: 4 | AT152: K | AU152: 2 | AY152: ROZPOCET | BE152: =IF(N152="základná",J152,0) -> 0 | BF152: =IF(N152="znížená",J152,0) -> 0 | BG152: =IF(N152="zákl. prenesená",J152,0) -> 0 | BH152: =IF(N152="zníž. prenesená",J152,0) -> 0 | BI152: =IF(N152="nulová",J152,0) -> 0 | BJ152: 2 | BK152: =ROUND(I152*H152,3) -> 0 | BL152: 4 | BM152: 726355447
D153: VV | F153: 47,407-11,852 | H153: 35.555 | AT153: VV | AU153: 2 | AV153: 2 | AW153: True | AX153: 1 | AY153: ROZPOCET
C154: 9 | D154: K | E154: 162501105.S | F154: Vodorovné premiestnenie výkopku po spevnenej ceste z horniny tr.1-4, do 100 m3, príplatok k cene za každých ďalšich a začatých 1000 m | G154: m3 | H154: 604.435 | J154: =ROUND(I154*H154,3) -> 0 | N154: znížená | O154: 0.007 | P154: =O154*H154 -> 4.231045 | Q154: 0 | R154: =Q154*H154 -> 0 | S154: 0 | T154: =S154*H154 -> 0 | AR154: 4 | AT154: K | AU154: 2 | AY154: ROZPOCET | BE154: =IF(N154="základná",J154,0) -> 0 | BF154: =IF(N154="znížená",J154,0) -> 0 | BG154: =IF(N154="zákl. prenesená",J154,0) -> 0 | BH154: =IF(N154="zníž. prenesená",J154,0) -> 0 | BI154: =IF(N154="nulová",J154,0) -> 0 | BJ154: 2 | BK154: =ROUND(I154*H154,3) -> 0 | BL154: 4 | BM154: -1508894370
D155: VV | F155: 35,555*17 'Prepočítané koeficientom množstva | H155: 604.435 | AT155: VV | AU155: 2 | AV155: 2 | AW155: False | AX155: 1 | AY155: ROZPOCET
C156: 10 | D156: K | E156: 167101101.S | F156: Nakladanie neuľahnutého výkopku z hornín tr.1-4 do 100 m3 | G156: m3 | H156: 35.555 | J156: =ROUND(I156*H156,3) -> 0 | N156: znížená | O156: 0.617 | P156: =O156*H156 -> 21.937435 | Q156: 0 | R156: =Q156*H156 -> 0 | S156: 0 | T156: =S156*H156 -> 0 | AR156: 4 | AT156: K | AU156: 2 | AY156: ROZPOCET | BE156: =IF(N156="základná",J156,0) -> 0 | BF156: =IF(N156="znížená",J156,0) -> 0 | BG156: =IF(N156="zákl. prenesená",J156,0) -> 0 | BH156: =IF(N156="zníž. prenesená",J156,0) -> 0 | BI156: =IF(N156="nulová",J156,0) -> 0 | BJ156: 2 | BK156: =ROUND(I156*H156,3) -> 0 | BL156: 4 | BM156: -1912513714
C157: 11 | D157: K | E157: 171201201.S | F157: Uloženie sypaniny na skládky do 100 m3 | G157: m3 | H157: 35.555 | J157: =ROUND(I157*H157,3) -> 0 | N157: znížená | O157: 0.009 | P157: =O157*H157 -> 0.319995 | Q157: 0 | R157: =Q157*H157 -> 0 | S157: 0 | T157: =S157*H157 -> 0 | AR157: 4 | AT157: K | AU157: 2 | AY157: ROZPOCET | BE157: =IF(N157="základná",J157,0) -> 0 | BF157: =IF(N157="znížená",J157,0) -> 0 | BG157: =IF(N157="zákl. prenesená",J157,0) -> 0 | BH157: =IF(N157="zníž. prenesená",J157,0) -> 0 | BI157: =IF(N157="nulová",J157,0) -> 0 | BJ157: 2 | BK157: =ROUND(I157*H157,3) -> 0 | BL157: 4 | BM157: 1272108447
C158: 12 | D158: K | E158: 171209002.S | F158: Poplatok za skladovanie - zemina a kamenivo (17 05) ostatné | G158: t | H158: 56.888 | J158: =ROUND(I158*H158,3) -> 0 | N158: znížená | O158: 0 | P158: =O158*H158 -> 0 | Q158: 0 | R158: =Q158*H158 -> 0 | S158: 0 | T158: =S158*H158 -> 0 | AR158: 4 | AT158: K | AU158: 2 | AY158: ROZPOCET | BE158: =IF(N158="základná",J158,0) -> 0 | BF158: =IF(N158="znížená",J158,0) -> 0 | BG158: =IF(N158="zákl. prenesená",J158,0) -> 0 | BH158: =IF(N158="zníž. prenesená",J158,0) -> 0 | BI158: =IF(N158="nulová",J158,0) -> 0 | BJ158: 2 | BK158: =ROUND(I158*H158,3) -> 0 | BL158: 4 | BM158: 601426589
D159: VV | F159: 35,555*1,6 'Prepočítané koeficientom množstva | H159: 56.888 | AT159: VV | AU159: 2 | AV159: 2 | AW159: False | AX159: 1 | AY159: ROZPOCET
C160: 13 | D160: K | E160: 174101001.S | F160: Zásyp sypaninou so zhutnením jám, šachiet, rýh, zárezov alebo okolo objektov do 100 m3 | G160: m3 | H160: 11.852 | J160: =ROUND(I160*H160,3) -> 0 | N160: znížená | O160: 0.242 | P160: =O160*H160 -> 2.868184 | Q160: 0 | R160: =Q160*H160 -> 0 | S160: 0 | T160: =S160*H160 -> 0 | AR160: 4 | AT160: K | AU160: 2 | AY160: ROZPOCET | BE160: =IF(N160="základná",J160,0) -> 0 | BF160: =IF(N160="znížená",J160,0) -> 0 | BG160: =IF(N160="zákl. prenesená",J160,0) -> 0 | BH160: =IF(N160="zníž. prenesená",J160,0) -> 0 | BI160: =IF(N160="nulová",J160,0) -> 0 | BJ160: 2 | BK160: =ROUND(I160*H160,3) -> 0 | BL160: 4 | BM160: 703738721
D161: VV | F161: 47,407*0,25 | H161: 11.852 | AT161: VV | AU161: 2 | AV161: 2 | AW161: True | AX161: 1 | AY161: ROZPOCET
D162: D | E162: 2 | F162: Zakladanie | J162: =BK162 -> 0 | P162: =SUM(P163:P210) -> 201.35819 | R162: =SUM(R163:R210) -> 116.09765 | T162: =SUM(T163:T210) -> 0 | AR162: 1 | AT162: D | AU162: 1 | AY162: ROZPOCET | BK162: =SUM(BK163:BK210) -> 0
C163: 14 | D163: K | E163: 271533001.S | F163: Násyp pod základové konštrukcie so zhutnením z kameniva hrubého drveného fr.32-63 mm | G163: m3 | H163: 23.357 | J163: =ROUND(I163*H163,3) -> 0 | N163: znížená | O163: 1.132 | P163: =O163*H163 -> 26.440124 | Q163: 2.07 | R163: =Q163*H163 -> 48.34899 | S163: 0 | T163: =S163*H163 -> 0 | AR163: 4 | AT163: K | AU163: 2 | AY163: ROZPOCET | BE163: =IF(N163="základná",J163,0) -> 0 | BF163: =IF(N163="znížená",J163,0) -> 0 | BG163: =IF(N163="zákl. prenesená",J163,0) -> 0 | BH163: =IF(N163="zníž. prenesená",J163,0) -> 0 | BI163: =IF(N163="nulová",J163,0) -> 0 | BJ163: 2 | BK163: =ROUND(I163*H163,3) -> 0 | BL163: 4 | BM163: 895161409
D164: VV | F164: (6,7+10,18)*2*0,2 | H164: 6.752 | AT164: VV | AU164: 2 | AV164: 2 | AW164: True | AX164: 0 | AY164: ROZPOCET
D165: VV | F165: 1,3*1,9*0,2*6 | H165: 2.964 | AT165: VV | AU165: 2 | AV165: 2 | AW165: True | AX165: 0 | AY165: ROZPOCET
...

Sheet 1_1 - Kúrenie a chladenie
L2: >> skryté stĺpce << | AT2: {0166adfb-ac6f-40a3-81b7-3a8b74b88da4}
AT3: 0
D4: KRYCÍ LIST ROZPOČTU | M4: v --- nižšie sa nachádzajú doplnkové a pomocné údaje k zostavám --- v | AT4: False
D6: Stavba:
E7: ='Rekapitulácia stavby'!K6 -> VINÁRSTVO - novostavba haly
D8: Objekt:
E9: 1 - SO 01 - Výrobná hala - stavebná časť
D10: Časť:
E11: 1_1 - Kúrenie a chladenie
D13: JKSO: | I13: KS:
D14: Miesto: | F14: Modrany, č. p. 2080/1, 2080/2 | I14: Dátum:
D16: Objednávateľ: | I16: IČO:
E17: Agropark Modrany s.r.o. | I17: IČ DPH:
D19: Zhotoviteľ: | I19: IČO: | J19: ='Rekapitulácia stavby'!AN13
E20: ='Rekapitulácia stavby'!E14 | I20: IČ DPH: | J20: ='Rekapitulácia stavby'!AN14
D22: Projektant: | I22: IČO:
I23: IČ DPH:
D25: Spracovateľ: | I25: IČO: | J25: =IF('Rekapitulácia stavby'!AN19="","",'Rekapitulácia stavby'!AN19)
E26: =IF('Rekapitulácia stavby'!E20="","",'Rekapitulácia stavby'!E20) | I26: IČ DPH: | J26: =IF('Rekapitulácia stavby'!AN20="","",'Rekapitulácia stavby'!AN20)
D28: Poznámka:
E29: Jedná sa len o orientačný rozpočet spracovaný podľa poskytnuých podkladov. Všetky výmery a ceny sú len informatívne a odhadované. K správnemu naceneniu výkazu výmer je potrebné naštudovanie PD a obhliadka stavby. Naceniť je potrebné jestvujúci výkaz výmer podľa pokynov tendrového zadávateľa, resp. zmluvy o dielo. Rozdiely uviesť pod čiaru. Výkaz výmer výberom položiek, priloženými výpočtami má napomôcť a urýchliť dodávateľovi správne naceniť všetky práce podľa PD ku kompletnej realizácií, skolaudovaní a užívateľnosti stav. diela. Práce a dodávky obsiahnuté v projektovej dokumentácii a neobsiahnuté vo výkaze výmer je dodávateľ povinný položkovo rozšpecifikovať a naceniť pod čiaru, mimo ponukového rozpočtu pre objektívne rozhodovanie. Zmeny, opravy VV a návrhy na možné zníženie stav. nákladov dodávateľ nacení rovnako pod čiaru a priloží k ponukovému rozpočtu. Dodávateľ rozšpecifikuje pouzitie VRN-ov: napr. označenie staveniska, čistenie komunikacií, opatrenia pre stav. v zimnom období, poistenie, geodet. merania a dokumentáciu, skúšky, vzorky, dielenskú dokumentáciu, staveb. výťah, žeriav v súčinnosti a položkami pre zvislý presun hmôt vo všetkých výkazoch, vyčistenie všetkých dotknutých plôch od stavebného odpadu, aj ako príprava pre sadové úpravy.
D32: Náklady z rozpočtu | J32: =J98 -> 0
D33: Ostatné náklady | J33: =J103 -> 0
D34: Cena bez DPH | J34: =ROUND(J32 + J33, 2) -> 0
F36: Základ dane | I36: Sadzba dane | J36: Výška dane
D37: DPH | E37: základná | F37: =ROUND((SUM(BE103:BE104) + SUM(BE126:BE129)), 2) -> 0 | I37: 0.2 | J37: =ROUND(((SUM(BE103:BE104) + SUM(BE126:BE129))*I37), 2) -> 0
E38: znížená | F38: =ROUND((SUM(BF103:BF104) + SUM(BF126:BF129)), 2) -> 0 | I38: 0.2 | J38: =ROUND(((SUM(BF103:BF104) + SUM(BF126:BF129))*I38), 2) -> 0
E39: zákl. prenesená | F39: =ROUND((SUM(BG103:BG104) + SUM(BG126:BG129)), 2) -> 0 | I39: 0.2 | J39: =0 -> 0
E40: zníž. prenesená | F40: =ROUND((SUM(BH103:BH104) + SUM(BH126:BH129)), 2) -> 0 | I40: 0.2 | J40: =0 -> 0
E41: nulová | F41: =ROUND((SUM(BI103:BI104) + SUM(BI126:BI129)), 2) -> 0 | I41: 0 | J41: =0 -> 0
D43: Cena s DPH | G43: v | H43: EUR | J43: =SUM(J34:J41) -> 0
D50: Projektant | G50: Spracovateľ
D61: Dátum a podpis: | F61: Pečiatka | G61: Dátum a podpis: | J61: Pečiatka
D65: Objednávateľ | G65: Zhotoviteľ
D76: Dátum a podpis: | F76: Pečiatka | G76: Dátum a podpis: | J76: Pečiatka
C82: REKAPITULÁCIA ROZPOČTU
C84: Stavba:
E85: =E7 -> VINÁRSTVO - novostavba haly
C86: Objekt:
E87: 1 - SO 01 - Výrobná hala - stavebná časť
C88: Časť:
E89: =E11 -> 1_1 - Kúrenie a chladenie
C91: Miesto: | F91: =F14 -> Modrany, č. p. 2080/1, 2080/2 | I91: Dátum: | J91: =IF(J14="","",J14)
C93: Objednávateľ: | F93: =E17 -> Agropark Modrany s.r.o. | I93: Projektant:
C94: Zhotoviteľ: | F94: =IF(E20="","",E20) | I94: Spracovateľ: | J94: =E26
C96: Kód dielu - Popis | J96: Cena celkom [EUR]
C98: 1) Náklady z rozpočtu | J98: =J126 -> 0 | AU98: -1
D99: PSV - Práce a dodávky PSV | J99: =J127 -> 0
D100: 731 - Ústredné kúrenie - kotolne | J100: =J128 -> 0
C103: 2) Ostatné náklady | J103: 0 | N103: DPH
C105: Celkové náklady za stavbu 1) + 2) | J105: =ROUND(J98+J103,2) -> 0
C111: ROZPOČET
C113: Stavba:
E114: =E7 -> VINÁRSTVO - novostavba haly
C115: Objekt:
E116: 1 - SO 01 - Výrobná hala - stavebná časť
C117: Časť:
E118: =E11 -> 1_1 - Kúrenie a chladenie
C120: Miesto: | F120: =F14 -> Modrany, č. p. 2080/1, 2080/2 | I120: Dátum: | J120: =IF(J14="","",J14)
C122: Objednávateľ: | F122: =E17 -> Agropark Modrany s.r.o. | I122: Projektant:
C123: Zhotoviteľ: | F123: =IF(E20="","",E20) | I123: Spracovateľ: | J123: =E26
C125: PČ | D125: Typ | E125: Kód | F125: Popis | G125: MJ | H125: Množstvo | I125: J.cena [EUR] | J125: Cena celkom [EUR] | K125: Cenová sústava | N125: DPH | O125: J. Nh [h] | P125: Nh celkom [h] | Q125: J. hmotnosť [t] | R125: Hmotnosť celkom [t] | S125: J. suť [t] | T125: Suť Celkom [t]
C126: Náklady z rozpočtu | J126: =BK126 -> 0 | P126: =P127 -> 0 | R126: =R127 -> 0 | T126: =T127 -> 0 | AT126: D | AU126: -1 | BK126: =BK127 -> 0
D127: D | E127: PSV | F127: Práce a dodávky PSV | J127: =BK127 -> 0 | P127: =P128 -> 0 | R127: =R128 -> 0 | T127: =T128 -> 0 | AR127: 2 | AT127: D | AU127: 0 | AY127: ROZPOCET | BK127: =BK128 -> 0
D128: D | E128: 731 | F128: Ústredné kúrenie - kotolne | J128: =BK128 -> 0 | P128: =P129 -> 0 | R128: =R129 -> 0 | T128: =T129 -> 0 | AR128: 2 | AT128: D | AU128: 1 | AY128: ROZPOCET | BK128: =BK129 -> 0
C129: 1 | D129: K | E129: 731999999 | F129: Kúrenie a chladenie - odhad | G129: kpl | H129: 1 | J129: =ROUND(I129*H129,3) -> 0 | N129: znížená | O129: 0 | P129: =O129*H129 -> 0 | Q129: 0 | R129: =Q129*H129 -> 0 | S129: 0 | T129: =S129*H129 -> 0 | AR129: 16 | AT129: K | AU129: 2 | AY129: ROZPOCET | BE129: =IF(N129="základná",J129,0) -> 0 | BF129: =IF(N129="znížená",J129,0) -> 0 | BG129: =IF(N129="zákl. prenesená",J129,0) -> 0 | BH129: =IF(N129="zníž. prenesená",J129,0) -> 0 | BI129: =IF(N129="nulová",J129,0) -> 0 | BJ129: 2 | BK129: =ROUND(I129*H129,3) -> 0 | BL129: 16 | BM129: -2094858153

Sheet 1_2 - Odsávanie - vetranie
L2: >> skryté stĺpce << | AT2: {f3bae621-604d-4936-af0f-4835513ab50a}
AT3: 0
D4: KRYCÍ LIST ROZPOČTU | M4: v --- nižšie sa nachádzajú doplnkové a pomocné údaje k zostavám --- v | AT4: False
D6: Stavba:
E7: ='Rekapitulácia stavby'!K6 -> VINÁRSTVO - novostavba haly
D8: Objekt:
E9: 1 - SO 01 - Výrobná hala - stavebná časť
D10: Časť:
E11: 1_2 - Odsávanie - vetranie
D13: JKSO: | I13: KS:
D14: Miesto: | F14: Modrany, č. p. 2080/1, 2080/2 | I14: Dátum:
D16: Objednávateľ: | I16: IČO:
E17: Agropark Modrany s.r.o. | I17: IČ DPH:
D19: Zhotoviteľ: | I19: IČO: | J19: ='Rekapitulácia stavby'!AN13
E20: ='Rekapitulácia stavby'!E14 | I20: IČ DPH: | J20: ='Rekapitulácia stavby'!AN14
D22: Projektant: | I22: IČO:
I23: IČ DPH:
D25: Spracovateľ: | I25: IČO: | J25: =IF('Rekapitulácia stavby'!AN19="","",'Rekapitulácia stavby'!AN19)
E26: =IF('Rekapitulácia stavby'!E20="","",'Rekapitulácia stavby'!E20) | I26: IČ DPH: | J26: =IF('Rekapitulácia stavby'!AN20="","",'Rekapitulácia stavby'!AN20)
D28: Poznámka:
E29: Jedná sa len o orientačný rozpočet spracovaný podľa poskytnuých podkladov. Všetky výmery a ceny sú len informatívne a odhadované. K správnemu naceneniu výkazu výmer je potrebné naštudovanie PD a obhliadka stavby. Naceniť je potrebné jestvujúci výkaz výmer podľa pokynov tendrového zadávateľa, resp. zmluvy o dielo. Rozdiely uviesť pod čiaru. Výkaz výmer výberom položiek, priloženými výpočtami má napomôcť a urýchliť dodávateľovi správne naceniť všetky práce podľa PD ku kompletnej realizácií, skolaudovaní a užívateľnosti stav. diela. Práce a dodávky obsiahnuté v projektovej dokumentácii a neobsiahnuté vo výkaze výmer je dodávateľ povinný položkovo rozšpecifikovať a naceniť pod čiaru, mimo ponukového rozpočtu pre objektívne rozhodovanie. Zmeny, opravy VV a návrhy na možné zníženie stav. nákladov dodávateľ nacení rovnako pod čiaru a priloží k ponukovému rozpočtu. Dodávateľ rozšpecifikuje pouzitie VRN-ov: napr. označenie staveniska, čistenie komunikacií, opatrenia pre stav. v zimnom období, poistenie, geodet. merania a dokumentáciu, skúšky, vzorky, dielenskú dokumentáciu, staveb. výťah, žeriav v súčinnosti a položkami pre zvislý presun hmôt vo všetkých výkazoch, vyčistenie všetkých dotknutých plôch od stavebného odpadu, aj ako príprava pre sadové úpravy.
D32: Náklady z rozpočtu | J32: =J98 -> 0
D33: Ostatné náklady | J33: =J103 -> 0
D34: Cena bez DPH | J34: =ROUND(J32 + J33, 2) -> 0
F36: Základ dane | I36: Sadzba dane | J36: Výška dane
D37: DPH | E37: základná | F37: =ROUND((SUM(BE103:BE104) + SUM(BE126:BE129)), 2) -> 0 | I37: 0.2 | J37: =ROUND(((SUM(BE103:BE104) + SUM(BE126:BE129))*I37), 2) -> 0
E38: znížená | F38: =ROUND((SUM(BF103:BF104) + SUM(BF126:BF129)), 2) -> 0 | I38: 0.2 | J38: =ROUND(((SUM(BF103:BF104) + SUM(BF126:BF129))*I38), 2) -> 0
E39: zákl. prenesená | F39: =ROUND((SUM(BG103:BG104) + SUM(BG126:BG129)), 2) -> 0 | I39: 0.2 | J39: =0 -> 0
E40: zníž. prenesená | F40: =ROUND((SUM(BH103:BH104) + SUM(BH126:BH129)), 2) -> 0 | I40: 0.2 | J40: =0 -> 0
E41: nulová | F41: =ROUND((SUM(BI103:BI104) + SUM(BI126:BI129)), 2) -> 0 | I41: 0 | J41: =0 -> 0
D43: Cena s DPH | G43: v | H43: EUR | J43: =SUM(J34:J41) -> 0
D50: Projektant | G50: Spracovateľ
D61: Dátum a podpis: | F61: Pečiatka | G61: Dátum a podpis: | J61: Pečiatka
D65: Objednávateľ | G65: Zhotoviteľ
D76: Dátum a podpis: | F76: Pečiatka | G76: Dátum a podpis: | J76: Pečiatka
C82: REKAPITULÁCIA ROZPOČTU
C84: Stavba:
E85: =E7 -> VINÁRSTVO - novostavba haly
C86: Objekt:
E87: 1 - SO 01 - Výrobná hala - stavebná časť
C88: Časť:
E89: =E11 -> 1_2 - Odsávanie - vetranie
C91: Miesto: | F91: =F14 -> Modrany, č. p. 2080/1, 2080/2 | I91: Dátum: | J91: =IF(J14="","",J14)
C93: Objednávateľ: | F93: =E17 -> Agropark Modrany s.r.o. | I93: Projektant:
C94: Zhotoviteľ: | F94: =IF(E20="","",E20) | I94: Spracovateľ: | J94: =E26
C96: Kód dielu - Popis | J96: Cena celkom [EUR]
C98: 1) Náklady z rozpočtu | J98: =J126 -> 0 | AU98: -1
D99: PSV - Práce a dodávky PSV | J99: =J127 -> 0
D100: 769 - Montáže vzduchotechnických zariadení | J100: =J128 -> 0
C103: 2) Ostatné náklady | J103: 0 | N103: DPH
C105: Celkové náklady za stavbu 1) + 2) | J105: =ROUND(J98+J103,2) -> 0
C111: ROZPOČET
C113: Stavba:
E114: =E7 -> VINÁRSTVO - novostavba haly
C115: Objekt:
E116: 1 - SO 01 - Výrobná hala - stavebná časť
C117: Časť:
E118: =E11 -> 1_2 - Odsávanie - vetranie
C120: Miesto: | F120: =F14 -> Modrany, č. p. 2080/1, 2080/2 | I120: Dátum: | J120: =IF(J14="","",J14)
C122: Objednávateľ: | F122: =E17 -> Agropark Modrany s.r.o. | I122: Projektant:
C123: Zhotoviteľ: | F123: =IF(E20="","",E20) | I123: Spracovateľ: | J123: =E26
C125: PČ | D125: Typ | E125: Kód | F125: Popis | G125: MJ | H125: Množstvo | I125: J.cena [EUR] | J125: Cena celkom [EUR] | K125: Cenová sústava | N125: DPH | O125: J. Nh [h] | P125: Nh celkom [h] | Q125: J. hmotnosť [t] | R125: Hmotnosť celkom [t] | S125: J. suť [t] | T125: Suť Celkom [t]
C126: Náklady z rozpočtu | J126: =BK126 -> 0 | P126: =P127 -> 0 | R126: =R127 -> 0 | T126: =T127 -> 0 | AT126: D | AU126: -1 | BK126: =BK127 -> 0
D127: D | E127: PSV | F127: Práce a dodávky PSV | J127: =BK127 -> 0 | P127: =P128 -> 0 | R127: =R128 -> 0 | T127: =T128 -> 0 | AR127: 2 | AT127: D | AU127: 0 | AY127: ROZPOCET | BK127: =BK128 -> 0
D128: D | E128: 769 | F128: Montáže vzduchotechnických zariadení | J128: =BK128 -> 0 | P128: =P129 -> 0 | R128: =R129 -> 0 | T128: =T129 -> 0 | AR128: 2 | AT128: D | AU128: 1 | AY128: ROZPOCET | BK128: =BK129 -> 0
C129: 1 | D129: K | E129: 769999999 | F129: Odsávanie - vetranie - odhad | G129: kpl | H129: 1 | J129: =ROUND(I129*H129,3) -> 0 | N129: znížená | O129: 0 | P129: =O129*H129 -> 0 | Q129: 0 | R129: =Q129*H129 -> 0 | S129: 0 | T129: =S129*H129 -> 0 | AR129: 16 | AT129: K | AU129: 2 | AY129: ROZPOCET | BE129: =IF(N129="základná",J129,0) -> 0 | BF129: =IF(N129="znížená",J129,0) -> 0 | BG129: =IF(N129="zákl. prenesená",J129,0) -> 0 | BH129: =IF(N129="zníž. prenesená",J129,0) -> 0 | BI129: =IF(N129="nulová",J129,0) -> 0 | BJ129: 2 | BK129: =ROUND(I129*H129,3) -> 0 | BL129: 16 | BM129: 877626543

Sheet 1_3 - Elektroinštalácia
L2: >> skryté stĺpce << | AT2: {d8641a4a-4925-41ef-8b2a-83cfd8f78634}
AT3: 0
D4: KRYCÍ LIST ROZPOČTU | M4: v --- nižšie sa nachádzajú doplnkové a pomocné údaje k zostavám --- v | AT4: False
D6: Stavba:
E7: ='Rekapitulácia stavby'!K6 -> VINÁRSTVO - novostavba haly
D8: Objekt:
E9: 1 - SO 01 - Výrobná hala - stavebná časť
D10: Časť:
E11: 1_3 - Elektroinštalácia
D13: JKSO: | I13: KS:
D14: Miesto: | F14: Modrany, č. p. 2080/1, 2080/2 | I14: Dátum:
D16: Objednávateľ: | I16: IČO:
E17: Agropark Modrany s.r.o. | I17: IČ DPH:
D19: Zhotoviteľ: | I19: IČO: | J19: ='Rekapitulácia stavby'!AN13
E20: ='Rekapitulácia stavby'!E14 | I20: IČ DPH: | J20: ='Rekapitulácia stavby'!AN14
D22: Projektant: | I22: IČO:
I23: IČ DPH:
D25: Spracovateľ: | I25: IČO: | J25: =IF('Rekapitulácia stavby'!AN19="","",'Rekapitulácia stavby'!AN19)
E26: =IF('Rekapitulácia stavby'!E20="","",'Rekapitulácia stavby'!E20) | I26: IČ DPH: | J26: =IF('Rekapitulácia stavby'!AN20="","",'Rekapitulácia stavby'!AN20)
D28: Poznámka:
E29: Jedná sa len o orientačný rozpočet spracovaný podľa poskytnuých podkladov. Všetky výmery a ceny sú len informatívne a odhadované. K správnemu naceneniu výkazu výmer je potrebné naštudovanie PD a obhliadka stavby. Naceniť je potrebné jestvujúci výkaz výmer podľa pokynov tendrového zadávateľa, resp. zmluvy o dielo. Rozdiely uviesť pod čiaru. Výkaz výmer výberom položiek, priloženými výpočtami má napomôcť a urýchliť dodávateľovi správne naceniť všetky práce podľa PD ku kompletnej realizácií, skolaudovaní a užívateľnosti stav. diela. Práce a dodávky obsiahnuté v projektovej dokumentácii a neobsiahnuté vo výkaze výmer je dodávateľ povinný položkovo rozšpecifikovať a naceniť pod čiaru, mimo ponukového rozpočtu pre objektívne rozhodovanie. Zmeny, opravy VV a návrhy na možné zníženie stav. nákladov dodávateľ nacení rovnako pod čiaru a priloží k ponukovému rozpočtu. Dodávateľ rozšpecifikuje pouzitie VRN-ov: napr. označenie staveniska, čistenie komunikacií, opatrenia pre stav. v zimnom období, poistenie, geodet. merania a dokumentáciu, skúšky, vzorky, dielenskú dokumentáciu, staveb. výťah, žeriav v súčinnosti a položkami pre zvislý presun hmôt vo všetkých výkazoch, vyčistenie všetkých dotknutých plôch od stavebného odpadu, aj ako príprava pre sadové úpravy.
D32: Náklady z rozpočtu | J32: =J98 -> 0
D33: Ostatné náklady | J33: =J103 -> 0
D34: Cena bez DPH | J34: =ROUND(J32 + J33, 2) -> 0
F36: Základ dane | I36: Sadzba dane | J36: Výška dane
D37: DPH | E37: základná | F37: =ROUND((SUM(BE103:BE104) + SUM(BE126:BE129)), 2) -> 0 | I37: 0.2 | J37: =ROUND(((SUM(BE103:BE104) + SUM(BE126:BE129))*I37), 2) -> 0
E38: znížená | F38: =ROUND((SUM(BF103:BF104) + SUM(BF126:BF129)), 2) -> 0 | I38: 0.2 | J38: =ROUND(((SUM(BF103:BF104) + SUM(BF126:BF129))*I38), 2) -> 0
E39: zákl. prenesená | F39: =ROUND((SUM(BG103:BG104) + SUM(BG126:BG129)), 2) -> 0 | I39: 0.2 | J39: =0 -> 0
E40: zníž. prenesená | F40: =ROUND((SUM(BH103:BH104) + SUM(BH126:BH129)), 2) -> 0 | I40: 0.2 | J40: =0 -> 0
E41: nulová | F41: =ROUND((SUM(BI103:BI104) + SUM(BI126:BI129)), 2) -> 0 | I41: 0 | J41: =0 -> 0
D43: Cena s DPH | G43: v | H43: EUR | J43: =SUM(J34:J41) -> 0
D50: Projektant | G50: Spracovateľ
D61: Dátum a podpis: | F61: Pečiatka | G61: Dátum a podpis: | J61: Pečiatka
D65: Objednávateľ | G65: Zhotoviteľ
D76: Dátum a podpis: | F76: Pečiatka | G76: Dátum a podpis: | J76: Pečiatka
C82: REKAPITULÁCIA ROZPOČTU
C84: Stavba:
E85: =E7 -> VINÁRSTVO - novostavba haly
C86: Objekt:
E87: 1 - SO 01 - Výrobná hala - stavebná časť
C88: Časť:
E89: =E11 -> 1_3 - Elektroinštalácia
C91: Miesto: | F91: =F14 -> Modrany, č. p. 2080/1, 2080/2 | I91: Dátum:
C93: Objednávateľ: | F93: =E17 -> Agropark Modrany s.r.o. | I93: Projektant:
C94: Zhotoviteľ: | F94: =IF(E20="","",E20) | I94: Spracovateľ: | J94: =E26
C96: Kód dielu - Popis | J96: Cena celkom [EUR]
C98: 1) Náklady z rozpočtu | J98: =J126 -> 0 | AU98: -1
D99: M - Práce a dodávky M | J99: =J127 -> 0
D100: 21-M - Elektromontáže | J100: =J128 -> 0
C103: 2) Ostatné náklady | J103: 0 | N103: DPH
C105: Celkové náklady za stavbu 1) + 2) | J105: =ROUND(J98+J103,2) -> 0
C111: ROZPOČET
C113: Stavba:
E114: =E7 -> VINÁRSTVO - novostavba haly
C115: Objekt:
E116: 1 - SO 01 - Výrobná hala - stavebná časť
C117: Časť:
E118: =E11 -> 1_3 - Elektroinštalácia
C120: Miesto: | F120: =F14 -> Modrany, č. p. 2080/1, 2080/2 | I120: Dátum:
C122: Objednávateľ: | F122: =E17 -> Agropark Modrany s.r.o. | I122: Projektant:
C123: Zhotoviteľ: | F123: =IF(E20="","",E20) | I123: Spracovateľ: | J123: =E26
C125: PČ | D125: Typ | E125: Kód | F125: Popis | G125: MJ | H125: Množstvo | I125: J.cena [EUR] | J125: Cena celkom [EUR] | K125: Cenová sústava | N125: DPH | O125: J. Nh [h] | P125: Nh celkom [h] | Q125: J. hmotnosť [t] | R125: Hmotnosť celkom [t] | S125: J. suť [t] | T125: Suť Celkom [t]
C126: Náklady z rozpočtu | J126: =BK126 -> 0 | P126: =P127 -> 0 | R126: =R127 -> 0 | T126: =T127 -> 0 | AT126: D | AU126: -1 | BK126: =BK127 -> 0
D127: D | E127: M | F127: Práce a dodávky M | J127: =BK127 -> 0 | P127: =P128 -> 0 | R127: =R128 -> 0 | T127: =T128 -> 0 | AR127: 3 | AT127: D | AU127: 0 | AY127: ROZPOCET | BK127: =BK128 -> 0
D128: D | E128: 21-M | F128: Elektromontáže | J128: =BK128 -> 0 | P128: =P129 -> 0 | R128: =R129 -> 0 | T128: =T129 -> 0 | AR128: 3 | AT128: D | AU128: 1 | AY128: ROZPOCET | BK128: =BK129 -> 0
C129: 1 | D129: K | E129: 210999999 | F129: Elekroinštalácia a bleskozvod - odhad | G129: kpl | H129: 1 | J129: =ROUND(I129*H129,3) -> 0 | N129: znížená | O129: 0 | P129: =O129*H129 -> 0 | Q129: 0 | R129: =Q129*H129 -> 0 | S129: 0 | T129: =S129*H129 -> 0 | AR129: 64 | AT129: K | AU129: 2 | AY129: ROZPOCET | BE129: =IF(N129="základná",J129,0) -> 0 | BF129: =IF(N129="znížená",J129,0) -> 0 | BG129: =IF(N129="zákl. prenesená",J129,0) -> 0 | BH129: =IF(N129="zníž. prenesená",J129,0) -> 0 | BI129: =IF(N129="nulová",J129,0) -> 0 | BJ129: 2 | BK129: =ROUND(I129*H129,3) -> 0 | BL129: 64 | BM129: 671425246

Sheet Zoznam figúr
C4: ZOZNAM FIGÚR
C5: Kód: | D5: PV482
C6: Stavba: | D6: VINÁRSTVO - novostavba haly
C7: Dátum: | D7: ='Rekapitulácia stavby'!AN8 -> 0
C9: Kód | D9: Popis | E9: MJ | F9: Výmera
C10: 1 | D10: SO 01 - Výrobná hala - stavebná časť
C11: OP1 | D11: OP1 | E11: m2 | F11: 396.875
C12: OP2 | D12: OP2 | E12: m2 | F12: 126.209
C13: OP3 | D13: OP3 | E13: m2 | F13: 184.09
C14: P02 | D14: P02 | E14: m2 | F14: 143.65
D15: 86,45 | F15: 86.45
D16: 28,1 | F16: 28.1
D17: 1,4 | F17: 1.4
D18: 1,4 | F18: 1.4
D19: 3,75 | F19: 3.75
D20: 4,9 | F20: 4.9
D21: 1,4 | F21: 1.4
D22: 4,9 | F22: 4.9
D23: 1,4 | F23: 1.4
D24: 6,2 | F24: 6.2
D25: 3,75 | F25: 3.75
D26: Medzisúčet | F26: 143.65
D27: Súčet | F27: 143.65
C28: P03 | D28: P03 | E28: m2 | F28: 138.59
D29: 138,59 | F29: 138.59
C30: S01 | D30: S01 | E30: m2 | F30: 420
C31: S02 | D31: S02 | E31: m2 | F31: 160.236
D32: 160,236 "52,58m | F32: 160.236
D33: Medzisúčet | F33: 160.236
D34: Súčet | F34: 160.236
C35: S03 | D35: S03 | E35: m2 | F35: 29.24
