Workbook

Sheet Rekapitulácia stavby
A1: Export Komplet | BA1: 2.0 | BT1: False | BU1: False | BV1: {6bbd7529-a84f-4a26-8887-6355fd2312e2}
AR2: >> skryté stĺpce << | BS2: 0,01 | BT2: 20
BS3: 0,01 | BT3: 20
D4: REKAPITULÁCIA STAVBY | AS4: v --- nižšie sa nachádzajú doplnkové a pomocné údaje k zostavám --- v | BS4: 0,001
D5: Kód: | K5: 99-9 | BS5: 0,01
D6: Stavba: | K6: Stavebné úpravy skladu objemových krmovýn pre ŽV, č. 176/6, k.ú. Pčoliné okr. Snina | BS6: 0,01
D7: JKSO: | AK7: KS: | BS7: 0,01
D8: Miesto: | AK8: Dátum: | AN8: 45236 | BS8: 0,01
BS9: 0,01
D10: Objednávateľ: | AK10: IČO: | AN10: 36 472 182 | BS10: 0,01
E11: ROTAX - ARCH spol, s.r.o., Fidlíkova 3, 066 01 Humenné | AK11: IČ DPH: | AN11: SK202 002 5139 | BS11: 0,01
BS12: 0,01
D13: Zhotoviteľ: | AK13: IČO: | BS13: 0,01
AK14: IČ DPH: | BS14: 0,01
BS15: False
D16: Projektant: | AK16: IČO: | BS16: False
E17: Argo-PK, Projekčná kancelária, Strojárska 3998, Snina | AK17: IČ DPH: | BS17: True
BS18: 0,01
D19: Spracovateľ: | AK19: IČO: | BS19: 0,01
AK20: IČ DPH: | BS20: True
D22: Poznámka:
D26: Cena bez DPH | AK26: =ROUND(AG94,2) -> 0
L28: Sadzba dane | W28: Základ dane | AK28: Výška dane
D29: DPH | F29: základná | L29: 0.2 | W29: =ROUND(AZ94, 2) -> 0 | AK29: =ROUND(AV94, 2) -> 0
F30: znížená | L30: 0.2 | W30: =ROUND(BA94, 2) -> 0 | AK30: =ROUND(AW94, 2) -> 0
F31: zákl. prenesená | L31: 0.2 | W31: =ROUND(BB94, 2) -> 0 | AK31: 0
F32: zníž. prenesená | L32: 0.2 | W32: =ROUND(BC94, 2) -> 0 | AK32: 0
F33: nulová | L33: 0 | W33: =ROUND(BD94, 2) -> 0 | AK33: 0
D35: Cena s DPH | T35: v | X35: EUR | AK35: =SUM(AK26:AK33) -> 0
D49: Projektant | AH49: Spracovateľ
D60: Dátum a podpis: | V60: Pečiatka | AH60: Dátum a podpis: | AM60: Pečiatka
D64: Objednávateľ | AH64: Zhotoviteľ
D75: Dátum a podpis: | V75: Pečiatka | AH75: Dátum a podpis: | AM75: Pečiatka
C82: REKAPITULÁCIA OBJEKTOV STAVBY
C84: Kód: | L84: =K5 -> 99-9
C85: Stavba: | L85: =K6 -> Stavebné úpravy skladu objemových krmovýn pre ŽV, č. 176/6, k.ú. Pčoliné okr. Snina
C87: Miesto: | L87: =IF(K8="","",K8) | AI87: Dátum: | AM87: =IF(AN8= "","",AN8) -> 45236
C89: Objednávateľ: | L89: =IF(E11= "","",E11) -> ROTAX - ARCH spol, s.r.o., Fidlíkova 3, 066 01 Humenné | AI89: Projektant: | AM89: =IF(E17="","",E17) -> Argo-PK, Projekčná kancelária, Strojárska 3998, Snina | AS89: Informatívne údaje z listov zákaziek
C90: Zhotoviteľ: | L90: =IF(E14="","",E14) | AI90: Spracovateľ: | AM90: =IF(E20="","",E20)
C92: Kód | I92: Popis | AG92: Cena bez DPH [EUR] | AN92: Cena s DPH [EUR] | AQ92: Typ | AS92: z toho Ostat._x000D_ náklady [EUR] | AT92: DPH [EUR] | AU92: Normohodiny [h] | AV92: DPH základná [EUR] | AW92: DPH znížená [EUR] | AX92: DPH základná prenesená_x000D_ [EUR] | AY92: DPH znížená prenesená_x000D_ [EUR] | AZ92: Základňa_x000D_ DPH základná | BA92: Základňa_x000D_ DPH znížená | BB92: Základňa_x000D_ DPH zákl. prenesená | BC92: Základňa_x000D_ DPH zníž. prenesená | BD92: Základňa_x000D_ DPH nulová
C94: Náklady z rozpočtov | AG94: =ROUND(SUM(AG95:AG97),2) -> 0 | AN94: =SUM(AG94,AT94) -> 0 | AS94: =ROUND(SUM(AS95:AS97),2) -> 0 | AT94: =ROUND(SUM(AV94:AW94),2) -> 0 | AU94: =ROUND(SUM(AU95:AU97),5) -> 2391.9813 | AV94: =ROUND(AZ94*L29,2) -> 0 | AW94: =ROUND(BA94*L30,2) -> 0 | AX94: =ROUND(BB94*L29,2) -> 0 | AY94: =ROUND(BC94*L30,2) -> 0 | AZ94: =ROUND(SUM(AZ95:AZ97),2) -> 0 | BA94: =ROUND(SUM(BA95:BA97),2) -> 0 | BB94: =ROUND(SUM(BB95:BB97),2) -> 0 | BC94: =ROUND(SUM(BC95:BC97),2) -> 0 | BD94: =ROUND(SUM(BD95:BD97),2) -> 0 | BS94: D | BT94: 0 | BU94: ###NOIMPORT### | BV94: IMPORT | BW94: {6bbd7529-a84f-4a26-8887-6355fd2312e2} | BX94: {00000000-0000-0000-0000-000000000000}
A95: / | D95: 01 | J95: SO - 01 Vlastná stavba | AG95: ='01 - SO - 01 Vlastná stavba'!J30 -> 0 | AN95: =SUM(AG95,AT95) -> 0 | AQ95: STA | AS95: 0 | AT95: =ROUND(SUM(AV95:AW95),2) -> 0 | AU95: ='01 - SO - 01 Vlastná stavba'!P126 -> 2202.6787 | AV95: ='01 - SO - 01 Vlastná stavba'!J33 -> 0 | AW95: ='01 - SO - 01 Vlastná stavba'!J34 -> 0 | AX95: ='01 - SO - 01 Vlastná stavba'!J35 -> 0 | AY95: ='01 - SO - 01 Vlastná stavba'!J36 -> 0 | AZ95: ='01 - SO - 01 Vlastná stavba'!F33 -> 0 | BA95: ='01 - SO - 01 Vlastná stavba'!F34 -> 0 | BB95: ='01 - SO - 01 Vlastná stavba'!F35 -> 0 | BC95: ='01 - SO - 01 Vlastná stavba'!F36 -> 0 | BD95: ='01 - SO - 01 Vlastná stavba'!F37 -> 0 | BT95: 1 | BV95: IMPORT | BW95: {a40acf17-1e23-47bc-a604-45ff5da785e2} | BX95: {6bbd7529-a84f-4a26-8887-6355fd2312e2} | CM95: 0
A96: / | D96: 02 | J96: SO - 02 Búracie práce | AG96: ='02 - SO - 02 Búracie práce'!J30 -> 0 | AN96: =SUM(AG96,AT96) -> 0 | AQ96: STA | AS96: 0 | AT96: =ROUND(SUM(AV96:AW96),2) -> 0 | AU96: ='02 - SO - 02 Búracie práce'!P121 -> 152.33169 | AV96: ='02 - SO - 02 Búracie práce'!J33 -> 0 | AW96: ='02 - SO - 02 Búracie práce'!J34 -> 0 | AX96: ='02 - SO - 02 Búracie práce'!J35 -> 0 | AY96: ='02 - SO - 02 Búracie práce'!J36 -> 0 | AZ96: ='02 - SO - 02 Búracie práce'!F33 -> 0 | BA96: ='02 - SO - 02 Búracie práce'!F34 -> 0 | BB96: ='02 - SO - 02 Búracie práce'!F35 -> 0 | BC96: ='02 - SO - 02 Búracie práce'!F36 -> 0 | BD96: ='02 - SO - 02 Búracie práce'!F37 -> 0 | BT96: 1 | BV96: IMPORT | BW96: {17a535c2-79ec-426f-8039-783d5de8a6ac} | BX96: {6bbd7529-a84f-4a26-8887-6355fd2312e2} | CM96: 0
A97: / | D97: 03 | J97: SO - 03 Vnútorná elektroinštalácia a prípojka ELI | AG97: ='03 - SO - 03 Vnútorná ele...'!J30 -> 0 | AN97: =SUM(AG97,AT97) -> 0 | AQ97: STA | AS97: 0 | AT97: =ROUND(SUM(AV97:AW97),2) -> 0 | AU97: ='03 - SO - 03 Vnútorná ele...'!P118 -> 36.971 | AV97: ='03 - SO - 03 Vnútorná ele...'!J33 -> 0 | AW97: ='03 - SO - 03 Vnútorná ele...'!J34 -> 0 | AX97: ='03 - SO - 03 Vnútorná ele...'!J35 -> 0 | AY97: ='03 - SO - 03 Vnútorná ele...'!J36 -> 0 | AZ97: ='03 - SO - 03 Vnútorná ele...'!F33 -> 0 | BA97: ='03 - SO - 03 Vnútorná ele...'!F34 -> 0 | BB97: ='03 - SO - 03 Vnútorná ele...'!F35 -> 0 | BC97: ='03 - SO - 03 Vnútorná ele...'!F36 -> 0 | BD97: ='03 - SO - 03 Vnútorná ele...'!F37 -> 0 | BT97: 1 | BV97: IMPORT | BW97: {6456cb4f-c893-4bd6-b491-61791a4df075} | BX97: {6bbd7529-a84f-4a26-8887-6355fd2312e2} | CM97: 0

Sheet 01 - SO - 01 Vlastná stavba
L2: >> skryté stĺpce << | AT2: {a40acf17-1e23-47bc-a604-45ff5da785e2}
AT3: 0
D4: KRYCÍ LIST ROZPOČTU | M4: v --- nižšie sa nachádzajú doplnkové a pomocné údaje k zostavám --- v | AT4: False
D6: Stavba:
E7: ='Rekapitulácia stavby'!K6 -> Stavebné úpravy skladu objemových krmovýn pre ŽV, č. 176/6, k.ú. Pčoliné okr. Snina
D8: Objekt:
E9: 01 - SO - 01 Vlastná stavba
D11: JKSO: | I11: KS:
D12: Miesto: | I12: Dátum: | J12: ='Rekapitulácia stavby'!AN8 -> 45236
D14: Objednávateľ: | I14: IČO: | J14: 36 472 182
E15: ROTAX - ARCH spol, s.r.o., Fidlíkova 3, 066 01 Humenné | I15: IČ DPH: | J15: SK202 002 5139
D17: Zhotoviteľ: | I17: IČO: | J17: ='Rekapitulácia stavby'!AN13
E18: ='Rekapitulácia stavby'!E14 | I18: IČ DPH: | J18: ='Rekapitulácia stavby'!AN14
D20: Projektant: | I20: IČO:
E21: Argo-PK, Projekčná kancelária, Strojárska 3998, Snina | I21: IČ DPH:
D23: Spracovateľ: | I23: IČO: | J23: =IF('Rekapitulácia stavby'!AN19="","",'Rekapitulácia stavby'!AN19)
E24: =IF('Rekapitulácia stavby'!E20="","",'Rekapitulácia stavby'!E20) | I24: IČ DPH: | J24: =IF('Rekapitulácia stavby'!AN20="","",'Rekapitulácia stavby'!AN20)
D26: Poznámka:
D30: Cena bez DPH | J30: =ROUND(J126, 2) -> 0
F32: Základ dane | I32: Sadzba dane | J32: Výška dane
D33: DPH | E33: základná | F33: =ROUND((SUM(BE126:BE211)), 2) -> 0 | I33: 0.2 | J33: =ROUND(((SUM(BE126:BE211))*I33), 2) -> 0
E34: znížená | F34: =ROUND((SUM(BF126:BF211)), 2) -> 0 | I34: 0.2 | J34: =ROUND(((SUM(BF126:BF211))*I34), 2) -> 0
E35: zákl. prenesená | F35: =ROUND((SUM(BG126:BG211)), 2) -> 0 | I35: 0.2 | J35: =0 -> 0
E36: zníž. prenesená | F36: =ROUND((SUM(BH126:BH211)), 2) -> 0 | I36: 0.2 | J36: =0 -> 0
E37: nulová | F37: =ROUND((SUM(BI126:BI211)), 2) -> 0 | I37: 0 | J37: =0 -> 0
D39: Cena s DPH | G39: v | H39: EUR | J39: =SUM(J30:J37) -> 0
D50: Projektant | G50: Spracovateľ
D61: Dátum a podpis: | F61: Pečiatka | G61: Dátum a podpis: | J61: Pečiatka
D65: Objednávateľ | G65: Zhotoviteľ
D76: Dátum a podpis: | F76: Pečiatka | G76: Dátum a podpis: | J76: Pečiatka
C82: REKAPITULÁCIA ROZPOČTU
C84: Stavba:
E85: =E7 -> Stavebné úpravy skladu objemových krmovýn pre ŽV, č. 176/6, k.ú. Pčoliné okr. Snina
C86: Objekt:
E87: =E9 -> 01 - SO - 01 Vlastná stavba
C89: Miesto: | F89: =F12 | I89: Dátum: | J89: =IF(J12="","",J12) -> 45236
C91: Objednávateľ: | F91: =E15 -> ROTAX - ARCH spol, s.r.o., Fidlíkova 3, 066 01 Humenné | I91: Projektant: | J91: =E21 -> Argo-PK, Projekčná kancelária, Strojárska 3998, Snina
C92: Zhotoviteľ: | F92: =IF(E18="","",E18) | I92: Spracovateľ: | J92: =E24
C94: Kód dielu - Popis | J94: Cena celkom [EUR]
C96: Náklady z rozpočtu | J96: =J126 -> 0 | AU96: -1
D97: HSV - Práce a dodávky HSV | J97: =J127 -> 0
D98: 1 - Zemné práce | J98: =J128 -> 0
D99: 2 - Zakladanie | J99: =J138 -> 0
D100: 3 - Zvislé a kompletné konštrukcie | J100: =J144 -> 0
D101: 6 - Úpravy povrchov, podlahy, osadenie | J101: =J155 -> 0
D102: 9 - Ostatné konštrukcie a práce-búranie | J102: =J166 -> 0
D103: 99 - Presun hmôt HSV | J103: =J177 -> 0
D104: PSV - Práce a dodávky PSV | J104: =J179 -> 0
D105: 767 - Konštrukcie doplnkové kovové | J105: =J180 -> 0
D106: 783 - Nátery | J106: =J204 -> 0
C113: ROZPOČET
C115: Stavba:
E116: =E7 -> Stavebné úpravy skladu objemových krmovýn pre ŽV, č. 176/6, k.ú. Pčoliné okr. Snina
C117: Objekt:
E118: =E9 -> 01 - SO - 01 Vlastná stavba
C120: Miesto: | F120: =F12 | I120: Dátum: | J120: =IF(J12="","",J12) -> 45236
C122: Objednávateľ: | F122: =E15 -> ROTAX - ARCH spol, s.r.o., Fidlíkova 3, 066 01 Humenné | I122: Projektant: | J122: =E21 -> Argo-PK, Projekčná kancelária, Strojárska 3998, Snina
C123: Zhotoviteľ: | F123: =IF(E18="","",E18) | I123: Spracovateľ: | J123: =E24
C125: PČ | D125: Typ | E125: Kód | F125: Popis | G125: MJ | H125: Množstvo | I125: J.cena [EUR] | J125: Cena celkom [EUR] | K125: Cenová sústava | N125: DPH | O125: J. Nh [h] | P125: Nh celkom [h] | Q125: J. hmotnosť [t] | R125: Hmotnosť celkom [t] | S125: J. suť [t] | T125: Suť Celkom [t]
C126: Náklady z rozpočtu | J126: =BK126 -> 0 | P126: =P127+P179 -> 2202.6787 | R126: =R127+R179 -> 545.98781 | T126: =T127+T179 -> 0.048 | AT126: D | AU126: -1 | BK126: =BK127+BK179 -> 0
D127: D | E127: HSV | F127: Práce a dodávky HSV | J127: =BK127 -> 0 | P127: =P128+P138+P144+P155+P166+P177 -> 1100.8783 | R127: =R128+R138+R144+R155+R166+R177 -> 535.15478 | T127: =T128+T138+T144+T155+T166+T177 -> 0 | AR127: 1 | AT127: D | AU127: 0 | AY127: ROZPOCET | BK127: =BK128+BK138+BK144+BK155+BK166+BK177 -> 0
D128: D | E128: 1 | F128: Zemné práce | J128: =BK128 -> 0 | P128: =SUM(P129:P137) -> 72.348832 | R128: =SUM(R129:R137) -> 0 | T128: =SUM(T129:T137) -> 0 | AR128: 1 | AT128: D | AU128: 1 | AY128: ROZPOCET | BK128: =SUM(BK129:BK137) -> 0
C129: 1 | D129: K | E129: 132201101.S | F129: Výkop ryhy do šírky 600 mm v horn.3 do 100 m3 | G129: m3 | H129: 25.28 | J129: =ROUND(I129*H129,2) -> 0 | N129: znížená | O129: 2.514 | P129: =O129*H129 -> 63.55392 | Q129: 0 | R129: =Q129*H129 -> 0 | S129: 0 | T129: =S129*H129 -> 0 | AR129: 4 | AT129: K | AU129: 2 | AY129: ROZPOCET | BE129: =IF(N129="základná",J129,0) -> 0 | BF129: =IF(N129="znížená",J129,0) -> 0 | BG129: =IF(N129="zákl. prenesená",J129,0) -> 0 | BH129: =IF(N129="zníž. prenesená",J129,0) -> 0 | BI129: =IF(N129="nulová",J129,0) -> 0 | BJ129: 2 | BK129: =ROUND(I129*H129,2) -> 0 | BL129: 4 | BM129: -1228656044
D130: VV | F130: 50,56*0,5*1 | H130: 25.28 | AT130: VV | AU130: 2 | AV130: 2 | AW130: True | AX130: 1 | AY130: ROZPOCET
C131: 2 | D131: K | E131: 132201109.S | F131: Príplatok k cene za lepivosť pri hĺbení rýh šírky do 600 mm zapažených i nezapažených s urovnaním dna v hornine 3 | G131: m3 | H131: 7.584 | J131: =ROUND(I131*H131,2) -> 0 | N131: znížená | O131: 0.613 | P131: =O131*H131 -> 4.648992 | Q131: 0 | R131: =Q131*H131 -> 0 | S131: 0 | T131: =S131*H131 -> 0 | AR131: 4 | AT131: K | AU131: 2 | AY131: ROZPOCET | BE131: =IF(N131="základná",J131,0) -> 0 | BF131: =IF(N131="znížená",J131,0) -> 0 | BG131: =IF(N131="zákl. prenesená",J131,0) -> 0 | BH131: =IF(N131="zníž. prenesená",J131,0) -> 0 | BI131: =IF(N131="nulová",J131,0) -> 0 | BJ131: 2 | BK131: =ROUND(I131*H131,2) -> 0 | BL131: 4 | BM131: -1525374046
D132: VV | F132: 25,28*0,3 | H132: 7.584 | AT132: VV | AU132: 2 | AV132: 2 | AW132: True | AX132: 1 | AY132: ROZPOCET
C133: 3 | D133: K | E133: 162201102.S | F133: Vodorovné premiestnenie výkopku z horniny 1-4 nad 20-50m | G133: m3 | H133: 25.28 | J133: =ROUND(I133*H133,2) -> 0 | N133: znížená | O133: 0.069 | P133: =O133*H133 -> 1.74432 | Q133: 0 | R133: =Q133*H133 -> 0 | S133: 0 | T133: =S133*H133 -> 0 | AR133: 4 | AT133: K | AU133: 2 | AY133: ROZPOCET | BE133: =IF(N133="základná",J133,0) -> 0 | BF133: =IF(N133="znížená",J133,0) -> 0 | BG133: =IF(N133="zákl. prenesená",J133,0) -> 0 | BH133: =IF(N133="zníž. prenesená",J133,0) -> 0 | BI133: =IF(N133="nulová",J133,0) -> 0 | BJ133: 2 | BK133: =ROUND(I133*H133,2) -> 0 | BL133: 4 | BM133: 1046767453
D134: VV | F134: 25,28 | H134: 25.28 | AT134: VV | AU134: 2 | AV134: 2 | AW134: True | AX134: 1 | AY134: ROZPOCET
C135: 4 | D135: K | E135: 167101102.S | F135: Nakladanie neuľahnutého výkopku z hornín tr.1-4 nad 100 do 1000 m3 | G135: m3 | H135: 25.28 | J135: =ROUND(I135*H135,2) -> 0 | N135: znížená | O135: 0.087 | P135: =O135*H135 -> 2.19936 | Q135: 0 | R135: =Q135*H135 -> 0 | S135: 0 | T135: =S135*H135 -> 0 | AR135: 4 | AT135: K | AU135: 2 | AY135: ROZPOCET | BE135: =IF(N135="základná",J135,0) -> 0 | BF135: =IF(N135="znížená",J135,0) -> 0 | BG135: =IF(N135="zákl. prenesená",J135,0) -> 0 | BH135: =IF(N135="zníž. prenesená",J135,0) -> 0 | BI135: =IF(N135="nulová",J135,0) -> 0 | BJ135: 2 | BK135: =ROUND(I135*H135,2) -> 0 | BL135: 4 | BM135: 1242036436
C136: 5 | D136: K | E136: 171201202.S | F136: Uloženie sypaniny na skládky nad 100 do 1000 m3 | G136: m3 | H136: 25.28 | J136: =ROUND(I136*H136,2) -> 0 | N136: znížená | O136: 0.008 | P136: =O136*H136 -> 0.20224 | Q136: 0 | R136: =Q136*H136 -> 0 | S136: 0 | T136: =S136*H136 -> 0 | AR136: 4 | AT136: K | AU136: 2 | AY136: ROZPOCET | BE136: =IF(N136="základná",J136,0) -> 0 | BF136: =IF(N136="znížená",J136,0) -> 0 | BG136: =IF(N136="zákl. prenesená",J136,0) -> 0 | BH136: =IF(N136="zníž. prenesená",J136,0) -> 0 | BI136: =IF(N136="nulová",J136,0) -> 0 | BJ136: 2 | BK136: =ROUND(I136*H136,2) -> 0 | BL136: 4 | BM136: 411859447
D137: VV | F137: 25,28 | H137: 25.28 | AT137: VV | AU137: 2 | AV137: 2 | AW137: True | AX137: 1 | AY137: ROZPOCET
D138: D | E138: 2 | F138: Zakladanie | J138: =BK138 -> 0 | P138: =SUM(P139:P143) -> 30.054948 | R138: =SUM(R139:R143) -> 46.888322 | T138: =SUM(T139:T143) -> 0 | AR138: 1 | AT138: D | AU138: 1 | AY138: ROZPOCET | BK138: =SUM(BK139:BK143) -> 0
C139: 6 | D139: K | E139: 212572111.S | F139: Lôžko pre trativod zo štrkopiesku triedeného | G139: m3 | H139: 24.387 | J139: =ROUND(I139*H139,2) -> 0 | N139: znížená | O139: 1.164 | P139: =O139*H139 -> 28.386468 | Q139: 1.9205 | R139: =Q139*H139 -> 46.835234 | S139: 0 | T139: =S139*H139 -> 0 | AR139: 4 | AT139: K | AU139: 2 | AY139: ROZPOCET | BE139: =IF(N139="základná",J139,0) -> 0 | BF139: =IF(N139="znížená",J139,0) -> 0 | BG139: =IF(N139="zákl. prenesená",J139,0) -> 0 | BH139: =IF(N139="zníž. prenesená",J139,0) -> 0 | BI139: =IF(N139="nulová",J139,0) -> 0 | BJ139: 2 | BK139: =ROUND(I139*H139,2) -> 0 | BL139: 4 | BM139: 527953085
D140: VV | F140: 50,56*0,5*1-(3,14*0,075*0,075*50,56) | H140: 24.387 | AT140: VV | AU140: 2 | AV140: 2 | AW140: True | AX140: 1 | AY140: ROZPOCET
C141: 7 | D141: K | E141: 212756235.S | F141: Montáž trativodu z drenážnych rúr PVC, bez lôžka, DN 150 | G141: m | H141: 50.56 | J141: =ROUND(I141*H141,2) -> 0 | N141: znížená | O141: 0.033 | P141: =O141*H141 -> 1.66848 | Q141: 0 | R141: =Q141*H141 -> 0 | S141: 0 | T141: =S141*H141 -> 0 | AR141: 4 | AT141: K | AU141: 2 | AY141: ROZPOCET | BE141: =IF(N141="základná",J141,0) -> 0 | BF141: =IF(N141="znížená",J141,0) -> 0 | BG141: =IF(N141="zákl. prenesená",J141,0) -> 0 | BH141: =IF(N141="zníž. prenesená",J141,0) -> 0 | BI141: =IF(N141="nulová",J141,0) -> 0 | BJ141: 2 | BK141: =ROUND(I141*H141,2) -> 0 | BL141: 4 | BM141: -618452324
C142: 8 | D142: M | E142: 286120012200.S | F142: Plnostenná drenážna PVC rúra DN 150, perforovaná | G142: m | H142: 53.088 | J142: =ROUND(I142*H142,2) -> 0 | N142: znížená | O142: 0 | P142: =O142*H142 -> 0 | Q142: 0.001 | R142: =Q142*H142 -> 0.053088 | S142: 0 | T142: =S142*H142 -> 0 | AR142: 8 | AT142: M | AU142: 2 | AY142: ROZPOCET | BE142: =IF(N142="základná",J142,0) -> 0 | BF142: =IF(N142="znížená",J142,0) -> 0 | BG142: =IF(N142="zákl. prenesená",J142,0) -> 0 | BH142: =IF(N142="zníž. prenesená",J142,0) -> 0 | BI142: =IF(N142="nulová",J142,0) -> 0 | BJ142: 2 | BK142: =ROUND(I142*H142,2) -> 0 | BL142: 4 | BM142: 93619795
D143: VV | F143: 50,56*1,05 'Prepočítané koeficientom množstva | H143: 53.088 | AT143: VV | AU143: 2 | AV143: 2 | AW143: False | AX143: 1 | AY143: ROZPOCET
D144: D | E144: 3 | F144: Zvislé a kompletné konštrukcie | J144: =BK144 -> 0 | P144: =SUM(P145:P154) -> 242.34747 | R144: =SUM(R145:R154) -> 135.07392 | T144: =SUM(T145:T154) -> 0 | AR144: 1 | AT144: D | AU144: 1 | AY144: ROZPOCET | BK144: =SUM(BK145:BK154) -> 0
C145: 9 | D145: K | E145: 341321410.S | F145: Betón stien a priečok, železový (bez výstuže) tr. C 25/30 | G145: m3 | H145: 55.931 | J145: =ROUND(I145*H145,2) -> 0 | N145: znížená | O145: 1.227 | P145: =O145*H145 -> 68.627337 | Q145: 2.40177 | R145: =Q145*H145 -> 134.3334 | S145: 0 | T145: =S145*H145 -> 0 | AR145: 4 | AT145: K | AU145: 2 | AY145: ROZPOCET | BE145: =IF(N145="základná",J145,0) -> 0 | BF145: =IF(N145="znížená",J145,0) -> 0 | BG145: =IF(N145="zákl. prenesená",J145,0) -> 0 | BH145: =IF(N145="zníž. prenesená",J145,0) -> 0 | BI145: =IF(N145="nulová",J145,0) -> 0 | BJ145: 2 | BK145: =ROUND(I145*H145,2) -> 0 | BL145: 4 | BM145: 2121064083
D146: VV | F146: (50,56+16*2+2,75+3,55-3*2)*0,5*1,35 | H146: 55.931 | AT146: VV | AU146: 2 | AV146: 2 | AW146: True | AX146: 1 | AY146: ROZPOCET
C147: 10 | D147: K | E147: 341351105.S | F147: Debnenie stien a priečok obojstranné zhotovenie-dielce | G147: m2 | H147: 223.722 | J147: =ROUND(I147*H147,2) -> 0 | N147: znížená | O147: 0.443 | P147: =O147*H147 -> 99.108846 | Q147: 0.00155 | R147: =Q147*H147 -> 0.3467691 | S147: 0 | T147: =S147*H147 -> 0 | AR147: 16 | AT147: K | AU147: 2 | AY147: ROZPOCET | BE147: =IF(N147="základná",J147,0) -> 0 | BF147: =IF(N147="znížená",J147,0) -> 0 | BG147: =IF(N147="zákl. prenesená",J147,0) -> 0 | BH147: =IF(N147="zníž. prenesená",J147,0) -> 0 | BI147: =IF(N147="nulová",J147,0) -> 0 | BJ147: 2 | BK147: =ROUND(I147*H147,2) -> 0 | BL147: 16 | BM147: -965295334
D148: VV | F148: (50,56+16*2+2,75+3,55-3*2)*2*1,35 | H148: 223.722 | AT148: VV | AU148: 2 | AV148: 2 | AW148: True | AX148: 1 | AY148: ROZPOCET
C149: 11 | D149: K | E149: 341351106.S | F149: Debnenie stien a priečok obojstranné odstránenie-dielce | G149: m2 | H149: 223.722 | J149: =ROUND(I149*H149,2) -> 0 | N149: znížená | O149: 0.314 | P149: =O149*H149 -> 70.248708 | Q149: 0 | R149: =Q149*H149 -> 0 | S149: 0 | T149: =S149*H149 -> 0 | AR149: 4 | AT149: K | AU149: 2 | AY149: ROZPOCET | BE149: =IF(N149="základná",J149,0) -> 0 | BF149: =IF(N149="znížená",J149,0) -> 0 | BG149: =IF(N149="zákl. prenesená",J149,0) -> 0 | BH149: =IF(N149="zníž. prenesená",J149,0) -> 0 | BI149: =IF(N149="nulová",J149,0) -> 0 | BJ149: 2 | BK149: =ROUND(I149*H149,2) -> 0 | BL149: 4 | BM149: 117009656
C150: 12 | D150: K | E150: 341352301.S | F150: Denný prenájom ručného systémového debnenia jednoduchých stien, pre výšku debniaceho panela 2400 mm | G150: m2 | H150: 447.444 | J150: =ROUND(I150*H150,2) -> 0 | N150: znížená | O150: 0 | P150: =O150*H150 -> 0 | Q150: 0 | R150: =Q150*H150 -> 0 | S150: 0 | T150: =S150*H150 -> 0 | AR150: 4 | AT150: K | AU150: 2 | AY150: ROZPOCET | BE150: =IF(N150="základná",J150,0) -> 0 | BF150: =IF(N150="znížená",J150,0) -> 0 | BG150: =IF(N150="zákl. prenesená",J150,0) -> 0 | BH150: =IF(N150="zníž. prenesená",J150,0) -> 0 | BI150: =IF(N150="nulová",J150,0) -> 0 | BJ150: 2 | BK150: =ROUND(I150*H150,2) -> 0 | BL150: 4 | BM150: -1664874307
D151: VV | F151: 223,722*2 | H151: 447.444 | AT151: VV | AU151: 2 | AV151: 2 | AW151: True | AX151: 1 | AY151: ROZPOCET
C152: 13 | D152: K | E152: 341362422.S | F152: Výstuž stien a priečok rovných alebo oblých zo zváraných sietí KARI, priemer drôtu 6/6 mm, veľkosť oka 150x150 mm | G152: m2 | H152: 111.861 | J152: =ROUND(I152*H152,2) -> 0 | N152: znížená | O152: 0.039 | P152: =O152*H152 -> 4.362579 | Q152: 0.00352 | R152: =Q152*H152 -> 0.39375072 | S152: 0 | T152: =S152*H152 -> 0 | AR152: 4 | AT152: K | AU152: 2 | AY152: ROZPOCET | BE152: =IF(N152="základná",J152,0) -> 0 | BF152: =IF(N152="znížená",J152,0) -> 0 | BG152: =IF(N152="zákl. prenesená",J152,0) -> 0 | BH152: =IF(N152="zníž. prenesená",J152,0) -> 0 | BI152: =IF(N152="nulová",J152,0) -> 0 | BJ152: 2 | BK152: =ROUND(I152*H152,2) -> 0 | BL152: 4 | BM152: -268839164
D153: VV | F153: (50,56+16*2+2,75+3,55-3*2)*1,35 | H153: 111.861 | AT153: VV | AU153: 2 | AV153: 2 | AW153: True | AX153: 0 | AY153: ROZPOCET
D154: VV | F154: Súčet | H154: 111.861 | AT154: VV | AU154: 2 | AV154: 4 | AW154: True | AX154: 1 | AY154: ROZPOCET
D155: D | E155: 6 | F155: Úpravy povrchov, podlahy, osadenie | J155: =BK155 -> 0 | P155: =SUM(P156:P165) -> 414.07037 | R155: =SUM(R156:R165) -> 269.20307 | T155: =SUM(T156:T165) -> 0 | AR155: 1 | AT155: D | AU155: 1 | AY155: ROZPOCET | BK155: =SUM(BK156:BK165) -> 0
C156: 14 | D156: K | E156: 631315611.S | F156: Mazanina z betónu prostého (m3) tr. C 16/20 hr.nad 120 do 240 mm | G156: m3 | H156: 121.344 | J156: =ROUND(I156*H156,2) -> 0 | N156: znížená | O156: 2.32 | P156: =O156*H156 -> 281.51808 | Q156: 2.19407 | R156: =Q156*H156 -> 266.23723 | S156: 0 | T156: =S156*H156 -> 0 | AR156: 4 | AT156: K | AU156: 2 | AY156: ROZPOCET | BE156: =IF(N156="základná",J156,0) -> 0 | BF156: =IF(N156="znížená",J156,0) -> 0 | BG156: =IF(N156="zákl. prenesená",J156,0) -> 0 | BH156: =IF(N156="zníž. prenesená",J156,0) -> 0 | BI156: =IF(N156="nulová",J156,0) -> 0 | BJ156: 2 | BK156: =ROUND(I156*H156,2) -> 0 | BL156: 4 | BM156: 1027791359
D157: VV | F157: (50,56*16)*0,15 | H157: 121.344 | AT157: VV | AU157: 2 | AV157: 2 | AW157: True | AX157: 1 | AY157: ROZPOCET
C158: 15 | D158: K | E158: 631351101.S | F158: Debnenie stien, rýh a otvorov v podlahách zhotovenie | G158: m2 | H158: 12.384 | J158: =ROUND(I158*H158,2) -> 0 | N158: znížená | O158: 0.409 | P158: =O158*H158 -> 5.065056 | Q158: 0.00861 | R158: =Q158*H158 -> 0.10662624 | S158: 0 | T158: =S158*H158 -> 0 | AR158: 4 | AT158: K | AU158: 2 | AY158: ROZPOCET | BE158: =IF(N158="základná",J158,0) -> 0 | BF158: =IF(N158="znížená",J158,0) -> 0 | BG158: =IF(N158="zákl. prenesená",J158,0) -> 0 | BH158: =IF(N158="zníž. prenesená",J158,0) -> 0 | BI158: =IF(N158="nulová",J158,0) -> 0 | BJ158: 2 | BK158: =ROUND(I158*H158,2) -> 0 | BL158: 4 | BM158: 1358362249
D159: VV | F159: (50,56+16*2)*0,15 | H159: 12.384 | AT159: VV | AU159: 2 | AV159: 2 | AW159: True | AX159: 0 | AY159: ROZPOCET
D160: VV | F160: Súčet | H160: 12.384 | AT160: VV | AU160: 2 | AV160: 4 | AW160: True | AX160: 1 | AY160: ROZPOCET
C161: 16 | D161: K | E161: 631351102.S | F161: Debnenie stien, rýh a otvorov v podlahách odstránenie | G161: m2 | H161: 12.384 | J161: =ROUND(I161*H161,2) -> 0 | N161: znížená | O161: 0.248 | P161: =O161*H161 -> 3.071232 | Q161: 0 | R161: =Q161*H161 -> 0 | S161: 0 | T161: =S161*H161 -> 0 | AR161: 4 | AT161: K | AU161: 2 | AY161: ROZPOCET | BE161: =IF(N161="základná",J161,0) -> 0 | BF161: =IF(N161="znížená",J161,0) -> 0 | BG161: =IF(N161="zákl. prenesená",J161,0) -> 0 | BH161: =IF(N161="zníž. prenesená",J161,0) -> 0 | BI161: =IF(N161="nulová",J161,0) -> 0 | BJ161: 2 | BK161: =ROUND(I161*H161,2) -> 0 | BL161: 4 | BM161: -1019067121
C162: 17 | D162: K | E162: 631362422.S | F162: Výstuž mazanín z betónov (z kameniva) a z ľahkých betónov zo sietí KARI, priemer drôtu 6/6 mm, veľkosť oka 150x150 mm | G162: m2 | H162: 808.96 | J162: =ROUND(I162*H162,2) -> 0 | N162: znížená | O162: 0.041 | P162: =O162*H162 -> 33.16736 | Q162: 0.00352 | R162: =Q162*H162 -> 2.8475392 | S162: 0 | T162: =S162*H162 -> 0 | AR162: 4 | AT162: K | AU162: 2 | AY162: ROZPOCET | BE162: =IF(N162="základná",J162,0) -> 0 | BF162: =IF(N162="znížená",J162,0) -> 0 | BG162: =IF(N162="zákl. prenesená",J162,0) -> 0 | BH162: =IF(N162="zníž. prenesená",J162,0) -> 0 | BI162: =IF(N162="nulová",J162,0) -> 0 | BJ162: 2 | BK162: =ROUND(I162*H162,2) -> 0 | BL162: 4 | BM162: 271508796
D163: VV | F163: 50,56*16 | H163: 808.96 | AT163: VV | AU163: 2 | AV163: 2 | AW163: True | AX163: 1 | AY163: ROZPOCET
C164: 18 | D164: K | E164: 634920033.S | F164: Rezanie dilatačných škár v čiastočne zatvrdnutej betónovej mazanine alebo poteru hĺbky nad 50 do 80 mm, šírky nad 10 do 20 mm | G164: m | H164: 194.56 | J164: =ROUND(I164*H164,2) -> 0 | N164: znížená | O164: 0.469 | P164: =O164*H164 -> 91.24864 | Q164: 6e-05 | R164: =Q164*H164 -> 0.0116736 | S164: 0 | T164: =S164*H164 -> 0 | AR164: 4 | AT164: K | AU164: 2 | AY164: ROZPOCET | BE164: =IF(N164="základná",J164,0) -> 0 | BF164: =IF(N164="znížená",J164,0) -> 0 | BG164: =IF(N164="zákl. prenesená",J164,0) -> 0 | BH164: =IF(N164="zníž. prenesená",J164,0) -> 0 | BI164: =IF(N164="nulová",J164,0) -> 0 | BJ164: 2 | BK164: =ROUND(I164*H164,2) -> 0 | BL164: 4 | BM164: -707314075
D165: VV | F165: 50,56+16*9 | H165: 194.56 | AT165: VV | AU165: 2 | AV165: 2 | AW165: True | AX165: 1 | AY165: ROZPOCET
D166: D | E166: 9 | F166: Ostatné konštrukcie a práce-búranie | J166: =BK166 -> 0 | P166: =SUM(P167:P176) -> 321.65869 | R166: =SUM(R167:R176) -> 83.989476 | T166: =SUM(T167:T176) -> 0 | AR166: 1 | AT166: D | AU166: 1 | AY166: ROZPOCET | BK166: =SUM(BK167:BK176) -> 0
...

Sheet 02 - SO - 02 Búracie práce
L2: >> skryté stĺpce << | AT2: {17a535c2-79ec-426f-8039-783d5de8a6ac}
AT3: 0
D4: KRYCÍ LIST ROZPOČTU | M4: v --- nižšie sa nachádzajú doplnkové a pomocné údaje k zostavám --- v | AT4: False
D6: Stavba:
E7: ='Rekapitulácia stavby'!K6 -> Stavebné úpravy skladu objemových krmovýn pre ŽV, č. 176/6, k.ú. Pčoliné okr. Snina
D8: Objekt:
E9: 02 - SO - 02 Búracie práce
D11: JKSO: | I11: KS:
D12: Miesto: | I12: Dátum: | J12: ='Rekapitulácia stavby'!AN8 -> 45236
D14: Objednávateľ: | I14: IČO: | J14: 36 472 182
E15: ROTAX - ARCH spol, s.r.o., Fidlíkova 3, 066 01 Humenné | I15: IČ DPH: | J15: SK202 002 5139
D17: Zhotoviteľ: | I17: IČO: | J17: ='Rekapitulácia stavby'!AN13
E18: ='Rekapitulácia stavby'!E14 | I18: IČ DPH: | J18: ='Rekapitulácia stavby'!AN14
D20: Projektant: | I20: IČO:
E21: Argo-PK, Projekčná kancelária, Strojárska 3998, Snina | I21: IČ DPH:
D23: Spracovateľ: | I23: IČO: | J23: =IF('Rekapitulácia stavby'!AN19="","",'Rekapitulácia stavby'!AN19)
E24: =IF('Rekapitulácia stavby'!E20="","",'Rekapitulácia stavby'!E20) | I24: IČ DPH: | J24: =IF('Rekapitulácia stavby'!AN20="","",'Rekapitulácia stavby'!AN20)
D26: Poznámka:
D30: Cena bez DPH | J30: =ROUND(J121, 2) -> 0
F32: Základ dane | I32: Sadzba dane | J32: Výška dane
D33: DPH | E33: základná | F33: =ROUND((SUM(BE121:BE143)), 2) -> 0 | I33: 0.2 | J33: =ROUND(((SUM(BE121:BE143))*I33), 2) -> 0
E34: znížená | F34: =ROUND((SUM(BF121:BF143)), 2) -> 0 | I34: 0.2 | J34: =ROUND(((SUM(BF121:BF143))*I34), 2) -> 0
E35: zákl. prenesená | F35: =ROUND((SUM(BG121:BG143)), 2) -> 0 | I35: 0.2 | J35: =0 -> 0
E36: zníž. prenesená | F36: =ROUND((SUM(BH121:BH143)), 2) -> 0 | I36: 0.2 | J36: =0 -> 0
E37: nulová | F37: =ROUND((SUM(BI121:BI143)), 2) -> 0 | I37: 0 | J37: =0 -> 0
D39: Cena s DPH | G39: v | H39: EUR | J39: =SUM(J30:J37) -> 0
D50: Projektant | G50: Spracovateľ
D61: Dátum a podpis: | F61: Pečiatka | G61: Dátum a podpis: | J61: Pečiatka
D65: Objednávateľ | G65: Zhotoviteľ
D76: Dátum a podpis: | F76: Pečiatka | G76: Dátum a podpis: | J76: Pečiatka
C82: REKAPITULÁCIA ROZPOČTU
C84: Stavba:
E85: =E7 -> Stavebné úpravy skladu objemových krmovýn pre ŽV, č. 176/6, k.ú. Pčoliné okr. Snina
C86: Objekt:
E87: =E9 -> 02 - SO - 02 Búracie práce
C89: Miesto: | F89: =F12 | I89: Dátum: | J89: =IF(J12="","",J12) -> 45236
C91: Objednávateľ: | F91: =E15 -> ROTAX - ARCH spol, s.r.o., Fidlíkova 3, 066 01 Humenné | I91: Projektant: | J91: =E21 -> Argo-PK, Projekčná kancelária, Strojárska 3998, Snina
C92: Zhotoviteľ: | F92: =IF(E18="","",E18) | I92: Spracovateľ: | J92: =E24
C94: Kód dielu - Popis | J94: Cena celkom [EUR]
C96: Náklady z rozpočtu | J96: =J121 -> 0 | AU96: -1
D97: HSV - Práce a dodávky HSV | J97: =J122 -> 0
D98: 1 - Zemné práce | J98: =J123 -> 0
D99: 9 - Ostatné konštrukcie a práce-búranie | J99: =J124 -> 0
D100: PSV - Práce a dodávky PSV | J100: =J136 -> 0
D101: 765 - Konštrukcie - krytiny tvrdé | J101: =J137 -> 0
C108: ROZPOČET
C110: Stavba:
E111: =E7 -> Stavebné úpravy skladu objemových krmovýn pre ŽV, č. 176/6, k.ú. Pčoliné okr. Snina
C112: Objekt:
E113: =E9 -> 02 - SO - 02 Búracie práce
C115: Miesto: | F115: =F12 | I115: Dátum: | J115: =IF(J12="","",J12) -> 45236
C117: Objednávateľ: | F117: =E15 -> ROTAX - ARCH spol, s.r.o., Fidlíkova 3, 066 01 Humenné | I117: Projektant: | J117: =E21 -> Argo-PK, Projekčná kancelária, Strojárska 3998, Snina
C118: Zhotoviteľ: | F118: =IF(E18="","",E18) | I118: Spracovateľ: | J118: =E24
C120: PČ | D120: Typ | E120: Kód | F120: Popis | G120: MJ | H120: Množstvo | I120: J.cena [EUR] | J120: Cena celkom [EUR] | K120: Cenová sústava | N120: DPH | O120: J. Nh [h] | P120: Nh celkom [h] | Q120: J. hmotnosť [t] | R120: Hmotnosť celkom [t] | S120: J. suť [t] | T120: Suť Celkom [t]
C121: Náklady z rozpočtu | J121: =BK121 -> 0 | P121: =P122+P136 -> 152.33169 | R121: =R122+R136 -> 0 | T121: =T122+T136 -> 8.7920557 | AT121: D | AU121: -1 | BK121: =BK122+BK136 -> 0
D122: D | E122: HSV | F122: Práce a dodávky HSV | J122: =BK122 -> 0 | P122: =P123+P124 -> 26.583256 | R122: =R123+R124 -> 0 | T122: =T123+T124 -> 0 | AR122: 1 | AT122: D | AU122: 0 | AY122: ROZPOCET | BK122: =BK123+BK124 -> 0
D123: D | E123: 1 | F123: Zemné práce | J123: =BK123 -> 0 | P123: 0 | R123: 0 | T123: 0 | AR123: 1 | AT123: D | AU123: 1 | AY123: ROZPOCET | BK123: 0
D124: D | E124: 9 | F124: Ostatné konštrukcie a práce-búranie | J124: =BK124 -> 0 | P124: =SUM(P125:P135) -> 26.583256 | R124: =SUM(R125:R135) -> 0 | T124: =SUM(T125:T135) -> 0 | AR124: 1 | AT124: D | AU124: 1 | AY124: ROZPOCET | BK124: =SUM(BK125:BK135) -> 0
C125: 1 | D125: K | E125: 968071137.S | F125: Vyvesenie kovového krídla vrát plochy nad 4 m2 | G125: ks | H125: 28 | J125: =ROUND(I125*H125,2) -> 0 | N125: znížená | O125: 0.355 | P125: =O125*H125 -> 9.94 | Q125: 0 | R125: =Q125*H125 -> 0 | S125: 0 | T125: =S125*H125 -> 0 | AR125: 4 | AT125: K | AU125: 2 | AY125: ROZPOCET | BE125: =IF(N125="základná",J125,0) -> 0 | BF125: =IF(N125="znížená",J125,0) -> 0 | BG125: =IF(N125="zákl. prenesená",J125,0) -> 0 | BH125: =IF(N125="zníž. prenesená",J125,0) -> 0 | BI125: =IF(N125="nulová",J125,0) -> 0 | BJ125: 2 | BK125: =ROUND(I125*H125,2) -> 0 | BL125: 4 | BM125: 968578307
D126: VV | F126: (12+2)*2 | H126: 28 | AT126: VV | AU126: 2 | AV126: 2 | AW126: True | AX126: 1 | AY126: ROZPOCET
C127: 2 | D127: K | E127: 979081111.S | F127: Odvoz sutiny a vybúraných hmôt na skládku do 1 km | G127: t | H127: 8.792 | J127: =ROUND(I127*H127,2) -> 0 | N127: znížená | O127: 0.598 | P127: =O127*H127 -> 5.257616 | Q127: 0 | R127: =Q127*H127 -> 0 | S127: 0 | T127: =S127*H127 -> 0 | AR127: 4 | AT127: K | AU127: 2 | AY127: ROZPOCET | BE127: =IF(N127="základná",J127,0) -> 0 | BF127: =IF(N127="znížená",J127,0) -> 0 | BG127: =IF(N127="zákl. prenesená",J127,0) -> 0 | BH127: =IF(N127="zníž. prenesená",J127,0) -> 0 | BI127: =IF(N127="nulová",J127,0) -> 0 | BJ127: 2 | BK127: =ROUND(I127*H127,2) -> 0 | BL127: 4 | BM127: -464287441
D128: VV | F128: 8,792 | H128: 8.792 | AT128: VV | AU128: 2 | AV128: 2 | AW128: True | AX128: 1 | AY128: ROZPOCET
C129: 3 | D129: K | E129: 979081121.S | F129: Odvoz sutiny a vybúraných hmôt na skládku za každý ďalší 1 km | G129: t | H129: 131.88 | J129: =ROUND(I129*H129,2) -> 0 | N129: znížená | O129: 0.007 | P129: =O129*H129 -> 0.92316 | Q129: 0 | R129: =Q129*H129 -> 0 | S129: 0 | T129: =S129*H129 -> 0 | AR129: 4 | AT129: K | AU129: 2 | AY129: ROZPOCET | BE129: =IF(N129="základná",J129,0) -> 0 | BF129: =IF(N129="znížená",J129,0) -> 0 | BG129: =IF(N129="zákl. prenesená",J129,0) -> 0 | BH129: =IF(N129="zníž. prenesená",J129,0) -> 0 | BI129: =IF(N129="nulová",J129,0) -> 0 | BJ129: 2 | BK129: =ROUND(I129*H129,2) -> 0 | BL129: 4 | BM129: 136460832
D130: VV | F130: 8,792*15 'Prepočítané koeficientom množstva | H130: 131.88 | AT130: VV | AU130: 2 | AV130: 2 | AW130: False | AX130: 1 | AY130: ROZPOCET
C131: 4 | D131: K | E131: 979082111.S | F131: Vnútrostavenisková doprava sutiny a vybúraných hmôt do 10 m | G131: t | H131: 8.792 | J131: =ROUND(I131*H131,2) -> 0 | N131: znížená | O131: 0.89 | P131: =O131*H131 -> 7.82488 | Q131: 0 | R131: =Q131*H131 -> 0 | S131: 0 | T131: =S131*H131 -> 0 | AR131: 4 | AT131: K | AU131: 2 | AY131: ROZPOCET | BE131: =IF(N131="základná",J131,0) -> 0 | BF131: =IF(N131="znížená",J131,0) -> 0 | BG131: =IF(N131="zákl. prenesená",J131,0) -> 0 | BH131: =IF(N131="zníž. prenesená",J131,0) -> 0 | BI131: =IF(N131="nulová",J131,0) -> 0 | BJ131: 2 | BK131: =ROUND(I131*H131,2) -> 0 | BL131: 4 | BM131: -895101142
D132: VV | F132: 8,792 | H132: 8.792 | AT132: VV | AU132: 2 | AV132: 2 | AW132: True | AX132: 1 | AY132: ROZPOCET
C133: 5 | D133: K | E133: 979082121.S | F133: Vnútrostavenisková doprava sutiny a vybúraných hmôt za každých ďalších 5 m | G133: t | H133: 26.376 | J133: =ROUND(I133*H133,2) -> 0 | N133: znížená | O133: 0.1 | P133: =O133*H133 -> 2.6376 | Q133: 0 | R133: =Q133*H133 -> 0 | S133: 0 | T133: =S133*H133 -> 0 | AR133: 4 | AT133: K | AU133: 2 | AY133: ROZPOCET | BE133: =IF(N133="základná",J133,0) -> 0 | BF133: =IF(N133="znížená",J133,0) -> 0 | BG133: =IF(N133="zákl. prenesená",J133,0) -> 0 | BH133: =IF(N133="zníž. prenesená",J133,0) -> 0 | BI133: =IF(N133="nulová",J133,0) -> 0 | BJ133: 2 | BK133: =ROUND(I133*H133,2) -> 0 | BL133: 4 | BM133: 546773885
D134: VV | F134: 8,792*3 'Prepočítané koeficientom množstva | H134: 26.376 | AT134: VV | AU134: 2 | AV134: 2 | AW134: False | AX134: 1 | AY134: ROZPOCET
C135: 6 | D135: K | E135: 979089012.S | F135: Poplatok za skladovanie - betón, tehly, dlaždice (17 01) ostatné | G135: t | H135: 8.792 | J135: =ROUND(I135*H135,2) -> 0 | N135: znížená | O135: 0 | P135: =O135*H135 -> 0 | Q135: 0 | R135: =Q135*H135 -> 0 | S135: 0 | T135: =S135*H135 -> 0 | AR135: 4 | AT135: K | AU135: 2 | AY135: ROZPOCET | BE135: =IF(N135="základná",J135,0) -> 0 | BF135: =IF(N135="znížená",J135,0) -> 0 | BG135: =IF(N135="zákl. prenesená",J135,0) -> 0 | BH135: =IF(N135="zníž. prenesená",J135,0) -> 0 | BI135: =IF(N135="nulová",J135,0) -> 0 | BJ135: 2 | BK135: =ROUND(I135*H135,2) -> 0 | BL135: 4 | BM135: -1474475315
D136: D | E136: PSV | F136: Práce a dodávky PSV | J136: =BK136 -> 0 | P136: =P137 -> 125.74843 | R136: =R137 -> 0 | T136: =T137 -> 8.7920557 | AR136: 2 | AT136: D | AU136: 0 | AY136: ROZPOCET | BK136: =BK137 -> 0
D137: D | E137: 765 | F137: Konštrukcie - krytiny tvrdé | J137: =BK137 -> 0 | P137: =SUM(P138:P143) -> 125.74843 | R137: =SUM(R138:R143) -> 0 | T137: =SUM(T138:T143) -> 8.7920557 | AR137: 2 | AT137: D | AU137: 1 | AY137: ROZPOCET | BK137: =SUM(BK138:BK143) -> 0
C138: 7 | D138: K | E138: 765356501.S | F138: Demontáž krytiny sklolaminátovej, do sutiny, sklon strechy nad 45°, -0,0023t | G138: m2 | H138: 1103.747 | J138: =ROUND(I138*H138,2) -> 0 | N138: znížená | O138: 0.102 | P138: =O138*H138 -> 112.58219 | Q138: 0 | R138: =Q138*H138 -> 0 | S138: 0.0031 | T138: =S138*H138 -> 3.4216157 | AR138: 16 | AT138: K | AU138: 2 | AY138: ROZPOCET | BE138: =IF(N138="základná",J138,0) -> 0 | BF138: =IF(N138="znížená",J138,0) -> 0 | BG138: =IF(N138="zákl. prenesená",J138,0) -> 0 | BH138: =IF(N138="zníž. prenesená",J138,0) -> 0 | BI138: =IF(N138="nulová",J138,0) -> 0 | BJ138: 2 | BK138: =ROUND(I138*H138,2) -> 0 | BL138: 16 | BM138: -290231108
D139: VV | F139: -3,3*4,2*12 | H139: -166.32 | AT139: VV | AU139: 2 | AV139: 2 | AW139: True | AX139: 0 | AY139: ROZPOCET
D140: VV | F140: 2*3,14*8/2*50,56 | H140: 1270.067 | AT140: VV | AU140: 2 | AV140: 2 | AW140: True | AX140: 0 | AY140: ROZPOCET
D141: VV | F141: Súčet | H141: 1103.747 | AT141: VV | AU141: 2 | AV141: 4 | AW141: True | AX141: 1 | AY141: ROZPOCET
C142: 8 | D142: K | E142: 765483830.S | F142: Demont obkladu sklolaminátového tvaru vlny na konštrukcii na suť -0.02200 t | G142: m2 | H142: 173.24 | J142: =ROUND(I142*H142,2) -> 0 | N142: znížená | O142: 0.076 | P142: =O142*H142 -> 13.16624 | Q142: 0 | R142: =Q142*H142 -> 0 | S142: 0.031 | T142: =S142*H142 -> 5.37044 | AR142: 16 | AT142: K | AU142: 2 | AY142: ROZPOCET | BE142: =IF(N142="základná",J142,0) -> 0 | BF142: =IF(N142="znížená",J142,0) -> 0 | BG142: =IF(N142="zákl. prenesená",J142,0) -> 0 | BH142: =IF(N142="zníž. prenesená",J142,0) -> 0 | BI142: =IF(N142="nulová",J142,0) -> 0 | BJ142: 2 | BK142: =ROUND(I142*H142,2) -> 0 | BL142: 16 | BM142: -6794938
D143: VV | F143: (3,14*8*8/2-3,3*4,2)*2 | H143: 173.24 | AT143: VV | AU143: 2 | AV143: 2 | AW143: True | AX143: 1 | AY143: ROZPOCET

Sheet 03 - SO - 03 Vnútorná ele...
L2: >> skryté stĺpce << | AT2: {6456cb4f-c893-4bd6-b491-61791a4df075}
AT3: 0
D4: KRYCÍ LIST ROZPOČTU | M4: v --- nižšie sa nachádzajú doplnkové a pomocné údaje k zostavám --- v | AT4: False
D6: Stavba:
E7: ='Rekapitulácia stavby'!K6 -> Stavebné úpravy skladu objemových krmovýn pre ŽV, č. 176/6, k.ú. Pčoliné okr. Snina
D8: Objekt:
E9: 03 - SO - 03 Vnútorná elektroinštalácia a prípojka ELI
D11: JKSO: | I11: KS:
D12: Miesto: | I12: Dátum: | J12: ='Rekapitulácia stavby'!AN8 -> 45236
D14: Objednávateľ: | I14: IČO: | J14: 36 472 182
E15: ROTAX - ARCH spol, s.r.o., Fidlíkova 3, 066 01 Humenné | I15: IČ DPH: | J15: SK202 002 5139
D17: Zhotoviteľ: | I17: IČO: | J17: ='Rekapitulácia stavby'!AN13
E18: ='Rekapitulácia stavby'!E14 | I18: IČ DPH: | J18: ='Rekapitulácia stavby'!AN14
D20: Projektant: | I20: IČO:
E21: Argo-PK, Projekčná kancelária, Strojárska 3998, Snina | I21: IČ DPH:
D23: Spracovateľ: | I23: IČO: | J23: =IF('Rekapitulácia stavby'!AN19="","",'Rekapitulácia stavby'!AN19)
E24: =IF('Rekapitulácia stavby'!E20="","",'Rekapitulácia stavby'!E20) | I24: IČ DPH: | J24: =IF('Rekapitulácia stavby'!AN20="","",'Rekapitulácia stavby'!AN20)
D26: Poznámka:
D30: Cena bez DPH | J30: =ROUND(J118, 2) -> 0
F32: Základ dane | I32: Sadzba dane | J32: Výška dane
D33: DPH | E33: základná | F33: =ROUND((SUM(BE118:BE143)), 2) -> 0 | I33: 0.2 | J33: =ROUND(((SUM(BE118:BE143))*I33), 2) -> 0
E34: znížená | F34: =ROUND((SUM(BF118:BF143)), 2) -> 0 | I34: 0.2 | J34: =ROUND(((SUM(BF118:BF143))*I34), 2) -> 0
E35: zákl. prenesená | F35: =ROUND((SUM(BG118:BG143)), 2) -> 0 | I35: 0.2 | J35: =0 -> 0
E36: zníž. prenesená | F36: =ROUND((SUM(BH118:BH143)), 2) -> 0 | I36: 0.2 | J36: =0 -> 0
E37: nulová | F37: =ROUND((SUM(BI118:BI143)), 2) -> 0 | I37: 0 | J37: =0 -> 0
D39: Cena s DPH | G39: v | H39: EUR | J39: =SUM(J30:J37) -> 0
D50: Projektant | G50: Spracovateľ
D61: Dátum a podpis: | F61: Pečiatka | G61: Dátum a podpis: | J61: Pečiatka
D65: Objednávateľ | G65: Zhotoviteľ
D76: Dátum a podpis: | F76: Pečiatka | G76: Dátum a podpis: | J76: Pečiatka
C82: REKAPITULÁCIA ROZPOČTU
C84: Stavba:
E85: =E7 -> Stavebné úpravy skladu objemových krmovýn pre ŽV, č. 176/6, k.ú. Pčoliné okr. Snina
C86: Objekt:
E87: =E9 -> 03 - SO - 03 Vnútorná elektroinštalácia a prípojka ELI
C89: Miesto: | F89: =F12 | I89: Dátum: | J89: =IF(J12="","",J12) -> 45236
C91: Objednávateľ: | F91: =E15 -> ROTAX - ARCH spol, s.r.o., Fidlíkova 3, 066 01 Humenné | I91: Projektant: | J91: =E21 -> Argo-PK, Projekčná kancelária, Strojárska 3998, Snina
C92: Zhotoviteľ: | F92: =IF(E18="","",E18) | I92: Spracovateľ: | J92: =E24
C94: Kód dielu - Popis | J94: Cena celkom [EUR]
C96: Náklady z rozpočtu | J96: =J118 -> 0 | AU96: -1
D97: M - Práce a dodávky M | J97: =J119 -> 0
D98: 21-M - Elektromontáže | J98: =J120 -> 0
C105: ROZPOČET
C107: Stavba:
E108: =E7 -> Stavebné úpravy skladu objemových krmovýn pre ŽV, č. 176/6, k.ú. Pčoliné okr. Snina
C109: Objekt:
E110: =E9 -> 03 - SO - 03 Vnútorná elektroinštalácia a prípojka ELI
C112: Miesto: | F112: =F12 | I112: Dátum: | J112: =IF(J12="","",J12) -> 45236
C114: Objednávateľ: | F114: =E15 -> ROTAX - ARCH spol, s.r.o., Fidlíkova 3, 066 01 Humenné | I114: Projektant: | J114: =E21 -> Argo-PK, Projekčná kancelária, Strojárska 3998, Snina
C115: Zhotoviteľ: | F115: =IF(E18="","",E18) | I115: Spracovateľ: | J115: =E24
C117: PČ | D117: Typ | E117: Kód | F117: Popis | G117: MJ | H117: Množstvo | I117: J.cena [EUR] | J117: Cena celkom [EUR] | K117: Cenová sústava | N117: DPH | O117: J. Nh [h] | P117: Nh celkom [h] | Q117: J. hmotnosť [t] | R117: Hmotnosť celkom [t] | S117: J. suť [t] | T117: Suť Celkom [t]
C118: Náklady z rozpočtu | J118: =BK118 -> 0 | P118: =P119 -> 36.971 | R118: =R119 -> 0.13846 | T118: =T119 -> 0 | AT118: D | AU118: -1 | BK118: =BK119 -> 0
D119: D | E119: M | F119: Práce a dodávky M | J119: =BK119 -> 0 | P119: =P120 -> 36.971 | R119: =R120 -> 0.13846 | T119: =T120 -> 0 | AR119: 3 | AT119: D | AU119: 0 | AY119: ROZPOCET | BK119: =BK120 -> 0
D120: D | E120: 21-M | F120: Elektromontáže | J120: =BK120 -> 0 | P120: =SUM(P121:P143) -> 36.971 | R120: =SUM(R121:R143) -> 0.13846 | T120: =SUM(T121:T143) -> 0 | AR120: 3 | AT120: D | AU120: 1 | AY120: ROZPOCET | BK120: =SUM(BK121:BK143) -> 0
C121: 1 | D121: K | E121: 210010041.S | F121: Rúrka elektroinštalačná ohybná kovová typ 3313, uložená pevne | G121: m | H121: 65 | J121: =ROUND(I121*H121,2) -> 0 | N121: znížená | O121: 0.098 | P121: =O121*H121 -> 6.37 | Q121: 0 | R121: =Q121*H121 -> 0 | S121: 0 | T121: =S121*H121 -> 0 | AR121: 64 | AT121: K | AU121: 2 | AY121: ROZPOCET | BE121: =IF(N121="základná",J121,0) -> 0 | BF121: =IF(N121="znížená",J121,0) -> 0 | BG121: =IF(N121="zákl. prenesená",J121,0) -> 0 | BH121: =IF(N121="zníž. prenesená",J121,0) -> 0 | BI121: =IF(N121="nulová",J121,0) -> 0 | BJ121: 2 | BK121: =ROUND(I121*H121,2) -> 0 | BL121: 64 | BM121: 186642146
C122: 2 | D122: M | E122: 345710008305.S | F122: Rúrka ohybná 3313 kovová z vrchnej pozink. oceľovej pásky a vnútornej izolačnej vrstvy, D 18,9 mm | G122: m | H122: 65 | J122: =ROUND(I122*H122,2) -> 0 | N122: znížená | O122: 0 | P122: =O122*H122 -> 0 | Q122: 0.00019 | R122: =Q122*H122 -> 0.01235 | S122: 0 | T122: =S122*H122 -> 0 | AR122: 128 | AT122: M | AU122: 2 | AY122: ROZPOCET | BE122: =IF(N122="základná",J122,0) -> 0 | BF122: =IF(N122="znížená",J122,0) -> 0 | BG122: =IF(N122="zákl. prenesená",J122,0) -> 0 | BH122: =IF(N122="zníž. prenesená",J122,0) -> 0 | BI122: =IF(N122="nulová",J122,0) -> 0 | BJ122: 2 | BK122: =ROUND(I122*H122,2) -> 0 | BL122: 128 | BM122: 252426275
C123: 3 | D123: M | E123: 345710036510.S | F123: Príchytka obojstranná 3613 z pozinkovanej ocele pre ohybné kovové elektroinštal. rúrky D 13 mm | G123: ks | H123: 65 | J123: =ROUND(I123*H123,2) -> 0 | N123: znížená | O123: 0 | P123: =O123*H123 -> 0 | Q123: 5e-05 | R123: =Q123*H123 -> 0.00325 | S123: 0 | T123: =S123*H123 -> 0 | AR123: 128 | AT123: M | AU123: 2 | AY123: ROZPOCET | BE123: =IF(N123="základná",J123,0) -> 0 | BF123: =IF(N123="znížená",J123,0) -> 0 | BG123: =IF(N123="zákl. prenesená",J123,0) -> 0 | BH123: =IF(N123="zníž. prenesená",J123,0) -> 0 | BI123: =IF(N123="nulová",J123,0) -> 0 | BJ123: 2 | BK123: =ROUND(I123*H123,2) -> 0 | BL123: 128 | BM123: -1029006138
C124: 4 | D124: K | E124: 210010301 | F124: Škatuľa prístrojová bez zapojenia | G124: KUS | H124: 6 | J124: =ROUND(I124*H124,2) -> 0 | N124: znížená | O124: 0.091 | P124: =O124*H124 -> 0.546 | Q124: 0 | R124: =Q124*H124 -> 0 | S124: 0 | T124: =S124*H124 -> 0 | AR124: 64 | AT124: K | AU124: 2 | AY124: ROZPOCET | BE124: =IF(N124="základná",J124,0) -> 0 | BF124: =IF(N124="znížená",J124,0) -> 0 | BG124: =IF(N124="zákl. prenesená",J124,0) -> 0 | BH124: =IF(N124="zníž. prenesená",J124,0) -> 0 | BI124: =IF(N124="nulová",J124,0) -> 0 | BJ124: 2 | BK124: =ROUND(I124*H124,2) -> 0 | BL124: 64 | BM124: 732560017
C125: 5 | D125: M | E125: 3450906510 | F125: Krabica | G125: ks | H125: 6 | J125: =ROUND(I125*H125,2) -> 0 | N125: znížená | O125: 0 | P125: =O125*H125 -> 0 | Q125: 0 | R125: =Q125*H125 -> 0 | S125: 0 | T125: =S125*H125 -> 0 | AR125: 128 | AT125: M | AU125: 2 | AY125: ROZPOCET | BE125: =IF(N125="základná",J125,0) -> 0 | BF125: =IF(N125="znížená",J125,0) -> 0 | BG125: =IF(N125="zákl. prenesená",J125,0) -> 0 | BH125: =IF(N125="zníž. prenesená",J125,0) -> 0 | BI125: =IF(N125="nulová",J125,0) -> 0 | BJ125: 2 | BK125: =ROUND(I125*H125,2) -> 0 | BL125: 128 | BM125: 412474085
C126: 6 | D126: K | E126: 210100002 | F126: Ukončenie vodičov v rozvádzač. vč. zapojenia a vodičovej koncovky do 6 mm2 | G126: KUS | H126: 6 | J126: =ROUND(I126*H126,2) -> 0 | N126: znížená | O126: 0.057 | P126: =O126*H126 -> 0.342 | Q126: 0 | R126: =Q126*H126 -> 0 | S126: 0 | T126: =S126*H126 -> 0 | AR126: 64 | AT126: K | AU126: 2 | AY126: ROZPOCET | BE126: =IF(N126="základná",J126,0) -> 0 | BF126: =IF(N126="znížená",J126,0) -> 0 | BG126: =IF(N126="zákl. prenesená",J126,0) -> 0 | BH126: =IF(N126="zníž. prenesená",J126,0) -> 0 | BI126: =IF(N126="nulová",J126,0) -> 0 | BJ126: 2 | BK126: =ROUND(I126*H126,2) -> 0 | BL126: 64 | BM126: 995688264
C127: 7 | D127: K | E127: 210110001.S | F127: Jednopólový spínač, nástenný , vrátane zapojenia | G127: ks | H127: 6 | J127: =ROUND(I127*H127,2) -> 0 | N127: znížená | O127: 0.288 | P127: =O127*H127 -> 1.728 | Q127: 0 | R127: =Q127*H127 -> 0 | S127: 0 | T127: =S127*H127 -> 0 | AR127: 64 | AT127: K | AU127: 2 | AY127: ROZPOCET | BE127: =IF(N127="základná",J127,0) -> 0 | BF127: =IF(N127="znížená",J127,0) -> 0 | BG127: =IF(N127="zákl. prenesená",J127,0) -> 0 | BH127: =IF(N127="zníž. prenesená",J127,0) -> 0 | BI127: =IF(N127="nulová",J127,0) -> 0 | BJ127: 2 | BK127: =ROUND(I127*H127,2) -> 0 | BL127: 64 | BM127: -140129481
C128: 8 | D128: M | E128: 345340003000.S | F128: Spínač jednopólový nástenný | G128: ks | H128: 6 | J128: =ROUND(I128*H128,2) -> 0 | N128: znížená | O128: 0 | P128: =O128*H128 -> 0 | Q128: 0.0001 | R128: =Q128*H128 -> 0.0006 | S128: 0 | T128: =S128*H128 -> 0 | AR128: 128 | AT128: M | AU128: 2 | AY128: ROZPOCET | BE128: =IF(N128="základná",J128,0) -> 0 | BF128: =IF(N128="znížená",J128,0) -> 0 | BG128: =IF(N128="zákl. prenesená",J128,0) -> 0 | BH128: =IF(N128="zníž. prenesená",J128,0) -> 0 | BI128: =IF(N128="nulová",J128,0) -> 0 | BJ128: 2 | BK128: =ROUND(I128*H128,2) -> 0 | BL128: 128 | BM128: 86336671
C129: 9 | D129: K | E129: 210111011.S | F129: Domová zásuvka polozapustená alebo zapustená 250 V vrátane zapojenia | G129: ks | H129: 3 | J129: =ROUND(I129*H129,2) -> 0 | N129: znížená | O129: 0.258 | P129: =O129*H129 -> 0.774 | Q129: 0 | R129: =Q129*H129 -> 0 | S129: 0 | T129: =S129*H129 -> 0 | AR129: 64 | AT129: K | AU129: 2 | AY129: ROZPOCET | BE129: =IF(N129="základná",J129,0) -> 0 | BF129: =IF(N129="znížená",J129,0) -> 0 | BG129: =IF(N129="zákl. prenesená",J129,0) -> 0 | BH129: =IF(N129="zníž. prenesená",J129,0) -> 0 | BI129: =IF(N129="nulová",J129,0) -> 0 | BJ129: 2 | BK129: =ROUND(I129*H129,2) -> 0 | BL129: 64 | BM129: 1436568035
C130: 10 | D130: M | E130: 345350004320.S | F130: Rámik jednoduchý pre spínače a zásuvky | G130: ks | H130: 3 | J130: =ROUND(I130*H130,2) -> 0 | N130: znížená | O130: 0 | P130: =O130*H130 -> 0 | Q130: 3e-05 | R130: =Q130*H130 -> 9e-05 | S130: 0 | T130: =S130*H130 -> 0 | AR130: 128 | AT130: M | AU130: 2 | AY130: ROZPOCET | BE130: =IF(N130="základná",J130,0) -> 0 | BF130: =IF(N130="znížená",J130,0) -> 0 | BG130: =IF(N130="zákl. prenesená",J130,0) -> 0 | BH130: =IF(N130="zníž. prenesená",J130,0) -> 0 | BI130: =IF(N130="nulová",J130,0) -> 0 | BJ130: 2 | BK130: =ROUND(I130*H130,2) -> 0 | BL130: 128 | BM130: -971114844
C131: 11 | D131: M | E131: 345520000430.S | F131: Zásuvka jednonásobná polozapustená, komplet | G131: ks | H131: 3 | J131: =ROUND(I131*H131,2) -> 0 | N131: znížená | O131: 0 | P131: =O131*H131 -> 0 | Q131: 8e-05 | R131: =Q131*H131 -> 0.00024 | S131: 0 | T131: =S131*H131 -> 0 | AR131: 128 | AT131: M | AU131: 2 | AY131: ROZPOCET | BE131: =IF(N131="základná",J131,0) -> 0 | BF131: =IF(N131="znížená",J131,0) -> 0 | BG131: =IF(N131="zákl. prenesená",J131,0) -> 0 | BH131: =IF(N131="zníž. prenesená",J131,0) -> 0 | BI131: =IF(N131="nulová",J131,0) -> 0 | BJ131: 2 | BK131: =ROUND(I131*H131,2) -> 0 | BL131: 128 | BM131: 671129279
C132: 12 | D132: K | E132: 210111102.S | F132: Priemyslová zásuvka nástenná vrátane zapojenia, | G132: ks | H132: 3 | J132: =ROUND(I132*H132,2) -> 0 | N132: znížená | O132: 0.387 | P132: =O132*H132 -> 1.161 | Q132: 0 | R132: =Q132*H132 -> 0 | S132: 0 | T132: =S132*H132 -> 0 | AR132: 64 | AT132: K | AU132: 2 | AY132: ROZPOCET | BE132: =IF(N132="základná",J132,0) -> 0 | BF132: =IF(N132="znížená",J132,0) -> 0 | BG132: =IF(N132="zákl. prenesená",J132,0) -> 0 | BH132: =IF(N132="zníž. prenesená",J132,0) -> 0 | BI132: =IF(N132="nulová",J132,0) -> 0 | BJ132: 2 | BK132: =ROUND(I132*H132,2) -> 0 | BL132: 64 | BM132: -1324615538
... C143: 23 | D143: K | E143: PPV | F143: Podiel pridružených výkonov | G143: % | H143: 15.795 | J143: =ROUND(I143*H143,2) -> 0 | N143: znížená | O143: 0 | P143: =O143*H143 -> 0 | Q143: 0 | R143: =Q143*H143 -> 0 | S143: 0 | T143: =S143*H143 -> 0 | AR143: 64 | AT143: K | AU143: 2 | AY143: ROZPOCET | BE143: =IF(N143="základná",J143,0) -> 0 | BF143: =IF(N143="znížená",J143,0) -> 0 | BG143: =IF(N143="zákl. prenesená",J143,0) -> 0 | BH143: =IF(N143="zníž. prenesená",J143,0) -> 0 | BI143: =IF(N143="nulová",J143,0) -> 0 | BJ143: 2 | BK143: =ROUND(I143*H143,2) -> 0 | BL143: 64 | BM143: -932915833
