Workbook

Sheet Rekapitulácia stavby
A1: Export Komplet | BA1: 2.0 | BT1: False | BU1: False | BV1: {88b93348-0691-4b20-b1d1-a792c8e91030}
AR2: >> skryté stĺpce << | BS2: 0,001 | BT2: 20
BS3: 0,001 | BT3: 20
D4: REKAPITULÁCIA STAVBY | AS4: v --- nižšie sa nachádzajú doplnkové a pomocné údaje k zostavám --- v | BS4: 0,001
D5: Kód: | K5: 31011 | BS5: 0,001
D6: Stavba: | K6: Stavebné úpravy maštale pre ustajnenie HD, č. 993, k.u. Pčoliné | BS6: 0,001
D7: JKSO: | AK7: KS: | BS7: 0,001
D8: Miesto: | K8: Pčoliné | AK8: Dátum: | AN8: 45236 | BS8: 0,001
BS9: 0,001
D10: Objednávateľ: | AK10: IČO: | BS10: 0,001
E11: RotaxArch s.r.o. | AK11: IČ DPH: | BS11: 0,001
BS12: 0,001
D13: Zhotoviteľ: | AK13: IČO: | BS13: 0,001
AK14: IČ DPH: | BS14: 0,001
BS15: False
D16: Projektant: | AK16: IČO: | BS16: False
E17: Ing.Mária Salanciová | AK17: IČ DPH: | BS17: True
BS18: 0,01
D19: Spracovateľ: | AK19: IČO: | BS19: 0,01
E20: Ing.Mária Salanciová | AK20: IČ DPH: | BS20: True
D22: Poznámka:
D26: Cena bez DPH | AK26: =ROUND(AG94,2) -> 0
L28: Sadzba dane | W28: Základ dane | AK28: Výška dane
D29: DPH | F29: základná | L29: 0.2 | W29: =ROUND(AZ94, 2) -> 0 | AK29: =ROUND(AV94, 2) -> 0
F30: znížená | L30: 0.2 | W30: =ROUND(BA94, 2) -> 0 | AK30: =ROUND(AW94, 2) -> 0
F31: zákl. prenesená | L31: 0.2 | W31: =ROUND(BB94, 2) -> 0 | AK31: 0
F32: zníž. prenesená | L32: 0.2 | W32: =ROUND(BC94, 2) -> 0 | AK32: 0
F33: nulová | L33: 0 | W33: =ROUND(BD94, 2) -> 0 | AK33: 0
D35: Cena s DPH | T35: v | X35: EUR | AK35: =SUM(AK26:AK33) -> 0
D49: Projektant | AH49: Spracovateľ
D60: Dátum a podpis: | V60: Pečiatka | AH60: Dátum a podpis: | AM60: Pečiatka
D64: Objednávateľ | AH64: Zhotoviteľ
D75: Dátum a podpis: | V75: Pečiatka | AH75: Dátum a podpis: | AM75: Pečiatka
C82: REKAPITULÁCIA OBJEKTOV STAVBY
C84: Kód: | L84: =K5 -> 31011
C85: Stavba: | L85: =K6 -> Stavebné úpravy maštale pre ustajnenie HD, č. 993, k.u. Pčoliné
C87: Miesto: | L87: =IF(K8="","",K8) -> Pčoliné | AI87: Dátum: | AM87: =IF(AN8= "","",AN8) -> 45236
C89: Objednávateľ: | L89: =IF(E11= "","",E11) -> RotaxArch s.r.o. | AI89: Projektant: | AM89: =IF(E17="","",E17) -> Ing.Mária Salanciová | AS89: Informatívne údaje z listov zákaziek
C90: Zhotoviteľ: | L90: =IF(E14="","",E14) | AI90: Spracovateľ: | AM90: =IF(E20="","",E20) -> Ing.Mária Salanciová
C92: Kód | I92: Popis | AG92: Cena bez DPH [EUR] | AN92: Cena s DPH [EUR] | AQ92: Typ | AS92: z toho Ostat._x000D_ náklady [EUR] | AT92: DPH [EUR] | AU92: Normohodiny [h] | AV92: DPH základná [EUR] | AW92: DPH znížená [EUR] | AX92: DPH základná prenesená_x000D_ [EUR] | AY92: DPH znížená prenesená_x000D_ [EUR] | AZ92: Základňa_x000D_ DPH základná | BA92: Základňa_x000D_ DPH znížená | BB92: Základňa_x000D_ DPH zákl. prenesená | BC92: Základňa_x000D_ DPH zníž. prenesená | BD92: Základňa_x000D_ DPH nulová
C94: Náklady z rozpočtov | AG94: =ROUND(SUM(AG95:AG97),2) -> 0 | AN94: =SUM(AG94,AT94) -> 0 | AS94: =ROUND(SUM(AS95:AS97),2) -> 0 | AT94: =ROUND(SUM(AV94:AW94),2) -> 0 | AU94: =ROUND(SUM(AU95:AU97),5) -> #REF! | AV94: =ROUND(AZ94*L29,2) -> 0 | AW94: =ROUND(BA94*L30,2) -> 0 | AX94: =ROUND(BB94*L29,2) -> 0 | AY94: =ROUND(BC94*L30,2) -> 0 | AZ94: =ROUND(SUM(AZ95:AZ97),2) -> 0 | BA94: =ROUND(SUM(BA95:BA97),2) -> 0 | BB94: =ROUND(SUM(BB95:BB97),2) -> 0 | BC94: =ROUND(SUM(BC95:BC97),2) -> 0 | BD94: =ROUND(SUM(BD95:BD97),2) -> 0 | BS94: D | BT94: 0 | BU94: ###NOIMPORT### | BV94: IMPORT | BW94: {88b93348-0691-4b20-b1d1-a792c8e91030} | BX94: {00000000-0000-0000-0000-000000000000}
A95: / | D95: 01.1 | J95: ASR | AG95: ='01.1 - ASR '!J30 -> 0 | AN95: =SUM(AG95,AT95) -> 0 | AQ95: STA | AS95: 0 | AT95: =ROUND(SUM(AV95:AW95),2) -> 0 | AU95: ='01.1 - ASR '!P132 -> #REF! | AV95: ='01.1 - ASR '!J33 -> 0 | AW95: ='01.1 - ASR '!J34 -> 0 | AX95: ='01.1 - ASR '!J35 -> 0 | AY95: ='01.1 - ASR '!J36 -> 0 | AZ95: ='01.1 - ASR '!F33 -> 0 | BA95: ='01.1 - ASR '!F34 -> 0 | BB95: ='01.1 - ASR '!F35 -> 0 | BC95: ='01.1 - ASR '!F36 -> 0 | BD95: ='01.1 - ASR '!F37 -> 0 | BT95: 1 | BV95: IMPORT | BW95: {43e1c6c6-dcd1-4343-a024-a69703cdafe2} | BX95: {88b93348-0691-4b20-b1d1-a792c8e91030} | CM95: 0
A96: / | D96: 01.2 | J96: Búracie práce | AG96: ='01.2 - Búracie práce '!J30 -> 0 | AN96: =SUM(AG96,AT96) -> 0 | AQ96: STA | AS96: 0 | AT96: =ROUND(SUM(AV96:AW96),2) -> 0 | AU96: ='01.2 - Búracie práce '!P122 -> 0 | AV96: ='01.2 - Búracie práce '!J33 -> 0 | AW96: ='01.2 - Búracie práce '!J34 -> 0 | AX96: ='01.2 - Búracie práce '!J35 -> 0 | AY96: ='01.2 - Búracie práce '!J36 -> 0 | AZ96: ='01.2 - Búracie práce '!F33 -> 0 | BA96: ='01.2 - Búracie práce '!F34 -> 0 | BB96: ='01.2 - Búracie práce '!F35 -> 0 | BC96: ='01.2 - Búracie práce '!F36 -> 0 | BD96: ='01.2 - Búracie práce '!F37 -> 0 | BT96: 1 | BV96: IMPORT | BW96: {04f4637d-8173-4df9-83d0-29f09b65a6c8} | BX96: {88b93348-0691-4b20-b1d1-a792c8e91030} | CM96: 0
A97: / | D97: 01.3 | J97: Kanalizačná prípojka | AG97: ='01.3 - Kanalizačná prípoj...'!J30 -> 0 | AN97: =SUM(AG97,AT97) -> 0 | AQ97: STA | AS97: 0 | AT97: =ROUND(SUM(AV97:AW97),2) -> 0 | AU97: ='01.3 - Kanalizačná prípoj...'!P121 -> 44.7512 | AV97: ='01.3 - Kanalizačná prípoj...'!J33 -> 0 | AW97: ='01.3 - Kanalizačná prípoj...'!J34 -> 0 | AX97: ='01.3 - Kanalizačná prípoj...'!J35 -> 0 | AY97: ='01.3 - Kanalizačná prípoj...'!J36 -> 0 | AZ97: ='01.3 - Kanalizačná prípoj...'!F33 -> 0 | BA97: ='01.3 - Kanalizačná prípoj...'!F34 -> 0 | BB97: ='01.3 - Kanalizačná prípoj...'!F35 -> 0 | BC97: ='01.3 - Kanalizačná prípoj...'!F36 -> 0 | BD97: ='01.3 - Kanalizačná prípoj...'!F37 -> 0 | BT97: 1 | BV97: IMPORT | BW97: {20570ff2-ca2e-4e30-83fb-94e4e181da48} | BX97: {88b93348-0691-4b20-b1d1-a792c8e91030} | CM97: 0

Sheet 01.1 - ASR   
L2: >> skryté stĺpce << | AT2: {43e1c6c6-dcd1-4343-a024-a69703cdafe2}
AT3: 0
D4: KRYCÍ LIST ROZPOČTU | M4: v --- nižšie sa nachádzajú doplnkové a pomocné údaje k zostavám --- v | AT4: False
D6: Stavba:
E7: ='Rekapitulácia stavby'!K6 -> Stavebné úpravy maštale pre ustajnenie HD, č. 993, k.u. Pčoliné
D8: Objekt:
E9: 01.1 - ASR
D11: JKSO: | I11: KS:
D12: Miesto: | F12: Pčoliné | I12: Dátum: | J12: ='Rekapitulácia stavby'!AN8 -> 45236
D14: Objednávateľ: | I14: IČO:
E15: RotaxArch s.r.o. | I15: IČ DPH:
D17: Zhotoviteľ: | I17: IČO: | J17: ='Rekapitulácia stavby'!AN13
E18: ='Rekapitulácia stavby'!E14 | I18: IČ DPH: | J18: ='Rekapitulácia stavby'!AN14
D20: Projektant: | I20: IČO:
E21: Ing.Mária Salanciová | I21: IČ DPH:
D23: Spracovateľ: | I23: IČO:
E24: Ing.Mária Salanciová | I24: IČ DPH:
D26: Poznámka:
D30: Cena bez DPH | J30: =ROUND(J132, 2) -> 0
F32: Základ dane | I32: Sadzba dane | J32: Výška dane
D33: DPH | E33: základná | F33: =ROUND((SUM(BE132:BE235)), 2) -> 0 | I33: 0.2 | J33: =ROUND(((SUM(BE132:BE235))*I33), 2) -> 0
E34: znížená | F34: =ROUND((SUM(BF132:BF235)), 2) -> 0 | I34: 0.2 | J34: =ROUND(((SUM(BF132:BF235))*I34), 2) -> 0
E35: zákl. prenesená | F35: =ROUND((SUM(BG132:BG235)), 2) -> 0 | I35: 0.2 | J35: =0 -> 0
E36: zníž. prenesená | F36: =ROUND((SUM(BH132:BH235)), 2) -> 0 | I36: 0.2 | J36: =0 -> 0
E37: nulová | F37: =ROUND((SUM(BI132:BI235)), 2) -> 0 | I37: 0 | J37: =0 -> 0
D39: Cena s DPH | G39: v | H39: EUR | J39: =SUM(J30:J37) -> 0
D50: Projektant | G50: Spracovateľ
D61: Dátum a podpis: | F61: Pečiatka | G61: Dátum a podpis: | J61: Pečiatka
D65: Objednávateľ | G65: Zhotoviteľ
D76: Dátum a podpis: | F76: Pečiatka | G76: Dátum a podpis: | J76: Pečiatka
C82: REKAPITULÁCIA ROZPOČTU
C84: Stavba:
E85: =E7 -> Stavebné úpravy maštale pre ustajnenie HD, č. 993, k.u. Pčoliné
C86: Objekt:
E87: =E9 -> 01.1 - ASR
C89: Miesto: | F89: =F12 -> Pčoliné | I89: Dátum: | J89: =IF(J12="","",J12) -> 45236
C91: Objednávateľ: | F91: =E15 -> RotaxArch s.r.o. | I91: Projektant: | J91: =E21 -> Ing.Mária Salanciová
C92: Zhotoviteľ: | F92: =IF(E18="","",E18) | I92: Spracovateľ: | J92: =E24 -> Ing.Mária Salanciová
C94: Kód dielu - Popis | J94: Cena celkom [EUR]
C96: Náklady z rozpočtu | J96: =J132 -> 0 | AU96: -1
D97: HSV - Práce a dodávky HSV | J97: =J133 -> 0
D98: 1 - Zemné práce | J98: =J134 -> 0
D99: 2 - Zakladanie | J99: =J141 -> 0
D100: 3 - Zvislé a kompletné konštrukcie | J100: =J147 -> 0
D101: 5 - Komunikácie | J101: =J161 -> 0
D102: 6 - Úpravy povrchov, podlahy, osadenie | J102: =J165 -> 0
D103: 9 - Ostatné konštrukcie a práce-búranie | J103: =J176 -> 0
D104: 99 - Presun hmôt HSV | J104: =J178 -> 0
D105: PSV - Práce a dodávky PSV | J105: =J180 -> 0
D106: 713 - Izolácie tepelné | J106: =J181 -> 0
D107: 762 - Konštrukcie tesárske | J107: =J186 -> 0
D108: 764 - Konštrukcie klampiarske | J108: =J190 -> 0
D109: 767 - Konštrukcie doplnkové kovové | J109: =J196 -> 0
D110: 783 - Nátery | J110: =J205 -> 0
D111: M - Práce a dodávky M | J111: =J209 -> 0
D112: 21-M - Elektromontáže | J112: =J210 -> 0
C119: ROZPOČET
C121: Stavba:
E122: =E7 -> Stavebné úpravy maštale pre ustajnenie HD, č. 993, k.u. Pčoliné
C123: Objekt:
E124: =E9 -> 01.1 - ASR
C126: Miesto: | F126: =F12 -> Pčoliné | I126: Dátum: | J126: =IF(J12="","",J12) -> 45236
C128: Objednávateľ: | F128: =E15 -> RotaxArch s.r.o. | I128: Projektant: | J128: =E21 -> Ing.Mária Salanciová
C129: Zhotoviteľ: | F129: =IF(E18="","",E18) | I129: Spracovateľ: | J129: =E24 -> Ing.Mária Salanciová
C131: PČ | D131: Typ | E131: Kód | F131: Popis | G131: MJ | H131: Množstvo | I131: J.cena [EUR] | J131: Cena celkom [EUR] | K131: Cenová sústava | N131: DPH | O131: J. Nh [h] | P131: Nh celkom [h] | Q131: J. hmotnosť [t] | R131: Hmotnosť celkom [t] | S131: J. suť [t] | T131: Suť Celkom [t]
C132: Náklady z rozpočtu | J132: =J133+J180+J209 -> 0 | P132: =P133+P180+P209 -> #REF! | R132: =R133+R180+R209 -> #REF! | T132: =T133+T180+T209 -> #REF! | AT132: D | AU132: -1 | BK132: =BK133+BK180+BK209 -> #REF!
D133: D | E133: HSV | F133: Práce a dodávky HSV | J133: =BK133 -> 0 | P133: =P134+P141+P147+P161+P165+P176+P178 -> 0 | R133: =R134+R141+R147+R161+R165+R176+R178 -> 0 | T133: =T134+T141+T147+T161+T165+T176+T178 -> 0 | AR133: 1 | AT133: D | AU133: 0 | AY133: ROZPOCET | BK133: =BK134+BK141+BK147+BK161+BK165+BK176+BK178 -> 0
D134: D | E134: 1 | F134: Zemné práce | J134: =BK134 -> 0 | P134: =SUM(P135:P140) -> 0 | R134: =SUM(R135:R140) -> 0 | T134: =SUM(T135:T140) -> 0 | AR134: 1 | AT134: D | AU134: 1 | AY134: ROZPOCET | BK134: =SUM(BK135:BK140) -> 0
C135: 1 | D135: K | E135: 122201101 | F135: Odkopávka a prekopávka nezapažená v hornine 3, do 100 m3 | G135: m3 | H135: 96.906 | J135: =ROUND(I135*H135,3) -> 0 | N135: znížená | O135: 0 | P135: =O135*H135 -> 0 | Q135: 0 | R135: =Q135*H135 -> 0 | S135: 0 | T135: =S135*H135 -> 0 | AR135: 4 | AT135: K | AU135: 2 | AY135: ROZPOCET | BE135: =IF(N135="základná",J135,0) -> 0 | BF135: =IF(N135="znížená",J135,0) -> 0 | BG135: =IF(N135="zákl. prenesená",J135,0) -> 0 | BH135: =IF(N135="zníž. prenesená",J135,0) -> 0 | BI135: =IF(N135="nulová",J135,0) -> 0 | BJ135: 2 | BK135: =ROUND(I135*H135,3) -> 0 | BL135: 4 | BM135: 2
C136: 2 | D136: K | E136: 122201109 | F136: Odkopávky a prekopávky nezapažené. Príplatok k cenám za lepivosť horniny 3 | G136: m3 | H136: 31.979 | J136: =ROUND(I136*H136,3) -> 0 | N136: znížená | O136: 0 | P136: =O136*H136 -> 0 | Q136: 0 | R136: =Q136*H136 -> 0 | S136: 0 | T136: =S136*H136 -> 0 | AR136: 4 | AT136: K | AU136: 2 | AY136: ROZPOCET | BE136: =IF(N136="základná",J136,0) -> 0 | BF136: =IF(N136="znížená",J136,0) -> 0 | BG136: =IF(N136="zákl. prenesená",J136,0) -> 0 | BH136: =IF(N136="zníž. prenesená",J136,0) -> 0 | BI136: =IF(N136="nulová",J136,0) -> 0 | BJ136: 2 | BK136: =ROUND(I136*H136,3) -> 0 | BL136: 4 | BM136: 4
D137: VV | F137: 96,906*0,33 'Prepočítané koeficientom množstva | H137: 31.979 | AT137: VV | AU137: 2 | AV137: 2 | AW137: False | AX137: 1 | AY137: ROZPOCET
C138: 3 | D138: K | E138: 132201101 | F138: Výkop ryhy do šírky 600 mm v horn.3 do 100 m3 | G138: m3 | H138: 31.787 | J138: =ROUND(I138*H138,3) -> 0 | N138: znížená | O138: 0 | P138: =O138*H138 -> 0 | Q138: 0 | R138: =Q138*H138 -> 0 | S138: 0 | T138: =S138*H138 -> 0 | AR138: 4 | AT138: K | AU138: 2 | AY138: ROZPOCET | BE138: =IF(N138="základná",J138,0) -> 0 | BF138: =IF(N138="znížená",J138,0) -> 0 | BG138: =IF(N138="zákl. prenesená",J138,0) -> 0 | BH138: =IF(N138="zníž. prenesená",J138,0) -> 0 | BI138: =IF(N138="nulová",J138,0) -> 0 | BJ138: 2 | BK138: =ROUND(I138*H138,3) -> 0 | BL138: 4 | BM138: 6
C139: 4 | D139: K | E139: 132201109 | F139: Príplatok k cene za lepivosť pri hĺbení rýh šírky do 600 mm zapažených i nezapažených s urovnaním dna v hornine 3 | G139: m3 | H139: 11.81 | J139: =ROUND(I139*H139,3) -> 0 | N139: znížená | O139: 0 | P139: =O139*H139 -> 0 | Q139: 0 | R139: =Q139*H139 -> 0 | S139: 0 | T139: =S139*H139 -> 0 | AR139: 4 | AT139: K | AU139: 2 | AY139: ROZPOCET | BE139: =IF(N139="základná",J139,0) -> 0 | BF139: =IF(N139="znížená",J139,0) -> 0 | BG139: =IF(N139="zákl. prenesená",J139,0) -> 0 | BH139: =IF(N139="zníž. prenesená",J139,0) -> 0 | BI139: =IF(N139="nulová",J139,0) -> 0 | BJ139: 2 | BK139: =ROUND(I139*H139,3) -> 0 | BL139: 4 | BM139: 8
D140: VV | F140: 35,787*0,33 'Prepočítané koeficientom množstva | H140: 11.81 | AT140: VV | AU140: 2 | AV140: 2 | AW140: False | AX140: 1 | AY140: ROZPOCET
D141: D | E141: 2 | F141: Zakladanie | J141: =BK141 -> 0 | P141: =SUM(P142:P146) -> 0 | R141: =SUM(R142:R146) -> 0 | T141: =SUM(T142:T146) -> 0 | AR141: 1 | AT141: D | AU141: 1 | AY141: ROZPOCET | BK141: =SUM(BK142:BK146) -> 0
C142: 5 | D142: K | E142: 211971121 | F142: Zhotov. oplášt. výplne z geotext. v ryhe alebo v záreze pri rozvinutej šírke oplášt. od 0 do 2, 5 m | G142: m2 | H142: 116.7 | J142: =ROUND(I142*H142,3) -> 0 | N142: znížená | O142: 0 | P142: =O142*H142 -> 0 | Q142: 0 | R142: =Q142*H142 -> 0 | S142: 0 | T142: =S142*H142 -> 0 | AR142: 4 | AT142: K | AU142: 2 | AY142: ROZPOCET | BE142: =IF(N142="základná",J142,0) -> 0 | BF142: =IF(N142="znížená",J142,0) -> 0 | BG142: =IF(N142="zákl. prenesená",J142,0) -> 0 | BH142: =IF(N142="zníž. prenesená",J142,0) -> 0 | BI142: =IF(N142="nulová",J142,0) -> 0 | BJ142: 2 | BK142: =ROUND(I142*H142,3) -> 0 | BL142: 4 | BM142: 20
C143: 6 | D143: M | E143: 693110001200 | F143: Geotextília | G143: m2 | H143: 119.034 | J143: =ROUND(I143*H143,3) -> 0 | N143: znížená | O143: 0 | P143: =O143*H143 -> 0 | Q143: 0 | R143: =Q143*H143 -> 0 | S143: 0 | T143: =S143*H143 -> 0 | AR143: 8 | AT143: M | AU143: 2 | AY143: ROZPOCET | BE143: =IF(N143="základná",J143,0) -> 0 | BF143: =IF(N143="znížená",J143,0) -> 0 | BG143: =IF(N143="zákl. prenesená",J143,0) -> 0 | BH143: =IF(N143="zníž. prenesená",J143,0) -> 0 | BI143: =IF(N143="nulová",J143,0) -> 0 | BJ143: 2 | BK143: =ROUND(I143*H143,3) -> 0 | BL143: 4 | BM143: 22
C144: 7 | D144: K | E144: 212572121 | F144: Lôžko pre trativod z kameniva drobného ťaženého | G144: m3 | H144: 10.503 | J144: =ROUND(I144*H144,3) -> 0 | N144: znížená | O144: 0 | P144: =O144*H144 -> 0 | Q144: 0 | R144: =Q144*H144 -> 0 | S144: 0 | T144: =S144*H144 -> 0 | AR144: 4 | AT144: K | AU144: 2 | AY144: ROZPOCET | BE144: =IF(N144="základná",J144,0) -> 0 | BF144: =IF(N144="znížená",J144,0) -> 0 | BG144: =IF(N144="zákl. prenesená",J144,0) -> 0 | BH144: =IF(N144="zníž. prenesená",J144,0) -> 0 | BI144: =IF(N144="nulová",J144,0) -> 0 | BJ144: 2 | BK144: =ROUND(I144*H144,3) -> 0 | BL144: 4 | BM144: 24
C145: 8 | D145: K | E145: 212752125 | F145: Trativody z flexodrenážnych rúr | G145: m | H145: 116.7 | J145: =ROUND(I145*H145,3) -> 0 | N145: znížená | O145: 0 | P145: =O145*H145 -> 0 | Q145: 0 | R145: =Q145*H145 -> 0 | S145: 0 | T145: =S145*H145 -> 0 | AR145: 4 | AT145: K | AU145: 2 | AY145: ROZPOCET | BE145: =IF(N145="základná",J145,0) -> 0 | BF145: =IF(N145="znížená",J145,0) -> 0 | BG145: =IF(N145="zákl. prenesená",J145,0) -> 0 | BH145: =IF(N145="zníž. prenesená",J145,0) -> 0 | BI145: =IF(N145="nulová",J145,0) -> 0 | BJ145: 2 | BK145: =ROUND(I145*H145,3) -> 0 | BL145: 4 | BM145: 26
C146: 9 | D146: K | E146: 274313611 | F146: Betón základových pásov, prostý tr. C 16/20 | G146: m3 | H146: 17.505 | J146: =ROUND(I146*H146,3) -> 0 | N146: znížená | O146: 0 | P146: =O146*H146 -> 0 | Q146: 0 | R146: =Q146*H146 -> 0 | S146: 0 | T146: =S146*H146 -> 0 | AR146: 4 | AT146: K | AU146: 2 | AY146: ROZPOCET | BE146: =IF(N146="základná",J146,0) -> 0 | BF146: =IF(N146="znížená",J146,0) -> 0 | BG146: =IF(N146="zákl. prenesená",J146,0) -> 0 | BH146: =IF(N146="zníž. prenesená",J146,0) -> 0 | BI146: =IF(N146="nulová",J146,0) -> 0 | BJ146: 2 | BK146: =ROUND(I146*H146,3) -> 0 | BL146: 4 | BM146: 30
D147: D | E147: 3 | F147: Zvislé a kompletné konštrukcie | J147: =BK147 -> 0 | P147: =SUM(P148:P160) -> 0 | R147: =SUM(R148:R160) -> 0 | T147: =SUM(T148:T160) -> 0 | AR147: 1 | AT147: D | AU147: 1 | AY147: ROZPOCET | BK147: =SUM(BK148:BK160) -> 0
C148: 10 | D148: K | E148: 311321311 | F148: Betón nadzákladových múrov, železový (bez výstuže) tr. C 16/20 | G148: m3 | H148: 36.685 | J148: =ROUND(I148*H148,3) -> 0 | N148: znížená | O148: 0 | P148: =O148*H148 -> 0 | Q148: 0 | R148: =Q148*H148 -> 0 | S148: 0 | T148: =S148*H148 -> 0 | AR148: 4 | AT148: K | AU148: 2 | AY148: ROZPOCET | BE148: =IF(N148="základná",J148,0) -> 0 | BF148: =IF(N148="znížená",J148,0) -> 0 | BG148: =IF(N148="zákl. prenesená",J148,0) -> 0 | BH148: =IF(N148="zníž. prenesená",J148,0) -> 0 | BI148: =IF(N148="nulová",J148,0) -> 0 | BJ148: 2 | BK148: =ROUND(I148*H148,3) -> 0 | BL148: 4 | BM148: 32
C149: 11 | D149: K | E149: 311351101 | F149: Debnenie nadzákladových múrov jednostranné, zhotovenie-dielce | G149: m2 | H149: 242.393 | J149: =ROUND(I149*H149,3) -> 0 | N149: znížená | O149: 0 | P149: =O149*H149 -> 0 | Q149: 0 | R149: =Q149*H149 -> 0 | S149: 0 | T149: =S149*H149 -> 0 | AR149: 4 | AT149: K | AU149: 2 | AY149: ROZPOCET | BE149: =IF(N149="základná",J149,0) -> 0 | BF149: =IF(N149="znížená",J149,0) -> 0 | BG149: =IF(N149="zákl. prenesená",J149,0) -> 0 | BH149: =IF(N149="zníž. prenesená",J149,0) -> 0 | BI149: =IF(N149="nulová",J149,0) -> 0 | BJ149: 2 | BK149: =ROUND(I149*H149,3) -> 0 | BL149: 4 | BM149: 34
C150: 12 | D150: K | E150: 311351102 | F150: Debnenie nadzákladových múrov jednostranné, odstránenie-dielce | G150: m2 | H150: 242.393 | J150: =ROUND(I150*H150,3) -> 0 | N150: znížená | O150: 0 | P150: =O150*H150 -> 0 | Q150: 0 | R150: =Q150*H150 -> 0 | S150: 0 | T150: =S150*H150 -> 0 | AR150: 4 | AT150: K | AU150: 2 | AY150: ROZPOCET | BE150: =IF(N150="základná",J150,0) -> 0 | BF150: =IF(N150="znížená",J150,0) -> 0 | BG150: =IF(N150="zákl. prenesená",J150,0) -> 0 | BH150: =IF(N150="zníž. prenesená",J150,0) -> 0 | BI150: =IF(N150="nulová",J150,0) -> 0 | BJ150: 2 | BK150: =ROUND(I150*H150,3) -> 0 | BL150: 4 | BM150: 36
C151: 13 | D151: K | E151: 341362422.S | F151: Výstuž stien a priečok rovných alebo oblých zo zváraných sietí KARI, priemer drôtu 6/6 mm, veľkosť oka 150x150 mm | G151: m2 | H151: 180.413 | J151: =ROUND(I151*H151,3) -> 0 | N151: znížená | O151: 0 | P151: =O151*H151 -> 0 | Q151: 0 | R151: =Q151*H151 -> 0 | S151: 0 | T151: =S151*H151 -> 0 | AR151: 4 | AT151: K | AU151: 2 | AY151: ROZPOCET | BE151: =IF(N151="základná",J151,0) -> 0 | BF151: =IF(N151="znížená",J151,0) -> 0 | BG151: =IF(N151="zákl. prenesená",J151,0) -> 0 | BH151: =IF(N151="zníž. prenesená",J151,0) -> 0 | BI151: =IF(N151="nulová",J151,0) -> 0 | BJ151: 2 | BK151: =ROUND(I151*H151,3) -> 0 | BL151: 4 | BM151: 38
D152: VV | F152: 3,3*1,4*2*11 | H152: 101.64 | AT152: VV | AU152: 2 | AV152: 2 | AW152: True | AX152: 0 | AY152: ROZPOCET
D153: VV | F153: 58,35*2,7/2 | H153: 78.773 | AT153: VV | AU153: 2 | AV153: 2 | AW153: True | AX153: 0 | AY153: ROZPOCET
D154: VV | F154: Súčet | H154: 180.413 | AT154: VV | AU154: 2 | AV154: 4 | AW154: True | AX154: 1 | AY154: ROZPOCET
C155: 14 | D155: K | E155: 311362042 | F155: Montáž vylamovacích dvojradových stavebných dielcov plechových (výstuže) nadzákladových múrov pre hr. steny 180-200 mm | G155: ks | H155: 66.7 | J155: =ROUND(I155*H155,3) -> 0 | N155: znížená | O155: 0 | P155: =O155*H155 -> 0 | Q155: 0 | R155: =Q155*H155 -> 0 | S155: 0 | T155: =S155*H155 -> 0 | AR155: 4 | AT155: K | AU155: 2 | AY155: ROZPOCET | BE155: =IF(N155="základná",J155,0) -> 0 | BF155: =IF(N155="znížená",J155,0) -> 0 | BG155: =IF(N155="zákl. prenesená",J155,0) -> 0 | BH155: =IF(N155="zníž. prenesená",J155,0) -> 0 | BI155: =IF(N155="nulová",J155,0) -> 0 | BJ155: 2 | BK155: =ROUND(I155*H155,3) -> 0 | BL155: 4 | BM155: 40
C156: 15 | D156: M | E156: 589580067300 | F156: Výstuž pre previazanie s jest.základom | G156: kg | H156: 75.609 | J156: =ROUND(I156*H156,3) -> 0 | N156: znížená | O156: 0 | P156: =O156*H156 -> 0 | Q156: 0 | R156: =Q156*H156 -> 0 | S156: 0 | T156: =S156*H156 -> 0 | AR156: 8 | AT156: M | AU156: 2 | AY156: ROZPOCET | BE156: =IF(N156="základná",J156,0) -> 0 | BF156: =IF(N156="znížená",J156,0) -> 0 | BG156: =IF(N156="zákl. prenesená",J156,0) -> 0 | BH156: =IF(N156="zníž. prenesená",J156,0) -> 0 | BI156: =IF(N156="nulová",J156,0) -> 0 | BJ156: 2 | BK156: =ROUND(I156*H156,3) -> 0 | BL156: 4 | BM156: 42
C157: 16 | D157: K | E157: 327323127 | F157: Múry oporné z betónu železového tr. C 25/30 | G157: m3 | H157: 7.7 | J157: =ROUND(I157*H157,3) -> 0 | N157: znížená | O157: 0 | P157: =O157*H157 -> 0 | Q157: 0 | R157: =Q157*H157 -> 0 | S157: 0 | T157: =S157*H157 -> 0 | AR157: 4 | AT157: K | AU157: 2 | AY157: ROZPOCET | BE157: =IF(N157="základná",J157,0) -> 0 | BF157: =IF(N157="znížená",J157,0) -> 0 | BG157: =IF(N157="zákl. prenesená",J157,0) -> 0 | BH157: =IF(N157="zníž. prenesená",J157,0) -> 0 | BI157: =IF(N157="nulová",J157,0) -> 0 | BJ157: 2 | BK157: =ROUND(I157*H157,3) -> 0 | BL157: 4 | BM157: 44
C158: 17 | D158: K | E158: 327351211 | F158: Debnenie múrov oporných zvislých aj sklonených, výšky do 20 m zhotovenie | G158: m2 | H158: 22 | J158: =ROUND(I158*H158,3) -> 0 | N158: znížená | O158: 0 | P158: =O158*H158 -> 0 | Q158: 0 | R158: =Q158*H158 -> 0 | S158: 0 | T158: =S158*H158 -> 0 | AR158: 4 | AT158: K | AU158: 2 | AY158: ROZPOCET | BE158: =IF(N158="základná",J158,0) -> 0 | BF158: =IF(N158="znížená",J158,0) -> 0 | BG158: =IF(N158="zákl. prenesená",J158,0) -> 0 | BH158: =IF(N158="zníž. prenesená",J158,0) -> 0 | BI158: =IF(N158="nulová",J158,0) -> 0 | BJ158: 2 | BK158: =ROUND(I158*H158,3) -> 0 | BL158: 4 | BM158: 46
C159: 18 | D159: K | E159: 327351221 | F159: Debnenie múrov a valov zvislých aj sklonených, výšky do 20 m odstránenie | G159: m2 | H159: 22 | J159: =ROUND(I159*H159,3) -> 0 | N159: znížená | O159: 0 | P159: =O159*H159 -> 0 | Q159: 0 | R159: =Q159*H159 -> 0 | S159: 0 | T159: =S159*H159 -> 0 | AR159: 4 | AT159: K | AU159: 2 | AY159: ROZPOCET | BE159: =IF(N159="základná",J159,0) -> 0 | BF159: =IF(N159="znížená",J159,0) -> 0 | BG159: =IF(N159="zákl. prenesená",J159,0) -> 0 | BH159: =IF(N159="zníž. prenesená",J159,0) -> 0 | BI159: =IF(N159="nulová",J159,0) -> 0 | BJ159: 2 | BK159: =ROUND(I159*H159,3) -> 0 | BL159: 4 | BM159: 48
C160: 19 | D160: K | E160: 327361040 | F160: Výstuž múrov oporných zo zváraných sietí | G160: t | H160: 0.31 | J160: =ROUND(I160*H160,3) -> 0 | N160: znížená | O160: 0 | P160: =O160*H160 -> 0 | Q160: 0 | R160: =Q160*H160 -> 0 | S160: 0 | T160: =S160*H160 -> 0 | AR160: 4 | AT160: K | AU160: 2 | AY160: ROZPOCET | BE160: =IF(N160="základná",J160,0) -> 0 | BF160: =IF(N160="znížená",J160,0) -> 0 | BG160: =IF(N160="zákl. prenesená",J160,0) -> 0 | BH160: =IF(N160="zníž. prenesená",J160,0) -> 0 | BI160: =IF(N160="nulová",J160,0) -> 0 | BJ160: 2 | BK160: =ROUND(I160*H160,3) -> 0 | BL160: 4 | BM160: 50
D161: D | E161: 5 | F161: Komunikácie | J161: =BK161 -> 0 | P161: =SUM(P162:P164) -> 0 | R161: =SUM(R162:R164) -> 0 | T161: =SUM(T162:T164) -> 0 | AR161: 1 | AT161: D | AU161: 1 | AY161: ROZPOCET | BK161: =SUM(BK162:BK164) -> 0
C162: 20 | D162: K | E162: 564871111 | F162: Podklad zo štrkodrviny s rozprestretím a zhutnením, po zhutnení hr. 250 mm | G162: m2 | H162: 58.35 | J162: =ROUND(I162*H162,3) -> 0 | N162: znížená | O162: 0 | P162: =O162*H162 -> 0 | Q162: 0 | R162: =Q162*H162 -> 0 | S162: 0 | T162: =S162*H162 -> 0 | AR162: 4 | AT162: K | AU162: 2 | AY162: ROZPOCET | BE162: =IF(N162="základná",J162,0) -> 0 | BF162: =IF(N162="znížená",J162,0) -> 0 | BG162: =IF(N162="zákl. prenesená",J162,0) -> 0 | BH162: =IF(N162="zníž. prenesená",J162,0) -> 0 | BI162: =IF(N162="nulová",J162,0) -> 0 | BJ162: 2 | BK162: =ROUND(I162*H162,3) -> 0 | BL162: 4 | BM162: 52
C163: 21 | D163: K | E163: 564871111 | F163: Podklad zo štrkodrviny s rozprestretím a zhutnením, po zhutnení hr. 250 mm | G163: m2 | H163: 109.8 | J163: =ROUND(I163*H163,3) -> 0 | N163: znížená | O163: 0 | P163: =O163*H163 -> 0 | Q163: 0 | R163: =Q163*H163 -> 0 | S163: 0 | T163: =S163*H163 -> 0 | AR163: 4 | AT163: K | AU163: 2 | AY163: ROZPOCET | BE163: =IF(N163="základná",J163,0) -> 0 | BF163: =IF(N163="znížená",J163,0) -> 0 | BG163: =IF(N163="zákl. prenesená",J163,0) -> 0 | BH163: =IF(N163="zníž. prenesená",J163,0) -> 0 | BI163: =IF(N163="nulová",J163,0) -> 0 | BJ163: 2 | BK163: =ROUND(I163*H163,3) -> 0 | BL163: 4 | BM163: 54
C164: 22 | D164: K | E164: 567124215 | F164: Kryt z betónu PB II tr. C 16/20 hr. 150 mm | G164: m2 | H164: 109.8 | J164: =ROUND(I164*H164,3) -> 0 | N164: znížená | O164: 0 | P164: =O164*H164 -> 0 | Q164: 0 | R164: =Q164*H164 -> 0 | S164: 0 | T164: =S164*H164 -> 0 | AR164: 4 | AT164: K | AU164: 2 | AY164: ROZPOCET | BE164: =IF(N164="základná",J164,0) -> 0 | BF164: =IF(N164="znížená",J164,0) -> 0 | BG164: =IF(N164="zákl. prenesená",J164,0) -> 0 | BH164: =IF(N164="zníž. prenesená",J164,0) -> 0 | BI164: =IF(N164="nulová",J164,0) -> 0 | BJ164: 2 | BK164: =ROUND(I164*H164,3) -> 0 | BL164: 4 | BM164: 56
D165: D | E165: 6 | F165: Úpravy povrchov, podlahy, osadenie | J165: =BK165 -> 0 | P165: =SUM(P166:P175) -> 0 | R165: =SUM(R166:R175) -> 0 | T165: =SUM(T166:T175) -> 0 | AR165: 1 | AT165: D | AU165: 1 | AY165: ROZPOCET | BK165: =SUM(BK166:BK175) -> 0
C166: 23 | D166: K | E166: 612457222 | F166: Vnút. hladká cement. omietka | G166: m2 | H166: 38.35 | J166: =ROUND(I166*H166,3) -> 0 | N166: znížená | O166: 0 | P166: =O166*H166 -> 0 | Q166: 0 | R166: =Q166*H166 -> 0 | S166: 0 | T166: =S166*H166 -> 0 | AR166: 4 | AT166: K | AU166: 2 | AY166: ROZPOCET | BE166: =IF(N166="základná",J166,0) -> 0 | BF166: =IF(N166="znížená",J166,0) -> 0 | BG166: =IF(N166="zákl. prenesená",J166,0) -> 0 | BH166: =IF(N166="zníž. prenesená",J166,0) -> 0 | BI166: =IF(N166="nulová",J166,0) -> 0 | BJ166: 2 | BK166: =ROUND(I166*H166,3) -> 0 | BL166: 4 | BM166: 60
...

Sheet 01.2 - Búracie práce   
L2: >> skryté stĺpce << | AT2: {04f4637d-8173-4df9-83d0-29f09b65a6c8}
AT3: 0
D4: KRYCÍ LIST ROZPOČTU | M4: v --- nižšie sa nachádzajú doplnkové a pomocné údaje k zostavám --- v | AT4: False
D6: Stavba:
E7: ='Rekapitulácia stavby'!K6 -> Stavebné úpravy maštale pre ustajnenie HD, č. 993, k.u. Pčoliné
D8: Objekt:
E9: 01.2 - Búracie práce
D11: JKSO: | I11: KS:
D12: Miesto: | F12: Pčoliné | I12: Dátum: | J12: ='Rekapitulácia stavby'!AN8 -> 45236
D14: Objednávateľ: | I14: IČO:
E15: RotaxArch s.r.o. | I15: IČ DPH:
D17: Zhotoviteľ: | I17: IČO: | J17: ='Rekapitulácia stavby'!AN13
E18: ='Rekapitulácia stavby'!E14 | I18: IČ DPH: | J18: ='Rekapitulácia stavby'!AN14
D20: Projektant: | I20: IČO:
E21: Ing.Mária Salanciová | I21: IČ DPH:
D23: Spracovateľ: | I23: IČO:
E24: Ing.Mária Salanciová | I24: IČ DPH:
D26: Poznámka:
D30: Cena bez DPH | J30: =ROUND(J122, 2) -> 0
F32: Základ dane | I32: Sadzba dane | J32: Výška dane
D33: DPH | E33: základná | F33: =ROUND((SUM(BE122:BE158)), 2) -> 0 | I33: 0.2 | J33: =ROUND(((SUM(BE122:BE158))*I33), 2) -> 0
E34: znížená | F34: =ROUND((SUM(BF122:BF158)), 2) -> 0 | I34: 0.2 | J34: =ROUND(((SUM(BF122:BF158))*I34), 2) -> 0
E35: zákl. prenesená | F35: =ROUND((SUM(BG122:BG158)), 2) -> 0 | I35: 0.2 | J35: =0 -> 0
E36: zníž. prenesená | F36: =ROUND((SUM(BH122:BH158)), 2) -> 0 | I36: 0.2 | J36: =0 -> 0
E37: nulová | F37: =ROUND((SUM(BI122:BI158)), 2) -> 0 | I37: 0 | J37: =0 -> 0
D39: Cena s DPH | G39: v | H39: EUR | J39: =SUM(J30:J37) -> 0
D50: Projektant | G50: Spracovateľ
D61: Dátum a podpis: | F61: Pečiatka | G61: Dátum a podpis: | J61: Pečiatka
D65: Objednávateľ | G65: Zhotoviteľ
D76: Dátum a podpis: | F76: Pečiatka | G76: Dátum a podpis: | J76: Pečiatka
C82: REKAPITULÁCIA ROZPOČTU
C84: Stavba:
E85: =E7 -> Stavebné úpravy maštale pre ustajnenie HD, č. 993, k.u. Pčoliné
C86: Objekt:
E87: =E9 -> 01.2 - Búracie práce
C89: Miesto: | F89: =F12 -> Pčoliné | I89: Dátum: | J89: =IF(J12="","",J12) -> 45236
C91: Objednávateľ: | F91: =E15 -> RotaxArch s.r.o. | I91: Projektant: | J91: =E21 -> Ing.Mária Salanciová
C92: Zhotoviteľ: | F92: =IF(E18="","",E18) | I92: Spracovateľ: | J92: =E24 -> Ing.Mária Salanciová
C94: Kód dielu - Popis | J94: Cena celkom [EUR]
C96: Náklady z rozpočtu | J96: =J122 -> 0 | AU96: -1
D97: HSV - Práce a dodávky HSV | J97: =J123 -> 0
D98: 9 - Ostatné konštrukcie a práce-búranie | J98: =J124 -> 0
D99: PSV - Práce a dodávky PSV | J99: =J143 -> 0
D100: 713 - Izolácie tepelné | J100: =J144 -> 0
D101: 762 - Konštrukcie tesárske | J101: =J149 -> 0
D102: 764 - Konštrukcie klampiarske | J102: =J154 -> 0
C109: ROZPOČET
C111: Stavba:
E112: =E7 -> Stavebné úpravy maštale pre ustajnenie HD, č. 993, k.u. Pčoliné
C113: Objekt:
E114: =E9 -> 01.2 - Búracie práce
C116: Miesto: | F116: =F12 -> Pčoliné | I116: Dátum: | J116: =IF(J12="","",J12) -> 45236
C118: Objednávateľ: | F118: =E15 -> RotaxArch s.r.o. | I118: Projektant: | J118: =E21 -> Ing.Mária Salanciová
C119: Zhotoviteľ: | F119: =IF(E18="","",E18) | I119: Spracovateľ: | J119: =E24 -> Ing.Mária Salanciová
C121: PČ | D121: Typ | E121: Kód | F121: Popis | G121: MJ | H121: Množstvo | I121: J.cena [EUR] | J121: Cena celkom [EUR] | K121: Cenová sústava | N121: DPH | O121: J. Nh [h] | P121: Nh celkom [h] | Q121: J. hmotnosť [t] | R121: Hmotnosť celkom [t] | S121: J. suť [t] | T121: Suť Celkom [t]
C122: Náklady z rozpočtu | J122: =BK122 -> 0 | P122: =P123+P143 -> 0 | R122: =R123+R143 -> 0 | T122: =T123+T143 -> 0 | AT122: D | AU122: -1 | BK122: =BK123+BK143 -> 0
D123: D | E123: HSV | F123: Práce a dodávky HSV | J123: =BK123 -> 0 | P123: =P124 -> 0 | R123: =R124 -> 0 | T123: =T124 -> 0 | AR123: 1 | AT123: D | AU123: 0 | AY123: ROZPOCET | BK123: =BK124 -> 0
D124: D | E124: 9 | F124: Ostatné konštrukcie a práce-búranie | J124: =BK124 -> 0 | P124: =SUM(P125:P142) -> 0 | R124: =SUM(R125:R142) -> 0 | T124: =SUM(T125:T142) -> 0 | AR124: 1 | AT124: D | AU124: 1 | AY124: ROZPOCET | BK124: =SUM(BK125:BK142) -> 0
C125: 1 | D125: K | E125: 965043341.S | F125: Búranie podkladov pod dlažby, liatych dlažieb a mazanín,betón s poterom,teracom hr.do 100 mm, plochy nad 4 m2 -2,20000t | G125: m3 | H125: 10.343 | J125: =ROUND(I125*H125,3) -> 0 | N125: znížená | O125: 0 | P125: =O125*H125 -> 0 | Q125: 0 | R125: =Q125*H125 -> 0 | S125: 0 | T125: =S125*H125 -> 0 | AR125: 4 | AT125: K | AU125: 2 | AY125: ROZPOCET | BE125: =IF(N125="základná",J125,0) -> 0 | BF125: =IF(N125="znížená",J125,0) -> 0 | BG125: =IF(N125="zákl. prenesená",J125,0) -> 0 | BH125: =IF(N125="zníž. prenesená",J125,0) -> 0 | BI125: =IF(N125="nulová",J125,0) -> 0 | BJ125: 2 | BK125: =ROUND(I125*H125,3) -> 0 | BL125: 4 | BM125: 2
D126: VV | F126: 29,55*3,5*0,1 | H126: 10.343 | AT126: VV | AU126: 2 | AV126: 2 | AW126: True | AX126: 0 | AY126: ROZPOCET
D127: VV | F127: Medzisúčet | H127: 10.343 | AT127: VV | AU127: 2 | AV127: 3 | AW127: True | AX127: 0 | AY127: ROZPOCET
D128: VV | F128: Súčet | H128: 10.343 | AT128: VV | AU128: 2 | AV128: 4 | AW128: True | AX128: 1 | AY128: ROZPOCET
C129: 2 | D129: K | E129: 968061112 | F129: Vyvesenie dreveného okenného krídla do suti plochy do 1,5 m2, -0,01200t | G129: ks | H129: 84 | J129: =ROUND(I129*H129,3) -> 0 | N129: znížená | O129: 0 | P129: =O129*H129 -> 0 | Q129: 0 | R129: =Q129*H129 -> 0 | S129: 0 | T129: =S129*H129 -> 0 | AR129: 4 | AT129: K | AU129: 2 | AY129: ROZPOCET | BE129: =IF(N129="základná",J129,0) -> 0 | BF129: =IF(N129="znížená",J129,0) -> 0 | BG129: =IF(N129="zákl. prenesená",J129,0) -> 0 | BH129: =IF(N129="zníž. prenesená",J129,0) -> 0 | BI129: =IF(N129="nulová",J129,0) -> 0 | BJ129: 2 | BK129: =ROUND(I129*H129,3) -> 0 | BL129: 4 | BM129: 4
D130: VV | F130: 84 | H130: 84 | AT130: VV | AU130: 2 | AV130: 2 | AW130: True | AX130: 0 | AY130: ROZPOCET
D131: VV | F131: Súčet | H131: 84 | AT131: VV | AU131: 2 | AV131: 4 | AW131: True | AX131: 1 | AY131: ROZPOCET
C132: 3 | D132: K | E132: 968062558 | F132: Vybúranie drevených vrát plochy do 5 m2, -0,06000t | G132: m2 | H132: 25 | J132: =ROUND(I132*H132,3) -> 0 | N132: znížená | O132: 0 | P132: =O132*H132 -> 0 | Q132: 0 | R132: =Q132*H132 -> 0 | S132: 0 | T132: =S132*H132 -> 0 | AR132: 4 | AT132: K | AU132: 2 | AY132: ROZPOCET | BE132: =IF(N132="základná",J132,0) -> 0 | BF132: =IF(N132="znížená",J132,0) -> 0 | BG132: =IF(N132="zákl. prenesená",J132,0) -> 0 | BH132: =IF(N132="zníž. prenesená",J132,0) -> 0 | BI132: =IF(N132="nulová",J132,0) -> 0 | BJ132: 2 | BK132: =ROUND(I132*H132,3) -> 0 | BL132: 4 | BM132: 6
D133: VV | F133: 2,6*2,5*2+2*2*3 | H133: 25 | AT133: VV | AU133: 2 | AV133: 2 | AW133: True | AX133: 0 | AY133: ROZPOCET
D134: VV | F134: Súčet | H134: 25 | AT134: VV | AU134: 2 | AV134: 4 | AW134: True | AX134: 1 | AY134: ROZPOCET
C135: 4 | D135: K | E135: 9780651011 | F135: Odstránenie zvetralých častí betonových základov | G135: m2 | H135: 72.988 | J135: =ROUND(I135*H135,3) -> 0 | N135: znížená | O135: 0 | P135: =O135*H135 -> 0 | Q135: 0 | R135: =Q135*H135 -> 0 | S135: 0 | T135: =S135*H135 -> 0 | AR135: 4 | AT135: K | AU135: 2 | AY135: ROZPOCET | BE135: =IF(N135="základná",J135,0) -> 0 | BF135: =IF(N135="znížená",J135,0) -> 0 | BG135: =IF(N135="zákl. prenesená",J135,0) -> 0 | BH135: =IF(N135="zníž. prenesená",J135,0) -> 0 | BI135: =IF(N135="nulová",J135,0) -> 0 | BJ135: 2 | BK135: =ROUND(I135*H135,3) -> 0 | BL135: 4 | BM135: 8
D136: VV | F136: 58,39*1,25 | H136: 72.988 | AT136: VV | AU136: 2 | AV136: 2 | AW136: True | AX136: 0 | AY136: ROZPOCET
D137: VV | F137: Súčet | H137: 72.988 | AT137: VV | AU137: 2 | AV137: 4 | AW137: True | AX137: 1 | AY137: ROZPOCET
C138: 5 | D138: K | E138: 979081111 | F138: Odvoz sutiny a vybúraných hmôt na skládku do 1 km | G138: t | H138: 22.75 | J138: =ROUND(I138*H138,3) -> 0 | N138: znížená | O138: 0 | P138: =O138*H138 -> 0 | Q138: 0 | R138: =Q138*H138 -> 0 | S138: 0 | T138: =S138*H138 -> 0 | AR138: 4 | AT138: K | AU138: 2 | AY138: ROZPOCET | BE138: =IF(N138="základná",J138,0) -> 0 | BF138: =IF(N138="znížená",J138,0) -> 0 | BG138: =IF(N138="zákl. prenesená",J138,0) -> 0 | BH138: =IF(N138="zníž. prenesená",J138,0) -> 0 | BI138: =IF(N138="nulová",J138,0) -> 0 | BJ138: 2 | BK138: =ROUND(I138*H138,3) -> 0 | BL138: 4 | BM138: 10
C139: 6 | D139: K | E139: 979081121 | F139: Odvoz sutiny a vybúraných hmôt na skládku za každý ďalší 1 km | G139: t | H139: 68.25 | J139: =ROUND(I139*H139,3) -> 0 | N139: znížená | O139: 0 | P139: =O139*H139 -> 0 | Q139: 0 | R139: =Q139*H139 -> 0 | S139: 0 | T139: =S139*H139 -> 0 | AR139: 4 | AT139: K | AU139: 2 | AY139: ROZPOCET | BE139: =IF(N139="základná",J139,0) -> 0 | BF139: =IF(N139="znížená",J139,0) -> 0 | BG139: =IF(N139="zákl. prenesená",J139,0) -> 0 | BH139: =IF(N139="zníž. prenesená",J139,0) -> 0 | BI139: =IF(N139="nulová",J139,0) -> 0 | BJ139: 2 | BK139: =ROUND(I139*H139,3) -> 0 | BL139: 4 | BM139: 12
D140: VV | F140: 22,75*3 'Prepočítané koeficientom množstva | H140: 68.25 | AT140: VV | AU140: 2 | AV140: 2 | AW140: False | AX140: 1 | AY140: ROZPOCET
C141: 7 | D141: K | E141: 979082111 | F141: Vnútrostavenisková doprava sutiny a vybúraných hmôt do 10 m | G141: t | H141: 22.75 | J141: =ROUND(I141*H141,3) -> 0 | N141: znížená | O141: 0 | P141: =O141*H141 -> 0 | Q141: 0 | R141: =Q141*H141 -> 0 | S141: 0 | T141: =S141*H141 -> 0 | AR141: 4 | AT141: K | AU141: 2 | AY141: ROZPOCET | BE141: =IF(N141="základná",J141,0) -> 0 | BF141: =IF(N141="znížená",J141,0) -> 0 | BG141: =IF(N141="zákl. prenesená",J141,0) -> 0 | BH141: =IF(N141="zníž. prenesená",J141,0) -> 0 | BI141: =IF(N141="nulová",J141,0) -> 0 | BJ141: 2 | BK141: =ROUND(I141*H141,3) -> 0 | BL141: 4 | BM141: 14
C142: 8 | D142: K | E142: 979089012 | F142: Poplatok za skladovanie | G142: t | H142: 22.75 | J142: =ROUND(I142*H142,3) -> 0 | N142: znížená | O142: 0 | P142: =O142*H142 -> 0 | Q142: 0 | R142: =Q142*H142 -> 0 | S142: 0 | T142: =S142*H142 -> 0 | AR142: 4 | AT142: K | AU142: 2 | AY142: ROZPOCET | BE142: =IF(N142="základná",J142,0) -> 0 | BF142: =IF(N142="znížená",J142,0) -> 0 | BG142: =IF(N142="zákl. prenesená",J142,0) -> 0 | BH142: =IF(N142="zníž. prenesená",J142,0) -> 0 | BI142: =IF(N142="nulová",J142,0) -> 0 | BJ142: 2 | BK142: =ROUND(I142*H142,3) -> 0 | BL142: 4 | BM142: 16
D143: D | E143: PSV | F143: Práce a dodávky PSV | J143: =BK143 -> 0 | P143: =P144+P149+P154 -> 0 | R143: =R144+R149+R154 -> 0 | T143: =T144+T149+T154 -> 0 | AR143: 2 | AT143: D | AU143: 0 | AY143: ROZPOCET | BK143: =BK144+BK149+BK154 -> 0
D144: D | E144: 713 | F144: Izolácie tepelné | J144: =BK144 -> 0 | P144: =SUM(P145:P148) -> 0 | R144: =SUM(R145:R148) -> 0 | T144: =SUM(T145:T148) -> 0 | AR144: 2 | AT144: D | AU144: 1 | AY144: ROZPOCET | BK144: =SUM(BK145:BK148) -> 0
C145: 9 | D145: K | E145: 713000078 | F145: Odstránenie tepelnej izolácie striech šikmých lepenej medzi alebo pod krokvy z vláknitých materiálov hr. do 10 cm -0,008t | G145: m2 | H145: 203.639 | J145: =ROUND(I145*H145,3) -> 0 | N145: znížená | O145: 0 | P145: =O145*H145 -> 0 | Q145: 0 | R145: =Q145*H145 -> 0 | S145: 0 | T145: =S145*H145 -> 0 | AR145: 16 | AT145: K | AU145: 2 | AY145: ROZPOCET | BE145: =IF(N145="základná",J145,0) -> 0 | BF145: =IF(N145="znížená",J145,0) -> 0 | BG145: =IF(N145="zákl. prenesená",J145,0) -> 0 | BH145: =IF(N145="zníž. prenesená",J145,0) -> 0 | BI145: =IF(N145="nulová",J145,0) -> 0 | BJ145: 2 | BK145: =ROUND(I145*H145,3) -> 0 | BL145: 16 | BM145: 18
D146: VV | F146: 38,35*(5,9*1,8/2) | H146: 203.639 | AT146: VV | AU146: 2 | AV146: 2 | AW146: True | AX146: 0 | AY146: ROZPOCET
D147: VV | F147: Súčet | H147: 203.639 | AT147: VV | AU147: 2 | AV147: 4 | AW147: True | AX147: 1 | AY147: ROZPOCET
C148: 10 | D148: K | E148: 998713201 | F148: Presun hmôt pre izolácie tepelné v objektoch výšky do 6 m | G148: % | H148: 8.737 | J148: =ROUND(I148*H148,3) -> 0 | N148: znížená | O148: 0 | P148: =O148*H148 -> 0 | Q148: 0 | R148: =Q148*H148 -> 0 | S148: 0 | T148: =S148*H148 -> 0 | AR148: 16 | AT148: K | AU148: 2 | AY148: ROZPOCET | BE148: =IF(N148="základná",J148,0) -> 0 | BF148: =IF(N148="znížená",J148,0) -> 0 | BG148: =IF(N148="zákl. prenesená",J148,0) -> 0 | BH148: =IF(N148="zníž. prenesená",J148,0) -> 0 | BI148: =IF(N148="nulová",J148,0) -> 0 | BJ148: 2 | BK148: =ROUND(I148*H148,3) -> 0 | BL148: 16 | BM148: 20
D149: D | E149: 762 | F149: Konštrukcie tesárske | J149: =BK149 -> 0 | P149: =SUM(P150:P153) -> 0 | R149: =SUM(R150:R153) -> 0 | T149: =SUM(T150:T153) -> 0 | AR149: 2 | AT149: D | AU149: 1 | AY149: ROZPOCET | BK149: =SUM(BK150:BK153) -> 0
C150: 11 | D150: K | E150: 762341811 | F150: Demontáž debnenia striech rovných, oblúkových do 60°, z dosiek hrubých, hobľovaných, -0.01600t | G150: m2 | H150: 474.006 | J150: =ROUND(I150*H150,3) -> 0 | N150: znížená | O150: 0 | P150: =O150*H150 -> 0 | Q150: 0 | R150: =Q150*H150 -> 0 | S150: 0 | T150: =S150*H150 -> 0 | AR150: 16 | AT150: K | AU150: 2 | AY150: ROZPOCET | BE150: =IF(N150="základná",J150,0) -> 0 | BF150: =IF(N150="znížená",J150,0) -> 0 | BG150: =IF(N150="zákl. prenesená",J150,0) -> 0 | BH150: =IF(N150="zníž. prenesená",J150,0) -> 0 | BI150: =IF(N150="nulová",J150,0) -> 0 | BJ150: 2 | BK150: =ROUND(I150*H150,3) -> 0 | BL150: 16 | BM150: 22
D151: VV | F151: 38,35*6,18*2 | H151: 474.006 | AT151: VV | AU151: 2 | AV151: 2 | AW151: True | AX151: 0 | AY151: ROZPOCET
D152: VV | F152: Súčet | H152: 474.006 | AT152: VV | AU152: 2 | AV152: 4 | AW152: True | AX152: 1 | AY152: ROZPOCET
C153: 12 | D153: K | E153: 998762202 | F153: Presun hmôt pre konštrukcie tesárske v objektoch výšky do 12 m | G153: % | H153: 10.89 | J153: =ROUND(I153*H153,3) -> 0 | N153: znížená | O153: 0 | P153: =O153*H153 -> 0 | Q153: 0 | R153: =Q153*H153 -> 0 | S153: 0 | T153: =S153*H153 -> 0 | AR153: 16 | AT153: K | AU153: 2 | AY153: ROZPOCET | BE153: =IF(N153="základná",J153,0) -> 0 | BF153: =IF(N153="znížená",J153,0) -> 0 | BG153: =IF(N153="zákl. prenesená",J153,0) -> 0 | BH153: =IF(N153="zníž. prenesená",J153,0) -> 0 | BI153: =IF(N153="nulová",J153,0) -> 0 | BJ153: 2 | BK153: =ROUND(I153*H153,3) -> 0 | BL153: 16 | BM153: 24
D154: D | E154: 764 | F154: Konštrukcie klampiarske | J154: =BK154 -> 0 | P154: =SUM(P155:P158) -> 0 | R154: =SUM(R155:R158) -> 0 | T154: =SUM(T155:T158) -> 0 | AR154: 2 | AT154: D | AU154: 1 | AY154: ROZPOCET | BK154: =SUM(BK155:BK158) -> 0
C155: 13 | D155: K | E155: 764311822.S | F155: Demontáž krytiny hladkej strešnej z tabúľ 2000 x 1000 mm, so sklonom do 30st., -0,00732t | G155: m2 | H155: 474.006 | J155: =ROUND(I155*H155,3) -> 0 | N155: znížená | O155: 0 | P155: =O155*H155 -> 0 | Q155: 0 | R155: =Q155*H155 -> 0 | S155: 0 | T155: =S155*H155 -> 0 | AR155: 16 | AT155: K | AU155: 2 | AY155: ROZPOCET | BE155: =IF(N155="základná",J155,0) -> 0 | BF155: =IF(N155="znížená",J155,0) -> 0 | BG155: =IF(N155="zákl. prenesená",J155,0) -> 0 | BH155: =IF(N155="zníž. prenesená",J155,0) -> 0 | BI155: =IF(N155="nulová",J155,0) -> 0 | BJ155: 2 | BK155: =ROUND(I155*H155,3) -> 0 | BL155: 16 | BM155: 26
D156: VV | F156: 38,35*6,18*2 | H156: 474.006 | AT156: VV | AU156: 2 | AV156: 2 | AW156: True | AX156: 0 | AY156: ROZPOCET
D157: VV | F157: Súčet | H157: 474.006 | AT157: VV | AU157: 2 | AV157: 4 | AW157: True | AX157: 1 | AY157: ROZPOCET
C158: 14 | D158: K | E158: 998764201 | F158: Presun hmôt pre konštrukcie klampiarske v objektoch výšky do 6 m | G158: % | H158: 13.775 | J158: =ROUND(I158*H158,3) -> 0 | N158: znížená | O158: 0 | P158: =O158*H158 -> 0 | Q158: 0 | R158: =Q158*H158 -> 0 | S158: 0 | T158: =S158*H158 -> 0 | AR158: 16 | AT158: K | AU158: 2 | AY158: ROZPOCET | BE158: =IF(N158="základná",J158,0) -> 0 | BF158: =IF(N158="znížená",J158,0) -> 0 | BG158: =IF(N158="zákl. prenesená",J158,0) -> 0 | BH158: =IF(N158="zníž. prenesená",J158,0) -> 0 | BI158: =IF(N158="nulová",J158,0) -> 0 | BJ158: 2 | BK158: =ROUND(I158*H158,3) -> 0 | BL158: 16 | BM158: 28

Sheet 01.3 - Kanalizačná prípoj...
L2: >> skryté stĺpce << | AT2: {20570ff2-ca2e-4e30-83fb-94e4e181da48}
AT3: 0
D4: KRYCÍ LIST ROZPOČTU | M4: v --- nižšie sa nachádzajú doplnkové a pomocné údaje k zostavám --- v | AT4: False
D6: Stavba:
E7: ='Rekapitulácia stavby'!K6 -> Stavebné úpravy maštale pre ustajnenie HD, č. 993, k.u. Pčoliné
D8: Objekt:
E9: 01.3 - Kanalizačná prípojka
D11: JKSO: | I11: KS:
D12: Miesto: | F12: Pčoliné | I12: Dátum: | J12: ='Rekapitulácia stavby'!AN8 -> 45236
D14: Objednávateľ: | I14: IČO:
E15: RotaxArch s.r.o. | I15: IČ DPH:
D17: Zhotoviteľ: | I17: IČO: | J17: ='Rekapitulácia stavby'!AN13
E18: ='Rekapitulácia stavby'!E14 | I18: IČ DPH: | J18: ='Rekapitulácia stavby'!AN14
D20: Projektant: | I20: IČO:
E21: Ing.Mária Salanciová | I21: IČ DPH:
D23: Spracovateľ: | I23: IČO:
E24: Ing.Mária Salanciová | I24: IČ DPH:
D26: Poznámka:
D30: Cena bez DPH | J30: =ROUND(J121, 2) -> 0
F32: Základ dane | I32: Sadzba dane | J32: Výška dane
D33: DPH | E33: základná | F33: =ROUND((SUM(BE121:BE140)), 2) -> 0 | I33: 0.2 | J33: =ROUND(((SUM(BE121:BE140))*I33), 2) -> 0
E34: znížená | F34: =ROUND((SUM(BF121:BF140)), 2) -> 0 | I34: 0.2 | J34: =ROUND(((SUM(BF121:BF140))*I34), 2) -> 0
E35: zákl. prenesená | F35: =ROUND((SUM(BG121:BG140)), 2) -> 0 | I35: 0.2 | J35: =0 -> 0
E36: zníž. prenesená | F36: =ROUND((SUM(BH121:BH140)), 2) -> 0 | I36: 0.2 | J36: =0 -> 0
E37: nulová | F37: =ROUND((SUM(BI121:BI140)), 2) -> 0 | I37: 0 | J37: =0 -> 0
D39: Cena s DPH | G39: v | H39: EUR | J39: =SUM(J30:J37) -> 0
D50: Projektant | G50: Spracovateľ
D61: Dátum a podpis: | F61: Pečiatka | G61: Dátum a podpis: | J61: Pečiatka
D65: Objednávateľ | G65: Zhotoviteľ
D76: Dátum a podpis: | F76: Pečiatka | G76: Dátum a podpis: | J76: Pečiatka
C82: REKAPITULÁCIA ROZPOČTU
C84: Stavba:
E85: =E7 -> Stavebné úpravy maštale pre ustajnenie HD, č. 993, k.u. Pčoliné
C86: Objekt:
E87: =E9 -> 01.3 - Kanalizačná prípojka
C89: Miesto: | F89: =F12 -> Pčoliné | I89: Dátum: | J89: =IF(J12="","",J12) -> 45236
C91: Objednávateľ: | F91: =E15 -> RotaxArch s.r.o. | I91: Projektant: | J91: =E21 -> Ing.Mária Salanciová
C92: Zhotoviteľ: | F92: =IF(E18="","",E18) | I92: Spracovateľ: | J92: =E24 -> Ing.Mária Salanciová
C94: Kód dielu - Popis | J94: Cena celkom [EUR]
C96: Náklady z rozpočtu | J96: =J121 -> 0 | AU96: -1
D97: HSV - Práce a dodávky HSV | J97: =J122 -> 0
D98: 1 - Zemné práce | J98: =J123 -> 0
D99: 4 - Vodorovné konštrukcie | J99: =J131 -> 0
D100: 8 - Rúrové vedenie | J100: =J133 -> 0
D101: 99 - Presun hmôt HSV | J101: =J139 -> 0
C108: ROZPOČET
C110: Stavba:
E111: =E7 -> Stavebné úpravy maštale pre ustajnenie HD, č. 993, k.u. Pčoliné
C112: Objekt:
E113: =E9 -> 01.3 - Kanalizačná prípojka
C115: Miesto: | F115: =F12 -> Pčoliné | I115: Dátum: | J115: =IF(J12="","",J12) -> 45236
C117: Objednávateľ: | F117: =E15 -> RotaxArch s.r.o. | I117: Projektant: | J117: =E21 -> Ing.Mária Salanciová
C118: Zhotoviteľ: | F118: =IF(E18="","",E18) | I118: Spracovateľ: | J118: =E24 -> Ing.Mária Salanciová
C120: PČ | D120: Typ | E120: Kód | F120: Popis | G120: MJ | H120: Množstvo | I120: J.cena [EUR] | J120: Cena celkom [EUR] | K120: Cenová sústava | N120: DPH | O120: J. Nh [h] | P120: Nh celkom [h] | Q120: J. hmotnosť [t] | R120: Hmotnosť celkom [t] | S120: J. suť [t] | T120: Suť Celkom [t]
C121: Náklady z rozpočtu | J121: =BK121 -> 0 | P121: =P122 -> 44.7512 | R121: =R122 -> 0 | T121: =T122 -> 0 | AT121: D | AU121: -1 | BK121: =BK122 -> 0
D122: D | E122: HSV | F122: Práce a dodávky HSV | J122: =BK122 -> 0 | P122: =P123+P131+P133+P139 -> 44.7512 | R122: =R123+R131+R133+R139 -> 0 | T122: =T123+T131+T133+T139 -> 0 | AR122: 1 | AT122: D | AU122: 0 | AY122: ROZPOCET | BK122: =BK123+BK131+BK133+BK139 -> 0
D123: D | E123: 1 | F123: Zemné práce | J123: =BK123 -> 0 | P123: =SUM(P124:P130) -> 44.7512 | R123: =SUM(R124:R130) -> 0 | T123: =SUM(T124:T130) -> 0 | AR123: 1 | AT123: D | AU123: 1 | AY123: ROZPOCET | BK123: =SUM(BK124:BK130) -> 0
C124: 1 | D124: K | E124: 131201101.S | F124: Výkop nezapaženej jamy v hornine 3, do 100 m3 | G124: m3 | H124: 20 | J124: =ROUND(I124*H124,3) -> 0 | N124: znížená | O124: 0.838 | P124: =O124*H124 -> 16.76 | Q124: 0 | R124: =Q124*H124 -> 0 | S124: 0 | T124: =S124*H124 -> 0 | AR124: 4 | AT124: K | AU124: 2 | AY124: ROZPOCET | BE124: =IF(N124="základná",J124,0) -> 0 | BF124: =IF(N124="znížená",J124,0) -> 0 | BG124: =IF(N124="zákl. prenesená",J124,0) -> 0 | BH124: =IF(N124="zníž. prenesená",J124,0) -> 0 | BI124: =IF(N124="nulová",J124,0) -> 0 | BJ124: 2 | BK124: =ROUND(I124*H124,3) -> 0 | BL124: 4 | BM124: -1736308315
D125: VV | F125: 20 | H125: 20 | AT125: VV | AU125: 2 | AV125: 2 | AW125: True | AX125: 1 | AY125: ROZPOCET
C126: 2 | D126: K | E126: 131201109.S | F126: Hĺbenie nezapažených jám a zárezov. Príplatok za lepivosť horniny 3 | G126: m3 | H126: 20 | J126: =ROUND(I126*H126,3) -> 0 | N126: znížená | O126: 0.042 | P126: =O126*H126 -> 0.84 | Q126: 0 | R126: =Q126*H126 -> 0 | S126: 0 | T126: =S126*H126 -> 0 | AR126: 4 | AT126: K | AU126: 2 | AY126: ROZPOCET | BE126: =IF(N126="základná",J126,0) -> 0 | BF126: =IF(N126="znížená",J126,0) -> 0 | BG126: =IF(N126="zákl. prenesená",J126,0) -> 0 | BH126: =IF(N126="zníž. prenesená",J126,0) -> 0 | BI126: =IF(N126="nulová",J126,0) -> 0 | BJ126: 2 | BK126: =ROUND(I126*H126,3) -> 0 | BL126: 4 | BM126: 782075998
C127: 3 | D127: K | E127: 132201101.S | F127: Výkop ryhy do šírky 600 mm v horn.3 do 100 m3 | G127: m3 | H127: 10.8 | J127: =ROUND(I127*H127,3) -> 0 | N127: znížená | O127: 2.514 | P127: =O127*H127 -> 27.1512 | Q127: 0 | R127: =Q127*H127 -> 0 | S127: 0 | T127: =S127*H127 -> 0 | AR127: 4 | AT127: K | AU127: 2 | AY127: ROZPOCET | BE127: =IF(N127="základná",J127,0) -> 0 | BF127: =IF(N127="znížená",J127,0) -> 0 | BG127: =IF(N127="zákl. prenesená",J127,0) -> 0 | BH127: =IF(N127="zníž. prenesená",J127,0) -> 0 | BI127: =IF(N127="nulová",J127,0) -> 0 | BJ127: 2 | BK127: =ROUND(I127*H127,3) -> 0 | BL127: 4 | BM127: -1340671177
D128: VV | F128: 10,8 | H128: 10.8 | AT128: VV | AU128: 2 | AV128: 2 | AW128: True | AX128: 1 | AY128: ROZPOCET
C129: 4 | D129: K | E129: 175101102 | F129: Obsyp potrubia sypaninou z vhodných hornín 1 až 4 s prehodením sypaniny | G129: m3 | H129: 30.8 | J129: =ROUND(I129*H129,3) -> 0 | N129: znížená | O129: 0 | P129: =O129*H129 -> 0 | Q129: 0 | R129: =Q129*H129 -> 0 | S129: 0 | T129: =S129*H129 -> 0 | AR129: 4 | AT129: K | AU129: 2 | AY129: ROZPOCET | BE129: =IF(N129="základná",J129,0) -> 0 | BF129: =IF(N129="znížená",J129,0) -> 0 | BG129: =IF(N129="zákl. prenesená",J129,0) -> 0 | BH129: =IF(N129="zníž. prenesená",J129,0) -> 0 | BI129: =IF(N129="nulová",J129,0) -> 0 | BJ129: 2 | BK129: =ROUND(I129*H129,3) -> 0 | BL129: 4 | BM129: 14
C130: 5 | D130: M | E130: 583310000800 | F130: Kamenivo ťažené drobné frakcia 0-4 mm, STN EN 13242 + A1 | G130: t | H130: 4.097 | J130: =ROUND(I130*H130,3) -> 0 | N130: znížená | O130: 0 | P130: =O130*H130 -> 0 | Q130: 0 | R130: =Q130*H130 -> 0 | S130: 0 | T130: =S130*H130 -> 0 | AR130: 8 | AT130: M | AU130: 2 | AY130: ROZPOCET | BE130: =IF(N130="základná",J130,0) -> 0 | BF130: =IF(N130="znížená",J130,0) -> 0 | BG130: =IF(N130="zákl. prenesená",J130,0) -> 0 | BH130: =IF(N130="zníž. prenesená",J130,0) -> 0 | BI130: =IF(N130="nulová",J130,0) -> 0 | BJ130: 2 | BK130: =ROUND(I130*H130,3) -> 0 | BL130: 4 | BM130: 16
D131: D | E131: 4 | F131: Vodorovné konštrukcie | J131: =BK131 -> 0 | P131: =P132 -> 0 | R131: =R132 -> 0 | T131: =T132 -> 0 | AR131: 1 | AT131: D | AU131: 1 | AY131: ROZPOCET | BK131: =BK132 -> 0
C132: 6 | D132: K | E132: 451572111 | F132: Lôžko pod potrubie, stoky a drobné objekty, v otvorenom výkope z kameniva drobného ťaženého 0-4 mm | G132: m3 | H132: 0.9 | J132: =ROUND(I132*H132,3) -> 0 | N132: znížená | O132: 0 | P132: =O132*H132 -> 0 | Q132: 0 | R132: =Q132*H132 -> 0 | S132: 0 | T132: =S132*H132 -> 0 | AR132: 4 | AT132: K | AU132: 2 | AY132: ROZPOCET | BE132: =IF(N132="základná",J132,0) -> 0 | BF132: =IF(N132="znížená",J132,0) -> 0 | BG132: =IF(N132="zákl. prenesená",J132,0) -> 0 | BH132: =IF(N132="zníž. prenesená",J132,0) -> 0 | BI132: =IF(N132="nulová",J132,0) -> 0 | BJ132: 2 | BK132: =ROUND(I132*H132,3) -> 0 | BL132: 4 | BM132: 20
D133: D | E133: 8 | F133: Rúrové vedenie | J133: =BK133 -> 0 | P133: =SUM(P134:P138) -> 0 | R133: =SUM(R134:R138) -> 0 | T133: =SUM(T134:T138) -> 0 | AR133: 1 | AT133: D | AU133: 1 | AY133: ROZPOCET | BK133: =SUM(BK134:BK138) -> 0
C134: 7 | D134: K | E134: 831372121 | F134: Montáž potrubia z rúr kamenin. tesnených gumovými krúžkami v sklone do 20 % DN 300 | G134: m | H134: 10 | J134: =ROUND(I134*H134,3) -> 0 | N134: znížená | O134: 0 | P134: =O134*H134 -> 0 | Q134: 0 | R134: =Q134*H134 -> 0 | S134: 0 | T134: =S134*H134 -> 0 | AR134: 4 | AT134: K | AU134: 2 | AY134: ROZPOCET | BE134: =IF(N134="základná",J134,0) -> 0 | BF134: =IF(N134="znížená",J134,0) -> 0 | BG134: =IF(N134="zákl. prenesená",J134,0) -> 0 | BH134: =IF(N134="zníž. prenesená",J134,0) -> 0 | BI134: =IF(N134="nulová",J134,0) -> 0 | BJ134: 2 | BK134: =ROUND(I134*H134,3) -> 0 | BL134: 4 | BM134: 22
C135: 8 | D135: M | E135: 597110001600 | F135: Kameninová hrdlová rúra, DN 300 | G135: m | H135: 10 | J135: =ROUND(I135*H135,3) -> 0 | N135: znížená | O135: 0 | P135: =O135*H135 -> 0 | Q135: 0 | R135: =Q135*H135 -> 0 | S135: 0 | T135: =S135*H135 -> 0 | AR135: 8 | AT135: M | AU135: 2 | AY135: ROZPOCET | BE135: =IF(N135="základná",J135,0) -> 0 | BF135: =IF(N135="znížená",J135,0) -> 0 | BG135: =IF(N135="zákl. prenesená",J135,0) -> 0 | BH135: =IF(N135="zníž. prenesená",J135,0) -> 0 | BI135: =IF(N135="nulová",J135,0) -> 0 | BJ135: 2 | BK135: =ROUND(I135*H135,3) -> 0 | BL135: 4 | BM135: 24
C136: 9 | D136: K | E136: 831429011 | F136: Demontáž kanalizačného potrubia z kameninových rúr -0,306 t | G136: m | H136: 10 | J136: =ROUND(I136*H136,3) -> 0 | N136: znížená | O136: 0 | P136: =O136*H136 -> 0 | Q136: 0 | R136: =Q136*H136 -> 0 | S136: 0 | T136: =S136*H136 -> 0 | AR136: 4 | AT136: K | AU136: 2 | AY136: ROZPOCET | BE136: =IF(N136="základná",J136,0) -> 0 | BF136: =IF(N136="znížená",J136,0) -> 0 | BG136: =IF(N136="zákl. prenesená",J136,0) -> 0 | BH136: =IF(N136="zníž. prenesená",J136,0) -> 0 | BI136: =IF(N136="nulová",J136,0) -> 0 | BJ136: 2 | BK136: =ROUND(I136*H136,3) -> 0 | BL136: 4 | BM136: 26
C137: 10 | D137: K | E137: 892371000 | F137: Skúška tesnosti kanalizácie D 300 | G137: m | H137: 10 | J137: =ROUND(I137*H137,3) -> 0 | N137: znížená | O137: 0 | P137: =O137*H137 -> 0 | Q137: 0 | R137: =Q137*H137 -> 0 | S137: 0 | T137: =S137*H137 -> 0 | AR137: 4 | AT137: K | AU137: 2 | AY137: ROZPOCET | BE137: =IF(N137="základná",J137,0) -> 0 | BF137: =IF(N137="znížená",J137,0) -> 0 | BG137: =IF(N137="zákl. prenesená",J137,0) -> 0 | BH137: =IF(N137="zníž. prenesená",J137,0) -> 0 | BI137: =IF(N137="nulová",J137,0) -> 0 | BJ137: 2 | BK137: =ROUND(I137*H137,3) -> 0 | BL137: 4 | BM137: 28
C138: 11 | D138: K | E138: 894213119 | F138: Vyspravenie a oprava existujúcej žumpy | G138: ks | H138: 1 | J138: =ROUND(I138*H138,3) -> 0 | N138: znížená | O138: 0 | P138: =O138*H138 -> 0 | Q138: 0 | R138: =Q138*H138 -> 0 | S138: 0 | T138: =S138*H138 -> 0 | AR138: 4 | AT138: K | AU138: 2 | AY138: ROZPOCET | BE138: =IF(N138="základná",J138,0) -> 0 | BF138: =IF(N138="znížená",J138,0) -> 0 | BG138: =IF(N138="zákl. prenesená",J138,0) -> 0 | BH138: =IF(N138="zníž. prenesená",J138,0) -> 0 | BI138: =IF(N138="nulová",J138,0) -> 0 | BJ138: 2 | BK138: =ROUND(I138*H138,3) -> 0 | BL138: 4 | BM138: 30
D139: D | E139: 99 | F139: Presun hmôt HSV | J139: =BK139 -> 0 | P139: =P140 -> 0 | R139: =R140 -> 0 | T139: =T140 -> 0 | AR139: 1 | AT139: D | AU139: 1 | AY139: ROZPOCET | BK139: =BK140 -> 0
C140: 12 | D140: K | E140: 998274101.S | F140: Presun hmôt pre rúrové vedenie hĺbené z rúr v otvorenom výkope | G140: t | H140: 2.716 | J140: =ROUND(I140*H140,3) -> 0 | N140: znížená | O140: 0 | P140: =O140*H140 -> 0 | Q140: 0 | R140: =Q140*H140 -> 0 | S140: 0 | T140: =S140*H140 -> 0 | AR140: 4 | AT140: K | AU140: 2 | AY140: ROZPOCET | BE140: =IF(N140="základná",J140,0) -> 0 | BF140: =IF(N140="znížená",J140,0) -> 0 | BG140: =IF(N140="zákl. prenesená",J140,0) -> 0 | BH140: =IF(N140="zníž. prenesená",J140,0) -> 0 | BI140: =IF(N140="nulová",J140,0) -> 0 | BJ140: 2 | BK140: =ROUND(I140*H140,3) -> 0 | BL140: 4 | BM140: 32
