Workbook

Sheet Rekapitulácia stavby
A1: Export Komplet | BA1: 2.0 | BT1: False | BU1: False | BV1: {61764f8c-6385-4d62-839f-9778cb63819c}
AR2: >> skryté stĺpce << | BS2: 0,001 | BT2: 20
BS3: 0,001 | BT3: 20
D4: REKAPITULÁCIA STAVBY | AS4: v --- nižšie sa nachádzajú doplnkové a pomocné údaje k zostavám --- v | BS4: 0,001
D5: Kód: | K5: PV498 | BS5: 0,001
D6: Stavba: | K6: Sklad bio strukovín a maku - prestavba | BS6: 0,001
D7: JKSO: | AK7: KS: | BS7: 0,001
D8: Miesto: | K8: Patince časť Potkanovo | AK8: Dátum: | BS8: 0,001
BS9: 0,001
D10: Objednávateľ: | AK10: IČO: | BS10: 0,001
E11: Villem & Forró, s.r.o. | AK11: IČ DPH: | BS11: 0,001
BS12: 0,001
D13: Zhotoviteľ: | AK13: IČO: | BS13: 0,001
AK14: IČ DPH: | BS14: 0,001
BS15: False
D16: Projektant: | AK16: IČO: | BS16: False
AK17: IČ DPH: | BS17: True
BS18: 0,01
D19: Spracovateľ: | AK19: IČO: | BS19: 0,01
AK20: IČ DPH: | BS20: True
D22: Poznámka:
D26: Náklady z rozpočtov | AK26: =ROUND(AG94,2) -> 0
D27: Ostatné náklady zo súhrnného listu | AK27: =ROUND(AG101, 2) -> 0
D29: Cena bez DPH | AK29: =ROUND(AK26 + AK27, 2) -> 0
L31: Sadzba dane | W31: Základ dane | AK31: Výška dane
D32: DPH | F32: základná | L32: 0.2 | W32: =ROUND(AZ94 + SUM(CD101), 2) -> 0 | AK32: =ROUND(AV94 + SUM(BY101), 2) -> 0
F33: znížená | L33: 0.2 | W33: =ROUND(BA94 + SUM(CE101), 2) -> 0 | AK33: =ROUND(AW94 + SUM(BZ101), 2) -> 0
F34: zákl. prenesená | L34: 0.2 | W34: =ROUND(BB94 + SUM(CF101), 2) -> 0 | AK34: 0
F35: zníž. prenesená | L35: 0.2 | W35: =ROUND(BC94 + SUM(CG101), 2) -> 0 | AK35: 0
F36: nulová | L36: 0 | W36: =ROUND(BD94 + SUM(CH101), 2) -> 0 | AK36: 0
D38: Cena s DPH | T38: v | X38: EUR | AK38: =SUM(AK29:AK36) -> 0
D49: Projektant | AH49: Spracovateľ
D60: Dátum a podpis: | V60: Pečiatka | AH60: Dátum a podpis: | AM60: Pečiatka
D64: Objednávateľ | AH64: Zhotoviteľ
D75: Dátum a podpis: | V75: Pečiatka | AH75: Dátum a podpis: | AM75: Pečiatka
C82: REKAPITULÁCIA OBJEKTOV STAVBY
C84: Kód: | L84: =K5 -> PV498
C85: Stavba: | L85: =K6 -> Sklad bio strukovín a maku - prestavba
C87: Miesto: | L87: =IF(K8="","",K8) -> Patince časť Potkanovo | AI87: Dátum: | AM87: =IF(AN8= "","",AN8)
C89: Objednávateľ: | L89: =IF(E11= "","",E11) -> Villem & Forró, s.r.o. | AI89: Projektant: | AM89: =IF(E17="","",E17) | AS89: Informatívne údaje z listov zákaziek
...

Sheet 01 - SO 01 - Sklad bio st...
L2: >> skryté stĺpce << | AT2: {a04b2b0a-f503-401e-a093-be1906dd3c72}
AT3: 0
D4: KRYCÍ LIST ROZPOČTU | M4: v --- nižšie sa nachádzajú doplnkové a pomocné údaje k zostavám --- v | AT4: False
D6: Stavba:
E7: ='Rekapitulácia stavby'!K6 -> Sklad bio strukovín a maku - prestavba
D8: Objekt:
E9: 01 - SO 01 - Sklad bio strukovín a maku - prestavba
D11: JKSO: | I11: KS:
D12: Miesto: | F12: Patince časť Potkanovo | I12: Dátum:
D14: Objednávateľ: | I14: IČO:
E15: Villem & Forró, s.r.o. | I15: IČ DPH:
D17: Zhotoviteľ: | I17: IČO: | J17: ='Rekapitulácia stavby'!AN13
E18: ='Rekapitulácia stavby'!E14 | I18: IČ DPH: | J18: ='Rekapitulácia stavby'!AN14
D20: Projektant: | I20: IČO:
I21: IČ DPH:
D23: Spracovateľ: | I23: IČO: | J23: =IF('Rekapitulácia stavby'!AN19="","",'Rekapitulácia stavby'!AN19)
E24: =IF('Rekapitulácia stavby'!E20="","",'Rekapitulácia stavby'!E20) | I24: IČ DPH: | J24: =IF('Rekapitulácia stavby'!AN20="","",'Rekapitulácia stavby'!AN20)
D26: Poznámka:
D30: Náklady z rozpočtu | J30: =J96 -> 0
D31: Ostatné náklady | J31: =J110 -> 0
D32: Cena bez DPH | J32: =ROUND(J30 + J31, 2) -> 0
F34: Základ dane | I34: Sadzba dane | J34: Výška dane
D35: DPH | E35: základná | F35: =ROUND((SUM(BE110:BE111) + SUM(BE131:BE190)), 2) -> 0 | I35: 0.2 | J35: =ROUND(((SUM(BE110:BE111) + SUM(BE131:BE190))*I35), 2) -> 0
E36: znížená | F36: =ROUND((SUM(BF110:BF111) + SUM(BF131:BF190)), 2) -> 0 | I36: 0.2 | J36: =ROUND(((SUM(BF110:BF111) + SUM(BF131:BF190))*I36), 2) -> 0
E37: zákl. prenesená | F37: =ROUND((SUM(BG110:BG111) + SUM(BG131:BG190)), 2) -> 0 | I37: 0.2 | J37: =0 -> 0
E38: zníž. prenesená | F38: =ROUND((SUM(BH110:BH111) + SUM(BH131:BH190)), 2) -> 0 | I38: 0.2 | J38: =0 -> 0
E39: nulová | F39: =ROUND((SUM(BI110:BI111) + SUM(BI131:BI190)), 2) -> 0 | I39: 0 | J39: =0 -> 0
D41: Cena s DPH | G41: v | H41: EUR | J41: =SUM(J32:J39) -> 0
D50: Projektant | G50: Spracovateľ
D61: Dátum a podpis: | F61: Pečiatka | G61: Dátum a podpis: | J61: Pečiatka
D65: Objednávateľ | G65: Zhotoviteľ
D76: Dátum a podpis: | F76: Pečiatka | G76: Dátum a podpis: | J76: Pečiatka
C82: REKAPITULÁCIA ROZPOČTU
C84: Stavba:
E85: =E7 -> Sklad bio strukovín a maku - prestavba
C86: Objekt:
E87: =E9 -> 01 - SO 01 - Sklad bio strukovín a maku - prestavba
C89: Miesto: | F89: =F12 -> Patince časť Potkanovo | I89: Dátum: | J89: =IF(J12="","",J12)
C91: Objednávateľ: | F91: =E15 -> Villem & Forró, s.r.o. | I91: Projektant:
C92: Zhotoviteľ: | F92: =IF(E18="","",E18) | I92: Spracovateľ: | J92: =E24
...

Sheet 01_01 - Elektroinštalácia
L2: >> skryté stĺpce << | AT2: {b84f8a1c-4cd1-48a3-92be-047459ac5793}
AT3: 0
D4: KRYCÍ LIST ROZPOČTU | M4: v --- nižšie sa nachádzajú doplnkové a pomocné údaje k zostavám --- v | AT4: False
D6: Stavba:
E7: ='Rekapitulácia stavby'!K6 -> Sklad bio strukovín a maku - prestavba
D8: Objekt:
E9: 01 - SO 01 - Sklad bio strukovín a maku - prestavba
D10: Časť:
E11: 01_01 - Elektroinštalácia
D13: JKSO: | I13: KS:
D14: Miesto: | F14: Patince časť Potkanovo | I14: Dátum:
D16: Objednávateľ: | I16: IČO:
E17: Villem & Forró, s.r.o. | I17: IČ DPH:
D19: Zhotoviteľ: | I19: IČO: | J19: ='Rekapitulácia stavby'!AN13
E20: ='Rekapitulácia stavby'!E14 | I20: IČ DPH: | J20: ='Rekapitulácia stavby'!AN14
D22: Projektant: | I22: IČO:
E23: Ing. Juraj Ďuríček - GYGY PROJEKT s.r.o. | I23: IČ DPH:
D25: Spracovateľ: | I25: IČO: | J25: =IF('Rekapitulácia stavby'!AN19="","",'Rekapitulácia stavby'!AN19)
E26: =IF('Rekapitulácia stavby'!E20="","",'Rekapitulácia stavby'!E20) | I26: IČ DPH: | J26: =IF('Rekapitulácia stavby'!AN20="","",'Rekapitulácia stavby'!AN20)
D28: Poznámka:
D32: Náklady z rozpočtu | J32: =J98 -> 0
D33: Ostatné náklady | J33: =J104 -> 0
D34: Cena bez DPH | J34: =ROUND(J32 + J33, 2) -> 0
F36: Základ dane | I36: Sadzba dane | J36: Výška dane
D37: DPH | E37: základná | F37: =ROUND((SUM(BE104:BE105) + SUM(BE127:BE231)), 2) -> 0 | I37: 0.2 | J37: =ROUND(((SUM(BE104:BE105) + SUM(BE127:BE231))*I37), 2) -> 0
E38: znížená | F38: =ROUND((SUM(BF104:BF105) + SUM(BF127:BF231)), 2) -> 0 | I38: 0.2 | J38: =ROUND(((SUM(BF104:BF105) + SUM(BF127:BF231))*I38), 2) -> 0
E39: zákl. prenesená | F39: =ROUND((SUM(BG104:BG105) + SUM(BG127:BG231)), 2) -> 0 | I39: 0.2 | J39: =0 -> 0
E40: zníž. prenesená | F40: =ROUND((SUM(BH104:BH105) + SUM(BH127:BH231)), 2) -> 0 | I40: 0.2 | J40: =0 -> 0
E41: nulová | F41: =ROUND((SUM(BI104:BI105) + SUM(BI127:BI231)), 2) -> 0 | I41: 0 | J41: =0 -> 0
D43: Cena s DPH | G43: v | H43: EUR | J43: =SUM(J34:J41) -> 0
D50: Projektant | G50: Spracovateľ
D61: Dátum a podpis: | F61: Pečiatka | G61: Dátum a podpis: | J61: Pečiatka
D65: Objednávateľ | G65: Zhotoviteľ
D76: Dátum a podpis: | F76: Pečiatka | G76: Dátum a podpis: | J76: Pečiatka
C82: REKAPITULÁCIA ROZPOČTU
C84: Stavba:
E85: =E7 -> Sklad bio strukovín a maku - prestavba
C86: Objekt:
E87: 01 - SO 01 - Sklad bio strukovín a maku - prestavba
C88: Časť:
...

Sheet 02 - SO 02 - Spevnené plo...
L2: >> skryté stĺpce << | AT2: {8ce0a304-c15e-41fb-96eb-361d6dae27f3}
AT3: 0
D4: KRYCÍ LIST ROZPOČTU | M4: v --- nižšie sa nachádzajú doplnkové a pomocné údaje k zostavám --- v | AT4: False
D6: Stavba:
E7: ='Rekapitulácia stavby'!K6 -> Sklad bio strukovín a maku - prestavba
D8: Objekt:
E9: 02 - SO 02 - Spevnené plochy - nové
D11: JKSO: | I11: KS:
D12: Miesto: | F12: Patince časť Potkanovo | I12: Dátum:
D14: Objednávateľ: | I14: IČO:
E15: Villem & Forró, s.r.o. | I15: IČ DPH:
D17: Zhotoviteľ: | I17: IČO: | J17: ='Rekapitulácia stavby'!AN13
E18: ='Rekapitulácia stavby'!E14 | I18: IČ DPH: | J18: ='Rekapitulácia stavby'!AN14
D20: Projektant: | I20: IČO:
I21: IČ DPH:
D23: Spracovateľ: | I23: IČO: | J23: =IF('Rekapitulácia stavby'!AN19="","",'Rekapitulácia stavby'!AN19)
E24: =IF('Rekapitulácia stavby'!E20="","",'Rekapitulácia stavby'!E20) | I24: IČ DPH: | J24: =IF('Rekapitulácia stavby'!AN20="","",'Rekapitulácia stavby'!AN20)
D26: Poznámka:
D30: Náklady z rozpočtu | J30: =J96 -> 0
D31: Ostatné náklady | J31: =J105 -> 0
D32: Cena bez DPH | J32: =ROUND(J30 + J31, 2) -> 0
F34: Základ dane | I34: Sadzba dane | J34: Výška dane
D35: DPH | E35: základná | F35: =ROUND((SUM(BE105:BE106) + SUM(BE126:BE157)), 2) -> 0 | I35: 0.2 | J35: =ROUND(((SUM(BE105:BE106) + SUM(BE126:BE157))*I35), 2) -> 0
E36: znížená | F36: =ROUND((SUM(BF105:BF106) + SUM(BF126:BF157)), 2) -> 0 | I36: 0.2 | J36: =ROUND(((SUM(BF105:BF106) + SUM(BF126:BF157))*I36), 2) -> 0
E37: zákl. prenesená | F37: =ROUND((SUM(BG105:BG106) + SUM(BG126:BG157)), 2) -> 0 | I37: 0.2 | J37: =0 -> 0
E38: zníž. prenesená | F38: =ROUND((SUM(BH105:BH106) + SUM(BH126:BH157)), 2) -> 0 | I38: 0.2 | J38: =0 -> 0
E39: nulová | F39: =ROUND((SUM(BI105:BI106) + SUM(BI126:BI157)), 2) -> 0 | I39: 0 | J39: =0 -> 0
D41: Cena s DPH | G41: v | H41: EUR | J41: =SUM(J32:J39) -> 0
D50: Projektant | G50: Spracovateľ
D61: Dátum a podpis: | F61: Pečiatka | G61: Dátum a podpis: | J61: Pečiatka
D65: Objednávateľ | G65: Zhotoviteľ
D76: Dátum a podpis: | F76: Pečiatka | G76: Dátum a podpis: | J76: Pečiatka
C82: REKAPITULÁCIA ROZPOČTU
C84: Stavba:
E85: =E7 -> Sklad bio strukovín a maku - prestavba
C86: Objekt:
E87: =E9 -> 02 - SO 02 - Spevnené plochy - nové
C89: Miesto: | F89: =F12 -> Patince časť Potkanovo | I89: Dátum: | J89: =IF(J12="","",J12)
C91: Objednávateľ: | F91: =E15 -> Villem & Forró, s.r.o. | I91: Projektant:
C92: Zhotoviteľ: | F92: =IF(E18="","",E18) | I92: Spracovateľ: | J92: =E24
...

Sheet 03 - SO 03 - Cestná váha ...
L2: >> skryté stĺpce << | AT2: {6388727a-28a1-4d34-885f-bd895d9c52b0}
AT3: 0
D4: KRYCÍ LIST ROZPOČTU | M4: v --- nižšie sa nachádzajú doplnkové a pomocné údaje k zostavám --- v | AT4: False
D6: Stavba:
E7: ='Rekapitulácia stavby'!K6 -> Sklad bio strukovín a maku - prestavba
D8: Objekt:
E9: 03 - SO 03 - Cestná váha - stavebná príprava
D11: JKSO: | I11: KS:
D12: Miesto: | F12: Patince časť Potkanovo | I12: Dátum:
D14: Objednávateľ: | I14: IČO:
E15: Villem & Forró, s.r.o. | I15: IČ DPH:
D17: Zhotoviteľ: | I17: IČO: | J17: ='Rekapitulácia stavby'!AN13
E18: ='Rekapitulácia stavby'!E14 | I18: IČ DPH: | J18: ='Rekapitulácia stavby'!AN14
D20: Projektant: | I20: IČO:
I21: IČ DPH:
D23: Spracovateľ: | I23: IČO: | J23: =IF('Rekapitulácia stavby'!AN19="","",'Rekapitulácia stavby'!AN19)
E24: =IF('Rekapitulácia stavby'!E20="","",'Rekapitulácia stavby'!E20) | I24: IČ DPH: | J24: =IF('Rekapitulácia stavby'!AN20="","",'Rekapitulácia stavby'!AN20)
D26: Poznámka:
D30: Náklady z rozpočtu | J30: =J96 -> 0
D31: Ostatné náklady | J31: =J105 -> 0
D32: Cena bez DPH | J32: =ROUND(J30 + J31, 2) -> 0
F34: Základ dane | I34: Sadzba dane | J34: Výška dane
D35: DPH | E35: základná | F35: =ROUND((SUM(BE105:BE106) + SUM(BE126:BE159)), 2) -> 0 | I35: 0.2 | J35: =ROUND(((SUM(BE105:BE106) + SUM(BE126:BE159))*I35), 2) -> 0
E36: znížená | F36: =ROUND((SUM(BF105:BF106) + SUM(BF126:BF159)), 2) -> 0 | I36: 0.2 | J36: =ROUND(((SUM(BF105:BF106) + SUM(BF126:BF159))*I36), 2) -> 0
E37: zákl. prenesená | F37: =ROUND((SUM(BG105:BG106) + SUM(BG126:BG159)), 2) -> 0 | I37: 0.2 | J37: =0 -> 0
E38: zníž. prenesená | F38: =ROUND((SUM(BH105:BH106) + SUM(BH126:BH159)), 2) -> 0 | I38: 0.2 | J38: =0 -> 0
E39: nulová | F39: =ROUND((SUM(BI105:BI106) + SUM(BI126:BI159)), 2) -> 0 | I39: 0 | J39: =0 -> 0
D41: Cena s DPH | G41: v | H41: EUR | J41: =SUM(J32:J39) -> 0
D50: Projektant | G50: Spracovateľ
D61: Dátum a podpis: | F61: Pečiatka | G61: Dátum a podpis: | J61: Pečiatka
D65: Objednávateľ | G65: Zhotoviteľ
D76: Dátum a podpis: | F76: Pečiatka | G76: Dátum a podpis: | J76: Pečiatka
C82: REKAPITULÁCIA ROZPOČTU
C84: Stavba:
E85: =E7 -> Sklad bio strukovín a maku - prestavba
C86: Objekt:
E87: =E9 -> 03 - SO 03 - Cestná váha - stavebná príprava
C89: Miesto: | F89: =F12 -> Patince časť Potkanovo | I89: Dátum: | J89: =IF(J12="","",J12)
C91: Objednávateľ: | F91: =E15 -> Villem & Forró, s.r.o. | I91: Projektant:
C92: Zhotoviteľ: | F92: =IF(E18="","",E18) | I92: Spracovateľ: | J92: =E24
...
