Workbook

Sheet Rekapitulácia stavby
A1: Export Komplet | BA1: 2.0 | BT1: False | BU1: False | BV1: {61764f8c-6385-4d62-839f-9778cb63819c}
AR2: >> skryté stĺpce << | BS2: 0,001 | BT2: 20
BS3: 0,001 | BT3: 20
D4: REKAPITULÁCIA STAVBY | AS4: v --- nižšie sa nachádzajú doplnkové a pomocné údaje k zostavám --- v | BS4: 0,001
D5: Kód: | K5: PV498 | BS5: 0,001
D6: Stavba: | K6: Sklad bio strukovín a maku - prestavba | BS6: 0,001
D7: JKSO: | AK7: KS: | BS7: 0,001
D8: Miesto: | K8: Patince časť Potkanovo | AK8: Dátum: | BS8: 0,001
BS9: 0,001
D10: Objednávateľ: | AK10: IČO: | BS10: 0,001
E11: Villem & Forró, s.r.o. | AK11: IČ DPH: | BS11: 0,001
BS12: 0,001
D13: Zhotoviteľ: | AK13: IČO: | BS13: 0,001
AK14: IČ DPH: | BS14: 0,001
BS15: False
D16: Projektant: | AK16: IČO: | BS16: False
AK17: IČ DPH: | BS17: True
BS18: 0,01
D19: Spracovateľ: | AK19: IČO: | BS19: 0,01
AK20: IČ DPH: | BS20: True
D22: Poznámka:
D26: Náklady z rozpočtov | AK26: =ROUND(AG94,2) -> 0
D27: Ostatné náklady zo súhrnného listu | AK27: =ROUND(AG101, 2) -> 0
D29: Cena bez DPH | AK29: =ROUND(AK26 + AK27, 2) -> 0
L31: Sadzba dane | W31: Základ dane | AK31: Výška dane
D32: DPH | F32: základná | L32: 0.2 | W32: =ROUND(AZ94 + SUM(CD101), 2) -> 0 | AK32: =ROUND(AV94 + SUM(BY101), 2) -> 0
F33: znížená | L33: 0.2 | W33: =ROUND(BA94 + SUM(CE101), 2) -> 0 | AK33: =ROUND(AW94 + SUM(BZ101), 2) -> 0
F34: zákl. prenesená | L34: 0.2 | W34: =ROUND(BB94 + SUM(CF101), 2) -> 0 | AK34: 0
F35: zníž. prenesená | L35: 0.2 | W35: =ROUND(BC94 + SUM(CG101), 2) -> 0 | AK35: 0
F36: nulová | L36: 0 | W36: =ROUND(BD94 + SUM(CH101), 2) -> 0 | AK36: 0
D38: Cena s DPH | T38: v | X38: EUR | AK38: =SUM(AK29:AK36) -> 0
D49: Projektant | AH49: Spracovateľ
D60: Dátum a podpis: | V60: Pečiatka | AH60: Dátum a podpis: | AM60: Pečiatka
D64: Objednávateľ | AH64: Zhotoviteľ
D75: Dátum a podpis: | V75: Pečiatka | AH75: Dátum a podpis: | AM75: Pečiatka
C82: REKAPITULÁCIA OBJEKTOV STAVBY
C84: Kód: | L84: =K5 -> PV498
C85: Stavba: | L85: =K6 -> Sklad bio strukovín a maku - prestavba
C87: Miesto: | L87: =IF(K8="","",K8) -> Patince časť Potkanovo | AI87: Dátum: | AM87: =IF(AN8= "","",AN8)
C89: Objednávateľ: | L89: =IF(E11= "","",E11) -> Villem & Forró, s.r.o. | AI89: Projektant: | AM89: =IF(E17="","",E17) | AS89: Informatívne údaje z listov zákaziek
C90: Zhotoviteľ: | L90: =IF(E14="","",E14) | AI90: Spracovateľ: | AM90: =IF(E20="","",E20)
C92: Kód | I92: Popis | AG92: Cena bez DPH [EUR] | AN92: Cena s DPH [EUR] | AQ92: Typ | AS92: z toho Ostat._x000D_ náklady [EUR] | AT92: DPH [EUR] | AU92: Normohodiny [h] | AV92: DPH základná [EUR] | AW92: DPH znížená [EUR] | AX92: DPH základná prenesená_x000D_ [EUR] | AY92: DPH znížená prenesená_x000D_ [EUR] | AZ92: Základňa_x000D_ DPH základná | BA92: Základňa_x000D_ DPH znížená | BB92: Základňa_x000D_ DPH zákl. prenesená | BC92: Základňa_x000D_ DPH zníž. prenesená | BD92: Základňa_x000D_ DPH nulová
C94: 1) Náklady z rozpočtov | AG94: =ROUND(AG95+AG98+AG99,2) -> 0 | AN94: =SUM(AG94,AT94) -> 0 | AS94: =ROUND(AS95+AS98+AS99,2) -> 0 | AT94: =ROUND(SUM(AV94:AW94),2) -> 0 | AU94: =ROUND(AU95+AU98+AU99,5) -> 5994.4896 | AV94: =ROUND(AZ94*L32,2) -> 0 | AW94: =ROUND(BA94*L33,2) -> 0 | AX94: =ROUND(BB94*L32,2) -> 0 | AY94: =ROUND(BC94*L33,2) -> 0 | AZ94: =ROUND(AZ95+AZ98+AZ99,2) -> 0 | BA94: =ROUND(BA95+BA98+BA99,2) -> 0 | BB94: =ROUND(BB95+BB98+BB99,2) -> 0 | BC94: =ROUND(BC95+BC98+BC99,2) -> 0 | BD94: =ROUND(BD95+BD98+BD99,2) -> 0 | BS94: D | BT94: 0 | BU94: ###NOIMPORT### | BV94: IMPORT | BW94: {61764f8c-6385-4d62-839f-9778cb63819c} | BX94: {00000000-0000-0000-0000-000000000000}
D95: 01 | J95: SO 01 - Sklad bio strukovín a maku - prestavba | AG95: =ROUND(SUM(AG96:AG97),2) -> 0 | AN95: =SUM(AG95,AT95) -> 0 | AQ95: STA | AS95: =ROUND(SUM(AS96:AS97),2) -> 0 | AT95: =ROUND(SUM(AV95:AW95),2) -> 0 | AU95: =ROUND(SUM(AU96:AU97),5) -> 5031.6537 | AV95: =ROUND(AZ95*L32,2) -> 0 | AW95: =ROUND(BA95*L33,2) -> 0 | AX95: =ROUND(BB95*L32,2) -> 0 | AY95: =ROUND(BC95*L33,2) -> 0 | AZ95: =ROUND(SUM(AZ96:AZ97),2) -> 0 | BA95: =ROUND(SUM(BA96:BA97),2) -> 0 | BB95: =ROUND(SUM(BB96:BB97),2) -> 0 | BC95: =ROUND(SUM(BC96:BC97),2) -> 0 | BD95: =ROUND(SUM(BD96:BD97),2) -> 0 | BS95: D | BT95: 1 | BV95: IMPORT | BW95: {a04b2b0a-f503-401e-a093-be1906dd3c72} | BX95: {61764f8c-6385-4d62-839f-9778cb63819c} | CM95: 0
A96: / | E96: 01 | K96: SO 01 - Sklad bio strukovín a maku - prestavba | AG96: ='01 - SO 01 - Sklad bio st...'!J32 -> 0 | AN96: =SUM(AG96,AT96) -> 0 | AQ96: Časť | AS96: 0 | AT96: =ROUND(SUM(AV96:AW96),2) -> 0 | AU96: ='01 - SO 01 - Sklad bio st...'!P131 -> 5031.6537 | AV96: ='01 - SO 01 - Sklad bio st...'!J35 -> 0 | AW96: ='01 - SO 01 - Sklad bio st...'!J36 -> 0 | AX96: ='01 - SO 01 - Sklad bio st...'!J37 -> 0 | AY96: ='01 - SO 01 - Sklad bio st...'!J38 -> 0 | AZ96: ='01 - SO 01 - Sklad bio st...'!F35 -> 0 | BA96: ='01 - SO 01 - Sklad bio st...'!F36 -> 0 | BB96: ='01 - SO 01 - Sklad bio st...'!F37 -> 0 | BC96: ='01 - SO 01 - Sklad bio st...'!F38 -> 0 | BD96: ='01 - SO 01 - Sklad bio st...'!F39 -> 0 | BT96: 2 | BU96: ###NOINSERT### | BV96: IMPORT | BW96: {a04b2b0a-f503-401e-a093-be1906dd3c72} | BX96: {61764f8c-6385-4d62-839f-9778cb63819c} | CM96: 0
A97: / | E97: 01_01 | K97: Elektroinštalácia | AG97: ='01_01 - Elektroinštalácia'!J34 -> 0 | AN97: =SUM(AG97,AT97) -> 0 | AQ97: Časť | AS97: 0 | AT97: =ROUND(SUM(AV97:AW97),2) -> 0 | AU97: ='01_01 - Elektroinštalácia'!P127 -> 0 | AV97: ='01_01 - Elektroinštalácia'!J37 -> 0 | AW97: ='01_01 - Elektroinštalácia'!J38 -> 0 | AX97: ='01_01 - Elektroinštalácia'!J39 -> 0 | AY97: ='01_01 - Elektroinštalácia'!J40 -> 0 | AZ97: ='01_01 - Elektroinštalácia'!F37 -> 0 | BA97: ='01_01 - Elektroinštalácia'!F38 -> 0 | BB97: ='01_01 - Elektroinštalácia'!F39 -> 0 | BC97: ='01_01 - Elektroinštalácia'!F40 -> 0 | BD97: ='01_01 - Elektroinštalácia'!F41 -> 0 | BT97: 2 | BV97: IMPORT | BW97: {b84f8a1c-4cd1-48a3-92be-047459ac5793} | BX97: {a04b2b0a-f503-401e-a093-be1906dd3c72}
A98: / | D98: 02 | J98: SO 02 - Spevnené plochy - nové | AG98: ='02 - SO 02 - Spevnené plo...'!J32 -> 0 | AN98: =SUM(AG98,AT98) -> 0 | AQ98: STA | AS98: 0 | AT98: =ROUND(SUM(AV98:AW98),2) -> 0 | AU98: ='02 - SO 02 - Spevnené plo...'!P126 -> 702.98459 | AV98: ='02 - SO 02 - Spevnené plo...'!J35 -> 0 | AW98: ='02 - SO 02 - Spevnené plo...'!J36 -> 0 | AX98: ='02 - SO 02 - Spevnené plo...'!J37 -> 0 | AY98: ='02 - SO 02 - Spevnené plo...'!J38 -> 0 | AZ98: ='02 - SO 02 - Spevnené plo...'!F35 -> 0 | BA98: ='02 - SO 02 - Spevnené plo...'!F36 -> 0 | BB98: ='02 - SO 02 - Spevnené plo...'!F37 -> 0 | BC98: ='02 - SO 02 - Spevnené plo...'!F38 -> 0 | BD98: ='02 - SO 02 - Spevnené plo...'!F39 -> 0 | BT98: 1 | BV98: IMPORT | BW98: {8ce0a304-c15e-41fb-96eb-361d6dae27f3} | BX98: {61764f8c-6385-4d62-839f-9778cb63819c} | CM98: 0
A99: / | D99: 03 | J99: SO 03 - Cestná váha - stavebná príprava - navrhovaná | AG99: ='03 - SO 03 - Cestná váha ...'!J32 -> 0 | AN99: =SUM(AG99,AT99) -> 0 | AQ99: STA | AS99: 0 | AT99: =ROUND(SUM(AV99:AW99),2) -> 0 | AU99: ='03 - SO 03 - Cestná váha ...'!P126 -> 259.8513 | AV99: ='03 - SO 03 - Cestná váha ...'!J35 -> 0 | AW99: ='03 - SO 03 - Cestná váha ...'!J36 -> 0 | AX99: ='03 - SO 03 - Cestná váha ...'!J37 -> 0 | AY99: ='03 - SO 03 - Cestná váha ...'!J38 -> 0 | AZ99: ='03 - SO 03 - Cestná váha ...'!F35 -> 0 | BA99: ='03 - SO 03 - Cestná váha ...'!F36 -> 0 | BB99: ='03 - SO 03 - Cestná váha ...'!F37 -> 0 | BC99: ='03 - SO 03 - Cestná váha ...'!F38 -> 0 | BD99: ='03 - SO 03 - Cestná váha ...'!F39 -> 0 | BT99: 1 | BV99: IMPORT | BW99: {6388727a-28a1-4d34-885f-bd895d9c52b0} | BX99: {61764f8c-6385-4d62-839f-9778cb63819c} | CM99: 0
C101: 2) Ostatné náklady zo súhrnného listu | AG101: 0 | AN101: 0 | AS101: Percent. zadanie_x000D_ [% nákladov rozpočtu] | AT101: Zaradenie nákladov | AU101: DPH | AV101: DPH [EUR]
C103: Celkové náklady za stavbu 1) + 2) | AG103: =ROUND(AG94 + AG101, 2) -> 0 | AN103: =ROUND(AN94 + AN101, 2) -> 0

Sheet 01 - SO 01 - Sklad bio st...
L2: >> skryté stĺpce << | AT2: {a04b2b0a-f503-401e-a093-be1906dd3c72}
AT3: 0
D4: KRYCÍ LIST ROZPOČTU | M4: v --- nižšie sa nachádzajú doplnkové a pomocné údaje k zostavám --- v | AT4: False
D6: Stavba:
E7: ='Rekapitulácia stavby'!K6 -> Sklad bio strukovín a maku - prestavba
D8: Objekt:
E9: 01 - SO 01 - Sklad bio strukovín a maku - prestavba
D11: JKSO: | I11: KS:
D12: Miesto: | F12: Patince časť Potkanovo | I12: Dátum:
D14: Objednávateľ: | I14: IČO:
E15: Villem & Forró, s.r.o. | I15: IČ DPH:
D17: Zhotoviteľ: | I17: IČO: | J17: ='Rekapitulácia stavby'!AN13
E18: ='Rekapitulácia stavby'!E14 | I18: IČ DPH: | J18: ='Rekapitulácia stavby'!AN14
D20: Projektant: | I20: IČO:
I21: IČ DPH:
D23: Spracovateľ: | I23: IČO: | J23: =IF('Rekapitulácia stavby'!AN19="","",'Rekapitulácia stavby'!AN19)
E24: =IF('Rekapitulácia stavby'!E20="","",'Rekapitulácia stavby'!E20) | I24: IČ DPH: | J24: =IF('Rekapitulácia stavby'!AN20="","",'Rekapitulácia stavby'!AN20)
D26: Poznámka:
D30: Náklady z rozpočtu | J30: =J96 -> 0
D31: Ostatné náklady | J31: =J110 -> 0
D32: Cena bez DPH | J32: =ROUND(J30 + J31, 2) -> 0
F34: Základ dane | I34: Sadzba dane | J34: Výška dane
D35: DPH | E35: základná | F35: =ROUND((SUM(BE110:BE111) + SUM(BE131:BE190)), 2) -> 0 | I35: 0.2 | J35: =ROUND(((SUM(BE110:BE111) + SUM(BE131:BE190))*I35), 2) -> 0
E36: znížená | F36: =ROUND((SUM(BF110:BF111) + SUM(BF131:BF190)), 2) -> 0 | I36: 0.2 | J36: =ROUND(((SUM(BF110:BF111) + SUM(BF131:BF190))*I36), 2) -> 0
E37: zákl. prenesená | F37: =ROUND((SUM(BG110:BG111) + SUM(BG131:BG190)), 2) -> 0 | I37: 0.2 | J37: =0 -> 0
E38: zníž. prenesená | F38: =ROUND((SUM(BH110:BH111) + SUM(BH131:BH190)), 2) -> 0 | I38: 0.2 | J38: =0 -> 0
E39: nulová | F39: =ROUND((SUM(BI110:BI111) + SUM(BI131:BI190)), 2) -> 0 | I39: 0 | J39: =0 -> 0
D41: Cena s DPH | G41: v | H41: EUR | J41: =SUM(J32:J39) -> 0
D50: Projektant | G50: Spracovateľ
D61: Dátum a podpis: | F61: Pečiatka | G61: Dátum a podpis: | J61: Pečiatka
D65: Objednávateľ | G65: Zhotoviteľ
D76: Dátum a podpis: | F76: Pečiatka | G76: Dátum a podpis: | J76: Pečiatka
C82: REKAPITULÁCIA ROZPOČTU
C84: Stavba:
E85: =E7 -> Sklad bio strukovín a maku - prestavba
C86: Objekt:
E87: =E9 -> 01 - SO 01 - Sklad bio strukovín a maku - prestavba
C89: Miesto: | F89: =F12 -> Patince časť Potkanovo | I89: Dátum: | J89: =IF(J12="","",J12)
C91: Objednávateľ: | F91: =E15 -> Villem & Forró, s.r.o. | I91: Projektant:
C92: Zhotoviteľ: | F92: =IF(E18="","",E18) | I92: Spracovateľ: | J92: =E24
C94: Kód dielu - Popis | J94: Cena celkom [EUR]
C96: 1) Náklady z rozpočtu | J96: =J131 -> 0 | AU96: -1
D97: HSV - Práce a dodávky HSV | J97: =J132 -> 0
D98: 3 - Zvislé a kompletné konštrukcie | J98: =J133 -> 0
D99: 6 - Úpravy povrchov, podlahy, osadenie | J99: =J140 -> 0
D100: 9 - Ostatné konštrukcie a práce-búranie | J100: =J147 -> 0
D101: 99 - Presun hmôt HSV | J101: =J157 -> 0
D102: PSV - Práce a dodávky PSV | J102: =J159 -> 0
D103: 722 - Zdravotechnika - vnútorný vodovod | J103: =J160 -> 0
D104: 764 - Konštrukcie klampiarske | J104: =J164 -> 0
D105: 767 - Konštrukcie doplnkové kovové | J105: =J168 -> 0
D106: 783 - Nátery | J106: =J183 -> 0
D107: 784 - Maľby | J107: =J188 -> 0
C110: 2) Ostatné náklady | J110: 0 | N110: DPH
C112: Celkové náklady za stavbu 1) + 2) | J112: =ROUND(J96+J110,2) -> 0
C118: ROZPOČET
C120: Stavba:
E121: =E7 -> Sklad bio strukovín a maku - prestavba
C122: Objekt:
E123: =E9 -> 01 - SO 01 - Sklad bio strukovín a maku - prestavba
C125: Miesto: | F125: =F12 -> Patince časť Potkanovo | I125: Dátum: | J125: =IF(J12="","",J12)
C127: Objednávateľ: | F127: =E15 -> Villem & Forró, s.r.o. | I127: Projektant:
C128: Zhotoviteľ: | F128: =IF(E18="","",E18) | I128: Spracovateľ: | J128: =E24
C130: PČ | D130: Typ | E130: Kód | F130: Popis | G130: MJ | H130: Množstvo | I130: J.cena [EUR] | J130: Cena celkom [EUR] | K130: Cenová sústava | N130: DPH | O130: J. Nh [h] | P130: Nh celkom [h] | Q130: J. hmotnosť [t] | R130: Hmotnosť celkom [t] | S130: J. suť [t] | T130: Suť Celkom [t]
C131: Náklady z rozpočtu | J131: =BK131 -> 0 | P131: =P132+P159 -> 5031.6537 | R131: =R132+R159 -> 52.962058 | T131: =T132+T159 -> 12.29083 | AT131: D | AU131: -1 | BK131: =BK132+BK159 -> 0
D132: D | E132: HSV | F132: Práce a dodávky HSV | J132: =BK132 -> 0 | P132: =P133+P140+P147+P157 -> 883.29735 | R132: =R133+R140+R147+R157 -> 32.374987 | T132: =T133+T140+T147+T157 -> 12.29083 | AR132: 1 | AT132: D | AU132: 0 | AY132: ROZPOCET | BK132: =BK133+BK140+BK147+BK157 -> 0
D133: D | E133: 3 | F133: Zvislé a kompletné konštrukcie | J133: =BK133 -> 0 | P133: =SUM(P134:P139) -> 94.325108 | R133: =SUM(R134:R139) -> 30.503415 | T133: =SUM(T134:T139) -> 0 | AR133: 1 | AT133: D | AU133: 1 | AY133: ROZPOCET | BK133: =SUM(BK134:BK139) -> 0
C134: 1 | D134: K | E134: 331321315.S | F134: Betón stĺpov a pilierov hranatých, ťahadiel, rámových stojok, vzpier, železový (bez výstuže) tr. C 20/25 - zosilnenie oceľového stĺpa - zaliatie betónom | G134: m3 | H134: 8.663 | J134: =ROUND(I134*H134,3) -> 0 | N134: znížená | O134: 1.1462 | P134: =O134*H134 -> 9.9295306 | Q134: 2.29688 | R134: =Q134*H134 -> 19.897871 | S134: 0 | T134: =S134*H134 -> 0 | AR134: 4 | AT134: K | AU134: 2 | AY134: ROZPOCET | BE134: =IF(N134="základná",J134,0) -> 0 | BF134: =IF(N134="znížená",J134,0) -> 0 | BG134: =IF(N134="zákl. prenesená",J134,0) -> 0 | BH134: =IF(N134="zníž. prenesená",J134,0) -> 0 | BI134: =IF(N134="nulová",J134,0) -> 0 | BJ134: 2 | BK134: =ROUND(I134*H134,3) -> 0 | BL134: 4 | BM134: 2096461913
C135: 2 | D135: K | E135: 331351101.S | F135: Debnenie hranatých stĺpov prierezu pravouhlého štvoruholníka výšky do 4 m, zhotovenie-dielce | G135: m2 | H135: 33 | J135: =ROUND(I135*H135,3) -> 0 | N135: znížená | O135: 0.43525 | P135: =O135*H135 -> 14.36325 | Q135: 0.00056 | R135: =Q135*H135 -> 0.01848 | S135: 0 | T135: =S135*H135 -> 0 | AR135: 4 | AT135: K | AU135: 2 | AY135: ROZPOCET | BE135: =IF(N135="základná",J135,0) -> 0 | BF135: =IF(N135="znížená",J135,0) -> 0 | BG135: =IF(N135="zákl. prenesená",J135,0) -> 0 | BH135: =IF(N135="zníž. prenesená",J135,0) -> 0 | BI135: =IF(N135="nulová",J135,0) -> 0 | BJ135: 2 | BK135: =ROUND(I135*H135,3) -> 0 | BL135: 4 | BM135: -1210716111
C136: 3 | D136: K | E136: 331351102.S | F136: Debnenie hranatých stĺpov prierezu pravouhlého štvoruholníka výšky do 4 m, odstránenie-dielce | G136: m2 | H136: 33 | J136: =ROUND(I136*H136,3) -> 0 | N136: znížená | O136: 0.236 | P136: =O136*H136 -> 7.788 | Q136: 0 | R136: =Q136*H136 -> 0 | S136: 0 | T136: =S136*H136 -> 0 | AR136: 4 | AT136: K | AU136: 2 | AY136: ROZPOCET | BE136: =IF(N136="základná",J136,0) -> 0 | BF136: =IF(N136="znížená",J136,0) -> 0 | BG136: =IF(N136="zákl. prenesená",J136,0) -> 0 | BH136: =IF(N136="zníž. prenesená",J136,0) -> 0 | BI136: =IF(N136="nulová",J136,0) -> 0 | BJ136: 2 | BK136: =ROUND(I136*H136,3) -> 0 | BL136: 4 | BM136: 1295747184
C137: 4 | D137: K | E137: 331361821.S | F137: Výstuž stĺpov, pilierov, stojok hranatých z bet. ocele B500 (10505) | G137: t | H137: 0.78 | J137: =ROUND(I137*H137,3) -> 0 | N137: znížená | O137: 39.44886 | P137: =O137*H137 -> 30.770111 | Q137: 1.01953 | R137: =Q137*H137 -> 0.7952334 | S137: 0 | T137: =S137*H137 -> 0 | AR137: 4 | AT137: K | AU137: 2 | AY137: ROZPOCET | BE137: =IF(N137="základná",J137,0) -> 0 | BF137: =IF(N137="znížená",J137,0) -> 0 | BG137: =IF(N137="zákl. prenesená",J137,0) -> 0 | BH137: =IF(N137="zníž. prenesená",J137,0) -> 0 | BI137: =IF(N137="nulová",J137,0) -> 0 | BJ137: 2 | BK137: =ROUND(I137*H137,3) -> 0 | BL137: 4 | BM137: 161043700
C138: 5 | D138: K | E138: 340239267.S | F138: Zamurovanie otvorov plochy nad 1 do 4 m2 z pórobetónových tvárnic hladkých hrúbky 300 mm | G138: m2 | H138: 5.248 | J138: =ROUND(I138*H138,3) -> 0 | N138: znížená | O138: 0.65836 | P138: =O138*H138 -> 3.4550733 | Q138: 0.20482 | R138: =Q138*H138 -> 1.0748954 | S138: 0 | T138: =S138*H138 -> 0 | AR138: 4 | AT138: K | AU138: 2 | AY138: ROZPOCET | BE138: =IF(N138="základná",J138,0) -> 0 | BF138: =IF(N138="znížená",J138,0) -> 0 | BG138: =IF(N138="zákl. prenesená",J138,0) -> 0 | BH138: =IF(N138="zníž. prenesená",J138,0) -> 0 | BI138: =IF(N138="nulová",J138,0) -> 0 | BJ138: 2 | BK138: =ROUND(I138*H138,3) -> 0 | BL138: 4 | BM138: 355525395
C139: 6 | D139: K | E139: 340239267.S0 | F139: Zamurovanie otvorov plochy nad 1 do 4 m2 z pórobetónových tvárnic hladkých hrúbky 300 mm - kruhový otvor | G139: m2 | H139: 42.559 | J139: =ROUND(I139*H139,3) -> 0 | N139: znížená | O139: 0.65836 | P139: =O139*H139 -> 28.019143 | Q139: 0.20482 | R139: =Q139*H139 -> 8.7169344 | S139: 0 | T139: =S139*H139 -> 0 | AR139: 4 | AT139: K | AU139: 2 | AY139: ROZPOCET | BE139: =IF(N139="základná",J139,0) -> 0 | BF139: =IF(N139="znížená",J139,0) -> 0 | BG139: =IF(N139="zákl. prenesená",J139,0) -> 0 | BH139: =IF(N139="zníž. prenesená",J139,0) -> 0 | BI139: =IF(N139="nulová",J139,0) -> 0 | BJ139: 2 | BK139: =ROUND(I139*H139,3) -> 0 | BL139: 4 | BM139: 2146813145
D140: D | E140: 6 | F140: Úpravy povrchov, podlahy, osadenie | J140: =BK140 -> 0 | P140: =SUM(P141:P146) -> 104.82662 | R140: =SUM(R141:R146) -> 1.8715729 | T140: =SUM(T141:T146) -> 0 | AR140: 1 | AT140: D | AU140: 1 | AY140: ROZPOCET | BK140: =SUM(BK141:BK146) -> 0
C141: 7 | D141: K | E141: 612460124.S | F141: Príprava vnútorného podkladu stien penetráciou pod omietky a nátery | G141: m2 | H141: 47.807 | J141: =ROUND(I141*H141,3) -> 0 | N141: znížená | O141: 0.05208 | P141: =O141*H141 -> 2.4897886 | Q141: 0.0004 | R141: =Q141*H141 -> 0.0191228 | S141: 0 | T141: =S141*H141 -> 0 | AR141: 4 | AT141: K | AU141: 2 | AY141: ROZPOCET | BE141: =IF(N141="základná",J141,0) -> 0 | BF141: =IF(N141="znížená",J141,0) -> 0 | BG141: =IF(N141="zákl. prenesená",J141,0) -> 0 | BH141: =IF(N141="zníž. prenesená",J141,0) -> 0 | BI141: =IF(N141="nulová",J141,0) -> 0 | BJ141: 2 | BK141: =ROUND(I141*H141,3) -> 0 | BL141: 4 | BM141: 2032427728
C142: 8 | D142: K | E142: 612460363.S | F142: Vnútorná omietka stien vápennocementová jednovrstvová, hr. 10 mm | G142: m2 | H142: 47.807 | J142: =ROUND(I142*H142,3) -> 0 | N142: znížená | O142: 0.3187 | P142: =O142*H142 -> 15.236091 | Q142: 0.01312 | R142: =Q142*H142 -> 0.62722784 | S142: 0 | T142: =S142*H142 -> 0 | AR142: 4 | AT142: K | AU142: 2 | AY142: ROZPOCET | BE142: =IF(N142="základná",J142,0) -> 0 | BF142: =IF(N142="znížená",J142,0) -> 0 | BG142: =IF(N142="zákl. prenesená",J142,0) -> 0 | BH142: =IF(N142="zníž. prenesená",J142,0) -> 0 | BI142: =IF(N142="nulová",J142,0) -> 0 | BJ142: 2 | BK142: =ROUND(I142*H142,3) -> 0 | BL142: 4 | BM142: -1266974824
C143: 9 | D143: K | E143: 612481119.S | F143: Potiahnutie vnútorných stien sklotextilnou mriežkou s celoplošným prilepením | G143: m2 | H143: 47.807 | J143: =ROUND(I143*H143,3) -> 0 | N143: znížená | O143: 0.19106 | P143: =O143*H143 -> 9.1340054 | Q143: 0.00515 | R143: =Q143*H143 -> 0.24620605 | S143: 0 | T143: =S143*H143 -> 0 | AR143: 4 | AT143: K | AU143: 2 | AY143: ROZPOCET | BE143: =IF(N143="základná",J143,0) -> 0 | BF143: =IF(N143="znížená",J143,0) -> 0 | BG143: =IF(N143="zákl. prenesená",J143,0) -> 0 | BH143: =IF(N143="zníž. prenesená",J143,0) -> 0 | BI143: =IF(N143="nulová",J143,0) -> 0 | BJ143: 2 | BK143: =ROUND(I143*H143,3) -> 0 | BL143: 4 | BM143: -558572819
C144: 10 | D144: K | E144: 622460124.S | F144: Príprava vonkajšieho podkladu stien penetráciou pod omietky a nátery | G144: m2 | H144: 159.709 | J144: =ROUND(I144*H144,3) -> 0 | N144: znížená | O144: 0.092 | P144: =O144*H144 -> 14.693228 | Q144: 0.0004 | R144: =Q144*H144 -> 0.0638836 | S144: 0 | T144: =S144*H144 -> 0 | AR144: 4 | AT144: K | AU144: 2 | AY144: ROZPOCET | BE144: =IF(N144="základná",J144,0) -> 0 | BF144: =IF(N144="znížená",J144,0) -> 0 | BG144: =IF(N144="zákl. prenesená",J144,0) -> 0 | BH144: =IF(N144="zníž. prenesená",J144,0) -> 0 | BI144: =IF(N144="nulová",J144,0) -> 0 | BJ144: 2 | BK144: =ROUND(I144*H144,3) -> 0 | BL144: 4 | BM144: 208952729
C145: 11 | D145: K | E145: 622481119.S | F145: Potiahnutie vonkajších stien sklotextilnou mriežkou s celoplošným prilepením | G145: m2 | H145: 159.709 | J145: =ROUND(I145*H145,3) -> 0 | N145: znížená | O145: 0.20106 | P145: =O145*H145 -> 32.111092 | Q145: 0.00515 | R145: =Q145*H145 -> 0.82250135 | S145: 0 | T145: =S145*H145 -> 0 | AR145: 4 | AT145: K | AU145: 2 | AY145: ROZPOCET | BE145: =IF(N145="základná",J145,0) -> 0 | BF145: =IF(N145="znížená",J145,0) -> 0 | BG145: =IF(N145="zákl. prenesená",J145,0) -> 0 | BH145: =IF(N145="zníž. prenesená",J145,0) -> 0 | BI145: =IF(N145="nulová",J145,0) -> 0 | BJ145: 2 | BK145: =ROUND(I145*H145,3) -> 0 | BL145: 4 | BM145: 2108496993
C146: 12 | D146: K | E146: 622491310.S | F146: Fasádny náter silikátový, dvojnásobný | G146: m2 | H146: 159.709 | J146: =ROUND(I146*H146,3) -> 0 | N146: znížená | O146: 0.19512 | P146: =O146*H146 -> 31.16242 | Q146: 0.00058 | R146: =Q146*H146 -> 0.09263122 | S146: 0 | T146: =S146*H146 -> 0 | AR146: 4 | AT146: K | AU146: 2 | AY146: ROZPOCET | BE146: =IF(N146="základná",J146,0) -> 0 | BF146: =IF(N146="znížená",J146,0) -> 0 | BG146: =IF(N146="zákl. prenesená",J146,0) -> 0 | BH146: =IF(N146="zníž. prenesená",J146,0) -> 0 | BI146: =IF(N146="nulová",J146,0) -> 0 | BJ146: 2 | BK146: =ROUND(I146*H146,3) -> 0 | BL146: 4 | BM146: 1296032590
D147: D | E147: 9 | F147: Ostatné konštrukcie a práce-búranie | J147: =BK147 -> 0 | P147: =SUM(P148:P156) -> 604.40599 | R147: =SUM(R148:R156) -> 0 | T147: =SUM(T148:T156) -> 12.29083 | AR147: 1 | AT147: D | AU147: 1 | AY147: ROZPOCET | BK147: =SUM(BK148:BK156) -> 0
C148: 13 | D148: K | E148: 949942101.S0 | F148: Pracovná plošina - prenájom | G148: deň | H148: 150 | J148: =ROUND(I148*H148,3) -> 0 | N148: znížená | O148: 1.938 | P148: =O148*H148 -> 290.7 | Q148: 0 | R148: =Q148*H148 -> 0 | S148: 0 | T148: =S148*H148 -> 0 | AR148: 4 | AT148: K | AU148: 2 | AY148: ROZPOCET | BE148: =IF(N148="základná",J148,0) -> 0 | BF148: =IF(N148="znížená",J148,0) -> 0 | BG148: =IF(N148="zákl. prenesená",J148,0) -> 0 | BH148: =IF(N148="zníž. prenesená",J148,0) -> 0 | BI148: =IF(N148="nulová",J148,0) -> 0 | BJ148: 2 | BK148: =ROUND(I148*H148,3) -> 0 | BL148: 4 | BM148: 1746227980
C149: 14 | D149: K | E149: 965043441.S | F149: Búranie podkladov pod dlažby, liatych dlažieb a mazanín,betón s poterom,teracom hr.do 150 mm, plochy nad 4 m2 -2,20000t | G149: m3 | H149: 3 | J149: =ROUND(I149*H149,3) -> 0 | N149: znížená | O149: 5.843 | P149: =O149*H149 -> 17.529 | Q149: 0 | R149: =Q149*H149 -> 0 | S149: 2.2 | T149: =S149*H149 -> 6.6 | AR149: 4 | AT149: K | AU149: 2 | AY149: ROZPOCET | BE149: =IF(N149="základná",J149,0) -> 0 | BF149: =IF(N149="znížená",J149,0) -> 0 | BG149: =IF(N149="zákl. prenesená",J149,0) -> 0 | BH149: =IF(N149="zníž. prenesená",J149,0) -> 0 | BI149: =IF(N149="nulová",J149,0) -> 0 | BJ149: 2 | BK149: =ROUND(I149*H149,3) -> 0 | BL149: 4 | BM149: 866657124
C150: 15 | D150: K | E150: 965049120.S | F150: Príplatok za búranie betónovej mazaniny so zváranou sieťou alebo rabicovým pletivom hr. nad 100 mm | G150: m3 | H150: 3 | J150: =ROUND(I150*H150,3) -> 0 | N150: znížená | O150: 3.505 | P150: =O150*H150 -> 10.515 | Q150: 0 | R150: =Q150*H150 -> 0 | S150: 0 | T150: =S150*H150 -> 0 | AR150: 4 | AT150: K | AU150: 2 | AY150: ROZPOCET | BE150: =IF(N150="základná",J150,0) -> 0 | BF150: =IF(N150="znížená",J150,0) -> 0 | BG150: =IF(N150="zákl. prenesená",J150,0) -> 0 | BH150: =IF(N150="zníž. prenesená",J150,0) -> 0 | BI150: =IF(N150="nulová",J150,0) -> 0 | BJ150: 2 | BK150: =ROUND(I150*H150,3) -> 0 | BL150: 4 | BM150: 567603168
C151: 16 | D151: K | E151: 966067112.S1 | F151: Demontáž opláštenia z rabicového pletiva | G151: m2 | H151: 569.083 | J151: =ROUND(I151*H151,3) -> 0 | N151: znížená | O151: 0.454 | P151: =O151*H151 -> 258.36368 | Q151: 0 | R151: =Q151*H151 -> 0 | S151: 0.01 | T151: =S151*H151 -> 5.69083 | AR151: 4 | AT151: K | AU151: 2 | AY151: ROZPOCET | BE151: =IF(N151="základná",J151,0) -> 0 | BF151: =IF(N151="znížená",J151,0) -> 0 | BG151: =IF(N151="zákl. prenesená",J151,0) -> 0 | BH151: =IF(N151="zníž. prenesená",J151,0) -> 0 | BI151: =IF(N151="nulová",J151,0) -> 0 | BJ151: 2 | BK151: =ROUND(I151*H151,3) -> 0 | BL151: 4 | BM151: 935368612
C152: 17 | D152: K | E152: 979081111.S | F152: Odvoz sutiny a vybúraných hmôt na skládku do 1 km | G152: t | H152: 12.291 | J152: =ROUND(I152*H152,3) -> 0 | N152: znížená | O152: 0.598 | P152: =O152*H152 -> 7.350018 | Q152: 0 | R152: =Q152*H152 -> 0 | S152: 0 | T152: =S152*H152 -> 0 | AR152: 4 | AT152: K | AU152: 2 | AY152: ROZPOCET | BE152: =IF(N152="základná",J152,0) -> 0 | BF152: =IF(N152="znížená",J152,0) -> 0 | BG152: =IF(N152="zákl. prenesená",J152,0) -> 0 | BH152: =IF(N152="zníž. prenesená",J152,0) -> 0 | BI152: =IF(N152="nulová",J152,0) -> 0 | BJ152: 2 | BK152: =ROUND(I152*H152,3) -> 0 | BL152: 4 | BM152: -894509104
C153: 18 | D153: K | E153: 979081121.S | F153: Odvoz sutiny a vybúraných hmôt na skládku za každý ďalší 1 km | G153: t | H153: 233.529 | J153: =ROUND(I153*H153,3) -> 0 | N153: znížená | O153: 0.007 | P153: =O153*H153 -> 1.634703 | Q153: 0 | R153: =Q153*H153 -> 0 | S153: 0 | T153: =S153*H153 -> 0 | AR153: 4 | AT153: K | AU153: 2 | AY153: ROZPOCET | BE153: =IF(N153="základná",J153,0) -> 0 | BF153: =IF(N153="znížená",J153,0) -> 0 | BG153: =IF(N153="zákl. prenesená",J153,0) -> 0 | BH153: =IF(N153="zníž. prenesená",J153,0) -> 0 | BI153: =IF(N153="nulová",J153,0) -> 0 | BJ153: 2 | BK153: =ROUND(I153*H153,3) -> 0 | BL153: 4 | BM153: -1449268918
C154: 19 | D154: K | E154: 979082111.S | F154: Vnútrostavenisková doprava sutiny a vybúraných hmôt do 10 m | G154: t | H154: 12.291 | J154: =ROUND(I154*H154,3) -> 0 | N154: znížená | O154: 0.89 | P154: =O154*H154 -> 10.93899 | Q154: 0 | R154: =Q154*H154 -> 0 | S154: 0 | T154: =S154*H154 -> 0 | AR154: 4 | AT154: K | AU154: 2 | AY154: ROZPOCET | BE154: =IF(N154="základná",J154,0) -> 0 | BF154: =IF(N154="znížená",J154,0) -> 0 | BG154: =IF(N154="zákl. prenesená",J154,0) -> 0 | BH154: =IF(N154="zníž. prenesená",J154,0) -> 0 | BI154: =IF(N154="nulová",J154,0) -> 0 | BJ154: 2 | BK154: =ROUND(I154*H154,3) -> 0 | BL154: 4 | BM154: -1489201961
C155: 20 | D155: K | E155: 979082121.S | F155: Vnútrostavenisková doprava sutiny a vybúraných hmôt za každých ďalších 5 m | G155: t | H155: 73.746 | J155: =ROUND(I155*H155,3) -> 0 | N155: znížená | O155: 0.1 | P155: =O155*H155 -> 7.3746 | Q155: 0 | R155: =Q155*H155 -> 0 | S155: 0 | T155: =S155*H155 -> 0 | AR155: 4 | AT155: K | AU155: 2 | AY155: ROZPOCET | BE155: =IF(N155="základná",J155,0) -> 0 | BF155: =IF(N155="znížená",J155,0) -> 0 | BG155: =IF(N155="zákl. prenesená",J155,0) -> 0 | BH155: =IF(N155="zníž. prenesená",J155,0) -> 0 | BI155: =IF(N155="nulová",J155,0) -> 0 | BJ155: 2 | BK155: =ROUND(I155*H155,3) -> 0 | BL155: 4 | BM155: 1174976775
C156: 21 | D156: K | E156: 979089612.S | F156: Poplatok za skladovanie - iné odpady zo stavieb a demolácií (17 09), ostatné | G156: t | H156: 12.291 | J156: =ROUND(I156*H156,3) -> 0 | N156: znížená | O156: 0 | P156: =O156*H156 -> 0 | Q156: 0 | R156: =Q156*H156 -> 0 | S156: 0 | T156: =S156*H156 -> 0 | AR156: 4 | AT156: K | AU156: 2 | AY156: ROZPOCET | BE156: =IF(N156="základná",J156,0) -> 0 | BF156: =IF(N156="znížená",J156,0) -> 0 | BG156: =IF(N156="zákl. prenesená",J156,0) -> 0 | BH156: =IF(N156="zníž. prenesená",J156,0) -> 0 | BI156: =IF(N156="nulová",J156,0) -> 0 | BJ156: 2 | BK156: =ROUND(I156*H156,3) -> 0 | BL156: 4 | BM156: -1643162582
D157: D | E157: 99 | F157: Presun hmôt HSV | J157: =BK157 -> 0 | P157: =P158 -> 79.739625 | R157: =R158 -> 0 | T157: =T158 -> 0 | AR157: 1 | AT157: D | AU157: 1 | AY157: ROZPOCET | BK157: =BK158 -> 0
C158: 22 | D158: K | E158: 999281111.S | F158: Presun hmôt pre opravy a údržbu objektov vrátane vonkajších plášťov výšky do 25 m | G158: t | H158: 32.375 | J158: =ROUND(I158*H158,3) -> 0 | N158: znížená | O158: 2.463 | P158: =O158*H158 -> 79.739625 | Q158: 0 | R158: =Q158*H158 -> 0 | S158: 0 | T158: =S158*H158 -> 0 | AR158: 4 | AT158: K | AU158: 2 | AY158: ROZPOCET | BE158: =IF(N158="základná",J158,0) -> 0 | BF158: =IF(N158="znížená",J158,0) -> 0 | BG158: =IF(N158="zákl. prenesená",J158,0) -> 0 | BH158: =IF(N158="zníž. prenesená",J158,0) -> 0 | BI158: =IF(N158="nulová",J158,0) -> 0 | BJ158: 2 | BK158: =ROUND(I158*H158,3) -> 0 | BL158: 4 | BM158: -952720928
D159: D | E159: PSV | F159: Práce a dodávky PSV | J159: =BK159 -> 0 | P159: =P160+P164+P168+P183+P188 -> 4148.3564 | R159: =R160+R164+R168+R183+R188 -> 20.58707 | T159: =T160+T164+T168+T183+T188 -> 0 | AR159: 2 | AT159: D | AU159: 0 | AY159: ROZPOCET | BK159: =BK160+BK164+BK168+BK183+BK188 -> 0
D160: D | E160: 722 | F160: Zdravotechnika - vnútorný vodovod | J160: =BK160 -> 0 | P160: =SUM(P161:P163) -> 0.52288 | R160: =SUM(R161:R163) -> 0.04264 | T160: =SUM(T161:T163) -> 0 | AR160: 2 | AT160: D | AU160: 1 | AY160: ROZPOCET | BK160: =SUM(BK161:BK163) -> 0
C161: 23 | D161: K | E161: 722250180.S | F161: Montáž hasiaceho prístroja na stenu | G161: ks | H161: 2 | J161: =ROUND(I161*H161,3) -> 0 | N161: znížená | O161: 0.26144 | P161: =O161*H161 -> 0.52288 | Q161: 0 | R161: =Q161*H161 -> 0 | S161: 0 | T161: =S161*H161 -> 0 | AR161: 16 | AT161: K | AU161: 2 | AY161: ROZPOCET | BE161: =IF(N161="základná",J161,0) -> 0 | BF161: =IF(N161="znížená",J161,0) -> 0 | BG161: =IF(N161="zákl. prenesená",J161,0) -> 0 | BH161: =IF(N161="zníž. prenesená",J161,0) -> 0 | BI161: =IF(N161="nulová",J161,0) -> 0 | BJ161: 2 | BK161: =ROUND(I161*H161,3) -> 0 | BL161: 16 | BM161: 857247525
C162: 24 | D162: M | E162: 449170000900.S | F162: Prenosný hasiaci prístroj práškový P6Če 6 kg, 21A | G162: ks | H162: 2 | J162: =ROUND(I162*H162,3) -> 0 | N162: znížená | O162: 0 | P162: =O162*H162 -> 0 | Q162: 0.02132 | R162: =Q162*H162 -> 0.04264 | S162: 0 | T162: =S162*H162 -> 0 | AR162: 32 | AT162: M | AU162: 2 | AY162: ROZPOCET | BE162: =IF(N162="základná",J162,0) -> 0 | BF162: =IF(N162="znížená",J162,0) -> 0 | BG162: =IF(N162="zákl. prenesená",J162,0) -> 0 | BH162: =IF(N162="zníž. prenesená",J162,0) -> 0 | BI162: =IF(N162="nulová",J162,0) -> 0 | BJ162: 2 | BK162: =ROUND(I162*H162,3) -> 0 | BL162: 16 | BM162: -130398235
C163: 25 | D163: K | E163: 998722202.S | F163: Presun hmôt pre vnútorný vodovod v objektoch výšky nad 6 do 12 m | G163: % | H163: 0.639 | J163: =ROUND(I163*H163,3) -> 0 | N163: znížená | O163: 0 | P163: =O163*H163 -> 0 | Q163: 0 | R163: =Q163*H163 -> 0 | S163: 0 | T163: =S163*H163 -> 0 | AR163: 16 | AT163: K | AU163: 2 | AY163: ROZPOCET | BE163: =IF(N163="základná",J163,0) -> 0 | BF163: =IF(N163="znížená",J163,0) -> 0 | BG163: =IF(N163="zákl. prenesená",J163,0) -> 0 | BH163: =IF(N163="zníž. prenesená",J163,0) -> 0 | BI163: =IF(N163="nulová",J163,0) -> 0 | BJ163: 2 | BK163: =ROUND(I163*H163,3) -> 0 | BL163: 16 | BM163: -1734472706
D164: D | E164: 764 | F164: Konštrukcie klampiarske | J164: =BK164 -> 0 | P164: =SUM(P165:P167) -> 107.02303 | R164: =SUM(R165:R167) -> 0.226292 | T164: =SUM(T165:T167) -> 0 | AR164: 2 | AT164: D | AU164: 1 | AY164: ROZPOCET | BK164: =SUM(BK165:BK167) -> 0
C165: 26 | D165: K | E165: 764751112.S | F165: Zvodová rúra kruhová pozink farebný vrátane príslušenstva, priemer 100 mm | G165: m | H165: 30 | J165: =ROUND(I165*H165,3) -> 0 | N165: znížená | O165: 0.65967 | P165: =O165*H165 -> 19.7901 | Q165: 0.00211 | R165: =Q165*H165 -> 0.0633 | S165: 0 | T165: =S165*H165 -> 0 | AR165: 16 | AT165: K | AU165: 2 | AY165: ROZPOCET | BE165: =IF(N165="základná",J165,0) -> 0 | BF165: =IF(N165="znížená",J165,0) -> 0 | BG165: =IF(N165="zákl. prenesená",J165,0) -> 0 | BH165: =IF(N165="zníž. prenesená",J165,0) -> 0 | BI165: =IF(N165="nulová",J165,0) -> 0 | BJ165: 2 | BK165: =ROUND(I165*H165,3) -> 0 | BL165: 16 | BM165: -1050397642
C166: 27 | D166: K | E166: 764761122.S | F166: Žľab pododkvapový polkruhový pozink farebný vrátane čela, hákov, rohov, kútov, r.š. 330 mm | G166: m | H166: 97.6 | J166: =ROUND(I166*H166,3) -> 0 | N166: znížená | O166: 0.89378 | P166: =O166*H166 -> 87.232928 | Q166: 0.00167 | R166: =Q166*H166 -> 0.162992 | S166: 0 | T166: =S166*H166 -> 0 | AR166: 16 | AT166: K | AU166: 2 | AY166: ROZPOCET | BE166: =IF(N166="základná",J166,0) -> 0 | BF166: =IF(N166="znížená",J166,0) -> 0 | BG166: =IF(N166="zákl. prenesená",J166,0) -> 0 | BH166: =IF(N166="zníž. prenesená",J166,0) -> 0 | BI166: =IF(N166="nulová",J166,0) -> 0 | BJ166: 2 | BK166: =ROUND(I166*H166,3) -> 0 | BL166: 16 | BM166: 9006806
...

Sheet 01_01 - Elektroinštalácia
L2: >> skryté stĺpce << | AT2: {b84f8a1c-4cd1-48a3-92be-047459ac5793}
AT3: 0
D4: KRYCÍ LIST ROZPOČTU | M4: v --- nižšie sa nachádzajú doplnkové a pomocné údaje k zostavám --- v | AT4: False
D6: Stavba:
E7: ='Rekapitulácia stavby'!K6 -> Sklad bio strukovín a maku - prestavba
D8: Objekt:
E9: 01 - SO 01 - Sklad bio strukovín a maku - prestavba
D10: Časť:
E11: 01_01 - Elektroinštalácia
D13: JKSO: | I13: KS:
D14: Miesto: | F14: Patince časť Potkanovo | I14: Dátum:
D16: Objednávateľ: | I16: IČO:
E17: Villem & Forró, s.r.o. | I17: IČ DPH:
D19: Zhotoviteľ: | I19: IČO: | J19: ='Rekapitulácia stavby'!AN13
E20: ='Rekapitulácia stavby'!E14 | I20: IČ DPH: | J20: ='Rekapitulácia stavby'!AN14
D22: Projektant: | I22: IČO:
E23: Ing. Juraj Ďuríček - GYGY PROJEKT s.r.o. | I23: IČ DPH:
D25: Spracovateľ: | I25: IČO: | J25: =IF('Rekapitulácia stavby'!AN19="","",'Rekapitulácia stavby'!AN19)
E26: =IF('Rekapitulácia stavby'!E20="","",'Rekapitulácia stavby'!E20) | I26: IČ DPH: | J26: =IF('Rekapitulácia stavby'!AN20="","",'Rekapitulácia stavby'!AN20)
D28: Poznámka:
D32: Náklady z rozpočtu | J32: =J98 -> 0
D33: Ostatné náklady | J33: =J104 -> 0
D34: Cena bez DPH | J34: =ROUND(J32 + J33, 2) -> 0
F36: Základ dane | I36: Sadzba dane | J36: Výška dane
D37: DPH | E37: základná | F37: =ROUND((SUM(BE104:BE105) + SUM(BE127:BE231)), 2) -> 0 | I37: 0.2 | J37: =ROUND(((SUM(BE104:BE105) + SUM(BE127:BE231))*I37), 2) -> 0
E38: znížená | F38: =ROUND((SUM(BF104:BF105) + SUM(BF127:BF231)), 2) -> 0 | I38: 0.2 | J38: =ROUND(((SUM(BF104:BF105) + SUM(BF127:BF231))*I38), 2) -> 0
E39: zákl. prenesená | F39: =ROUND((SUM(BG104:BG105) + SUM(BG127:BG231)), 2) -> 0 | I39: 0.2 | J39: =0 -> 0
E40: zníž. prenesená | F40: =ROUND((SUM(BH104:BH105) + SUM(BH127:BH231)), 2) -> 0 | I40: 0.2 | J40: =0 -> 0
E41: nulová | F41: =ROUND((SUM(BI104:BI105) + SUM(BI127:BI231)), 2) -> 0 | I41: 0 | J41: =0 -> 0
D43: Cena s DPH | G43: v | H43: EUR | J43: =SUM(J34:J41) -> 0
D50: Projektant | G50: Spracovateľ
D61: Dátum a podpis: | F61: Pečiatka | G61: Dátum a podpis: | J61: Pečiatka
D65: Objednávateľ | G65: Zhotoviteľ
D76: Dátum a podpis: | F76: Pečiatka | G76: Dátum a podpis: | J76: Pečiatka
C82: REKAPITULÁCIA ROZPOČTU
C84: Stavba:
E85: =E7 -> Sklad bio strukovín a maku - prestavba
C86: Objekt:
E87: 01 - SO 01 - Sklad bio strukovín a maku - prestavba
C88: Časť:
E89: =E11 -> 01_01 - Elektroinštalácia
C91: Miesto: | F91: =F14 -> Patince časť Potkanovo | I91: Dátum: | J91: =IF(J14="","",J14)
C93: Objednávateľ: | F93: =E17 -> Villem & Forró, s.r.o. | I93: Projektant:
C94: Zhotoviteľ: | F94: =IF(E20="","",E20) | I94: Spracovateľ: | J94: =E26
C96: Kód dielu - Popis | J96: Cena celkom [EUR]
C98: 1) Náklady z rozpočtu | J98: =J127 -> 0 | AU98: -1
D99: D1 - Bleskozvod a uzemnenie | J99: =J128 -> 0
D100: D2 - Elektroinštalácia | J100: =J162 -> 0
D101: D3 - Ostatné | J101: =J224 -> 0
C104: 2) Ostatné náklady | J104: 0 | N104: DPH
C106: Celkové náklady za stavbu 1) + 2) | J106: =ROUND(J98+J104,2) -> 0
C112: ROZPOČET
C114: Stavba:
E115: =E7 -> Sklad bio strukovín a maku - prestavba
C116: Objekt:
E117: 01 - SO 01 - Sklad bio strukovín a maku - prestavba
C118: Časť:
E119: =E11 -> 01_01 - Elektroinštalácia
C121: Miesto: | F121: =F14 -> Patince časť Potkanovo | I121: Dátum: | J121: =IF(J14="","",J14)
C123: Objednávateľ: | F123: =E17 -> Villem & Forró, s.r.o. | I123: Projektant:
C124: Zhotoviteľ: | F124: =IF(E20="","",E20) | I124: Spracovateľ: | J124: =E26
C126: PČ | D126: Typ | E126: Kód | F126: Popis | G126: MJ | H126: Množstvo | I126: J.cena [EUR] | J126: Cena celkom [EUR] | K126: Cenová sústava | N126: DPH | O126: J. Nh [h] | P126: Nh celkom [h] | Q126: J. hmotnosť [t] | R126: Hmotnosť celkom [t] | S126: J. suť [t] | T126: Suť Celkom [t]
C127: Náklady z rozpočtu | J127: =BK127 -> 0 | P127: =P128+P162+P224 -> 0 | R127: =R128+R162+R224 -> 0 | T127: =T128+T162+T224 -> 0 | AT127: D | AU127: -1 | BK127: =BK128+BK162+BK224 -> 0
D128: D | E128: D1 | F128: Bleskozvod a uzemnenie | J128: =BK128 -> 0 | P128: =SUM(P129:P161) -> 0 | R128: =SUM(R129:R161) -> 0 | T128: =SUM(T129:T161) -> 0 | AR128: 1 | AT128: D | AU128: 0 | AY128: ROZPOCET | BK128: =SUM(BK129:BK161) -> 0
C129: 1 | D129: K | E129: Pol1 | F129: Uzemňovacie vedenie v zemi včít. svoriek,prepojenia, izolácie spojov FeZn do 120 mm2 | G129: m | H129: 105 | J129: =ROUND(I129*H129,3) -> 0 | N129: znížená | O129: 0 | P129: =O129*H129 -> 0 | Q129: 0 | R129: =Q129*H129 -> 0 | S129: 0 | T129: =S129*H129 -> 0 | AR129: 4 | AT129: K | AU129: 1 | AY129: ROZPOCET | BE129: =IF(N129="základná",J129,0) -> 0 | BF129: =IF(N129="znížená",J129,0) -> 0 | BG129: =IF(N129="zákl. prenesená",J129,0) -> 0 | BH129: =IF(N129="zníž. prenesená",J129,0) -> 0 | BI129: =IF(N129="nulová",J129,0) -> 0 | BJ129: 2 | BK129: =ROUND(I129*H129,3) -> 0 | BL129: 4 | BM129: 2
C130: 2 | D130: M | E130: Pol2 | F130: Páska uzemňovacia 30x4 mm | G130: kg | H130: 98.7 | J130: =ROUND(I130*H130,3) -> 0 | N130: znížená | O130: 0 | P130: =O130*H130 -> 0 | Q130: 0 | R130: =Q130*H130 -> 0 | S130: 0 | T130: =S130*H130 -> 0 | AR130: 8 | AT130: M | AU130: 1 | AY130: ROZPOCET | BE130: =IF(N130="základná",J130,0) -> 0 | BF130: =IF(N130="znížená",J130,0) -> 0 | BG130: =IF(N130="zákl. prenesená",J130,0) -> 0 | BH130: =IF(N130="zníž. prenesená",J130,0) -> 0 | BI130: =IF(N130="nulová",J130,0) -> 0 | BJ130: 2 | BK130: =ROUND(I130*H130,3) -> 0 | BL130: 4 | BM130: 4
C131: 3 | D131: K | E131: Pol3 | F131: Tyčový uzemňovač zarazený do zeme a pripoj.vedenie do 2 m | G131: ks | H131: 18 | J131: =ROUND(I131*H131,3) -> 0 | N131: znížená | O131: 0 | P131: =O131*H131 -> 0 | Q131: 0 | R131: =Q131*H131 -> 0 | S131: 0 | T131: =S131*H131 -> 0 | AR131: 4 | AT131: K | AU131: 1 | AY131: ROZPOCET | BE131: =IF(N131="základná",J131,0) -> 0 | BF131: =IF(N131="znížená",J131,0) -> 0 | BG131: =IF(N131="zákl. prenesená",J131,0) -> 0 | BH131: =IF(N131="zníž. prenesená",J131,0) -> 0 | BI131: =IF(N131="nulová",J131,0) -> 0 | BJ131: 2 | BK131: =ROUND(I131*H131,3) -> 0 | BL131: 4 | BM131: 6
C132: 4 | D132: M | E132: Pol4 | F132: HR-Zemna tyc ZT 2M | G132: ks | H132: 18 | J132: =ROUND(I132*H132,3) -> 0 | N132: znížená | O132: 0 | P132: =O132*H132 -> 0 | Q132: 0 | R132: =Q132*H132 -> 0 | S132: 0 | T132: =S132*H132 -> 0 | AR132: 8 | AT132: M | AU132: 1 | AY132: ROZPOCET | BE132: =IF(N132="základná",J132,0) -> 0 | BF132: =IF(N132="znížená",J132,0) -> 0 | BG132: =IF(N132="zákl. prenesená",J132,0) -> 0 | BH132: =IF(N132="zníž. prenesená",J132,0) -> 0 | BI132: =IF(N132="nulová",J132,0) -> 0 | BJ132: 2 | BK132: =ROUND(I132*H132,3) -> 0 | BL132: 4 | BM132: 8
C133: 5 | D133: K | E133: Pol5 | F133: Zvodový vodič včítane podpery AlMgSi D=8 mm | G133: m | H133: 180 | J133: =ROUND(I133*H133,3) -> 0 | N133: znížená | O133: 0 | P133: =O133*H133 -> 0 | Q133: 0 | R133: =Q133*H133 -> 0 | S133: 0 | T133: =S133*H133 -> 0 | AR133: 4 | AT133: K | AU133: 1 | AY133: ROZPOCET | BE133: =IF(N133="základná",J133,0) -> 0 | BF133: =IF(N133="znížená",J133,0) -> 0 | BG133: =IF(N133="zákl. prenesená",J133,0) -> 0 | BH133: =IF(N133="zníž. prenesená",J133,0) -> 0 | BI133: =IF(N133="nulová",J133,0) -> 0 | BJ133: 2 | BK133: =ROUND(I133*H133,3) -> 0 | BL133: 4 | BM133: 10
C134: 6 | D134: M | E134: Pol6 | F134: Drôt AlMgSi d8.00mm | G134: kg | H134: 24.3 | J134: =ROUND(I134*H134,3) -> 0 | N134: znížená | O134: 0 | P134: =O134*H134 -> 0 | Q134: 0 | R134: =Q134*H134 -> 0 | S134: 0 | T134: =S134*H134 -> 0 | AR134: 8 | AT134: M | AU134: 1 | AY134: ROZPOCET | BE134: =IF(N134="základná",J134,0) -> 0 | BF134: =IF(N134="znížená",J134,0) -> 0 | BG134: =IF(N134="zákl. prenesená",J134,0) -> 0 | BH134: =IF(N134="zníž. prenesená",J134,0) -> 0 | BI134: =IF(N134="nulová",J134,0) -> 0 | BJ134: 2 | BK134: =ROUND(I134*H134,3) -> 0 | BL134: 4 | BM134: 12
C135: 7 | D135: K | E135: Pol7 | F135: Zvodový vodič vrátane podpery FeZn do D10mm | G135: m | H135: 100 | J135: =ROUND(I135*H135,3) -> 0 | N135: znížená | O135: 0 | P135: =O135*H135 -> 0 | Q135: 0 | R135: =Q135*H135 -> 0 | S135: 0 | T135: =S135*H135 -> 0 | AR135: 4 | AT135: K | AU135: 1 | AY135: ROZPOCET | BE135: =IF(N135="základná",J135,0) -> 0 | BF135: =IF(N135="znížená",J135,0) -> 0 | BG135: =IF(N135="zákl. prenesená",J135,0) -> 0 | BH135: =IF(N135="zníž. prenesená",J135,0) -> 0 | BI135: =IF(N135="nulová",J135,0) -> 0 | BJ135: 2 | BK135: =ROUND(I135*H135,3) -> 0 | BL135: 4 | BM135: 14
C136: 8 | D136: M | E136: Pol8 | F136: Drôt pozinkovaný mäkký d10.00mm | G136: kg | H136: 62 | J136: =ROUND(I136*H136,3) -> 0 | N136: znížená | O136: 0 | P136: =O136*H136 -> 0 | Q136: 0 | R136: =Q136*H136 -> 0 | S136: 0 | T136: =S136*H136 -> 0 | AR136: 8 | AT136: M | AU136: 1 | AY136: ROZPOCET | BE136: =IF(N136="základná",J136,0) -> 0 | BF136: =IF(N136="znížená",J136,0) -> 0 | BG136: =IF(N136="zákl. prenesená",J136,0) -> 0 | BH136: =IF(N136="zníž. prenesená",J136,0) -> 0 | BI136: =IF(N136="nulová",J136,0) -> 0 | BJ136: 2 | BK136: =ROUND(I136*H136,3) -> 0 | BL136: 4 | BM136: 16
C137: 9 | D137: K | E137: Pol9 | F137: Osadenie podpier | G137: ks | H137: 180 | J137: =ROUND(I137*H137,3) -> 0 | N137: znížená | O137: 0 | P137: =O137*H137 -> 0 | Q137: 0 | R137: =Q137*H137 -> 0 | S137: 0 | T137: =S137*H137 -> 0 | AR137: 4 | AT137: K | AU137: 1 | AY137: ROZPOCET | BE137: =IF(N137="základná",J137,0) -> 0 | BF137: =IF(N137="znížená",J137,0) -> 0 | BG137: =IF(N137="zákl. prenesená",J137,0) -> 0 | BH137: =IF(N137="zníž. prenesená",J137,0) -> 0 | BI137: =IF(N137="nulová",J137,0) -> 0 | BJ137: 2 | BK137: =ROUND(I137*H137,3) -> 0 | BL137: 4 | BM137: 18
C138: 10 | D138: M | E138: Pol10 | F138: Podpera vedenia PV 17 | G138: ks | H138: 60 | J138: =ROUND(I138*H138,3) -> 0 | N138: znížená | O138: 0 | P138: =O138*H138 -> 0 | Q138: 0 | R138: =Q138*H138 -> 0 | S138: 0 | T138: =S138*H138 -> 0 | AR138: 8 | AT138: M | AU138: 1 | AY138: ROZPOCET | BE138: =IF(N138="základná",J138,0) -> 0 | BF138: =IF(N138="znížená",J138,0) -> 0 | BG138: =IF(N138="zákl. prenesená",J138,0) -> 0 | BH138: =IF(N138="zníž. prenesená",J138,0) -> 0 | BI138: =IF(N138="nulová",J138,0) -> 0 | BJ138: 2 | BK138: =ROUND(I138*H138,3) -> 0 | BL138: 4 | BM138: 20
C139: 11 | D139: M | E139: Pol11 | F139: Podpera vedenia PV 21 | G139: ks | H139: 120 | J139: =ROUND(I139*H139,3) -> 0 | N139: znížená | O139: 0 | P139: =O139*H139 -> 0 | Q139: 0 | R139: =Q139*H139 -> 0 | S139: 0 | T139: =S139*H139 -> 0 | AR139: 8 | AT139: M | AU139: 1 | AY139: ROZPOCET | BE139: =IF(N139="základná",J139,0) -> 0 | BF139: =IF(N139="znížená",J139,0) -> 0 | BG139: =IF(N139="zákl. prenesená",J139,0) -> 0 | BH139: =IF(N139="zníž. prenesená",J139,0) -> 0 | BI139: =IF(N139="nulová",J139,0) -> 0 | BJ139: 2 | BK139: =ROUND(I139*H139,3) -> 0 | BL139: 4 | BM139: 22
C140: 12 | D140: K | E140: Pol12 | F140: Zachytávacia tyč vrátane upevnenia na strešný hrebeň - upevnenie do steny do 3 m dľžky tyče | G140: ks | H140: 4 | J140: =ROUND(I140*H140,3) -> 0 | N140: znížená | O140: 0 | P140: =O140*H140 -> 0 | Q140: 0 | R140: =Q140*H140 -> 0 | S140: 0 | T140: =S140*H140 -> 0 | AR140: 4 | AT140: K | AU140: 1 | AY140: ROZPOCET | BE140: =IF(N140="základná",J140,0) -> 0 | BF140: =IF(N140="znížená",J140,0) -> 0 | BG140: =IF(N140="zákl. prenesená",J140,0) -> 0 | BH140: =IF(N140="zníž. prenesená",J140,0) -> 0 | BI140: =IF(N140="nulová",J140,0) -> 0 | BJ140: 2 | BK140: =ROUND(I140*H140,3) -> 0 | BL140: 4 | BM140: 24
... C161: 33 | D161: K | E161: Pol33 | F161: Ručný zásyp nezap. káblovej ryhy bez zhutn. zeminy, 35 cm širokej, 50 cm hlbokej v zemine tr. 3 | G161: m | H161: 48 | J161: =ROUND(I161*H161,3) -> 0 | N161: znížená | O161: 0 | P161: =O161*H161 -> 0 | Q161: 0 | R161: =Q161*H161 -> 0 | S161: 0 | T161: =S161*H161 -> 0 | AR161: 4 | AT161: K | AU161: 1 | AY161: ROZPOCET | BE161: =IF(N161="základná",J161,0) -> 0 | BF161: =IF(N161="znížená",J161,0) -> 0 | BG161: =IF(N161="zákl. prenesená",J161,0) -> 0 | BH161: =IF(N161="zníž. prenesená",J161,0) -> 0 | BI161: =IF(N161="nulová",J161,0) -> 0 | BJ161: 2 | BK161: =ROUND(I161*H161,3) -> 0 | BL161: 4 | BM161: 66
D162: D | E162: D2 | F162: Elektroinštalácia | J162: =BK162 -> 0 | P162: =SUM(P163:P223) -> 0 | R162: =SUM(R163:R223) -> 0 | T162: =SUM(T163:T223) -> 0 | AR162: 1 | AT162: D | AU162: 0 | AY162: ROZPOCET | BK162: =SUM(BK163:BK223) -> 0
C163: 34 | D163: K | E163: Pol34 | F163: Rúrka pevná elektroinštalačná, uložená pod omietkou, typ 23 - 36 mm | G163: m | H163: 70 | J163: =ROUND(I163*H163,3) -> 0 | N163: znížená | O163: 0 | P163: =O163*H163 -> 0 | Q163: 0 | R163: =Q163*H163 -> 0 | S163: 0 | T163: =S163*H163 -> 0 | AR163: 4 | AT163: K | AU163: 1 | AY163: ROZPOCET | BE163: =IF(N163="základná",J163,0) -> 0 | BF163: =IF(N163="znížená",J163,0) -> 0 | BG163: =IF(N163="zákl. prenesená",J163,0) -> 0 | BH163: =IF(N163="zníž. prenesená",J163,0) -> 0 | BI163: =IF(N163="nulová",J163,0) -> 0 | BJ163: 2 | BK163: =ROUND(I163*H163,3) -> 0 | BL163: 4 | BM163: 68
C164: 35 | D164: M | E164: Pol35 | F164: Trubka PEP 25 | G164: m | H164: 70 | J164: =ROUND(I164*H164,3) -> 0 | N164: znížená | O164: 0 | P164: =O164*H164 -> 0 | Q164: 0 | R164: =Q164*H164 -> 0 | S164: 0 | T164: =S164*H164 -> 0 | AR164: 8 | AT164: M | AU164: 1 | AY164: ROZPOCET | BE164: =IF(N164="základná",J164,0) -> 0 | BF164: =IF(N164="znížená",J164,0) -> 0 | BG164: =IF(N164="zákl. prenesená",J164,0) -> 0 | BH164: =IF(N164="zníž. prenesená",J164,0) -> 0 | BI164: =IF(N164="nulová",J164,0) -> 0 | BJ164: 2 | BK164: =ROUND(I164*H164,3) -> 0 | BL164: 4 | BM164: 70
C165: 36 | D165: M | E165: Pol36 | F165: Spojka na trubku PEP 25 | G165: ks | H165: 24 | J165: =ROUND(I165*H165,3) -> 0 | N165: znížená | O165: 0 | P165: =O165*H165 -> 0 | Q165: 0 | R165: =Q165*H165 -> 0 | S165: 0 | T165: =S165*H165 -> 0 | AR165: 8 | AT165: M | AU165: 1 | AY165: ROZPOCET | BE165: =IF(N165="základná",J165,0) -> 0 | BF165: =IF(N165="znížená",J165,0) -> 0 | BG165: =IF(N165="zákl. prenesená",J165,0) -> 0 | BH165: =IF(N165="zníž. prenesená",J165,0) -> 0 | BI165: =IF(N165="nulová",J165,0) -> 0 | BJ165: 2 | BK165: =ROUND(I165*H165,3) -> 0 | BL165: 4 | BM165: 72
C166: 37 | D166: M | E166: Pol37 | F166: Príchytka na trubku PEP 25 | G166: ks | H166: 70 | J166: =ROUND(I166*H166,3) -> 0 | N166: znížená | O166: 0 | P166: =O166*H166 -> 0 | Q166: 0 | R166: =Q166*H166 -> 0 | S166: 0 | T166: =S166*H166 -> 0 | AR166: 8 | AT166: M | AU166: 1 | AY166: ROZPOCET | BE166: =IF(N166="základná",J166,0) -> 0 | BF166: =IF(N166="znížená",J166,0) -> 0 | BG166: =IF(N166="zákl. prenesená",J166,0) -> 0 | BH166: =IF(N166="zníž. prenesená",J166,0) -> 0 | BI166: =IF(N166="nulová",J166,0) -> 0 | BJ166: 2 | BK166: =ROUND(I166*H166,3) -> 0 | BL166: 4 | BM166: 74
C167: 38 | D167: K | E167: Pol38 | F167: Škatuľová rozvodka z lisov. izolantu vč. ukončenia káblov a zapojenia vodičov typ 6455-26 do 6 mm2 | G167: ks | H167: 21 | J167: =ROUND(I167*H167,3) -> 0 | N167: znížená | O167: 0 | P167: =O167*H167 -> 0 | Q167: 0 | R167: =Q167*H167 -> 0 | S167: 0 | T167: =S167*H167 -> 0 | AR167: 4 | AT167: K | AU167: 1 | AY167: ROZPOCET | BE167: =IF(N167="základná",J167,0) -> 0 | BF167: =IF(N167="znížená",J167,0) -> 0 | BG167: =IF(N167="zákl. prenesená",J167,0) -> 0 | BH167: =IF(N167="zníž. prenesená",J167,0) -> 0 | BI167: =IF(N167="nulová",J167,0) -> 0 | BJ167: 2 | BK167: =ROUND(I167*H167,3) -> 0 | BL167: 4 | BM167: 76
C168: 39 | D168: M | E168: Pol39 | F168: Krabica 6455-12 acid, IP67, stredná | G168: ks | H168: 21 | J168: =ROUND(I168*H168,3) -> 0 | N168: znížená | O168: 0 | P168: =O168*H168 -> 0 | Q168: 0 | R168: =Q168*H168 -> 0 | S168: 0 | T168: =S168*H168 -> 0 | AR168: 8 | AT168: M | AU168: 1 | AY168: ROZPOCET | BE168: =IF(N168="základná",J168,0) -> 0 | BF168: =IF(N168="znížená",J168,0) -> 0 | BG168: =IF(N168="zákl. prenesená",J168,0) -> 0 | BH168: =IF(N168="zníž. prenesená",J168,0) -> 0 | BI168: =IF(N168="nulová",J168,0) -> 0 | BJ168: 2 | BK168: =ROUND(I168*H168,3) -> 0 | BL168: 4 | BM168: 78
C169: 40 | D169: K | E169: Pol40 | F169: Montáž káblových rebríkov | G169: m | H169: 5 | J169: =ROUND(I169*H169,3) -> 0 | N169: znížená | O169: 0 | P169: =O169*H169 -> 0 | Q169: 0 | R169: =Q169*H169 -> 0 | S169: 0 | T169: =S169*H169 -> 0 | AR169: 4 | AT169: K | AU169: 1 | AY169: ROZPOCET | BE169: =IF(N169="základná",J169,0) -> 0 | BF169: =IF(N169="znížená",J169,0) -> 0 | BG169: =IF(N169="zákl. prenesená",J169,0) -> 0 | BH169: =IF(N169="zníž. prenesená",J169,0) -> 0 | BI169: =IF(N169="nulová",J169,0) -> 0 | BJ169: 2 | BK169: =ROUND(I169*H169,3) -> 0 | BL169: 4 | BM169: 80
C170: 41 | D170: M | E170: Pol41 | F170: Rebrík káblový DUD300H50/3N 300x50mm 3m kovový zinkovaný | G170: m | H170: 5 | J170: =ROUND(I170*H170,3) -> 0 | N170: znížená | O170: 0 | P170: =O170*H170 -> 0 | Q170: 0 | R170: =Q170*H170 -> 0 | S170: 0 | T170: =S170*H170 -> 0 | AR170: 8 | AT170: M | AU170: 1 | AY170: ROZPOCET | BE170: =IF(N170="základná",J170,0) -> 0 | BF170: =IF(N170="znížená",J170,0) -> 0 | BG170: =IF(N170="zákl. prenesená",J170,0) -> 0 | BH170: =IF(N170="zníž. prenesená",J170,0) -> 0 | BI170: =IF(N170="nulová",J170,0) -> 0 | BJ170: 2 | BK170: =ROUND(I170*H170,3) -> 0 | BL170: 4 | BM170: 82
C171: 42 | D171: K | E171: Pol42 | F171: Lano oceľové do 8mm2 | G171: m | H171: 150 | J171: =ROUND(I171*H171,3) -> 0 | N171: znížená | O171: 0 | P171: =O171*H171 -> 0 | Q171: 0 | R171: =Q171*H171 -> 0 | S171: 0 | T171: =S171*H171 -> 0 | AR171: 4 | AT171: K | AU171: 1 | AY171: ROZPOCET | BE171: =IF(N171="základná",J171,0) -> 0 | BF171: =IF(N171="znížená",J171,0) -> 0 | BG171: =IF(N171="zákl. prenesená",J171,0) -> 0 | BH171: =IF(N171="zníž. prenesená",J171,0) -> 0 | BI171: =IF(N171="nulová",J171,0) -> 0 | BJ171: 2 | BK171: =ROUND(I171*H171,3) -> 0 | BL171: 4 | BM171: 84
C172: 43 | D172: M | E172: Pol43 | F172: Oceľové nosné lano 6mm2 | G172: m | H172: 150 | J172: =ROUND(I172*H172,3) -> 0 | N172: znížená | O172: 0 | P172: =O172*H172 -> 0 | Q172: 0 | R172: =Q172*H172 -> 0 | S172: 0 | T172: =S172*H172 -> 0 | AR172: 8 | AT172: M | AU172: 1 | AY172: ROZPOCET | BE172: =IF(N172="základná",J172,0) -> 0 | BF172: =IF(N172="znížená",J172,0) -> 0 | BG172: =IF(N172="zákl. prenesená",J172,0) -> 0 | BH172: =IF(N172="zníž. prenesená",J172,0) -> 0 | BI172: =IF(N172="nulová",J172,0) -> 0 | BJ172: 2 | BK172: =ROUND(I172*H172,3) -> 0 | BL172: 4 | BM172: 86
C173: 44 | D173: K | E173: Pol44 | F173: Ukotvenie oceľového lana vzdušného vedenia | G173: ks | H173: 6 | J173: =ROUND(I173*H173,3) -> 0 | N173: znížená | O173: 0 | P173: =O173*H173 -> 0 | Q173: 0 | R173: =Q173*H173 -> 0 | S173: 0 | T173: =S173*H173 -> 0 | AR173: 4 | AT173: K | AU173: 1 | AY173: ROZPOCET | BE173: =IF(N173="základná",J173,0) -> 0 | BF173: =IF(N173="znížená",J173,0) -> 0 | BG173: =IF(N173="zákl. prenesená",J173,0) -> 0 | BH173: =IF(N173="zníž. prenesená",J173,0) -> 0 | BI173: =IF(N173="nulová",J173,0) -> 0 | BJ173: 2 | BK173: =ROUND(I173*H173,3) -> 0 | BL173: 4 | BM173: 88
C174: 45 | D174: M | E174: Pol45 | F174: Lanové očnice | G174: ks | H174: 6 | J174: =ROUND(I174*H174,3) -> 0 | N174: znížená | O174: 0 | P174: =O174*H174 -> 0 | Q174: 0 | R174: =Q174*H174 -> 0 | S174: 0 | T174: =S174*H174 -> 0 | AR174: 8 | AT174: M | AU174: 1 | AY174: ROZPOCET | BE174: =IF(N174="základná",J174,0) -> 0 | BF174: =IF(N174="znížená",J174,0) -> 0 | BG174: =IF(N174="zákl. prenesená",J174,0) -> 0 | BH174: =IF(N174="zníž. prenesená",J174,0) -> 0 | BI174: =IF(N174="nulová",J174,0) -> 0 | BJ174: 2 | BK174: =ROUND(I174*H174,3) -> 0 | BL174: 4 | BM174: 90
... C223: 95 | D223: M | E223: Pol91 | F223: Chránička FXKV 63 | G223: m | H223: 12 | J223: =ROUND(I223*H223,3) -> 0 | N223: znížená | O223: 0 | P223: =O223*H223 -> 0 | Q223: 0 | R223: =Q223*H223 -> 0 | S223: 0 | T223: =S223*H223 -> 0 | AR223: 8 | AT223: M | AU223: 1 | AY223: ROZPOCET | BE223: =IF(N223="základná",J223,0) -> 0 | BF223: =IF(N223="znížená",J223,0) -> 0 | BG223: =IF(N223="zákl. prenesená",J223,0) -> 0 | BH223: =IF(N223="zníž. prenesená",J223,0) -> 0 | BI223: =IF(N223="nulová",J223,0) -> 0 | BJ223: 2 | BK223: =ROUND(I223*H223,3) -> 0 | BL223: 4 | BM223: 188
D224: D | E224: D3 | F224: Ostatné | J224: =BK224 -> 0 | P224: =SUM(P225:P231) -> 0 | R224: =SUM(R225:R231) -> 0 | T224: =SUM(T225:T231) -> 0 | AR224: 1 | AT224: D | AU224: 0 | AY224: ROZPOCET | BK224: =SUM(BK225:BK231) -> 0
C225: 96 | D225: K | E225: Pol92 | F225: Podružný materiál | G225: % | H225: 3 | J225: =ROUND(I225*H225,3) -> 0 | N225: znížená | O225: 0 | P225: =O225*H225 -> 0 | Q225: 0 | R225: =Q225*H225 -> 0 | S225: 0 | T225: =S225*H225 -> 0 | AR225: 4 | AT225: K | AU225: 1 | AY225: ROZPOCET | BE225: =IF(N225="základná",J225,0) -> 0 | BF225: =IF(N225="znížená",J225,0) -> 0 | BG225: =IF(N225="zákl. prenesená",J225,0) -> 0 | BH225: =IF(N225="zníž. prenesená",J225,0) -> 0 | BI225: =IF(N225="nulová",J225,0) -> 0 | BJ225: 2 | BK225: =ROUND(I225*H225,3) -> 0 | BL225: 4 | BM225: 190
C226: 97 | D226: K | E226: Pol93 | F226: Podieľ pridružených výkonov | G226: % | H226: 6 | J226: =ROUND(I226*H226,3) -> 0 | N226: znížená | O226: 0 | P226: =O226*H226 -> 0 | Q226: 0 | R226: =Q226*H226 -> 0 | S226: 0 | T226: =S226*H226 -> 0 | AR226: 4 | AT226: K | AU226: 1 | AY226: ROZPOCET | BE226: =IF(N226="základná",J226,0) -> 0 | BF226: =IF(N226="znížená",J226,0) -> 0 | BG226: =IF(N226="zákl. prenesená",J226,0) -> 0 | BH226: =IF(N226="zníž. prenesená",J226,0) -> 0 | BI226: =IF(N226="nulová",J226,0) -> 0 | BJ226: 2 | BK226: =ROUND(I226*H226,3) -> 0 | BL226: 4 | BM226: 192
C227: 98 | D227: K | E227: Pol94 | F227: Mimostavenisková preprava | G227: % | H227: 3 | J227: =ROUND(I227*H227,3) -> 0 | N227: znížená | O227: 0 | P227: =O227*H227 -> 0 | Q227: 0 | R227: =Q227*H227 -> 0 | S227: 0 | T227: =S227*H227 -> 0 | AR227: 4 | AT227: K | AU227: 1 | AY227: ROZPOCET | BE227: =IF(N227="základná",J227,0) -> 0 | BF227: =IF(N227="znížená",J227,0) -> 0 | BG227: =IF(N227="zákl. prenesená",J227,0) -> 0 | BH227: =IF(N227="zníž. prenesená",J227,0) -> 0 | BI227: =IF(N227="nulová",J227,0) -> 0 | BJ227: 2 | BK227: =ROUND(I227*H227,3) -> 0 | BL227: 4 | BM227: 194
C228: 99 | D228: K | E228: Pol95 | F228: Revízia | G228: súb | H228: 1 | J228: =ROUND(I228*H228,3) -> 0 | N228: znížená | O228: 0 | P228: =O228*H228 -> 0 | Q228: 0 | R228: =Q228*H228 -> 0 | S228: 0 | T228: =S228*H228 -> 0 | AR228: 4 | AT228: K | AU228: 1 | AY228: ROZPOCET | BE228: =IF(N228="základná",J228,0) -> 0 | BF228: =IF(N228="znížená",J228,0) -> 0 | BG228: =IF(N228="zákl. prenesená",J228,0) -> 0 | BH228: =IF(N228="zníž. prenesená",J228,0) -> 0 | BI228: =IF(N228="nulová",J228,0) -> 0 | BJ228: 2 | BK228: =ROUND(I228*H228,3) -> 0 | BL228: 4 | BM228: 196
C229: 100 | D229: K | E229: Pol96 | F229: Projektová skutočného vyhotovenia | G229: súb | H229: 1 | J229: =ROUND(I229*H229,3) -> 0 | N229: znížená | O229: 0 | P229: =O229*H229 -> 0 | Q229: 0 | R229: =Q229*H229 -> 0 | S229: 0 | T229: =S229*H229 -> 0 | AR229: 4 | AT229: K | AU229: 1 | AY229: ROZPOCET | BE229: =IF(N229="základná",J229,0) -> 0 | BF229: =IF(N229="znížená",J229,0) -> 0 | BG229: =IF(N229="zákl. prenesená",J229,0) -> 0 | BH229: =IF(N229="zníž. prenesená",J229,0) -> 0 | BI229: =IF(N229="nulová",J229,0) -> 0 | BJ229: 2 | BK229: =ROUND(I229*H229,3) -> 0 | BL229: 4 | BM229: 198
C230: 101 | D230: K | E230: Pol97 | F230: Montážna plošina | G230: súb | H230: 1 | J230: =ROUND(I230*H230,3) -> 0 | N230: znížená | O230: 0 | P230: =O230*H230 -> 0 | Q230: 0 | R230: =Q230*H230 -> 0 | S230: 0 | T230: =S230*H230 -> 0 | AR230: 4 | AT230: K | AU230: 1 | AY230: ROZPOCET | BE230: =IF(N230="základná",J230,0) -> 0 | BF230: =IF(N230="znížená",J230,0) -> 0 | BG230: =IF(N230="zákl. prenesená",J230,0) -> 0 | BH230: =IF(N230="zníž. prenesená",J230,0) -> 0 | BI230: =IF(N230="nulová",J230,0) -> 0 | BJ230: 2 | BK230: =ROUND(I230*H230,3) -> 0 | BL230: 4 | BM230: 200
C231: 102 | D231: K | E231: Pol98 | F231: TI SR NR - Schválenie technickej dokumentácii, skutočné prevedenie, úradná skúška /podľa stavebného objektu/ | G231: súb | H231: 1 | J231: =ROUND(I231*H231,3) -> 0 | N231: znížená | O231: 0 | P231: =O231*H231 -> 0 | Q231: 0 | R231: =Q231*H231 -> 0 | S231: 0 | T231: =S231*H231 -> 0 | AR231: 4 | AT231: K | AU231: 1 | AY231: ROZPOCET | BE231: =IF(N231="základná",J231,0) -> 0 | BF231: =IF(N231="znížená",J231,0) -> 0 | BG231: =IF(N231="zákl. prenesená",J231,0) -> 0 | BH231: =IF(N231="zníž. prenesená",J231,0) -> 0 | BI231: =IF(N231="nulová",J231,0) -> 0 | BJ231: 2 | BK231: =ROUND(I231*H231,3) -> 0 | BL231: 4 | BM231: 202

Sheet 02 - SO 02 - Spevnené plo...
L2: >> skryté stĺpce << | AT2: {8ce0a304-c15e-41fb-96eb-361d6dae27f3}
AT3: 0
D4: KRYCÍ LIST ROZPOČTU | M4: v --- nižšie sa nachádzajú doplnkové a pomocné údaje k zostavám --- v | AT4: False
D6: Stavba:
E7: ='Rekapitulácia stavby'!K6 -> Sklad bio strukovín a maku - prestavba
D8: Objekt:
E9: 02 - SO 02 - Spevnené plochy - nové
D11: JKSO: | I11: KS:
D12: Miesto: | F12: Patince časť Potkanovo | I12: Dátum:
D14: Objednávateľ: | I14: IČO:
E15: Villem & Forró, s.r.o. | I15: IČ DPH:
D17: Zhotoviteľ: | I17: IČO: | J17: ='Rekapitulácia stavby'!AN13
E18: ='Rekapitulácia stavby'!E14 | I18: IČ DPH: | J18: ='Rekapitulácia stavby'!AN14
D20: Projektant: | I20: IČO:
I21: IČ DPH:
D23: Spracovateľ: | I23: IČO: | J23: =IF('Rekapitulácia stavby'!AN19="","",'Rekapitulácia stavby'!AN19)
E24: =IF('Rekapitulácia stavby'!E20="","",'Rekapitulácia stavby'!E20) | I24: IČ DPH: | J24: =IF('Rekapitulácia stavby'!AN20="","",'Rekapitulácia stavby'!AN20)
D26: Poznámka:
D30: Náklady z rozpočtu | J30: =J96 -> 0
D31: Ostatné náklady | J31: =J105 -> 0
D32: Cena bez DPH | J32: =ROUND(J30 + J31, 2) -> 0
F34: Základ dane | I34: Sadzba dane | J34: Výška dane
D35: DPH | E35: základná | F35: =ROUND((SUM(BE105:BE106) + SUM(BE126:BE157)), 2) -> 0 | I35: 0.2 | J35: =ROUND(((SUM(BE105:BE106) + SUM(BE126:BE157))*I35), 2) -> 0
E36: znížená | F36: =ROUND((SUM(BF105:BF106) + SUM(BF126:BF157)), 2) -> 0 | I36: 0.2 | J36: =ROUND(((SUM(BF105:BF106) + SUM(BF126:BF157))*I36), 2) -> 0
E37: zákl. prenesená | F37: =ROUND((SUM(BG105:BG106) + SUM(BG126:BG157)), 2) -> 0 | I37: 0.2 | J37: =0 -> 0
E38: zníž. prenesená | F38: =ROUND((SUM(BH105:BH106) + SUM(BH126:BH157)), 2) -> 0 | I38: 0.2 | J38: =0 -> 0
E39: nulová | F39: =ROUND((SUM(BI105:BI106) + SUM(BI126:BI157)), 2) -> 0 | I39: 0 | J39: =0 -> 0
D41: Cena s DPH | G41: v | H41: EUR | J41: =SUM(J32:J39) -> 0
D50: Projektant | G50: Spracovateľ
D61: Dátum a podpis: | F61: Pečiatka | G61: Dátum a podpis: | J61: Pečiatka
D65: Objednávateľ | G65: Zhotoviteľ
D76: Dátum a podpis: | F76: Pečiatka | G76: Dátum a podpis: | J76: Pečiatka
C82: REKAPITULÁCIA ROZPOČTU
C84: Stavba:
E85: =E7 -> Sklad bio strukovín a maku - prestavba
C86: Objekt:
E87: =E9 -> 02 - SO 02 - Spevnené plochy - nové
C89: Miesto: | F89: =F12 -> Patince časť Potkanovo | I89: Dátum: | J89: =IF(J12="","",J12)
C91: Objednávateľ: | F91: =E15 -> Villem & Forró, s.r.o. | I91: Projektant:
C92: Zhotoviteľ: | F92: =IF(E18="","",E18) | I92: Spracovateľ: | J92: =E24
C94: Kód dielu - Popis | J94: Cena celkom [EUR]
C96: 1) Náklady z rozpočtu | J96: =J126 -> 0 | AU96: -1
D97: HSV - Práce a dodávky HSV | J97: =J127 -> 0
D98: 1 - Zemné práce | J98: =J128 -> 0
D99: 2 - Zakladanie | J99: =J140 -> 0
D100: 5 - Komunikácie | J100: =J142 -> 0
D101: 9 - Ostatné konštrukcie a práce-búranie | J101: =J146 -> 0
D102: 99 - Presun hmôt HSV | J102: =J156 -> 0
C105: 2) Ostatné náklady | J105: 0 | N105: DPH
C107: Celkové náklady za stavbu 1) + 2) | J107: =ROUND(J96+J105,2) -> 0
C113: ROZPOČET
C115: Stavba:
E116: =E7 -> Sklad bio strukovín a maku - prestavba
C117: Objekt:
E118: =E9 -> 02 - SO 02 - Spevnené plochy - nové
C120: Miesto: | F120: =F12 -> Patince časť Potkanovo | I120: Dátum: | J120: =IF(J12="","",J12)
C122: Objednávateľ: | F122: =E15 -> Villem & Forró, s.r.o. | I122: Projektant:
C123: Zhotoviteľ: | F123: =IF(E18="","",E18) | I123: Spracovateľ: | J123: =E24
C125: PČ | D125: Typ | E125: Kód | F125: Popis | G125: MJ | H125: Množstvo | I125: J.cena [EUR] | J125: Cena celkom [EUR] | K125: Cenová sústava | N125: DPH | O125: J. Nh [h] | P125: Nh celkom [h] | Q125: J. hmotnosť [t] | R125: Hmotnosť celkom [t] | S125: J. suť [t] | T125: Suť Celkom [t]
C126: Náklady z rozpočtu | J126: =BK126 -> 0 | P126: =P127 -> 702.98459 | R126: =R127 -> 538.55371 | T126: =T127 -> 38.5 | AT126: D | AU126: -1 | BK126: =BK127 -> 0
D127: D | E127: HSV | F127: Práce a dodávky HSV | J127: =BK127 -> 0 | P127: =P128+P140+P142+P146+P156 -> 702.98459 | R127: =R128+R140+R142+R146+R156 -> 538.55371 | T127: =T128+T140+T142+T146+T156 -> 38.5 | AR127: 1 | AT127: D | AU127: 0 | AY127: ROZPOCET | BK127: =BK128+BK140+BK142+BK146+BK156 -> 0
D128: D | E128: 1 | F128: Zemné práce | J128: =BK128 -> 0 | P128: =SUM(P129:P139) -> 318.4417 | R128: =SUM(R129:R139) -> 0 | T128: =SUM(T129:T139) -> 38.5 | AR128: 1 | AT128: D | AU128: 1 | AY128: ROZPOCET | BK128: =SUM(BK129:BK139) -> 0
C129: 1 | D129: K | E129: 113107132.S | F129: Odstránenie krytu v ploche do 200 m2 z betónu prostého, hr. vrstvy 150 do 300 mm, -0,50000t | G129: m2 | H129: 77 | J129: =ROUND(I129*H129,3) -> 0 | N129: znížená | O129: 1.97 | P129: =O129*H129 -> 151.69 | Q129: 0 | R129: =Q129*H129 -> 0 | S129: 0.5 | T129: =S129*H129 -> 38.5 | AR129: 4 | AT129: K | AU129: 2 | AY129: ROZPOCET | BE129: =IF(N129="základná",J129,0) -> 0 | BF129: =IF(N129="znížená",J129,0) -> 0 | BG129: =IF(N129="zákl. prenesená",J129,0) -> 0 | BH129: =IF(N129="zníž. prenesená",J129,0) -> 0 | BI129: =IF(N129="nulová",J129,0) -> 0 | BJ129: 2 | BK129: =ROUND(I129*H129,3) -> 0 | BL129: 4 | BM129: 1430749944
C130: 2 | D130: K | E130: 122201102.S | F130: Odkopávka a prekopávka nezapažená v hornine 3, nad 100 do 1000 m3 | G130: m3 | H130: 159.72 | J130: =ROUND(I130*H130,3) -> 0 | N130: znížená | O130: 0.243 | P130: =O130*H130 -> 38.81196 | Q130: 0 | R130: =Q130*H130 -> 0 | S130: 0 | T130: =S130*H130 -> 0 | AR130: 4 | AT130: K | AU130: 2 | AY130: ROZPOCET | BE130: =IF(N130="základná",J130,0) -> 0 | BF130: =IF(N130="znížená",J130,0) -> 0 | BG130: =IF(N130="zákl. prenesená",J130,0) -> 0 | BH130: =IF(N130="zníž. prenesená",J130,0) -> 0 | BI130: =IF(N130="nulová",J130,0) -> 0 | BJ130: 2 | BK130: =ROUND(I130*H130,3) -> 0 | BL130: 4 | BM130: -120301233
C131: 3 | D131: K | E131: 122201109.S | F131: Odkopávky a prekopávky nezapažené. Príplatok k cenám za lepivosť horniny 3 | G131: m3 | H131: 159.72 | J131: =ROUND(I131*H131,3) -> 0 | N131: znížená | O131: 0.056 | P131: =O131*H131 -> 8.94432 | Q131: 0 | R131: =Q131*H131 -> 0 | S131: 0 | T131: =S131*H131 -> 0 | AR131: 4 | AT131: K | AU131: 2 | AY131: ROZPOCET | BE131: =IF(N131="základná",J131,0) -> 0 | BF131: =IF(N131="znížená",J131,0) -> 0 | BG131: =IF(N131="zákl. prenesená",J131,0) -> 0 | BH131: =IF(N131="zníž. prenesená",J131,0) -> 0 | BI131: =IF(N131="nulová",J131,0) -> 0 | BJ131: 2 | BK131: =ROUND(I131*H131,3) -> 0 | BL131: 4 | BM131: -1675689250
C132: 4 | D132: K | E132: 162201102.S | F132: Vodorovné premiestnenie výkopku z horniny 1-4 nad 20-50m | G132: m3 | H132: 159.72 | J132: =ROUND(I132*H132,3) -> 0 | N132: znížená | O132: 0.069 | P132: =O132*H132 -> 11.02068 | Q132: 0 | R132: =Q132*H132 -> 0 | S132: 0 | T132: =S132*H132 -> 0 | AR132: 4 | AT132: K | AU132: 2 | AY132: ROZPOCET | BE132: =IF(N132="základná",J132,0) -> 0 | BF132: =IF(N132="znížená",J132,0) -> 0 | BG132: =IF(N132="zákl. prenesená",J132,0) -> 0 | BH132: =IF(N132="zníž. prenesená",J132,0) -> 0 | BI132: =IF(N132="nulová",J132,0) -> 0 | BJ132: 2 | BK132: =ROUND(I132*H132,3) -> 0 | BL132: 4 | BM132: -1085364593
C133: 5 | D133: K | E133: 162501122.S | F133: Vodorovné premiestnenie výkopku po spevnenej ceste z horniny tr.1-4, nad 100 do 1000 m3 na vzdialenosť do 3000 m | G133: m3 | H133: 119.79 | J133: =ROUND(I133*H133,3) -> 0 | N133: znížená | O133: 0.0544 | P133: =O133*H133 -> 6.516576 | Q133: 0 | R133: =Q133*H133 -> 0 | S133: 0 | T133: =S133*H133 -> 0 | AR133: 4 | AT133: K | AU133: 2 | AY133: ROZPOCET | BE133: =IF(N133="základná",J133,0) -> 0 | BF133: =IF(N133="znížená",J133,0) -> 0 | BG133: =IF(N133="zákl. prenesená",J133,0) -> 0 | BH133: =IF(N133="zníž. prenesená",J133,0) -> 0 | BI133: =IF(N133="nulová",J133,0) -> 0 | BJ133: 2 | BK133: =ROUND(I133*H133,3) -> 0 | BL133: 4 | BM133: 977717200
C134: 6 | D134: K | E134: 162501123.S | F134: Vodorovné premiestnenie výkopku po spevnenej ceste z horniny tr.1-4, nad 100 do 1000 m3, príplatok k cene za každých ďalšich a začatých 1000 m | G134: m3 | H134: 2036.43 | J134: =ROUND(I134*H134,3) -> 0 | N134: znížená | O134: 0.00539 | P134: =O134*H134 -> 10.976358 | Q134: 0 | R134: =Q134*H134 -> 0 | S134: 0 | T134: =S134*H134 -> 0 | AR134: 4 | AT134: K | AU134: 2 | AY134: ROZPOCET | BE134: =IF(N134="základná",J134,0) -> 0 | BF134: =IF(N134="znížená",J134,0) -> 0 | BG134: =IF(N134="zákl. prenesená",J134,0) -> 0 | BH134: =IF(N134="zníž. prenesená",J134,0) -> 0 | BI134: =IF(N134="nulová",J134,0) -> 0 | BJ134: 2 | BK134: =ROUND(I134*H134,3) -> 0 | BL134: 4 | BM134: 1152967313
C135: 7 | D135: K | E135: 167101101.S | F135: Nakladanie neuľahnutého výkopku z hornín tr.1-4 do 100 m3 | G135: m3 | H135: 119.79 | J135: =ROUND(I135*H135,3) -> 0 | N135: znížená | O135: 0.617 | P135: =O135*H135 -> 73.91043 | Q135: 0 | R135: =Q135*H135 -> 0 | S135: 0 | T135: =S135*H135 -> 0 | AR135: 4 | AT135: K | AU135: 2 | AY135: ROZPOCET | BE135: =IF(N135="základná",J135,0) -> 0 | BF135: =IF(N135="znížená",J135,0) -> 0 | BG135: =IF(N135="zákl. prenesená",J135,0) -> 0 | BH135: =IF(N135="zníž. prenesená",J135,0) -> 0 | BI135: =IF(N135="nulová",J135,0) -> 0 | BJ135: 2 | BK135: =ROUND(I135*H135,3) -> 0 | BL135: 4 | BM135: 1762318559
C136: 8 | D136: K | E136: 171201202.S | F136: Uloženie sypaniny na skládky nad 100 do 1000 m3 | G136: m3 | H136: 119.79 | J136: =ROUND(I136*H136,3) -> 0 | N136: znížená | O136: 0.008 | P136: =O136*H136 -> 0.95832 | Q136: 0 | R136: =Q136*H136 -> 0 | S136: 0 | T136: =S136*H136 -> 0 | AR136: 4 | AT136: K | AU136: 2 | AY136: ROZPOCET | BE136: =IF(N136="základná",J136,0) -> 0 | BF136: =IF(N136="znížená",J136,0) -> 0 | BG136: =IF(N136="zákl. prenesená",J136,0) -> 0 | BH136: =IF(N136="zníž. prenesená",J136,0) -> 0 | BI136: =IF(N136="nulová",J136,0) -> 0 | BJ136: 2 | BK136: =ROUND(I136*H136,3) -> 0 | BL136: 4 | BM136: -1218981266
C137: 9 | D137: K | E137: 171209002.S | F137: Poplatok za skladovanie - zemina a kamenivo (17 05) ostatné | G137: t | H137: 191.664 | J137: =ROUND(I137*H137,3) -> 0 | N137: znížená | O137: 0 | P137: =O137*H137 -> 0 | Q137: 0 | R137: =Q137*H137 -> 0 | S137: 0 | T137: =S137*H137 -> 0 | AR137: 4 | AT137: K | AU137: 2 | AY137: ROZPOCET | BE137: =IF(N137="základná",J137,0) -> 0 | BF137: =IF(N137="znížená",J137,0) -> 0 | BG137: =IF(N137="zákl. prenesená",J137,0) -> 0 | BH137: =IF(N137="zníž. prenesená",J137,0) -> 0 | BI137: =IF(N137="nulová",J137,0) -> 0 | BJ137: 2 | BK137: =ROUND(I137*H137,3) -> 0 | BL137: 4 | BM137: -1276361382
C138: 10 | D138: K | E138: 174101001.S | F138: Zásyp sypaninou so zhutnením jám, šachiet, rýh, zárezov alebo okolo objektov do 100 m3 | G138: m3 | H138: 39.93 | J138: =ROUND(I138*H138,3) -> 0 | N138: znížená | O138: 0.242 | P138: =O138*H138 -> 9.66306 | Q138: 0 | R138: =Q138*H138 -> 0 | S138: 0 | T138: =S138*H138 -> 0 | AR138: 4 | AT138: K | AU138: 2 | AY138: ROZPOCET | BE138: =IF(N138="základná",J138,0) -> 0 | BF138: =IF(N138="znížená",J138,0) -> 0 | BG138: =IF(N138="zákl. prenesená",J138,0) -> 0 | BH138: =IF(N138="zníž. prenesená",J138,0) -> 0 | BI138: =IF(N138="nulová",J138,0) -> 0 | BJ138: 2 | BK138: =ROUND(I138*H138,3) -> 0 | BL138: 4 | BM138: 1040096638
C139: 11 | D139: K | E139: 181101102.S | F139: Úprava pláne v zárezoch v hornine 1-4 so zhutnením | G139: m2 | H139: 350 | J139: =ROUND(I139*H139,3) -> 0 | N139: znížená | O139: 0.017 | P139: =O139*H139 -> 5.95 | Q139: 0 | R139: =Q139*H139 -> 0 | S139: 0 | T139: =S139*H139 -> 0 | AR139: 4 | AT139: K | AU139: 2 | AY139: ROZPOCET | BE139: =IF(N139="základná",J139,0) -> 0 | BF139: =IF(N139="znížená",J139,0) -> 0 | BG139: =IF(N139="zákl. prenesená",J139,0) -> 0 | BH139: =IF(N139="zníž. prenesená",J139,0) -> 0 | BI139: =IF(N139="nulová",J139,0) -> 0 | BJ139: 2 | BK139: =ROUND(I139*H139,3) -> 0 | BL139: 4 | BM139: 1991627034
D140: D | E140: 2 | F140: Zakladanie | J140: =BK140 -> 0 | P140: =P141 -> 1.4 | R140: =R141 -> 0 | T140: =T141 -> 0 | AR140: 1 | AT140: D | AU140: 1 | AY140: ROZPOCET | BK140: =BK141 -> 0
C141: 12 | D141: K | E141: 215901101.S | F141: Zhutnenie podložia z rastlej horniny 1 až 4 pod násypy, z hornina súdržných do 92 % PS a nesúdržných | G141: m2 | H141: 350 | J141: =ROUND(I141*H141,3) -> 0 | N141: znížená | O141: 0.004 | P141: =O141*H141 -> 1.4 | Q141: 0 | R141: =Q141*H141 -> 0 | S141: 0 | T141: =S141*H141 -> 0 | AR141: 4 | AT141: K | AU141: 2 | AY141: ROZPOCET | BE141: =IF(N141="základná",J141,0) -> 0 | BF141: =IF(N141="znížená",J141,0) -> 0 | BG141: =IF(N141="zákl. prenesená",J141,0) -> 0 | BH141: =IF(N141="zníž. prenesená",J141,0) -> 0 | BI141: =IF(N141="nulová",J141,0) -> 0 | BJ141: 2 | BK141: =ROUND(I141*H141,3) -> 0 | BL141: 4 | BM141: -1898063751
D142: D | E142: 5 | F142: Komunikácie | J142: =BK142 -> 0 | P142: =SUM(P143:P145) -> 243.87184 | R142: =SUM(R143:R145) -> 504.21876 | T142: =SUM(T143:T145) -> 0 | AR142: 1 | AT142: D | AU142: 1 | AY142: ROZPOCET | BK142: =SUM(BK143:BK145) -> 0
C143: 13 | D143: K | E143: 564261111.S | F143: Podklad alebo podsyp zo štrkopiesku s rozprestretím, vlhčením a zhutnením, po zhutnení hr. 200 mm | G143: m2 | H143: 242 | J143: =ROUND(I143*H143,3) -> 0 | N143: znížená | O143: 0.01812 | P143: =O143*H143 -> 4.38504 | Q143: 0.4048 | R143: =Q143*H143 -> 97.9616 | S143: 0 | T143: =S143*H143 -> 0 | AR143: 4 | AT143: K | AU143: 2 | AY143: ROZPOCET | BE143: =IF(N143="základná",J143,0) -> 0 | BF143: =IF(N143="znížená",J143,0) -> 0 | BG143: =IF(N143="zákl. prenesená",J143,0) -> 0 | BH143: =IF(N143="zníž. prenesená",J143,0) -> 0 | BI143: =IF(N143="nulová",J143,0) -> 0 | BJ143: 2 | BK143: =ROUND(I143*H143,3) -> 0 | BL143: 4 | BM143: 1000239944
C144: 14 | D144: K | E144: 567143112.S | F144: Podklad z kameniva stmeleného cementom s rozprestretím a zhutnením, CBGM C 5/6, po zhutnení hr. 220 mm | G144: m2 | H144: 242 | J144: =ROUND(I144*H144,3) -> 0 | N144: znížená | O144: 0.0251 | P144: =O144*H144 -> 6.0742 | Q144: 0.51829 | R144: =Q144*H144 -> 125.42618 | S144: 0 | T144: =S144*H144 -> 0 | AR144: 4 | AT144: K | AU144: 2 | AY144: ROZPOCET | BE144: =IF(N144="základná",J144,0) -> 0 | BF144: =IF(N144="znížená",J144,0) -> 0 | BG144: =IF(N144="zákl. prenesená",J144,0) -> 0 | BH144: =IF(N144="zníž. prenesená",J144,0) -> 0 | BI144: =IF(N144="nulová",J144,0) -> 0 | BJ144: 2 | BK144: =ROUND(I144*H144,3) -> 0 | BL144: 4 | BM144: -1320064832
C145: 15 | D145: K | E145: 581140114.S. | F145: Kryt cementobetónový cestných komunikácií skupiny CB I pre TDZ I a II, hr. 240 mm vrátane dilatácie, metličkovej úpravy | G145: m2 | H145: 468.7 | J145: =ROUND(I145*H145,3) -> 0 | N145: znížená | O145: 0.498 | P145: =O145*H145 -> 233.4126 | Q145: 0.59917 | R145: =Q145*H145 -> 280.83098 | S145: 0 | T145: =S145*H145 -> 0 | AR145: 4 | AT145: K | AU145: 2 | AY145: ROZPOCET | BE145: =IF(N145="základná",J145,0) -> 0 | BF145: =IF(N145="znížená",J145,0) -> 0 | BG145: =IF(N145="zákl. prenesená",J145,0) -> 0 | BH145: =IF(N145="zníž. prenesená",J145,0) -> 0 | BI145: =IF(N145="nulová",J145,0) -> 0 | BJ145: 2 | BK145: =ROUND(I145*H145,3) -> 0 | BL145: 4 | BM145: 673106080
D146: D | E146: 9 | F146: Ostatné konštrukcie a práce-búranie | J146: =BK146 -> 0 | P146: =SUM(P147:P155) -> 123.11443 | R146: =SUM(R147:R155) -> 34.334948 | T146: =SUM(T147:T155) -> 0 | AR146: 1 | AT146: D | AU146: 1 | AY146: ROZPOCET | BK146: =SUM(BK147:BK155) -> 0
C147: 16 | D147: K | E147: 916331113.S | F147: Osadenie cestného obrubníka betónového ležatého do lôžka z betónu prostého tr. C 20/25 bez bočnej opory | G147: m | H147: 20 | J147: =ROUND(I147*H147,3) -> 0 | N147: znížená | O147: 0.27 | P147: =O147*H147 -> 5.4 | Q147: 0.1459 | R147: =Q147*H147 -> 2.918 | S147: 0 | T147: =S147*H147 -> 0 | AR147: 4 | AT147: K | AU147: 2 | AY147: ROZPOCET | BE147: =IF(N147="základná",J147,0) -> 0 | BF147: =IF(N147="znížená",J147,0) -> 0 | BG147: =IF(N147="zákl. prenesená",J147,0) -> 0 | BH147: =IF(N147="zníž. prenesená",J147,0) -> 0 | BI147: =IF(N147="nulová",J147,0) -> 0 | BJ147: 2 | BK147: =ROUND(I147*H147,3) -> 0 | BL147: 4 | BM147: 1850816041
C148: 17 | D148: M | E148: 592170003800.S | F148: Obrubník cestný so skosením, lxšxv 1000x150x250 mm, prírodný | G148: ks | H148: 20.2 | J148: =ROUND(I148*H148,3) -> 0 | N148: znížená | O148: 0 | P148: =O148*H148 -> 0 | Q148: 0.081 | R148: =Q148*H148 -> 1.6362 | S148: 0 | T148: =S148*H148 -> 0 | AR148: 8 | AT148: M | AU148: 2 | AY148: ROZPOCET | BE148: =IF(N148="základná",J148,0) -> 0 | BF148: =IF(N148="znížená",J148,0) -> 0 | BG148: =IF(N148="zákl. prenesená",J148,0) -> 0 | BH148: =IF(N148="zníž. prenesená",J148,0) -> 0 | BI148: =IF(N148="nulová",J148,0) -> 0 | BJ148: 2 | BK148: =ROUND(I148*H148,3) -> 0 | BL148: 4 | BM148: -1109900467
C149: 18 | D149: K | E149: 916332113.S | F149: Osadenie cestného obrubníka betónového stojatého do lôžka z betónu prostého tr. C 20/25 bez bočnej opory | G149: m | H149: 149.795 | J149: =ROUND(I149*H149,3) -> 0 | N149: znížená | O149: 0.215 | P149: =O149*H149 -> 32.205925 | Q149: 0.117 | R149: =Q149*H149 -> 17.526015 | S149: 0 | T149: =S149*H149 -> 0 | AR149: 4 | AT149: K | AU149: 2 | AY149: ROZPOCET | BE149: =IF(N149="základná",J149,0) -> 0 | BF149: =IF(N149="znížená",J149,0) -> 0 | BG149: =IF(N149="zákl. prenesená",J149,0) -> 0 | BH149: =IF(N149="zníž. prenesená",J149,0) -> 0 | BI149: =IF(N149="nulová",J149,0) -> 0 | BJ149: 2 | BK149: =ROUND(I149*H149,3) -> 0 | BL149: 4 | BM149: -1504145739
C150: 19 | D150: M | E150: 592170003800.S | F150: Obrubník cestný so skosením, lxšxv 1000x150x250 mm, prírodný | G150: ks | H150: 151.293 | J150: =ROUND(I150*H150,3) -> 0 | N150: znížená | O150: 0 | P150: =O150*H150 -> 0 | Q150: 0.081 | R150: =Q150*H150 -> 12.254733 | S150: 0 | T150: =S150*H150 -> 0 | AR150: 8 | AT150: M | AU150: 2 | AY150: ROZPOCET | BE150: =IF(N150="základná",J150,0) -> 0 | BF150: =IF(N150="znížená",J150,0) -> 0 | BG150: =IF(N150="zákl. prenesená",J150,0) -> 0 | BH150: =IF(N150="zníž. prenesená",J150,0) -> 0 | BI150: =IF(N150="nulová",J150,0) -> 0 | BJ150: 2 | BK150: =ROUND(I150*H150,3) -> 0 | BL150: 4 | BM150: -508333891
C151: 20 | D151: K | E151: 979081111.S | F151: Odvoz sutiny a vybúraných hmôt na skládku do 1 km | G151: t | H151: 38.5 | J151: =ROUND(I151*H151,3) -> 0 | N151: znížená | O151: 0.598 | P151: =O151*H151 -> 23.023 | Q151: 0 | R151: =Q151*H151 -> 0 | S151: 0 | T151: =S151*H151 -> 0 | AR151: 4 | AT151: K | AU151: 2 | AY151: ROZPOCET | BE151: =IF(N151="základná",J151,0) -> 0 | BF151: =IF(N151="znížená",J151,0) -> 0 | BG151: =IF(N151="zákl. prenesená",J151,0) -> 0 | BH151: =IF(N151="zníž. prenesená",J151,0) -> 0 | BI151: =IF(N151="nulová",J151,0) -> 0 | BJ151: 2 | BK151: =ROUND(I151*H151,3) -> 0 | BL151: 4 | BM151: 2115221569
C152: 21 | D152: K | E152: 979081121.S | F152: Odvoz sutiny a vybúraných hmôt na skládku za každý ďalší 1 km | G152: t | H152: 731.5 | J152: =ROUND(I152*H152,3) -> 0 | N152: znížená | O152: 0.007 | P152: =O152*H152 -> 5.1205 | Q152: 0 | R152: =Q152*H152 -> 0 | S152: 0 | T152: =S152*H152 -> 0 | AR152: 4 | AT152: K | AU152: 2 | AY152: ROZPOCET | BE152: =IF(N152="základná",J152,0) -> 0 | BF152: =IF(N152="znížená",J152,0) -> 0 | BG152: =IF(N152="zákl. prenesená",J152,0) -> 0 | BH152: =IF(N152="zníž. prenesená",J152,0) -> 0 | BI152: =IF(N152="nulová",J152,0) -> 0 | BJ152: 2 | BK152: =ROUND(I152*H152,3) -> 0 | BL152: 4 | BM152: -8681804
C153: 22 | D153: K | E153: 979082111.S | F153: Vnútrostavenisková doprava sutiny a vybúraných hmôt do 10 m | G153: t | H153: 38.5 | J153: =ROUND(I153*H153,3) -> 0 | N153: znížená | O153: 0.89 | P153: =O153*H153 -> 34.265 | Q153: 0 | R153: =Q153*H153 -> 0 | S153: 0 | T153: =S153*H153 -> 0 | AR153: 4 | AT153: K | AU153: 2 | AY153: ROZPOCET | BE153: =IF(N153="základná",J153,0) -> 0 | BF153: =IF(N153="znížená",J153,0) -> 0 | BG153: =IF(N153="zákl. prenesená",J153,0) -> 0 | BH153: =IF(N153="zníž. prenesená",J153,0) -> 0 | BI153: =IF(N153="nulová",J153,0) -> 0 | BJ153: 2 | BK153: =ROUND(I153*H153,3) -> 0 | BL153: 4 | BM153: -1077617173
C154: 23 | D154: K | E154: 979082121.S | F154: Vnútrostavenisková doprava sutiny a vybúraných hmôt za každých ďalších 5 m | G154: t | H154: 231 | J154: =ROUND(I154*H154,3) -> 0 | N154: znížená | O154: 0.1 | P154: =O154*H154 -> 23.1 | Q154: 0 | R154: =Q154*H154 -> 0 | S154: 0 | T154: =S154*H154 -> 0 | AR154: 4 | AT154: K | AU154: 2 | AY154: ROZPOCET | BE154: =IF(N154="základná",J154,0) -> 0 | BF154: =IF(N154="znížená",J154,0) -> 0 | BG154: =IF(N154="zákl. prenesená",J154,0) -> 0 | BH154: =IF(N154="zníž. prenesená",J154,0) -> 0 | BI154: =IF(N154="nulová",J154,0) -> 0 | BJ154: 2 | BK154: =ROUND(I154*H154,3) -> 0 | BL154: 4 | BM154: 1601035211
C155: 24 | D155: K | E155: 979089612.S | F155: Poplatok za skladovanie - iné odpady zo stavieb a demolácií (17 09), ostatné | G155: t | H155: 38.5 | J155: =ROUND(I155*H155,3) -> 0 | N155: znížená | O155: 0 | P155: =O155*H155 -> 0 | Q155: 0 | R155: =Q155*H155 -> 0 | S155: 0 | T155: =S155*H155 -> 0 | AR155: 4 | AT155: K | AU155: 2 | AY155: ROZPOCET | BE155: =IF(N155="základná",J155,0) -> 0 | BF155: =IF(N155="znížená",J155,0) -> 0 | BG155: =IF(N155="zákl. prenesená",J155,0) -> 0 | BH155: =IF(N155="zníž. prenesená",J155,0) -> 0 | BI155: =IF(N155="nulová",J155,0) -> 0 | BJ155: 2 | BK155: =ROUND(I155*H155,3) -> 0 | BL155: 4 | BM155: 2012285240
D156: D | E156: 99 | F156: Presun hmôt HSV | J156: =BK156 -> 0 | P156: =P157 -> 16.15662 | R156: =R157 -> 0 | T156: =T157 -> 0 | AR156: 1 | AT156: D | AU156: 1 | AY156: ROZPOCET | BK156: =BK157 -> 0
C157: 25 | D157: K | E157: 998224111.S | F157: Presun hmôt pre pozemné komunikácie s krytom monolitickým betónovým akejkoľvek dĺžky objektu | G157: t | H157: 538.554 | J157: =ROUND(I157*H157,3) -> 0 | N157: znížená | O157: 0.03 | P157: =O157*H157 -> 16.15662 | Q157: 0 | R157: =Q157*H157 -> 0 | S157: 0 | T157: =S157*H157 -> 0 | AR157: 4 | AT157: K | AU157: 2 | AY157: ROZPOCET | BE157: =IF(N157="základná",J157,0) -> 0 | BF157: =IF(N157="znížená",J157,0) -> 0 | BG157: =IF(N157="zákl. prenesená",J157,0) -> 0 | BH157: =IF(N157="zníž. prenesená",J157,0) -> 0 | BI157: =IF(N157="nulová",J157,0) -> 0 | BJ157: 2 | BK157: =ROUND(I157*H157,3) -> 0 | BL157: 4 | BM157: 1107621180

Sheet 03 - SO 03 - Cestná váha ...
L2: >> skryté stĺpce << | AT2: {6388727a-28a1-4d34-885f-bd895d9c52b0}
AT3: 0
D4: KRYCÍ LIST ROZPOČTU | M4: v --- nižšie sa nachádzajú doplnkové a pomocné údaje k zostavám --- v | AT4: False
D6: Stavba:
E7: ='Rekapitulácia stavby'!K6 -> Sklad bio strukovín a maku - prestavba
D8: Objekt:
E9: 03 - SO 03 - Cestná váha - stavebná príprava
D11: JKSO: | I11: KS:
D12: Miesto: | F12: Patince časť Potkanovo | I12: Dátum:
D14: Objednávateľ: | I14: IČO:
E15: Villem & Forró, s.r.o. | I15: IČ DPH:
D17: Zhotoviteľ: | I17: IČO: | J17: ='Rekapitulácia stavby'!AN13
E18: ='Rekapitulácia stavby'!E14 | I18: IČ DPH: | J18: ='Rekapitulácia stavby'!AN14
D20: Projektant: | I20: IČO:
I21: IČ DPH:
D23: Spracovateľ: | I23: IČO: | J23: =IF('Rekapitulácia stavby'!AN19="","",'Rekapitulácia stavby'!AN19)
E24: =IF('Rekapitulácia stavby'!E20="","",'Rekapitulácia stavby'!E20) | I24: IČ DPH: | J24: =IF('Rekapitulácia stavby'!AN20="","",'Rekapitulácia stavby'!AN20)
D26: Poznámka:
D30: Náklady z rozpočtu | J30: =J96 -> 0
D31: Ostatné náklady | J31: =J105 -> 0
D32: Cena bez DPH | J32: =ROUND(J30 + J31, 2) -> 0
F34: Základ dane | I34: Sadzba dane | J34: Výška dane
D35: DPH | E35: základná | F35: =ROUND((SUM(BE105:BE106) + SUM(BE126:BE159)), 2) -> 0 | I35: 0.2 | J35: =ROUND(((SUM(BE105:BE106) + SUM(BE126:BE159))*I35), 2) -> 0
E36: znížená | F36: =ROUND((SUM(BF105:BF106) + SUM(BF126:BF159)), 2) -> 0 | I36: 0.2 | J36: =ROUND(((SUM(BF105:BF106) + SUM(BF126:BF159))*I36), 2) -> 0
E37: zákl. prenesená | F37: =ROUND((SUM(BG105:BG106) + SUM(BG126:BG159)), 2) -> 0 | I37: 0.2 | J37: =0 -> 0
E38: zníž. prenesená | F38: =ROUND((SUM(BH105:BH106) + SUM(BH126:BH159)), 2) -> 0 | I38: 0.2 | J38: =0 -> 0
E39: nulová | F39: =ROUND((SUM(BI105:BI106) + SUM(BI126:BI159)), 2) -> 0 | I39: 0 | J39: =0 -> 0
D41: Cena s DPH | G41: v | H41: EUR | J41: =SUM(J32:J39) -> 0
D50: Projektant | G50: Spracovateľ
D61: Dátum a podpis: | F61: Pečiatka | G61: Dátum a podpis: | J61: Pečiatka
D65: Objednávateľ | G65: Zhotoviteľ
D76: Dátum a podpis: | F76: Pečiatka | G76: Dátum a podpis: | J76: Pečiatka
C82: REKAPITULÁCIA ROZPOČTU
C84: Stavba:
E85: =E7 -> Sklad bio strukovín a maku - prestavba
C86: Objekt:
E87: =E9 -> 03 - SO 03 - Cestná váha - stavebná príprava
C89: Miesto: | F89: =F12 -> Patince časť Potkanovo | I89: Dátum: | J89: =IF(J12="","",J12)
C91: Objednávateľ: | F91: =E15 -> Villem & Forró, s.r.o. | I91: Projektant:
C92: Zhotoviteľ: | F92: =IF(E18="","",E18) | I92: Spracovateľ: | J92: =E24
C94: Kód dielu - Popis | J94: Cena celkom [EUR]
C96: 1) Náklady z rozpočtu | J96: =J126 -> 0 | AU96: -1
D97: HSV - Práce a dodávky HSV | J97: =J127 -> 0
D98: 1 - Zemné práce | J98: =J128 -> 0
D99: 2 - Zakladanie | J99: =J140 -> 0
D100: 99 - Presun hmôt HSV | J100: =J152 -> 0
D101: PSV - Práce a dodávky PSV | J101: =J154 -> 0
D102: 767 - Konštrukcie doplnkové kovové | J102: =J155 -> 0
C105: 2) Ostatné náklady | J105: 0 | N105: DPH
C107: Celkové náklady za stavbu 1) + 2) | J107: =ROUND(J96+J105,2) -> 0
C113: ROZPOČET
C115: Stavba:
E116: =E7 -> Sklad bio strukovín a maku - prestavba
C117: Objekt:
E118: =E9 -> 03 - SO 03 - Cestná váha - stavebná príprava
C120: Miesto: | F120: =F12 -> Patince časť Potkanovo | I120: Dátum: | J120: =IF(J12="","",J12)
C122: Objednávateľ: | F122: =E15 -> Villem & Forró, s.r.o. | I122: Projektant:
C123: Zhotoviteľ: | F123: =IF(E18="","",E18) | I123: Spracovateľ: | J123: =E24
C125: PČ | D125: Typ | E125: Kód | F125: Popis | G125: MJ | H125: Množstvo | I125: J.cena [EUR] | J125: Cena celkom [EUR] | K125: Cenová sústava | N125: DPH | O125: J. Nh [h] | P125: Nh celkom [h] | Q125: J. hmotnosť [t] | R125: Hmotnosť celkom [t] | S125: J. suť [t] | T125: Suť Celkom [t]
C126: Náklady z rozpočtu | J126: =BK126 -> 0 | P126: =P127+P154 -> 259.8513 | R126: =R127+R154 -> 109.66812 | T126: =T127+T154 -> 0 | AT126: D | AU126: -1 | BK126: =BK127+BK154 -> 0
D127: D | E127: HSV | F127: Práce a dodávky HSV | J127: =BK127 -> 0 | P127: =P128+P140+P152 -> 253.09706 | R127: =R128+R140+R152 -> 109.66684 | T127: =T128+T140+T152 -> 0 | AR127: 1 | AT127: D | AU127: 0 | AY127: ROZPOCET | BK127: =BK128+BK140+BK152 -> 0
D128: D | E128: 1 | F128: Zemné práce | J128: =BK128 -> 0 | P128: =SUM(P129:P139) -> 86.137128 | R128: =SUM(R129:R139) -> 0 | T128: =SUM(T129:T139) -> 0 | AR128: 1 | AT128: D | AU128: 1 | AY128: ROZPOCET | BK128: =SUM(BK129:BK139) -> 0
C129: 1 | D129: K | E129: 131201101.S | F129: Výkop nezapaženej jamy v hornine 3, do 100 m3 | G129: m3 | H129: 29.7 | J129: =ROUND(I129*H129,3) -> 0 | N129: znížená | O129: 0.838 | P129: =O129*H129 -> 24.8886 | Q129: 0 | R129: =Q129*H129 -> 0 | S129: 0 | T129: =S129*H129 -> 0 | AR129: 4 | AT129: K | AU129: 2 | AY129: ROZPOCET | BE129: =IF(N129="základná",J129,0) -> 0 | BF129: =IF(N129="znížená",J129,0) -> 0 | BG129: =IF(N129="zákl. prenesená",J129,0) -> 0 | BH129: =IF(N129="zníž. prenesená",J129,0) -> 0 | BI129: =IF(N129="nulová",J129,0) -> 0 | BJ129: 2 | BK129: =ROUND(I129*H129,3) -> 0 | BL129: 4 | BM129: -52583101
C130: 2 | D130: K | E130: 131201109.S | F130: Hĺbenie nezapažených jám a zárezov. Príplatok za lepivosť horniny 3 | G130: m3 | H130: 29.7 | J130: =ROUND(I130*H130,3) -> 0 | N130: znížená | O130: 0.042 | P130: =O130*H130 -> 1.2474 | Q130: 0 | R130: =Q130*H130 -> 0 | S130: 0 | T130: =S130*H130 -> 0 | AR130: 4 | AT130: K | AU130: 2 | AY130: ROZPOCET | BE130: =IF(N130="základná",J130,0) -> 0 | BF130: =IF(N130="znížená",J130,0) -> 0 | BG130: =IF(N130="zákl. prenesená",J130,0) -> 0 | BH130: =IF(N130="zníž. prenesená",J130,0) -> 0 | BI130: =IF(N130="nulová",J130,0) -> 0 | BJ130: 2 | BK130: =ROUND(I130*H130,3) -> 0 | BL130: 4 | BM130: 734796053
C131: 3 | D131: K | E131: 132201201.S | F131: Výkop ryhy šírky 600-2000mm horn.3 do 100m3 | G131: m3 | H131: 11.34 | J131: =ROUND(I131*H131,3) -> 0 | N131: znížená | O131: 1.509 | P131: =O131*H131 -> 17.11206 | Q131: 0 | R131: =Q131*H131 -> 0 | S131: 0 | T131: =S131*H131 -> 0 | AR131: 4 | AT131: K | AU131: 2 | AY131: ROZPOCET | BE131: =IF(N131="základná",J131,0) -> 0 | BF131: =IF(N131="znížená",J131,0) -> 0 | BG131: =IF(N131="zákl. prenesená",J131,0) -> 0 | BH131: =IF(N131="zníž. prenesená",J131,0) -> 0 | BI131: =IF(N131="nulová",J131,0) -> 0 | BJ131: 2 | BK131: =ROUND(I131*H131,3) -> 0 | BL131: 4 | BM131: 1720822542
C132: 4 | D132: K | E132: 132201209.S | F132: Príplatok k cenám za lepivosť pri hĺbení rýh š. nad 600 do 2 000 mm zapaž. i nezapažených, s urovnaním dna v hornine 3 | G132: m3 | H132: 11.34 | J132: =ROUND(I132*H132,3) -> 0 | N132: znížená | O132: 0.08 | P132: =O132*H132 -> 0.9072 | Q132: 0 | R132: =Q132*H132 -> 0 | S132: 0 | T132: =S132*H132 -> 0 | AR132: 4 | AT132: K | AU132: 2 | AY132: ROZPOCET | BE132: =IF(N132="základná",J132,0) -> 0 | BF132: =IF(N132="znížená",J132,0) -> 0 | BG132: =IF(N132="zákl. prenesená",J132,0) -> 0 | BH132: =IF(N132="zníž. prenesená",J132,0) -> 0 | BI132: =IF(N132="nulová",J132,0) -> 0 | BJ132: 2 | BK132: =ROUND(I132*H132,3) -> 0 | BL132: 4 | BM132: 247546601
C133: 5 | D133: K | E133: 162201102.S | F133: Vodorovné premiestnenie výkopku z horniny 1-4 nad 20-50m | G133: m3 | H133: 41.04 | J133: =ROUND(I133*H133,3) -> 0 | N133: znížená | O133: 0.069 | P133: =O133*H133 -> 2.83176 | Q133: 0 | R133: =Q133*H133 -> 0 | S133: 0 | T133: =S133*H133 -> 0 | AR133: 4 | AT133: K | AU133: 2 | AY133: ROZPOCET | BE133: =IF(N133="základná",J133,0) -> 0 | BF133: =IF(N133="znížená",J133,0) -> 0 | BG133: =IF(N133="zákl. prenesená",J133,0) -> 0 | BH133: =IF(N133="zníž. prenesená",J133,0) -> 0 | BI133: =IF(N133="nulová",J133,0) -> 0 | BJ133: 2 | BK133: =ROUND(I133*H133,3) -> 0 | BL133: 4 | BM133: -1068237010
C134: 6 | D134: K | E134: 162501102.S | F134: Vodorovné premiestnenie výkopku po spevnenej ceste z horniny tr.1-4, do 100 m3 na vzdialenosť do 3000 m | G134: m3 | H134: 41.04 | J134: =ROUND(I134*H134,3) -> 0 | N134: znížená | O134: 0.071 | P134: =O134*H134 -> 2.91384 | Q134: 0 | R134: =Q134*H134 -> 0 | S134: 0 | T134: =S134*H134 -> 0 | AR134: 4 | AT134: K | AU134: 2 | AY134: ROZPOCET | BE134: =IF(N134="základná",J134,0) -> 0 | BF134: =IF(N134="znížená",J134,0) -> 0 | BG134: =IF(N134="zákl. prenesená",J134,0) -> 0 | BH134: =IF(N134="zníž. prenesená",J134,0) -> 0 | BI134: =IF(N134="nulová",J134,0) -> 0 | BJ134: 2 | BK134: =ROUND(I134*H134,3) -> 0 | BL134: 4 | BM134: 333607259
C135: 7 | D135: K | E135: 162501112.S | F135: Vodorovné premiestnenie výkopku po nespevnenej ceste z horniny tr.1-4, do 100 m3 na vzdialenosť do 3000 m | G135: m3 | H135: 41.04 | J135: =ROUND(I135*H135,3) -> 0 | N135: znížená | O135: 0.098 | P135: =O135*H135 -> 4.02192 | Q135: 0 | R135: =Q135*H135 -> 0 | S135: 0 | T135: =S135*H135 -> 0 | AR135: 4 | AT135: K | AU135: 2 | AY135: ROZPOCET | BE135: =IF(N135="základná",J135,0) -> 0 | BF135: =IF(N135="znížená",J135,0) -> 0 | BG135: =IF(N135="zákl. prenesená",J135,0) -> 0 | BH135: =IF(N135="zníž. prenesená",J135,0) -> 0 | BI135: =IF(N135="nulová",J135,0) -> 0 | BJ135: 2 | BK135: =ROUND(I135*H135,3) -> 0 | BL135: 4 | BM135: -2077641859
C136: 8 | D136: K | E136: 162501113.S | F136: Vodorovné premiestnenie výkopku po nespevnenej ceste z horniny tr.1-4, do 100 m3, príplatok k cene za každých ďalšich a začatých 1000 m | G136: m3 | H136: 697.68 | J136: =ROUND(I136*H136,3) -> 0 | N136: znížená | O136: 0.00935 | P136: =O136*H136 -> 6.523308 | Q136: 0 | R136: =Q136*H136 -> 0 | S136: 0 | T136: =S136*H136 -> 0 | AR136: 4 | AT136: K | AU136: 2 | AY136: ROZPOCET | BE136: =IF(N136="základná",J136,0) -> 0 | BF136: =IF(N136="znížená",J136,0) -> 0 | BG136: =IF(N136="zákl. prenesená",J136,0) -> 0 | BH136: =IF(N136="zníž. prenesená",J136,0) -> 0 | BI136: =IF(N136="nulová",J136,0) -> 0 | BJ136: 2 | BK136: =ROUND(I136*H136,3) -> 0 | BL136: 4 | BM136: 837332444
C137: 9 | D137: K | E137: 167101101.S | F137: Nakladanie neuľahnutého výkopku z hornín tr.1-4 do 100 m3 | G137: m3 | H137: 41.04 | J137: =ROUND(I137*H137,3) -> 0 | N137: znížená | O137: 0.617 | P137: =O137*H137 -> 25.32168 | Q137: 0 | R137: =Q137*H137 -> 0 | S137: 0 | T137: =S137*H137 -> 0 | AR137: 4 | AT137: K | AU137: 2 | AY137: ROZPOCET | BE137: =IF(N137="základná",J137,0) -> 0 | BF137: =IF(N137="znížená",J137,0) -> 0 | BG137: =IF(N137="zákl. prenesená",J137,0) -> 0 | BH137: =IF(N137="zníž. prenesená",J137,0) -> 0 | BI137: =IF(N137="nulová",J137,0) -> 0 | BJ137: 2 | BK137: =ROUND(I137*H137,3) -> 0 | BL137: 4 | BM137: 218250282
C138: 10 | D138: K | E138: 171201201.S | F138: Uloženie sypaniny na skládky do 100 m3 | G138: m3 | H138: 41.04 | J138: =ROUND(I138*H138,3) -> 0 | N138: znížená | O138: 0.009 | P138: =O138*H138 -> 0.36936 | Q138: 0 | R138: =Q138*H138 -> 0 | S138: 0 | T138: =S138*H138 -> 0 | AR138: 4 | AT138: K | AU138: 2 | AY138: ROZPOCET | BE138: =IF(N138="základná",J138,0) -> 0 | BF138: =IF(N138="znížená",J138,0) -> 0 | BG138: =IF(N138="zákl. prenesená",J138,0) -> 0 | BH138: =IF(N138="zníž. prenesená",J138,0) -> 0 | BI138: =IF(N138="nulová",J138,0) -> 0 | BJ138: 2 | BK138: =ROUND(I138*H138,3) -> 0 | BL138: 4 | BM138: 690165654
C139: 11 | D139: K | E139: 171209002.S | F139: Poplatok za skladovanie - zemina a kamenivo (17 05) ostatné | G139: t | H139: 65.664 | J139: =ROUND(I139*H139,3) -> 0 | N139: znížená | O139: 0 | P139: =O139*H139 -> 0 | Q139: 0 | R139: =Q139*H139 -> 0 | S139: 0 | T139: =S139*H139 -> 0 | AR139: 4 | AT139: K | AU139: 2 | AY139: ROZPOCET | BE139: =IF(N139="základná",J139,0) -> 0 | BF139: =IF(N139="znížená",J139,0) -> 0 | BG139: =IF(N139="zákl. prenesená",J139,0) -> 0 | BH139: =IF(N139="zníž. prenesená",J139,0) -> 0 | BI139: =IF(N139="nulová",J139,0) -> 0 | BJ139: 2 | BK139: =ROUND(I139*H139,3) -> 0 | BL139: 4 | BM139: -1602896039
D140: D | E140: 2 | F140: Zakladanie | J140: =BK140 -> 0 | P140: =SUM(P141:P151) -> 163.66992 | R140: =SUM(R141:R151) -> 109.66684 | T140: =SUM(T141:T151) -> 0 | AR140: 1 | AT140: D | AU140: 1 | AY140: ROZPOCET | BK140: =SUM(BK141:BK151) -> 0
C141: 12 | D141: K | E141: 271533001.S | F141: Násyp pod základové konštrukcie so zhutnením z kameniva hrubého drveného fr.16-32 mm | G141: m3 | H141: 20.52 | J141: =ROUND(I141*H141,3) -> 0 | N141: znížená | O141: 1.1318 | P141: =O141*H141 -> 23.224536 | Q141: 2.07 | R141: =Q141*H141 -> 42.4764 | S141: 0 | T141: =S141*H141 -> 0 | AR141: 4 | AT141: K | AU141: 2 | AY141: ROZPOCET | BE141: =IF(N141="základná",J141,0) -> 0 | BF141: =IF(N141="znížená",J141,0) -> 0 | BG141: =IF(N141="zákl. prenesená",J141,0) -> 0 | BH141: =IF(N141="zníž. prenesená",J141,0) -> 0 | BI141: =IF(N141="nulová",J141,0) -> 0 | BJ141: 2 | BK141: =ROUND(I141*H141,3) -> 0 | BL141: 4 | BM141: 1521037611
C142: 13 | D142: K | E142: 273313711.S. | F142: Betón základových dosiek, prostý tr. C 25/30 - vodostavebný, podkladný betón - rampa | G142: m3 | H142: 1.65 | J142: =ROUND(I142*H142,3) -> 0 | N142: znížená | O142: 0.61771 | P142: =O142*H142 -> 1.0192215 | Q142: 2.41572 | R142: =Q142*H142 -> 3.985938 | S142: 0 | T142: =S142*H142 -> 0 | AR142: 4 | AT142: K | AU142: 2 | AY142: ROZPOCET | BE142: =IF(N142="základná",J142,0) -> 0 | BF142: =IF(N142="znížená",J142,0) -> 0 | BG142: =IF(N142="zákl. prenesená",J142,0) -> 0 | BH142: =IF(N142="zníž. prenesená",J142,0) -> 0 | BI142: =IF(N142="nulová",J142,0) -> 0 | BJ142: 2 | BK142: =ROUND(I142*H142,3) -> 0 | BL142: 4 | BM142: 1458863992
C143: 14 | D143: K | E143: 273321411.S. | F143: Betón základových dosiek, železový (bez výstuže), tr. C 25/30 - vodostavebný - rampa | G143: m3 | H143: 19.5 | J143: =ROUND(I143*H143,3) -> 0 | N143: znížená | O143: 0.619 | P143: =O143*H143 -> 12.0705 | Q143: 2.41572 | R143: =Q143*H143 -> 47.10654 | S143: 0 | T143: =S143*H143 -> 0 | AR143: 4 | AT143: K | AU143: 2 | AY143: ROZPOCET | BE143: =IF(N143="základná",J143,0) -> 0 | BF143: =IF(N143="znížená",J143,0) -> 0 | BG143: =IF(N143="zákl. prenesená",J143,0) -> 0 | BH143: =IF(N143="zníž. prenesená",J143,0) -> 0 | BI143: =IF(N143="nulová",J143,0) -> 0 | BJ143: 2 | BK143: =ROUND(I143*H143,3) -> 0 | BL143: 4 | BM143: -1734885306
C144: 15 | D144: K | E144: 273351217.S | F144: Debnenie stien základových dosiek, zhotovenie-tradičné | G144: m2 | H144: 30.6 | J144: =ROUND(I144*H144,3) -> 0 | N144: znížená | O144: 0.788 | P144: =O144*H144 -> 24.1128 | Q144: 0.00377 | R144: =Q144*H144 -> 0.115362 | S144: 0 | T144: =S144*H144 -> 0 | AR144: 4 | AT144: K | AU144: 2 | AY144: ROZPOCET | BE144: =IF(N144="základná",J144,0) -> 0 | BF144: =IF(N144="znížená",J144,0) -> 0 | BG144: =IF(N144="zákl. prenesená",J144,0) -> 0 | BH144: =IF(N144="zníž. prenesená",J144,0) -> 0 | BI144: =IF(N144="nulová",J144,0) -> 0 | BJ144: 2 | BK144: =ROUND(I144*H144,3) -> 0 | BL144: 4 | BM144: 1423232746
C145: 16 | D145: K | E145: 273351218.S | F145: Debnenie stien základových dosiek, odstránenie-tradičné | G145: m2 | H145: 30.6 | J145: =ROUND(I145*H145,3) -> 0 | N145: znížená | O145: 0.322 | P145: =O145*H145 -> 9.8532 | Q145: 0 | R145: =Q145*H145 -> 0 | S145: 0 | T145: =S145*H145 -> 0 | AR145: 4 | AT145: K | AU145: 2 | AY145: ROZPOCET | BE145: =IF(N145="základná",J145,0) -> 0 | BF145: =IF(N145="znížená",J145,0) -> 0 | BG145: =IF(N145="zákl. prenesená",J145,0) -> 0 | BH145: =IF(N145="zníž. prenesená",J145,0) -> 0 | BI145: =IF(N145="nulová",J145,0) -> 0 | BJ145: 2 | BK145: =ROUND(I145*H145,3) -> 0 | BL145: 4 | BM145: 1787825248
C146: 17 | D146: K | E146: 273361821.S | F146: Výstuž základových dosiek z ocele B500 (10505) | G146: t | H146: 1.755 | J146: =ROUND(I146*H146,3) -> 0 | N146: znížená | O146: 34.372 | P146: =O146*H146 -> 60.32286 | Q146: 1.01895 | R146: =Q146*H146 -> 1.7882573 | S146: 0 | T146: =S146*H146 -> 0 | AR146: 4 | AT146: K | AU146: 2 | AY146: ROZPOCET | BE146: =IF(N146="základná",J146,0) -> 0 | BF146: =IF(N146="znížená",J146,0) -> 0 | BG146: =IF(N146="zákl. prenesená",J146,0) -> 0 | BH146: =IF(N146="zníž. prenesená",J146,0) -> 0 | BI146: =IF(N146="nulová",J146,0) -> 0 | BJ146: 2 | BK146: =ROUND(I146*H146,3) -> 0 | BL146: 4 | BM146: 2081099239
C147: 18 | D147: K | E147: 275313711.S. | F147: Betón základových pätiek, prostý tr. C 25/30 - vodostavebný | G147: m3 | H147: 0.63 | J147: =ROUND(I147*H147,3) -> 0 | N147: znížená | O147: 0.58056 | P147: =O147*H147 -> 0.3657528 | Q147: 2.41572 | R147: =Q147*H147 -> 1.5219036 | S147: 0 | T147: =S147*H147 -> 0 | AR147: 4 | AT147: K | AU147: 2 | AY147: ROZPOCET | BE147: =IF(N147="základná",J147,0) -> 0 | BF147: =IF(N147="znížená",J147,0) -> 0 | BG147: =IF(N147="zákl. prenesená",J147,0) -> 0 | BH147: =IF(N147="zníž. prenesená",J147,0) -> 0 | BI147: =IF(N147="nulová",J147,0) -> 0 | BJ147: 2 | BK147: =ROUND(I147*H147,3) -> 0 | BL147: 4 | BM147: -826338833
C148: 19 | D148: K | E148: 275321411.S. | F148: Betón základových pätiek, železový (bez výstuže), tr. C 25/30 - vodostavebný | G148: m3 | H148: 5.04 | J148: =ROUND(I148*H148,3) -> 0 | N148: znížená | O148: 0.60356 | P148: =O148*H148 -> 3.0419424 | Q148: 2.41572 | R148: =Q148*H148 -> 12.175229 | S148: 0 | T148: =S148*H148 -> 0 | AR148: 4 | AT148: K | AU148: 2 | AY148: ROZPOCET | BE148: =IF(N148="základná",J148,0) -> 0 | BF148: =IF(N148="znížená",J148,0) -> 0 | BG148: =IF(N148="zákl. prenesená",J148,0) -> 0 | BH148: =IF(N148="zníž. prenesená",J148,0) -> 0 | BI148: =IF(N148="nulová",J148,0) -> 0 | BJ148: 2 | BK148: =ROUND(I148*H148,3) -> 0 | BL148: 4 | BM148: 1252959421
C149: 20 | D149: K | E149: 275351217.S | F149: Debnenie stien základových pätiek, zhotovenie-tradičné | G149: m2 | H149: 9.18 | J149: =ROUND(I149*H149,3) -> 0 | N149: znížená | O149: 1.052 | P149: =O149*H149 -> 9.65736 | Q149: 0.00377 | R149: =Q149*H149 -> 0.0346086 | S149: 0 | T149: =S149*H149 -> 0 | AR149: 4 | AT149: K | AU149: 2 | AY149: ROZPOCET | BE149: =IF(N149="základná",J149,0) -> 0 | BF149: =IF(N149="znížená",J149,0) -> 0 | BG149: =IF(N149="zákl. prenesená",J149,0) -> 0 | BH149: =IF(N149="zníž. prenesená",J149,0) -> 0 | BI149: =IF(N149="nulová",J149,0) -> 0 | BJ149: 2 | BK149: =ROUND(I149*H149,3) -> 0 | BL149: 4 | BM149: -1368010854
C150: 21 | D150: K | E150: 275351218.S | F150: Debnenie stien základových pätiek, odstránenie-tradičné | G150: m2 | H150: 9.18 | J150: =ROUND(I150*H150,3) -> 0 | N150: znížená | O150: 0.43 | P150: =O150*H150 -> 3.9474 | Q150: 0 | R150: =Q150*H150 -> 0 | S150: 0 | T150: =S150*H150 -> 0 | AR150: 4 | AT150: K | AU150: 2 | AY150: ROZPOCET | BE150: =IF(N150="základná",J150,0) -> 0 | BF150: =IF(N150="znížená",J150,0) -> 0 | BG150: =IF(N150="zákl. prenesená",J150,0) -> 0 | BH150: =IF(N150="zníž. prenesená",J150,0) -> 0 | BI150: =IF(N150="nulová",J150,0) -> 0 | BJ150: 2 | BK150: =ROUND(I150*H150,3) -> 0 | BL150: 4 | BM150: 623338374
C151: 22 | D151: K | E151: 275361821.S | F151: Výstuž základových pätiek z ocele B500 (10505) | G151: t | H151: 0.454 | J151: =ROUND(I151*H151,3) -> 0 | N151: znížená | O151: 35.362 | P151: =O151*H151 -> 16.054348 | Q151: 1.01895 | R151: =Q151*H151 -> 0.4626033 | S151: 0 | T151: =S151*H151 -> 0 | AR151: 4 | AT151: K | AU151: 2 | AY151: ROZPOCET | BE151: =IF(N151="základná",J151,0) -> 0 | BF151: =IF(N151="znížená",J151,0) -> 0 | BG151: =IF(N151="zákl. prenesená",J151,0) -> 0 | BH151: =IF(N151="zníž. prenesená",J151,0) -> 0 | BI151: =IF(N151="nulová",J151,0) -> 0 | BJ151: 2 | BK151: =ROUND(I151*H151,3) -> 0 | BL151: 4 | BM151: -283501551
D152: D | E152: 99 | F152: Presun hmôt HSV | J152: =BK152 -> 0 | P152: =P153 -> 3.29001 | R152: =R153 -> 0 | T152: =T153 -> 0 | AR152: 1 | AT152: D | AU152: 1 | AY152: ROZPOCET | BK152: =BK153 -> 0
C153: 23 | D153: K | E153: 998224111.S | F153: Presun hmôt pre pozemné komunikácie s krytom monolitickým betónovým akejkoľvek dĺžky objektu | G153: t | H153: 109.667 | J153: =ROUND(I153*H153,3) -> 0 | N153: znížená | O153: 0.03 | P153: =O153*H153 -> 3.29001 | Q153: 0 | R153: =Q153*H153 -> 0 | S153: 0 | T153: =S153*H153 -> 0 | AR153: 4 | AT153: K | AU153: 2 | AY153: ROZPOCET | BE153: =IF(N153="základná",J153,0) -> 0 | BF153: =IF(N153="znížená",J153,0) -> 0 | BG153: =IF(N153="zákl. prenesená",J153,0) -> 0 | BH153: =IF(N153="zníž. prenesená",J153,0) -> 0 | BI153: =IF(N153="nulová",J153,0) -> 0 | BJ153: 2 | BK153: =ROUND(I153*H153,3) -> 0 | BL153: 4 | BM153: 54413355
D154: D | E154: PSV | F154: Práce a dodávky PSV | J154: =BK154 -> 0 | P154: =P155 -> 6.75424 | R154: =R155 -> 0.00128 | T154: =T155 -> 0 | AR154: 2 | AT154: D | AU154: 0 | AY154: ROZPOCET | BK154: =BK155 -> 0
D155: D | E155: 767 | F155: Konštrukcie doplnkové kovové | J155: =BK155 -> 0 | P155: =SUM(P156:P159) -> 6.75424 | R155: =SUM(R156:R159) -> 0.00128 | T155: =SUM(T156:T159) -> 0 | AR155: 2 | AT155: D | AU155: 1 | AY155: ROZPOCET | BK155: =SUM(BK156:BK159) -> 0
C156: 24 | D156: K | E156: 767995000 | F156: Montáž a dodávka - kotviaci plech č. 1 - (kompletná dodávka podľa výkresu) vrátane potrebných náterov | G156: ks | H156: 8 | J156: =ROUND(I156*H156,3) -> 0 | N156: znížená | O156: 0.42214 | P156: =O156*H156 -> 3.37712 | Q156: 8e-05 | R156: =Q156*H156 -> 0.00064 | S156: 0 | T156: =S156*H156 -> 0 | AR156: 16 | AT156: K | AU156: 2 | AY156: ROZPOCET | BE156: =IF(N156="základná",J156,0) -> 0 | BF156: =IF(N156="znížená",J156,0) -> 0 | BG156: =IF(N156="zákl. prenesená",J156,0) -> 0 | BH156: =IF(N156="zníž. prenesená",J156,0) -> 0 | BI156: =IF(N156="nulová",J156,0) -> 0 | BJ156: 2 | BK156: =ROUND(I156*H156,3) -> 0 | BL156: 16 | BM156: -1440934390
C157: 25 | D157: K | E157: 767995001 | F157: Montáž a dodávka - kotviaci plech č. 2 - (kompletná dodávka podľa výkresu) vrátane potrebných náterov | G157: ks | H157: 2 | J157: =ROUND(I157*H157,3) -> 0 | N157: znížená | O157: 0.42214 | P157: =O157*H157 -> 0.84428 | Q157: 8e-05 | R157: =Q157*H157 -> 0.00016 | S157: 0 | T157: =S157*H157 -> 0 | AR157: 16 | AT157: K | AU157: 2 | AY157: ROZPOCET | BE157: =IF(N157="základná",J157,0) -> 0 | BF157: =IF(N157="znížená",J157,0) -> 0 | BG157: =IF(N157="zákl. prenesená",J157,0) -> 0 | BH157: =IF(N157="zníž. prenesená",J157,0) -> 0 | BI157: =IF(N157="nulová",J157,0) -> 0 | BJ157: 2 | BK157: =ROUND(I157*H157,3) -> 0 | BL157: 16 | BM157: -1596692525
C158: 26 | D158: K | E158: 767995002 | F158: Montáž a dodávka - prkvy 3a a 3b - (kompletná dodávka podľa výkresu) vrátane potrebných náterov | G158: m | H158: 6 | J158: =ROUND(I158*H158,3) -> 0 | N158: znížená | O158: 0.42214 | P158: =O158*H158 -> 2.53284 | Q158: 8e-05 | R158: =Q158*H158 -> 0.00048 | S158: 0 | T158: =S158*H158 -> 0 | AR158: 16 | AT158: K | AU158: 2 | AY158: ROZPOCET | BE158: =IF(N158="základná",J158,0) -> 0 | BF158: =IF(N158="znížená",J158,0) -> 0 | BG158: =IF(N158="zákl. prenesená",J158,0) -> 0 | BH158: =IF(N158="zníž. prenesená",J158,0) -> 0 | BI158: =IF(N158="nulová",J158,0) -> 0 | BJ158: 2 | BK158: =ROUND(I158*H158,3) -> 0 | BL158: 16 | BM158: 1221017809
C159: 27 | D159: K | E159: 998767201.S | F159: Presun hmôt pre kovové stavebné doplnkové konštrukcie v objektoch výšky do 6 m | G159: % | H159: 7.099 | J159: =ROUND(I159*H159,3) -> 0 | N159: znížená | O159: 0 | P159: =O159*H159 -> 0 | Q159: 0 | R159: =Q159*H159 -> 0 | S159: 0 | T159: =S159*H159 -> 0 | AR159: 16 | AT159: K | AU159: 2 | AY159: ROZPOCET | BE159: =IF(N159="základná",J159,0) -> 0 | BF159: =IF(N159="znížená",J159,0) -> 0 | BG159: =IF(N159="zákl. prenesená",J159,0) -> 0 | BH159: =IF(N159="zníž. prenesená",J159,0) -> 0 | BI159: =IF(N159="nulová",J159,0) -> 0 | BJ159: 2 | BK159: =ROUND(I159*H159,3) -> 0 | BL159: 16 | BM159: -430066695
