Workbook

Sheet Rekapitulácia stavby
A1: Export Komplet | BA1: 2.0 | BT1: False | BU1: False | BV1: {b9f16b86-a76b-4727-b522-59e3739a53bd}
AR2: >> skryté stĺpce << | BS2: 0,01 | BT2: 20
BS3: 0,01 | BT3: 20
D4: REKAPITULÁCIA STAVBY | AS4: v --- nižšie sa nachádzajú doplnkové a pomocné údaje k zostavám --- v | BE4: Návod na vyplnenie | BS4: 0,001
D5: Kód: | K5: 0055OPR2 | BE5: Meniť je možné iba bunky so žltým podfarbením!_x000D_ _x000D_ 1) na prvom liste Rekapitulácie stavby vyplňte v zostave_x000D_ _x000D_ a) Rekapitulácia stavby_x000D_ - údaje o Zhotoviteľovi_x000D_ (prenesú sa do ostatných zostáv aj v iných listoch)_x000D_ _x000D_ b) Rekapitulácia objektov stavby_x000D_ - potrebné Ostatné náklady_x000D_ _x000D_ 2) na vybraných listoch vyplňte v zostave_x000D_ _x000D_ a) Krycí list_x000D_ - údaje o Zhotoviteľovi, pokiaľ sa líšia od údajov o Zhotoviteľovi na Rekapitulácii stavby_x000D_ (údaje se prenesú do ostatných zostav v danom liste)_x000D_ _x000D_ b) Rekapitulácia rozpočtu_x000D_ - potrebné Ostatné náklady_x000D_ _x000D_ c) Celkové náklady za stavbu_x000D_ - ceny na položkách_x000D_ - množstvo, pokiaľ má žlté podfarbenie_x000D_ - a v prípade potreby poznámku (tá je v skrytom stĺpci) | BS5: 0,01
D6: Stavba: | K6: Chovná hala pre kury s voľným výbehom | BS6: 0,01
D7: JKSO: | AK7: KS: | BS7: 0,01
D8: Miesto: | K8: Dolné Trhovište 224, 920 61 Dolné Trhovište | AK8: Dátum: | AN8: 45370 | BS8: 0,01
BS9: 0,01
D10: Objednávateľ: | AK10: IČO: | BS10: 0,01
E11: FOOD FARM s.r.o., Piešťanská 3, 917 03 Trnava | AK11: IČ DPH: | BS11: 0,01
BS12: 0,01
D13: Zhotoviteľ: | AK13: IČO: | AN13: Vyplň údaj | BS13: 0,01
E14: Vyplň údaj | AK14: IČ DPH: | AN14: Vyplň údaj | BS14: 0,01
BS15: False
D16: Projektant: | AK16: IČO: | BS16: False
E17: ALLA ARCHITEKTI | AK17: IČ DPH: | BS17: True
BS18: 0,01
D19: Spracovateľ: | AK19: IČO: | BS19: 0,01
E20: Stanislav Hlubina | AK20: IČ DPH: | BS20: True
D22: Poznámka:
D26: Cena bez DPH | AK26: =ROUND(AG94,2) -> 0
L28: Sadzba dane | W28: Základ dane | AK28: Výška dane
D29: DPH | F29: základná | L29: 0.2 | W29: =ROUND(AZ94, 2) -> 0 | AK29: =ROUND(AV94, 2) -> 0
F30: znížená | L30: 0.2 | W30: =ROUND(BA94, 2) -> 0 | AK30: =ROUND(AW94, 2) -> 0
F31: zákl. prenesená | L31: 0.2 | W31: =ROUND(BB94, 2) -> 0 | AK31: 0
F32: zníž. prenesená | L32: 0.2 | W32: =ROUND(BC94, 2) -> 0 | AK32: 0
F33: nulová | L33: 0 | W33: =ROUND(BD94, 2) -> 0 | AK33: 0
D35: Cena s DPH | T35: v | X35: EUR | AK35: =SUM(AK26:AK33) -> 0
D49: Projektant | AH49: Spracovateľ
D60: Dátum a podpis: | V60: Pečiatka | AH60: Dátum a podpis: | AM60: Pečiatka
D64: Objednávateľ | AH64: Zhotoviteľ
D75: Dátum a podpis: | V75: Pečiatka | AH75: Dátum a podpis: | AM75: Pečiatka
C82: REKAPITULÁCIA OBJEKTOV STAVBY
C84: Kód: | L84: =K5 -> 0055OPR2
C85: Stavba: | L85: =K6 -> Chovná hala pre kury s voľným výbehom
C87: Miesto: | L87: =IF(K8="","",K8) -> Dolné Trhovište 224, 920 61 Dolné Trhovište | AI87: Dátum: | AM87: =IF(AN8= "","",AN8) -> 45370
C89: Objednávateľ: | L89: =IF(E11= "","",E11) -> FOOD FARM s.r.o., Piešťanská 3, 917 03 Trnava | AI89: Projektant: | AM89: =IF(E17="","",E17) -> ALLA ARCHITEKTI | AS89: Informatívne údaje z listov zákaziek
C90: Zhotoviteľ: | L90: =IF(E14= "Vyplň údaj","",E14) | AI90: Spracovateľ: | AM90: =IF(E20="","",E20) -> Stanislav Hlubina
C92: Kód | I92: Popis | AG92: Cena bez DPH [EUR] | AN92: Cena s DPH [EUR] | AQ92: Typ | AS92: z toho Ostat._x000D_ náklady [EUR] | AT92: DPH [EUR] | AU92: Normohodiny [h] | AV92: DPH základná [EUR] | AW92: DPH znížená [EUR] | AX92: DPH základná prenesená_x000D_ [EUR] | AY92: DPH znížená prenesená_x000D_ [EUR] | AZ92: Základňa_x000D_ DPH základná | BA92: Základňa_x000D_ DPH znížená | BB92: Základňa_x000D_ DPH zákl. prenesená | BC92: Základňa_x000D_ DPH zníž. prenesená | BD92: Základňa_x000D_ DPH nulová
...

Sheet 01, 02 - Architektúra, St...
L2: >> skryté stĺpce << | AT2: {bbd1715f-5555-407d-b611-48a1c1ced2ea}
AT3: 0
D4: KRYCÍ LIST ROZPOČTU | M4: v --- nižšie sa nachádzajú doplnkové a pomocné údaje k zostavám --- v | AT4: False
D6: Stavba:
E7: ='Rekapitulácia stavby'!K6 -> Chovná hala pre kury s voľným výbehom
D8: Objekt:
E9: SO-01 - Chovná hala, základ pre kŕmne silá teleso zemného násypu
D10: Časť:
E11: 01, 02 - Architektúra, Statika
D13: JKSO: | I13: KS:
D14: Miesto: | F14: Dolné Trhovište 224, 920 61 Dolné Trhovište | I14: Dátum: | J14: ='Rekapitulácia stavby'!AN8 -> 45370
D16: Objednávateľ: | I16: IČO:
E17: FOOD FARM s.r.o., Piešťanská 3, 917 03 Trnava | I17: IČ DPH:
D19: Zhotoviteľ: | I19: IČO: | J19: ='Rekapitulácia stavby'!AN13 -> Vyplň údaj
E20: ='Rekapitulácia stavby'!E14 -> Vyplň údaj | I20: IČ DPH: | J20: ='Rekapitulácia stavby'!AN14 -> Vyplň údaj
D22: Projektant: | I22: IČO:
E23: ALLA ARCHITEKTI | I23: IČ DPH:
D25: Spracovateľ: | I25: IČO:
E26: Stanislav Hlubina | I26: IČ DPH:
D28: Poznámka:
D32: Cena bez DPH | J32: =ROUND(J146, 2) -> 0
F34: Základ dane | I34: Sadzba dane | J34: Výška dane
D35: DPH | E35: základná | F35: =ROUND((SUM(BE146:BE1301)), 2) -> 0 | I35: 0.2 | J35: =ROUND(((SUM(BE146:BE1301))*I35), 2) -> 0
E36: znížená | F36: =ROUND((SUM(BF146:BF1301)), 2) -> 0 | I36: 0.2 | J36: =ROUND(((SUM(BF146:BF1301))*I36), 2) -> 0
E37: zákl. prenesená | F37: =ROUND((SUM(BG146:BG1301)), 2) -> 0 | I37: 0.2 | J37: =0 -> 0
E38: zníž. prenesená | F38: =ROUND((SUM(BH146:BH1301)), 2) -> 0 | I38: 0.2 | J38: =0 -> 0
E39: nulová | F39: =ROUND((SUM(BI146:BI1301)), 2) -> 0 | I39: 0 | J39: =0 -> 0
D41: Cena s DPH | G41: v | H41: EUR | J41: =SUM(J32:J39) -> 0
D50: Projektant | G50: Spracovateľ
D61: Dátum a podpis: | F61: Pečiatka | G61: Dátum a podpis: | J61: Pečiatka
D65: Objednávateľ | G65: Zhotoviteľ
D76: Dátum a podpis: | F76: Pečiatka | G76: Dátum a podpis: | J76: Pečiatka
C82: REKAPITULÁCIA ROZPOČTU
C84: Stavba:
E85: =E7 -> Chovná hala pre kury s voľným výbehom
C86: Objekt:
E87: SO-01 - Chovná hala, základ pre kŕmne silá teleso zemného násypu
C88: Časť:
E89: =E11 -> 01, 02 - Architektúra, Statika
C91: Miesto: | F91: =F14 -> Dolné Trhovište 224, 920 61 Dolné Trhovište | I91: Dátum: | J91: =IF(J14="","",J14) -> 45370
...

Sheet 03, 06 - Protipožiarna be...
L2: >> skryté stĺpce << | AT2: {3a6e6220-b2db-416e-9f22-f955d2872f5b}
AT3: 0
D4: KRYCÍ LIST ROZPOČTU | M4: v --- nižšie sa nachádzajú doplnkové a pomocné údaje k zostavám --- v | AT4: False
D6: Stavba:
E7: ='Rekapitulácia stavby'!K6 -> Chovná hala pre kury s voľným výbehom
D8: Objekt:
E9: SO-01 - Chovná hala, základ pre kŕmne silá teleso zemného násypu
D10: Časť:
E11: 03, 06 - Protipožiarna bezpečnosť stavby, Zdravotechnika
D13: JKSO: | I13: KS:
D14: Miesto: | F14: Dolné Trhovište 224, 920 61 Dolné Trhovište | I14: Dátum: | J14: ='Rekapitulácia stavby'!AN8 -> 45370
D16: Objednávateľ: | I16: IČO:
E17: FOOD FARM s.r.o., Piešťanská 3, 917 03 Trnava | I17: IČ DPH:
D19: Zhotoviteľ: | I19: IČO: | J19: ='Rekapitulácia stavby'!AN13 -> Vyplň údaj
E20: ='Rekapitulácia stavby'!E14 -> Vyplň údaj | I20: IČ DPH: | J20: ='Rekapitulácia stavby'!AN14 -> Vyplň údaj
D22: Projektant: | I22: IČO:
E23: ALLA ARCHITEKTI | I23: IČ DPH:
D25: Spracovateľ: | I25: IČO:
E26: Stanislav Hlubina | I26: IČ DPH:
D28: Poznámka:
D32: Cena bez DPH | J32: =ROUND(J121, 2) -> 0
F34: Základ dane | I34: Sadzba dane | J34: Výška dane
D35: DPH | E35: základná | F35: =ROUND((SUM(BE121:BE276)), 2) -> 0 | I35: 0.2 | J35: =ROUND(((SUM(BE121:BE276))*I35), 2) -> 0
E36: znížená | F36: =ROUND((SUM(BF121:BF276)), 2) -> 0 | I36: 0.2 | J36: =ROUND(((SUM(BF121:BF276))*I36), 2) -> 0
E37: zákl. prenesená | F37: =ROUND((SUM(BG121:BG276)), 2) -> 0 | I37: 0.2 | J37: =0 -> 0
E38: zníž. prenesená | F38: =ROUND((SUM(BH121:BH276)), 2) -> 0 | I38: 0.2 | J38: =0 -> 0
E39: nulová | F39: =ROUND((SUM(BI121:BI276)), 2) -> 0 | I39: 0 | J39: =0 -> 0
D41: Cena s DPH | G41: v | H41: EUR | J41: =SUM(J32:J39) -> 0
D50: Projektant | G50: Spracovateľ
D61: Dátum a podpis: | F61: Pečiatka | G61: Dátum a podpis: | J61: Pečiatka
D65: Objednávateľ | G65: Zhotoviteľ
D76: Dátum a podpis: | F76: Pečiatka | G76: Dátum a podpis: | J76: Pečiatka
C82: REKAPITULÁCIA ROZPOČTU
C84: Stavba:
E85: =E7 -> Chovná hala pre kury s voľným výbehom
C86: Objekt:
E87: SO-01 - Chovná hala, základ pre kŕmne silá teleso zemného násypu
C88: Časť:
E89: =E11 -> 03, 06 - Protipožiarna bezpečnosť stavby, Zdravotechnika
C91: Miesto: | F91: =F14 -> Dolné Trhovište 224, 920 61 Dolné Trhovište | I91: Dátum: | J91: =IF(J14="","",J14) -> 45370
...

Sheet 04 - Filtračná technológi...
L2: >> skryté stĺpce << | AT2: {76d65d7c-18bf-4452-a5f8-337d6d1696f0}
AT3: 0
D4: KRYCÍ LIST ROZPOČTU | M4: v --- nižšie sa nachádzajú doplnkové a pomocné údaje k zostavám --- v | AT4: False
D6: Stavba:
E7: ='Rekapitulácia stavby'!K6 -> Chovná hala pre kury s voľným výbehom
D8: Objekt:
E9: SO-01 - Chovná hala, základ pre kŕmne silá teleso zemného násypu
D10: Časť:
E11: 04 - Filtračná technológia na úpravu vody zo studne
D13: JKSO: | I13: KS:
D14: Miesto: | F14: Dolné Trhovište 224, 920 61 Dolné Trhovište | I14: Dátum: | J14: ='Rekapitulácia stavby'!AN8 -> 45370
D16: Objednávateľ: | I16: IČO:
E17: FOOD FARM s.r.o., Piešťanská 3, 917 03 Trnava | I17: IČ DPH:
D19: Zhotoviteľ: | I19: IČO: | J19: ='Rekapitulácia stavby'!AN13 -> Vyplň údaj
E20: ='Rekapitulácia stavby'!E14 -> Vyplň údaj | I20: IČ DPH: | J20: ='Rekapitulácia stavby'!AN14 -> Vyplň údaj
D22: Projektant: | I22: IČO:
E23: ALLA ARCHITEKTI | I23: IČ DPH:
D25: Spracovateľ: | I25: IČO:
E26: Stanislav Hlubina | I26: IČ DPH:
D28: Poznámka:
D32: Cena bez DPH | J32: =ROUND(J120, 2) -> 0
F34: Základ dane | I34: Sadzba dane | J34: Výška dane
D35: DPH | E35: základná | F35: =ROUND((SUM(BE120:BE127)), 2) -> 0 | I35: 0.2 | J35: =ROUND(((SUM(BE120:BE127))*I35), 2) -> 0
E36: znížená | F36: =ROUND((SUM(BF120:BF127)), 2) -> 0 | I36: 0.2 | J36: =ROUND(((SUM(BF120:BF127))*I36), 2) -> 0
E37: zákl. prenesená | F37: =ROUND((SUM(BG120:BG127)), 2) -> 0 | I37: 0.2 | J37: =0 -> 0
E38: zníž. prenesená | F38: =ROUND((SUM(BH120:BH127)), 2) -> 0 | I38: 0.2 | J38: =0 -> 0
E39: nulová | F39: =ROUND((SUM(BI120:BI127)), 2) -> 0 | I39: 0 | J39: =0 -> 0
D41: Cena s DPH | G41: v | H41: EUR | J41: =SUM(J32:J39) -> 0
D50: Projektant | G50: Spracovateľ
D61: Dátum a podpis: | F61: Pečiatka | G61: Dátum a podpis: | J61: Pečiatka
D65: Objednávateľ | G65: Zhotoviteľ
D76: Dátum a podpis: | F76: Pečiatka | G76: Dátum a podpis: | J76: Pečiatka
C82: REKAPITULÁCIA ROZPOČTU
C84: Stavba:
E85: =E7 -> Chovná hala pre kury s voľným výbehom
C86: Objekt:
E87: SO-01 - Chovná hala, základ pre kŕmne silá teleso zemného násypu
C88: Časť:
E89: =E11 -> 04 - Filtračná technológia na úpravu vody zo studne
C91: Miesto: | F91: =F14 -> Dolné Trhovište 224, 920 61 Dolné Trhovište | I91: Dátum: | J91: =IF(J14="","",J14) -> 45370
...

Sheet 05 - Vykurovanie
L2: >> skryté stĺpce << | AT2: {591b34b9-33c7-493b-86af-7ca712110e63}
AT3: 0
D4: KRYCÍ LIST ROZPOČTU | M4: v --- nižšie sa nachádzajú doplnkové a pomocné údaje k zostavám --- v | AT4: False
D6: Stavba:
E7: ='Rekapitulácia stavby'!K6 -> Chovná hala pre kury s voľným výbehom
D8: Objekt:
E9: SO-01 - Chovná hala, základ pre kŕmne silá teleso zemného násypu
D10: Časť:
E11: 05 - Vykurovanie
D13: JKSO: | I13: KS:
D14: Miesto: | F14: Dolné Trhovište 224, 920 61 Dolné Trhovište | I14: Dátum: | J14: ='Rekapitulácia stavby'!AN8 -> 45370
D16: Objednávateľ: | I16: IČO:
E17: FOOD FARM s.r.o., Piešťanská 3, 917 03 Trnava | I17: IČ DPH:
D19: Zhotoviteľ: | I19: IČO: | J19: ='Rekapitulácia stavby'!AN13 -> Vyplň údaj
E20: ='Rekapitulácia stavby'!E14 -> Vyplň údaj | I20: IČ DPH: | J20: ='Rekapitulácia stavby'!AN14 -> Vyplň údaj
D22: Projektant: | I22: IČO:
E23: ALLA ARCHITEKTI | I23: IČ DPH:
D25: Spracovateľ: | I25: IČO:
E26: Stanislav Hlubina | I26: IČ DPH:
D28: Poznámka:
D32: Cena bez DPH | J32: =ROUND(J129, 2) -> 0
F34: Základ dane | I34: Sadzba dane | J34: Výška dane
D35: DPH | E35: základná | F35: =ROUND((SUM(BE129:BE213)), 2) -> 0 | I35: 0.2 | J35: =ROUND(((SUM(BE129:BE213))*I35), 2) -> 0
E36: znížená | F36: =ROUND((SUM(BF129:BF213)), 2) -> 0 | I36: 0.2 | J36: =ROUND(((SUM(BF129:BF213))*I36), 2) -> 0
E37: zákl. prenesená | F37: =ROUND((SUM(BG129:BG213)), 2) -> 0 | I37: 0.2 | J37: =0 -> 0
E38: zníž. prenesená | F38: =ROUND((SUM(BH129:BH213)), 2) -> 0 | I38: 0.2 | J38: =0 -> 0
E39: nulová | F39: =ROUND((SUM(BI129:BI213)), 2) -> 0 | I39: 0 | J39: =0 -> 0
D41: Cena s DPH | G41: v | H41: EUR | J41: =SUM(J32:J39) -> 0
D50: Projektant | G50: Spracovateľ
D61: Dátum a podpis: | F61: Pečiatka | G61: Dátum a podpis: | J61: Pečiatka
D65: Objednávateľ | G65: Zhotoviteľ
D76: Dátum a podpis: | F76: Pečiatka | G76: Dátum a podpis: | J76: Pečiatka
C82: REKAPITULÁCIA ROZPOČTU
C84: Stavba:
E85: =E7 -> Chovná hala pre kury s voľným výbehom
C86: Objekt:
E87: SO-01 - Chovná hala, základ pre kŕmne silá teleso zemného násypu
C88: Časť:
E89: =E11 -> 05 - Vykurovanie
C91: Miesto: | F91: =F14 -> Dolné Trhovište 224, 920 61 Dolné Trhovište | I91: Dátum: | J91: =IF(J14="","",J14) -> 45370
...

Sheet 07 - Chladenie - vetranie
L2: >> skryté stĺpce << | AT2: {d1c92d15-df49-4e68-8b94-5e9e3062dc90}
AT3: 0
D4: KRYCÍ LIST ROZPOČTU | M4: v --- nižšie sa nachádzajú doplnkové a pomocné údaje k zostavám --- v | AT4: False
D6: Stavba:
E7: ='Rekapitulácia stavby'!K6 -> Chovná hala pre kury s voľným výbehom
D8: Objekt:
E9: SO-01 - Chovná hala, základ pre kŕmne silá teleso zemného násypu
D10: Časť:
E11: 07 - Chladenie / vetranie
D13: JKSO: | I13: KS:
D14: Miesto: | F14: Dolné Trhovište 224, 920 61 Dolné Trhovište | I14: Dátum: | J14: ='Rekapitulácia stavby'!AN8 -> 45370
D16: Objednávateľ: | I16: IČO:
E17: FOOD FARM s.r.o., Piešťanská 3, 917 03 Trnava | I17: IČ DPH:
D19: Zhotoviteľ: | I19: IČO: | J19: ='Rekapitulácia stavby'!AN13 -> Vyplň údaj
E20: ='Rekapitulácia stavby'!E14 -> Vyplň údaj | I20: IČ DPH: | J20: ='Rekapitulácia stavby'!AN14 -> Vyplň údaj
D22: Projektant: | I22: IČO:
E23: ALLA ARCHITEKTI | I23: IČ DPH:
D25: Spracovateľ: | I25: IČO:
E26: Stanislav Hlubina | I26: IČ DPH:
D28: Poznámka:
D32: Cena bez DPH | J32: =ROUND(J125, 2) -> 0
F34: Základ dane | I34: Sadzba dane | J34: Výška dane
D35: DPH | E35: základná | F35: =ROUND((SUM(BE125:BE185)), 2) -> 0 | I35: 0.2 | J35: =ROUND(((SUM(BE125:BE185))*I35), 2) -> 0
E36: znížená | F36: =ROUND((SUM(BF125:BF185)), 2) -> 0 | I36: 0.2 | J36: =ROUND(((SUM(BF125:BF185))*I36), 2) -> 0
E37: zákl. prenesená | F37: =ROUND((SUM(BG125:BG185)), 2) -> 0 | I37: 0.2 | J37: =0 -> 0
E38: zníž. prenesená | F38: =ROUND((SUM(BH125:BH185)), 2) -> 0 | I38: 0.2 | J38: =0 -> 0
E39: nulová | F39: =ROUND((SUM(BI125:BI185)), 2) -> 0 | I39: 0 | J39: =0 -> 0
D41: Cena s DPH | G41: v | H41: EUR | J41: =SUM(J32:J39) -> 0
D50: Projektant | G50: Spracovateľ
D61: Dátum a podpis: | F61: Pečiatka | G61: Dátum a podpis: | J61: Pečiatka
D65: Objednávateľ | G65: Zhotoviteľ
D76: Dátum a podpis: | F76: Pečiatka | G76: Dátum a podpis: | J76: Pečiatka
C82: REKAPITULÁCIA ROZPOČTU
C84: Stavba:
E85: =E7 -> Chovná hala pre kury s voľným výbehom
C86: Objekt:
E87: SO-01 - Chovná hala, základ pre kŕmne silá teleso zemného násypu
C88: Časť:
E89: =E11 -> 07 - Chladenie / vetranie
C91: Miesto: | F91: =F14 -> Dolné Trhovište 224, 920 61 Dolné Trhovište | I91: Dátum: | J91: =IF(J14="","",J14) -> 45370
...

Sheet SO-02 - Prístrešok skladu...
L2: >> skryté stĺpce << | AT2: {ce3e7885-68d5-4eef-839f-4859090a4e6c}
AT3: 0
D4: KRYCÍ LIST ROZPOČTU | M4: v --- nižšie sa nachádzajú doplnkové a pomocné údaje k zostavám --- v | AT4: False
D6: Stavba:
E7: ='Rekapitulácia stavby'!K6 -> Chovná hala pre kury s voľným výbehom
D8: Objekt:
E9: SO-02 - Prístrešok skladu trusu
D11: JKSO: | I11: KS:
D12: Miesto: | F12: Dolné Trhovište 224, 920 61 Dolné Trhovište | I12: Dátum: | J12: ='Rekapitulácia stavby'!AN8 -> 45370
D14: Objednávateľ: | I14: IČO:
E15: FOOD FARM s.r.o., Piešťanská 3, 917 03 Trnava | I15: IČ DPH:
D17: Zhotoviteľ: | I17: IČO: | J17: ='Rekapitulácia stavby'!AN13 -> Vyplň údaj
E18: ='Rekapitulácia stavby'!E14 -> Vyplň údaj | I18: IČ DPH: | J18: ='Rekapitulácia stavby'!AN14 -> Vyplň údaj
D20: Projektant: | I20: IČO:
E21: ALLA ARCHITEKTI | I21: IČ DPH:
D23: Spracovateľ: | I23: IČO:
E24: Stanislav Hlubina | I24: IČ DPH:
D26: Poznámka:
D30: Cena bez DPH | J30: =ROUND(J130, 2) -> 0
F32: Základ dane | I32: Sadzba dane | J32: Výška dane
D33: DPH | E33: základná | F33: =ROUND((SUM(BE130:BE312)), 2) -> 0 | I33: 0.2 | J33: =ROUND(((SUM(BE130:BE312))*I33), 2) -> 0
E34: znížená | F34: =ROUND((SUM(BF130:BF312)), 2) -> 0 | I34: 0.2 | J34: =ROUND(((SUM(BF130:BF312))*I34), 2) -> 0
E35: zákl. prenesená | F35: =ROUND((SUM(BG130:BG312)), 2) -> 0 | I35: 0.2 | J35: =0 -> 0
E36: zníž. prenesená | F36: =ROUND((SUM(BH130:BH312)), 2) -> 0 | I36: 0.2 | J36: =0 -> 0
E37: nulová | F37: =ROUND((SUM(BI130:BI312)), 2) -> 0 | I37: 0 | J37: =0 -> 0
D39: Cena s DPH | G39: v | H39: EUR | J39: =SUM(J30:J37) -> 0
D50: Projektant | G50: Spracovateľ
D61: Dátum a podpis: | F61: Pečiatka | G61: Dátum a podpis: | J61: Pečiatka
D65: Objednávateľ | G65: Zhotoviteľ
D76: Dátum a podpis: | F76: Pečiatka | G76: Dátum a podpis: | J76: Pečiatka
C82: REKAPITULÁCIA ROZPOČTU
C84: Stavba:
E85: =E7 -> Chovná hala pre kury s voľným výbehom
C86: Objekt:
E87: =E9 -> SO-02 - Prístrešok skladu trusu
C89: Miesto: | F89: =F12 -> Dolné Trhovište 224, 920 61 Dolné Trhovište | I89: Dátum: | J89: =IF(J12="","",J12) -> 45370
C91: Objednávateľ: | F91: =E15 -> FOOD FARM s.r.o., Piešťanská 3, 917 03 Trnava | I91: Projektant: | J91: =E21 -> ALLA ARCHITEKTI
C92: Zhotoviteľ: | F92: =IF(E18="","",E18) -> Vyplň údaj | I92: Spracovateľ: | J92: =E24 -> Stanislav Hlubina
C94: Kód dielu - Popis | J94: Cena celkom [EUR]
C96: Náklady z rozpočtu | J96: =J130 -> 0 | AU96: -1
...

Sheet SO-03 - Vonkajšie rozvody...
L2: >> skryté stĺpce << | AT2: {4f41397e-7b54-4f9b-9b3e-d129d132e1ff}
AT3: 0
D4: KRYCÍ LIST ROZPOČTU | M4: v --- nižšie sa nachádzajú doplnkové a pomocné údaje k zostavám --- v | AT4: False
D6: Stavba:
E7: ='Rekapitulácia stavby'!K6 -> Chovná hala pre kury s voľným výbehom
D8: Objekt:
E9: SO-03 - Vonkajšie rozvody vody pitná + požiarna
D11: JKSO: | I11: KS:
D12: Miesto: | F12: Dolné Trhovište 224, 920 61 Dolné Trhovište | I12: Dátum: | J12: ='Rekapitulácia stavby'!AN8 -> 45370
D14: Objednávateľ: | I14: IČO:
E15: FOOD FARM s.r.o., Piešťanská 3, 917 03 Trnava | I15: IČ DPH:
D17: Zhotoviteľ: | I17: IČO: | J17: ='Rekapitulácia stavby'!AN13 -> Vyplň údaj
E18: ='Rekapitulácia stavby'!E14 -> Vyplň údaj | I18: IČ DPH: | J18: ='Rekapitulácia stavby'!AN14 -> Vyplň údaj
D20: Projektant: | I20: IČO:
E21: ALLA ARCHITEKTI | I21: IČ DPH:
D23: Spracovateľ: | I23: IČO:
E24: Stanislav Hlubina | I24: IČ DPH:
D26: Poznámka:
D30: Cena bez DPH | J30: =ROUND(J117, 2) -> 0
F32: Základ dane | I32: Sadzba dane | J32: Výška dane
D33: DPH | E33: základná | F33: =ROUND((SUM(BE117:BE254)), 2) -> 0 | I33: 0.2 | J33: =ROUND(((SUM(BE117:BE254))*I33), 2) -> 0
E34: znížená | F34: =ROUND((SUM(BF117:BF254)), 2) -> 0 | I34: 0.2 | J34: =ROUND(((SUM(BF117:BF254))*I34), 2) -> 0
E35: zákl. prenesená | F35: =ROUND((SUM(BG117:BG254)), 2) -> 0 | I35: 0.2 | J35: =0 -> 0
E36: zníž. prenesená | F36: =ROUND((SUM(BH117:BH254)), 2) -> 0 | I36: 0.2 | J36: =0 -> 0
E37: nulová | F37: =ROUND((SUM(BI117:BI254)), 2) -> 0 | I37: 0 | J37: =0 -> 0
D39: Cena s DPH | G39: v | H39: EUR | J39: =SUM(J30:J37) -> 0
D50: Projektant | G50: Spracovateľ
D61: Dátum a podpis: | F61: Pečiatka | G61: Dátum a podpis: | J61: Pečiatka
D65: Objednávateľ | G65: Zhotoviteľ
D76: Dátum a podpis: | F76: Pečiatka | G76: Dátum a podpis: | J76: Pečiatka
C82: REKAPITULÁCIA ROZPOČTU
C84: Stavba:
E85: =E7 -> Chovná hala pre kury s voľným výbehom
C86: Objekt:
E87: =E9 -> SO-03 - Vonkajšie rozvody vody pitná + požiarna
C89: Miesto: | F89: =F12 -> Dolné Trhovište 224, 920 61 Dolné Trhovište | I89: Dátum: | J89: =IF(J12="","",J12) -> 45370
C91: Objednávateľ: | F91: =E15 -> FOOD FARM s.r.o., Piešťanská 3, 917 03 Trnava | I91: Projektant: | J91: =E21 -> ALLA ARCHITEKTI
C92: Zhotoviteľ: | F92: =IF(E18="","",E18) -> Vyplň údaj | I92: Spracovateľ: | J92: =E24 -> Stanislav Hlubina
C94: Kód dielu - Popis | J94: Cena celkom [EUR]
C96: Náklady z rozpočtu | J96: =J117 -> 0 | AU96: -1
...

Sheet SO-04 - Prípojka NN
L2: >> skryté stĺpce << | AT2: {7aec60a2-0c05-4cf4-875e-41f90ac91def}
AT3: 0
D4: KRYCÍ LIST ROZPOČTU | M4: v --- nižšie sa nachádzajú doplnkové a pomocné údaje k zostavám --- v | AT4: False
D6: Stavba:
E7: ='Rekapitulácia stavby'!K6 -> Chovná hala pre kury s voľným výbehom
D8: Objekt:
E9: SO-04 - Prípojka NN
D11: JKSO: | I11: KS:
D12: Miesto: | F12: Dolné Trhovište 224, 920 61 Dolné Trhovište | I12: Dátum: | J12: ='Rekapitulácia stavby'!AN8 -> 45370
D14: Objednávateľ: | I14: IČO:
E15: FOOD FARM s.r.o., Piešťanská 3, 917 03 Trnava | I15: IČ DPH:
D17: Zhotoviteľ: | I17: IČO: | J17: ='Rekapitulácia stavby'!AN13 -> Vyplň údaj
E18: ='Rekapitulácia stavby'!E14 -> Vyplň údaj | I18: IČ DPH: | J18: ='Rekapitulácia stavby'!AN14 -> Vyplň údaj
D20: Projektant: | I20: IČO:
E21: ALLA ARCHITEKTI | I21: IČ DPH:
D23: Spracovateľ: | I23: IČO:
E24: Stanislav Hlubina | I24: IČ DPH:
D26: Poznámka:
D30: Cena bez DPH | J30: =ROUND(J123, 2) -> 0
F32: Základ dane | I32: Sadzba dane | J32: Výška dane
D33: DPH | E33: základná | F33: =ROUND((SUM(BE123:BE158)), 2) -> 0 | I33: 0.2 | J33: =ROUND(((SUM(BE123:BE158))*I33), 2) -> 0
E34: znížená | F34: =ROUND((SUM(BF123:BF158)), 2) -> 0 | I34: 0.2 | J34: =ROUND(((SUM(BF123:BF158))*I34), 2) -> 0
E35: zákl. prenesená | F35: =ROUND((SUM(BG123:BG158)), 2) -> 0 | I35: 0.2 | J35: =0 -> 0
E36: zníž. prenesená | F36: =ROUND((SUM(BH123:BH158)), 2) -> 0 | I36: 0.2 | J36: =0 -> 0
E37: nulová | F37: =ROUND((SUM(BI123:BI158)), 2) -> 0 | I37: 0 | J37: =0 -> 0
D39: Cena s DPH | G39: v | H39: EUR | J39: =SUM(J30:J37) -> 0
D50: Projektant | G50: Spracovateľ
D61: Dátum a podpis: | F61: Pečiatka | G61: Dátum a podpis: | J61: Pečiatka
D65: Objednávateľ | G65: Zhotoviteľ
D76: Dátum a podpis: | F76: Pečiatka | G76: Dátum a podpis: | J76: Pečiatka
C82: REKAPITULÁCIA ROZPOČTU
C84: Stavba:
E85: =E7 -> Chovná hala pre kury s voľným výbehom
C86: Objekt:
E87: =E9 -> SO-04 - Prípojka NN
C89: Miesto: | F89: =F12 -> Dolné Trhovište 224, 920 61 Dolné Trhovište | I89: Dátum: | J89: =IF(J12="","",J12) -> 45370
C91: Objednávateľ: | F91: =E15 -> FOOD FARM s.r.o., Piešťanská 3, 917 03 Trnava | I91: Projektant: | J91: =E21 -> ALLA ARCHITEKTI
C92: Zhotoviteľ: | F92: =IF(E18="","",E18) -> Vyplň údaj | I92: Spracovateľ: | J92: =E24 -> Stanislav Hlubina
C94: Kód dielu - Popis | J94: Cena celkom [EUR]
C96: Náklady z rozpočtu | J96: =J123 -> 0 | AU96: -1
...

Sheet SO-05 - Záložný dieselagr...
L2: >> skryté stĺpce << | AT2: {7feb4038-1750-42d8-b7dd-5e4c302c0040}
AT3: 0
D4: KRYCÍ LIST ROZPOČTU | M4: v --- nižšie sa nachádzajú doplnkové a pomocné údaje k zostavám --- v | AT4: False
D6: Stavba:
E7: ='Rekapitulácia stavby'!K6 -> Chovná hala pre kury s voľným výbehom
D8: Objekt:
E9: SO-05 - Záložný dieselagregát
D11: JKSO: | I11: KS:
D12: Miesto: | F12: Dolné Trhovište 224, 920 61 Dolné Trhovište | I12: Dátum: | J12: ='Rekapitulácia stavby'!AN8 -> 45370
D14: Objednávateľ: | I14: IČO:
E15: FOOD FARM s.r.o., Piešťanská 3, 917 03 Trnava | I15: IČ DPH:
D17: Zhotoviteľ: | I17: IČO: | J17: ='Rekapitulácia stavby'!AN13 -> Vyplň údaj
E18: ='Rekapitulácia stavby'!E14 -> Vyplň údaj | I18: IČ DPH: | J18: ='Rekapitulácia stavby'!AN14 -> Vyplň údaj
D20: Projektant: | I20: IČO:
E21: ALLA ARCHITEKTI | I21: IČ DPH:
D23: Spracovateľ: | I23: IČO:
E24: Stanislav Hlubina | I24: IČ DPH:
D26: Poznámka:
D30: Cena bez DPH | J30: =ROUND(J124, 2) -> 0
F32: Základ dane | I32: Sadzba dane | J32: Výška dane
D33: DPH | E33: základná | F33: =ROUND((SUM(BE124:BE199)), 2) -> 0 | I33: 0.2 | J33: =ROUND(((SUM(BE124:BE199))*I33), 2) -> 0
E34: znížená | F34: =ROUND((SUM(BF124:BF199)), 2) -> 0 | I34: 0.2 | J34: =ROUND(((SUM(BF124:BF199))*I34), 2) -> 0
E35: zákl. prenesená | F35: =ROUND((SUM(BG124:BG199)), 2) -> 0 | I35: 0.2 | J35: =0 -> 0
E36: zníž. prenesená | F36: =ROUND((SUM(BH124:BH199)), 2) -> 0 | I36: 0.2 | J36: =0 -> 0
E37: nulová | F37: =ROUND((SUM(BI124:BI199)), 2) -> 0 | I37: 0 | J37: =0 -> 0
D39: Cena s DPH | G39: v | H39: EUR | J39: =SUM(J30:J37) -> 0
D50: Projektant | G50: Spracovateľ
D61: Dátum a podpis: | F61: Pečiatka | G61: Dátum a podpis: | J61: Pečiatka
D65: Objednávateľ | G65: Zhotoviteľ
D76: Dátum a podpis: | F76: Pečiatka | G76: Dátum a podpis: | J76: Pečiatka
C82: REKAPITULÁCIA ROZPOČTU
C84: Stavba:
E85: =E7 -> Chovná hala pre kury s voľným výbehom
C86: Objekt:
E87: =E9 -> SO-05 - Záložný dieselagregát
C89: Miesto: | F89: =F12 -> Dolné Trhovište 224, 920 61 Dolné Trhovište | I89: Dátum: | J89: =IF(J12="","",J12) -> 45370
C91: Objednávateľ: | F91: =E15 -> FOOD FARM s.r.o., Piešťanská 3, 917 03 Trnava | I91: Projektant: | J91: =E21 -> ALLA ARCHITEKTI
C92: Zhotoviteľ: | F92: =IF(E18="","",E18) -> Vyplň údaj | I92: Spracovateľ: | J92: =E24 -> Stanislav Hlubina
C94: Kód dielu - Popis | J94: Cena celkom [EUR]
C96: Náklady z rozpočtu | J96: =J124 -> 0 | AU96: -1
...

Sheet SO-06 - Hala - elektroinš...
L2: >> skryté stĺpce << | AT2: {d4b0b6e7-dc7e-47fc-b8b1-56ed62f6b986}
AT3: 0
D4: KRYCÍ LIST ROZPOČTU | M4: v --- nižšie sa nachádzajú doplnkové a pomocné údaje k zostavám --- v | AT4: False
D6: Stavba:
E7: ='Rekapitulácia stavby'!K6 -> Chovná hala pre kury s voľným výbehom
D8: Objekt:
E9: SO-06 - Hala - elektroinštalácia, bleskozvod, areálové osvetlenie
D11: JKSO: | I11: KS:
D12: Miesto: | F12: Dolné Trhovište 224, 920 61 Dolné Trhovište | I12: Dátum: | J12: ='Rekapitulácia stavby'!AN8 -> 45370
D14: Objednávateľ: | I14: IČO:
E15: FOOD FARM s.r.o., Piešťanská 3, 917 03 Trnava | I15: IČ DPH:
D17: Zhotoviteľ: | I17: IČO: | J17: ='Rekapitulácia stavby'!AN13 -> Vyplň údaj
E18: ='Rekapitulácia stavby'!E14 -> Vyplň údaj | I18: IČ DPH: | J18: ='Rekapitulácia stavby'!AN14 -> Vyplň údaj
D20: Projektant: | I20: IČO:
E21: ALLA ARCHITEKTI | I21: IČ DPH:
D23: Spracovateľ: | I23: IČO:
E24: Stanislav Hlubina | I24: IČ DPH:
D26: Poznámka:
D30: Cena bez DPH | J30: =ROUND(J124, 2) -> 0
F32: Základ dane | I32: Sadzba dane | J32: Výška dane
D33: DPH | E33: základná | F33: =ROUND((SUM(BE124:BE312)), 2) -> 0 | I33: 0.2 | J33: =ROUND(((SUM(BE124:BE312))*I33), 2) -> 0
E34: znížená | F34: =ROUND((SUM(BF124:BF312)), 2) -> 0 | I34: 0.2 | J34: =ROUND(((SUM(BF124:BF312))*I34), 2) -> 0
E35: zákl. prenesená | F35: =ROUND((SUM(BG124:BG312)), 2) -> 0 | I35: 0.2 | J35: =0 -> 0
E36: zníž. prenesená | F36: =ROUND((SUM(BH124:BH312)), 2) -> 0 | I36: 0.2 | J36: =0 -> 0
E37: nulová | F37: =ROUND((SUM(BI124:BI312)), 2) -> 0 | I37: 0 | J37: =0 -> 0
D39: Cena s DPH | G39: v | H39: EUR | J39: =SUM(J30:J37) -> 0
D50: Projektant | G50: Spracovateľ
D61: Dátum a podpis: | F61: Pečiatka | G61: Dátum a podpis: | J61: Pečiatka
D65: Objednávateľ | G65: Zhotoviteľ
D76: Dátum a podpis: | F76: Pečiatka | G76: Dátum a podpis: | J76: Pečiatka
C82: REKAPITULÁCIA ROZPOČTU
C84: Stavba:
E85: =E7 -> Chovná hala pre kury s voľným výbehom
C86: Objekt:
E87: =E9 -> SO-06 - Hala - elektroinštalácia, bleskozvod, areálové osvetlenie
C89: Miesto: | F89: =F12 -> Dolné Trhovište 224, 920 61 Dolné Trhovište | I89: Dátum: | J89: =IF(J12="","",J12) -> 45370
C91: Objednávateľ: | F91: =E15 -> FOOD FARM s.r.o., Piešťanská 3, 917 03 Trnava | I91: Projektant: | J91: =E21 -> ALLA ARCHITEKTI
C92: Zhotoviteľ: | F92: =IF(E18="","",E18) -> Vyplň údaj | I92: Spracovateľ: | J92: =E24 -> Stanislav Hlubina
C94: Kód dielu - Popis | J94: Cena celkom [EUR]
C96: Náklady z rozpočtu | J96: =J124 -> 0 | AU96: -1
...

Sheet SO-08 - Spevnené plochy
L2: >> skryté stĺpce << | AT2: {ba879e25-efb7-41d7-847c-fb17e30783b4}
AT3: 0
D4: KRYCÍ LIST ROZPOČTU | M4: v --- nižšie sa nachádzajú doplnkové a pomocné údaje k zostavám --- v | AT4: False
D6: Stavba:
E7: ='Rekapitulácia stavby'!K6 -> Chovná hala pre kury s voľným výbehom
D8: Objekt:
E9: SO-08 - Spevnené plochy
D11: JKSO: | I11: KS:
D12: Miesto: | F12: Dolné Trhovište 224, 920 61 Dolné Trhovište | I12: Dátum: | J12: ='Rekapitulácia stavby'!AN8 -> 45370
D14: Objednávateľ: | I14: IČO:
E15: FOOD FARM s.r.o., Piešťanská 3, 917 03 Trnava | I15: IČ DPH:
D17: Zhotoviteľ: | I17: IČO: | J17: ='Rekapitulácia stavby'!AN13 -> Vyplň údaj
E18: ='Rekapitulácia stavby'!E14 -> Vyplň údaj | I18: IČ DPH: | J18: ='Rekapitulácia stavby'!AN14 -> Vyplň údaj
D20: Projektant: | I20: IČO:
E21: ALLA ARCHITEKTI | I21: IČ DPH:
D23: Spracovateľ: | I23: IČO:
E24: Stanislav Hlubina | I24: IČ DPH:
D26: Poznámka:
D30: Cena bez DPH | J30: =ROUND(J123, 2) -> 0
F32: Základ dane | I32: Sadzba dane | J32: Výška dane
D33: DPH | E33: základná | F33: =ROUND((SUM(BE123:BE230)), 2) -> 0 | I33: 0.2 | J33: =ROUND(((SUM(BE123:BE230))*I33), 2) -> 0
E34: znížená | F34: =ROUND((SUM(BF123:BF230)), 2) -> 0 | I34: 0.2 | J34: =ROUND(((SUM(BF123:BF230))*I34), 2) -> 0
E35: zákl. prenesená | F35: =ROUND((SUM(BG123:BG230)), 2) -> 0 | I35: 0.2 | J35: =0 -> 0
E36: zníž. prenesená | F36: =ROUND((SUM(BH123:BH230)), 2) -> 0 | I36: 0.2 | J36: =0 -> 0
E37: nulová | F37: =ROUND((SUM(BI123:BI230)), 2) -> 0 | I37: 0 | J37: =0 -> 0
D39: Cena s DPH | G39: v | H39: EUR | J39: =SUM(J30:J37) -> 0
D50: Projektant | G50: Spracovateľ
D61: Dátum a podpis: | F61: Pečiatka | G61: Dátum a podpis: | J61: Pečiatka
D65: Objednávateľ | G65: Zhotoviteľ
D76: Dátum a podpis: | F76: Pečiatka | G76: Dátum a podpis: | J76: Pečiatka
C82: REKAPITULÁCIA ROZPOČTU
C84: Stavba:
E85: =E7 -> Chovná hala pre kury s voľným výbehom
C86: Objekt:
E87: =E9 -> SO-08 - Spevnené plochy
C89: Miesto: | F89: =F12 -> Dolné Trhovište 224, 920 61 Dolné Trhovište | I89: Dátum: | J89: =IF(J12="","",J12) -> 45370
C91: Objednávateľ: | F91: =E15 -> FOOD FARM s.r.o., Piešťanská 3, 917 03 Trnava | I91: Projektant: | J91: =E21 -> ALLA ARCHITEKTI
C92: Zhotoviteľ: | F92: =IF(E18="","",E18) -> Vyplň údaj | I92: Spracovateľ: | J92: =E24 -> Stanislav Hlubina
C94: Kód dielu - Popis | J94: Cena celkom [EUR]
C96: Náklady z rozpočtu | J96: =J123 -> 0 | AU96: -1
...

Sheet SO-09 - Oplotenie areálu
L2: >> skryté stĺpce << | AT2: {ddffaa13-9da8-4fd7-a6f3-18c00579ed72}
AT3: 0
D4: KRYCÍ LIST ROZPOČTU | M4: v --- nižšie sa nachádzajú doplnkové a pomocné údaje k zostavám --- v | AT4: False
D6: Stavba:
E7: ='Rekapitulácia stavby'!K6 -> Chovná hala pre kury s voľným výbehom
D8: Objekt:
E9: SO-09 - Oplotenie areálu
D11: JKSO: | I11: KS:
D12: Miesto: | F12: Dolné Trhovište 224, 920 61 Dolné Trhovište | I12: Dátum: | J12: ='Rekapitulácia stavby'!AN8 -> 45370
D14: Objednávateľ: | I14: IČO:
E15: FOOD FARM s.r.o., Piešťanská 3, 917 03 Trnava | I15: IČ DPH:
D17: Zhotoviteľ: | I17: IČO: | J17: ='Rekapitulácia stavby'!AN13 -> Vyplň údaj
E18: ='Rekapitulácia stavby'!E14 -> Vyplň údaj | I18: IČ DPH: | J18: ='Rekapitulácia stavby'!AN14 -> Vyplň údaj
D20: Projektant: | I20: IČO:
E21: ALLA ARCHITEKTI | I21: IČ DPH:
D23: Spracovateľ: | I23: IČO:
E24: Stanislav Hlubina | I24: IČ DPH:
D26: Poznámka:
D30: Cena bez DPH | J30: =ROUND(J124, 2) -> 0
F32: Základ dane | I32: Sadzba dane | J32: Výška dane
D33: DPH | E33: základná | F33: =ROUND((SUM(BE124:BE157)), 2) -> 0 | I33: 0.2 | J33: =ROUND(((SUM(BE124:BE157))*I33), 2) -> 0
E34: znížená | F34: =ROUND((SUM(BF124:BF157)), 2) -> 0 | I34: 0.2 | J34: =ROUND(((SUM(BF124:BF157))*I34), 2) -> 0
E35: zákl. prenesená | F35: =ROUND((SUM(BG124:BG157)), 2) -> 0 | I35: 0.2 | J35: =0 -> 0
E36: zníž. prenesená | F36: =ROUND((SUM(BH124:BH157)), 2) -> 0 | I36: 0.2 | J36: =0 -> 0
E37: nulová | F37: =ROUND((SUM(BI124:BI157)), 2) -> 0 | I37: 0 | J37: =0 -> 0
D39: Cena s DPH | G39: v | H39: EUR | J39: =SUM(J30:J37) -> 0
D50: Projektant | G50: Spracovateľ
D61: Dátum a podpis: | F61: Pečiatka | G61: Dátum a podpis: | J61: Pečiatka
D65: Objednávateľ | G65: Zhotoviteľ
D76: Dátum a podpis: | F76: Pečiatka | G76: Dátum a podpis: | J76: Pečiatka
C82: REKAPITULÁCIA ROZPOČTU
C84: Stavba:
E85: =E7 -> Chovná hala pre kury s voľným výbehom
C86: Objekt:
E87: =E9 -> SO-09 - Oplotenie areálu
C89: Miesto: | F89: =F12 -> Dolné Trhovište 224, 920 61 Dolné Trhovište | I89: Dátum: | J89: =IF(J12="","",J12) -> 45370
C91: Objednávateľ: | F91: =E15 -> FOOD FARM s.r.o., Piešťanská 3, 917 03 Trnava | I91: Projektant: | J91: =E21 -> ALLA ARCHITEKTI
C92: Zhotoviteľ: | F92: =IF(E18="","",E18) -> Vyplň údaj | I92: Spracovateľ: | J92: =E24 -> Stanislav Hlubina
C94: Kód dielu - Popis | J94: Cena celkom [EUR]
C96: Náklady z rozpočtu | J96: =J124 -> 0 | AU96: -1
...

Sheet SO-10 - Rekonštrukcia TS ...
L2: >> skryté stĺpce << | AT2: {7316b42a-cf09-4cbf-83b2-abbf43573ba2}
AT3: 0
D4: KRYCÍ LIST ROZPOČTU | M4: v --- nižšie sa nachádzajú doplnkové a pomocné údaje k zostavám --- v | AT4: False
D6: Stavba:
E7: ='Rekapitulácia stavby'!K6 -> Chovná hala pre kury s voľným výbehom
D8: Objekt:
E9: SO-10 - Rekonštrukcia TS 0022-004
D11: JKSO: | I11: KS:
D12: Miesto: | F12: Dolné Trhovište 224, 920 61 Dolné Trhovište | I12: Dátum: | J12: ='Rekapitulácia stavby'!AN8 -> 45370
D14: Objednávateľ: | I14: IČO:
E15: FOOD FARM s.r.o., Piešťanská 3, 917 03 Trnava | I15: IČ DPH:
D17: Zhotoviteľ: | I17: IČO: | J17: ='Rekapitulácia stavby'!AN13 -> Vyplň údaj
E18: ='Rekapitulácia stavby'!E14 -> Vyplň údaj | I18: IČ DPH: | J18: ='Rekapitulácia stavby'!AN14 -> Vyplň údaj
D20: Projektant: | I20: IČO:
E21: ALLA ARCHITEKTI | I21: IČ DPH:
D23: Spracovateľ: | I23: IČO:
E24: Stanislav Hlubina | I24: IČ DPH:
D26: Poznámka:
D30: Cena bez DPH | J30: =ROUND(J118, 2) -> 0
F32: Základ dane | I32: Sadzba dane | J32: Výška dane
D33: DPH | E33: základná | F33: =ROUND((SUM(BE118:BE121)), 2) -> 0 | I33: 0.2 | J33: =ROUND(((SUM(BE118:BE121))*I33), 2) -> 0
E34: znížená | F34: =ROUND((SUM(BF118:BF121)), 2) -> 0 | I34: 0.2 | J34: =ROUND(((SUM(BF118:BF121))*I34), 2) -> 0
E35: zákl. prenesená | F35: =ROUND((SUM(BG118:BG121)), 2) -> 0 | I35: 0.2 | J35: =0 -> 0
E36: zníž. prenesená | F36: =ROUND((SUM(BH118:BH121)), 2) -> 0 | I36: 0.2 | J36: =0 -> 0
E37: nulová | F37: =ROUND((SUM(BI118:BI121)), 2) -> 0 | I37: 0 | J37: =0 -> 0
D39: Cena s DPH | G39: v | H39: EUR | J39: =SUM(J30:J37) -> 0
D50: Projektant | G50: Spracovateľ
D61: Dátum a podpis: | F61: Pečiatka | G61: Dátum a podpis: | J61: Pečiatka
D65: Objednávateľ | G65: Zhotoviteľ
D76: Dátum a podpis: | F76: Pečiatka | G76: Dátum a podpis: | J76: Pečiatka
C82: REKAPITULÁCIA ROZPOČTU
C84: Stavba:
E85: =E7 -> Chovná hala pre kury s voľným výbehom
C86: Objekt:
E87: =E9 -> SO-10 - Rekonštrukcia TS 0022-004
C89: Miesto: | F89: =F12 -> Dolné Trhovište 224, 920 61 Dolné Trhovište | I89: Dátum: | J89: =IF(J12="","",J12) -> 45370
C91: Objednávateľ: | F91: =E15 -> FOOD FARM s.r.o., Piešťanská 3, 917 03 Trnava | I91: Projektant: | J91: =E21 -> ALLA ARCHITEKTI
C92: Zhotoviteľ: | F92: =IF(E18="","",E18) -> Vyplň údaj | I92: Spracovateľ: | J92: =E24 -> Stanislav Hlubina
C94: Kód dielu - Popis | J94: Cena celkom [EUR]
C96: Náklady z rozpočtu | J96: =J118 -> 0 | AU96: -1
...

Sheet SO-11 - Dažďová kanalizácia
L2: >> skryté stĺpce << | AT2: {109cd131-66ff-40cd-9fc3-58df79372260}
AT3: 0
D4: KRYCÍ LIST ROZPOČTU | M4: v --- nižšie sa nachádzajú doplnkové a pomocné údaje k zostavám --- v | AT4: False
D6: Stavba:
E7: ='Rekapitulácia stavby'!K6 -> Chovná hala pre kury s voľným výbehom
D8: Objekt:
E9: SO-11 - Dažďová kanalizácia
D11: JKSO: | I11: KS:
D12: Miesto: | F12: Dolné Trhovište 224, 920 61 Dolné Trhovište | I12: Dátum: | J12: ='Rekapitulácia stavby'!AN8 -> 45370
D14: Objednávateľ: | I14: IČO:
E15: FOOD FARM s.r.o., Piešťanská 3, 917 03 Trnava | I15: IČ DPH:
D17: Zhotoviteľ: | I17: IČO: | J17: ='Rekapitulácia stavby'!AN13 -> Vyplň údaj
E18: ='Rekapitulácia stavby'!E14 -> Vyplň údaj | I18: IČ DPH: | J18: ='Rekapitulácia stavby'!AN14 -> Vyplň údaj
D20: Projektant: | I20: IČO:
E21: ALLA ARCHITEKTI | I21: IČ DPH:
D23: Spracovateľ: | I23: IČO:
E24: Stanislav Hlubina | I24: IČ DPH:
D26: Poznámka:
D30: Cena bez DPH | J30: =ROUND(J117, 2) -> 0
F32: Základ dane | I32: Sadzba dane | J32: Výška dane
D33: DPH | E33: základná | F33: =ROUND((SUM(BE117:BE178)), 2) -> 0 | I33: 0.2 | J33: =ROUND(((SUM(BE117:BE178))*I33), 2) -> 0
E34: znížená | F34: =ROUND((SUM(BF117:BF178)), 2) -> 0 | I34: 0.2 | J34: =ROUND(((SUM(BF117:BF178))*I34), 2) -> 0
E35: zákl. prenesená | F35: =ROUND((SUM(BG117:BG178)), 2) -> 0 | I35: 0.2 | J35: =0 -> 0
E36: zníž. prenesená | F36: =ROUND((SUM(BH117:BH178)), 2) -> 0 | I36: 0.2 | J36: =0 -> 0
E37: nulová | F37: =ROUND((SUM(BI117:BI178)), 2) -> 0 | I37: 0 | J37: =0 -> 0
D39: Cena s DPH | G39: v | H39: EUR | J39: =SUM(J30:J37) -> 0
D50: Projektant | G50: Spracovateľ
D61: Dátum a podpis: | F61: Pečiatka | G61: Dátum a podpis: | J61: Pečiatka
D65: Objednávateľ | G65: Zhotoviteľ
D76: Dátum a podpis: | F76: Pečiatka | G76: Dátum a podpis: | J76: Pečiatka
C82: REKAPITULÁCIA ROZPOČTU
C84: Stavba:
E85: =E7 -> Chovná hala pre kury s voľným výbehom
C86: Objekt:
E87: =E9 -> SO-11 - Dažďová kanalizácia
C89: Miesto: | F89: =F12 -> Dolné Trhovište 224, 920 61 Dolné Trhovište | I89: Dátum: | J89: =IF(J12="","",J12) -> 45370
C91: Objednávateľ: | F91: =E15 -> FOOD FARM s.r.o., Piešťanská 3, 917 03 Trnava | I91: Projektant: | J91: =E21 -> ALLA ARCHITEKTI
C92: Zhotoviteľ: | F92: =IF(E18="","",E18) -> Vyplň údaj | I92: Spracovateľ: | J92: =E24 -> Stanislav Hlubina
C94: Kód dielu - Popis | J94: Cena celkom [EUR]
C96: Náklady z rozpočtu | J96: =J117 -> 0 | AU96: -1
...

Sheet SO-12 - Splašková kanaliz...
L2: >> skryté stĺpce << | AT2: {4018f62e-14f2-4100-a9ec-8ddd4de42284}
AT3: 0
D4: KRYCÍ LIST ROZPOČTU | M4: v --- nižšie sa nachádzajú doplnkové a pomocné údaje k zostavám --- v | AT4: False
D6: Stavba:
E7: ='Rekapitulácia stavby'!K6 -> Chovná hala pre kury s voľným výbehom
D8: Objekt:
E9: SO-12 - Splašková kanalizácia
D11: JKSO: | I11: KS:
D12: Miesto: | F12: Dolné Trhovište 224, 920 61 Dolné Trhovište | I12: Dátum: | J12: ='Rekapitulácia stavby'!AN8 -> 45370
D14: Objednávateľ: | I14: IČO:
E15: FOOD FARM s.r.o., Piešťanská 3, 917 03 Trnava | I15: IČ DPH:
D17: Zhotoviteľ: | I17: IČO: | J17: ='Rekapitulácia stavby'!AN13 -> Vyplň údaj
E18: ='Rekapitulácia stavby'!E14 -> Vyplň údaj | I18: IČ DPH: | J18: ='Rekapitulácia stavby'!AN14 -> Vyplň údaj
D20: Projektant: | I20: IČO:
E21: ALLA ARCHITEKTI | I21: IČ DPH:
D23: Spracovateľ: | I23: IČO:
E24: Stanislav Hlubina | I24: IČ DPH:
D26: Poznámka:
D30: Cena bez DPH | J30: =ROUND(J117, 2) -> 0
F32: Základ dane | I32: Sadzba dane | J32: Výška dane
D33: DPH | E33: základná | F33: =ROUND((SUM(BE117:BE166)), 2) -> 0 | I33: 0.2 | J33: =ROUND(((SUM(BE117:BE166))*I33), 2) -> 0
E34: znížená | F34: =ROUND((SUM(BF117:BF166)), 2) -> 0 | I34: 0.2 | J34: =ROUND(((SUM(BF117:BF166))*I34), 2) -> 0
E35: zákl. prenesená | F35: =ROUND((SUM(BG117:BG166)), 2) -> 0 | I35: 0.2 | J35: =0 -> 0
E36: zníž. prenesená | F36: =ROUND((SUM(BH117:BH166)), 2) -> 0 | I36: 0.2 | J36: =0 -> 0
E37: nulová | F37: =ROUND((SUM(BI117:BI166)), 2) -> 0 | I37: 0 | J37: =0 -> 0
D39: Cena s DPH | G39: v | H39: EUR | J39: =SUM(J30:J37) -> 0
D50: Projektant | G50: Spracovateľ
D61: Dátum a podpis: | F61: Pečiatka | G61: Dátum a podpis: | J61: Pečiatka
D65: Objednávateľ | G65: Zhotoviteľ
D76: Dátum a podpis: | F76: Pečiatka | G76: Dátum a podpis: | J76: Pečiatka
C82: REKAPITULÁCIA ROZPOČTU
C84: Stavba:
E85: =E7 -> Chovná hala pre kury s voľným výbehom
C86: Objekt:
E87: =E9 -> SO-12 - Splašková kanalizácia
C89: Miesto: | F89: =F12 -> Dolné Trhovište 224, 920 61 Dolné Trhovište | I89: Dátum: | J89: =IF(J12="","",J12) -> 45370
C91: Objednávateľ: | F91: =E15 -> FOOD FARM s.r.o., Piešťanská 3, 917 03 Trnava | I91: Projektant: | J91: =E21 -> ALLA ARCHITEKTI
C92: Zhotoviteľ: | F92: =IF(E18="","",E18) -> Vyplň údaj | I92: Spracovateľ: | J92: =E24 -> Stanislav Hlubina
C94: Kód dielu - Popis | J94: Cena celkom [EUR]
C96: Náklady z rozpočtu | J96: =J117 -> 0 | AU96: -1
...
