Workbook

Sheet Rekapitulácia stavby
A1: Export Komplet | BA1: 2.0 | BT1: False | BU1: False | BV1: {b9f16b86-a76b-4727-b522-59e3739a53bd}
AR2: >> skryté stĺpce << | BS2: 0,01 | BT2: 20
BS3: 0,01 | BT3: 20
D4: REKAPITULÁCIA STAVBY | AS4: v --- nižšie sa nachádzajú doplnkové a pomocné údaje k zostavám --- v | BE4: Návod na vyplnenie | BS4: 0,001
D5: Kód: | K5: 0055OPR2 | BE5: Meniť je možné iba bunky so žltým podfarbením!_x000D_ _x000D_ 1) na prvom liste Rekapitulácie stavby vyplňte v zostave_x000D_ _x000D_ a) Rekapitulácia stavby_x000D_ - údaje o Zhotoviteľovi_x000D_ (prenesú sa do ostatných zostáv aj v iných listoch)_x000D_ _x000D_ b) Rekapitulácia objektov stavby_x000D_ - potrebné Ostatné náklady_x000D_ _x000D_ 2) na vybraných listoch vyplňte v zostave_x000D_ _x000D_ a) Krycí list_x000D_ - údaje o Zhotoviteľovi, pokiaľ sa líšia od údajov o Zhotoviteľovi na Rekapitulácii stavby_x000D_ (údaje se prenesú do ostatných zostav v danom liste)_x000D_ _x000D_ b) Rekapitulácia rozpočtu_x000D_ - potrebné Ostatné náklady_x000D_ _x000D_ c) Celkové náklady za stavbu_x000D_ - ceny na položkách_x000D_ - množstvo, pokiaľ má žlté podfarbenie_x000D_ - a v prípade potreby poznámku (tá je v skrytom stĺpci) | BS5: 0,01
D6: Stavba: | K6: Chovná hala pre kury s voľným výbehom | BS6: 0,01
D7: JKSO: | AK7: KS: | BS7: 0,01
D8: Miesto: | K8: Dolné Trhovište 224, 920 61 Dolné Trhovište | AK8: Dátum: | AN8: 45370 | BS8: 0,01
BS9: 0,01
D10: Objednávateľ: | AK10: IČO: | BS10: 0,01
E11: FOOD FARM s.r.o., Piešťanská 3, 917 03 Trnava | AK11: IČ DPH: | BS11: 0,01
BS12: 0,01
D13: Zhotoviteľ: | AK13: IČO: | AN13: Vyplň údaj | BS13: 0,01
E14: Vyplň údaj | AK14: IČ DPH: | AN14: Vyplň údaj | BS14: 0,01
BS15: False
D16: Projektant: | AK16: IČO: | BS16: False
E17: ALLA ARCHITEKTI | AK17: IČ DPH: | BS17: True
BS18: 0,01
D19: Spracovateľ: | AK19: IČO: | BS19: 0,01
E20: Stanislav Hlubina | AK20: IČ DPH: | BS20: True
D22: Poznámka:
D26: Cena bez DPH | AK26: =ROUND(AG94,2) -> 0
L28: Sadzba dane | W28: Základ dane | AK28: Výška dane
D29: DPH | F29: základná | L29: 0.2 | W29: =ROUND(AZ94, 2) -> 0 | AK29: =ROUND(AV94, 2) -> 0
F30: znížená | L30: 0.2 | W30: =ROUND(BA94, 2) -> 0 | AK30: =ROUND(AW94, 2) -> 0
F31: zákl. prenesená | L31: 0.2 | W31: =ROUND(BB94, 2) -> 0 | AK31: 0
F32: zníž. prenesená | L32: 0.2 | W32: =ROUND(BC94, 2) -> 0 | AK32: 0
F33: nulová | L33: 0 | W33: =ROUND(BD94, 2) -> 0 | AK33: 0
D35: Cena s DPH | T35: v | X35: EUR | AK35: =SUM(AK26:AK33) -> 0
D49: Projektant | AH49: Spracovateľ
D60: Dátum a podpis: | V60: Pečiatka | AH60: Dátum a podpis: | AM60: Pečiatka
D64: Objednávateľ | AH64: Zhotoviteľ
D75: Dátum a podpis: | V75: Pečiatka | AH75: Dátum a podpis: | AM75: Pečiatka
C82: REKAPITULÁCIA OBJEKTOV STAVBY
C84: Kód: | L84: =K5 -> 0055OPR2
C85: Stavba: | L85: =K6 -> Chovná hala pre kury s voľným výbehom
C87: Miesto: | L87: =IF(K8="","",K8) -> Dolné Trhovište 224, 920 61 Dolné Trhovište | AI87: Dátum: | AM87: =IF(AN8= "","",AN8) -> 45370
C89: Objednávateľ: | L89: =IF(E11= "","",E11) -> FOOD FARM s.r.o., Piešťanská 3, 917 03 Trnava | AI89: Projektant: | AM89: =IF(E17="","",E17) -> ALLA ARCHITEKTI | AS89: Informatívne údaje z listov zákaziek
C90: Zhotoviteľ: | L90: =IF(E14= "Vyplň údaj","",E14) | AI90: Spracovateľ: | AM90: =IF(E20="","",E20) -> Stanislav Hlubina
C92: Kód | I92: Popis | AG92: Cena bez DPH [EUR] | AN92: Cena s DPH [EUR] | AQ92: Typ | AS92: z toho Ostat._x000D_ náklady [EUR] | AT92: DPH [EUR] | AU92: Normohodiny [h] | AV92: DPH základná [EUR] | AW92: DPH znížená [EUR] | AX92: DPH základná prenesená_x000D_ [EUR] | AY92: DPH znížená prenesená_x000D_ [EUR] | AZ92: Základňa_x000D_ DPH základná | BA92: Základňa_x000D_ DPH znížená | BB92: Základňa_x000D_ DPH zákl. prenesená | BC92: Základňa_x000D_ DPH zníž. prenesená | BD92: Základňa_x000D_ DPH nulová
C94: Náklady z rozpočtov | AG94: =ROUND(AG95+AG96+SUM(AG102:AG111),2) -> 0 | AN94: =SUM(AG94,AT94) -> 0 | AS94: =ROUND(AS95+AS96+SUM(AS102:AS111),2) -> 0 | AT94: =ROUND(SUM(AV94:AW94),2) -> 0 | AU94: =ROUND(AU95+AU96+SUM(AU102:AU111),5) -> 0 | AV94: =ROUND(AZ94*L29,2) -> 0 | AW94: =ROUND(BA94*L30,2) -> 0 | AX94: =ROUND(BB94*L29,2) -> 0 | AY94: =ROUND(BC94*L30,2) -> 0 | AZ94: =ROUND(AZ95+AZ96+SUM(AZ102:AZ111),2) -> 0 | BA94: =ROUND(BA95+BA96+SUM(BA102:BA111),2) -> 0 | BB94: =ROUND(BB95+BB96+SUM(BB102:BB111),2) -> 0 | BC94: =ROUND(BC95+BC96+SUM(BC102:BC111),2) -> 0 | BD94: =ROUND(BD95+BD96+SUM(BD102:BD111),2) -> 0 | BS94: D | BT94: 0 | BV94: IMPORT | BW94: {b9f16b86-a76b-4727-b522-59e3739a53bd} | BX94: {00000000-0000-0000-0000-000000000000}
D95: 0055OPR2 | J95: Chovná hala pre kury s voľným výbehom | AG95: 0 | AN95: =SUM(AG95,AT95) -> 0 | AQ95: STA | AS95: 0 | AT95: =ROUND(SUM(AV95:AW95),2) -> 0 | BT95: 1 | BU95: ###NOINSERT### | BV95: IMPORT | BW95: {b9f16b86-a76b-4727-b522-59e3739a53bd} | BX95: {00000000-0000-0000-0000-000000000000}
D96: SO-01 | J96: Chovná hala, základ pre kŕmne silá teleso zemného násypu | AG96: =ROUND(SUM(AG97:AG101),2) -> 0 | AN96: =SUM(AG96,AT96) -> 0 | AQ96: STA | AS96: =ROUND(SUM(AS97:AS101),2) -> 0 | AT96: =ROUND(SUM(AV96:AW96),2) -> 0 | AU96: =ROUND(SUM(AU97:AU101),5) -> 0 | AV96: =ROUND(AZ96*L29,2) -> 0 | AW96: =ROUND(BA96*L30,2) -> 0 | AX96: =ROUND(BB96*L29,2) -> 0 | AY96: =ROUND(BC96*L30,2) -> 0 | AZ96: =ROUND(SUM(AZ97:AZ101),2) -> 0 | BA96: =ROUND(SUM(BA97:BA101),2) -> 0 | BB96: =ROUND(SUM(BB97:BB101),2) -> 0 | BC96: =ROUND(SUM(BC97:BC101),2) -> 0 | BD96: =ROUND(SUM(BD97:BD101),2) -> 0 | BS96: D | BT96: 1 | BU96: ###NOIMPORT### | BV96: IMPORT | BW96: {24fd95b7-fff8-49ee-9ed6-f116730a59a6} | BX96: {b9f16b86-a76b-4727-b522-59e3739a53bd} | CM96: 0
A97: / | E97: 01, 02 | K97: Architektúra, Statika | AG97: ='01, 02 - Architektúra, St...'!J32 -> 0 | AN97: =SUM(AG97,AT97) -> 0 | AQ97: Časť | AS97: 0 | AT97: =ROUND(SUM(AV97:AW97),2) -> 0 | AU97: ='01, 02 - Architektúra, St...'!P146 -> 0 | AV97: ='01, 02 - Architektúra, St...'!J35 -> 0 | AW97: ='01, 02 - Architektúra, St...'!J36 -> 0 | AX97: ='01, 02 - Architektúra, St...'!J37 -> 0 | AY97: ='01, 02 - Architektúra, St...'!J38 -> 0 | AZ97: ='01, 02 - Architektúra, St...'!F35 -> 0 | BA97: ='01, 02 - Architektúra, St...'!F36 -> 0 | BB97: ='01, 02 - Architektúra, St...'!F37 -> 0 | BC97: ='01, 02 - Architektúra, St...'!F38 -> 0 | BD97: ='01, 02 - Architektúra, St...'!F39 -> 0 | BT97: 2 | BV97: IMPORT | BW97: {bbd1715f-5555-407d-b611-48a1c1ced2ea} | BX97: {24fd95b7-fff8-49ee-9ed6-f116730a59a6}
A98: / | E98: 03, 06 | K98: Protipožiarna bezpečnosť stavby, Zdravotechnika | AG98: ='03, 06 - Protipožiarna be...'!J32 -> 0 | AN98: =SUM(AG98,AT98) -> 0 | AQ98: Časť | AS98: 0 | AT98: =ROUND(SUM(AV98:AW98),2) -> 0 | AU98: ='03, 06 - Protipožiarna be...'!P121 -> 0 | AV98: ='03, 06 - Protipožiarna be...'!J35 -> 0 | AW98: ='03, 06 - Protipožiarna be...'!J36 -> 0 | AX98: ='03, 06 - Protipožiarna be...'!J37 -> 0 | AY98: ='03, 06 - Protipožiarna be...'!J38 -> 0 | AZ98: ='03, 06 - Protipožiarna be...'!F35 -> 0 | BA98: ='03, 06 - Protipožiarna be...'!F36 -> 0 | BB98: ='03, 06 - Protipožiarna be...'!F37 -> 0 | BC98: ='03, 06 - Protipožiarna be...'!F38 -> 0 | BD98: ='03, 06 - Protipožiarna be...'!F39 -> 0 | BT98: 2 | BV98: IMPORT | BW98: {3a6e6220-b2db-416e-9f22-f955d2872f5b} | BX98: {24fd95b7-fff8-49ee-9ed6-f116730a59a6}
A99: / | E99: 04 | K99: Filtračná technológia na úpravu vody zo studne | AG99: ='04 - Filtračná technológi...'!J32 -> 0 | AN99: =SUM(AG99,AT99) -> 0 | AQ99: Časť | AS99: 0 | AT99: =ROUND(SUM(AV99:AW99),2) -> 0 | AU99: ='04 - Filtračná technológi...'!P120 -> 0 | AV99: ='04 - Filtračná technológi...'!J35 -> 0 | AW99: ='04 - Filtračná technológi...'!J36 -> 0 | AX99: ='04 - Filtračná technológi...'!J37 -> 0 | AY99: ='04 - Filtračná technológi...'!J38 -> 0 | AZ99: ='04 - Filtračná technológi...'!F35 -> 0 | BA99: ='04 - Filtračná technológi...'!F36 -> 0 | BB99: ='04 - Filtračná technológi...'!F37 -> 0 | BC99: ='04 - Filtračná technológi...'!F38 -> 0 | BD99: ='04 - Filtračná technológi...'!F39 -> 0 | BT99: 2 | BV99: IMPORT | BW99: {76d65d7c-18bf-4452-a5f8-337d6d1696f0} | BX99: {24fd95b7-fff8-49ee-9ed6-f116730a59a6}
A100: / | E100: 05 | K100: Vykurovanie | AG100: ='05 - Vykurovanie'!J32 -> 0 | AN100: =SUM(AG100,AT100) -> 0 | AQ100: Časť | AS100: 0 | AT100: =ROUND(SUM(AV100:AW100),2) -> 0 | AU100: ='05 - Vykurovanie'!P129 -> 0 | AV100: ='05 - Vykurovanie'!J35 -> 0 | AW100: ='05 - Vykurovanie'!J36 -> 0 | AX100: ='05 - Vykurovanie'!J37 -> 0 | AY100: ='05 - Vykurovanie'!J38 -> 0 | AZ100: ='05 - Vykurovanie'!F35 -> 0 | BA100: ='05 - Vykurovanie'!F36 -> 0 | BB100: ='05 - Vykurovanie'!F37 -> 0 | BC100: ='05 - Vykurovanie'!F38 -> 0 | BD100: ='05 - Vykurovanie'!F39 -> 0 | BT100: 2 | BV100: IMPORT | BW100: {591b34b9-33c7-493b-86af-7ca712110e63} | BX100: {24fd95b7-fff8-49ee-9ed6-f116730a59a6}
A101: / | E101: 07 | K101: Chladenie / vetranie | AG101: ='07 - Chladenie - vetranie'!J32 -> 0 | AN101: =SUM(AG101,AT101) -> 0 | AQ101: Časť | AS101: 0 | AT101: =ROUND(SUM(AV101:AW101),2) -> 0 | AU101: ='07 - Chladenie - vetranie'!P125 -> 0 | AV101: ='07 - Chladenie - vetranie'!J35 -> 0 | AW101: ='07 - Chladenie - vetranie'!J36 -> 0 | AX101: ='07 - Chladenie - vetranie'!J37 -> 0 | AY101: ='07 - Chladenie - vetranie'!J38 -> 0 | AZ101: ='07 - Chladenie - vetranie'!F35 -> 0 | BA101: ='07 - Chladenie - vetranie'!F36 -> 0 | BB101: ='07 - Chladenie - vetranie'!F37 -> 0 | BC101: ='07 - Chladenie - vetranie'!F38 -> 0 | BD101: ='07 - Chladenie - vetranie'!F39 -> 0 | BT101: 2 | BV101: IMPORT | BW101: {d1c92d15-df49-4e68-8b94-5e9e3062dc90} | BX101: {24fd95b7-fff8-49ee-9ed6-f116730a59a6}
A102: / | D102: SO-02 | J102: Prístrešok skladu trusu | AG102: ='SO-02 - Prístrešok skladu...'!J30 -> 0 | AN102: =SUM(AG102,AT102) -> 0 | AQ102: STA | AS102: 0 | AT102: =ROUND(SUM(AV102:AW102),2) -> 0 | AU102: ='SO-02 - Prístrešok skladu...'!P130 -> 0 | AV102: ='SO-02 - Prístrešok skladu...'!J33 -> 0 | AW102: ='SO-02 - Prístrešok skladu...'!J34 -> 0 | AX102: ='SO-02 - Prístrešok skladu...'!J35 -> 0 | AY102: ='SO-02 - Prístrešok skladu...'!J36 -> 0 | AZ102: ='SO-02 - Prístrešok skladu...'!F33 -> 0 | BA102: ='SO-02 - Prístrešok skladu...'!F34 -> 0 | BB102: ='SO-02 - Prístrešok skladu...'!F35 -> 0 | BC102: ='SO-02 - Prístrešok skladu...'!F36 -> 0 | BD102: ='SO-02 - Prístrešok skladu...'!F37 -> 0 | BT102: 1 | BV102: IMPORT | BW102: {ce3e7885-68d5-4eef-839f-4859090a4e6c} | BX102: {b9f16b86-a76b-4727-b522-59e3739a53bd} | CM102: 0
A103: / | D103: SO-03 | J103: Vonkajšie rozvody vody pitná + požiarna | AG103: ='SO-03 - Vonkajšie rozvody...'!J30 -> 0 | AN103: =SUM(AG103,AT103) -> 0 | AQ103: STA | AS103: 0 | AT103: =ROUND(SUM(AV103:AW103),2) -> 0 | AU103: ='SO-03 - Vonkajšie rozvody...'!P117 -> 0 | AV103: ='SO-03 - Vonkajšie rozvody...'!J33 -> 0 | AW103: ='SO-03 - Vonkajšie rozvody...'!J34 -> 0 | AX103: ='SO-03 - Vonkajšie rozvody...'!J35 -> 0 | AY103: ='SO-03 - Vonkajšie rozvody...'!J36 -> 0 | AZ103: ='SO-03 - Vonkajšie rozvody...'!F33 -> 0 | BA103: ='SO-03 - Vonkajšie rozvody...'!F34 -> 0 | BB103: ='SO-03 - Vonkajšie rozvody...'!F35 -> 0 | BC103: ='SO-03 - Vonkajšie rozvody...'!F36 -> 0 | BD103: ='SO-03 - Vonkajšie rozvody...'!F37 -> 0 | BT103: 1 | BV103: IMPORT | BW103: {4f41397e-7b54-4f9b-9b3e-d129d132e1ff} | BX103: {b9f16b86-a76b-4727-b522-59e3739a53bd} | CM103: 0
A104: / | D104: SO-04 | J104: Prípojka NN | AG104: ='SO-04 - Prípojka NN'!J30 -> 0 | AN104: =SUM(AG104,AT104) -> 0 | AQ104: STA | AS104: 0 | AT104: =ROUND(SUM(AV104:AW104),2) -> 0 | AU104: ='SO-04 - Prípojka NN'!P123 -> 0 | AV104: ='SO-04 - Prípojka NN'!J33 -> 0 | AW104: ='SO-04 - Prípojka NN'!J34 -> 0 | AX104: ='SO-04 - Prípojka NN'!J35 -> 0 | AY104: ='SO-04 - Prípojka NN'!J36 -> 0 | AZ104: ='SO-04 - Prípojka NN'!F33 -> 0 | BA104: ='SO-04 - Prípojka NN'!F34 -> 0 | BB104: ='SO-04 - Prípojka NN'!F35 -> 0 | BC104: ='SO-04 - Prípojka NN'!F36 -> 0 | BD104: ='SO-04 - Prípojka NN'!F37 -> 0 | BT104: 1 | BV104: IMPORT | BW104: {7aec60a2-0c05-4cf4-875e-41f90ac91def} | BX104: {b9f16b86-a76b-4727-b522-59e3739a53bd} | CM104: 0
A105: / | D105: SO-05 | J105: Záložný dieselagregát | AG105: ='SO-05 - Záložný dieselagr...'!J30 -> 0 | AN105: =SUM(AG105,AT105) -> 0 | AQ105: STA | AS105: 0 | AT105: =ROUND(SUM(AV105:AW105),2) -> 0 | AU105: ='SO-05 - Záložný dieselagr...'!P124 -> 0 | AV105: ='SO-05 - Záložný dieselagr...'!J33 -> 0 | AW105: ='SO-05 - Záložný dieselagr...'!J34 -> 0 | AX105: ='SO-05 - Záložný dieselagr...'!J35 -> 0 | AY105: ='SO-05 - Záložný dieselagr...'!J36 -> 0 | AZ105: ='SO-05 - Záložný dieselagr...'!F33 -> 0 | BA105: ='SO-05 - Záložný dieselagr...'!F34 -> 0 | BB105: ='SO-05 - Záložný dieselagr...'!F35 -> 0 | BC105: ='SO-05 - Záložný dieselagr...'!F36 -> 0 | BD105: ='SO-05 - Záložný dieselagr...'!F37 -> 0 | BT105: 1 | BV105: IMPORT | BW105: {7feb4038-1750-42d8-b7dd-5e4c302c0040} | BX105: {b9f16b86-a76b-4727-b522-59e3739a53bd} | CM105: 0
A106: / | D106: SO-06 | J106: Hala - elektroinštalácia, bleskozvod, areálové osvetlenie | AG106: ='SO-06 - Hala - elektroinš...'!J30 -> 0 | AN106: =SUM(AG106,AT106) -> 0 | AQ106: STA | AS106: 0 | AT106: =ROUND(SUM(AV106:AW106),2) -> 0 | AU106: ='SO-06 - Hala - elektroinš...'!P124 -> 0 | AV106: ='SO-06 - Hala - elektroinš...'!J33 -> 0 | AW106: ='SO-06 - Hala - elektroinš...'!J34 -> 0 | AX106: ='SO-06 - Hala - elektroinš...'!J35 -> 0 | AY106: ='SO-06 - Hala - elektroinš...'!J36 -> 0 | AZ106: ='SO-06 - Hala - elektroinš...'!F33 -> 0 | BA106: ='SO-06 - Hala - elektroinš...'!F34 -> 0 | BB106: ='SO-06 - Hala - elektroinš...'!F35 -> 0 | BC106: ='SO-06 - Hala - elektroinš...'!F36 -> 0 | BD106: ='SO-06 - Hala - elektroinš...'!F37 -> 0 | BT106: 1 | BV106: IMPORT | BW106: {d4b0b6e7-dc7e-47fc-b8b1-56ed62f6b986} | BX106: {b9f16b86-a76b-4727-b522-59e3739a53bd} | CM106: 0
A107: / | D107: SO-08 | J107: Spevnené plochy | AG107: ='SO-08 - Spevnené plochy'!J30 -> 0 | AN107: =SUM(AG107,AT107) -> 0 | AQ107: STA | AS107: 0 | AT107: =ROUND(SUM(AV107:AW107),2) -> 0 | AU107: ='SO-08 - Spevnené plochy'!P123 -> 0 | AV107: ='SO-08 - Spevnené plochy'!J33 -> 0 | AW107: ='SO-08 - Spevnené plochy'!J34 -> 0 | AX107: ='SO-08 - Spevnené plochy'!J35 -> 0 | AY107: ='SO-08 - Spevnené plochy'!J36 -> 0 | AZ107: ='SO-08 - Spevnené plochy'!F33 -> 0 | BA107: ='SO-08 - Spevnené plochy'!F34 -> 0 | BB107: ='SO-08 - Spevnené plochy'!F35 -> 0 | BC107: ='SO-08 - Spevnené plochy'!F36 -> 0 | BD107: ='SO-08 - Spevnené plochy'!F37 -> 0 | BT107: 1 | BV107: IMPORT | BW107: {ba879e25-efb7-41d7-847c-fb17e30783b4} | BX107: {b9f16b86-a76b-4727-b522-59e3739a53bd} | CM107: 0
A108: / | D108: SO-09 | J108: Oplotenie areálu | AG108: ='SO-09 - Oplotenie areálu'!J30 -> 0 | AN108: =SUM(AG108,AT108) -> 0 | AQ108: STA | AS108: 0 | AT108: =ROUND(SUM(AV108:AW108),2) -> 0 | AU108: ='SO-09 - Oplotenie areálu'!P124 -> 0 | AV108: ='SO-09 - Oplotenie areálu'!J33 -> 0 | AW108: ='SO-09 - Oplotenie areálu'!J34 -> 0 | AX108: ='SO-09 - Oplotenie areálu'!J35 -> 0 | AY108: ='SO-09 - Oplotenie areálu'!J36 -> 0 | AZ108: ='SO-09 - Oplotenie areálu'!F33 -> 0 | BA108: ='SO-09 - Oplotenie areálu'!F34 -> 0 | BB108: ='SO-09 - Oplotenie areálu'!F35 -> 0 | BC108: ='SO-09 - Oplotenie areálu'!F36 -> 0 | BD108: ='SO-09 - Oplotenie areálu'!F37 -> 0 | BT108: 1 | BV108: IMPORT | BW108: {ddffaa13-9da8-4fd7-a6f3-18c00579ed72} | BX108: {b9f16b86-a76b-4727-b522-59e3739a53bd} | CM108: 0
A109: / | D109: SO-10 | J109: Rekonštrukcia TS 0022-004 | AG109: ='SO-10 - Rekonštrukcia TS ...'!J30 -> 0 | AN109: =SUM(AG109,AT109) -> 0 | AQ109: STA | AS109: 0 | AT109: =ROUND(SUM(AV109:AW109),2) -> 0 | AU109: ='SO-10 - Rekonštrukcia TS ...'!P118 -> 0 | AV109: ='SO-10 - Rekonštrukcia TS ...'!J33 -> 0 | AW109: ='SO-10 - Rekonštrukcia TS ...'!J34 -> 0 | AX109: ='SO-10 - Rekonštrukcia TS ...'!J35 -> 0 | AY109: ='SO-10 - Rekonštrukcia TS ...'!J36 -> 0 | AZ109: ='SO-10 - Rekonštrukcia TS ...'!F33 -> 0 | BA109: ='SO-10 - Rekonštrukcia TS ...'!F34 -> 0 | BB109: ='SO-10 - Rekonštrukcia TS ...'!F35 -> 0 | BC109: ='SO-10 - Rekonštrukcia TS ...'!F36 -> 0 | BD109: ='SO-10 - Rekonštrukcia TS ...'!F37 -> 0 | BT109: 1 | BV109: IMPORT | BW109: {7316b42a-cf09-4cbf-83b2-abbf43573ba2} | BX109: {b9f16b86-a76b-4727-b522-59e3739a53bd} | CM109: 0
A110: / | D110: SO-11 | J110: Dažďová kanalizácia | AG110: ='SO-11 - Dažďová kanalizácia'!J30 -> 0 | AN110: =SUM(AG110,AT110) -> 0 | AQ110: STA | AS110: 0 | AT110: =ROUND(SUM(AV110:AW110),2) -> 0 | AU110: ='SO-11 - Dažďová kanalizácia'!P117 -> 0 | AV110: ='SO-11 - Dažďová kanalizácia'!J33 -> 0 | AW110: ='SO-11 - Dažďová kanalizácia'!J34 -> 0 | AX110: ='SO-11 - Dažďová kanalizácia'!J35 -> 0 | AY110: ='SO-11 - Dažďová kanalizácia'!J36 -> 0 | AZ110: ='SO-11 - Dažďová kanalizácia'!F33 -> 0 | BA110: ='SO-11 - Dažďová kanalizácia'!F34 -> 0 | BB110: ='SO-11 - Dažďová kanalizácia'!F35 -> 0 | BC110: ='SO-11 - Dažďová kanalizácia'!F36 -> 0 | BD110: ='SO-11 - Dažďová kanalizácia'!F37 -> 0 | BT110: 1 | BV110: IMPORT | BW110: {109cd131-66ff-40cd-9fc3-58df79372260} | BX110: {b9f16b86-a76b-4727-b522-59e3739a53bd} | CM110: 0
A111: / | D111: SO-12 | J111: Splašková kanalizácia | AG111: ='SO-12 - Splašková kanaliz...'!J30 -> 0 | AN111: =SUM(AG111,AT111) -> 0 | AQ111: STA | AS111: 0 | AT111: =ROUND(SUM(AV111:AW111),2) -> 0 | AU111: ='SO-12 - Splašková kanaliz...'!P117 -> 0 | AV111: ='SO-12 - Splašková kanaliz...'!J33 -> 0 | AW111: ='SO-12 - Splašková kanaliz...'!J34 -> 0 | AX111: ='SO-12 - Splašková kanaliz...'!J35 -> 0 | AY111: ='SO-12 - Splašková kanaliz...'!J36 -> 0 | AZ111: ='SO-12 - Splašková kanaliz...'!F33 -> 0 | BA111: ='SO-12 - Splašková kanaliz...'!F34 -> 0 | BB111: ='SO-12 - Splašková kanaliz...'!F35 -> 0 | BC111: ='SO-12 - Splašková kanaliz...'!F36 -> 0 | BD111: ='SO-12 - Splašková kanaliz...'!F37 -> 0 | BT111: 1 | BV111: IMPORT | BW111: {4018f62e-14f2-4100-a9ec-8ddd4de42284} | BX111: {b9f16b86-a76b-4727-b522-59e3739a53bd} | CM111: 0

Sheet 01, 02 - Architektúra, St...
L2: >> skryté stĺpce << | AT2: {bbd1715f-5555-407d-b611-48a1c1ced2ea}
AT3: 0
D4: KRYCÍ LIST ROZPOČTU | M4: v --- nižšie sa nachádzajú doplnkové a pomocné údaje k zostavám --- v | AT4: False
D6: Stavba:
E7: ='Rekapitulácia stavby'!K6 -> Chovná hala pre kury s voľným výbehom
D8: Objekt:
E9: SO-01 - Chovná hala, základ pre kŕmne silá teleso zemného násypu
D10: Časť:
E11: 01, 02 - Architektúra, Statika
D13: JKSO: | I13: KS:
D14: Miesto: | F14: Dolné Trhovište 224, 920 61 Dolné Trhovište | I14: Dátum: | J14: ='Rekapitulácia stavby'!AN8 -> 45370
D16: Objednávateľ: | I16: IČO:
E17: FOOD FARM s.r.o., Piešťanská 3, 917 03 Trnava | I17: IČ DPH:
D19: Zhotoviteľ: | I19: IČO: | J19: ='Rekapitulácia stavby'!AN13 -> Vyplň údaj
E20: ='Rekapitulácia stavby'!E14 -> Vyplň údaj | I20: IČ DPH: | J20: ='Rekapitulácia stavby'!AN14 -> Vyplň údaj
D22: Projektant: | I22: IČO:
E23: ALLA ARCHITEKTI | I23: IČ DPH:
D25: Spracovateľ: | I25: IČO:
E26: Stanislav Hlubina | I26: IČ DPH:
D28: Poznámka:
D32: Cena bez DPH | J32: =ROUND(J146, 2) -> 0
F34: Základ dane | I34: Sadzba dane | J34: Výška dane
D35: DPH | E35: základná | F35: =ROUND((SUM(BE146:BE1301)), 2) -> 0 | I35: 0.2 | J35: =ROUND(((SUM(BE146:BE1301))*I35), 2) -> 0
E36: znížená | F36: =ROUND((SUM(BF146:BF1301)), 2) -> 0 | I36: 0.2 | J36: =ROUND(((SUM(BF146:BF1301))*I36), 2) -> 0
E37: zákl. prenesená | F37: =ROUND((SUM(BG146:BG1301)), 2) -> 0 | I37: 0.2 | J37: =0 -> 0
E38: zníž. prenesená | F38: =ROUND((SUM(BH146:BH1301)), 2) -> 0 | I38: 0.2 | J38: =0 -> 0
E39: nulová | F39: =ROUND((SUM(BI146:BI1301)), 2) -> 0 | I39: 0 | J39: =0 -> 0
D41: Cena s DPH | G41: v | H41: EUR | J41: =SUM(J32:J39) -> 0
D50: Projektant | G50: Spracovateľ
D61: Dátum a podpis: | F61: Pečiatka | G61: Dátum a podpis: | J61: Pečiatka
D65: Objednávateľ | G65: Zhotoviteľ
D76: Dátum a podpis: | F76: Pečiatka | G76: Dátum a podpis: | J76: Pečiatka
C82: REKAPITULÁCIA ROZPOČTU
C84: Stavba:
E85: =E7 -> Chovná hala pre kury s voľným výbehom
C86: Objekt:
E87: SO-01 - Chovná hala, základ pre kŕmne silá teleso zemného násypu
C88: Časť:
E89: =E11 -> 01, 02 - Architektúra, Statika
C91: Miesto: | F91: =F14 -> Dolné Trhovište 224, 920 61 Dolné Trhovište | I91: Dátum: | J91: =IF(J14="","",J14) -> 45370
C93: Objednávateľ: | F93: =E17 -> FOOD FARM s.r.o., Piešťanská 3, 917 03 Trnava | I93: Projektant: | J93: =E23 -> ALLA ARCHITEKTI
C94: Zhotoviteľ: | F94: =IF(E20="","",E20) -> Vyplň údaj | I94: Spracovateľ: | J94: =E26 -> Stanislav Hlubina
C96: Kód dielu - Popis | J96: Cena celkom [EUR]
C98: Náklady z rozpočtu | J98: =J146 -> 0 | AU98: -1
D99: HSV - Práce a dodávky HSV | J99: =J147 -> 0
D100: 1 - Zemné práce | J100: =J148 -> 0
D101: 2 - Zakladanie | J101: =J308 -> 0
D102: 3 - Zvislé a kompletné konštrukcie | J102: =J430 -> 0
D103: 4 - Vodorovné konštrukcie | J103: =J543 -> 0
D104: 5 - Komunikácie | J104: =J554 -> 0
D105: 6 - Úpravy povrchov, podlahy, osadenie | J105: =J559 -> 0
D106: 9 - Ostatné konštrukcie a práce-búranie | J106: =J752 -> 0
D107: 99 - Presun hmôt HSV | J107: =J825 -> 0
D108: PSV - Práce a dodávky PSV | J108: =J832 -> 0
D109: 711 - Izolácie proti vode a vlhkosti | J109: =J833 -> 0
D110: 713 - Izolácie tepelné | J110: =J917 -> 0
D111: 721 - Zdravotechnika - vnútorná kanalizácia | J111: =J931 -> 0
D112: 722 - Zdravotechnika - vnútorný vodovod | J112: =J937 -> 0
D113: 762 - Konštrukcie tesárske | J113: =J942 -> 0
D114: 763 - Konštrukcie - drevostavby | J114: =J948 -> 0
D115: 764 - Konštrukcie klampiarske | J115: =J957 -> 0
D116: 766 - Konštrukcie stolárske | J116: =J981 -> 0
D117: 767 - Konštrukcie doplnkové kovové | J117: =J992 -> 0
D118: 771 - Podlahy z dlaždíc | J118: =J1239 -> 0
D119: 776 - Podlahy povlakové | J119: =J1246 -> 0
D120: 781 - Obklady | J120: =J1252 -> 0
D121: 783 - Nátery | J121: =J1260 -> 0
D122: 784 - Maľby | J122: =J1273 -> 0
D123: HZS - Hodinové zúčtovacie sadzby | J123: =J1297 -> 0
D124: VRN - Investičné náklady neobsiahnuté v cenách | J124: =J1299 -> 0
C131: ROZPOČET
C133: Stavba:
E134: =E7 -> Chovná hala pre kury s voľným výbehom
C135: Objekt:
E136: SO-01 - Chovná hala, základ pre kŕmne silá teleso zemného násypu
C137: Časť:
E138: =E11 -> 01, 02 - Architektúra, Statika
C140: Miesto: | F140: =F14 -> Dolné Trhovište 224, 920 61 Dolné Trhovište | I140: Dátum: | J140: =IF(J14="","",J14) -> 45370
C142: Objednávateľ: | F142: =E17 -> FOOD FARM s.r.o., Piešťanská 3, 917 03 Trnava | I142: Projektant: | J142: =E23 -> ALLA ARCHITEKTI
C143: Zhotoviteľ: | F143: =IF(E20="","",E20) -> Vyplň údaj | I143: Spracovateľ: | J143: =E26 -> Stanislav Hlubina
C145: PČ | D145: Typ | E145: Kód | F145: Popis | G145: MJ | H145: Množstvo | I145: J.cena [EUR] | J145: Cena celkom [EUR] | K145: Cenová sústava | N145: DPH | O145: J. Nh [h] | P145: Nh celkom [h] | Q145: J. hmotnosť [t] | R145: Hmotnosť celkom [t] | S145: J. suť [t] | T145: Suť Celkom [t]
C146: Náklady z rozpočtu | J146: =BK146 -> 0 | P146: =P147+P832+P1297+P1299 -> 0 | R146: =R147+R832+R1297+R1299 -> 8442.8281 | T146: =T147+T832+T1297+T1299 -> 0 | AT146: D | AU146: -1 | BK146: =BK147+BK832+BK1297+BK1299 -> 0
D147: D | E147: HSV | F147: Práce a dodávky HSV | J147: =BK147 -> 0 | P147: =P148+P308+P430+P543+P554+P559+P752+P825 -> 0 | R147: =R148+R308+R430+R543+R554+R559+R752+R825 -> 8205.6042 | T147: =T148+T308+T430+T543+T554+T559+T752+T825 -> 0 | AR147: 1 | AT147: D | AU147: 0 | AY147: ROZPOCET | BK147: =BK148+BK308+BK430+BK543+BK554+BK559+BK752+BK825 -> 0
D148: D | E148: 1 | F148: Zemné práce | J148: =BK148 -> 0 | P148: =SUM(P149:P307) -> 0 | R148: =SUM(R149:R307) -> 0 | T148: =SUM(T149:T307) -> 0 | AR148: 1 | AT148: D | AU148: 1 | AY148: ROZPOCET | BK148: =SUM(BK149:BK307) -> 0
C149: 1 | D149: K | E149: 122201103.S | F149: Odkopávka a prekopávka nezapažená v hornine 3, nad 1000 do 10000 m3 | G149: m3 | H149: 2408.323 | J149: =ROUND(I149*H149,2) -> 0 | N149: znížená | P149: =O149*H149 -> 0 | Q149: 0 | R149: =Q149*H149 -> 0 | S149: 0 | T149: =S149*H149 -> 0 | AR149: 4 | AT149: K | AU149: 2 | AY149: ROZPOCET | BE149: =IF(N149="základná",J149,0) -> 0 | BF149: =IF(N149="znížená",J149,0) -> 0 | BG149: =IF(N149="zákl. prenesená",J149,0) -> 0 | BH149: =IF(N149="zníž. prenesená",J149,0) -> 0 | BI149: =IF(N149="nulová",J149,0) -> 0 | BJ149: 2 | BK149: =ROUND(I149*H149,2) -> 0 | BL149: 4 | BM149: -1038028793
D150: VV | F150: príprava územia - odstránenie ornice a suti, priemerná hrúbka 500mm, uvažované vrátane odstránenia náletových drevín | AT150: VV | AU150: 2 | AV150: 1 | AW150: True | AX150: 0 | AY150: ROZPOCET
D151: VV | F151: 2600,00*0,50 | H151: 1300 | AT151: VV | AU151: 2 | AV151: 2 | AW151: True | AX151: 0 | AY151: ROZPOCET
D152: VV | F152: vyrovnanie jestvujúceho terénu pre zemnú pláň pod budovu | AT152: VV | AU152: 2 | AV152: 1 | AW152: True | AX152: 0 | AY152: ROZPOCET
D153: VV | F153: 636,63 | H153: 636.63 | AT153: VV | AU153: 2 | AV153: 2 | AW153: True | AX153: 0 | AY153: ROZPOCET
D154: VV | F154: Medzisúčet | H154: 1936.63 | AT154: VV | AU154: 2 | AV154: 3 | AW154: True | AX154: 0 | AY154: ROZPOCET
D155: VV | F155: odkopávka pre štrkové lôžko hr.400mm - 50% objemu | AT155: VV | AU155: 2 | AV155: 1 | AW155: True | AX155: 0 | AY155: ROZPOCET
D156: VV | F156: (87,20+0,20*2)*(28,53+0,20*2)*0,40*0,5 | H156: 506.854 | AT156: VV | AU156: 2 | AV156: 2 | AW156: True | AX156: 0 | AY156: ROZPOCET
D157: VV | F157: (7,33+0,20*2)*1,268*0,40*0,5 | H157: 1.96 | AT157: VV | AU157: 2 | AV157: 2 | AW157: True | AX157: 0 | AY157: ROZPOCET
D158: VV | F158: 4,06*0,24*0,40*0,5 | H158: 0.195 | AT158: VV | AU158: 2 | AV158: 2 | AW158: True | AX158: 0 | AY158: ROZPOCET
D159: VV | F159: 7,088*5,235*0,40*0,5 | H159: 7.421 | AT159: VV | AU159: 2 | AV159: 2 | AW159: True | AX159: 0 | AY159: ROZPOCET
D160: VV | F160: odpočet pätiek | AT160: VV | AU160: 2 | AV160: 1 | AW160: True | AX160: 0 | AY160: ROZPOCET
D161: VV | F161: "ZP1" -2,00*2,00*0,40*23*0,5 | H161: -18.4 | AT161: VV | AU161: 2 | AV161: 2 | AW161: True | AX161: 0 | AY161: ROZPOCET
D162: VV | F162: "ZP2" -1,70*1,90*0,40*10*0,5 | H162: -6.46 | AT162: VV | AU162: 2 | AV162: 2 | AW162: True | AX162: 0 | AY162: ROZPOCET
D163: VV | F163: "ZP3" -1,50*1,50*0,40*4*0,5 | H163: -1.8 | AT163: VV | AU163: 2 | AV163: 2 | AW163: True | AX163: 0 | AY163: ROZPOCET
D164: VV | F164: "ZP4" -1,10*1,40*0,40*3*0,5 | H164: -0.924 | AT164: VV | AU164: 2 | AV164: 2 | AW164: True | AX164: 0 | AY164: ROZPOCET
...

Sheet 03, 06 - Protipožiarna be...
L2: >> skryté stĺpce << | AT2: {3a6e6220-b2db-416e-9f22-f955d2872f5b}
AT3: 0
D4: KRYCÍ LIST ROZPOČTU | M4: v --- nižšie sa nachádzajú doplnkové a pomocné údaje k zostavám --- v | AT4: False
D6: Stavba:
E7: ='Rekapitulácia stavby'!K6 -> Chovná hala pre kury s voľným výbehom
D8: Objekt:
E9: SO-01 - Chovná hala, základ pre kŕmne silá teleso zemného násypu
D10: Časť:
E11: 03, 06 - Protipožiarna bezpečnosť stavby, Zdravotechnika
D13: JKSO: | I13: KS:
D14: Miesto: | F14: Dolné Trhovište 224, 920 61 Dolné Trhovište | I14: Dátum: | J14: ='Rekapitulácia stavby'!AN8 -> 45370
D16: Objednávateľ: | I16: IČO:
E17: FOOD FARM s.r.o., Piešťanská 3, 917 03 Trnava | I17: IČ DPH:
D19: Zhotoviteľ: | I19: IČO: | J19: ='Rekapitulácia stavby'!AN13 -> Vyplň údaj
E20: ='Rekapitulácia stavby'!E14 -> Vyplň údaj | I20: IČ DPH: | J20: ='Rekapitulácia stavby'!AN14 -> Vyplň údaj
D22: Projektant: | I22: IČO:
E23: ALLA ARCHITEKTI | I23: IČ DPH:
D25: Spracovateľ: | I25: IČO:
E26: Stanislav Hlubina | I26: IČ DPH:
D28: Poznámka:
D32: Cena bez DPH | J32: =ROUND(J121, 2) -> 0
F34: Základ dane | I34: Sadzba dane | J34: Výška dane
D35: DPH | E35: základná | F35: =ROUND((SUM(BE121:BE276)), 2) -> 0 | I35: 0.2 | J35: =ROUND(((SUM(BE121:BE276))*I35), 2) -> 0
E36: znížená | F36: =ROUND((SUM(BF121:BF276)), 2) -> 0 | I36: 0.2 | J36: =ROUND(((SUM(BF121:BF276))*I36), 2) -> 0
E37: zákl. prenesená | F37: =ROUND((SUM(BG121:BG276)), 2) -> 0 | I37: 0.2 | J37: =0 -> 0
E38: zníž. prenesená | F38: =ROUND((SUM(BH121:BH276)), 2) -> 0 | I38: 0.2 | J38: =0 -> 0
E39: nulová | F39: =ROUND((SUM(BI121:BI276)), 2) -> 0 | I39: 0 | J39: =0 -> 0
D41: Cena s DPH | G41: v | H41: EUR | J41: =SUM(J32:J39) -> 0
D50: Projektant | G50: Spracovateľ
D61: Dátum a podpis: | F61: Pečiatka | G61: Dátum a podpis: | J61: Pečiatka
D65: Objednávateľ | G65: Zhotoviteľ
D76: Dátum a podpis: | F76: Pečiatka | G76: Dátum a podpis: | J76: Pečiatka
C82: REKAPITULÁCIA ROZPOČTU
C84: Stavba:
E85: =E7 -> Chovná hala pre kury s voľným výbehom
C86: Objekt:
E87: SO-01 - Chovná hala, základ pre kŕmne silá teleso zemného násypu
C88: Časť:
E89: =E11 -> 03, 06 - Protipožiarna bezpečnosť stavby, Zdravotechnika
C91: Miesto: | F91: =F14 -> Dolné Trhovište 224, 920 61 Dolné Trhovište | I91: Dátum: | J91: =IF(J14="","",J14) -> 45370
C93: Objednávateľ: | F93: =E17 -> FOOD FARM s.r.o., Piešťanská 3, 917 03 Trnava | I93: Projektant: | J93: =E23 -> ALLA ARCHITEKTI
C94: Zhotoviteľ: | F94: =IF(E20="","",E20) -> Vyplň údaj | I94: Spracovateľ: | J94: =E26 -> Stanislav Hlubina
C96: Kód dielu - Popis | J96: Cena celkom [EUR]
C98: Náklady z rozpočtu | J98: =J121 -> 0 | AU98: -1
D99: PSV - Práce a dodávky PSV | J99: =J122 -> 0
C106: ROZPOČET
C108: Stavba:
E109: =E7 -> Chovná hala pre kury s voľným výbehom
C110: Objekt:
E111: SO-01 - Chovná hala, základ pre kŕmne silá teleso zemného násypu
C112: Časť:
E113: =E11 -> 03, 06 - Protipožiarna bezpečnosť stavby, Zdravotechnika
C115: Miesto: | F115: =F14 -> Dolné Trhovište 224, 920 61 Dolné Trhovište | I115: Dátum: | J115: =IF(J14="","",J14) -> 45370
C117: Objednávateľ: | F117: =E17 -> FOOD FARM s.r.o., Piešťanská 3, 917 03 Trnava | I117: Projektant: | J117: =E23 -> ALLA ARCHITEKTI
C118: Zhotoviteľ: | F118: =IF(E20="","",E20) -> Vyplň údaj | I118: Spracovateľ: | J118: =E26 -> Stanislav Hlubina
C120: PČ | D120: Typ | E120: Kód | F120: Popis | G120: MJ | H120: Množstvo | I120: J.cena [EUR] | J120: Cena celkom [EUR] | K120: Cenová sústava | N120: DPH | O120: J. Nh [h] | P120: Nh celkom [h] | Q120: J. hmotnosť [t] | R120: Hmotnosť celkom [t] | S120: J. suť [t] | T120: Suť Celkom [t]
C121: Náklady z rozpočtu | J121: =BK121 -> 0 | P121: =P122 -> 0 | R121: =R122 -> 0 | T121: =T122 -> 0 | AT121: D | AU121: -1 | BK121: =BK122 -> 0
D122: D | E122: PSV | F122: Práce a dodávky PSV | J122: =BK122 -> 0 | P122: =SUM(P123:P276) -> 0 | R122: =SUM(R123:R276) -> 0 | T122: =SUM(T123:T276) -> 0 | AR122: 2 | AT122: D | AU122: 0 | AY122: ROZPOCET | BK122: =SUM(BK123:BK276) -> 0
C123: 1 | D123: K | E123: 713482111.S | F123: Montáž trubíc, hr. 10 - 15 mm,vnút.priemer do 38 mm | G123: m | H123: 57.5 | J123: =ROUND(I123*H123,2) -> 0 | N123: znížená | P123: =O123*H123 -> 0 | Q123: 0 | R123: =Q123*H123 -> 0 | S123: 0 | T123: =S123*H123 -> 0 | AR123: 16 | AT123: K | AU123: 1 | AY123: ROZPOCET | BE123: =IF(N123="základná",J123,0) -> 0 | BF123: =IF(N123="znížená",J123,0) -> 0 | BG123: =IF(N123="zákl. prenesená",J123,0) -> 0 | BH123: =IF(N123="zníž. prenesená",J123,0) -> 0 | BI123: =IF(N123="nulová",J123,0) -> 0 | BJ123: 2 | BK123: =ROUND(I123*H123,2) -> 0 | BL123: 16 | BM123: 2
C124: 2 | D124: M | E124: 01 | F124: Izolačná trubica 18x13 mm (d x hr. izolácie) | G124: m | H124: 3 | J124: =ROUND(I124*H124,2) -> 0 | N124: znížená | P124: =O124*H124 -> 0 | Q124: 0 | R124: =Q124*H124 -> 0 | S124: 0 | T124: =S124*H124 -> 0 | AR124: 32 | AT124: M | AU124: 1 | AY124: ROZPOCET | BE124: =IF(N124="základná",J124,0) -> 0 | BF124: =IF(N124="znížená",J124,0) -> 0 | BG124: =IF(N124="zákl. prenesená",J124,0) -> 0 | BH124: =IF(N124="zníž. prenesená",J124,0) -> 0 | BI124: =IF(N124="nulová",J124,0) -> 0 | BJ124: 2 | BK124: =ROUND(I124*H124,2) -> 0 | BL124: 16 | BM124: 4
C125: 3 | D125: M | E125: 283310026900 | F125: Izolačná trubica 22x13 mm (d x hr. izolácie) | G125: m | H125: 26 | J125: =ROUND(I125*H125,2) -> 0 | N125: znížená | P125: =O125*H125 -> 0 | Q125: 0 | R125: =Q125*H125 -> 0 | S125: 0 | T125: =S125*H125 -> 0 | AR125: 32 | AT125: M | AU125: 1 | AY125: ROZPOCET | BE125: =IF(N125="základná",J125,0) -> 0 | BF125: =IF(N125="znížená",J125,0) -> 0 | BG125: =IF(N125="zákl. prenesená",J125,0) -> 0 | BH125: =IF(N125="zníž. prenesená",J125,0) -> 0 | BI125: =IF(N125="nulová",J125,0) -> 0 | BJ125: 2 | BK125: =ROUND(I125*H125,2) -> 0 | BL125: 16 | BM125: 6
C126: 4 | D126: M | E126: 283310027000 | F126: Izolačná trubica 28x13 mm (d x hr. izolácie), | G126: m | H126: 4 | J126: =ROUND(I126*H126,2) -> 0 | N126: znížená | P126: =O126*H126 -> 0 | Q126: 0 | R126: =Q126*H126 -> 0 | S126: 0 | T126: =S126*H126 -> 0 | AR126: 32 | AT126: M | AU126: 1 | AY126: ROZPOCET | BE126: =IF(N126="základná",J126,0) -> 0 | BF126: =IF(N126="znížená",J126,0) -> 0 | BG126: =IF(N126="zákl. prenesená",J126,0) -> 0 | BH126: =IF(N126="zníž. prenesená",J126,0) -> 0 | BI126: =IF(N126="nulová",J126,0) -> 0 | BJ126: 2 | BK126: =ROUND(I126*H126,2) -> 0 | BL126: 16 | BM126: 8
C127: 5 | D127: M | E127: 283310027100 | F127: Izolačná trubica 35x13 mm (d x hr. izolácie) | G127: m | H127: 24.5 | J127: =ROUND(I127*H127,2) -> 0 | N127: znížená | P127: =O127*H127 -> 0 | Q127: 0 | R127: =Q127*H127 -> 0 | S127: 0 | T127: =S127*H127 -> 0 | AR127: 32 | AT127: M | AU127: 1 | AY127: ROZPOCET | BE127: =IF(N127="základná",J127,0) -> 0 | BF127: =IF(N127="znížená",J127,0) -> 0 | BG127: =IF(N127="zákl. prenesená",J127,0) -> 0 | BH127: =IF(N127="zníž. prenesená",J127,0) -> 0 | BI127: =IF(N127="nulová",J127,0) -> 0 | BJ127: 2 | BK127: =ROUND(I127*H127,2) -> 0 | BL127: 16 | BM127: 10
C128: 6 | D128: K | E128: 713482112.S | F128: Montáž trubíc, hr.do 10 -15 mm,vnút.priemer 39-70 mm | G128: m | H128: 11 | J128: =ROUND(I128*H128,2) -> 0 | N128: znížená | P128: =O128*H128 -> 0 | Q128: 0 | R128: =Q128*H128 -> 0 | S128: 0 | T128: =S128*H128 -> 0 | AR128: 16 | AT128: K | AU128: 1 | AY128: ROZPOCET | BE128: =IF(N128="základná",J128,0) -> 0 | BF128: =IF(N128="znížená",J128,0) -> 0 | BG128: =IF(N128="zákl. prenesená",J128,0) -> 0 | BH128: =IF(N128="zníž. prenesená",J128,0) -> 0 | BI128: =IF(N128="nulová",J128,0) -> 0 | BJ128: 2 | BK128: =ROUND(I128*H128,2) -> 0 | BL128: 16 | BM128: 12
C129: 7 | D129: M | E129: 283310027400 | F129: Izolačná trubica 54x13 mm (d x hr. izolácie) | G129: m | H129: 11 | J129: =ROUND(I129*H129,2) -> 0 | N129: znížená | P129: =O129*H129 -> 0 | Q129: 0 | R129: =Q129*H129 -> 0 | S129: 0 | T129: =S129*H129 -> 0 | AR129: 32 | AT129: M | AU129: 1 | AY129: ROZPOCET | BE129: =IF(N129="základná",J129,0) -> 0 | BF129: =IF(N129="znížená",J129,0) -> 0 | BG129: =IF(N129="zákl. prenesená",J129,0) -> 0 | BH129: =IF(N129="zníž. prenesená",J129,0) -> 0 | BI129: =IF(N129="nulová",J129,0) -> 0 | BJ129: 2 | BK129: =ROUND(I129*H129,2) -> 0 | BL129: 16 | BM129: 14
C130: 8 | D130: K | E130: 713482121.S | F130: Montáž trubíc z PE, hr.15-20 mm,vnút.priemer do 38 mm | G130: m | H130: 94.5 | J130: =ROUND(I130*H130,2) -> 0 | N130: znížená | P130: =O130*H130 -> 0 | Q130: 0 | R130: =Q130*H130 -> 0 | S130: 0 | T130: =S130*H130 -> 0 | AR130: 16 | AT130: K | AU130: 1 | AY130: ROZPOCET | BE130: =IF(N130="základná",J130,0) -> 0 | BF130: =IF(N130="znížená",J130,0) -> 0 | BG130: =IF(N130="zákl. prenesená",J130,0) -> 0 | BH130: =IF(N130="zníž. prenesená",J130,0) -> 0 | BI130: =IF(N130="nulová",J130,0) -> 0 | BJ130: 2 | BK130: =ROUND(I130*H130,2) -> 0 | BL130: 16 | BM130: 16
C131: 9 | D131: M | E131: 283310004700 | F131: Izolačná PE trubica 22x20 mm (d potrubia x hr. izolácie), nadrezaná | G131: m | H131: 87.5 | J131: =ROUND(I131*H131,2) -> 0 | N131: znížená | P131: =O131*H131 -> 0 | Q131: 0 | R131: =Q131*H131 -> 0 | S131: 0 | T131: =S131*H131 -> 0 | AR131: 32 | AT131: M | AU131: 1 | AY131: ROZPOCET | BE131: =IF(N131="základná",J131,0) -> 0 | BF131: =IF(N131="znížená",J131,0) -> 0 | BG131: =IF(N131="zákl. prenesená",J131,0) -> 0 | BH131: =IF(N131="zníž. prenesená",J131,0) -> 0 | BI131: =IF(N131="nulová",J131,0) -> 0 | BJ131: 2 | BK131: =ROUND(I131*H131,2) -> 0 | BL131: 16 | BM131: 18
C132: 10 | D132: M | E132: 283310004800 | F132: Izolačná PE trubica 28x20 mm (d potrubia x hr. izolácie), nadrezaná | G132: m | H132: 3 | J132: =ROUND(I132*H132,2) -> 0 | N132: znížená | P132: =O132*H132 -> 0 | Q132: 0 | R132: =Q132*H132 -> 0 | S132: 0 | T132: =S132*H132 -> 0 | AR132: 32 | AT132: M | AU132: 1 | AY132: ROZPOCET | BE132: =IF(N132="základná",J132,0) -> 0 | BF132: =IF(N132="znížená",J132,0) -> 0 | BG132: =IF(N132="zákl. prenesená",J132,0) -> 0 | BH132: =IF(N132="zníž. prenesená",J132,0) -> 0 | BI132: =IF(N132="nulová",J132,0) -> 0 | BJ132: 2 | BK132: =ROUND(I132*H132,2) -> 0 | BL132: 16 | BM132: 20
C133: 11 | D133: K | E133: 713482131.S | F133: Montáž trubíc z PE, hr.30 mm,vnút.priemer do 38 mm | G133: m | H133: 2 | J133: =ROUND(I133*H133,2) -> 0 | N133: znížená | P133: =O133*H133 -> 0 | Q133: 0 | R133: =Q133*H133 -> 0 | S133: 0 | T133: =S133*H133 -> 0 | AR133: 16 | AT133: K | AU133: 1 | AY133: ROZPOCET | BE133: =IF(N133="základná",J133,0) -> 0 | BF133: =IF(N133="znížená",J133,0) -> 0 | BG133: =IF(N133="zákl. prenesená",J133,0) -> 0 | BH133: =IF(N133="zníž. prenesená",J133,0) -> 0 | BI133: =IF(N133="nulová",J133,0) -> 0 | BJ133: 2 | BK133: =ROUND(I133*H133,2) -> 0 | BL133: 16 | BM133: 22
C134: 12 | D134: M | E134: 283310006400 | F134: Izolačná PE trubica 35x30 mm (d potrubia x hr. izolácie), rozrezaná | G134: m | H134: 2 | J134: =ROUND(I134*H134,2) -> 0 | N134: znížená | P134: =O134*H134 -> 0 | Q134: 0 | R134: =Q134*H134 -> 0 | S134: 0 | T134: =S134*H134 -> 0 | AR134: 32 | AT134: M | AU134: 1 | AY134: ROZPOCET | BE134: =IF(N134="základná",J134,0) -> 0 | BF134: =IF(N134="znížená",J134,0) -> 0 | BG134: =IF(N134="zákl. prenesená",J134,0) -> 0 | BH134: =IF(N134="zníž. prenesená",J134,0) -> 0 | BI134: =IF(N134="nulová",J134,0) -> 0 | BJ134: 2 | BK134: =ROUND(I134*H134,2) -> 0 | BL134: 16 | BM134: 24
C135: 13 | D135: K | E135: 998713203.S | F135: Presun hmôt pre izolácie tepelné v objektoch výšky nad 12 m do 24 m | G135: % | J135: =ROUND(I135*H135,2) -> 0 | N135: znížená | P135: =O135*H135 -> 0 | Q135: 0 | R135: =Q135*H135 -> 0 | S135: 0 | T135: =S135*H135 -> 0 | AR135: 16 | AT135: K | AU135: 1 | AY135: ROZPOCET | BE135: =IF(N135="základná",J135,0) -> 0 | BF135: =IF(N135="znížená",J135,0) -> 0 | BG135: =IF(N135="zákl. prenesená",J135,0) -> 0 | BH135: =IF(N135="zníž. prenesená",J135,0) -> 0 | BI135: =IF(N135="nulová",J135,0) -> 0 | BJ135: 2 | BK135: =ROUND(I135*H135,2) -> 0 | BL135: 16 | BM135: 26
C136: 14 | D136: K | E136: 721171109.S | F136: Potrubie z PVC - U odpadové ležaté hrdlové D 110 mm | G136: m | H136: 69 | J136: =ROUND(I136*H136,2) -> 0 | N136: znížená | P136: =O136*H136 -> 0 | Q136: 0 | R136: =Q136*H136 -> 0 | S136: 0 | T136: =S136*H136 -> 0 | AR136: 16 | AT136: K | AU136: 1 | AY136: ROZPOCET | BE136: =IF(N136="základná",J136,0) -> 0 | BF136: =IF(N136="znížená",J136,0) -> 0 | BG136: =IF(N136="zákl. prenesená",J136,0) -> 0 | BH136: =IF(N136="zníž. prenesená",J136,0) -> 0 | BI136: =IF(N136="nulová",J136,0) -> 0 | BJ136: 2 | BK136: =ROUND(I136*H136,2) -> 0 | BL136: 16 | BM136: 28
C137: 15 | D137: K | E137: 721171110.S | F137: Potrubie z PVC - U odpadové ležaté hrdlové D 125 mm | G137: m | H137: 8 | J137: =ROUND(I137*H137,2) -> 0 | N137: znížená | P137: =O137*H137 -> 0 | Q137: 0 | R137: =Q137*H137 -> 0 | S137: 0 | T137: =S137*H137 -> 0 | AR137: 16 | AT137: K | AU137: 1 | AY137: ROZPOCET | BE137: =IF(N137="základná",J137,0) -> 0 | BF137: =IF(N137="znížená",J137,0) -> 0 | BG137: =IF(N137="zákl. prenesená",J137,0) -> 0 | BH137: =IF(N137="zníž. prenesená",J137,0) -> 0 | BI137: =IF(N137="nulová",J137,0) -> 0 | BJ137: 2 | BK137: =ROUND(I137*H137,2) -> 0 | BL137: 16 | BM137: 30
C138: 16 | D138: K | E138: 721171112.S | F138: Potrubie z PVC - U odpadové ležaté hrdlové D 160 mm | G138: m | H138: 156 | J138: =ROUND(I138*H138,2) -> 0 | N138: znížená | P138: =O138*H138 -> 0 | Q138: 0 | R138: =Q138*H138 -> 0 | S138: 0 | T138: =S138*H138 -> 0 | AR138: 16 | AT138: K | AU138: 1 | AY138: ROZPOCET | BE138: =IF(N138="základná",J138,0) -> 0 | BF138: =IF(N138="znížená",J138,0) -> 0 | BG138: =IF(N138="zákl. prenesená",J138,0) -> 0 | BH138: =IF(N138="zníž. prenesená",J138,0) -> 0 | BI138: =IF(N138="nulová",J138,0) -> 0 | BJ138: 2 | BK138: =ROUND(I138*H138,2) -> 0 | BL138: 16 | BM138: 32
C139: 17 | D139: K | E139: 02 | F139: Potrubie odpadové HT z PP, pripojovacie D32 | G139: m | H139: 23.5 | J139: =ROUND(I139*H139,2) -> 0 | N139: znížená | P139: =O139*H139 -> 0 | Q139: 0 | R139: =Q139*H139 -> 0 | S139: 0 | T139: =S139*H139 -> 0 | AR139: 16 | AT139: K | AU139: 1 | AY139: ROZPOCET | BE139: =IF(N139="základná",J139,0) -> 0 | BF139: =IF(N139="znížená",J139,0) -> 0 | BG139: =IF(N139="zákl. prenesená",J139,0) -> 0 | BH139: =IF(N139="zníž. prenesená",J139,0) -> 0 | BI139: =IF(N139="nulová",J139,0) -> 0 | BJ139: 2 | BK139: =ROUND(I139*H139,2) -> 0 | BL139: 16 | BM139: 34
C140: 18 | D140: K | E140: 721172022.S | F140: Potrubie odpadové HT z PP, pripojovacie D40 | G140: m | H140: 2.5 | J140: =ROUND(I140*H140,2) -> 0 | N140: znížená | P140: =O140*H140 -> 0 | Q140: 0 | R140: =Q140*H140 -> 0 | S140: 0 | T140: =S140*H140 -> 0 | AR140: 16 | AT140: K | AU140: 1 | AY140: ROZPOCET | BE140: =IF(N140="základná",J140,0) -> 0 | BF140: =IF(N140="znížená",J140,0) -> 0 | BG140: =IF(N140="zákl. prenesená",J140,0) -> 0 | BH140: =IF(N140="zníž. prenesená",J140,0) -> 0 | BI140: =IF(N140="nulová",J140,0) -> 0 | BJ140: 2 | BK140: =ROUND(I140*H140,2) -> 0 | BL140: 16 | BM140: 36
C141: 19 | D141: K | E141: 721172023.S | F141: Potrubie odpadové HT z PP, pripojovacie D50 | G141: m | H141: 7.5 | J141: =ROUND(I141*H141,2) -> 0 | N141: znížená | P141: =O141*H141 -> 0 | Q141: 0 | R141: =Q141*H141 -> 0 | S141: 0 | T141: =S141*H141 -> 0 | AR141: 16 | AT141: K | AU141: 1 | AY141: ROZPOCET | BE141: =IF(N141="základná",J141,0) -> 0 | BF141: =IF(N141="znížená",J141,0) -> 0 | BG141: =IF(N141="zákl. prenesená",J141,0) -> 0 | BH141: =IF(N141="zníž. prenesená",J141,0) -> 0 | BI141: =IF(N141="nulová",J141,0) -> 0 | BJ141: 2 | BK141: =ROUND(I141*H141,2) -> 0 | BL141: 16 | BM141: 38
C142: 20 | D142: K | E142: 03 | F142: Potrubie odpadové HT z PP, pripojovacie D75 | G142: m | H142: 21.5 | J142: =ROUND(I142*H142,2) -> 0 | N142: znížená | P142: =O142*H142 -> 0 | Q142: 0 | R142: =Q142*H142 -> 0 | S142: 0 | T142: =S142*H142 -> 0 | AR142: 16 | AT142: K | AU142: 1 | AY142: ROZPOCET | BE142: =IF(N142="základná",J142,0) -> 0 | BF142: =IF(N142="znížená",J142,0) -> 0 | BG142: =IF(N142="zákl. prenesená",J142,0) -> 0 | BH142: =IF(N142="zníž. prenesená",J142,0) -> 0 | BI142: =IF(N142="nulová",J142,0) -> 0 | BJ142: 2 | BK142: =ROUND(I142*H142,2) -> 0 | BL142: 16 | BM142: 40
C143: 21 | D143: K | E143: 04 | F143: Montáž tvaroviek - odbočiek | G143: ks | H143: 247 | J143: =ROUND(I143*H143,2) -> 0 | N143: znížená | P143: =O143*H143 -> 0 | Q143: 0 | R143: =Q143*H143 -> 0 | S143: 0 | T143: =S143*H143 -> 0 | AR143: 16 | AT143: K | AU143: 1 | AY143: ROZPOCET | BE143: =IF(N143="základná",J143,0) -> 0 | BF143: =IF(N143="znížená",J143,0) -> 0 | BG143: =IF(N143="zákl. prenesená",J143,0) -> 0 | BH143: =IF(N143="zníž. prenesená",J143,0) -> 0 | BI143: =IF(N143="nulová",J143,0) -> 0 | BJ143: 2 | BK143: =ROUND(I143*H143,2) -> 0 | BL143: 16 | BM143: 42
C144: 22 | D144: M | E144: 05 | F144: Koleno 110 - 45° | G144: ks | H144: 157 | J144: =ROUND(I144*H144,2) -> 0 | N144: znížená | P144: =O144*H144 -> 0 | Q144: 0 | R144: =Q144*H144 -> 0 | S144: 0 | T144: =S144*H144 -> 0 | AR144: 32 | AT144: M | AU144: 1 | AY144: ROZPOCET | BE144: =IF(N144="základná",J144,0) -> 0 | BF144: =IF(N144="znížená",J144,0) -> 0 | BG144: =IF(N144="zákl. prenesená",J144,0) -> 0 | BH144: =IF(N144="zníž. prenesená",J144,0) -> 0 | BI144: =IF(N144="nulová",J144,0) -> 0 | BJ144: 2 | BK144: =ROUND(I144*H144,2) -> 0 | BL144: 16 | BM144: 44
C145: 23 | D145: M | E145: 06 | F145: Koleno 160 - 45° | G145: ks | H145: 9 | J145: =ROUND(I145*H145,2) -> 0 | N145: znížená | P145: =O145*H145 -> 0 | Q145: 0 | R145: =Q145*H145 -> 0 | S145: 0 | T145: =S145*H145 -> 0 | AR145: 32 | AT145: M | AU145: 1 | AY145: ROZPOCET | BE145: =IF(N145="základná",J145,0) -> 0 | BF145: =IF(N145="znížená",J145,0) -> 0 | BG145: =IF(N145="zákl. prenesená",J145,0) -> 0 | BH145: =IF(N145="zníž. prenesená",J145,0) -> 0 | BI145: =IF(N145="nulová",J145,0) -> 0 | BJ145: 2 | BK145: =ROUND(I145*H145,2) -> 0 | BL145: 16 | BM145: 46
C146: 24 | D146: M | E146: 07 | F146: Koleno 110/110 - 45° | G146: ks | H146: 2 | J146: =ROUND(I146*H146,2) -> 0 | N146: znížená | P146: =O146*H146 -> 0 | Q146: 0 | R146: =Q146*H146 -> 0 | S146: 0 | T146: =S146*H146 -> 0 | AR146: 32 | AT146: M | AU146: 1 | AY146: ROZPOCET | BE146: =IF(N146="základná",J146,0) -> 0 | BF146: =IF(N146="znížená",J146,0) -> 0 | BG146: =IF(N146="zákl. prenesená",J146,0) -> 0 | BH146: =IF(N146="zníž. prenesená",J146,0) -> 0 | BI146: =IF(N146="nulová",J146,0) -> 0 | BJ146: 2 | BK146: =ROUND(I146*H146,2) -> 0 | BL146: 16 | BM146: 48
C147: 25 | D147: M | E147: 08 | F147: Koleno 125/110 - 45° | G147: ks | H147: 4 | J147: =ROUND(I147*H147,2) -> 0 | N147: znížená | P147: =O147*H147 -> 0 | Q147: 0 | R147: =Q147*H147 -> 0 | S147: 0 | T147: =S147*H147 -> 0 | AR147: 32 | AT147: M | AU147: 1 | AY147: ROZPOCET | BE147: =IF(N147="základná",J147,0) -> 0 | BF147: =IF(N147="znížená",J147,0) -> 0 | BG147: =IF(N147="zákl. prenesená",J147,0) -> 0 | BH147: =IF(N147="zníž. prenesená",J147,0) -> 0 | BI147: =IF(N147="nulová",J147,0) -> 0 | BJ147: 2 | BK147: =ROUND(I147*H147,2) -> 0 | BL147: 16 | BM147: 50
... C181: 59 | D181: K | E181: 721290112.S | F181: Ostatné - skúška tesnosti kanalizácie v objektoch vodou DN 150 | G181: m | H181: 150 | J181: =ROUND(I181*H181,2) -> 0 | N181: znížená | P181: =O181*H181 -> 0 | Q181: 0 | R181: =Q181*H181 -> 0 | S181: 0 | T181: =S181*H181 -> 0 | AR181: 16 | AT181: K | AU181: 1 | AY181: ROZPOCET | BE181: =IF(N181="základná",J181,0) -> 0 | BF181: =IF(N181="znížená",J181,0) -> 0 | BG181: =IF(N181="zákl. prenesená",J181,0) -> 0 | BH181: =IF(N181="zníž. prenesená",J181,0) -> 0 | BI181: =IF(N181="nulová",J181,0) -> 0 | BJ181: 2 | BK181: =ROUND(I181*H181,2) -> 0 | BL181: 16 | BM181: 114
C182: 60 | D182: K | E182: 998721203.S | F182: Presun hmôt pre vnútornú kanalizáciu v objektoch výšky nad 12 do 24 m | G182: % | J182: =ROUND(I182*H182,2) -> 0 | N182: znížená | P182: =O182*H182 -> 0 | Q182: 0 | R182: =Q182*H182 -> 0 | S182: 0 | T182: =S182*H182 -> 0 | AR182: 16 | AT182: K | AU182: 1 | AY182: ROZPOCET | BE182: =IF(N182="základná",J182,0) -> 0 | BF182: =IF(N182="znížená",J182,0) -> 0 | BG182: =IF(N182="zákl. prenesená",J182,0) -> 0 | BH182: =IF(N182="zníž. prenesená",J182,0) -> 0 | BI182: =IF(N182="nulová",J182,0) -> 0 | BJ182: 2 | BK182: =ROUND(I182*H182,2) -> 0 | BL182: 16 | BM182: 116
C183: 61 | D183: K | E183: 35 | F183: Lôžko pod potrubie, stoky a drobné objekty, v objekte z piesku a štrkopiesku do 16 mm | G183: m3 | H183: 62.01 | J183: =ROUND(I183*H183,2) -> 0 | N183: znížená | P183: =O183*H183 -> 0 | Q183: 0 | R183: =Q183*H183 -> 0 | S183: 0 | T183: =S183*H183 -> 0 | AR183: 16 | AT183: K | AU183: 1 | AY183: ROZPOCET | BE183: =IF(N183="základná",J183,0) -> 0 | BF183: =IF(N183="znížená",J183,0) -> 0 | BG183: =IF(N183="zákl. prenesená",J183,0) -> 0 | BH183: =IF(N183="zníž. prenesená",J183,0) -> 0 | BI183: =IF(N183="nulová",J183,0) -> 0 | BJ183: 2 | BK183: =ROUND(I183*H183,2) -> 0 | BL183: 16 | BM183: 118
C184: 62 | D184: K | E184: 36 | F184: Nizko uhliková oceľ - napr. Viega Prestabo upravená zvonaka aj zvnútra 18x1,50 mm (DN15) | G184: m | H184: 30 | J184: =ROUND(I184*H184,2) -> 0 | N184: znížená | P184: =O184*H184 -> 0 | Q184: 0 | R184: =Q184*H184 -> 0 | S184: 0 | T184: =S184*H184 -> 0 | AR184: 16 | AT184: K | AU184: 1 | AY184: ROZPOCET | BE184: =IF(N184="základná",J184,0) -> 0 | BF184: =IF(N184="znížená",J184,0) -> 0 | BG184: =IF(N184="zákl. prenesená",J184,0) -> 0 | BH184: =IF(N184="zníž. prenesená",J184,0) -> 0 | BI184: =IF(N184="nulová",J184,0) -> 0 | BJ184: 2 | BK184: =ROUND(I184*H184,2) -> 0 | BL184: 16 | BM184: 120
C185: 63 | D185: K | E185: 37 | F185: Nizko uhliková oceľ - napr. Viega Prestabo upravená zvonaka aj zvnútra 22x1,50 mm (DN20) | G185: m | H185: 66.5 | J185: =ROUND(I185*H185,2) -> 0 | N185: znížená | P185: =O185*H185 -> 0 | Q185: 0 | R185: =Q185*H185 -> 0 | S185: 0 | T185: =S185*H185 -> 0 | AR185: 16 | AT185: K | AU185: 1 | AY185: ROZPOCET | BE185: =IF(N185="základná",J185,0) -> 0 | BF185: =IF(N185="znížená",J185,0) -> 0 | BG185: =IF(N185="zákl. prenesená",J185,0) -> 0 | BH185: =IF(N185="zníž. prenesená",J185,0) -> 0 | BI185: =IF(N185="nulová",J185,0) -> 0 | BJ185: 2 | BK185: =ROUND(I185*H185,2) -> 0 | BL185: 16 | BM185: 122
C186: 64 | D186: K | E186: 38 | F186: Nizko uhliková oceľ - napr. Viega Prestabo upravená zvonaka aj zvnútra 28x1,50 mm (DN25) | G186: m | H186: 170.5 | J186: =ROUND(I186*H186,2) -> 0 | N186: znížená | P186: =O186*H186 -> 0 | Q186: 0 | R186: =Q186*H186 -> 0 | S186: 0 | T186: =S186*H186 -> 0 | AR186: 16 | AT186: K | AU186: 1 | AY186: ROZPOCET | BE186: =IF(N186="základná",J186,0) -> 0 | BF186: =IF(N186="znížená",J186,0) -> 0 | BG186: =IF(N186="zákl. prenesená",J186,0) -> 0 | BH186: =IF(N186="zníž. prenesená",J186,0) -> 0 | BI186: =IF(N186="nulová",J186,0) -> 0 | BJ186: 2 | BK186: =ROUND(I186*H186,2) -> 0 | BL186: 16 | BM186: 124
C187: 65 | D187: K | E187: 39 | F187: Nizko uhliková oceľ - napr. Viega - napr. Viega 35x1,50 mm (DN32) | G187: m | H187: 115 | J187: =ROUND(I187*H187,2) -> 0 | N187: znížená | P187: =O187*H187 -> 0 | Q187: 0 | R187: =Q187*H187 -> 0 | S187: 0 | T187: =S187*H187 -> 0 | AR187: 16 | AT187: K | AU187: 1 | AY187: ROZPOCET | BE187: =IF(N187="základná",J187,0) -> 0 | BF187: =IF(N187="znížená",J187,0) -> 0 | BG187: =IF(N187="zákl. prenesená",J187,0) -> 0 | BH187: =IF(N187="zníž. prenesená",J187,0) -> 0 | BI187: =IF(N187="nulová",J187,0) -> 0 | BJ187: 2 | BK187: =ROUND(I187*H187,2) -> 0 | BL187: 16 | BM187: 126
C188: 66 | D188: K | E188: 40 | F188: Nizko uhliková oceľ - napr. Viega - napr. Viega 42x1,50 mm (DN40) | G188: m | H188: 5 | J188: =ROUND(I188*H188,2) -> 0 | N188: znížená | P188: =O188*H188 -> 0 | Q188: 0 | R188: =Q188*H188 -> 0 | S188: 0 | T188: =S188*H188 -> 0 | AR188: 16 | AT188: K | AU188: 1 | AY188: ROZPOCET | BE188: =IF(N188="základná",J188,0) -> 0 | BF188: =IF(N188="znížená",J188,0) -> 0 | BG188: =IF(N188="zákl. prenesená",J188,0) -> 0 | BH188: =IF(N188="zníž. prenesená",J188,0) -> 0 | BI188: =IF(N188="nulová",J188,0) -> 0 | BJ188: 2 | BK188: =ROUND(I188*H188,2) -> 0 | BL188: 16 | BM188: 128
C189: 67 | D189: K | E189: 41 | F189: Nizko uhliková oceľ - napr. Viega - napr. Viega 54x1,50 mm (DN50) | G189: m | H189: 115.5 | J189: =ROUND(I189*H189,2) -> 0 | N189: znížená | P189: =O189*H189 -> 0 | Q189: 0 | R189: =Q189*H189 -> 0 | S189: 0 | T189: =S189*H189 -> 0 | AR189: 16 | AT189: K | AU189: 1 | AY189: ROZPOCET | BE189: =IF(N189="základná",J189,0) -> 0 | BF189: =IF(N189="znížená",J189,0) -> 0 | BG189: =IF(N189="zákl. prenesená",J189,0) -> 0 | BH189: =IF(N189="zníž. prenesená",J189,0) -> 0 | BI189: =IF(N189="nulová",J189,0) -> 0 | BJ189: 2 | BK189: =ROUND(I189*H189,2) -> 0 | BL189: 16 | BM189: 130
C190: 68 | D190: K | E190: 42 | F190: Montáž nizko uhliková oceľ za bm | G190: m | H190: 502.5 | J190: =ROUND(I190*H190,2) -> 0 | N190: znížená | P190: =O190*H190 -> 0 | Q190: 0 | R190: =Q190*H190 -> 0 | S190: 0 | T190: =S190*H190 -> 0 | AR190: 16 | AT190: K | AU190: 1 | AY190: ROZPOCET | BE190: =IF(N190="základná",J190,0) -> 0 | BF190: =IF(N190="znížená",J190,0) -> 0 | BG190: =IF(N190="zákl. prenesená",J190,0) -> 0 | BH190: =IF(N190="zníž. prenesená",J190,0) -> 0 | BI190: =IF(N190="nulová",J190,0) -> 0 | BJ190: 2 | BK190: =ROUND(I190*H190,2) -> 0 | BL190: 16 | BM190: 132
C191: 69 | D191: M | E191: 43 | F191: Kolienka - 15°, 30°, 45°, T-kusy , spojovacie armatúry , prechody , kríženia atď. priemeru od DN15 do DN50 | G191: súbor | H191: 1 | J191: =ROUND(I191*H191,2) -> 0 | N191: znížená | P191: =O191*H191 -> 0 | Q191: 0 | R191: =Q191*H191 -> 0 | S191: 0 | T191: =S191*H191 -> 0 | AR191: 32 | AT191: M | AU191: 1 | AY191: ROZPOCET | BE191: =IF(N191="základná",J191,0) -> 0 | BF191: =IF(N191="znížená",J191,0) -> 0 | BG191: =IF(N191="zákl. prenesená",J191,0) -> 0 | BH191: =IF(N191="zníž. prenesená",J191,0) -> 0 | BI191: =IF(N191="nulová",J191,0) -> 0 | BJ191: 2 | BK191: =ROUND(I191*H191,2) -> 0 | BL191: 16 | BM191: 134
C192: 70 | D192: K | E192: 871221118.S | F192: Montáž vodovodného potrubia z dvojvsrtvového PE 100 SDR11, SDR17 zváraných elektrotvarovkami D 63x5,8 mm | G192: m | H192: 5 | J192: =ROUND(I192*H192,2) -> 0 | N192: znížená | P192: =O192*H192 -> 0 | Q192: 0 | R192: =Q192*H192 -> 0 | S192: 0 | T192: =S192*H192 -> 0 | AR192: 16 | AT192: K | AU192: 1 | AY192: ROZPOCET | BE192: =IF(N192="základná",J192,0) -> 0 | BF192: =IF(N192="znížená",J192,0) -> 0 | BG192: =IF(N192="zákl. prenesená",J192,0) -> 0 | BH192: =IF(N192="zníž. prenesená",J192,0) -> 0 | BI192: =IF(N192="nulová",J192,0) -> 0 | BJ192: 2 | BK192: =ROUND(I192*H192,2) -> 0 | BL192: 16 | BM192: 136
C193: 71 | D193: M | E193: 286130033700.S | F193: Rúra HDPE na vodu PE100 PN16 SDR11 63x5,80x100 m | G193: m | H193: 5 | J193: =ROUND(I193*H193,2) -> 0 | N193: znížená | P193: =O193*H193 -> 0 | Q193: 0 | R193: =Q193*H193 -> 0 | S193: 0 | T193: =S193*H193 -> 0 | AR193: 32 | AT193: M | AU193: 1 | AY193: ROZPOCET | BE193: =IF(N193="základná",J193,0) -> 0 | BF193: =IF(N193="znížená",J193,0) -> 0 | BG193: =IF(N193="zákl. prenesená",J193,0) -> 0 | BH193: =IF(N193="zníž. prenesená",J193,0) -> 0 | BI193: =IF(N193="nulová",J193,0) -> 0 | BJ193: 2 | BK193: =ROUND(I193*H193,2) -> 0 | BL193: 16 | BM193: 138
C194: 72 | D194: K | E194: 722172627 | F194: Plasthliníkové potrubie napr.Rehau RAUTITAN flex v tyčiach spájané lisovaním dxt 16x2,2 mm | G194: m | H194: 46 | J194: =ROUND(I194*H194,2) -> 0 | N194: znížená | P194: =O194*H194 -> 0 | Q194: 0 | R194: =Q194*H194 -> 0 | S194: 0 | T194: =S194*H194 -> 0 | AR194: 16 | AT194: K | AU194: 1 | AY194: ROZPOCET | BE194: =IF(N194="základná",J194,0) -> 0 | BF194: =IF(N194="znížená",J194,0) -> 0 | BG194: =IF(N194="zákl. prenesená",J194,0) -> 0 | BH194: =IF(N194="zníž. prenesená",J194,0) -> 0 | BI194: =IF(N194="nulová",J194,0) -> 0 | BJ194: 2 | BK194: =ROUND(I194*H194,2) -> 0 | BL194: 16 | BM194: 140
... C249: 127 | D249: K | E249: 722290226.S | F249: Tlaková skúška vodovodného potrubia závitového do DN 50 | G249: m | H249: 621 | J249: =ROUND(I249*H249,2) -> 0 | N249: znížená | P249: =O249*H249 -> 0 | Q249: 0 | R249: =Q249*H249 -> 0 | S249: 0 | T249: =S249*H249 -> 0 | AR249: 16 | AT249: K | AU249: 1 | AY249: ROZPOCET | BE249: =IF(N249="základná",J249,0) -> 0 | BF249: =IF(N249="znížená",J249,0) -> 0 | BG249: =IF(N249="zákl. prenesená",J249,0) -> 0 | BH249: =IF(N249="zníž. prenesená",J249,0) -> 0 | BI249: =IF(N249="nulová",J249,0) -> 0 | BJ249: 2 | BK249: =ROUND(I249*H249,2) -> 0 | BL249: 16 | BM249: 250
C250: 128 | D250: K | E250: 998722203.S | F250: Presun hmôt pre vnútorný vodovod v objektoch výšky nad 12 do 24 m | G250: % | J250: =ROUND(I250*H250,2) -> 0 | N250: znížená | P250: =O250*H250 -> 0 | Q250: 0 | R250: =Q250*H250 -> 0 | S250: 0 | T250: =S250*H250 -> 0 | AR250: 16 | AT250: K | AU250: 1 | AY250: ROZPOCET | BE250: =IF(N250="základná",J250,0) -> 0 | BF250: =IF(N250="znížená",J250,0) -> 0 | BG250: =IF(N250="zákl. prenesená",J250,0) -> 0 | BH250: =IF(N250="zníž. prenesená",J250,0) -> 0 | BI250: =IF(N250="nulová",J250,0) -> 0 | BJ250: 2 | BK250: =ROUND(I250*H250,2) -> 0 | BL250: 16 | BM250: 252
C251: 129 | D251: K | E251: 725149720.S | F251: Montáž záchodu do predstenového systému | G251: ks | H251: 1 | J251: =ROUND(I251*H251,2) -> 0 | N251: znížená | P251: =O251*H251 -> 0 | Q251: 0 | R251: =Q251*H251 -> 0 | S251: 0 | T251: =S251*H251 -> 0 | AR251: 16 | AT251: K | AU251: 1 | AY251: ROZPOCET | BE251: =IF(N251="základná",J251,0) -> 0 | BF251: =IF(N251="znížená",J251,0) -> 0 | BG251: =IF(N251="zákl. prenesená",J251,0) -> 0 | BH251: =IF(N251="zníž. prenesená",J251,0) -> 0 | BI251: =IF(N251="nulová",J251,0) -> 0 | BJ251: 2 | BK251: =ROUND(I251*H251,2) -> 0 | BL251: 16 | BM251: 254
...

Sheet 04 - Filtračná technológi...
L2: >> skryté stĺpce << | AT2: {76d65d7c-18bf-4452-a5f8-337d6d1696f0}
AT3: 0
D4: KRYCÍ LIST ROZPOČTU | M4: v --- nižšie sa nachádzajú doplnkové a pomocné údaje k zostavám --- v | AT4: False
D6: Stavba:
E7: ='Rekapitulácia stavby'!K6 -> Chovná hala pre kury s voľným výbehom
D8: Objekt:
E9: SO-01 - Chovná hala, základ pre kŕmne silá teleso zemného násypu
D10: Časť:
E11: 04 - Filtračná technológia na úpravu vody zo studne
D13: JKSO: | I13: KS:
D14: Miesto: | F14: Dolné Trhovište 224, 920 61 Dolné Trhovište | I14: Dátum: | J14: ='Rekapitulácia stavby'!AN8 -> 45370
D16: Objednávateľ: | I16: IČO:
E17: FOOD FARM s.r.o., Piešťanská 3, 917 03 Trnava | I17: IČ DPH:
D19: Zhotoviteľ: | I19: IČO: | J19: ='Rekapitulácia stavby'!AN13 -> Vyplň údaj
E20: ='Rekapitulácia stavby'!E14 -> Vyplň údaj | I20: IČ DPH: | J20: ='Rekapitulácia stavby'!AN14 -> Vyplň údaj
D22: Projektant: | I22: IČO:
E23: ALLA ARCHITEKTI | I23: IČ DPH:
D25: Spracovateľ: | I25: IČO:
E26: Stanislav Hlubina | I26: IČ DPH:
D28: Poznámka:
D32: Cena bez DPH | J32: =ROUND(J120, 2) -> 0
F34: Základ dane | I34: Sadzba dane | J34: Výška dane
D35: DPH | E35: základná | F35: =ROUND((SUM(BE120:BE127)), 2) -> 0 | I35: 0.2 | J35: =ROUND(((SUM(BE120:BE127))*I35), 2) -> 0
E36: znížená | F36: =ROUND((SUM(BF120:BF127)), 2) -> 0 | I36: 0.2 | J36: =ROUND(((SUM(BF120:BF127))*I36), 2) -> 0
E37: zákl. prenesená | F37: =ROUND((SUM(BG120:BG127)), 2) -> 0 | I37: 0.2 | J37: =0 -> 0
E38: zníž. prenesená | F38: =ROUND((SUM(BH120:BH127)), 2) -> 0 | I38: 0.2 | J38: =0 -> 0
E39: nulová | F39: =ROUND((SUM(BI120:BI127)), 2) -> 0 | I39: 0 | J39: =0 -> 0
D41: Cena s DPH | G41: v | H41: EUR | J41: =SUM(J32:J39) -> 0
D50: Projektant | G50: Spracovateľ
D61: Dátum a podpis: | F61: Pečiatka | G61: Dátum a podpis: | J61: Pečiatka
D65: Objednávateľ | G65: Zhotoviteľ
D76: Dátum a podpis: | F76: Pečiatka | G76: Dátum a podpis: | J76: Pečiatka
C82: REKAPITULÁCIA ROZPOČTU
C84: Stavba:
E85: =E7 -> Chovná hala pre kury s voľným výbehom
C86: Objekt:
E87: SO-01 - Chovná hala, základ pre kŕmne silá teleso zemného násypu
C88: Časť:
E89: =E11 -> 04 - Filtračná technológia na úpravu vody zo studne
C91: Miesto: | F91: =F14 -> Dolné Trhovište 224, 920 61 Dolné Trhovište | I91: Dátum: | J91: =IF(J14="","",J14) -> 45370
C93: Objednávateľ: | F93: =E17 -> FOOD FARM s.r.o., Piešťanská 3, 917 03 Trnava | I93: Projektant: | J93: =E23 -> ALLA ARCHITEKTI
C94: Zhotoviteľ: | F94: =IF(E20="","",E20) -> Vyplň údaj | I94: Spracovateľ: | J94: =E26 -> Stanislav Hlubina
C96: Kód dielu - Popis | J96: Cena celkom [EUR]
C98: Náklady z rozpočtu | J98: =J120 -> 0 | AU98: -1
C105: ROZPOČET
C107: Stavba:
E108: =E7 -> Chovná hala pre kury s voľným výbehom
C109: Objekt:
E110: SO-01 - Chovná hala, základ pre kŕmne silá teleso zemného násypu
C111: Časť:
E112: =E11 -> 04 - Filtračná technológia na úpravu vody zo studne
C114: Miesto: | F114: =F14 -> Dolné Trhovište 224, 920 61 Dolné Trhovište | I114: Dátum: | J114: =IF(J14="","",J14) -> 45370
C116: Objednávateľ: | F116: =E17 -> FOOD FARM s.r.o., Piešťanská 3, 917 03 Trnava | I116: Projektant: | J116: =E23 -> ALLA ARCHITEKTI
C117: Zhotoviteľ: | F117: =IF(E20="","",E20) -> Vyplň údaj | I117: Spracovateľ: | J117: =E26 -> Stanislav Hlubina
C119: PČ | D119: Typ | E119: Kód | F119: Popis | G119: MJ | H119: Množstvo | I119: J.cena [EUR] | J119: Cena celkom [EUR] | K119: Cenová sústava | N119: DPH | O119: J. Nh [h] | P119: Nh celkom [h] | Q119: J. hmotnosť [t] | R119: Hmotnosť celkom [t] | S119: J. suť [t] | T119: Suť Celkom [t]
C120: Náklady z rozpočtu | J120: =BK120 -> 0 | P120: =SUM(P121:P127) -> 0 | R120: =SUM(R121:R127) -> 0 | T120: =SUM(T121:T127) -> 0 | AT120: D | AU120: -1 | BK120: =SUM(BK121:BK127) -> 0
C121: 1 | D121: K | E121: Pol1 | F121: Mechanický filter s manometrom: veľkosť filtrácie 40 µm, prietok vody: 8 m³/h, vypúšťací ventil, manometer, obmedzovač tlaku | G121: ks | H121: 1 | J121: =ROUND(I121*H121,2) -> 0 | N121: znížená | P121: =O121*H121 -> 0 | Q121: 0 | R121: =Q121*H121 -> 0 | S121: 0 | T121: =S121*H121 -> 0 | AR121: 4 | AT121: K | AU121: 0 | AY121: ROZPOCET | BE121: =IF(N121="základná",J121,0) -> 0 | BF121: =IF(N121="znížená",J121,0) -> 0 | BG121: =IF(N121="zákl. prenesená",J121,0) -> 0 | BH121: =IF(N121="zníž. prenesená",J121,0) -> 0 | BI121: =IF(N121="nulová",J121,0) -> 0 | BJ121: 2 | BK121: =ROUND(I121*H121,2) -> 0 | BL121: 4 | BM121: 2
C122: 2 | D122: K | E122: Pol2 | F122: Automatický filtračný systém s časovým riadením na odstránenie mangánu: filtr. médium Burel, 4x20 l, prietok max. 1m3/ks, | G122: ks | H122: 4 | J122: =ROUND(I122*H122,2) -> 0 | N122: znížená | P122: =O122*H122 -> 0 | Q122: 0 | R122: =Q122*H122 -> 0 | S122: 0 | T122: =S122*H122 -> 0 | AR122: 4 | AT122: K | AU122: 0 | AY122: ROZPOCET | BE122: =IF(N122="základná",J122,0) -> 0 | BF122: =IF(N122="znížená",J122,0) -> 0 | BG122: =IF(N122="zákl. prenesená",J122,0) -> 0 | BH122: =IF(N122="zníž. prenesená",J122,0) -> 0 | BI122: =IF(N122="nulová",J122,0) -> 0 | BJ122: 2 | BK122: =ROUND(I122*H122,2) -> 0 | BL122: 4 | BM122: 4
C123: 3 | D123: K | E123: Pol3 | F123: UV lampa: 90 W, pripojenie 6/4", | G123: ks | H123: 1 | J123: =ROUND(I123*H123,2) -> 0 | N123: znížená | P123: =O123*H123 -> 0 | Q123: 0 | R123: =Q123*H123 -> 0 | S123: 0 | T123: =S123*H123 -> 0 | AR123: 4 | AT123: K | AU123: 0 | AY123: ROZPOCET | BE123: =IF(N123="základná",J123,0) -> 0 | BF123: =IF(N123="znížená",J123,0) -> 0 | BG123: =IF(N123="zákl. prenesená",J123,0) -> 0 | BH123: =IF(N123="zníž. prenesená",J123,0) -> 0 | BI123: =IF(N123="nulová",J123,0) -> 0 | BJ123: 2 | BK123: =ROUND(I123*H123,2) -> 0 | BL123: 4 | BM123: 6
C124: 4 | D124: K | E124: Pol4 | F124: Práca - dezinfekcia studne a rozvodov | G124: celok | H124: 1 | J124: =ROUND(I124*H124,2) -> 0 | N124: znížená | P124: =O124*H124 -> 0 | Q124: 0 | R124: =Q124*H124 -> 0 | S124: 0 | T124: =S124*H124 -> 0 | AR124: 4 | AT124: K | AU124: 0 | AY124: ROZPOCET | BE124: =IF(N124="základná",J124,0) -> 0 | BF124: =IF(N124="znížená",J124,0) -> 0 | BG124: =IF(N124="zákl. prenesená",J124,0) -> 0 | BH124: =IF(N124="zníž. prenesená",J124,0) -> 0 | BI124: =IF(N124="nulová",J124,0) -> 0 | BJ124: 2 | BK124: =ROUND(I124*H124,2) -> 0 | BL124: 4 | BM124: 8
C125: 5 | D125: K | E125: Pol5 | F125: Prevádzková chémia na dezinfekciu studní a rozvodov | G125: celok | H125: 1 | J125: =ROUND(I125*H125,2) -> 0 | N125: znížená | P125: =O125*H125 -> 0 | Q125: 0 | R125: =Q125*H125 -> 0 | S125: 0 | T125: =S125*H125 -> 0 | AR125: 4 | AT125: K | AU125: 0 | AY125: ROZPOCET | BE125: =IF(N125="základná",J125,0) -> 0 | BF125: =IF(N125="znížená",J125,0) -> 0 | BG125: =IF(N125="zákl. prenesená",J125,0) -> 0 | BH125: =IF(N125="zníž. prenesená",J125,0) -> 0 | BI125: =IF(N125="nulová",J125,0) -> 0 | BJ125: 2 | BK125: =ROUND(I125*H125,2) -> 0 | BL125: 4 | BM125: 10
C126: 6 | D126: K | E126: Pol6 | F126: Práca - inštalačné práce vrátane použitého vodárenského materialu | G126: celok | H126: 1 | J126: =ROUND(I126*H126,2) -> 0 | N126: znížená | P126: =O126*H126 -> 0 | Q126: 0 | R126: =Q126*H126 -> 0 | S126: 0 | T126: =S126*H126 -> 0 | AR126: 4 | AT126: K | AU126: 0 | AY126: ROZPOCET | BE126: =IF(N126="základná",J126,0) -> 0 | BF126: =IF(N126="znížená",J126,0) -> 0 | BG126: =IF(N126="zákl. prenesená",J126,0) -> 0 | BH126: =IF(N126="zníž. prenesená",J126,0) -> 0 | BI126: =IF(N126="nulová",J126,0) -> 0 | BJ126: 2 | BK126: =ROUND(I126*H126,2) -> 0 | BL126: 4 | BM126: 12
C127: 7 | D127: K | E127: Pol7 | F127: Dopravné náklady - spolu | G127: celok | H127: 1 | J127: =ROUND(I127*H127,2) -> 0 | N127: znížená | P127: =O127*H127 -> 0 | Q127: 0 | R127: =Q127*H127 -> 0 | S127: 0 | T127: =S127*H127 -> 0 | AR127: 4 | AT127: K | AU127: 0 | AY127: ROZPOCET | BE127: =IF(N127="základná",J127,0) -> 0 | BF127: =IF(N127="znížená",J127,0) -> 0 | BG127: =IF(N127="zákl. prenesená",J127,0) -> 0 | BH127: =IF(N127="zníž. prenesená",J127,0) -> 0 | BI127: =IF(N127="nulová",J127,0) -> 0 | BJ127: 2 | BK127: =ROUND(I127*H127,2) -> 0 | BL127: 4 | BM127: 14

Sheet 05 - Vykurovanie
L2: >> skryté stĺpce << | AT2: {591b34b9-33c7-493b-86af-7ca712110e63}
AT3: 0
D4: KRYCÍ LIST ROZPOČTU | M4: v --- nižšie sa nachádzajú doplnkové a pomocné údaje k zostavám --- v | AT4: False
D6: Stavba:
E7: ='Rekapitulácia stavby'!K6 -> Chovná hala pre kury s voľným výbehom
D8: Objekt:
E9: SO-01 - Chovná hala, základ pre kŕmne silá teleso zemného násypu
D10: Časť:
E11: 05 - Vykurovanie
D13: JKSO: | I13: KS:
D14: Miesto: | F14: Dolné Trhovište 224, 920 61 Dolné Trhovište | I14: Dátum: | J14: ='Rekapitulácia stavby'!AN8 -> 45370
D16: Objednávateľ: | I16: IČO:
E17: FOOD FARM s.r.o., Piešťanská 3, 917 03 Trnava | I17: IČ DPH:
D19: Zhotoviteľ: | I19: IČO: | J19: ='Rekapitulácia stavby'!AN13 -> Vyplň údaj
E20: ='Rekapitulácia stavby'!E14 -> Vyplň údaj | I20: IČ DPH: | J20: ='Rekapitulácia stavby'!AN14 -> Vyplň údaj
D22: Projektant: | I22: IČO:
E23: ALLA ARCHITEKTI | I23: IČ DPH:
D25: Spracovateľ: | I25: IČO:
E26: Stanislav Hlubina | I26: IČ DPH:
D28: Poznámka:
D32: Cena bez DPH | J32: =ROUND(J129, 2) -> 0
F34: Základ dane | I34: Sadzba dane | J34: Výška dane
D35: DPH | E35: základná | F35: =ROUND((SUM(BE129:BE213)), 2) -> 0 | I35: 0.2 | J35: =ROUND(((SUM(BE129:BE213))*I35), 2) -> 0
E36: znížená | F36: =ROUND((SUM(BF129:BF213)), 2) -> 0 | I36: 0.2 | J36: =ROUND(((SUM(BF129:BF213))*I36), 2) -> 0
E37: zákl. prenesená | F37: =ROUND((SUM(BG129:BG213)), 2) -> 0 | I37: 0.2 | J37: =0 -> 0
E38: zníž. prenesená | F38: =ROUND((SUM(BH129:BH213)), 2) -> 0 | I38: 0.2 | J38: =0 -> 0
E39: nulová | F39: =ROUND((SUM(BI129:BI213)), 2) -> 0 | I39: 0 | J39: =0 -> 0
D41: Cena s DPH | G41: v | H41: EUR | J41: =SUM(J32:J39) -> 0
D50: Projektant | G50: Spracovateľ
D61: Dátum a podpis: | F61: Pečiatka | G61: Dátum a podpis: | J61: Pečiatka
D65: Objednávateľ | G65: Zhotoviteľ
D76: Dátum a podpis: | F76: Pečiatka | G76: Dátum a podpis: | J76: Pečiatka
C82: REKAPITULÁCIA ROZPOČTU
C84: Stavba:
E85: =E7 -> Chovná hala pre kury s voľným výbehom
C86: Objekt:
E87: SO-01 - Chovná hala, základ pre kŕmne silá teleso zemného násypu
C88: Časť:
E89: =E11 -> 05 - Vykurovanie
C91: Miesto: | F91: =F14 -> Dolné Trhovište 224, 920 61 Dolné Trhovište | I91: Dátum: | J91: =IF(J14="","",J14) -> 45370
C93: Objednávateľ: | F93: =E17 -> FOOD FARM s.r.o., Piešťanská 3, 917 03 Trnava | I93: Projektant: | J93: =E23 -> ALLA ARCHITEKTI
C94: Zhotoviteľ: | F94: =IF(E20="","",E20) -> Vyplň údaj | I94: Spracovateľ: | J94: =E26 -> Stanislav Hlubina
C96: Kód dielu - Popis | J96: Cena celkom [EUR]
C98: Náklady z rozpočtu | J98: =J129 -> 0 | AU98: -1
D99: PSV - Práce a dodávky PSV | J99: =J131 -> 0
D100: 713 - Izolácie tepelné | J100: =J132 -> 0
D101: 731 - Ústredné kúrenie, kotolne | J101: =J138 -> 0
D102: 732 - Ústredné kúrenie, strojovne | J102: =J145 -> 0
D103: 733 - Ústredné kúrenie, rozvodné potrubie | J103: =J159 -> 0
D104: 734 - Ústredné kúrenie, armatúry. | J104: =J181 -> 0
D105: 735 - Ústredné kúrenie - vkurovacie telesá | J105: =J192 -> 0
D106: 767 - Konštrukcie doplnkové kovové | J106: =J208 -> 0
D107: HZS - Hodinové zúčtovacie sadzby | J107: =J210 -> 0
C114: ROZPOČET
C116: Stavba:
E117: =E7 -> Chovná hala pre kury s voľným výbehom
C118: Objekt:
E119: SO-01 - Chovná hala, základ pre kŕmne silá teleso zemného násypu
C120: Časť:
E121: =E11 -> 05 - Vykurovanie
C123: Miesto: | F123: =F14 -> Dolné Trhovište 224, 920 61 Dolné Trhovište | I123: Dátum: | J123: =IF(J14="","",J14) -> 45370
C125: Objednávateľ: | F125: =E17 -> FOOD FARM s.r.o., Piešťanská 3, 917 03 Trnava | I125: Projektant: | J125: =E23 -> ALLA ARCHITEKTI
C126: Zhotoviteľ: | F126: =IF(E20="","",E20) -> Vyplň údaj | I126: Spracovateľ: | J126: =E26 -> Stanislav Hlubina
C128: PČ | D128: Typ | E128: Kód | F128: Popis | G128: MJ | H128: Množstvo | I128: J.cena [EUR] | J128: Cena celkom [EUR] | K128: Cenová sústava | N128: DPH | O128: J. Nh [h] | P128: Nh celkom [h] | Q128: J. hmotnosť [t] | R128: Hmotnosť celkom [t] | S128: J. suť [t] | T128: Suť Celkom [t]
C129: Náklady z rozpočtu | J129: =BK129 -> 0 | P129: =P130+P131+P210 -> 0 | R129: =R130+R131+R210 -> 0 | T129: =T130+T131+T210 -> 0 | AT129: D | AU129: -1 | BK129: =BK130+BK131+BK210 -> 0
C130: 1 | D130: K | E130: Kód položky | F130: Popis | G130: MJ | H130: 0 | J130: =ROUND(I130*H130,2) -> 0 | N130: znížená | P130: =O130*H130 -> 0 | Q130: 0 | R130: =Q130*H130 -> 0 | S130: 0 | T130: =S130*H130 -> 0 | AR130: 262144 | AT130: K | AU130: 0 | AY130: ROZPOCET | BE130: =IF(N130="základná",J130,0) -> 0 | BF130: =IF(N130="znížená",J130,0) -> 0 | BG130: =IF(N130="zákl. prenesená",J130,0) -> 0 | BH130: =IF(N130="zníž. prenesená",J130,0) -> 0 | BI130: =IF(N130="nulová",J130,0) -> 0 | BJ130: 2 | BK130: =ROUND(I130*H130,2) -> 0 | BL130: 262144 | BM130: 2
D131: D | E131: PSV | F131: Práce a dodávky PSV | J131: =BK131 -> 0 | P131: =P132+P138+P145+P159+P181+P192+P208 -> 0 | R131: =R132+R138+R145+R159+R181+R192+R208 -> 0 | T131: =T132+T138+T145+T159+T181+T192+T208 -> 0 | AR131: 2 | AT131: D | AU131: 0 | AY131: ROZPOCET | BK131: =BK132+BK138+BK145+BK159+BK181+BK192+BK208 -> 0
D132: D | E132: 713 | F132: Izolácie tepelné | J132: =BK132 -> 0 | P132: =SUM(P133:P137) -> 0 | R132: =SUM(R133:R137) -> 0 | T132: =SUM(T133:T137) -> 0 | AR132: 2 | AT132: D | AU132: 1 | AY132: ROZPOCET | BK132: =SUM(BK133:BK137) -> 0
C133: 2 | D133: K | E133: TL 15 x 27 DG | F133: Tubolit DG hr. 25 mm; d = 15 mm | G133: m | H133: 171.94 | J133: =ROUND(I133*H133,2) -> 0 | N133: znížená | P133: =O133*H133 -> 0 | Q133: 0 | R133: =Q133*H133 -> 0 | S133: 0 | T133: =S133*H133 -> 0 | AR133: 16 | AT133: K | AU133: 2 | AY133: ROZPOCET | BE133: =IF(N133="základná",J133,0) -> 0 | BF133: =IF(N133="znížená",J133,0) -> 0 | BG133: =IF(N133="zákl. prenesená",J133,0) -> 0 | BH133: =IF(N133="zníž. prenesená",J133,0) -> 0 | BI133: =IF(N133="nulová",J133,0) -> 0 | BJ133: 2 | BK133: =ROUND(I133*H133,2) -> 0 | BL133: 16 | BM133: 4
C134: 3 | D134: K | E134: TL 18 x 30 DG | F134: Tubolit DG hr. 30 mm; d = 18 mm | G134: m | H134: 52.22 | J134: =ROUND(I134*H134,2) -> 0 | N134: znížená | P134: =O134*H134 -> 0 | Q134: 0 | R134: =Q134*H134 -> 0 | S134: 0 | T134: =S134*H134 -> 0 | AR134: 16 | AT134: K | AU134: 2 | AY134: ROZPOCET | BE134: =IF(N134="základná",J134,0) -> 0 | BF134: =IF(N134="znížená",J134,0) -> 0 | BG134: =IF(N134="zákl. prenesená",J134,0) -> 0 | BH134: =IF(N134="zníž. prenesená",J134,0) -> 0 | BI134: =IF(N134="nulová",J134,0) -> 0 | BJ134: 2 | BK134: =ROUND(I134*H134,2) -> 0 | BL134: 16 | BM134: 6
C135: 4 | D135: K | E135: TL 22 x 30 DG | F135: Tubolit DG hr. 30 mm; d = 22 mm | G135: m | H135: 109.25 | J135: =ROUND(I135*H135,2) -> 0 | N135: znížená | P135: =O135*H135 -> 0 | Q135: 0 | R135: =Q135*H135 -> 0 | S135: 0 | T135: =S135*H135 -> 0 | AR135: 16 | AT135: K | AU135: 2 | AY135: ROZPOCET | BE135: =IF(N135="základná",J135,0) -> 0 | BF135: =IF(N135="znížená",J135,0) -> 0 | BG135: =IF(N135="zákl. prenesená",J135,0) -> 0 | BH135: =IF(N135="zníž. prenesená",J135,0) -> 0 | BI135: =IF(N135="nulová",J135,0) -> 0 | BJ135: 2 | BK135: =ROUND(I135*H135,2) -> 0 | BL135: 16 | BM135: 8
C136: 5 | D136: K | E136: TL 28 x 30 DG | F136: Tubolit DG hr. 30 mm; d = 28 mm | G136: m | H136: 29.83 | J136: =ROUND(I136*H136,2) -> 0 | N136: znížená | P136: =O136*H136 -> 0 | Q136: 0 | R136: =Q136*H136 -> 0 | S136: 0 | T136: =S136*H136 -> 0 | AR136: 16 | AT136: K | AU136: 2 | AY136: ROZPOCET | BE136: =IF(N136="základná",J136,0) -> 0 | BF136: =IF(N136="znížená",J136,0) -> 0 | BG136: =IF(N136="zákl. prenesená",J136,0) -> 0 | BH136: =IF(N136="zníž. prenesená",J136,0) -> 0 | BI136: =IF(N136="nulová",J136,0) -> 0 | BJ136: 2 | BK136: =ROUND(I136*H136,2) -> 0 | BL136: 16 | BM136: 10
C137: 6 | D137: K | E137: TL 42 x 30 DG | F137: Tubolit DG hr. 30 mm; d = 42 mm | G137: m | H137: 20 | J137: =ROUND(I137*H137,2) -> 0 | N137: znížená | P137: =O137*H137 -> 0 | Q137: 0 | R137: =Q137*H137 -> 0 | S137: 0 | T137: =S137*H137 -> 0 | AR137: 16 | AT137: K | AU137: 2 | AY137: ROZPOCET | BE137: =IF(N137="základná",J137,0) -> 0 | BF137: =IF(N137="znížená",J137,0) -> 0 | BG137: =IF(N137="zákl. prenesená",J137,0) -> 0 | BH137: =IF(N137="zníž. prenesená",J137,0) -> 0 | BI137: =IF(N137="nulová",J137,0) -> 0 | BJ137: 2 | BK137: =ROUND(I137*H137,2) -> 0 | BL137: 16 | BM137: 12
D138: D | E138: 731 | F138: Ústredné kúrenie, kotolne | J138: =BK138 -> 0 | P138: =SUM(P139:P144) -> 0 | R138: =SUM(R139:R144) -> 0 | T138: =SUM(T139:T144) -> 0 | AR138: 2 | AT138: D | AU138: 1 | AY138: ROZPOCET | BK138: =SUM(BK139:BK144) -> 0
C139: 7 | D139: K | E139: pc1 | F139: Montáž tepelného čerpadla vzduch-voda | G139: ks | H139: 1 | J139: =ROUND(I139*H139,2) -> 0 | N139: znížená | P139: =O139*H139 -> 0 | Q139: 0 | R139: =Q139*H139 -> 0 | S139: 0 | T139: =S139*H139 -> 0 | AR139: 16 | AT139: K | AU139: 2 | AY139: ROZPOCET | BE139: =IF(N139="základná",J139,0) -> 0 | BF139: =IF(N139="znížená",J139,0) -> 0 | BG139: =IF(N139="zákl. prenesená",J139,0) -> 0 | BH139: =IF(N139="zníž. prenesená",J139,0) -> 0 | BI139: =IF(N139="nulová",J139,0) -> 0 | BJ139: 2 | BK139: =ROUND(I139*H139,2) -> 0 | BL139: 16 | BM139: 14
C140: 8 | D140: K | E140: ERLA14DW1 | F140: Tepelné čerpadlo vzduch - voda, vonkajšia jednotka 14kW (napr. DAIKIN Althema3 R typ ERLA14DW1) Vonkajšie rozmery - Jednotka - Hĺbka x Výška x Šírka 460 x 870 x 1,100 mm, Chladiace médium - Typ R-32, Hladina akust. tlaku - Kúrenie - Men. 48.0 dBA, Zdroj n | G140: ks | H140: 1 | J140: =ROUND(I140*H140,2) -> 0 | N140: znížená | P140: =O140*H140 -> 0 | Q140: 0 | R140: =Q140*H140 -> 0 | S140: 0 | T140: =S140*H140 -> 0 | AR140: 16 | AT140: K | AU140: 2 | AY140: ROZPOCET | BE140: =IF(N140="základná",J140,0) -> 0 | BF140: =IF(N140="znížená",J140,0) -> 0 | BG140: =IF(N140="zákl. prenesená",J140,0) -> 0 | BH140: =IF(N140="zníž. prenesená",J140,0) -> 0 | BI140: =IF(N140="nulová",J140,0) -> 0 | BJ140: 2 | BK140: =ROUND(I140*H140,2) -> 0 | BL140: 16 | BM140: 16
C141: 9 | D141: K | E141: EBVH16S23D9W | F141: Tepelné čerpadlo vzduch - voda, vnútorná jednotka (napr. DAIKIN Althema3 R typ EBVH16S23D9W) DA3 R FS IU 16kW HO 3F-9kW-BUH 230L , Vonkajšie rozmery - Jednotka - Hĺbka x Výška x Šírka 634 x 1,855 x 595 mm, Hladina akustického tlaku - Men. 30.0 dBA | G141: ks | H141: 1 | J141: =ROUND(I141*H141,2) -> 0 | N141: znížená | P141: =O141*H141 -> 0 | Q141: 0 | R141: =Q141*H141 -> 0 | S141: 0 | T141: =S141*H141 -> 0 | AR141: 16 | AT141: K | AU141: 2 | AY141: ROZPOCET | BE141: =IF(N141="základná",J141,0) -> 0 | BF141: =IF(N141="znížená",J141,0) -> 0 | BG141: =IF(N141="zákl. prenesená",J141,0) -> 0 | BH141: =IF(N141="zníž. prenesená",J141,0) -> 0 | BI141: =IF(N141="nulová",J141,0) -> 0 | BJ141: 2 | BK141: =ROUND(I141*H141,2) -> 0 | BL141: 16 | BM141: 18
C142: 10 | D142: K | E142: 180622 | F142: Prepojovacie chladivové rúrky, dĺžka potrubia 10 m | G142: ks | H142: 1 | J142: =ROUND(I142*H142,2) -> 0 | N142: znížená | P142: =O142*H142 -> 0 | Q142: 0 | R142: =Q142*H142 -> 0 | S142: 0 | T142: =S142*H142 -> 0 | AR142: 16 | AT142: K | AU142: 2 | AY142: ROZPOCET | BE142: =IF(N142="základná",J142,0) -> 0 | BF142: =IF(N142="znížená",J142,0) -> 0 | BG142: =IF(N142="zákl. prenesená",J142,0) -> 0 | BH142: =IF(N142="zníž. prenesená",J142,0) -> 0 | BI142: =IF(N142="nulová",J142,0) -> 0 | BJ142: 2 | BK142: =ROUND(I142*H142,2) -> 0 | BL142: 16 | BM142: 20
C143: 11 | D143: K | E143: 193911 | F143: Sada káblov na elektrické pripojenie, dĺžka 9 m | G143: ks | H143: 1 | J143: =ROUND(I143*H143,2) -> 0 | N143: znížená | P143: =O143*H143 -> 0 | Q143: 0 | R143: =Q143*H143 -> 0 | S143: 0 | T143: =S143*H143 -> 0 | AR143: 16 | AT143: K | AU143: 2 | AY143: ROZPOCET | BE143: =IF(N143="základná",J143,0) -> 0 | BF143: =IF(N143="znížená",J143,0) -> 0 | BG143: =IF(N143="zákl. prenesená",J143,0) -> 0 | BH143: =IF(N143="zníž. prenesená",J143,0) -> 0 | BI143: =IF(N143="nulová",J143,0) -> 0 | BJ143: 2 | BK143: =ROUND(I143*H143,2) -> 0 | BL143: 16 | BM143: 22
C144: 12 | D144: K | E144: 665034 | F144: UDP pre tepelné čerpadlo | G144: ks | H144: 1 | J144: =ROUND(I144*H144,2) -> 0 | N144: znížená | P144: =O144*H144 -> 0 | Q144: 0 | R144: =Q144*H144 -> 0 | S144: 0 | T144: =S144*H144 -> 0 | AR144: 16 | AT144: K | AU144: 2 | AY144: ROZPOCET | BE144: =IF(N144="základná",J144,0) -> 0 | BF144: =IF(N144="znížená",J144,0) -> 0 | BG144: =IF(N144="zákl. prenesená",J144,0) -> 0 | BH144: =IF(N144="zníž. prenesená",J144,0) -> 0 | BI144: =IF(N144="nulová",J144,0) -> 0 | BJ144: 2 | BK144: =ROUND(I144*H144,2) -> 0 | BL144: 16 | BM144: 24
D145: D | E145: 732 | F145: Ústredné kúrenie, strojovne | J145: =BK145 -> 0 | P145: =SUM(P146:P158) -> 0 | R145: =SUM(R146:R158) -> 0 | T145: =SUM(T146:T158) -> 0 | AR145: 2 | AT145: D | AU145: 1 | AY145: ROZPOCET | BK145: =SUM(BK146:BK158) -> 0
C146: 13 | D146: K | E146: 11052 | F146: FLAMCO - Magnetický separátor nečistôt XStream Clean G1 1/4"F | G146: ks | H146: 1 | J146: =ROUND(I146*H146,2) -> 0 | N146: znížená | P146: =O146*H146 -> 0 | Q146: 0 | R146: =Q146*H146 -> 0 | S146: 0 | T146: =S146*H146 -> 0 | AR146: 16 | AT146: K | AU146: 2 | AY146: ROZPOCET | BE146: =IF(N146="základná",J146,0) -> 0 | BF146: =IF(N146="znížená",J146,0) -> 0 | BG146: =IF(N146="zákl. prenesená",J146,0) -> 0 | BH146: =IF(N146="zníž. prenesená",J146,0) -> 0 | BI146: =IF(N146="nulová",J146,0) -> 0 | BJ146: 2 | BK146: =ROUND(I146*H146,2) -> 0 | BL146: 16 | BM146: 26
C147: 14 | D147: K | E147: 732230000 | F147: Montáž akumulačnej nádoby vykurovacej vody bez výmenníka s izoláciou objem do 250 l | G147: ks | H147: 1 | J147: =ROUND(I147*H147,2) -> 0 | N147: znížená | P147: =O147*H147 -> 0 | Q147: 0 | R147: =Q147*H147 -> 0 | S147: 0 | T147: =S147*H147 -> 0 | AR147: 16 | AT147: K | AU147: 2 | AY147: ROZPOCET | BE147: =IF(N147="základná",J147,0) -> 0 | BF147: =IF(N147="znížená",J147,0) -> 0 | BG147: =IF(N147="zákl. prenesená",J147,0) -> 0 | BH147: =IF(N147="zníž. prenesená",J147,0) -> 0 | BI147: =IF(N147="nulová",J147,0) -> 0 | BJ147: 2 | BK147: =ROUND(I147*H147,2) -> 0 | BL147: 16 | BM147: 28
C148: 15 | D148: K | E148: A34195 | F148: Akumulačný zásobník pre vykurovaciu vodu o objeme 200 l Austria email typ WPPS 200 | G148: ks | H148: 1 | J148: =ROUND(I148*H148,2) -> 0 | N148: znížená | P148: =O148*H148 -> 0 | Q148: 0 | R148: =Q148*H148 -> 0 | S148: 0 | T148: =S148*H148 -> 0 | AR148: 16 | AT148: K | AU148: 2 | AY148: ROZPOCET | BE148: =IF(N148="základná",J148,0) -> 0 | BF148: =IF(N148="znížená",J148,0) -> 0 | BG148: =IF(N148="zákl. prenesená",J148,0) -> 0 | BH148: =IF(N148="zníž. prenesená",J148,0) -> 0 | BI148: =IF(N148="nulová",J148,0) -> 0 | BJ148: 2 | BK148: =ROUND(I148*H148,2) -> 0 | BL148: 16 | BM148: 30
C149: 16 | D149: K | E149: 732331009 | F149: Montáž expanznej nádoby tlak do 3 bar s membránou 12 l | G149: ks | H149: 1 | J149: =ROUND(I149*H149,2) -> 0 | N149: znížená | P149: =O149*H149 -> 0 | Q149: 0 | R149: =Q149*H149 -> 0 | S149: 0 | T149: =S149*H149 -> 0 | AR149: 16 | AT149: K | AU149: 2 | AY149: ROZPOCET | BE149: =IF(N149="základná",J149,0) -> 0 | BF149: =IF(N149="znížená",J149,0) -> 0 | BG149: =IF(N149="zákl. prenesená",J149,0) -> 0 | BH149: =IF(N149="zníž. prenesená",J149,0) -> 0 | BI149: =IF(N149="nulová",J149,0) -> 0 | BJ149: 2 | BK149: =ROUND(I149*H149,2) -> 0 | BL149: 16 | BM149: 32
C150: 17 | D150: K | E150: 26243 | F150: Expanzná nádoba FLAMCO typ Contra-Flex 25/1,5, objem 25 litrov; pripojenie 3/4", max. prev. tlak 3,0 bar, min./max. teplota na membránu -10/70 °C. | G150: ks | H150: 1 | J150: =ROUND(I150*H150,2) -> 0 | N150: znížená | P150: =O150*H150 -> 0 | Q150: 0 | R150: =Q150*H150 -> 0 | S150: 0 | T150: =S150*H150 -> 0 | AR150: 16 | AT150: K | AU150: 2 | AY150: ROZPOCET | BE150: =IF(N150="základná",J150,0) -> 0 | BF150: =IF(N150="znížená",J150,0) -> 0 | BG150: =IF(N150="zákl. prenesená",J150,0) -> 0 | BH150: =IF(N150="zníž. prenesená",J150,0) -> 0 | BI150: =IF(N150="nulová",J150,0) -> 0 | BJ150: 2 | BK150: =ROUND(I150*H150,2) -> 0 | BL150: 16 | BM150: 34
C151: 18 | D151: K | E151: 27911 | F151: Konzola pre pripevnenie expanznej nádoby (2-25l) na stenu FLAMCO typ FLEXCONSOLE, 3/4"x3/4" červená | G151: ks | H151: 1 | J151: =ROUND(I151*H151,2) -> 0 | N151: znížená | P151: =O151*H151 -> 0 | Q151: 0 | R151: =Q151*H151 -> 0 | S151: 0 | T151: =S151*H151 -> 0 | AR151: 16 | AT151: K | AU151: 2 | AY151: ROZPOCET | BE151: =IF(N151="základná",J151,0) -> 0 | BF151: =IF(N151="znížená",J151,0) -> 0 | BG151: =IF(N151="zákl. prenesená",J151,0) -> 0 | BH151: =IF(N151="zníž. prenesená",J151,0) -> 0 | BI151: =IF(N151="nulová",J151,0) -> 0 | BJ151: 2 | BK151: =ROUND(I151*H151,2) -> 0 | BL151: 16 | BM151: 36
C152: 19 | D152: K | E152: 28920 | F152: Pripojovacia súprava FLAMCO typ FLEXCONTROL 3/4" | G152: ks | H152: 1 | J152: =ROUND(I152*H152,2) -> 0 | N152: znížená | P152: =O152*H152 -> 0 | Q152: 0 | R152: =Q152*H152 -> 0 | S152: 0 | T152: =S152*H152 -> 0 | AR152: 16 | AT152: K | AU152: 2 | AY152: ROZPOCET | BE152: =IF(N152="základná",J152,0) -> 0 | BF152: =IF(N152="znížená",J152,0) -> 0 | BG152: =IF(N152="zákl. prenesená",J152,0) -> 0 | BH152: =IF(N152="zníž. prenesená",J152,0) -> 0 | BI152: =IF(N152="nulová",J152,0) -> 0 | BJ152: 2 | BK152: =ROUND(I152*H152,2) -> 0 | BL152: 16 | BM152: 38
C153: 20 | D153: K | E153: 732111431 | F153: Montáž združeného rozdeľovača a zberača modul 80 mm pre 3 vetvy s dĺžkou 700 mm | G153: ks | H153: 1 | J153: =ROUND(I153*H153,2) -> 0 | N153: znížená | P153: =O153*H153 -> 0 | Q153: 0 | R153: =Q153*H153 -> 0 | S153: 0 | T153: =S153*H153 -> 0 | AR153: 16 | AT153: K | AU153: 2 | AY153: ROZPOCET | BE153: =IF(N153="základná",J153,0) -> 0 | BF153: =IF(N153="znížená",J153,0) -> 0 | BG153: =IF(N153="zákl. prenesená",J153,0) -> 0 | BH153: =IF(N153="zníž. prenesená",J153,0) -> 0 | BI153: =IF(N153="nulová",J153,0) -> 0 | BJ153: 2 | BK153: =ROUND(I153*H153,2) -> 0 | BL153: 16 | BM153: 40
C154: 21 | D154: K | E154: M66301.930 | F154: Rozdelovač MeiFlow Top S pre 3vykurovacie okruhy 1" s izolaciou a konzolami | G154: ks | H154: 1 | J154: =ROUND(I154*H154,2) -> 0 | N154: znížená | P154: =O154*H154 -> 0 | Q154: 0 | R154: =Q154*H154 -> 0 | S154: 0 | T154: =S154*H154 -> 0 | AR154: 16 | AT154: K | AU154: 2 | AY154: ROZPOCET | BE154: =IF(N154="základná",J154,0) -> 0 | BF154: =IF(N154="znížená",J154,0) -> 0 | BG154: =IF(N154="zákl. prenesená",J154,0) -> 0 | BH154: =IF(N154="zníž. prenesená",J154,0) -> 0 | BI154: =IF(N154="nulová",J154,0) -> 0 | BJ154: 2 | BK154: =ROUND(I154*H154,2) -> 0 | BL154: 16 | BM154: 42
C155: 22 | D155: K | E155: 731291070 | F155: Montáž rýchlomontážnej sady s 3-cestným zmiešavačom DN 25 | G155: ks | H155: 3 | J155: =ROUND(I155*H155,2) -> 0 | N155: znížená | P155: =O155*H155 -> 0 | Q155: 0 | R155: =Q155*H155 -> 0 | S155: 0 | T155: =S155*H155 -> 0 | AR155: 16 | AT155: K | AU155: 2 | AY155: ROZPOCET | BE155: =IF(N155="základná",J155,0) -> 0 | BF155: =IF(N155="znížená",J155,0) -> 0 | BG155: =IF(N155="zákl. prenesená",J155,0) -> 0 | BH155: =IF(N155="zníž. prenesená",J155,0) -> 0 | BI155: =IF(N155="nulová",J155,0) -> 0 | BJ155: 2 | BK155: =ROUND(I155*H155,2) -> 0 | BL155: 16 | BM155: 44
C156: 23 | D156: K | E156: M66931.30M | F156: Čerpadlová skupina MeiFlow Top S MC, DN25, GF Alpha2.1 25- 60, so servopohonom 230V | G156: ks | H156: 3 | J156: =ROUND(I156*H156,2) -> 0 | N156: znížená | P156: =O156*H156 -> 0 | Q156: 0 | R156: =Q156*H156 -> 0 | S156: 0 | T156: =S156*H156 -> 0 | AR156: 16 | AT156: K | AU156: 2 | AY156: ROZPOCET | BE156: =IF(N156="základná",J156,0) -> 0 | BF156: =IF(N156="znížená",J156,0) -> 0 | BG156: =IF(N156="zákl. prenesená",J156,0) -> 0 | BH156: =IF(N156="zníž. prenesená",J156,0) -> 0 | BI156: =IF(N156="nulová",J156,0) -> 0 | BJ156: 2 | BK156: =ROUND(I156*H156,2) -> 0 | BL156: 16 | BM156: 46
C157: 24 | D157: K | E157: pc3 | F157: Regulácia pre vykurovacie systémy TECH EU-i-3 PLUS OT obsluha troch zmiešavacích okruhov | G157: ks | H157: 1 | J157: =ROUND(I157*H157,2) -> 0 | N157: znížená | P157: =O157*H157 -> 0 | Q157: 0 | R157: =Q157*H157 -> 0 | S157: 0 | T157: =S157*H157 -> 0 | AR157: 16 | AT157: K | AU157: 2 | AY157: ROZPOCET | BE157: =IF(N157="základná",J157,0) -> 0 | BF157: =IF(N157="znížená",J157,0) -> 0 | BG157: =IF(N157="zákl. prenesená",J157,0) -> 0 | BH157: =IF(N157="zníž. prenesená",J157,0) -> 0 | BI157: =IF(N157="nulová",J157,0) -> 0 | BJ157: 2 | BK157: =ROUND(I157*H157,2) -> 0 | BL157: 16 | BM157: 48
C158: 25 | D158: K | E158: pc4 | F158: Dvojpolohový izbový regulátor (ON/OFF) TECH typ EU-297z v3 | G158: ks | H158: 3 | J158: =ROUND(I158*H158,2) -> 0 | N158: znížená | P158: =O158*H158 -> 0 | Q158: 0 | R158: =Q158*H158 -> 0 | S158: 0 | T158: =S158*H158 -> 0 | AR158: 16 | AT158: K | AU158: 2 | AY158: ROZPOCET | BE158: =IF(N158="základná",J158,0) -> 0 | BF158: =IF(N158="znížená",J158,0) -> 0 | BG158: =IF(N158="zákl. prenesená",J158,0) -> 0 | BH158: =IF(N158="zníž. prenesená",J158,0) -> 0 | BI158: =IF(N158="nulová",J158,0) -> 0 | BJ158: 2 | BK158: =ROUND(I158*H158,2) -> 0 | BL158: 16 | BM158: 50
D159: D | E159: 733 | F159: Ústredné kúrenie, rozvodné potrubie | J159: =BK159 -> 0 | P159: =SUM(P160:P180) -> 0 | R159: =SUM(R160:R180) -> 0 | T159: =SUM(T160:T180) -> 0 | AR159: 2 | AT159: D | AU159: 1 | AY159: ROZPOCET | BK159: =SUM(BK160:BK180) -> 0
C160: 26 | D160: K | E160: 160110 | F160: Nízkouhlíková oceľová rúrka 15x1,2 ( 6 m ) | G160: m | H160: 171.94 | J160: =ROUND(I160*H160,2) -> 0 | N160: znížená | P160: =O160*H160 -> 0 | Q160: 0 | R160: =Q160*H160 -> 0 | S160: 0 | T160: =S160*H160 -> 0 | AR160: 16 | AT160: K | AU160: 2 | AY160: ROZPOCET | BE160: =IF(N160="základná",J160,0) -> 0 | BF160: =IF(N160="znížená",J160,0) -> 0 | BG160: =IF(N160="zákl. prenesená",J160,0) -> 0 | BH160: =IF(N160="zníž. prenesená",J160,0) -> 0 | BI160: =IF(N160="nulová",J160,0) -> 0 | BJ160: 2 | BK160: =ROUND(I160*H160,2) -> 0 | BL160: 16 | BM160: 52
C161: 27 | D161: K | E161: 160111 | F161: Nízkouhlíková oceľová rúrka 18x1,2 ( 6 m ) | G161: m | H161: 52.22 | J161: =ROUND(I161*H161,2) -> 0 | N161: znížená | P161: =O161*H161 -> 0 | Q161: 0 | R161: =Q161*H161 -> 0 | S161: 0 | T161: =S161*H161 -> 0 | AR161: 16 | AT161: K | AU161: 2 | AY161: ROZPOCET | BE161: =IF(N161="základná",J161,0) -> 0 | BF161: =IF(N161="znížená",J161,0) -> 0 | BG161: =IF(N161="zákl. prenesená",J161,0) -> 0 | BH161: =IF(N161="zníž. prenesená",J161,0) -> 0 | BI161: =IF(N161="nulová",J161,0) -> 0 | BJ161: 2 | BK161: =ROUND(I161*H161,2) -> 0 | BL161: 16 | BM161: 54
C162: 28 | D162: K | E162: 160112 | F162: Nízkouhlíková oceľová rúrka 22x1,5 ( 6 m ) | G162: m | H162: 107.75 | J162: =ROUND(I162*H162,2) -> 0 | N162: znížená | P162: =O162*H162 -> 0 | Q162: 0 | R162: =Q162*H162 -> 0 | S162: 0 | T162: =S162*H162 -> 0 | AR162: 16 | AT162: K | AU162: 2 | AY162: ROZPOCET | BE162: =IF(N162="základná",J162,0) -> 0 | BF162: =IF(N162="znížená",J162,0) -> 0 | BG162: =IF(N162="zákl. prenesená",J162,0) -> 0 | BH162: =IF(N162="zníž. prenesená",J162,0) -> 0 | BI162: =IF(N162="nulová",J162,0) -> 0 | BJ162: 2 | BK162: =ROUND(I162*H162,2) -> 0 | BL162: 16 | BM162: 56
C163: 29 | D163: K | E163: 160113 | F163: Nízkouhlíková oceľová rúrka 28x1,5 ( 6 m ) | G163: m | H163: 29.83 | J163: =ROUND(I163*H163,2) -> 0 | N163: znížená | P163: =O163*H163 -> 0 | Q163: 0 | R163: =Q163*H163 -> 0 | S163: 0 | T163: =S163*H163 -> 0 | AR163: 16 | AT163: K | AU163: 2 | AY163: ROZPOCET | BE163: =IF(N163="základná",J163,0) -> 0 | BF163: =IF(N163="znížená",J163,0) -> 0 | BG163: =IF(N163="zákl. prenesená",J163,0) -> 0 | BH163: =IF(N163="zníž. prenesená",J163,0) -> 0 | BI163: =IF(N163="nulová",J163,0) -> 0 | BJ163: 2 | BK163: =ROUND(I163*H163,2) -> 0 | BL163: 16 | BM163: 58
C164: 30 | D164: K | E164: 160115 | F164: Nízkouhlíková oceľová rúrka 42x1,5 ( 6 m ) | G164: m | H164: 20 | J164: =ROUND(I164*H164,2) -> 0 | N164: znížená | P164: =O164*H164 -> 0 | Q164: 0 | R164: =Q164*H164 -> 0 | S164: 0 | T164: =S164*H164 -> 0 | AR164: 16 | AT164: K | AU164: 2 | AY164: ROZPOCET | BE164: =IF(N164="základná",J164,0) -> 0 | BF164: =IF(N164="znížená",J164,0) -> 0 | BG164: =IF(N164="zákl. prenesená",J164,0) -> 0 | BH164: =IF(N164="zníž. prenesená",J164,0) -> 0 | BI164: =IF(N164="nulová",J164,0) -> 0 | BJ164: 2 | BK164: =ROUND(I164*H164,2) -> 0 | BL164: 16 | BM164: 60
...

Sheet 07 - Chladenie - vetranie
L2: >> skryté stĺpce << | AT2: {d1c92d15-df49-4e68-8b94-5e9e3062dc90}
AT3: 0
D4: KRYCÍ LIST ROZPOČTU | M4: v --- nižšie sa nachádzajú doplnkové a pomocné údaje k zostavám --- v | AT4: False
D6: Stavba:
E7: ='Rekapitulácia stavby'!K6 -> Chovná hala pre kury s voľným výbehom
D8: Objekt:
E9: SO-01 - Chovná hala, základ pre kŕmne silá teleso zemného násypu
D10: Časť:
E11: 07 - Chladenie / vetranie
D13: JKSO: | I13: KS:
D14: Miesto: | F14: Dolné Trhovište 224, 920 61 Dolné Trhovište | I14: Dátum: | J14: ='Rekapitulácia stavby'!AN8 -> 45370
D16: Objednávateľ: | I16: IČO:
E17: FOOD FARM s.r.o., Piešťanská 3, 917 03 Trnava | I17: IČ DPH:
D19: Zhotoviteľ: | I19: IČO: | J19: ='Rekapitulácia stavby'!AN13 -> Vyplň údaj
E20: ='Rekapitulácia stavby'!E14 -> Vyplň údaj | I20: IČ DPH: | J20: ='Rekapitulácia stavby'!AN14 -> Vyplň údaj
D22: Projektant: | I22: IČO:
E23: ALLA ARCHITEKTI | I23: IČ DPH:
D25: Spracovateľ: | I25: IČO:
E26: Stanislav Hlubina | I26: IČ DPH:
D28: Poznámka:
D32: Cena bez DPH | J32: =ROUND(J125, 2) -> 0
F34: Základ dane | I34: Sadzba dane | J34: Výška dane
D35: DPH | E35: základná | F35: =ROUND((SUM(BE125:BE185)), 2) -> 0 | I35: 0.2 | J35: =ROUND(((SUM(BE125:BE185))*I35), 2) -> 0
E36: znížená | F36: =ROUND((SUM(BF125:BF185)), 2) -> 0 | I36: 0.2 | J36: =ROUND(((SUM(BF125:BF185))*I36), 2) -> 0
E37: zákl. prenesená | F37: =ROUND((SUM(BG125:BG185)), 2) -> 0 | I37: 0.2 | J37: =0 -> 0
E38: zníž. prenesená | F38: =ROUND((SUM(BH125:BH185)), 2) -> 0 | I38: 0.2 | J38: =0 -> 0
E39: nulová | F39: =ROUND((SUM(BI125:BI185)), 2) -> 0 | I39: 0 | J39: =0 -> 0
D41: Cena s DPH | G41: v | H41: EUR | J41: =SUM(J32:J39) -> 0
D50: Projektant | G50: Spracovateľ
D61: Dátum a podpis: | F61: Pečiatka | G61: Dátum a podpis: | J61: Pečiatka
D65: Objednávateľ | G65: Zhotoviteľ
D76: Dátum a podpis: | F76: Pečiatka | G76: Dátum a podpis: | J76: Pečiatka
C82: REKAPITULÁCIA ROZPOČTU
C84: Stavba:
E85: =E7 -> Chovná hala pre kury s voľným výbehom
C86: Objekt:
E87: SO-01 - Chovná hala, základ pre kŕmne silá teleso zemného násypu
C88: Časť:
E89: =E11 -> 07 - Chladenie / vetranie
C91: Miesto: | F91: =F14 -> Dolné Trhovište 224, 920 61 Dolné Trhovište | I91: Dátum: | J91: =IF(J14="","",J14) -> 45370
C93: Objednávateľ: | F93: =E17 -> FOOD FARM s.r.o., Piešťanská 3, 917 03 Trnava | I93: Projektant: | J93: =E23 -> ALLA ARCHITEKTI
C94: Zhotoviteľ: | F94: =IF(E20="","",E20) -> Vyplň údaj | I94: Spracovateľ: | J94: =E26 -> Stanislav Hlubina
C96: Kód dielu - Popis | J96: Cena celkom [EUR]
C98: Náklady z rozpočtu | J98: =J125 -> 0 | AU98: -1
D99: D1 - Zariadenie č.1 - Chladenie m.č. 1.11 a 1.12 | J99: =J126 -> 0
D100: D2 - Zariadenie č.2 - Vetranie sociálneho zázemia | J100: =J137 -> 0
D101: D3 - Zariadenie č.3 - Chladenie skladov | J101: =J156 -> 0
D102: D4 - Zariadenie č.4 - Vetranie úpravovne vody | J102: =J176 -> 0
D103: D5 - Ostatné | J103: =J182 -> 0
C110: ROZPOČET
C112: Stavba:
E113: =E7 -> Chovná hala pre kury s voľným výbehom
C114: Objekt:
E115: SO-01 - Chovná hala, základ pre kŕmne silá teleso zemného násypu
C116: Časť:
E117: =E11 -> 07 - Chladenie / vetranie
C119: Miesto: | F119: =F14 -> Dolné Trhovište 224, 920 61 Dolné Trhovište | I119: Dátum: | J119: =IF(J14="","",J14) -> 45370
C121: Objednávateľ: | F121: =E17 -> FOOD FARM s.r.o., Piešťanská 3, 917 03 Trnava | I121: Projektant: | J121: =E23 -> ALLA ARCHITEKTI
C122: Zhotoviteľ: | F122: =IF(E20="","",E20) -> Vyplň údaj | I122: Spracovateľ: | J122: =E26 -> Stanislav Hlubina
C124: PČ | D124: Typ | E124: Kód | F124: Popis | G124: MJ | H124: Množstvo | I124: J.cena [EUR] | J124: Cena celkom [EUR] | K124: Cenová sústava | N124: DPH | O124: J. Nh [h] | P124: Nh celkom [h] | Q124: J. hmotnosť [t] | R124: Hmotnosť celkom [t] | S124: J. suť [t] | T124: Suť Celkom [t]
C125: Náklady z rozpočtu | J125: =BK125 -> 0 | P125: =P126+P137+P156+P176+P182 -> 0 | R125: =R126+R137+R156+R176+R182 -> 0 | T125: =T126+T137+T156+T176+T182 -> 0 | AT125: D | AU125: -1 | BK125: =BK126+BK137+BK156+BK176+BK182 -> 0
D126: D | E126: D1 | F126: Zariadenie č.1 - Chladenie m.č. 1.11 a 1.12 | J126: =BK126 -> 0 | P126: =SUM(P127:P136) -> 0 | R126: =SUM(R127:R136) -> 0 | T126: =SUM(T127:T136) -> 0 | AR126: 1 | AT126: D | AU126: 0 | AY126: ROZPOCET | BK126: =SUM(BK127:BK136) -> 0
C127: 1 | D127: M | E127: 1.01 | F127: Vonkajšia jednotka Daikin 2MXM40N, Qch=4,0 kW, Qv=4,2 kW, 230V alebo ekvivalent | G127: ks | H127: 1 | J127: =ROUND(I127*H127,2) -> 0 | N127: znížená | P127: =O127*H127 -> 0 | Q127: 0 | R127: =Q127*H127 -> 0 | S127: 0 | T127: =S127*H127 -> 0 | AR127: 8 | AT127: M | AU127: 1 | AY127: ROZPOCET | BE127: =IF(N127="základná",J127,0) -> 0 | BF127: =IF(N127="znížená",J127,0) -> 0 | BG127: =IF(N127="zákl. prenesená",J127,0) -> 0 | BH127: =IF(N127="zníž. prenesená",J127,0) -> 0 | BI127: =IF(N127="nulová",J127,0) -> 0 | BJ127: 2 | BK127: =ROUND(I127*H127,2) -> 0 | BL127: 4 | BM127: 2
C128: 2 | D128: M | E128: 1.02 | F128: Vnútorná nástenná jednotka Daikin FTXP20M9, Qch=2,0 kW, Qv=2,5 kW alebo ekvivalent | G128: ks | H128: 2 | J128: =ROUND(I128*H128,2) -> 0 | N128: znížená | P128: =O128*H128 -> 0 | Q128: 0 | R128: =Q128*H128 -> 0 | S128: 0 | T128: =S128*H128 -> 0 | AR128: 8 | AT128: M | AU128: 1 | AY128: ROZPOCET | BE128: =IF(N128="základná",J128,0) -> 0 | BF128: =IF(N128="znížená",J128,0) -> 0 | BG128: =IF(N128="zákl. prenesená",J128,0) -> 0 | BH128: =IF(N128="zníž. prenesená",J128,0) -> 0 | BI128: =IF(N128="nulová",J128,0) -> 0 | BJ128: 2 | BK128: =ROUND(I128*H128,2) -> 0 | BL128: 4 | BM128: 4
C129: 3 | D129: M | E129: 1.03 | F129: Cu potrubie rozmeru 10 mm vrátane izolácie | G129: bm | H129: 20 | J129: =ROUND(I129*H129,2) -> 0 | N129: znížená | P129: =O129*H129 -> 0 | Q129: 0 | R129: =Q129*H129 -> 0 | S129: 0 | T129: =S129*H129 -> 0 | AR129: 8 | AT129: M | AU129: 1 | AY129: ROZPOCET | BE129: =IF(N129="základná",J129,0) -> 0 | BF129: =IF(N129="znížená",J129,0) -> 0 | BG129: =IF(N129="zákl. prenesená",J129,0) -> 0 | BH129: =IF(N129="zníž. prenesená",J129,0) -> 0 | BI129: =IF(N129="nulová",J129,0) -> 0 | BJ129: 2 | BK129: =ROUND(I129*H129,2) -> 0 | BL129: 4 | BM129: 6
C130: 4 | D130: M | E130: 1.04 | F130: Cu potrubie rozmeru 6 mm vrátane izolácie | G130: bm | H130: 20 | J130: =ROUND(I130*H130,2) -> 0 | N130: znížená | P130: =O130*H130 -> 0 | Q130: 0 | R130: =Q130*H130 -> 0 | S130: 0 | T130: =S130*H130 -> 0 | AR130: 8 | AT130: M | AU130: 1 | AY130: ROZPOCET | BE130: =IF(N130="základná",J130,0) -> 0 | BF130: =IF(N130="znížená",J130,0) -> 0 | BG130: =IF(N130="zákl. prenesená",J130,0) -> 0 | BH130: =IF(N130="zníž. prenesená",J130,0) -> 0 | BI130: =IF(N130="nulová",J130,0) -> 0 | BJ130: 2 | BK130: =ROUND(I130*H130,2) -> 0 | BL130: 4 | BM130: 8
C131: 5 | D131: M | E131: 1.05 | F131: Komunikačný kábel | G131: bm | H131: 25 | J131: =ROUND(I131*H131,2) -> 0 | N131: znížená | P131: =O131*H131 -> 0 | Q131: 0 | R131: =Q131*H131 -> 0 | S131: 0 | T131: =S131*H131 -> 0 | AR131: 8 | AT131: M | AU131: 1 | AY131: ROZPOCET | BE131: =IF(N131="základná",J131,0) -> 0 | BF131: =IF(N131="znížená",J131,0) -> 0 | BG131: =IF(N131="zákl. prenesená",J131,0) -> 0 | BH131: =IF(N131="zníž. prenesená",J131,0) -> 0 | BI131: =IF(N131="nulová",J131,0) -> 0 | BJ131: 2 | BK131: =ROUND(I131*H131,2) -> 0 | BL131: 4 | BM131: 10
C132: 6 | D132: M | E132: 1.06 | F132: Odvod kondenzu DN20-DN40 ku kanalizačným stupačkám (vert.rozvod - profesia ZTI) | G132: bm | H132: 10 | J132: =ROUND(I132*H132,2) -> 0 | N132: znížená | P132: =O132*H132 -> 0 | Q132: 0 | R132: =Q132*H132 -> 0 | S132: 0 | T132: =S132*H132 -> 0 | AR132: 8 | AT132: M | AU132: 1 | AY132: ROZPOCET | BE132: =IF(N132="základná",J132,0) -> 0 | BF132: =IF(N132="znížená",J132,0) -> 0 | BG132: =IF(N132="zákl. prenesená",J132,0) -> 0 | BH132: =IF(N132="zníž. prenesená",J132,0) -> 0 | BI132: =IF(N132="nulová",J132,0) -> 0 | BJ132: 2 | BK132: =ROUND(I132*H132,2) -> 0 | BL132: 4 | BM132: 12
C133: 7 | D133: M | E133: 1.07 | F133: Plastová krycia lišta TP 90x65 vrátane tvaroviek | G133: bm | H133: 10 | J133: =ROUND(I133*H133,2) -> 0 | N133: znížená | P133: =O133*H133 -> 0 | Q133: 0 | R133: =Q133*H133 -> 0 | S133: 0 | T133: =S133*H133 -> 0 | AR133: 8 | AT133: M | AU133: 1 | AY133: ROZPOCET | BE133: =IF(N133="základná",J133,0) -> 0 | BF133: =IF(N133="znížená",J133,0) -> 0 | BG133: =IF(N133="zákl. prenesená",J133,0) -> 0 | BH133: =IF(N133="zníž. prenesená",J133,0) -> 0 | BI133: =IF(N133="nulová",J133,0) -> 0 | BJ133: 2 | BK133: =ROUND(I133*H133,2) -> 0 | BL133: 4 | BM133: 14
C134: 8 | D134: K | E134: 1.08 | F134: Konzola pod vonkajšiu jednotku na stenu | G134: kpl | H134: 1 | J134: =ROUND(I134*H134,2) -> 0 | N134: znížená | P134: =O134*H134 -> 0 | Q134: 0 | R134: =Q134*H134 -> 0 | S134: 0 | T134: =S134*H134 -> 0 | AR134: 4 | AT134: K | AU134: 1 | AY134: ROZPOCET | BE134: =IF(N134="základná",J134,0) -> 0 | BF134: =IF(N134="znížená",J134,0) -> 0 | BG134: =IF(N134="zákl. prenesená",J134,0) -> 0 | BH134: =IF(N134="zníž. prenesená",J134,0) -> 0 | BI134: =IF(N134="nulová",J134,0) -> 0 | BJ134: 2 | BK134: =ROUND(I134*H134,2) -> 0 | BL134: 4 | BM134: 16
C135: 9 | D135: K | E135: 1.09 | F135: Montážny, spojovací, tesniaci a závesný materiál | G135: kpl | H135: 1 | J135: =ROUND(I135*H135,2) -> 0 | N135: znížená | P135: =O135*H135 -> 0 | Q135: 0 | R135: =Q135*H135 -> 0 | S135: 0 | T135: =S135*H135 -> 0 | AR135: 4 | AT135: K | AU135: 1 | AY135: ROZPOCET | BE135: =IF(N135="základná",J135,0) -> 0 | BF135: =IF(N135="znížená",J135,0) -> 0 | BG135: =IF(N135="zákl. prenesená",J135,0) -> 0 | BH135: =IF(N135="zníž. prenesená",J135,0) -> 0 | BI135: =IF(N135="nulová",J135,0) -> 0 | BJ135: 2 | BK135: =ROUND(I135*H135,2) -> 0 | BL135: 4 | BM135: 18
C136: 10 | D136: K | E136: 1.10 | F136: Montáž klimatizácie | G136: kpl | H136: 1 | J136: =ROUND(I136*H136,2) -> 0 | N136: znížená | P136: =O136*H136 -> 0 | Q136: 0 | R136: =Q136*H136 -> 0 | S136: 0 | T136: =S136*H136 -> 0 | AR136: 4 | AT136: K | AU136: 1 | AY136: ROZPOCET | BE136: =IF(N136="základná",J136,0) -> 0 | BF136: =IF(N136="znížená",J136,0) -> 0 | BG136: =IF(N136="zákl. prenesená",J136,0) -> 0 | BH136: =IF(N136="zníž. prenesená",J136,0) -> 0 | BI136: =IF(N136="nulová",J136,0) -> 0 | BJ136: 2 | BK136: =ROUND(I136*H136,2) -> 0 | BL136: 4 | BM136: 20
D137: D | E137: D2 | F137: Zariadenie č.2 - Vetranie sociálneho zázemia | J137: =BK137 -> 0 | P137: =SUM(P138:P155) -> 0 | R137: =SUM(R138:R155) -> 0 | T137: =SUM(T138:T155) -> 0 | AR137: 1 | AT137: D | AU137: 0 | AY137: ROZPOCET | BK137: =SUM(BK138:BK155) -> 0
C138: 11 | D138: M | E138: 2.01a | F138: Potrubný ventilátor RUCK RS 200L 10, 400m3/h, 5.1kg alebo ekvivalent | G138: ks | H138: 1 | J138: =ROUND(I138*H138,2) -> 0 | N138: znížená | P138: =O138*H138 -> 0 | Q138: 0 | R138: =Q138*H138 -> 0 | S138: 0 | T138: =S138*H138 -> 0 | AR138: 8 | AT138: M | AU138: 1 | AY138: ROZPOCET | BE138: =IF(N138="základná",J138,0) -> 0 | BF138: =IF(N138="znížená",J138,0) -> 0 | BG138: =IF(N138="zákl. prenesená",J138,0) -> 0 | BH138: =IF(N138="zníž. prenesená",J138,0) -> 0 | BI138: =IF(N138="nulová",J138,0) -> 0 | BJ138: 2 | BK138: =ROUND(I138*H138,2) -> 0 | BL138: 4 | BM138: 22
C139: 12 | D139: M | E139: 2.01b | F139: Plastový ventilátor VENTS VNV-1D 80-TR alebo ekvivalent | G139: ks | H139: 1 | J139: =ROUND(I139*H139,2) -> 0 | N139: znížená | P139: =O139*H139 -> 0 | Q139: 0 | R139: =Q139*H139 -> 0 | S139: 0 | T139: =S139*H139 -> 0 | AR139: 8 | AT139: M | AU139: 1 | AY139: ROZPOCET | BE139: =IF(N139="základná",J139,0) -> 0 | BF139: =IF(N139="znížená",J139,0) -> 0 | BG139: =IF(N139="zákl. prenesená",J139,0) -> 0 | BH139: =IF(N139="zníž. prenesená",J139,0) -> 0 | BI139: =IF(N139="nulová",J139,0) -> 0 | BJ139: 2 | BK139: =ROUND(I139*H139,2) -> 0 | BL139: 4 | BM139: 24
C140: 13 | D140: M | E140: 2.01c | F140: Rychloupínacia spona VM 200 alebo ekvivalent | G140: ks | H140: 1 | J140: =ROUND(I140*H140,2) -> 0 | N140: znížená | P140: =O140*H140 -> 0 | Q140: 0 | R140: =Q140*H140 -> 0 | S140: 0 | T140: =S140*H140 -> 0 | AR140: 8 | AT140: M | AU140: 1 | AY140: ROZPOCET | BE140: =IF(N140="základná",J140,0) -> 0 | BF140: =IF(N140="znížená",J140,0) -> 0 | BG140: =IF(N140="zákl. prenesená",J140,0) -> 0 | BH140: =IF(N140="zníž. prenesená",J140,0) -> 0 | BI140: =IF(N140="nulová",J140,0) -> 0 | BJ140: 2 | BK140: =ROUND(I140*H140,2) -> 0 | BL140: 4 | BM140: 26
C141: 14 | D141: M | E141: 2.02 | F141: Tlmič hluku Systemair LDC-200/160 alebo ekvivalent | G141: ks | H141: 1 | J141: =ROUND(I141*H141,2) -> 0 | N141: znížená | P141: =O141*H141 -> 0 | Q141: 0 | R141: =Q141*H141 -> 0 | S141: 0 | T141: =S141*H141 -> 0 | AR141: 8 | AT141: M | AU141: 1 | AY141: ROZPOCET | BE141: =IF(N141="základná",J141,0) -> 0 | BF141: =IF(N141="znížená",J141,0) -> 0 | BG141: =IF(N141="zákl. prenesená",J141,0) -> 0 | BH141: =IF(N141="zníž. prenesená",J141,0) -> 0 | BI141: =IF(N141="nulová",J141,0) -> 0 | BJ141: 2 | BK141: =ROUND(I141*H141,2) -> 0 | BL141: 4 | BM141: 28
C142: 15 | D142: M | E142: 2.03 | F142: Protidážďová žalúzia Systemair IGC-100 alebo ekvivalent | G142: ks | H142: 1 | J142: =ROUND(I142*H142,2) -> 0 | N142: znížená | P142: =O142*H142 -> 0 | Q142: 0 | R142: =Q142*H142 -> 0 | S142: 0 | T142: =S142*H142 -> 0 | AR142: 8 | AT142: M | AU142: 1 | AY142: ROZPOCET | BE142: =IF(N142="základná",J142,0) -> 0 | BF142: =IF(N142="znížená",J142,0) -> 0 | BG142: =IF(N142="zákl. prenesená",J142,0) -> 0 | BH142: =IF(N142="zníž. prenesená",J142,0) -> 0 | BI142: =IF(N142="nulová",J142,0) -> 0 | BJ142: 2 | BK142: =ROUND(I142*H142,2) -> 0 | BL142: 4 | BM142: 30
C143: 16 | D143: M | E143: 2.04 | F143: Protidážďová žalúzia Systemair IGC-250 alebo ekvivalent | G143: ks | H143: 1 | J143: =ROUND(I143*H143,2) -> 0 | N143: znížená | P143: =O143*H143 -> 0 | Q143: 0 | R143: =Q143*H143 -> 0 | S143: 0 | T143: =S143*H143 -> 0 | AR143: 8 | AT143: M | AU143: 1 | AY143: ROZPOCET | BE143: =IF(N143="základná",J143,0) -> 0 | BF143: =IF(N143="znížená",J143,0) -> 0 | BG143: =IF(N143="zákl. prenesená",J143,0) -> 0 | BH143: =IF(N143="zníž. prenesená",J143,0) -> 0 | BI143: =IF(N143="nulová",J143,0) -> 0 | BJ143: 2 | BK143: =ROUND(I143*H143,2) -> 0 | BL143: 4 | BM143: 32
C144: 17 | D144: M | E144: 2.05 | F144: Dverová hliníková mriežka Systemair NOVAD-1-525x225-UR1-RALxxx alebo ekvivalent | G144: ks | H144: 3 | J144: =ROUND(I144*H144,2) -> 0 | N144: znížená | P144: =O144*H144 -> 0 | Q144: 0 | R144: =Q144*H144 -> 0 | S144: 0 | T144: =S144*H144 -> 0 | AR144: 8 | AT144: M | AU144: 1 | AY144: ROZPOCET | BE144: =IF(N144="základná",J144,0) -> 0 | BF144: =IF(N144="znížená",J144,0) -> 0 | BG144: =IF(N144="zákl. prenesená",J144,0) -> 0 | BH144: =IF(N144="zníž. prenesená",J144,0) -> 0 | BI144: =IF(N144="nulová",J144,0) -> 0 | BJ144: 2 | BK144: =ROUND(I144*H144,2) -> 0 | BL144: 4 | BM144: 34
C145: 18 | D145: M | E145: 2.06 | F145: Tanierový ventil odvodný EFF100 s mont.rámikom alebo ekvivalent | G145: ks | H145: 1 | J145: =ROUND(I145*H145,2) -> 0 | N145: znížená | P145: =O145*H145 -> 0 | Q145: 0 | R145: =Q145*H145 -> 0 | S145: 0 | T145: =S145*H145 -> 0 | AR145: 8 | AT145: M | AU145: 1 | AY145: ROZPOCET | BE145: =IF(N145="základná",J145,0) -> 0 | BF145: =IF(N145="znížená",J145,0) -> 0 | BG145: =IF(N145="zákl. prenesená",J145,0) -> 0 | BH145: =IF(N145="zníž. prenesená",J145,0) -> 0 | BI145: =IF(N145="nulová",J145,0) -> 0 | BJ145: 2 | BK145: =ROUND(I145*H145,2) -> 0 | BL145: 4 | BM145: 36
C146: 19 | D146: M | E146: 2.07 | F146: Tanierový ventil odvodný EFF160 s mont.rámikom alebo ekvivalent | G146: ks | H146: 3 | J146: =ROUND(I146*H146,2) -> 0 | N146: znížená | P146: =O146*H146 -> 0 | Q146: 0 | R146: =Q146*H146 -> 0 | S146: 0 | T146: =S146*H146 -> 0 | AR146: 8 | AT146: M | AU146: 1 | AY146: ROZPOCET | BE146: =IF(N146="základná",J146,0) -> 0 | BF146: =IF(N146="znížená",J146,0) -> 0 | BG146: =IF(N146="zákl. prenesená",J146,0) -> 0 | BH146: =IF(N146="zníž. prenesená",J146,0) -> 0 | BI146: =IF(N146="nulová",J146,0) -> 0 | BJ146: 2 | BK146: =ROUND(I146*H146,2) -> 0 | BL146: 4 | BM146: 38
C147: 20 | D147: M | E147: 2.08 | F147: Kruhové oceľové potrubie SPIRO priemeru 200 / 50 % tvaroviek | G147: bm | H147: 3 | J147: =ROUND(I147*H147,2) -> 0 | N147: znížená | P147: =O147*H147 -> 0 | Q147: 0 | R147: =Q147*H147 -> 0 | S147: 0 | T147: =S147*H147 -> 0 | AR147: 8 | AT147: M | AU147: 1 | AY147: ROZPOCET | BE147: =IF(N147="základná",J147,0) -> 0 | BF147: =IF(N147="znížená",J147,0) -> 0 | BG147: =IF(N147="zákl. prenesená",J147,0) -> 0 | BH147: =IF(N147="zníž. prenesená",J147,0) -> 0 | BI147: =IF(N147="nulová",J147,0) -> 0 | BJ147: 2 | BK147: =ROUND(I147*H147,2) -> 0 | BL147: 4 | BM147: 40
C148: 21 | D148: M | E148: 2.09 | F148: Kruhové oceľové potrubie SPIRO do priemeru 160 / 50 % tvaroviek | G148: bm | H148: 2 | J148: =ROUND(I148*H148,2) -> 0 | N148: znížená | P148: =O148*H148 -> 0 | Q148: 0 | R148: =Q148*H148 -> 0 | S148: 0 | T148: =S148*H148 -> 0 | AR148: 8 | AT148: M | AU148: 1 | AY148: ROZPOCET | BE148: =IF(N148="základná",J148,0) -> 0 | BF148: =IF(N148="znížená",J148,0) -> 0 | BG148: =IF(N148="zákl. prenesená",J148,0) -> 0 | BH148: =IF(N148="zníž. prenesená",J148,0) -> 0 | BI148: =IF(N148="nulová",J148,0) -> 0 | BJ148: 2 | BK148: =ROUND(I148*H148,2) -> 0 | BL148: 4 | BM148: 42
C149: 22 | D149: M | E149: 2.10 | F149: Kruhové oceľové potrubie SPIRO do priemeru 125 / 20 % tvaroviek | G149: bm | H149: 3 | J149: =ROUND(I149*H149,2) -> 0 | N149: znížená | P149: =O149*H149 -> 0 | Q149: 0 | R149: =Q149*H149 -> 0 | S149: 0 | T149: =S149*H149 -> 0 | AR149: 8 | AT149: M | AU149: 1 | AY149: ROZPOCET | BE149: =IF(N149="základná",J149,0) -> 0 | BF149: =IF(N149="znížená",J149,0) -> 0 | BG149: =IF(N149="zákl. prenesená",J149,0) -> 0 | BH149: =IF(N149="zníž. prenesená",J149,0) -> 0 | BI149: =IF(N149="nulová",J149,0) -> 0 | BJ149: 2 | BK149: =ROUND(I149*H149,2) -> 0 | BL149: 4 | BM149: 44
... C155: 28 | D155: K | E155: 2.16 | F155: Montáž | G155: kpl | H155: 1 | J155: =ROUND(I155*H155,2) -> 0 | N155: znížená | P155: =O155*H155 -> 0 | Q155: 0 | R155: =Q155*H155 -> 0 | S155: 0 | T155: =S155*H155 -> 0 | AR155: 4 | AT155: K | AU155: 1 | AY155: ROZPOCET | BE155: =IF(N155="základná",J155,0) -> 0 | BF155: =IF(N155="znížená",J155,0) -> 0 | BG155: =IF(N155="zákl. prenesená",J155,0) -> 0 | BH155: =IF(N155="zníž. prenesená",J155,0) -> 0 | BI155: =IF(N155="nulová",J155,0) -> 0 | BJ155: 2 | BK155: =ROUND(I155*H155,2) -> 0 | BL155: 4 | BM155: 56
D156: D | E156: D3 | F156: Zariadenie č.3 - Chladenie skladov | J156: =BK156 -> 0 | P156: =SUM(P157:P175) -> 0 | R156: =SUM(R157:R175) -> 0 | T156: =SUM(T157:T175) -> 0 | AR156: 1 | AT156: D | AU156: 0 | AY156: ROZPOCET | BK156: =SUM(BK157:BK175) -> 0
C157: 29 | D157: M | E157: 3.01a | F157: Kondenzačná jednotka digitálna Emerson ZXDE-075E-TFD alebo ekvivalent | G157: kpl | H157: 1 | J157: =ROUND(I157*H157,2) -> 0 | N157: znížená | P157: =O157*H157 -> 0 | Q157: 0 | R157: =Q157*H157 -> 0 | S157: 0 | T157: =S157*H157 -> 0 | AR157: 8 | AT157: M | AU157: 1 | AY157: ROZPOCET | BE157: =IF(N157="základná",J157,0) -> 0 | BF157: =IF(N157="znížená",J157,0) -> 0 | BG157: =IF(N157="zákl. prenesená",J157,0) -> 0 | BH157: =IF(N157="zníž. prenesená",J157,0) -> 0 | BI157: =IF(N157="nulová",J157,0) -> 0 | BJ157: 2 | BK157: =ROUND(I157*H157,2) -> 0 | BL157: 4 | BM157: 58
C158: 30 | D158: M | E158: 3.01b | F158: Výparník DUAL Guntner GADC-RX-035-2-3WN-HEA7A-TNNN (zahrnuté v cene zariadenia) | H158: 0 | J158: =ROUND(I158*H158,2) -> 0 | N158: znížená | P158: =O158*H158 -> 0 | Q158: 0 | R158: =Q158*H158 -> 0 | S158: 0 | T158: =S158*H158 -> 0 | AR158: 8 | AT158: M | AU158: 1 | AY158: ROZPOCET | BE158: =IF(N158="základná",J158,0) -> 0 | BF158: =IF(N158="znížená",J158,0) -> 0 | BG158: =IF(N158="zákl. prenesená",J158,0) -> 0 | BH158: =IF(N158="zníž. prenesená",J158,0) -> 0 | BI158: =IF(N158="nulová",J158,0) -> 0 | BJ158: 2 | BK158: =ROUND(I158*H158,2) -> 0 | BL158: 4 | BM158: 60
C159: 31 | D159: M | E159: 3.01c | F159: - el. digitálny termostat XLR170 alebo ekvivalent (zahrnuté v cene zariadenia) | H159: 0 | J159: =ROUND(I159*H159,2) -> 0 | N159: znížená | P159: =O159*H159 -> 0 | Q159: 0 | R159: =Q159*H159 -> 0 | S159: 0 | T159: =S159*H159 -> 0 | AR159: 8 | AT159: M | AU159: 1 | AY159: ROZPOCET | BE159: =IF(N159="základná",J159,0) -> 0 | BF159: =IF(N159="znížená",J159,0) -> 0 | BG159: =IF(N159="zákl. prenesená",J159,0) -> 0 | BH159: =IF(N159="zníž. prenesená",J159,0) -> 0 | BI159: =IF(N159="nulová",J159,0) -> 0 | BJ159: 2 | BK159: =ROUND(I159*H159,2) -> 0 | BL159: 4 | BM159: 62
C160: 32 | D160: M | E160: 3.01d | F160: - príslušenstvo TEV, priehľadítko, Filterdehydrátor (zahrnuté v cene zariadenia) | H160: 0 | J160: =ROUND(I160*H160,2) -> 0 | N160: znížená | P160: =O160*H160 -> 0 | Q160: 0 | R160: =Q160*H160 -> 0 | S160: 0 | T160: =S160*H160 -> 0 | AR160: 8 | AT160: M | AU160: 1 | AY160: ROZPOCET | BE160: =IF(N160="základná",J160,0) -> 0 | BF160: =IF(N160="znížená",J160,0) -> 0 | BG160: =IF(N160="zákl. prenesená",J160,0) -> 0 | BH160: =IF(N160="zníž. prenesená",J160,0) -> 0 | BI160: =IF(N160="nulová",J160,0) -> 0 | BJ160: 2 | BK160: =ROUND(I160*H160,2) -> 0 | BL160: 4 | BM160: 64
C161: 33 | D161: M | E161: 3.02a | F161: Kondenzačná jednotka 0n/off Emerson ZXME-040E-TFD alebo ekvivalent | G161: kpl | H161: 1 | J161: =ROUND(I161*H161,2) -> 0 | N161: znížená | P161: =O161*H161 -> 0 | Q161: 0 | R161: =Q161*H161 -> 0 | S161: 0 | T161: =S161*H161 -> 0 | AR161: 8 | AT161: M | AU161: 1 | AY161: ROZPOCET | BE161: =IF(N161="základná",J161,0) -> 0 | BF161: =IF(N161="znížená",J161,0) -> 0 | BG161: =IF(N161="zákl. prenesená",J161,0) -> 0 | BH161: =IF(N161="zníž. prenesená",J161,0) -> 0 | BI161: =IF(N161="nulová",J161,0) -> 0 | BJ161: 2 | BK161: =ROUND(I161*H161,2) -> 0 | BL161: 4 | BM161: 66
C162: 34 | D162: M | E162: 3.02b | F162: Výparník DUAL Guntner GACC-RX-031-1-2WN-HHA7E-UNNN alebo ekvivalent (zahrnuté v cene zariadenia) | H162: 0 | J162: =ROUND(I162*H162,2) -> 0 | N162: znížená | P162: =O162*H162 -> 0 | Q162: 0 | R162: =Q162*H162 -> 0 | S162: 0 | T162: =S162*H162 -> 0 | AR162: 8 | AT162: M | AU162: 1 | AY162: ROZPOCET | BE162: =IF(N162="základná",J162,0) -> 0 | BF162: =IF(N162="znížená",J162,0) -> 0 | BG162: =IF(N162="zákl. prenesená",J162,0) -> 0 | BH162: =IF(N162="zníž. prenesená",J162,0) -> 0 | BI162: =IF(N162="nulová",J162,0) -> 0 | BJ162: 2 | BK162: =ROUND(I162*H162,2) -> 0 | BL162: 4 | BM162: 68
C163: 35 | D163: M | E163: 3.02c | F163: - el. digitálny termostat XLR170 (zahrnuté v cene zariadenia) | H163: 0 | J163: =ROUND(I163*H163,2) -> 0 | N163: znížená | P163: =O163*H163 -> 0 | Q163: 0 | R163: =Q163*H163 -> 0 | S163: 0 | T163: =S163*H163 -> 0 | AR163: 8 | AT163: M | AU163: 1 | AY163: ROZPOCET | BE163: =IF(N163="základná",J163,0) -> 0 | BF163: =IF(N163="znížená",J163,0) -> 0 | BG163: =IF(N163="zákl. prenesená",J163,0) -> 0 | BH163: =IF(N163="zníž. prenesená",J163,0) -> 0 | BI163: =IF(N163="nulová",J163,0) -> 0 | BJ163: 2 | BK163: =ROUND(I163*H163,2) -> 0 | BL163: 4 | BM163: 70
C164: 36 | D164: M | E164: 3.02d | F164: - príslušenstvo TEV, priehľadítko, Filterdehydrátor (zahrnuté v cene zariadenia) | H164: 0 | J164: =ROUND(I164*H164,2) -> 0 | N164: znížená | P164: =O164*H164 -> 0 | Q164: 0 | R164: =Q164*H164 -> 0 | S164: 0 | T164: =S164*H164 -> 0 | AR164: 8 | AT164: M | AU164: 1 | AY164: ROZPOCET | BE164: =IF(N164="základná",J164,0) -> 0 | BF164: =IF(N164="znížená",J164,0) -> 0 | BG164: =IF(N164="zákl. prenesená",J164,0) -> 0 | BH164: =IF(N164="zníž. prenesená",J164,0) -> 0 | BI164: =IF(N164="nulová",J164,0) -> 0 | BJ164: 2 | BK164: =ROUND(I164*H164,2) -> 0 | BL164: 4 | BM164: 72
C165: 37 | D165: M | E165: 3.03a | F165: Kondenzačná jednotka on/off Tecumseh SILAJ 4517 Z alebo ekvivalent | G165: kpl | H165: 1 | J165: =ROUND(I165*H165,2) -> 0 | N165: znížená | P165: =O165*H165 -> 0 | Q165: 0 | R165: =Q165*H165 -> 0 | S165: 0 | T165: =S165*H165 -> 0 | AR165: 8 | AT165: M | AU165: 1 | AY165: ROZPOCET | BE165: =IF(N165="základná",J165,0) -> 0 | BF165: =IF(N165="znížená",J165,0) -> 0 | BG165: =IF(N165="zákl. prenesená",J165,0) -> 0 | BH165: =IF(N165="zníž. prenesená",J165,0) -> 0 | BI165: =IF(N165="nulová",J165,0) -> 0 | BJ165: 2 | BK165: =ROUND(I165*H165,2) -> 0 | BL165: 4 | BM165: 74
C166: 38 | D166: M | E166: 3.03b | F166: Výparník LU-VE SHS 32E alebo ekvivalent (zahrnuté v cene zariadenia) | H166: 0 | J166: =ROUND(I166*H166,2) -> 0 | N166: znížená | P166: =O166*H166 -> 0 | Q166: 0 | R166: =Q166*H166 -> 0 | S166: 0 | T166: =S166*H166 -> 0 | AR166: 8 | AT166: M | AU166: 1 | AY166: ROZPOCET | BE166: =IF(N166="základná",J166,0) -> 0 | BF166: =IF(N166="znížená",J166,0) -> 0 | BG166: =IF(N166="zákl. prenesená",J166,0) -> 0 | BH166: =IF(N166="zníž. prenesená",J166,0) -> 0 | BI166: =IF(N166="nulová",J166,0) -> 0 | BJ166: 2 | BK166: =ROUND(I166*H166,2) -> 0 | BL166: 4 | BM166: 76
C167: 39 | D167: M | E167: 3.03c | F167: - el. digitálny termostat XLR17 alebo ekvivalent0 (zahrnuté v cene zariadenia) | H167: 0 | J167: =ROUND(I167*H167,2) -> 0 | N167: znížená | P167: =O167*H167 -> 0 | Q167: 0 | R167: =Q167*H167 -> 0 | S167: 0 | T167: =S167*H167 -> 0 | AR167: 8 | AT167: M | AU167: 1 | AY167: ROZPOCET | BE167: =IF(N167="základná",J167,0) -> 0 | BF167: =IF(N167="znížená",J167,0) -> 0 | BG167: =IF(N167="zákl. prenesená",J167,0) -> 0 | BH167: =IF(N167="zníž. prenesená",J167,0) -> 0 | BI167: =IF(N167="nulová",J167,0) -> 0 | BJ167: 2 | BK167: =ROUND(I167*H167,2) -> 0 | BL167: 4 | BM167: 78
C168: 40 | D168: M | E168: 3.03d | F168: - príslušenstvo TEV, priehľadítko, Filterdehydrátor (zahrnuté v cene zariadenia) | H168: 0 | J168: =ROUND(I168*H168,2) -> 0 | N168: znížená | P168: =O168*H168 -> 0 | Q168: 0 | R168: =Q168*H168 -> 0 | S168: 0 | T168: =S168*H168 -> 0 | AR168: 8 | AT168: M | AU168: 1 | AY168: ROZPOCET | BE168: =IF(N168="základná",J168,0) -> 0 | BF168: =IF(N168="znížená",J168,0) -> 0 | BG168: =IF(N168="zákl. prenesená",J168,0) -> 0 | BH168: =IF(N168="zníž. prenesená",J168,0) -> 0 | BI168: =IF(N168="nulová",J168,0) -> 0 | BJ168: 2 | BK168: =ROUND(I168*H168,2) -> 0 | BL168: 4 | BM168: 80
C169: 41 | D169: M | E169: 3.03e | F169: Cu potrubie 16/10 vrátane izolácie - v cene zariadenia | G169: bm | H169: 20 | J169: =ROUND(I169*H169,2) -> 0 | N169: znížená | P169: =O169*H169 -> 0 | Q169: 0 | R169: =Q169*H169 -> 0 | S169: 0 | T169: =S169*H169 -> 0 | AR169: 8 | AT169: M | AU169: 1 | AY169: ROZPOCET | BE169: =IF(N169="základná",J169,0) -> 0 | BF169: =IF(N169="znížená",J169,0) -> 0 | BG169: =IF(N169="zákl. prenesená",J169,0) -> 0 | BH169: =IF(N169="zníž. prenesená",J169,0) -> 0 | BI169: =IF(N169="nulová",J169,0) -> 0 | BJ169: 2 | BK169: =ROUND(I169*H169,2) -> 0 | BL169: 4 | BM169: 82
...

Sheet SO-02 - Prístrešok skladu...
L2: >> skryté stĺpce << | AT2: {ce3e7885-68d5-4eef-839f-4859090a4e6c}
AT3: 0
D4: KRYCÍ LIST ROZPOČTU | M4: v --- nižšie sa nachádzajú doplnkové a pomocné údaje k zostavám --- v | AT4: False
D6: Stavba:
E7: ='Rekapitulácia stavby'!K6 -> Chovná hala pre kury s voľným výbehom
D8: Objekt:
E9: SO-02 - Prístrešok skladu trusu
D11: JKSO: | I11: KS:
D12: Miesto: | F12: Dolné Trhovište 224, 920 61 Dolné Trhovište | I12: Dátum: | J12: ='Rekapitulácia stavby'!AN8 -> 45370
D14: Objednávateľ: | I14: IČO:
E15: FOOD FARM s.r.o., Piešťanská 3, 917 03 Trnava | I15: IČ DPH:
D17: Zhotoviteľ: | I17: IČO: | J17: ='Rekapitulácia stavby'!AN13 -> Vyplň údaj
E18: ='Rekapitulácia stavby'!E14 -> Vyplň údaj | I18: IČ DPH: | J18: ='Rekapitulácia stavby'!AN14 -> Vyplň údaj
D20: Projektant: | I20: IČO:
E21: ALLA ARCHITEKTI | I21: IČ DPH:
D23: Spracovateľ: | I23: IČO:
E24: Stanislav Hlubina | I24: IČ DPH:
D26: Poznámka:
D30: Cena bez DPH | J30: =ROUND(J130, 2) -> 0
F32: Základ dane | I32: Sadzba dane | J32: Výška dane
D33: DPH | E33: základná | F33: =ROUND((SUM(BE130:BE312)), 2) -> 0 | I33: 0.2 | J33: =ROUND(((SUM(BE130:BE312))*I33), 2) -> 0
E34: znížená | F34: =ROUND((SUM(BF130:BF312)), 2) -> 0 | I34: 0.2 | J34: =ROUND(((SUM(BF130:BF312))*I34), 2) -> 0
E35: zákl. prenesená | F35: =ROUND((SUM(BG130:BG312)), 2) -> 0 | I35: 0.2 | J35: =0 -> 0
E36: zníž. prenesená | F36: =ROUND((SUM(BH130:BH312)), 2) -> 0 | I36: 0.2 | J36: =0 -> 0
E37: nulová | F37: =ROUND((SUM(BI130:BI312)), 2) -> 0 | I37: 0 | J37: =0 -> 0
D39: Cena s DPH | G39: v | H39: EUR | J39: =SUM(J30:J37) -> 0
D50: Projektant | G50: Spracovateľ
D61: Dátum a podpis: | F61: Pečiatka | G61: Dátum a podpis: | J61: Pečiatka
D65: Objednávateľ | G65: Zhotoviteľ
D76: Dátum a podpis: | F76: Pečiatka | G76: Dátum a podpis: | J76: Pečiatka
C82: REKAPITULÁCIA ROZPOČTU
C84: Stavba:
E85: =E7 -> Chovná hala pre kury s voľným výbehom
C86: Objekt:
E87: =E9 -> SO-02 - Prístrešok skladu trusu
C89: Miesto: | F89: =F12 -> Dolné Trhovište 224, 920 61 Dolné Trhovište | I89: Dátum: | J89: =IF(J12="","",J12) -> 45370
C91: Objednávateľ: | F91: =E15 -> FOOD FARM s.r.o., Piešťanská 3, 917 03 Trnava | I91: Projektant: | J91: =E21 -> ALLA ARCHITEKTI
C92: Zhotoviteľ: | F92: =IF(E18="","",E18) -> Vyplň údaj | I92: Spracovateľ: | J92: =E24 -> Stanislav Hlubina
C94: Kód dielu - Popis | J94: Cena celkom [EUR]
C96: Náklady z rozpočtu | J96: =J130 -> 0 | AU96: -1
D97: HSV - Práce a dodávky HSV | J97: =J131 -> 0
D98: 1 - Zemné práce | J98: =J132 -> 0
D99: 2 - Zakladanie | J99: =J152 -> 0
D100: 3 - Zvislé a kompletné konštrukcie | J100: =J185 -> 0
D101: 6 - Úpravy povrchov, podlahy, osadenie | J101: =J199 -> 0
D102: 9 - Ostatné konštrukcie a práce-búranie | J102: =J222 -> 0
D103: 99 - Presun hmôt HSV | J103: =J231 -> 0
D104: PSV - Práce a dodávky PSV | J104: =J233 -> 0
D105: 711 - Izolácie proti vode a vlhkosti | J105: =J234 -> 0
D106: 721 - Zdravotechnika - vnútorná kanalizácia | J106: =J264 -> 0
D107: 764 - Konštrukcie klampiarske | J107: =J266 -> 0
D108: 767 - Konštrukcie doplnkové kovové | J108: =J279 -> 0
D109: 783 - Nátery | J109: =J305 -> 0
D110: VRN - Investičné náklady neobsiahnuté v cenách | J110: =J310 -> 0
C117: ROZPOČET
C119: Stavba:
E120: =E7 -> Chovná hala pre kury s voľným výbehom
C121: Objekt:
E122: =E9 -> SO-02 - Prístrešok skladu trusu
C124: Miesto: | F124: =F12 -> Dolné Trhovište 224, 920 61 Dolné Trhovište | I124: Dátum: | J124: =IF(J12="","",J12) -> 45370
C126: Objednávateľ: | F126: =E15 -> FOOD FARM s.r.o., Piešťanská 3, 917 03 Trnava | I126: Projektant: | J126: =E21 -> ALLA ARCHITEKTI
C127: Zhotoviteľ: | F127: =IF(E18="","",E18) -> Vyplň údaj | I127: Spracovateľ: | J127: =E24 -> Stanislav Hlubina
C129: PČ | D129: Typ | E129: Kód | F129: Popis | G129: MJ | H129: Množstvo | I129: J.cena [EUR] | J129: Cena celkom [EUR] | K129: Cenová sústava | N129: DPH | O129: J. Nh [h] | P129: Nh celkom [h] | Q129: J. hmotnosť [t] | R129: Hmotnosť celkom [t] | S129: J. suť [t] | T129: Suť Celkom [t]
C130: Náklady z rozpočtu | J130: =BK130 -> 0 | P130: =P131+P233+P310 -> 0 | R130: =R131+R233+R310 -> 164.90729 | T130: =T131+T233+T310 -> 0 | AT130: D | AU130: -1 | BK130: =BK131+BK233+BK310 -> 0
D131: D | E131: HSV | F131: Práce a dodávky HSV | J131: =BK131 -> 0 | P131: =P132+P152+P185+P199+P222+P231 -> 0 | R131: =R132+R152+R185+R199+R222+R231 -> 161.8988 | T131: =T132+T152+T185+T199+T222+T231 -> 0 | AR131: 1 | AT131: D | AU131: 0 | AY131: ROZPOCET | BK131: =BK132+BK152+BK185+BK199+BK222+BK231 -> 0
D132: D | E132: 1 | F132: Zemné práce | J132: =BK132 -> 0 | P132: =SUM(P133:P151) -> 0 | R132: =SUM(R133:R151) -> 0 | T132: =SUM(T133:T151) -> 0 | AR132: 1 | AT132: D | AU132: 1 | AY132: ROZPOCET | BK132: =SUM(BK133:BK151) -> 0
C133: 1 | D133: K | E133: 132201101.S | F133: Výkop ryhy do šírky 600 mm v horn.3 do 100 m3 | G133: m3 | H133: 12.555 | J133: =ROUND(I133*H133,2) -> 0 | N133: znížená | P133: =O133*H133 -> 0 | Q133: 0 | R133: =Q133*H133 -> 0 | S133: 0 | T133: =S133*H133 -> 0 | AR133: 4 | AT133: K | AU133: 2 | AY133: ROZPOCET | BE133: =IF(N133="základná",J133,0) -> 0 | BF133: =IF(N133="znížená",J133,0) -> 0 | BG133: =IF(N133="zákl. prenesená",J133,0) -> 0 | BH133: =IF(N133="zníž. prenesená",J133,0) -> 0 | BI133: =IF(N133="nulová",J133,0) -> 0 | BJ133: 2 | BK133: =ROUND(I133*H133,2) -> 0 | BL133: 4 | BM133: 1231531807
D134: VV | F134: (8,20+7,30)*2*0,45*0,90 | H134: 12.555 | AT134: VV | AU134: 2 | AV134: 2 | AW134: True | AX134: 0 | AY134: ROZPOCET
D135: VV | F135: Súčet | H135: 12.555 | AT135: VV | AU135: 2 | AV135: 4 | AW135: True | AX135: 1 | AY135: ROZPOCET
C136: 2 | D136: K | E136: 132201109.S | F136: Príplatok k cene za lepivosť pri hĺbení rýh šírky do 600 mm zapažených i nezapažených s urovnaním dna v hornine 3 | G136: m3 | H136: 3.767 | J136: =ROUND(I136*H136,2) -> 0 | N136: znížená | P136: =O136*H136 -> 0 | Q136: 0 | R136: =Q136*H136 -> 0 | S136: 0 | T136: =S136*H136 -> 0 | AR136: 4 | AT136: K | AU136: 2 | AY136: ROZPOCET | BE136: =IF(N136="základná",J136,0) -> 0 | BF136: =IF(N136="znížená",J136,0) -> 0 | BG136: =IF(N136="zákl. prenesená",J136,0) -> 0 | BH136: =IF(N136="zníž. prenesená",J136,0) -> 0 | BI136: =IF(N136="nulová",J136,0) -> 0 | BJ136: 2 | BK136: =ROUND(I136*H136,2) -> 0 | BL136: 4 | BM136: -49766865
D137: VV | F137: 12,555*0,3 | H137: 3.767 | AT137: VV | AU137: 2 | AV137: 2 | AW137: True | AX137: 1 | AY137: ROZPOCET
C138: 3 | D138: K | E138: 162301111.S | F138: Vodorovné premiestnenie výkopku po nespevnenej ceste z horniny tr.1-4, do 100 m3 na vzdialenosť nad 50 do 500 m | G138: m3 | H138: 40.883 | J138: =ROUND(I138*H138,2) -> 0 | N138: znížená | P138: =O138*H138 -> 0 | Q138: 0 | R138: =Q138*H138 -> 0 | S138: 0 | T138: =S138*H138 -> 0 | AR138: 4 | AT138: K | AU138: 2 | AY138: ROZPOCET | BE138: =IF(N138="základná",J138,0) -> 0 | BF138: =IF(N138="znížená",J138,0) -> 0 | BG138: =IF(N138="zákl. prenesená",J138,0) -> 0 | BH138: =IF(N138="zníž. prenesená",J138,0) -> 0 | BI138: =IF(N138="nulová",J138,0) -> 0 | BJ138: 2 | BK138: =ROUND(I138*H138,2) -> 0 | BL138: 4 | BM138: 520081555
D139: VV | F139: dovoz chýbajúceho násypu | AT139: VV | AU139: 2 | AV139: 1 | AW139: True | AX139: 0 | AY139: ROZPOCET
D140: VV | F140: "násyp" 53,438 | H140: 53.438 | AT140: VV | AU140: 2 | AV140: 2 | AW140: True | AX140: 0 | AY140: ROZPOCET
D141: VV | F141: "odpočet výkopu z pásov" -12,555 | H141: -12.555 | AT141: VV | AU141: 2 | AV141: 2 | AW141: True | AX141: 0 | AY141: ROZPOCET
D142: VV | F142: Súčet | H142: 40.883 | AT142: VV | AU142: 2 | AV142: 4 | AW142: True | AX142: 1 | AY142: ROZPOCET
C143: 4 | D143: K | E143: 166101101.S | F143: Prehodenie neuľahnutého výkopku z horniny 1 až 4 | G143: m3 | H143: 53.438 | J143: =ROUND(I143*H143,2) -> 0 | N143: znížená | P143: =O143*H143 -> 0 | Q143: 0 | R143: =Q143*H143 -> 0 | S143: 0 | T143: =S143*H143 -> 0 | AR143: 4 | AT143: K | AU143: 2 | AY143: ROZPOCET | BE143: =IF(N143="základná",J143,0) -> 0 | BF143: =IF(N143="znížená",J143,0) -> 0 | BG143: =IF(N143="zákl. prenesená",J143,0) -> 0 | BH143: =IF(N143="zníž. prenesená",J143,0) -> 0 | BI143: =IF(N143="nulová",J143,0) -> 0 | BJ143: 2 | BK143: =ROUND(I143*H143,2) -> 0 | BL143: 4 | BM143: 1258018181
C144: 5 | D144: K | E144: 167101101.S | F144: Nakladanie neuľahnutého výkopku z hornín tr.1-4 do 100 m3 | G144: m3 | H144: 40.883 | J144: =ROUND(I144*H144,2) -> 0 | N144: znížená | P144: =O144*H144 -> 0 | Q144: 0 | R144: =Q144*H144 -> 0 | S144: 0 | T144: =S144*H144 -> 0 | AR144: 4 | AT144: K | AU144: 2 | AY144: ROZPOCET | BE144: =IF(N144="základná",J144,0) -> 0 | BF144: =IF(N144="znížená",J144,0) -> 0 | BG144: =IF(N144="zákl. prenesená",J144,0) -> 0 | BH144: =IF(N144="zníž. prenesená",J144,0) -> 0 | BI144: =IF(N144="nulová",J144,0) -> 0 | BJ144: 2 | BK144: =ROUND(I144*H144,2) -> 0 | BL144: 4 | BM144: -2105679734
C145: 6 | D145: K | E145: 174101102.S | F145: Zásyp sypaninou v uzavretých priestoroch s urovnaním povrchu zásypu | G145: m3 | H145: 53.438 | J145: =ROUND(I145*H145,2) -> 0 | N145: znížená | P145: =O145*H145 -> 0 | Q145: 0 | R145: =Q145*H145 -> 0 | S145: 0 | T145: =S145*H145 -> 0 | AR145: 4 | AT145: K | AU145: 2 | AY145: ROZPOCET | BE145: =IF(N145="základná",J145,0) -> 0 | BF145: =IF(N145="znížená",J145,0) -> 0 | BG145: =IF(N145="zákl. prenesená",J145,0) -> 0 | BH145: =IF(N145="zníž. prenesená",J145,0) -> 0 | BI145: =IF(N145="nulová",J145,0) -> 0 | BJ145: 2 | BK145: =ROUND(I145*H145,2) -> 0 | BL145: 4 | BM145: 1018722752
D146: VV | F146: pod dosku | AT146: VV | AU146: 2 | AV146: 1 | AW146: True | AX146: 0 | AY146: ROZPOCET
D147: VV | F147: 7,50*7,50*0,95 | H147: 53.438 | AT147: VV | AU147: 2 | AV147: 2 | AW147: True | AX147: 0 | AY147: ROZPOCET
D148: VV | F148: Súčet | H148: 53.438 | AT148: VV | AU148: 2 | AV148: 4 | AW148: True | AX148: 1 | AY148: ROZPOCET
C149: 7 | D149: K | E149: 181101102 | F149: Úprava pláne v zárezoch v hornine 1-4 so zhutnením | G149: m2 | H149: 56.25 | J149: =ROUND(I149*H149,2) -> 0 | N149: znížená | P149: =O149*H149 -> 0 | Q149: 0 | R149: =Q149*H149 -> 0 | S149: 0 | T149: =S149*H149 -> 0 | AR149: 4 | AT149: K | AU149: 2 | AY149: ROZPOCET | BE149: =IF(N149="základná",J149,0) -> 0 | BF149: =IF(N149="znížená",J149,0) -> 0 | BG149: =IF(N149="zákl. prenesená",J149,0) -> 0 | BH149: =IF(N149="zníž. prenesená",J149,0) -> 0 | BI149: =IF(N149="nulová",J149,0) -> 0 | BJ149: 2 | BK149: =ROUND(I149*H149,2) -> 0 | BL149: 4 | BM149: -1124523808
D150: VV | F150: 7,50*7,50 | H150: 56.25 | AT150: VV | AU150: 2 | AV150: 2 | AW150: True | AX150: 0 | AY150: ROZPOCET
D151: VV | F151: Súčet | H151: 56.25 | AT151: VV | AU151: 2 | AV151: 4 | AW151: True | AX151: 1 | AY151: ROZPOCET
D152: D | E152: 2 | F152: Zakladanie | J152: =BK152 -> 0 | P152: =SUM(P153:P184) -> 0 | R152: =SUM(R153:R184) -> 97.904473 | T152: =SUM(T153:T184) -> 0 | AR152: 1 | AT152: D | AU152: 1 | AY152: ROZPOCET | BK152: =SUM(BK153:BK184) -> 0
C153: 8 | D153: K | E153: 271573002.S | F153: Násyp pod základové konštrukcie so zhutnením zo štrkodrvy fr.0-63 mm | G153: m3 | H153: 14.063 | J153: =ROUND(I153*H153,2) -> 0 | N153: znížená | P153: =O153*H153 -> 0 | Q153: 2.07 | R153: =Q153*H153 -> 29.11041 | S153: 0 | T153: =S153*H153 -> 0 | AR153: 4 | AT153: K | AU153: 2 | AY153: ROZPOCET | BE153: =IF(N153="základná",J153,0) -> 0 | BF153: =IF(N153="znížená",J153,0) -> 0 | BG153: =IF(N153="zákl. prenesená",J153,0) -> 0 | BH153: =IF(N153="zníž. prenesená",J153,0) -> 0 | BI153: =IF(N153="nulová",J153,0) -> 0 | BJ153: 2 | BK153: =ROUND(I153*H153,2) -> 0 | BL153: 4 | BM153: 524124724
D154: VV | F154: skladba P5 | AT154: VV | AU154: 2 | AV154: 1 | AW154: True | AX154: 0 | AY154: ROZPOCET
D155: VV | F155: 7,50*7,50*0,25 | H155: 14.063 | AT155: VV | AU155: 2 | AV155: 2 | AW155: True | AX155: 0 | AY155: ROZPOCET
D156: VV | F156: Súčet | H156: 14.063 | AT156: VV | AU156: 2 | AV156: 4 | AW156: True | AX156: 1 | AY156: ROZPOCET
C157: 9 | D157: K | E157: 273321411.S | F157: Betón základových dosiek, železový (bez výstuže), tr. C 25/30 | G157: m3 | H157: 9.6 | J157: =ROUND(I157*H157,2) -> 0 | N157: znížená | P157: =O157*H157 -> 0 | Q157: 2.41572 | R157: =Q157*H157 -> 23.190912 | S157: 0 | T157: =S157*H157 -> 0 | AR157: 4 | AT157: K | AU157: 2 | AY157: ROZPOCET | BE157: =IF(N157="základná",J157,0) -> 0 | BF157: =IF(N157="znížená",J157,0) -> 0 | BG157: =IF(N157="zákl. prenesená",J157,0) -> 0 | BH157: =IF(N157="zníž. prenesená",J157,0) -> 0 | BI157: =IF(N157="nulová",J157,0) -> 0 | BJ157: 2 | BK157: =ROUND(I157*H157,2) -> 0 | BL157: 4 | BM157: 90977035
D158: VV | F158: "PB2" 8,00*8,00*0,15 | H158: 9.6 | AT158: VV | AU158: 2 | AV158: 2 | AW158: True | AX158: 0 | AY158: ROZPOCET
D159: VV | F159: Súčet | H159: 9.6 | AT159: VV | AU159: 2 | AV159: 4 | AW159: True | AX159: 1 | AY159: ROZPOCET
C160: 10 | D160: K | E160: 273351215.S | F160: Debnenie stien základových dosiek, zhotovenie-dielce | G160: m2 | H160: 4.8 | J160: =ROUND(I160*H160,2) -> 0 | N160: znížená | P160: =O160*H160 -> 0 | Q160: 0.15018133 | R160: =Q160*H160 -> 0.72087038 | S160: 0 | T160: =S160*H160 -> 0 | AR160: 4 | AT160: K | AU160: 2 | AY160: ROZPOCET | BE160: =IF(N160="základná",J160,0) -> 0 | BF160: =IF(N160="znížená",J160,0) -> 0 | BG160: =IF(N160="zákl. prenesená",J160,0) -> 0 | BH160: =IF(N160="zníž. prenesená",J160,0) -> 0 | BI160: =IF(N160="nulová",J160,0) -> 0 | BJ160: 2 | BK160: =ROUND(I160*H160,2) -> 0 | BL160: 4 | BM160: -415210662
D161: VV | F161: "PB2" (8,00+8,00)*2*0,15 | H161: 4.8 | AT161: VV | AU161: 2 | AV161: 2 | AW161: True | AX161: 0 | AY161: ROZPOCET
D162: VV | F162: Súčet | H162: 4.8 | AT162: VV | AU162: 2 | AV162: 4 | AW162: True | AX162: 1 | AY162: ROZPOCET
C163: 11 | D163: K | E163: 273351216.S | F163: Debnenie stien základových dosiek, odstránenie-dielce | G163: m2 | H163: 4.8 | J163: =ROUND(I163*H163,2) -> 0 | N163: znížená | P163: =O163*H163 -> 0 | Q163: 0 | R163: =Q163*H163 -> 0 | S163: 0 | T163: =S163*H163 -> 0 | AR163: 4 | AT163: K | AU163: 2 | AY163: ROZPOCET | BE163: =IF(N163="základná",J163,0) -> 0 | BF163: =IF(N163="znížená",J163,0) -> 0 | BG163: =IF(N163="zákl. prenesená",J163,0) -> 0 | BH163: =IF(N163="zníž. prenesená",J163,0) -> 0 | BI163: =IF(N163="nulová",J163,0) -> 0 | BJ163: 2 | BK163: =ROUND(I163*H163,2) -> 0 | BL163: 4 | BM163: -1411418881
C164: 12 | D164: K | E164: 273361821.S | F164: Výstuž základových dosiek z ocele B500 (10505) | G164: t | H164: 0.439 | J164: =ROUND(I164*H164,2) -> 0 | N164: znížená | P164: =O164*H164 -> 0 | Q164: 1.01895 | R164: =Q164*H164 -> 0.44731905 | S164: 0 | T164: =S164*H164 -> 0 | AR164: 4 | AT164: K | AU164: 2 | AY164: ROZPOCET | BE164: =IF(N164="základná",J164,0) -> 0 | BF164: =IF(N164="znížená",J164,0) -> 0 | BG164: =IF(N164="zákl. prenesená",J164,0) -> 0 | BH164: =IF(N164="zníž. prenesená",J164,0) -> 0 | BI164: =IF(N164="nulová",J164,0) -> 0 | BJ164: 2 | BK164: =ROUND(I164*H164,2) -> 0 | BL164: 4 | BM164: 1579248595
D165: VV | F165: 439,00*0,001 | H165: 0.439 | AT165: VV | AU165: 2 | AV165: 2 | AW165: True | AX165: 0 | AY165: ROZPOCET
D166: VV | F166: Súčet | H166: 0.439 | AT166: VV | AU166: 2 | AV166: 4 | AW166: True | AX166: 1 | AY166: ROZPOCET
...

Sheet SO-03 - Vonkajšie rozvody...
L2: >> skryté stĺpce << | AT2: {4f41397e-7b54-4f9b-9b3e-d129d132e1ff}
AT3: 0
D4: KRYCÍ LIST ROZPOČTU | M4: v --- nižšie sa nachádzajú doplnkové a pomocné údaje k zostavám --- v | AT4: False
D6: Stavba:
E7: ='Rekapitulácia stavby'!K6 -> Chovná hala pre kury s voľným výbehom
D8: Objekt:
E9: SO-03 - Vonkajšie rozvody vody pitná + požiarna
D11: JKSO: | I11: KS:
D12: Miesto: | F12: Dolné Trhovište 224, 920 61 Dolné Trhovište | I12: Dátum: | J12: ='Rekapitulácia stavby'!AN8 -> 45370
D14: Objednávateľ: | I14: IČO:
E15: FOOD FARM s.r.o., Piešťanská 3, 917 03 Trnava | I15: IČ DPH:
D17: Zhotoviteľ: | I17: IČO: | J17: ='Rekapitulácia stavby'!AN13 -> Vyplň údaj
E18: ='Rekapitulácia stavby'!E14 -> Vyplň údaj | I18: IČ DPH: | J18: ='Rekapitulácia stavby'!AN14 -> Vyplň údaj
D20: Projektant: | I20: IČO:
E21: ALLA ARCHITEKTI | I21: IČ DPH:
D23: Spracovateľ: | I23: IČO:
E24: Stanislav Hlubina | I24: IČ DPH:
D26: Poznámka:
D30: Cena bez DPH | J30: =ROUND(J117, 2) -> 0
F32: Základ dane | I32: Sadzba dane | J32: Výška dane
D33: DPH | E33: základná | F33: =ROUND((SUM(BE117:BE254)), 2) -> 0 | I33: 0.2 | J33: =ROUND(((SUM(BE117:BE254))*I33), 2) -> 0
E34: znížená | F34: =ROUND((SUM(BF117:BF254)), 2) -> 0 | I34: 0.2 | J34: =ROUND(((SUM(BF117:BF254))*I34), 2) -> 0
E35: zákl. prenesená | F35: =ROUND((SUM(BG117:BG254)), 2) -> 0 | I35: 0.2 | J35: =0 -> 0
E36: zníž. prenesená | F36: =ROUND((SUM(BH117:BH254)), 2) -> 0 | I36: 0.2 | J36: =0 -> 0
E37: nulová | F37: =ROUND((SUM(BI117:BI254)), 2) -> 0 | I37: 0 | J37: =0 -> 0
D39: Cena s DPH | G39: v | H39: EUR | J39: =SUM(J30:J37) -> 0
D50: Projektant | G50: Spracovateľ
D61: Dátum a podpis: | F61: Pečiatka | G61: Dátum a podpis: | J61: Pečiatka
D65: Objednávateľ | G65: Zhotoviteľ
D76: Dátum a podpis: | F76: Pečiatka | G76: Dátum a podpis: | J76: Pečiatka
C82: REKAPITULÁCIA ROZPOČTU
C84: Stavba:
E85: =E7 -> Chovná hala pre kury s voľným výbehom
C86: Objekt:
E87: =E9 -> SO-03 - Vonkajšie rozvody vody pitná + požiarna
C89: Miesto: | F89: =F12 -> Dolné Trhovište 224, 920 61 Dolné Trhovište | I89: Dátum: | J89: =IF(J12="","",J12) -> 45370
C91: Objednávateľ: | F91: =E15 -> FOOD FARM s.r.o., Piešťanská 3, 917 03 Trnava | I91: Projektant: | J91: =E21 -> ALLA ARCHITEKTI
C92: Zhotoviteľ: | F92: =IF(E18="","",E18) -> Vyplň údaj | I92: Spracovateľ: | J92: =E24 -> Stanislav Hlubina
C94: Kód dielu - Popis | J94: Cena celkom [EUR]
C96: Náklady z rozpočtu | J96: =J117 -> 0 | AU96: -1
D97: HSV - Práce a dodávky HSV | J97: =J118 -> 0
C104: ROZPOČET
C106: Stavba:
E107: =E7 -> Chovná hala pre kury s voľným výbehom
C108: Objekt:
E109: =E9 -> SO-03 - Vonkajšie rozvody vody pitná + požiarna
C111: Miesto: | F111: =F12 -> Dolné Trhovište 224, 920 61 Dolné Trhovište | I111: Dátum: | J111: =IF(J12="","",J12) -> 45370
C113: Objednávateľ: | F113: =E15 -> FOOD FARM s.r.o., Piešťanská 3, 917 03 Trnava | I113: Projektant: | J113: =E21 -> ALLA ARCHITEKTI
C114: Zhotoviteľ: | F114: =IF(E18="","",E18) -> Vyplň údaj | I114: Spracovateľ: | J114: =E24 -> Stanislav Hlubina
C116: PČ | D116: Typ | E116: Kód | F116: Popis | G116: MJ | H116: Množstvo | I116: J.cena [EUR] | J116: Cena celkom [EUR] | K116: Cenová sústava | N116: DPH | O116: J. Nh [h] | P116: Nh celkom [h] | Q116: J. hmotnosť [t] | R116: Hmotnosť celkom [t] | S116: J. suť [t] | T116: Suť Celkom [t]
C117: Náklady z rozpočtu | J117: =BK117 -> 0 | P117: =P118 -> 0 | R117: =R118 -> 0 | T117: =T118 -> 0 | AT117: D | AU117: -1 | BK117: =BK118 -> 0
D118: D | E118: HSV | F118: Práce a dodávky HSV | J118: =BK118 -> 0 | P118: =SUM(P119:P254) -> 0 | R118: =SUM(R119:R254) -> 0 | T118: =SUM(T119:T254) -> 0 | AR118: 1 | AT118: D | AU118: 0 | AY118: ROZPOCET | BK118: =SUM(BK119:BK254) -> 0
C119: 1 | D119: K | E119: 01 | F119: Vytýčenie jestvujúcich podzemných vedení | G119: km | H119: 0.314 | J119: =ROUND(I119*H119,2) -> 0 | N119: znížená | P119: =O119*H119 -> 0 | Q119: 0 | R119: =Q119*H119 -> 0 | S119: 0 | T119: =S119*H119 -> 0 | AR119: 4 | AT119: K | AU119: 1 | AY119: ROZPOCET | BE119: =IF(N119="základná",J119,0) -> 0 | BF119: =IF(N119="znížená",J119,0) -> 0 | BG119: =IF(N119="zákl. prenesená",J119,0) -> 0 | BH119: =IF(N119="zníž. prenesená",J119,0) -> 0 | BI119: =IF(N119="nulová",J119,0) -> 0 | BJ119: 2 | BK119: =ROUND(I119*H119,2) -> 0 | BL119: 4 | BM119: 1426668728
C120: 2 | D120: K | E120: 011 | F120: Montáž liatinovej tvarovky jednoosovej na potrubí z rúr hrdlových s integrovaným tesnením DN 150 | G120: ks | H120: 11 | J120: =ROUND(I120*H120,2) -> 0 | N120: znížená | P120: =O120*H120 -> 0 | Q120: 0 | R120: =Q120*H120 -> 0 | S120: 0 | T120: =S120*H120 -> 0 | AR120: 4 | AT120: K | AU120: 1 | AY120: ROZPOCET | BE120: =IF(N120="základná",J120,0) -> 0 | BF120: =IF(N120="znížená",J120,0) -> 0 | BG120: =IF(N120="zákl. prenesená",J120,0) -> 0 | BH120: =IF(N120="zníž. prenesená",J120,0) -> 0 | BI120: =IF(N120="nulová",J120,0) -> 0 | BJ120: 2 | BK120: =ROUND(I120*H120,2) -> 0 | BL120: 4 | BM120: -2050794877
C121: 3 | D121: M | E121: 012 | F121: Tvarovka FF z tvárnej liatiny, prírubová DN 150 dĺ. 200 mm, PN 16 | G121: ks | H121: 3 | J121: =ROUND(I121*H121,2) -> 0 | N121: znížená | P121: =O121*H121 -> 0 | Q121: 0 | R121: =Q121*H121 -> 0 | S121: 0 | T121: =S121*H121 -> 0 | AR121: 8 | AT121: M | AU121: 1 | AY121: ROZPOCET | BE121: =IF(N121="základná",J121,0) -> 0 | BF121: =IF(N121="znížená",J121,0) -> 0 | BG121: =IF(N121="zákl. prenesená",J121,0) -> 0 | BH121: =IF(N121="zníž. prenesená",J121,0) -> 0 | BI121: =IF(N121="nulová",J121,0) -> 0 | BJ121: 2 | BK121: =ROUND(I121*H121,2) -> 0 | BL121: 4 | BM121: 1891574479
C122: 4 | D122: M | E122: 013 | F122: Tvarovka FF z tvárnej liatiny, prírubová DN 150, dĺ. 400 mm, PN 16 | G122: ks | H122: 1 | J122: =ROUND(I122*H122,2) -> 0 | N122: znížená | P122: =O122*H122 -> 0 | Q122: 0 | R122: =Q122*H122 -> 0 | S122: 0 | T122: =S122*H122 -> 0 | AR122: 8 | AT122: M | AU122: 1 | AY122: ROZPOCET | BE122: =IF(N122="základná",J122,0) -> 0 | BF122: =IF(N122="znížená",J122,0) -> 0 | BG122: =IF(N122="zákl. prenesená",J122,0) -> 0 | BH122: =IF(N122="zníž. prenesená",J122,0) -> 0 | BI122: =IF(N122="nulová",J122,0) -> 0 | BJ122: 2 | BK122: =ROUND(I122*H122,2) -> 0 | BL122: 4 | BM122: -1770076555
C123: 5 | D123: M | E123: 014 | F123: Tvarovka FF z tvárnej liatiny, prírubová DN 150, dĺ. 500 mm, PN 16 | G123: ks | H123: 2 | J123: =ROUND(I123*H123,2) -> 0 | N123: znížená | P123: =O123*H123 -> 0 | Q123: 0 | R123: =Q123*H123 -> 0 | S123: 0 | T123: =S123*H123 -> 0 | AR123: 8 | AT123: M | AU123: 1 | AY123: ROZPOCET | BE123: =IF(N123="základná",J123,0) -> 0 | BF123: =IF(N123="znížená",J123,0) -> 0 | BG123: =IF(N123="zákl. prenesená",J123,0) -> 0 | BH123: =IF(N123="zníž. prenesená",J123,0) -> 0 | BI123: =IF(N123="nulová",J123,0) -> 0 | BJ123: 2 | BK123: =ROUND(I123*H123,2) -> 0 | BL123: 4 | BM123: -996968918
C124: 6 | D124: M | E124: 015 | F124: Prírubové koleno s patkou DN 150 PN 10/16 | G124: ks | H124: 1 | J124: =ROUND(I124*H124,2) -> 0 | N124: znížená | P124: =O124*H124 -> 0 | Q124: 0 | R124: =Q124*H124 -> 0 | S124: 0 | T124: =S124*H124 -> 0 | AR124: 8 | AT124: M | AU124: 1 | AY124: ROZPOCET | BE124: =IF(N124="základná",J124,0) -> 0 | BF124: =IF(N124="znížená",J124,0) -> 0 | BG124: =IF(N124="zákl. prenesená",J124,0) -> 0 | BH124: =IF(N124="zníž. prenesená",J124,0) -> 0 | BI124: =IF(N124="nulová",J124,0) -> 0 | BJ124: 2 | BK124: =ROUND(I124*H124,2) -> 0 | BL124: 4 | BM124: -2070325380
C125: 7 | D125: M | E125: 016 | F125: Prírubové koleno 90° DN 150 | G125: ks | H125: 1 | J125: =ROUND(I125*H125,2) -> 0 | N125: znížená | P125: =O125*H125 -> 0 | Q125: 0 | R125: =Q125*H125 -> 0 | S125: 0 | T125: =S125*H125 -> 0 | AR125: 8 | AT125: M | AU125: 1 | AY125: ROZPOCET | BE125: =IF(N125="základná",J125,0) -> 0 | BF125: =IF(N125="znížená",J125,0) -> 0 | BG125: =IF(N125="zákl. prenesená",J125,0) -> 0 | BH125: =IF(N125="zníž. prenesená",J125,0) -> 0 | BI125: =IF(N125="nulová",J125,0) -> 0 | BJ125: 2 | BK125: =ROUND(I125*H125,2) -> 0 | BL125: 4 | BM125: -349829912
C126: 8 | D126: M | E126: 017 | F126: Lemový nákružok s integrovanou prírubou EFL150 | G126: ks | H126: 1 | J126: =ROUND(I126*H126,2) -> 0 | N126: znížená | P126: =O126*H126 -> 0 | Q126: 0 | R126: =Q126*H126 -> 0 | S126: 0 | T126: =S126*H126 -> 0 | AR126: 8 | AT126: M | AU126: 1 | AY126: ROZPOCET | BE126: =IF(N126="základná",J126,0) -> 0 | BF126: =IF(N126="znížená",J126,0) -> 0 | BG126: =IF(N126="zákl. prenesená",J126,0) -> 0 | BH126: =IF(N126="zníž. prenesená",J126,0) -> 0 | BI126: =IF(N126="nulová",J126,0) -> 0 | BJ126: 2 | BK126: =ROUND(I126*H126,2) -> 0 | BL126: 4 | BM126: -2127867446
C127: 9 | D127: M | E127: 018 | F127: Liatina zemná súprava teleskopická k posúvaču DN150 dĺžka 1,05-1,75 m | G127: ks | H127: 1 | J127: =ROUND(I127*H127,2) -> 0 | N127: znížená | P127: =O127*H127 -> 0 | Q127: 0 | R127: =Q127*H127 -> 0 | S127: 0 | T127: =S127*H127 -> 0 | AR127: 8 | AT127: M | AU127: 1 | AY127: ROZPOCET | BE127: =IF(N127="základná",J127,0) -> 0 | BF127: =IF(N127="znížená",J127,0) -> 0 | BG127: =IF(N127="zákl. prenesená",J127,0) -> 0 | BH127: =IF(N127="zníž. prenesená",J127,0) -> 0 | BI127: =IF(N127="nulová",J127,0) -> 0 | BJ127: 2 | BK127: =ROUND(I127*H127,2) -> 0 | BL127: 4 | BM127: -1962768171
C128: 10 | D128: M | E128: 019 | F128: Liatinový posúvač voda prírubový DN150 PN10/16 AVK 06/30 | G128: ks | H128: 1 | J128: =ROUND(I128*H128,2) -> 0 | N128: znížená | P128: =O128*H128 -> 0 | Q128: 0 | R128: =Q128*H128 -> 0 | S128: 0 | T128: =S128*H128 -> 0 | AR128: 8 | AT128: M | AU128: 1 | AY128: ROZPOCET | BE128: =IF(N128="základná",J128,0) -> 0 | BF128: =IF(N128="znížená",J128,0) -> 0 | BG128: =IF(N128="zákl. prenesená",J128,0) -> 0 | BH128: =IF(N128="zníž. prenesená",J128,0) -> 0 | BI128: =IF(N128="nulová",J128,0) -> 0 | BJ128: 2 | BK128: =ROUND(I128*H128,2) -> 0 | BL128: 4 | BM128: -2012571831
C129: 11 | D129: K | E129: 02 | F129: Štrkopiesok frakcia 0-8-16-32 mm - obsyp potrubia a nádrží (ATS+studňa+ NPV+ Potrubia 30 cm nad potrubie )pieskové lôžko pod nádrže | G129: m3 | H129: 321.74 | J129: =ROUND(I129*H129,2) -> 0 | N129: znížená | P129: =O129*H129 -> 0 | Q129: 0 | R129: =Q129*H129 -> 0 | S129: 0 | T129: =S129*H129 -> 0 | AR129: 4 | AT129: K | AU129: 1 | AY129: ROZPOCET | BE129: =IF(N129="základná",J129,0) -> 0 | BF129: =IF(N129="znížená",J129,0) -> 0 | BG129: =IF(N129="zákl. prenesená",J129,0) -> 0 | BH129: =IF(N129="zníž. prenesená",J129,0) -> 0 | BI129: =IF(N129="nulová",J129,0) -> 0 | BJ129: 2 | BK129: =ROUND(I129*H129,2) -> 0 | BL129: 4 | BM129: -876266894
C130: 12 | D130: K | E130: 021 | F130: Potrubie - nerezová oceľ - 42mm; 1,5mm - 6 m | G130: ks | H130: 8 | J130: =ROUND(I130*H130,2) -> 0 | N130: znížená | P130: =O130*H130 -> 0 | Q130: 0 | R130: =Q130*H130 -> 0 | S130: 0 | T130: =S130*H130 -> 0 | AR130: 4 | AT130: K | AU130: 1 | AY130: ROZPOCET | BE130: =IF(N130="základná",J130,0) -> 0 | BF130: =IF(N130="znížená",J130,0) -> 0 | BG130: =IF(N130="zákl. prenesená",J130,0) -> 0 | BH130: =IF(N130="zníž. prenesená",J130,0) -> 0 | BI130: =IF(N130="nulová",J130,0) -> 0 | BJ130: 2 | BK130: =ROUND(I130*H130,2) -> 0 | BL130: 4 | BM130: -2011544337
... C252: 134 | D252: K | E252: 998276101.S | F252: Presun hmôt pre rúrové vedenie hĺbené z rúr z plast., hmôt alebo sklolamin. v otvorenom výkope | G252: t | H252: 25 | J252: =ROUND(I252*H252,2) -> 0 | N252: znížená | P252: =O252*H252 -> 0 | Q252: 0 | R252: =Q252*H252 -> 0 | S252: 0 | T252: =S252*H252 -> 0 | AR252: 4 | AT252: K | AU252: 1 | AY252: ROZPOCET | BE252: =IF(N252="základná",J252,0) -> 0 | BF252: =IF(N252="znížená",J252,0) -> 0 | BG252: =IF(N252="zákl. prenesená",J252,0) -> 0 | BH252: =IF(N252="zníž. prenesená",J252,0) -> 0 | BI252: =IF(N252="nulová",J252,0) -> 0 | BJ252: 2 | BK252: =ROUND(I252*H252,2) -> 0 | BL252: 4 | BM252: 1964791296
C253: 135 | D253: K | E253: 998722201.S | F253: Presun hmôt pre vnútorný vodovod v objektoch výšky do 6 m | G253: % | J253: =ROUND(I253*H253,2) -> 0 | N253: znížená | P253: =O253*H253 -> 0 | Q253: 0 | R253: =Q253*H253 -> 0 | S253: 0 | T253: =S253*H253 -> 0 | AR253: 4 | AT253: K | AU253: 1 | AY253: ROZPOCET | BE253: =IF(N253="základná",J253,0) -> 0 | BF253: =IF(N253="znížená",J253,0) -> 0 | BG253: =IF(N253="zákl. prenesená",J253,0) -> 0 | BH253: =IF(N253="zníž. prenesená",J253,0) -> 0 | BI253: =IF(N253="nulová",J253,0) -> 0 | BJ253: 2 | BK253: =ROUND(I253*H253,2) -> 0 | BL253: 4 | BM253: 1991037482
C254: 136 | D254: K | E254: 998722201.S | F254: Presun hmôt pre vnútorný vodovod v objektoch výšky do 6 m | G254: % | J254: =ROUND(I254*H254,2) -> 0 | N254: znížená | P254: =O254*H254 -> 0 | Q254: 0 | R254: =Q254*H254 -> 0 | S254: 0 | T254: =S254*H254 -> 0 | AR254: 4 | AT254: K | AU254: 1 | AY254: ROZPOCET | BE254: =IF(N254="základná",J254,0) -> 0 | BF254: =IF(N254="znížená",J254,0) -> 0 | BG254: =IF(N254="zákl. prenesená",J254,0) -> 0 | BH254: =IF(N254="zníž. prenesená",J254,0) -> 0 | BI254: =IF(N254="nulová",J254,0) -> 0 | BJ254: 2 | BK254: =ROUND(I254*H254,2) -> 0 | BL254: 4 | BM254: -795445868

Sheet SO-04 - Prípojka NN
L2: >> skryté stĺpce << | AT2: {7aec60a2-0c05-4cf4-875e-41f90ac91def}
AT3: 0
D4: KRYCÍ LIST ROZPOČTU | M4: v --- nižšie sa nachádzajú doplnkové a pomocné údaje k zostavám --- v | AT4: False
D6: Stavba:
E7: ='Rekapitulácia stavby'!K6 -> Chovná hala pre kury s voľným výbehom
D8: Objekt:
E9: SO-04 - Prípojka NN
D11: JKSO: | I11: KS:
D12: Miesto: | F12: Dolné Trhovište 224, 920 61 Dolné Trhovište | I12: Dátum: | J12: ='Rekapitulácia stavby'!AN8 -> 45370
D14: Objednávateľ: | I14: IČO:
E15: FOOD FARM s.r.o., Piešťanská 3, 917 03 Trnava | I15: IČ DPH:
D17: Zhotoviteľ: | I17: IČO: | J17: ='Rekapitulácia stavby'!AN13 -> Vyplň údaj
E18: ='Rekapitulácia stavby'!E14 -> Vyplň údaj | I18: IČ DPH: | J18: ='Rekapitulácia stavby'!AN14 -> Vyplň údaj
D20: Projektant: | I20: IČO:
E21: ALLA ARCHITEKTI | I21: IČ DPH:
D23: Spracovateľ: | I23: IČO:
E24: Stanislav Hlubina | I24: IČ DPH:
D26: Poznámka:
D30: Cena bez DPH | J30: =ROUND(J123, 2) -> 0
F32: Základ dane | I32: Sadzba dane | J32: Výška dane
D33: DPH | E33: základná | F33: =ROUND((SUM(BE123:BE158)), 2) -> 0 | I33: 0.2 | J33: =ROUND(((SUM(BE123:BE158))*I33), 2) -> 0
E34: znížená | F34: =ROUND((SUM(BF123:BF158)), 2) -> 0 | I34: 0.2 | J34: =ROUND(((SUM(BF123:BF158))*I34), 2) -> 0
E35: zákl. prenesená | F35: =ROUND((SUM(BG123:BG158)), 2) -> 0 | I35: 0.2 | J35: =0 -> 0
E36: zníž. prenesená | F36: =ROUND((SUM(BH123:BH158)), 2) -> 0 | I36: 0.2 | J36: =0 -> 0
E37: nulová | F37: =ROUND((SUM(BI123:BI158)), 2) -> 0 | I37: 0 | J37: =0 -> 0
D39: Cena s DPH | G39: v | H39: EUR | J39: =SUM(J30:J37) -> 0
D50: Projektant | G50: Spracovateľ
D61: Dátum a podpis: | F61: Pečiatka | G61: Dátum a podpis: | J61: Pečiatka
D65: Objednávateľ | G65: Zhotoviteľ
D76: Dátum a podpis: | F76: Pečiatka | G76: Dátum a podpis: | J76: Pečiatka
C82: REKAPITULÁCIA ROZPOČTU
C84: Stavba:
E85: =E7 -> Chovná hala pre kury s voľným výbehom
C86: Objekt:
E87: =E9 -> SO-04 - Prípojka NN
C89: Miesto: | F89: =F12 -> Dolné Trhovište 224, 920 61 Dolné Trhovište | I89: Dátum: | J89: =IF(J12="","",J12) -> 45370
C91: Objednávateľ: | F91: =E15 -> FOOD FARM s.r.o., Piešťanská 3, 917 03 Trnava | I91: Projektant: | J91: =E21 -> ALLA ARCHITEKTI
C92: Zhotoviteľ: | F92: =IF(E18="","",E18) -> Vyplň údaj | I92: Spracovateľ: | J92: =E24 -> Stanislav Hlubina
C94: Kód dielu - Popis | J94: Cena celkom [EUR]
C96: Náklady z rozpočtu | J96: =J123 -> 0 | AU96: -1
D97: PSV - Práce a dodávky PSV | J97: =J124 -> 0
D98: 711 - Izolácie proti vode a vlhkosti | J98: =J125 -> 0
D99: M - Práce a dodávky M | J99: =J128 -> 0
D100: 21-M - Elektromontáže | J100: =J129 -> 0
D101: HZS - Hodinové zúčtovacie sadzby | J101: =J144 -> 0
D102: 46-M - Zemné práce vykonávané pri externých montážnych prácach | J102: =J146 -> 0
D103: VRN - Vedľajšie rozpočtové náklady | J103: =J154 -> 0
C110: ROZPOČET
C112: Stavba:
E113: =E7 -> Chovná hala pre kury s voľným výbehom
C114: Objekt:
E115: =E9 -> SO-04 - Prípojka NN
C117: Miesto: | F117: =F12 -> Dolné Trhovište 224, 920 61 Dolné Trhovište | I117: Dátum: | J117: =IF(J12="","",J12) -> 45370
C119: Objednávateľ: | F119: =E15 -> FOOD FARM s.r.o., Piešťanská 3, 917 03 Trnava | I119: Projektant: | J119: =E21 -> ALLA ARCHITEKTI
C120: Zhotoviteľ: | F120: =IF(E18="","",E18) -> Vyplň údaj | I120: Spracovateľ: | J120: =E24 -> Stanislav Hlubina
C122: PČ | D122: Typ | E122: Kód | F122: Popis | G122: MJ | H122: Množstvo | I122: J.cena [EUR] | J122: Cena celkom [EUR] | K122: Cenová sústava | N122: DPH | O122: J. Nh [h] | P122: Nh celkom [h] | Q122: J. hmotnosť [t] | R122: Hmotnosť celkom [t] | S122: J. suť [t] | T122: Suť Celkom [t]
C123: Náklady z rozpočtu | J123: =BK123 -> 0 | P123: =P124+P128+P144+P154 -> 0 | R123: =R124+R128+R144+R154 -> 0 | T123: =T124+T128+T144+T154 -> 0 | AT123: D | AU123: -1 | BK123: =BK124+BK128+BK144+BK154 -> 0
D124: D | E124: PSV | F124: Práce a dodávky PSV | J124: =BK124 -> 0 | P124: =P125 -> 0 | R124: =R125 -> 0 | T124: =T125 -> 0 | AR124: 2 | AT124: D | AU124: 0 | AY124: ROZPOCET | BK124: =BK125 -> 0
D125: D | E125: 711 | F125: Izolácie proti vode a vlhkosti | J125: =BK125 -> 0 | P125: =SUM(P126:P127) -> 0 | R125: =SUM(R126:R127) -> 0 | T125: =SUM(T126:T127) -> 0 | AR125: 2 | AT125: D | AU125: 1 | AY125: ROZPOCET | BK125: =SUM(BK126:BK127) -> 0
C126: 1 | D126: K | E126: 711761302.S | F126: Zhotovenie detailov, uzáver dilatač.škár vodor.gumovou fóliou r.š. 500 mm položenou do asfalt. podkladu | G126: m | H126: 1 | J126: =ROUND(I126*H126,2) -> 0 | N126: znížená | P126: =O126*H126 -> 0 | Q126: 0 | R126: =Q126*H126 -> 0 | S126: 0 | T126: =S126*H126 -> 0 | AR126: 16 | AT126: K | AU126: 2 | AY126: ROZPOCET | BE126: =IF(N126="základná",J126,0) -> 0 | BF126: =IF(N126="znížená",J126,0) -> 0 | BG126: =IF(N126="zákl. prenesená",J126,0) -> 0 | BH126: =IF(N126="zníž. prenesená",J126,0) -> 0 | BI126: =IF(N126="nulová",J126,0) -> 0 | BJ126: 2 | BK126: =ROUND(I126*H126,2) -> 0 | BL126: 16 | BM126: 2001405968
C127: 2 | D127: M | E127: 272440000100.S | F127: Fólia izolačná - etylenpropylenový kaučuk čierna, rozmer šxhr. 300x1,5 mm | G127: m | H127: 0.55 | J127: =ROUND(I127*H127,2) -> 0 | N127: znížená | P127: =O127*H127 -> 0 | Q127: 0 | R127: =Q127*H127 -> 0 | S127: 0 | T127: =S127*H127 -> 0 | AR127: 32 | AT127: M | AU127: 2 | AY127: ROZPOCET | BE127: =IF(N127="základná",J127,0) -> 0 | BF127: =IF(N127="znížená",J127,0) -> 0 | BG127: =IF(N127="zákl. prenesená",J127,0) -> 0 | BH127: =IF(N127="zníž. prenesená",J127,0) -> 0 | BI127: =IF(N127="nulová",J127,0) -> 0 | BJ127: 2 | BK127: =ROUND(I127*H127,2) -> 0 | BL127: 16 | BM127: 1650195946
D128: D | E128: M | F128: Práce a dodávky M | J128: =BK128 -> 0 | P128: =P129 -> 0 | R128: =R129 -> 0 | T128: =T129 -> 0 | AR128: 3 | AT128: D | AU128: 0 | AY128: ROZPOCET | BK128: =BK129 -> 0
D129: D | E129: 21-M | F129: Elektromontáže | J129: =BK129 -> 0 | P129: =SUM(P130:P143) -> 0 | R129: =SUM(R130:R143) -> 0 | T129: =SUM(T130:T143) -> 0 | AR129: 3 | AT129: D | AU129: 1 | AY129: ROZPOCET | BK129: =SUM(BK130:BK143) -> 0
C130: 3 | D130: K | E130: 210010602.S | F130: Chránička delená elektroinštalačná bezhalogénová z HDPE, D 160 uložená voľne | G130: m | H130: 30 | J130: =ROUND(I130*H130,2) -> 0 | N130: znížená | P130: =O130*H130 -> 0 | Q130: 0 | R130: =Q130*H130 -> 0 | S130: 0 | T130: =S130*H130 -> 0 | AR130: 64 | AT130: K | AU130: 2 | AY130: ROZPOCET | BE130: =IF(N130="základná",J130,0) -> 0 | BF130: =IF(N130="znížená",J130,0) -> 0 | BG130: =IF(N130="zákl. prenesená",J130,0) -> 0 | BH130: =IF(N130="zníž. prenesená",J130,0) -> 0 | BI130: =IF(N130="nulová",J130,0) -> 0 | BJ130: 2 | BK130: =ROUND(I130*H130,2) -> 0 | BL130: 64 | BM130: -1736492810
C131: 4 | D131: M | E131: KTR000000885 | F131: Chránička káblová KOPOFLEX 160mm 450N HDPE červená | G131: m | H131: 30 | J131: =ROUND(I131*H131,2) -> 0 | N131: znížená | P131: =O131*H131 -> 0 | Q131: 0 | R131: =Q131*H131 -> 0 | S131: 0 | T131: =S131*H131 -> 0 | AR131: 256 | AT131: M | AU131: 2 | AY131: ROZPOCET | BE131: =IF(N131="základná",J131,0) -> 0 | BF131: =IF(N131="znížená",J131,0) -> 0 | BG131: =IF(N131="zákl. prenesená",J131,0) -> 0 | BH131: =IF(N131="zníž. prenesená",J131,0) -> 0 | BI131: =IF(N131="nulová",J131,0) -> 0 | BJ131: 2 | BK131: =ROUND(I131*H131,2) -> 0 | BL131: 64 | BM131: -1654571904
C132: 5 | D132: K | E132: 210021501 | F132: Tesnenie káblových prestupov zo sadroperlitu | G132: m2 | H132: 0.1 | J132: =ROUND(I132*H132,2) -> 0 | N132: znížená | P132: =O132*H132 -> 0 | Q132: 0 | R132: =Q132*H132 -> 0 | S132: 0 | T132: =S132*H132 -> 0 | AR132: 64 | AT132: K | AU132: 2 | AY132: ROZPOCET | BE132: =IF(N132="základná",J132,0) -> 0 | BF132: =IF(N132="znížená",J132,0) -> 0 | BG132: =IF(N132="zákl. prenesená",J132,0) -> 0 | BH132: =IF(N132="zníž. prenesená",J132,0) -> 0 | BI132: =IF(N132="nulová",J132,0) -> 0 | BJ132: 2 | BK132: =ROUND(I132*H132,2) -> 0 | BL132: 64 | BM132: 1148956423
C133: 6 | D133: M | E133: 286935 | F133: Protipožiarny povlak CP 673 6kg | G133: KS | H133: 0.2 | J133: =ROUND(I133*H133,2) -> 0 | N133: znížená | P133: =O133*H133 -> 0 | Q133: 0 | R133: =Q133*H133 -> 0 | S133: 0 | T133: =S133*H133 -> 0 | AR133: 256 | AT133: M | AU133: 2 | AY133: ROZPOCET | BE133: =IF(N133="základná",J133,0) -> 0 | BF133: =IF(N133="znížená",J133,0) -> 0 | BG133: =IF(N133="zákl. prenesená",J133,0) -> 0 | BH133: =IF(N133="zníž. prenesená",J133,0) -> 0 | BI133: =IF(N133="nulová",J133,0) -> 0 | BJ133: 2 | BK133: =ROUND(I133*H133,2) -> 0 | BL133: 64 | BM133: -347976446
C134: 7 | D134: K | E134: 210100022.S | F134: Ukončenie vodičov v rozvádzač. vrátane zapojenia a vodičovej koncovky do 240 mm2 pre vonkajšie práce | G134: ks | H134: 16 | J134: =ROUND(I134*H134,2) -> 0 | N134: znížená | P134: =O134*H134 -> 0 | Q134: 0 | R134: =Q134*H134 -> 0 | S134: 0 | T134: =S134*H134 -> 0 | AR134: 64 | AT134: K | AU134: 2 | AY134: ROZPOCET | BE134: =IF(N134="základná",J134,0) -> 0 | BF134: =IF(N134="znížená",J134,0) -> 0 | BG134: =IF(N134="zákl. prenesená",J134,0) -> 0 | BH134: =IF(N134="zníž. prenesená",J134,0) -> 0 | BI134: =IF(N134="nulová",J134,0) -> 0 | BJ134: 2 | BK134: =ROUND(I134*H134,2) -> 0 | BL134: 64 | BM134: 1990826412
C135: 8 | D135: M | E135: 354310015000.S | F135: Káblové oko hliníkové lisovacie 240 Al 617210 | G135: ks | H135: 16 | J135: =ROUND(I135*H135,2) -> 0 | N135: znížená | P135: =O135*H135 -> 0 | Q135: 0 | R135: =Q135*H135 -> 0 | S135: 0 | T135: =S135*H135 -> 0 | AR135: 256 | AT135: M | AU135: 2 | AY135: ROZPOCET | BE135: =IF(N135="základná",J135,0) -> 0 | BF135: =IF(N135="znížená",J135,0) -> 0 | BG135: =IF(N135="zákl. prenesená",J135,0) -> 0 | BH135: =IF(N135="zníž. prenesená",J135,0) -> 0 | BI135: =IF(N135="nulová",J135,0) -> 0 | BJ135: 2 | BK135: =ROUND(I135*H135,2) -> 0 | BL135: 64 | BM135: 610233124
C136: 9 | D136: K | E136: 210194053.S | F136: Skriňa RE plastová, trojfázová, jednotarifná 1 odberateľ pre vonkajšie práce | G136: ks | H136: 1 | J136: =ROUND(I136*H136,2) -> 0 | N136: znížená | P136: =O136*H136 -> 0 | Q136: 0 | R136: =Q136*H136 -> 0 | S136: 0 | T136: =S136*H136 -> 0 | AR136: 64 | AT136: K | AU136: 2 | AY136: ROZPOCET | BE136: =IF(N136="základná",J136,0) -> 0 | BF136: =IF(N136="znížená",J136,0) -> 0 | BG136: =IF(N136="zákl. prenesená",J136,0) -> 0 | BH136: =IF(N136="zníž. prenesená",J136,0) -> 0 | BI136: =IF(N136="nulová",J136,0) -> 0 | BJ136: 2 | BK136: =ROUND(I136*H136,2) -> 0 | BL136: 64 | BM136: 191002848
C137: 10 | D137: M | E137: ER P.N, M, V - F663 | F137: Rozvádzač elektromerový ER P.N, M, V - F663 160 A 150/5 A P0 240/240 | G137: ks | H137: 1 | J137: =ROUND(I137*H137,2) -> 0 | N137: znížená | P137: =O137*H137 -> 0 | Q137: 0 | R137: =Q137*H137 -> 0 | S137: 0 | T137: =S137*H137 -> 0 | AR137: 256 | AT137: M | AU137: 2 | AY137: ROZPOCET | BE137: =IF(N137="základná",J137,0) -> 0 | BF137: =IF(N137="znížená",J137,0) -> 0 | BG137: =IF(N137="zákl. prenesená",J137,0) -> 0 | BH137: =IF(N137="zníž. prenesená",J137,0) -> 0 | BI137: =IF(N137="nulová",J137,0) -> 0 | BJ137: 2 | BK137: =ROUND(I137*H137,2) -> 0 | BL137: 64 | BM137: -1098775480
C138: 11 | D138: K | E138: 210220020 | F138: Uzemňovacie vedenie v zemi FeZn vrátane izolácie spojov | G138: m | H138: 20 | J138: =ROUND(I138*H138,2) -> 0 | N138: znížená | P138: =O138*H138 -> 0 | Q138: 0 | R138: =Q138*H138 -> 0 | S138: 0 | T138: =S138*H138 -> 0 | AR138: 64 | AT138: K | AU138: 2 | AY138: ROZPOCET | BE138: =IF(N138="základná",J138,0) -> 0 | BF138: =IF(N138="znížená",J138,0) -> 0 | BG138: =IF(N138="zákl. prenesená",J138,0) -> 0 | BH138: =IF(N138="zníž. prenesená",J138,0) -> 0 | BI138: =IF(N138="nulová",J138,0) -> 0 | BJ138: 2 | BK138: =ROUND(I138*H138,2) -> 0 | BL138: 64 | BM138: 1101836377
C139: 12 | D139: M | E139: 354410058800.S | F139: Pásovina uzemňovacia FeZn 30 x 4 mm | G139: kg | H139: 18.84 | J139: =ROUND(I139*H139,2) -> 0 | N139: znížená | P139: =O139*H139 -> 0 | Q139: 0 | R139: =Q139*H139 -> 0 | S139: 0 | T139: =S139*H139 -> 0 | AR139: 256 | AT139: M | AU139: 2 | AY139: ROZPOCET | BE139: =IF(N139="základná",J139,0) -> 0 | BF139: =IF(N139="znížená",J139,0) -> 0 | BG139: =IF(N139="zákl. prenesená",J139,0) -> 0 | BH139: =IF(N139="zníž. prenesená",J139,0) -> 0 | BI139: =IF(N139="nulová",J139,0) -> 0 | BJ139: 2 | BK139: =ROUND(I139*H139,2) -> 0 | BL139: 64 | BM139: 1897008000
C140: 13 | D140: K | E140: 210800119.S | F140: Kábel medený uložený voľne CYKY 450/750 V 5x1,5 | G140: m | H140: 240 | J140: =ROUND(I140*H140,2) -> 0 | N140: znížená | P140: =O140*H140 -> 0 | Q140: 0 | R140: =Q140*H140 -> 0 | S140: 0 | T140: =S140*H140 -> 0 | AR140: 64 | AT140: K | AU140: 2 | AY140: ROZPOCET | BE140: =IF(N140="základná",J140,0) -> 0 | BF140: =IF(N140="znížená",J140,0) -> 0 | BG140: =IF(N140="zákl. prenesená",J140,0) -> 0 | BH140: =IF(N140="zníž. prenesená",J140,0) -> 0 | BI140: =IF(N140="nulová",J140,0) -> 0 | BJ140: 2 | BK140: =ROUND(I140*H140,2) -> 0 | BL140: 64 | BM140: -22750338
C141: 14 | D141: M | E141: 341110001900.S | F141: Kábel medený CYKY 5x1,5 mm2 | G141: m | H141: 240 | J141: =ROUND(I141*H141,2) -> 0 | N141: znížená | P141: =O141*H141 -> 0 | Q141: 0 | R141: =Q141*H141 -> 0 | S141: 0 | T141: =S141*H141 -> 0 | AR141: 256 | AT141: M | AU141: 2 | AY141: ROZPOCET | BE141: =IF(N141="základná",J141,0) -> 0 | BF141: =IF(N141="znížená",J141,0) -> 0 | BG141: =IF(N141="zákl. prenesená",J141,0) -> 0 | BH141: =IF(N141="zníž. prenesená",J141,0) -> 0 | BI141: =IF(N141="nulová",J141,0) -> 0 | BJ141: 2 | BK141: =ROUND(I141*H141,2) -> 0 | BL141: 64 | BM141: -2047252877
... C143: 16 | D143: M | E143: 341110034600.S | F143: Kábel hliníkový NAYY 4x240 SM mm2 | G143: m | H143: 280 | J143: =ROUND(I143*H143,2) -> 0 | N143: znížená | P143: =O143*H143 -> 0 | Q143: 0 | R143: =Q143*H143 -> 0 | S143: 0 | T143: =S143*H143 -> 0 | AR143: 256 | AT143: M | AU143: 2 | AY143: ROZPOCET | BE143: =IF(N143="základná",J143,0) -> 0 | BF143: =IF(N143="znížená",J143,0) -> 0 | BG143: =IF(N143="zákl. prenesená",J143,0) -> 0 | BH143: =IF(N143="zníž. prenesená",J143,0) -> 0 | BI143: =IF(N143="nulová",J143,0) -> 0 | BJ143: 2 | BK143: =ROUND(I143*H143,2) -> 0 | BL143: 64 | BM143: -1079465369
D144: D | E144: HZS | F144: Hodinové zúčtovacie sadzby | J144: =BK144 -> 0 | P144: =P145+P146 -> 0 | R144: =R145+R146 -> 0 | T144: =T145+T146 -> 0 | AR144: 4 | AT144: D | AU144: 0 | AY144: ROZPOCET | BK144: =BK145+BK146 -> 0
C145: 17 | D145: K | E145: HZS000111.S | F145: Stavebno montážne práce menej náročne, pomocné alebo manupulačné (Tr. 1) v rozsahu viac ako 8 hodín | G145: hod | H145: 16 | J145: =ROUND(I145*H145,2) -> 0 | N145: znížená | P145: =O145*H145 -> 0 | Q145: 0 | R145: =Q145*H145 -> 0 | S145: 0 | T145: =S145*H145 -> 0 | AR145: 262144 | AT145: K | AU145: 1 | AY145: ROZPOCET | BE145: =IF(N145="základná",J145,0) -> 0 | BF145: =IF(N145="znížená",J145,0) -> 0 | BG145: =IF(N145="zákl. prenesená",J145,0) -> 0 | BH145: =IF(N145="zníž. prenesená",J145,0) -> 0 | BI145: =IF(N145="nulová",J145,0) -> 0 | BJ145: 2 | BK145: =ROUND(I145*H145,2) -> 0 | BL145: 262144 | BM145: -1253978788
D146: D | E146: 46-M | F146: Zemné práce vykonávané pri externých montážnych prácach | J146: =BK146 -> 0 | P146: =SUM(P147:P153) -> 0 | R146: =SUM(R147:R153) -> 0 | T146: =SUM(T147:T153) -> 0 | AR146: 3 | AT146: D | AU146: 1 | AY146: ROZPOCET | BK146: =SUM(BK147:BK153) -> 0
C147: 18 | D147: K | E147: 460200314.S | F147: Hĺbenie káblovej ryhy ručne 50 cm širokej a 130 cm hlbokej, v zemine triedy 4 | G147: m | H147: 280 | J147: =ROUND(I147*H147,2) -> 0 | N147: znížená | P147: =O147*H147 -> 0 | Q147: 0 | R147: =Q147*H147 -> 0 | S147: 0 | T147: =S147*H147 -> 0 | AR147: 64 | AT147: K | AU147: 2 | AY147: ROZPOCET | BE147: =IF(N147="základná",J147,0) -> 0 | BF147: =IF(N147="znížená",J147,0) -> 0 | BG147: =IF(N147="zákl. prenesená",J147,0) -> 0 | BH147: =IF(N147="zníž. prenesená",J147,0) -> 0 | BI147: =IF(N147="nulová",J147,0) -> 0 | BJ147: 2 | BK147: =ROUND(I147*H147,2) -> 0 | BL147: 64 | BM147: 651725232
C148: 19 | D148: K | E148: 460420022 | F148: Zriadenie, rekonšt. káblového lôžka z piesku bez zakrytia, v ryhe šír. do 65 cm, hrúbky vrstvy 10 cm | G148: m | H148: 280 | J148: =ROUND(I148*H148,2) -> 0 | N148: znížená | P148: =O148*H148 -> 0 | Q148: 0 | R148: =Q148*H148 -> 0 | S148: 0 | T148: =S148*H148 -> 0 | AR148: 64 | AT148: K | AU148: 2 | AY148: ROZPOCET | BE148: =IF(N148="základná",J148,0) -> 0 | BF148: =IF(N148="znížená",J148,0) -> 0 | BG148: =IF(N148="zákl. prenesená",J148,0) -> 0 | BH148: =IF(N148="zníž. prenesená",J148,0) -> 0 | BI148: =IF(N148="nulová",J148,0) -> 0 | BJ148: 2 | BK148: =ROUND(I148*H148,2) -> 0 | BL148: 64 | BM148: 81850152
C149: 20 | D149: M | E149: 583110000300 | F149: Drvina vápencová frakcia 0-4 mm | G149: t | H149: 29.12 | J149: =ROUND(I149*H149,2) -> 0 | N149: znížená | P149: =O149*H149 -> 0 | Q149: 0 | R149: =Q149*H149 -> 0 | S149: 0 | T149: =S149*H149 -> 0 | AR149: 256 | AT149: M | AU149: 2 | AY149: ROZPOCET | BE149: =IF(N149="základná",J149,0) -> 0 | BF149: =IF(N149="znížená",J149,0) -> 0 | BG149: =IF(N149="zákl. prenesená",J149,0) -> 0 | BH149: =IF(N149="zníž. prenesená",J149,0) -> 0 | BI149: =IF(N149="nulová",J149,0) -> 0 | BJ149: 2 | BK149: =ROUND(I149*H149,2) -> 0 | BL149: 64 | BM149: 1501514297
C150: 21 | D150: K | E150: 460490012 | F150: Rozvinutie a uloženie výstražnej fólie z PVC do ryhy, šírka do 33 cm | G150: m | H150: 280 | J150: =ROUND(I150*H150,2) -> 0 | N150: znížená | P150: =O150*H150 -> 0 | Q150: 0 | R150: =Q150*H150 -> 0 | S150: 0 | T150: =S150*H150 -> 0 | AR150: 64 | AT150: K | AU150: 2 | AY150: ROZPOCET | BE150: =IF(N150="základná",J150,0) -> 0 | BF150: =IF(N150="znížená",J150,0) -> 0 | BG150: =IF(N150="zákl. prenesená",J150,0) -> 0 | BH150: =IF(N150="zníž. prenesená",J150,0) -> 0 | BI150: =IF(N150="nulová",J150,0) -> 0 | BJ150: 2 | BK150: =ROUND(I150*H150,2) -> 0 | BL150: 64 | BM150: -820569783
C151: 22 | D151: M | E151: 283230008000 | F151: Výstražná fóla PE, šxhr 300x0,1 mm, dĺ. 250 m, farba červená, HAGARD | G151: m | H151: 280 | J151: =ROUND(I151*H151,2) -> 0 | N151: znížená | P151: =O151*H151 -> 0 | Q151: 0 | R151: =Q151*H151 -> 0 | S151: 0 | T151: =S151*H151 -> 0 | AR151: 256 | AT151: M | AU151: 2 | AY151: ROZPOCET | BE151: =IF(N151="základná",J151,0) -> 0 | BF151: =IF(N151="znížená",J151,0) -> 0 | BG151: =IF(N151="zákl. prenesená",J151,0) -> 0 | BH151: =IF(N151="zníž. prenesená",J151,0) -> 0 | BI151: =IF(N151="nulová",J151,0) -> 0 | BJ151: 2 | BK151: =ROUND(I151*H151,2) -> 0 | BL151: 64 | BM151: -1818226795
C152: 23 | D152: K | E152: 460560434.S | F152: Ručný zásyp nezap. káblovej ryhy bez zhutn. zeminy, 55 cm širokej, 80 cm hlbokej v zemine tr. 4 | G152: m | H152: 280 | J152: =ROUND(I152*H152,2) -> 0 | N152: znížená | P152: =O152*H152 -> 0 | Q152: 0 | R152: =Q152*H152 -> 0 | S152: 0 | T152: =S152*H152 -> 0 | AR152: 64 | AT152: K | AU152: 2 | AY152: ROZPOCET | BE152: =IF(N152="základná",J152,0) -> 0 | BF152: =IF(N152="znížená",J152,0) -> 0 | BG152: =IF(N152="zákl. prenesená",J152,0) -> 0 | BH152: =IF(N152="zníž. prenesená",J152,0) -> 0 | BI152: =IF(N152="nulová",J152,0) -> 0 | BJ152: 2 | BK152: =ROUND(I152*H152,2) -> 0 | BL152: 64 | BM152: 705021151
C153: 24 | D153: K | E153: 460620013 | F153: Proviz. úprava terénu v zemine tr. 3, aby nerovnosti terénu neboli väčšie ako 2 cm od vodor.hladiny | G153: m2 | H153: 150 | J153: =ROUND(I153*H153,2) -> 0 | N153: znížená | P153: =O153*H153 -> 0 | Q153: 0 | R153: =Q153*H153 -> 0 | S153: 0 | T153: =S153*H153 -> 0 | AR153: 64 | AT153: K | AU153: 2 | AY153: ROZPOCET | BE153: =IF(N153="základná",J153,0) -> 0 | BF153: =IF(N153="znížená",J153,0) -> 0 | BG153: =IF(N153="zákl. prenesená",J153,0) -> 0 | BH153: =IF(N153="zníž. prenesená",J153,0) -> 0 | BI153: =IF(N153="nulová",J153,0) -> 0 | BJ153: 2 | BK153: =ROUND(I153*H153,2) -> 0 | BL153: 64 | BM153: 908615637
D154: D | E154: VRN | F154: Vedľajšie rozpočtové náklady | J154: =BK154 -> 0 | P154: =SUM(P155:P158) -> 0 | R154: =SUM(R155:R158) -> 0 | T154: =SUM(T155:T158) -> 0 | AR154: 5 | AT154: D | AU154: 0 | AY154: ROZPOCET | BK154: =SUM(BK155:BK158) -> 0
C155: 25 | D155: K | E155: 000400022 | F155: Projektové práce - stavebná časť (stavebné objekty vrátane ich technického vybavenia). náklady na dokumentáciu skutočného zhotovenia stavby | G155: eur | H155: 1 | J155: =ROUND(I155*H155,2) -> 0 | N155: znížená | P155: =O155*H155 -> 0 | Q155: 0 | R155: =Q155*H155 -> 0 | S155: 0 | T155: =S155*H155 -> 0 | AR155: 4 | AT155: K | AU155: 1 | AY155: ROZPOCET | BE155: =IF(N155="základná",J155,0) -> 0 | BF155: =IF(N155="znížená",J155,0) -> 0 | BG155: =IF(N155="zákl. prenesená",J155,0) -> 0 | BH155: =IF(N155="zníž. prenesená",J155,0) -> 0 | BI155: =IF(N155="nulová",J155,0) -> 0 | BJ155: 2 | BK155: =ROUND(I155*H155,2) -> 0 | BL155: 4 | BM155: -1157364905
C156: 26 | D156: K | E156: 000700011 | F156: Dopravné náklady - mimostavenisková doprava objektivizácia dopravných nákladov materiálov | G156: eur | H156: 1 | J156: =ROUND(I156*H156,2) -> 0 | N156: znížená | P156: =O156*H156 -> 0 | Q156: 0 | R156: =Q156*H156 -> 0 | S156: 0 | T156: =S156*H156 -> 0 | AR156: 4 | AT156: K | AU156: 1 | AY156: ROZPOCET | BE156: =IF(N156="základná",J156,0) -> 0 | BF156: =IF(N156="znížená",J156,0) -> 0 | BG156: =IF(N156="zákl. prenesená",J156,0) -> 0 | BH156: =IF(N156="zníž. prenesená",J156,0) -> 0 | BI156: =IF(N156="nulová",J156,0) -> 0 | BJ156: 2 | BK156: =ROUND(I156*H156,2) -> 0 | BL156: 4 | BM156: -463253098
C157: 27 | D157: K | E157: 001000034 | F157: Inžinierska činnosť - skúšky a revízie ostatné skúšky | G157: eur | H157: 1 | J157: =ROUND(I157*H157,2) -> 0 | N157: znížená | P157: =O157*H157 -> 0 | Q157: 0 | R157: =Q157*H157 -> 0 | S157: 0 | T157: =S157*H157 -> 0 | AR157: 4 | AT157: K | AU157: 1 | AY157: ROZPOCET | BE157: =IF(N157="základná",J157,0) -> 0 | BF157: =IF(N157="znížená",J157,0) -> 0 | BG157: =IF(N157="zákl. prenesená",J157,0) -> 0 | BH157: =IF(N157="zníž. prenesená",J157,0) -> 0 | BI157: =IF(N157="nulová",J157,0) -> 0 | BJ157: 2 | BK157: =ROUND(I157*H157,2) -> 0 | BL157: 4 | BM157: 1530413821
C158: 28 | D158: K | E158: 001000034.S | F158: Inžinierska činnosť - typová skúška rozvádzača | G158: eur | H158: 1 | J158: =ROUND(I158*H158,2) -> 0 | N158: znížená | P158: =O158*H158 -> 0 | Q158: 0 | R158: =Q158*H158 -> 0 | S158: 0 | T158: =S158*H158 -> 0 | AR158: 4 | AT158: K | AU158: 1 | AY158: ROZPOCET | BE158: =IF(N158="základná",J158,0) -> 0 | BF158: =IF(N158="znížená",J158,0) -> 0 | BG158: =IF(N158="zákl. prenesená",J158,0) -> 0 | BH158: =IF(N158="zníž. prenesená",J158,0) -> 0 | BI158: =IF(N158="nulová",J158,0) -> 0 | BJ158: 2 | BK158: =ROUND(I158*H158,2) -> 0 | BL158: 4 | BM158: 1876780763

Sheet SO-05 - Záložný dieselagr...
L2: >> skryté stĺpce << | AT2: {7feb4038-1750-42d8-b7dd-5e4c302c0040}
AT3: 0
D4: KRYCÍ LIST ROZPOČTU | M4: v --- nižšie sa nachádzajú doplnkové a pomocné údaje k zostavám --- v | AT4: False
D6: Stavba:
E7: ='Rekapitulácia stavby'!K6 -> Chovná hala pre kury s voľným výbehom
D8: Objekt:
E9: SO-05 - Záložný dieselagregát
D11: JKSO: | I11: KS:
D12: Miesto: | F12: Dolné Trhovište 224, 920 61 Dolné Trhovište | I12: Dátum: | J12: ='Rekapitulácia stavby'!AN8 -> 45370
D14: Objednávateľ: | I14: IČO:
E15: FOOD FARM s.r.o., Piešťanská 3, 917 03 Trnava | I15: IČ DPH:
D17: Zhotoviteľ: | I17: IČO: | J17: ='Rekapitulácia stavby'!AN13 -> Vyplň údaj
E18: ='Rekapitulácia stavby'!E14 -> Vyplň údaj | I18: IČ DPH: | J18: ='Rekapitulácia stavby'!AN14 -> Vyplň údaj
D20: Projektant: | I20: IČO:
E21: ALLA ARCHITEKTI | I21: IČ DPH:
D23: Spracovateľ: | I23: IČO:
E24: Stanislav Hlubina | I24: IČ DPH:
D26: Poznámka:
D30: Cena bez DPH | J30: =ROUND(J124, 2) -> 0
F32: Základ dane | I32: Sadzba dane | J32: Výška dane
D33: DPH | E33: základná | F33: =ROUND((SUM(BE124:BE199)), 2) -> 0 | I33: 0.2 | J33: =ROUND(((SUM(BE124:BE199))*I33), 2) -> 0
E34: znížená | F34: =ROUND((SUM(BF124:BF199)), 2) -> 0 | I34: 0.2 | J34: =ROUND(((SUM(BF124:BF199))*I34), 2) -> 0
E35: zákl. prenesená | F35: =ROUND((SUM(BG124:BG199)), 2) -> 0 | I35: 0.2 | J35: =0 -> 0
E36: zníž. prenesená | F36: =ROUND((SUM(BH124:BH199)), 2) -> 0 | I36: 0.2 | J36: =0 -> 0
E37: nulová | F37: =ROUND((SUM(BI124:BI199)), 2) -> 0 | I37: 0 | J37: =0 -> 0
D39: Cena s DPH | G39: v | H39: EUR | J39: =SUM(J30:J37) -> 0
D50: Projektant | G50: Spracovateľ
D61: Dátum a podpis: | F61: Pečiatka | G61: Dátum a podpis: | J61: Pečiatka
D65: Objednávateľ | G65: Zhotoviteľ
D76: Dátum a podpis: | F76: Pečiatka | G76: Dátum a podpis: | J76: Pečiatka
C82: REKAPITULÁCIA ROZPOČTU
C84: Stavba:
E85: =E7 -> Chovná hala pre kury s voľným výbehom
C86: Objekt:
E87: =E9 -> SO-05 - Záložný dieselagregát
C89: Miesto: | F89: =F12 -> Dolné Trhovište 224, 920 61 Dolné Trhovište | I89: Dátum: | J89: =IF(J12="","",J12) -> 45370
C91: Objednávateľ: | F91: =E15 -> FOOD FARM s.r.o., Piešťanská 3, 917 03 Trnava | I91: Projektant: | J91: =E21 -> ALLA ARCHITEKTI
C92: Zhotoviteľ: | F92: =IF(E18="","",E18) -> Vyplň údaj | I92: Spracovateľ: | J92: =E24 -> Stanislav Hlubina
C94: Kód dielu - Popis | J94: Cena celkom [EUR]
C96: Náklady z rozpočtu | J96: =J124 -> 0 | AU96: -1
D97: PSV - Práce a dodávky PSV | J97: =J125 -> 0
D98: 711 - Izolácie proti vode a vlhkosti | J98: =J126 -> 0
D99: M - Práce a dodávky M | J99: =J129 -> 0
D100: 21-M - Elektromontáže | J100: =J130 -> 0
D101: 22-M - Montáže oznamovacích a zabezpečovacích zariadení | J101: =J178 -> 0
D102: HZS - Hodinové zúčtovacie sadzby | J102: =J182 -> 0
D103: 46-M - Zemné práce vykonávané pri externých montážnych prácach | J103: =J185 -> 0
D104: VRN - Vedľajšie rozpočtové náklady | J104: =J193 -> 0
C111: ROZPOČET
C113: Stavba:
E114: =E7 -> Chovná hala pre kury s voľným výbehom
C115: Objekt:
E116: =E9 -> SO-05 - Záložný dieselagregát
C118: Miesto: | F118: =F12 -> Dolné Trhovište 224, 920 61 Dolné Trhovište | I118: Dátum: | J118: =IF(J12="","",J12) -> 45370
C120: Objednávateľ: | F120: =E15 -> FOOD FARM s.r.o., Piešťanská 3, 917 03 Trnava | I120: Projektant: | J120: =E21 -> ALLA ARCHITEKTI
C121: Zhotoviteľ: | F121: =IF(E18="","",E18) -> Vyplň údaj | I121: Spracovateľ: | J121: =E24 -> Stanislav Hlubina
C123: PČ | D123: Typ | E123: Kód | F123: Popis | G123: MJ | H123: Množstvo | I123: J.cena [EUR] | J123: Cena celkom [EUR] | K123: Cenová sústava | N123: DPH | O123: J. Nh [h] | P123: Nh celkom [h] | Q123: J. hmotnosť [t] | R123: Hmotnosť celkom [t] | S123: J. suť [t] | T123: Suť Celkom [t]
C124: Náklady z rozpočtu | J124: =BK124 -> 0 | P124: =P125+P129+P182+P193 -> 0 | R124: =R125+R129+R182+R193 -> 0 | T124: =T125+T129+T182+T193 -> 0 | AT124: D | AU124: -1 | BK124: =BK125+BK129+BK182+BK193 -> 0
D125: D | E125: PSV | F125: Práce a dodávky PSV | J125: =BK125 -> 0 | P125: =P126 -> 0 | R125: =R126 -> 0 | T125: =T126 -> 0 | AR125: 2 | AT125: D | AU125: 0 | AY125: ROZPOCET | BK125: =BK126 -> 0
D126: D | E126: 711 | F126: Izolácie proti vode a vlhkosti | J126: =BK126 -> 0 | P126: =SUM(P127:P128) -> 0 | R126: =SUM(R127:R128) -> 0 | T126: =SUM(T127:T128) -> 0 | AR126: 2 | AT126: D | AU126: 1 | AY126: ROZPOCET | BK126: =SUM(BK127:BK128) -> 0
C127: 1 | D127: K | E127: 711761302.S | F127: Zhotovenie detailov, uzáver dilatač.škár vodor.gumovou fóliou r.š. 500 mm položenou do asfalt. podkladu | G127: m | H127: 2 | J127: =ROUND(I127*H127,2) -> 0 | N127: znížená | P127: =O127*H127 -> 0 | Q127: 0 | R127: =Q127*H127 -> 0 | S127: 0 | T127: =S127*H127 -> 0 | AR127: 16 | AT127: K | AU127: 2 | AY127: ROZPOCET | BE127: =IF(N127="základná",J127,0) -> 0 | BF127: =IF(N127="znížená",J127,0) -> 0 | BG127: =IF(N127="zákl. prenesená",J127,0) -> 0 | BH127: =IF(N127="zníž. prenesená",J127,0) -> 0 | BI127: =IF(N127="nulová",J127,0) -> 0 | BJ127: 2 | BK127: =ROUND(I127*H127,2) -> 0 | BL127: 16 | BM127: -189416953
C128: 2 | D128: M | E128: 272440000100.S | F128: Fólia izolačná - etylenpropylenový kaučuk čierna, rozmer šxhr. 300x1,5 mm | G128: m | H128: 1.1 | J128: =ROUND(I128*H128,2) -> 0 | N128: znížená | P128: =O128*H128 -> 0 | Q128: 0 | R128: =Q128*H128 -> 0 | S128: 0 | T128: =S128*H128 -> 0 | AR128: 32 | AT128: M | AU128: 2 | AY128: ROZPOCET | BE128: =IF(N128="základná",J128,0) -> 0 | BF128: =IF(N128="znížená",J128,0) -> 0 | BG128: =IF(N128="zákl. prenesená",J128,0) -> 0 | BH128: =IF(N128="zníž. prenesená",J128,0) -> 0 | BI128: =IF(N128="nulová",J128,0) -> 0 | BJ128: 2 | BK128: =ROUND(I128*H128,2) -> 0 | BL128: 16 | BM128: -1722764497
D129: D | E129: M | F129: Práce a dodávky M | J129: =BK129 -> 0 | P129: =P130+P178 -> 0 | R129: =R130+R178 -> 0 | T129: =T130+T178 -> 0 | AR129: 3 | AT129: D | AU129: 0 | AY129: ROZPOCET | BK129: =BK130+BK178 -> 0
D130: D | E130: 21-M | F130: Elektromontáže | J130: =BK130 -> 0 | P130: =SUM(P131:P177) -> 0 | R130: =SUM(R131:R177) -> 0 | T130: =SUM(T131:T177) -> 0 | AR130: 3 | AT130: D | AU130: 1 | AY130: ROZPOCET | BK130: =SUM(BK131:BK177) -> 0
C131: 3 | D131: K | E131: 210010602.S | F131: Chránička delená elektroinštalačná bezhalogénová z HDPE, D 160 uložená voľne | G131: m | H131: 20 | J131: =ROUND(I131*H131,2) -> 0 | N131: znížená | P131: =O131*H131 -> 0 | Q131: 0 | R131: =Q131*H131 -> 0 | S131: 0 | T131: =S131*H131 -> 0 | AR131: 64 | AT131: K | AU131: 2 | AY131: ROZPOCET | BE131: =IF(N131="základná",J131,0) -> 0 | BF131: =IF(N131="znížená",J131,0) -> 0 | BG131: =IF(N131="zákl. prenesená",J131,0) -> 0 | BH131: =IF(N131="zníž. prenesená",J131,0) -> 0 | BI131: =IF(N131="nulová",J131,0) -> 0 | BJ131: 2 | BK131: =ROUND(I131*H131,2) -> 0 | BL131: 64 | BM131: 1653360050
C132: 4 | D132: M | E132: KTR000000885 | F132: Chránička káblová KOPOFLEX 160mm 450N HDPE červená | G132: m | H132: 20 | J132: =ROUND(I132*H132,2) -> 0 | N132: znížená | P132: =O132*H132 -> 0 | Q132: 0 | R132: =Q132*H132 -> 0 | S132: 0 | T132: =S132*H132 -> 0 | AR132: 256 | AT132: M | AU132: 2 | AY132: ROZPOCET | BE132: =IF(N132="základná",J132,0) -> 0 | BF132: =IF(N132="znížená",J132,0) -> 0 | BG132: =IF(N132="zákl. prenesená",J132,0) -> 0 | BH132: =IF(N132="zníž. prenesená",J132,0) -> 0 | BI132: =IF(N132="nulová",J132,0) -> 0 | BJ132: 2 | BK132: =ROUND(I132*H132,2) -> 0 | BL132: 64 | BM132: 28479676
C133: 5 | D133: K | E133: 210021501 | F133: Tesnenie káblových prestupov zo sadroperlitu | G133: m2 | H133: 0.2 | J133: =ROUND(I133*H133,2) -> 0 | N133: znížená | P133: =O133*H133 -> 0 | Q133: 0 | R133: =Q133*H133 -> 0 | S133: 0 | T133: =S133*H133 -> 0 | AR133: 64 | AT133: K | AU133: 2 | AY133: ROZPOCET | BE133: =IF(N133="základná",J133,0) -> 0 | BF133: =IF(N133="znížená",J133,0) -> 0 | BG133: =IF(N133="zákl. prenesená",J133,0) -> 0 | BH133: =IF(N133="zníž. prenesená",J133,0) -> 0 | BI133: =IF(N133="nulová",J133,0) -> 0 | BJ133: 2 | BK133: =ROUND(I133*H133,2) -> 0 | BL133: 64 | BM133: 1180698899
C134: 6 | D134: M | E134: 286935 | F134: Protipožiarny povlak CP 673 6kg | G134: KS | H134: 0.4 | J134: =ROUND(I134*H134,2) -> 0 | N134: znížená | P134: =O134*H134 -> 0 | Q134: 0 | R134: =Q134*H134 -> 0 | S134: 0 | T134: =S134*H134 -> 0 | AR134: 256 | AT134: M | AU134: 2 | AY134: ROZPOCET | BE134: =IF(N134="základná",J134,0) -> 0 | BF134: =IF(N134="znížená",J134,0) -> 0 | BG134: =IF(N134="zákl. prenesená",J134,0) -> 0 | BH134: =IF(N134="zníž. prenesená",J134,0) -> 0 | BI134: =IF(N134="nulová",J134,0) -> 0 | BJ134: 2 | BK134: =ROUND(I134*H134,2) -> 0 | BL134: 64 | BM134: -173540843
C135: 7 | D135: K | E135: 210100022.S | F135: Ukončenie vodičov v rozvádzač. vrátane zapojenia a vodičovej koncovky do 240 mm2 pre vonkajšie práce | G135: ks | H135: 8 | J135: =ROUND(I135*H135,2) -> 0 | N135: znížená | P135: =O135*H135 -> 0 | Q135: 0 | R135: =Q135*H135 -> 0 | S135: 0 | T135: =S135*H135 -> 0 | AR135: 64 | AT135: K | AU135: 2 | AY135: ROZPOCET | BE135: =IF(N135="základná",J135,0) -> 0 | BF135: =IF(N135="znížená",J135,0) -> 0 | BG135: =IF(N135="zákl. prenesená",J135,0) -> 0 | BH135: =IF(N135="zníž. prenesená",J135,0) -> 0 | BI135: =IF(N135="nulová",J135,0) -> 0 | BJ135: 2 | BK135: =ROUND(I135*H135,2) -> 0 | BL135: 64 | BM135: -405374898
C136: 8 | D136: M | E136: 354310015000.S | F136: Káblové oko hliníkové lisovacie 240 Al 617210 | G136: ks | H136: 8 | J136: =ROUND(I136*H136,2) -> 0 | N136: znížená | P136: =O136*H136 -> 0 | Q136: 0 | R136: =Q136*H136 -> 0 | S136: 0 | T136: =S136*H136 -> 0 | AR136: 256 | AT136: M | AU136: 2 | AY136: ROZPOCET | BE136: =IF(N136="základná",J136,0) -> 0 | BF136: =IF(N136="znížená",J136,0) -> 0 | BG136: =IF(N136="zákl. prenesená",J136,0) -> 0 | BH136: =IF(N136="zníž. prenesená",J136,0) -> 0 | BI136: =IF(N136="nulová",J136,0) -> 0 | BJ136: 2 | BK136: =ROUND(I136*H136,2) -> 0 | BL136: 64 | BM136: -280617222
C137: 9 | D137: K | E137: 210190003 | F137: Montáž a zapojenie rozvádzača RDG1 | G137: ks | H137: 1 | J137: =ROUND(I137*H137,2) -> 0 | N137: znížená | P137: =O137*H137 -> 0 | Q137: 0 | R137: =Q137*H137 -> 0 | S137: 0 | T137: =S137*H137 -> 0 | AR137: 64 | AT137: K | AU137: 2 | AY137: ROZPOCET | BE137: =IF(N137="základná",J137,0) -> 0 | BF137: =IF(N137="znížená",J137,0) -> 0 | BG137: =IF(N137="zákl. prenesená",J137,0) -> 0 | BH137: =IF(N137="zníž. prenesená",J137,0) -> 0 | BI137: =IF(N137="nulová",J137,0) -> 0 | BJ137: 2 | BK137: =ROUND(I137*H137,2) -> 0 | BL137: 64 | BM137: -1238313387
C138: 10 | D138: M | E138: 168338 | F138: Rozvádzač RDG1 | G138: ks | H138: 1 | J138: =ROUND(I138*H138,2) -> 0 | N138: znížená | P138: =O138*H138 -> 0 | Q138: 0 | R138: =Q138*H138 -> 0 | S138: 0 | T138: =S138*H138 -> 0 | AR138: 256 | AT138: M | AU138: 2 | AY138: ROZPOCET | BE138: =IF(N138="základná",J138,0) -> 0 | BF138: =IF(N138="znížená",J138,0) -> 0 | BG138: =IF(N138="zákl. prenesená",J138,0) -> 0 | BH138: =IF(N138="zníž. prenesená",J138,0) -> 0 | BI138: =IF(N138="nulová",J138,0) -> 0 | BJ138: 2 | BK138: =ROUND(I138*H138,2) -> 0 | BL138: 64 | BM138: -1031503582
C139: 11 | D139: K | E139: 210220001.S | F139: Uzemňovacie vedenie na povrchu FeZn drôt zvodový Ø 8-10 | G139: m | H139: 10 | J139: =ROUND(I139*H139,2) -> 0 | N139: znížená | P139: =O139*H139 -> 0 | Q139: 0 | R139: =Q139*H139 -> 0 | S139: 0 | T139: =S139*H139 -> 0 | AR139: 64 | AT139: K | AU139: 2 | AY139: ROZPOCET | BE139: =IF(N139="základná",J139,0) -> 0 | BF139: =IF(N139="znížená",J139,0) -> 0 | BG139: =IF(N139="zákl. prenesená",J139,0) -> 0 | BH139: =IF(N139="zníž. prenesená",J139,0) -> 0 | BI139: =IF(N139="nulová",J139,0) -> 0 | BJ139: 2 | BK139: =ROUND(I139*H139,2) -> 0 | BL139: 64 | BM139: -224471034
C140: 12 | D140: M | E140: 354410054700.S | F140: Drôt bleskozvodový FeZn, d 8 mm | G140: kg | H140: 4 | J140: =ROUND(I140*H140,2) -> 0 | N140: znížená | P140: =O140*H140 -> 0 | Q140: 0 | R140: =Q140*H140 -> 0 | S140: 0 | T140: =S140*H140 -> 0 | AR140: 256 | AT140: M | AU140: 2 | AY140: ROZPOCET | BE140: =IF(N140="základná",J140,0) -> 0 | BF140: =IF(N140="znížená",J140,0) -> 0 | BG140: =IF(N140="zákl. prenesená",J140,0) -> 0 | BH140: =IF(N140="zníž. prenesená",J140,0) -> 0 | BI140: =IF(N140="nulová",J140,0) -> 0 | BJ140: 2 | BK140: =ROUND(I140*H140,2) -> 0 | BL140: 64 | BM140: 1125227472
C141: 13 | D141: K | E141: 210220020 | F141: Uzemňovacie vedenie v zemi FeZn vrátane izolácie spojov | G141: m | H141: 60 | J141: =ROUND(I141*H141,2) -> 0 | N141: znížená | P141: =O141*H141 -> 0 | Q141: 0 | R141: =Q141*H141 -> 0 | S141: 0 | T141: =S141*H141 -> 0 | AR141: 64 | AT141: K | AU141: 2 | AY141: ROZPOCET | BE141: =IF(N141="základná",J141,0) -> 0 | BF141: =IF(N141="znížená",J141,0) -> 0 | BG141: =IF(N141="zákl. prenesená",J141,0) -> 0 | BH141: =IF(N141="zníž. prenesená",J141,0) -> 0 | BI141: =IF(N141="nulová",J141,0) -> 0 | BJ141: 2 | BK141: =ROUND(I141*H141,2) -> 0 | BL141: 64 | BM141: -197539925
C142: 14 | D142: M | E142: 354410058800.S | F142: Pásovina uzemňovacia FeZn 30 x 4 mm | G142: kg | H142: 56.52 | J142: =ROUND(I142*H142,2) -> 0 | N142: znížená | P142: =O142*H142 -> 0 | Q142: 0 | R142: =Q142*H142 -> 0 | S142: 0 | T142: =S142*H142 -> 0 | AR142: 256 | AT142: M | AU142: 2 | AY142: ROZPOCET | BE142: =IF(N142="základná",J142,0) -> 0 | BF142: =IF(N142="znížená",J142,0) -> 0 | BG142: =IF(N142="zákl. prenesená",J142,0) -> 0 | BH142: =IF(N142="zníž. prenesená",J142,0) -> 0 | BI142: =IF(N142="nulová",J142,0) -> 0 | BJ142: 2 | BK142: =ROUND(I142*H142,2) -> 0 | BL142: 64 | BM142: 2066072035
... C177: 49 | D177: M | E177: MG GP110S/B_PHM | F177: Palivo po skúškach - vrátane manipulácie s PHM | G177: l | H177: 250 | J177: =ROUND(I177*H177,2) -> 0 | N177: znížená | P177: =O177*H177 -> 0 | Q177: 0 | R177: =Q177*H177 -> 0 | S177: 0 | T177: =S177*H177 -> 0 | AR177: 256 | AT177: M | AU177: 2 | AY177: ROZPOCET | BE177: =IF(N177="základná",J177,0) -> 0 | BF177: =IF(N177="znížená",J177,0) -> 0 | BG177: =IF(N177="zákl. prenesená",J177,0) -> 0 | BH177: =IF(N177="zníž. prenesená",J177,0) -> 0 | BI177: =IF(N177="nulová",J177,0) -> 0 | BJ177: 2 | BK177: =ROUND(I177*H177,2) -> 0 | BL177: 64 | BM177: 2003003822
D178: D | E178: 22-M | F178: Montáže oznamovacích a zabezpečovacích zariadení | J178: =BK178 -> 0 | P178: =SUM(P179:P181) -> 0 | R178: =SUM(R179:R181) -> 0 | T178: =SUM(T179:T181) -> 0 | AR178: 3 | AT178: D | AU178: 1 | AY178: ROZPOCET | BK178: =SUM(BK179:BK181) -> 0
C179: 50 | D179: K | E179: 220511034 | F179: Kábel FTP | G179: m | H179: 90 | J179: =ROUND(I179*H179,2) -> 0 | N179: znížená | P179: =O179*H179 -> 0 | Q179: 0 | R179: =Q179*H179 -> 0 | S179: 0 | T179: =S179*H179 -> 0 | AR179: 64 | AT179: K | AU179: 2 | AY179: ROZPOCET | BE179: =IF(N179="základná",J179,0) -> 0 | BF179: =IF(N179="znížená",J179,0) -> 0 | BG179: =IF(N179="zákl. prenesená",J179,0) -> 0 | BH179: =IF(N179="zníž. prenesená",J179,0) -> 0 | BI179: =IF(N179="nulová",J179,0) -> 0 | BJ179: 2 | BK179: =ROUND(I179*H179,2) -> 0 | BL179: 64 | BM179: -1706268393
C180: 51 | D180: M | E180: KDP000000120 | F180: Kábel dátový pevný 26000025 STP (U/FTP) cat.6a AWG23 LSOH 500MHz interiér | G180: m | H180: 90 | J180: =ROUND(I180*H180,2) -> 0 | N180: znížená | P180: =O180*H180 -> 0 | Q180: 0 | R180: =Q180*H180 -> 0 | S180: 0 | T180: =S180*H180 -> 0 | AR180: 256 | AT180: M | AU180: 2 | AY180: ROZPOCET | BE180: =IF(N180="základná",J180,0) -> 0 | BF180: =IF(N180="znížená",J180,0) -> 0 | BG180: =IF(N180="zákl. prenesená",J180,0) -> 0 | BH180: =IF(N180="zníž. prenesená",J180,0) -> 0 | BI180: =IF(N180="nulová",J180,0) -> 0 | BJ180: 2 | BK180: =ROUND(I180*H180,2) -> 0 | BL180: 64 | BM180: -1516291253
C181: 52 | D181: K | E181: 220521027.S | F181: Betónový základ pre MG | G181: sub | H181: 1 | J181: =ROUND(I181*H181,2) -> 0 | N181: znížená | P181: =O181*H181 -> 0 | Q181: 0 | R181: =Q181*H181 -> 0 | S181: 0 | T181: =S181*H181 -> 0 | AR181: 64 | AT181: K | AU181: 2 | AY181: ROZPOCET | BE181: =IF(N181="základná",J181,0) -> 0 | BF181: =IF(N181="znížená",J181,0) -> 0 | BG181: =IF(N181="zákl. prenesená",J181,0) -> 0 | BH181: =IF(N181="zníž. prenesená",J181,0) -> 0 | BI181: =IF(N181="nulová",J181,0) -> 0 | BJ181: 2 | BK181: =ROUND(I181*H181,2) -> 0 | BL181: 64 | BM181: -241240130
D182: D | E182: HZS | F182: Hodinové zúčtovacie sadzby | J182: =BK182 -> 0 | P182: =P183+P184+P185 -> 0 | R182: =R183+R184+R185 -> 0 | T182: =T183+T184+T185 -> 0 | AR182: 4 | AT182: D | AU182: 0 | AY182: ROZPOCET | BK182: =BK183+BK184+BK185 -> 0
C183: 53 | D183: K | E183: HZS000111 | F183: Stavebno montážne práce menej náročne, pomocné alebo manupulačné (Tr. 1) v rozsahu viac ako 8 hodín | G183: hod | H183: 48 | J183: =ROUND(I183*H183,2) -> 0 | N183: znížená | P183: =O183*H183 -> 0 | Q183: 0 | R183: =Q183*H183 -> 0 | S183: 0 | T183: =S183*H183 -> 0 | AR183: 262144 | AT183: K | AU183: 1 | AY183: ROZPOCET | BE183: =IF(N183="základná",J183,0) -> 0 | BF183: =IF(N183="znížená",J183,0) -> 0 | BG183: =IF(N183="zákl. prenesená",J183,0) -> 0 | BH183: =IF(N183="zníž. prenesená",J183,0) -> 0 | BI183: =IF(N183="nulová",J183,0) -> 0 | BJ183: 2 | BK183: =ROUND(I183*H183,2) -> 0 | BL183: 262144 | BM183: -1172043410
C184: 54 | D184: K | E184: HZS000113 | F184: Stavebno montážne práce náročné ucelené - odborné, tvorivé remeselné (Tr. 3) v rozsahu viac ako 8 hodín | G184: hod | H184: 48 | J184: =ROUND(I184*H184,2) -> 0 | N184: znížená | P184: =O184*H184 -> 0 | Q184: 0 | R184: =Q184*H184 -> 0 | S184: 0 | T184: =S184*H184 -> 0 | AR184: 262144 | AT184: K | AU184: 1 | AY184: ROZPOCET | BE184: =IF(N184="základná",J184,0) -> 0 | BF184: =IF(N184="znížená",J184,0) -> 0 | BG184: =IF(N184="zákl. prenesená",J184,0) -> 0 | BH184: =IF(N184="zníž. prenesená",J184,0) -> 0 | BI184: =IF(N184="nulová",J184,0) -> 0 | BJ184: 2 | BK184: =ROUND(I184*H184,2) -> 0 | BL184: 262144 | BM184: 365202180
D185: D | E185: 46-M | F185: Zemné práce vykonávané pri externých montážnych prácach | J185: =BK185 -> 0 | P185: =SUM(P186:P192) -> 0 | R185: =SUM(R186:R192) -> 0 | T185: =SUM(T186:T192) -> 0 | AR185: 3 | AT185: D | AU185: 1 | AY185: ROZPOCET | BK185: =SUM(BK186:BK192) -> 0
C186: 55 | D186: K | E186: 460200314.S | F186: Hĺbenie káblovej ryhy ručne 50 cm širokej a 130 cm hlbokej, v zemine triedy 4 | G186: m | H186: 90 | J186: =ROUND(I186*H186,2) -> 0 | N186: znížená | P186: =O186*H186 -> 0 | Q186: 0 | R186: =Q186*H186 -> 0 | S186: 0 | T186: =S186*H186 -> 0 | AR186: 64 | AT186: K | AU186: 2 | AY186: ROZPOCET | BE186: =IF(N186="základná",J186,0) -> 0 | BF186: =IF(N186="znížená",J186,0) -> 0 | BG186: =IF(N186="zákl. prenesená",J186,0) -> 0 | BH186: =IF(N186="zníž. prenesená",J186,0) -> 0 | BI186: =IF(N186="nulová",J186,0) -> 0 | BJ186: 2 | BK186: =ROUND(I186*H186,2) -> 0 | BL186: 64 | BM186: -2042318486
C187: 56 | D187: K | E187: 460420022 | F187: Zriadenie, rekonšt. káblového lôžka z piesku bez zakrytia, v ryhe šír. do 65 cm, hrúbky vrstvy 10 cm | G187: m | H187: 90 | J187: =ROUND(I187*H187,2) -> 0 | N187: znížená | P187: =O187*H187 -> 0 | Q187: 0 | R187: =Q187*H187 -> 0 | S187: 0 | T187: =S187*H187 -> 0 | AR187: 64 | AT187: K | AU187: 2 | AY187: ROZPOCET | BE187: =IF(N187="základná",J187,0) -> 0 | BF187: =IF(N187="znížená",J187,0) -> 0 | BG187: =IF(N187="zákl. prenesená",J187,0) -> 0 | BH187: =IF(N187="zníž. prenesená",J187,0) -> 0 | BI187: =IF(N187="nulová",J187,0) -> 0 | BJ187: 2 | BK187: =ROUND(I187*H187,2) -> 0 | BL187: 64 | BM187: 634842221
C188: 57 | D188: M | E188: 583110000300 | F188: Drvina vápencová frakcia 0-4 mm | G188: t | H188: 9.36 | J188: =ROUND(I188*H188,2) -> 0 | N188: znížená | P188: =O188*H188 -> 0 | Q188: 0 | R188: =Q188*H188 -> 0 | S188: 0 | T188: =S188*H188 -> 0 | AR188: 256 | AT188: M | AU188: 2 | AY188: ROZPOCET | BE188: =IF(N188="základná",J188,0) -> 0 | BF188: =IF(N188="znížená",J188,0) -> 0 | BG188: =IF(N188="zákl. prenesená",J188,0) -> 0 | BH188: =IF(N188="zníž. prenesená",J188,0) -> 0 | BI188: =IF(N188="nulová",J188,0) -> 0 | BJ188: 2 | BK188: =ROUND(I188*H188,2) -> 0 | BL188: 64 | BM188: -240265205
C189: 58 | D189: K | E189: 460490012 | F189: Rozvinutie a uloženie výstražnej fólie z PVC do ryhy, šírka do 33 cm | G189: m | H189: 90 | J189: =ROUND(I189*H189,2) -> 0 | N189: znížená | P189: =O189*H189 -> 0 | Q189: 0 | R189: =Q189*H189 -> 0 | S189: 0 | T189: =S189*H189 -> 0 | AR189: 64 | AT189: K | AU189: 2 | AY189: ROZPOCET | BE189: =IF(N189="základná",J189,0) -> 0 | BF189: =IF(N189="znížená",J189,0) -> 0 | BG189: =IF(N189="zákl. prenesená",J189,0) -> 0 | BH189: =IF(N189="zníž. prenesená",J189,0) -> 0 | BI189: =IF(N189="nulová",J189,0) -> 0 | BJ189: 2 | BK189: =ROUND(I189*H189,2) -> 0 | BL189: 64 | BM189: -856337988
C190: 59 | D190: M | E190: 283230008000 | F190: Výstražná fóla PE, šxhr 300x0,1 mm, dĺ. 250 m, farba červená, HAGARD | G190: m | H190: 90 | J190: =ROUND(I190*H190,2) -> 0 | N190: znížená | P190: =O190*H190 -> 0 | Q190: 0 | R190: =Q190*H190 -> 0 | S190: 0 | T190: =S190*H190 -> 0 | AR190: 256 | AT190: M | AU190: 2 | AY190: ROZPOCET | BE190: =IF(N190="základná",J190,0) -> 0 | BF190: =IF(N190="znížená",J190,0) -> 0 | BG190: =IF(N190="zákl. prenesená",J190,0) -> 0 | BH190: =IF(N190="zníž. prenesená",J190,0) -> 0 | BI190: =IF(N190="nulová",J190,0) -> 0 | BJ190: 2 | BK190: =ROUND(I190*H190,2) -> 0 | BL190: 64 | BM190: 1967892546
C191: 60 | D191: K | E191: 460560434.S | F191: Ručný zásyp nezap. káblovej ryhy bez zhutn. zeminy, 55 cm širokej, 80 cm hlbokej v zemine tr. 4 | G191: m | H191: 90 | J191: =ROUND(I191*H191,2) -> 0 | N191: znížená | P191: =O191*H191 -> 0 | Q191: 0 | R191: =Q191*H191 -> 0 | S191: 0 | T191: =S191*H191 -> 0 | AR191: 64 | AT191: K | AU191: 2 | AY191: ROZPOCET | BE191: =IF(N191="základná",J191,0) -> 0 | BF191: =IF(N191="znížená",J191,0) -> 0 | BG191: =IF(N191="zákl. prenesená",J191,0) -> 0 | BH191: =IF(N191="zníž. prenesená",J191,0) -> 0 | BI191: =IF(N191="nulová",J191,0) -> 0 | BJ191: 2 | BK191: =ROUND(I191*H191,2) -> 0 | BL191: 64 | BM191: -617858483
C192: 61 | D192: K | E192: 460620013 | F192: Proviz. úprava terénu v zemine tr. 3, aby nerovnosti terénu neboli väčšie ako 2 cm od vodor.hladiny | G192: m2 | H192: 50 | J192: =ROUND(I192*H192,2) -> 0 | N192: znížená | P192: =O192*H192 -> 0 | Q192: 0 | R192: =Q192*H192 -> 0 | S192: 0 | T192: =S192*H192 -> 0 | AR192: 64 | AT192: K | AU192: 2 | AY192: ROZPOCET | BE192: =IF(N192="základná",J192,0) -> 0 | BF192: =IF(N192="znížená",J192,0) -> 0 | BG192: =IF(N192="zákl. prenesená",J192,0) -> 0 | BH192: =IF(N192="zníž. prenesená",J192,0) -> 0 | BI192: =IF(N192="nulová",J192,0) -> 0 | BJ192: 2 | BK192: =ROUND(I192*H192,2) -> 0 | BL192: 64 | BM192: 913894883
D193: D | E193: VRN | F193: Vedľajšie rozpočtové náklady | J193: =BK193 -> 0 | P193: =SUM(P194:P199) -> 0 | R193: =SUM(R194:R199) -> 0 | T193: =SUM(T194:T199) -> 0 | AR193: 5 | AT193: D | AU193: 0 | AY193: ROZPOCET | BK193: =SUM(BK194:BK199) -> 0
C194: 62 | D194: K | E194: 000400022 | F194: Projektové práce - stavebná časť (stavebné objekty vrátane ich technického vybavenia). náklady na dokumentáciu skutočného zhotovenia stavby | G194: eur | H194: 1 | J194: =ROUND(I194*H194,2) -> 0 | N194: znížená | P194: =O194*H194 -> 0 | Q194: 0 | R194: =Q194*H194 -> 0 | S194: 0 | T194: =S194*H194 -> 0 | AR194: 4 | AT194: K | AU194: 1 | AY194: ROZPOCET | BE194: =IF(N194="základná",J194,0) -> 0 | BF194: =IF(N194="znížená",J194,0) -> 0 | BG194: =IF(N194="zákl. prenesená",J194,0) -> 0 | BH194: =IF(N194="zníž. prenesená",J194,0) -> 0 | BI194: =IF(N194="nulová",J194,0) -> 0 | BJ194: 2 | BK194: =ROUND(I194*H194,2) -> 0 | BL194: 4 | BM194: -1707712826
C195: 63 | D195: K | E195: 000700011 | F195: Dopravné náklady - mimostavenisková doprava objektivizácia dopravných nákladov materiálov | G195: eur | H195: 1 | J195: =ROUND(I195*H195,2) -> 0 | N195: znížená | P195: =O195*H195 -> 0 | Q195: 0 | R195: =Q195*H195 -> 0 | S195: 0 | T195: =S195*H195 -> 0 | AR195: 4 | AT195: K | AU195: 1 | AY195: ROZPOCET | BE195: =IF(N195="základná",J195,0) -> 0 | BF195: =IF(N195="znížená",J195,0) -> 0 | BG195: =IF(N195="zákl. prenesená",J195,0) -> 0 | BH195: =IF(N195="zníž. prenesená",J195,0) -> 0 | BI195: =IF(N195="nulová",J195,0) -> 0 | BJ195: 2 | BK195: =ROUND(I195*H195,2) -> 0 | BL195: 4 | BM195: 2051816551
C196: 64 | D196: K | E196: 000800012.S | F196: Imisný posudok pre odbor životné prostredia z dôvodu odsúhlasenia výfuku 4m nad úroveň terénu | G196: eur | H196: 1 | J196: =ROUND(I196*H196,2) -> 0 | N196: znížená | P196: =O196*H196 -> 0 | Q196: 0 | R196: =Q196*H196 -> 0 | S196: 0 | T196: =S196*H196 -> 0 | AR196: 4 | AT196: K | AU196: 1 | AY196: ROZPOCET | BE196: =IF(N196="základná",J196,0) -> 0 | BF196: =IF(N196="znížená",J196,0) -> 0 | BG196: =IF(N196="zákl. prenesená",J196,0) -> 0 | BH196: =IF(N196="zníž. prenesená",J196,0) -> 0 | BI196: =IF(N196="nulová",J196,0) -> 0 | BJ196: 2 | BK196: =ROUND(I196*H196,2) -> 0 | BL196: 4 | BM196: -39663393
C197: 65 | D197: K | E197: 000800021.S | F197: Hluková skúška vykonaná oprávnenou osobou | G197: eur | H197: 1 | J197: =ROUND(I197*H197,2) -> 0 | N197: znížená | P197: =O197*H197 -> 0 | Q197: 0 | R197: =Q197*H197 -> 0 | S197: 0 | T197: =S197*H197 -> 0 | AR197: 4 | AT197: K | AU197: 1 | AY197: ROZPOCET | BE197: =IF(N197="základná",J197,0) -> 0 | BF197: =IF(N197="znížená",J197,0) -> 0 | BG197: =IF(N197="zákl. prenesená",J197,0) -> 0 | BH197: =IF(N197="zníž. prenesená",J197,0) -> 0 | BI197: =IF(N197="nulová",J197,0) -> 0 | BJ197: 2 | BK197: =ROUND(I197*H197,2) -> 0 | BL197: 4 | BM197: 95577544
C198: 66 | D198: K | E198: 001000034 | F198: Inžinierska činnosť - skúšky a revízie ostatné skúšky | G198: eur | H198: 1 | J198: =ROUND(I198*H198,2) -> 0 | N198: znížená | P198: =O198*H198 -> 0 | Q198: 0 | R198: =Q198*H198 -> 0 | S198: 0 | T198: =S198*H198 -> 0 | AR198: 4 | AT198: K | AU198: 1 | AY198: ROZPOCET | BE198: =IF(N198="základná",J198,0) -> 0 | BF198: =IF(N198="znížená",J198,0) -> 0 | BG198: =IF(N198="zákl. prenesená",J198,0) -> 0 | BH198: =IF(N198="zníž. prenesená",J198,0) -> 0 | BI198: =IF(N198="nulová",J198,0) -> 0 | BJ198: 2 | BK198: =ROUND(I198*H198,2) -> 0 | BL198: 4 | BM198: 2063953860
C199: 67 | D199: K | E199: 001500001 | F199: Podružný materál | G199: eur | H199: 1 | J199: =ROUND(I199*H199,2) -> 0 | N199: znížená | P199: =O199*H199 -> 0 | Q199: 0 | R199: =Q199*H199 -> 0 | S199: 0 | T199: =S199*H199 -> 0 | AR199: 4 | AT199: K | AU199: 1 | AY199: ROZPOCET | BE199: =IF(N199="základná",J199,0) -> 0 | BF199: =IF(N199="znížená",J199,0) -> 0 | BG199: =IF(N199="zákl. prenesená",J199,0) -> 0 | BH199: =IF(N199="zníž. prenesená",J199,0) -> 0 | BI199: =IF(N199="nulová",J199,0) -> 0 | BJ199: 2 | BK199: =ROUND(I199*H199,2) -> 0 | BL199: 4 | BM199: -468619347

Sheet SO-06 - Hala - elektroinš...
L2: >> skryté stĺpce << | AT2: {d4b0b6e7-dc7e-47fc-b8b1-56ed62f6b986}
AT3: 0
D4: KRYCÍ LIST ROZPOČTU | M4: v --- nižšie sa nachádzajú doplnkové a pomocné údaje k zostavám --- v | AT4: False
D6: Stavba:
E7: ='Rekapitulácia stavby'!K6 -> Chovná hala pre kury s voľným výbehom
D8: Objekt:
E9: SO-06 - Hala - elektroinštalácia, bleskozvod, areálové osvetlenie
D11: JKSO: | I11: KS:
D12: Miesto: | F12: Dolné Trhovište 224, 920 61 Dolné Trhovište | I12: Dátum: | J12: ='Rekapitulácia stavby'!AN8 -> 45370
D14: Objednávateľ: | I14: IČO:
E15: FOOD FARM s.r.o., Piešťanská 3, 917 03 Trnava | I15: IČ DPH:
D17: Zhotoviteľ: | I17: IČO: | J17: ='Rekapitulácia stavby'!AN13 -> Vyplň údaj
E18: ='Rekapitulácia stavby'!E14 -> Vyplň údaj | I18: IČ DPH: | J18: ='Rekapitulácia stavby'!AN14 -> Vyplň údaj
D20: Projektant: | I20: IČO:
E21: ALLA ARCHITEKTI | I21: IČ DPH:
D23: Spracovateľ: | I23: IČO:
E24: Stanislav Hlubina | I24: IČ DPH:
D26: Poznámka:
D30: Cena bez DPH | J30: =ROUND(J124, 2) -> 0
F32: Základ dane | I32: Sadzba dane | J32: Výška dane
D33: DPH | E33: základná | F33: =ROUND((SUM(BE124:BE312)), 2) -> 0 | I33: 0.2 | J33: =ROUND(((SUM(BE124:BE312))*I33), 2) -> 0
E34: znížená | F34: =ROUND((SUM(BF124:BF312)), 2) -> 0 | I34: 0.2 | J34: =ROUND(((SUM(BF124:BF312))*I34), 2) -> 0
E35: zákl. prenesená | F35: =ROUND((SUM(BG124:BG312)), 2) -> 0 | I35: 0.2 | J35: =0 -> 0
E36: zníž. prenesená | F36: =ROUND((SUM(BH124:BH312)), 2) -> 0 | I36: 0.2 | J36: =0 -> 0
E37: nulová | F37: =ROUND((SUM(BI124:BI312)), 2) -> 0 | I37: 0 | J37: =0 -> 0
D39: Cena s DPH | G39: v | H39: EUR | J39: =SUM(J30:J37) -> 0
D50: Projektant | G50: Spracovateľ
D61: Dátum a podpis: | F61: Pečiatka | G61: Dátum a podpis: | J61: Pečiatka
D65: Objednávateľ | G65: Zhotoviteľ
D76: Dátum a podpis: | F76: Pečiatka | G76: Dátum a podpis: | J76: Pečiatka
C82: REKAPITULÁCIA ROZPOČTU
C84: Stavba:
E85: =E7 -> Chovná hala pre kury s voľným výbehom
C86: Objekt:
E87: =E9 -> SO-06 - Hala - elektroinštalácia, bleskozvod, areálové osvetlenie
C89: Miesto: | F89: =F12 -> Dolné Trhovište 224, 920 61 Dolné Trhovište | I89: Dátum: | J89: =IF(J12="","",J12) -> 45370
C91: Objednávateľ: | F91: =E15 -> FOOD FARM s.r.o., Piešťanská 3, 917 03 Trnava | I91: Projektant: | J91: =E21 -> ALLA ARCHITEKTI
C92: Zhotoviteľ: | F92: =IF(E18="","",E18) -> Vyplň údaj | I92: Spracovateľ: | J92: =E24 -> Stanislav Hlubina
C94: Kód dielu - Popis | J94: Cena celkom [EUR]
C96: Náklady z rozpočtu | J96: =J124 -> 0 | AU96: -1
D97: M - Práce a dodávky M | J97: =J125 -> 0
D98: 21-M - Elektromontáže | J98: =J126 -> 0
D99: 22-M - Montáže oznamovacích a zabezpečovacích zariadení | J99: =J223 -> 0
D100: HZS - Hodinové zúčtovacie sadzby | J100: =J255 -> 0
D101: VRN - Vedľajšie rozpočtové náklady | J101: =J258 -> 0
D102: 21-M_ - Elektromontáže | J102: =J263 -> 0
D103: HZS_ - Hodinové zúčtovacie sadzby | J103: =J306 -> 0
D104: VRN_ - Vedľajšie rozpočtové náklady | J104: =J309 -> 0
C111: ROZPOČET
C113: Stavba:
E114: =E7 -> Chovná hala pre kury s voľným výbehom
C115: Objekt:
E116: =E9 -> SO-06 - Hala - elektroinštalácia, bleskozvod, areálové osvetlenie
C118: Miesto: | F118: =F12 -> Dolné Trhovište 224, 920 61 Dolné Trhovište | I118: Dátum: | J118: =IF(J12="","",J12) -> 45370
C120: Objednávateľ: | F120: =E15 -> FOOD FARM s.r.o., Piešťanská 3, 917 03 Trnava | I120: Projektant: | J120: =E21 -> ALLA ARCHITEKTI
C121: Zhotoviteľ: | F121: =IF(E18="","",E18) -> Vyplň údaj | I121: Spracovateľ: | J121: =E24 -> Stanislav Hlubina
C123: PČ | D123: Typ | E123: Kód | F123: Popis | G123: MJ | H123: Množstvo | I123: J.cena [EUR] | J123: Cena celkom [EUR] | K123: Cenová sústava | N123: DPH | O123: J. Nh [h] | P123: Nh celkom [h] | Q123: J. hmotnosť [t] | R123: Hmotnosť celkom [t] | S123: J. suť [t] | T123: Suť Celkom [t]
C124: Náklady z rozpočtu | J124: =BK124 -> 0 | P124: =P125 -> 0 | R124: =R125 -> 0 | T124: =T125 -> 0 | AT124: D | AU124: -1 | BK124: =BK125 -> 0
D125: D | E125: M | F125: Práce a dodávky M | J125: =BK125 -> 0 | P125: =P126+P223+P255+P258+P263+P306+P309 -> 0 | R125: =R126+R223+R255+R258+R263+R306+R309 -> 0 | T125: =T126+T223+T255+T258+T263+T306+T309 -> 0 | AR125: 3 | AT125: D | AU125: 0 | AY125: ROZPOCET | BK125: =BK126+BK223+BK255+BK258+BK263+BK306+BK309 -> 0
D126: D | E126: 21-M | F126: Elektromontáže | J126: =BK126 -> 0 | P126: =SUM(P127:P222) -> 0 | R126: =SUM(R127:R222) -> 0 | T126: =SUM(T127:T222) -> 0 | AR126: 3 | AT126: D | AU126: 1 | AY126: ROZPOCET | BK126: =SUM(BK127:BK222) -> 0
C127: 1 | D127: K | E127: 210010025 | F127: Rúrka ohybná elektroinštalačná z PVC typ FXP 20, uložená pevne | G127: m | H127: 220 | J127: =ROUND(I127*H127,2) -> 0 | N127: znížená | P127: =O127*H127 -> 0 | Q127: 0 | R127: =Q127*H127 -> 0 | S127: 0 | T127: =S127*H127 -> 0 | AR127: 64 | AT127: K | AU127: 2 | AY127: ROZPOCET | BE127: =IF(N127="základná",J127,0) -> 0 | BF127: =IF(N127="znížená",J127,0) -> 0 | BG127: =IF(N127="zákl. prenesená",J127,0) -> 0 | BH127: =IF(N127="zníž. prenesená",J127,0) -> 0 | BI127: =IF(N127="nulová",J127,0) -> 0 | BJ127: 2 | BK127: =ROUND(I127*H127,2) -> 0 | BL127: 64 | BM127: -462096725
C128: 2 | D128: M | E128: 345710009100 | F128: Rúrka ohybná vlnitá pancierová PVC-U, FXP DN 20 | G128: m | H128: 220 | J128: =ROUND(I128*H128,2) -> 0 | N128: znížená | P128: =O128*H128 -> 0 | Q128: 0 | R128: =Q128*H128 -> 0 | S128: 0 | T128: =S128*H128 -> 0 | AR128: 256 | AT128: M | AU128: 2 | AY128: ROZPOCET | BE128: =IF(N128="základná",J128,0) -> 0 | BF128: =IF(N128="znížená",J128,0) -> 0 | BG128: =IF(N128="zákl. prenesená",J128,0) -> 0 | BH128: =IF(N128="zníž. prenesená",J128,0) -> 0 | BI128: =IF(N128="nulová",J128,0) -> 0 | BJ128: 2 | BK128: =ROUND(I128*H128,2) -> 0 | BL128: 64 | BM128: 1610020089
C129: 3 | D129: M | E129: 345710017800 | F129: Spojka nasúvacia PVC-U SM 20 | G129: ks | H129: 132 | J129: =ROUND(I129*H129,2) -> 0 | N129: znížená | P129: =O129*H129 -> 0 | Q129: 0 | R129: =Q129*H129 -> 0 | S129: 0 | T129: =S129*H129 -> 0 | AR129: 256 | AT129: M | AU129: 2 | AY129: ROZPOCET | BE129: =IF(N129="základná",J129,0) -> 0 | BF129: =IF(N129="znížená",J129,0) -> 0 | BG129: =IF(N129="zákl. prenesená",J129,0) -> 0 | BH129: =IF(N129="zníž. prenesená",J129,0) -> 0 | BI129: =IF(N129="nulová",J129,0) -> 0 | BJ129: 2 | BK129: =ROUND(I129*H129,2) -> 0 | BL129: 64 | BM129: 768488748
C130: 4 | D130: K | E130: 210010026 | F130: Rúrka ohybná elektroinštalačná z PVC typ FXP 25, uložená pevne | G130: m | H130: 110 | J130: =ROUND(I130*H130,2) -> 0 | N130: znížená | P130: =O130*H130 -> 0 | Q130: 0 | R130: =Q130*H130 -> 0 | S130: 0 | T130: =S130*H130 -> 0 | AR130: 64 | AT130: K | AU130: 2 | AY130: ROZPOCET | BE130: =IF(N130="základná",J130,0) -> 0 | BF130: =IF(N130="znížená",J130,0) -> 0 | BG130: =IF(N130="zákl. prenesená",J130,0) -> 0 | BH130: =IF(N130="zníž. prenesená",J130,0) -> 0 | BI130: =IF(N130="nulová",J130,0) -> 0 | BJ130: 2 | BK130: =ROUND(I130*H130,2) -> 0 | BL130: 64 | BM130: 874602450
C131: 5 | D131: M | E131: 345710009200 | F131: Rúrka ohybná vlnitá pancierová PVC-U, FXP DN 25 | G131: m | H131: 110 | J131: =ROUND(I131*H131,2) -> 0 | N131: znížená | P131: =O131*H131 -> 0 | Q131: 0 | R131: =Q131*H131 -> 0 | S131: 0 | T131: =S131*H131 -> 0 | AR131: 256 | AT131: M | AU131: 2 | AY131: ROZPOCET | BE131: =IF(N131="základná",J131,0) -> 0 | BF131: =IF(N131="znížená",J131,0) -> 0 | BG131: =IF(N131="zákl. prenesená",J131,0) -> 0 | BH131: =IF(N131="zníž. prenesená",J131,0) -> 0 | BI131: =IF(N131="nulová",J131,0) -> 0 | BJ131: 2 | BK131: =ROUND(I131*H131,2) -> 0 | BL131: 64 | BM131: -1973848417
C132: 6 | D132: M | E132: 345710017900 | F132: Spojka nasúvacia PVC-U SM 25 | G132: ks | H132: 66 | J132: =ROUND(I132*H132,2) -> 0 | N132: znížená | P132: =O132*H132 -> 0 | Q132: 0 | R132: =Q132*H132 -> 0 | S132: 0 | T132: =S132*H132 -> 0 | AR132: 256 | AT132: M | AU132: 2 | AY132: ROZPOCET | BE132: =IF(N132="základná",J132,0) -> 0 | BF132: =IF(N132="znížená",J132,0) -> 0 | BG132: =IF(N132="zákl. prenesená",J132,0) -> 0 | BH132: =IF(N132="zníž. prenesená",J132,0) -> 0 | BI132: =IF(N132="nulová",J132,0) -> 0 | BJ132: 2 | BK132: =ROUND(I132*H132,2) -> 0 | BL132: 64 | BM132: -1700032692
C133: 7 | D133: K | E133: 210010038.S | F133: Rúrka tuhá elektroinštalačná z PVC typ 1520, uložená voľne alebo pod omietkou | G133: m | H133: 260 | J133: =ROUND(I133*H133,2) -> 0 | N133: znížená | P133: =O133*H133 -> 0 | Q133: 0 | R133: =Q133*H133 -> 0 | S133: 0 | T133: =S133*H133 -> 0 | AR133: 64 | AT133: K | AU133: 2 | AY133: ROZPOCET | BE133: =IF(N133="základná",J133,0) -> 0 | BF133: =IF(N133="znížená",J133,0) -> 0 | BG133: =IF(N133="zákl. prenesená",J133,0) -> 0 | BH133: =IF(N133="zníž. prenesená",J133,0) -> 0 | BI133: =IF(N133="nulová",J133,0) -> 0 | BJ133: 2 | BK133: =ROUND(I133*H133,2) -> 0 | BL133: 64 | BM133: -738530844
