Workbook

Sheet Rekapitulácia stavby
A1: Export Komplet | BA1: 2.0 | BT1: False | BU1: False | BV1: {3a575bab-694e-4036-b4b8-5b709f2255c6}
AR2: >> skryté stĺpce << | BS2: 0,01 | BT2: 20
BS3: 0,01 | BT3: 20
D4: REKAPITULÁCIA STAVBY | AS4: v --- nižšie sa nachádzajú doplnkové a pomocné údaje k zostavám --- v | BS4: 0,001
D5: Kód: | BS5: 0,01
D6: Stavba: | K6: Chodník ul. Dlhá č. 27-37 - VMČ 7 | BS6: 0,01
D7: JKSO: | AK7: KS: | BS7: 0,01
D8: Miesto: | AK8: Dátum: | BS8: 0,01
BS9: 0,01
D10: Objednávateľ: | AK10: IČO: | BS10: 0,01
AK11: IČ DPH: | BS11: 0,01
BS12: 0,01
D13: Zhotoviteľ: | AK13: IČO: | BS13: 0,01
AK14: IČ DPH: | BS14: 0,01
BS15: False
D16: Projektant: | AK16: IČO: | BS16: False
AK17: IČ DPH: | BS17: True
BS18: 0,01
D19: Spracovateľ: | AK19: IČO: | BS19: 0,01
AK20: IČ DPH: | BS20: True
D22: Poznámka:
D26: Cena bez DPH | AK26: =ROUND(AG94,2) -> 0
L28: Sadzba dane | W28: Základ dane | AK28: Výška dane
D29: DPH | F29: základná | L29: 0.2 | W29: =ROUND(AZ94, 2) -> 0 | AK29: =ROUND(AV94, 2) -> 0
F30: znížená | L30: 0.2 | W30: =ROUND(BA94, 2) -> 0 | AK30: =ROUND(AW94, 2) -> 0
F31: zákl. prenesená | L31: 0.2 | W31: =ROUND(BB94, 2) -> 0 | AK31: 0
F32: zníž. prenesená | L32: 0.2 | W32: =ROUND(BC94, 2) -> 0 | AK32: 0
F33: nulová | L33: 0 | W33: =ROUND(BD94, 2) -> 0 | AK33: 0
D35: Cena s DPH | T35: v | X35: EUR | AK35: =SUM(AK26:AK33) -> 0
D49: Projektant | AH49: Spracovateľ
D60: Dátum a podpis: | V60: Pečiatka | AH60: Dátum a podpis: | AM60: Pečiatka
D64: Objednávateľ | AH64: Zhotoviteľ
D75: Dátum a podpis: | V75: Pečiatka | AH75: Dátum a podpis: | AM75: Pečiatka
C82: REKAPITULÁCIA OBJEKTOV STAVBY
C84: Kód: | L84: =K5 -> 0
C85: Stavba: | L85: =K6 -> Chodník ul. Dlhá č. 27-37 - VMČ 7
C87: Miesto: | L87: =IF(K8="","",K8) | AI87: Dátum: | AM87: =IF(AN8= "","",AN8)
C89: Objednávateľ: | L89: =IF(E11= "","",E11) | AI89: Projektant: | AM89: =IF(E17="","",E17) | AS89: Informatívne údaje z listov zákaziek
C90: Zhotoviteľ: | L90: =IF(E14="","",E14) | AI90: Spracovateľ: | AM90: =IF(E20="","",E20)
C92: Kód | I92: Popis | AG92: Cena bez DPH [EUR] | AN92: Cena s DPH [EUR] | AQ92: Typ | AS92: z toho Ostat._x000D_ náklady [EUR] | AT92: DPH [EUR] | AU92: Normohodiny [h] | AV92: DPH základná [EUR] | AW92: DPH znížená [EUR] | AX92: DPH základná prenesená_x000D_ [EUR] | AY92: DPH znížená prenesená_x000D_ [EUR] | AZ92: Základňa_x000D_ DPH základná | BA92: Základňa_x000D_ DPH znížená | BB92: Základňa_x000D_ DPH zákl. prenesená | BC92: Základňa_x000D_ DPH zníž. prenesená | BD92: Základňa_x000D_ DPH nulová
C94: Náklady z rozpočtov | AG94: =ROUND(AG95,2) -> 0 | AN94: =SUM(AG94,AT94) -> 0 | AS94: =ROUND(AS95,2) -> 0 | AT94: =ROUND(SUM(AV94:AW94),2) -> 0 | AU94: =ROUND(AU95,5) -> 299.91804 | AV94: =ROUND(AZ94*L29,2) -> 0 | AW94: =ROUND(BA94*L30,2) -> 0 | AX94: =ROUND(BB94*L29,2) -> 0 | AY94: =ROUND(BC94*L30,2) -> 0 | AZ94: =ROUND(AZ95,2) -> 0 | BA94: =ROUND(BA95,2) -> 0 | BB94: =ROUND(BB95,2) -> 0 | BC94: =ROUND(BC95,2) -> 0 | BD94: =ROUND(BD95,2) -> 0 | BS94: D | BT94: 0 | BU94: ###NOIMPORT### | BV94: IMPORT | BW94: {3a575bab-694e-4036-b4b8-5b709f2255c6} | BX94: {00000000-0000-0000-0000-000000000000}
D95: 07 | J95: VMČ č.7 | AG95: =ROUND(AG96,2) -> 0 | AN95: =SUM(AG95,AT95) -> 0 | AQ95: STA | AS95: =ROUND(AS96,2) -> 0 | AT95: =ROUND(SUM(AV95:AW95),2) -> 0 | AU95: =ROUND(AU96,5) -> 299.91804 | AV95: =ROUND(AZ95*L29,2) -> 0 | AW95: =ROUND(BA95*L30,2) -> 0 | AX95: =ROUND(BB95*L29,2) -> 0 | AY95: =ROUND(BC95*L30,2) -> 0 | AZ95: =ROUND(AZ96,2) -> 0 | BA95: =ROUND(BA96,2) -> 0 | BB95: =ROUND(BB96,2) -> 0 | BC95: =ROUND(BC96,2) -> 0 | BD95: =ROUND(BD96,2) -> 0 | BS95: D | BT95: 1 | BU95: ###NOIMPORT### | BV95: IMPORT | BW95: {9a80d212-044a-498e-a59f-ece06f4c4e1e} | BX95: {3a575bab-694e-4036-b4b8-5b709f2255c6} | CM95: 0
A96: / | E96: 7g | K96: Obnova chodníka ul. Dlhá č. 27-37 - VMČ 7 | AG96: ='7g - Obnova chodníka ul. ...'!J32 -> 0 | AN96: =SUM(AG96,AT96) -> 0 | AQ96: Časť | AS96: 0 | AT96: =ROUND(SUM(AV96:AW96),2) -> 0 | AU96: ='7g - Obnova chodníka ul. ...'!P126 -> 299.91804 | AV96: ='7g - Obnova chodníka ul. ...'!J35 -> 0 | AW96: ='7g - Obnova chodníka ul. ...'!J36 -> 0 | AX96: ='7g - Obnova chodníka ul. ...'!J37 -> 0 | AY96: ='7g - Obnova chodníka ul. ...'!J38 -> 0 | AZ96: ='7g - Obnova chodníka ul. ...'!F35 -> 0 | BA96: ='7g - Obnova chodníka ul. ...'!F36 -> 0 | BB96: ='7g - Obnova chodníka ul. ...'!F37 -> 0 | BC96: ='7g - Obnova chodníka ul. ...'!F38 -> 0 | BD96: ='7g - Obnova chodníka ul. ...'!F39 -> 0 | BT96: 2 | BV96: IMPORT | BW96: {de395b12-cfb1-40ff-9473-72cbe69f3fda} | BX96: {9a80d212-044a-498e-a59f-ece06f4c4e1e}

Sheet 7g - Obnova chodníka ul. ...
L2: >> skryté stĺpce << | AT2: {de395b12-cfb1-40ff-9473-72cbe69f3fda}
AT3: 0
D4: KRYCÍ LIST ROZPOČTU | M4: v --- nižšie sa nachádzajú doplnkové a pomocné údaje k zostavám --- v | AT4: False
D6: Stavba:
E7: ='Rekapitulácia stavby'!K6 -> Chodník ul. Dlhá č. 27-37 - VMČ 7
D8: Objekt:
E9: 07 - VMČ č.7
D10: Časť:
E11: 7g - Obnova chodníka ul. Dlhá č. 27-37 - VMČ 7
D13: JKSO: | I13: KS:
D14: Miesto: | F14: Dlhá | I14: Dátum:
D16: Objednávateľ: | I16: IČO: | J16: =IF('Rekapitulácia stavby'!AN10="","",'Rekapitulácia stavby'!AN10)
E17: =IF('Rekapitulácia stavby'!E11="","",'Rekapitulácia stavby'!E11) | I17: IČ DPH: | J17: =IF('Rekapitulácia stavby'!AN11="","",'Rekapitulácia stavby'!AN11)
D19: Zhotoviteľ: | I19: IČO: | J19: ='Rekapitulácia stavby'!AN13
E20: ='Rekapitulácia stavby'!E14 | I20: IČ DPH: | J20: ='Rekapitulácia stavby'!AN14
D22: Projektant: | I22: IČO: | J22: =IF('Rekapitulácia stavby'!AN16="","",'Rekapitulácia stavby'!AN16)
E23: =IF('Rekapitulácia stavby'!E17="","",'Rekapitulácia stavby'!E17) | I23: IČ DPH: | J23: =IF('Rekapitulácia stavby'!AN17="","",'Rekapitulácia stavby'!AN17)
D25: Spracovateľ: | I25: IČO: | J25: =IF('Rekapitulácia stavby'!AN19="","",'Rekapitulácia stavby'!AN19)
E26: =IF('Rekapitulácia stavby'!E20="","",'Rekapitulácia stavby'!E20) | I26: IČ DPH: | J26: =IF('Rekapitulácia stavby'!AN20="","",'Rekapitulácia stavby'!AN20)
D28: Poznámka:
D32: Cena bez DPH | J32: =ROUND(J126, 2) -> 0
F34: Základ dane | I34: Sadzba dane | J34: Výška dane
D35: DPH | E35: základná | F35: =ROUND((SUM(BE126:BE159)), 2) -> 0 | I35: 0.2 | J35: =ROUND(((SUM(BE126:BE159))*I35), 2) -> 0
E36: znížená | F36: =ROUND((SUM(BF126:BF159)), 2) -> 0 | I36: 0.2 | J36: =ROUND(((SUM(BF126:BF159))*I36), 2) -> 0
E37: zákl. prenesená | F37: =ROUND((SUM(BG126:BG159)), 2) -> 0 | I37: 0.2 | J37: =0 -> 0
E38: zníž. prenesená | F38: =ROUND((SUM(BH126:BH159)), 2) -> 0 | I38: 0.2 | J38: =0 -> 0
E39: nulová | F39: =ROUND((SUM(BI126:BI159)), 2) -> 0 | I39: 0 | J39: =0 -> 0
D41: Cena s DPH | G41: v | H41: EUR | J41: =SUM(J32:J39) -> 0
D50: Projektant | G50: Spracovateľ
D61: Dátum a podpis: | F61: Pečiatka | G61: Dátum a podpis: | J61: Pečiatka
D65: Objednávateľ | G65: Zhotoviteľ
D76: Dátum a podpis: | F76: Pečiatka | G76: Dátum a podpis: | J76: Pečiatka
C82: REKAPITULÁCIA ROZPOČTU
C84: Stavba:
E85: =E7 -> Chodník ul. Dlhá č. 27-37 - VMČ 7
C86: Objekt:
E87: 07 - VMČ č.7
C88: Časť:
E89: =E11 -> 7g - Obnova chodníka ul. Dlhá č. 27-37 - VMČ 7
C91: Miesto: | F91: =F14 -> Dlhá | I91: Dátum: | J91: =IF(J14="","",J14)
C93: Objednávateľ: | F93: =E17 | I93: Projektant: | J93: =E23
C94: Zhotoviteľ: | F94: =IF(E20="","",E20) | I94: Spracovateľ: | J94: =E26
C96: Kód dielu - Popis | J96: Cena celkom [EUR]
C98: Náklady z rozpočtu | J98: =J126 -> 0 | AU98: -1
D99: HSV - Práce a dodávky HSV | J99: =J127 -> 0
D100: 1 - Zemné práce | J100: =J128 -> 0
D101: 5 - Komunikácie | J101: =J138 -> 0
D102: 8 - Rúrové vedenie | J102: =J142 -> 0
D103: 9 - Ostatné konštrukcie a práce-búranie | J103: =J146 -> 0
D104: 99 - Presun hmôt HSV | J104: =J158 -> 0
C111: ROZPOČET
C113: Stavba:
E114: =E7 -> Chodník ul. Dlhá č. 27-37 - VMČ 7
C115: Objekt:
E116: 07 - VMČ č.7
C117: Časť:
E118: =E11 -> 7g - Obnova chodníka ul. Dlhá č. 27-37 - VMČ 7
C120: Miesto: | F120: =F14 -> Dlhá | I120: Dátum: | J120: =IF(J14="","",J14)
C122: Objednávateľ: | F122: =E17 | I122: Projektant: | J122: =E23
C123: Zhotoviteľ: | F123: =IF(E20="","",E20) | I123: Spracovateľ: | J123: =E26
C125: PČ | D125: Typ | E125: Kód | F125: Popis | G125: MJ | H125: Množstvo | I125: J.cena [EUR] | J125: Cena celkom [EUR] | K125: Cenová sústava | N125: DPH | O125: J. Nh [h] | P125: Nh celkom [h] | Q125: J. hmotnosť [t] | R125: Hmotnosť celkom [t] | S125: J. suť [t] | T125: Suť Celkom [t]
C126: Náklady z rozpočtu | J126: =BK126 -> 0 | P126: =P127 -> 299.91804 | R126: =R127 -> 120.5099 | T126: =T127 -> 51.338448 | AT126: D | AU126: -1 | BK126: =BK127 -> 0
D127: D | E127: HSV | F127: Práce a dodávky HSV | J127: =BK127 -> 0 | P127: =P128+P138+P142+P146+P158 -> 299.91804 | R127: =R128+R138+R142+R146+R158 -> 120.5099 | T127: =T128+T138+T142+T146+T158 -> 51.338448 | AR127: 1 | AT127: D | AU127: 0 | AY127: ROZPOCET | BK127: =BK128+BK138+BK142+BK146+BK158 -> 0
D128: D | E128: 1 | F128: Zemné práce | J128: =BK128 -> 0 | P128: =SUM(P129:P137) -> 73.187373 | R128: =SUM(R129:R137) -> 0.03317262 | T128: =SUM(T129:T137) -> 51.030448 | AR128: 1 | AT128: D | AU128: 1 | AY128: ROZPOCET | BK128: =SUM(BK129:BK137) -> 0
C129: 1 | D129: K | E129: 113152210 | F129: Frézovanie asf. podkladu alebo krytu bez prek., plochy do 500 m2, pruh š. cez 0,5 m do 1 m, hr. do 30 mm 0,076 t | G129: m2 | H129: 425.29 | J129: =ROUND(I129*H129,2) -> 0 | N129: znížená | O129: 0.039 | P129: =O129*H129 -> 16.58631 | Q129: 6e-05 | R129: =Q129*H129 -> 0.0255174 | S129: 0.076 | T129: =S129*H129 -> 32.32204 | AR129: 4 | AT129: K | AU129: 2 | AY129: ROZPOCET | BE129: =IF(N129="základná",J129,0) -> 0 | BF129: =IF(N129="znížená",J129,0) -> 0 | BG129: =IF(N129="zákl. prenesená",J129,0) -> 0 | BH129: =IF(N129="zníž. prenesená",J129,0) -> 0 | BI129: =IF(N129="nulová",J129,0) -> 0 | BJ129: 2 | BK129: =ROUND(I129*H129,2) -> 0 | BL129: 4 | BM129: 1222813032
C130: 2 | D130: K | E130: 113154210 | F130: Frézovanie bet. podkladu alebo krytu bez prek., plochy do 500 m2, pruh š. cez 0,5 m do 1 m, hr. do 30 mm 0,076 t | G130: m2 | H130: 85.058 | J130: =ROUND(I130*H130,2) -> 0 | N130: znížená | O130: 0.063 | P130: =O130*H130 -> 5.358654 | Q130: 9e-05 | R130: =Q130*H130 -> 0.00765522 | S130: 0.076 | T130: =S130*H130 -> 6.464408 | AR130: 4 | AT130: K | AU130: 2 | AY130: ROZPOCET | BE130: =IF(N130="základná",J130,0) -> 0 | BF130: =IF(N130="znížená",J130,0) -> 0 | BG130: =IF(N130="zákl. prenesená",J130,0) -> 0 | BH130: =IF(N130="zníž. prenesená",J130,0) -> 0 | BI130: =IF(N130="nulová",J130,0) -> 0 | BJ130: 2 | BK130: =ROUND(I130*H130,2) -> 0 | BL130: 4 | BM130: -1362886118
C131: 3 | D131: K | E131: 113208111 | F131: Vytrhanie obrúb betonových, s vybúraním lôžka, záhonových, -0,04000t | G131: m | H131: 306.1 | J131: =ROUND(I131*H131,2) -> 0 | N131: znížená | O131: 0.075 | P131: =O131*H131 -> 22.9575 | Q131: 0 | R131: =Q131*H131 -> 0 | S131: 0.04 | T131: =S131*H131 -> 12.244 | AR131: 4 | AT131: K | AU131: 2 | AY131: ROZPOCET | BE131: =IF(N131="základná",J131,0) -> 0 | BF131: =IF(N131="znížená",J131,0) -> 0 | BG131: =IF(N131="zákl. prenesená",J131,0) -> 0 | BH131: =IF(N131="zníž. prenesená",J131,0) -> 0 | BI131: =IF(N131="nulová",J131,0) -> 0 | BJ131: 2 | BK131: =ROUND(I131*H131,2) -> 0 | BL131: 4 | BM131: 2047583701
C132: 4 | D132: K | E132: 130201001 | F132: Výkop jamy a ryhy v obmedzenom priestore horn. tr.3 ručne | G132: m3 | H132: 6.887 | J132: =ROUND(I132*H132,2) -> 0 | N132: znížená | O132: 3.174 | P132: =O132*H132 -> 21.859338 | Q132: 0 | R132: =Q132*H132 -> 0 | S132: 0 | T132: =S132*H132 -> 0 | AR132: 4 | AT132: K | AU132: 2 | AY132: ROZPOCET | BE132: =IF(N132="základná",J132,0) -> 0 | BF132: =IF(N132="znížená",J132,0) -> 0 | BG132: =IF(N132="zákl. prenesená",J132,0) -> 0 | BH132: =IF(N132="zníž. prenesená",J132,0) -> 0 | BI132: =IF(N132="nulová",J132,0) -> 0 | BJ132: 2 | BK132: =ROUND(I132*H132,2) -> 0 | BL132: 4 | BM132: 1666287522
C133: 5 | D133: K | E133: 162501102 | F133: Vodorovné premiestnenie výkopku po spevnenej ceste z horniny tr.1-4, do 100 m3 na vzdialenosť do 3000 m | G133: m3 | H133: 6.887 | J133: =ROUND(I133*H133,2) -> 0 | N133: znížená | O133: 0.071 | P133: =O133*H133 -> 0.488977 | Q133: 0 | R133: =Q133*H133 -> 0 | S133: 0 | T133: =S133*H133 -> 0 | AR133: 4 | AT133: K | AU133: 2 | AY133: ROZPOCET | BE133: =IF(N133="základná",J133,0) -> 0 | BF133: =IF(N133="znížená",J133,0) -> 0 | BG133: =IF(N133="zákl. prenesená",J133,0) -> 0 | BH133: =IF(N133="zníž. prenesená",J133,0) -> 0 | BI133: =IF(N133="nulová",J133,0) -> 0 | BJ133: 2 | BK133: =ROUND(I133*H133,2) -> 0 | BL133: 4 | BM133: 720570501
C134: 6 | D134: K | E134: 162501105 | F134: Vodorovné premiestnenie výkopku po spevnenej ceste z horniny tr.1-4, do 100 m3, príplatok k cene za každých ďalšich a začatých 1000 m | G134: m3 | H134: 20.661 | J134: =ROUND(I134*H134,2) -> 0 | N134: znížená | O134: 0.007 | P134: =O134*H134 -> 0.144627 | Q134: 0 | R134: =Q134*H134 -> 0 | S134: 0 | T134: =S134*H134 -> 0 | AR134: 4 | AT134: K | AU134: 2 | AY134: ROZPOCET | BE134: =IF(N134="základná",J134,0) -> 0 | BF134: =IF(N134="znížená",J134,0) -> 0 | BG134: =IF(N134="zákl. prenesená",J134,0) -> 0 | BH134: =IF(N134="zníž. prenesená",J134,0) -> 0 | BI134: =IF(N134="nulová",J134,0) -> 0 | BJ134: 2 | BK134: =ROUND(I134*H134,2) -> 0 | BL134: 4 | BM134: -1547404215
C135: 7 | D135: K | E135: 167101100 | F135: Nakladanie výkopku tr.1-4 ručne | G135: m3 | H135: 6.887 | J135: =ROUND(I135*H135,2) -> 0 | N135: znížená | O135: 0.832 | P135: =O135*H135 -> 5.729984 | Q135: 0 | R135: =Q135*H135 -> 0 | S135: 0 | T135: =S135*H135 -> 0 | AR135: 4 | AT135: K | AU135: 2 | AY135: ROZPOCET | BE135: =IF(N135="základná",J135,0) -> 0 | BF135: =IF(N135="znížená",J135,0) -> 0 | BG135: =IF(N135="zákl. prenesená",J135,0) -> 0 | BH135: =IF(N135="zníž. prenesená",J135,0) -> 0 | BI135: =IF(N135="nulová",J135,0) -> 0 | BJ135: 2 | BK135: =ROUND(I135*H135,2) -> 0 | BL135: 4 | BM135: -1525731356
C136: 8 | D136: K | E136: 171201201 | F136: Uloženie sypaniny na skládky do 100 m3 | G136: m3 | H136: 6.887 | J136: =ROUND(I136*H136,2) -> 0 | N136: znížená | O136: 0.009 | P136: =O136*H136 -> 0.061983 | Q136: 0 | R136: =Q136*H136 -> 0 | S136: 0 | T136: =S136*H136 -> 0 | AR136: 4 | AT136: K | AU136: 2 | AY136: ROZPOCET | BE136: =IF(N136="základná",J136,0) -> 0 | BF136: =IF(N136="znížená",J136,0) -> 0 | BG136: =IF(N136="zákl. prenesená",J136,0) -> 0 | BH136: =IF(N136="zníž. prenesená",J136,0) -> 0 | BI136: =IF(N136="nulová",J136,0) -> 0 | BJ136: 2 | BK136: =ROUND(I136*H136,2) -> 0 | BL136: 4 | BM136: -1732595940
C137: 9 | D137: K | E137: 171209002 | F137: Poplatok za skladovanie - zemina a kamenivo (17 05) ostatné | G137: t | H137: 11.708 | J137: =ROUND(I137*H137,2) -> 0 | N137: znížená | O137: 0 | P137: =O137*H137 -> 0 | Q137: 0 | R137: =Q137*H137 -> 0 | S137: 0 | T137: =S137*H137 -> 0 | AR137: 4 | AT137: K | AU137: 2 | AY137: ROZPOCET | BE137: =IF(N137="základná",J137,0) -> 0 | BF137: =IF(N137="znížená",J137,0) -> 0 | BG137: =IF(N137="zákl. prenesená",J137,0) -> 0 | BH137: =IF(N137="zníž. prenesená",J137,0) -> 0 | BI137: =IF(N137="nulová",J137,0) -> 0 | BJ137: 2 | BK137: =ROUND(I137*H137,2) -> 0 | BL137: 4 | BM137: -696625298
D138: D | E138: 5 | F138: Komunikácie | J138: =BK138 -> 0 | P138: =SUM(P139:P141) -> 59.5406 | R138: =SUM(R139:R141) -> 63.821569 | T138: =SUM(T139:T141) -> 0 | AR138: 1 | AT138: D | AU138: 1 | AY138: ROZPOCET | BK138: =SUM(BK139:BK141) -> 0
C139: 10 | D139: K | E139: 566902261R | F139: Vyspravenie podkladu plochy nad 15 m2 podkladovým betónom PB I tr. C 20/25 hr. 80 mm | G139: m2 | H139: 85.058 | J139: =ROUND(I139*H139,2) -> 0 | N139: znížená | O139: 0.36 | P139: =O139*H139 -> 30.62088 | Q139: 0.22763 | R139: =Q139*H139 -> 19.361753 | S139: 0 | T139: =S139*H139 -> 0 | AR139: 4 | AT139: K | AU139: 2 | AY139: ROZPOCET | BE139: =IF(N139="základná",J139,0) -> 0 | BF139: =IF(N139="znížená",J139,0) -> 0 | BG139: =IF(N139="zákl. prenesená",J139,0) -> 0 | BH139: =IF(N139="zníž. prenesená",J139,0) -> 0 | BI139: =IF(N139="nulová",J139,0) -> 0 | BJ139: 2 | BK139: =ROUND(I139*H139,2) -> 0 | BL139: 4 | BM139: -1929842169
C140: 11 | D140: K | E140: 573231111 | F140: Postrek asfaltový spojovací bez posypu kamenivom z cestnej emulzie v množstve od 0,50 do 0,80 kg/m2 | G140: m2 | H140: 425.29 | J140: =ROUND(I140*H140,2) -> 0 | N140: znížená | O140: 0.002 | P140: =O140*H140 -> 0.85058 | Q140: 0.00081 | R140: =Q140*H140 -> 0.3444849 | S140: 0 | T140: =S140*H140 -> 0 | AR140: 4 | AT140: K | AU140: 2 | AY140: ROZPOCET | BE140: =IF(N140="základná",J140,0) -> 0 | BF140: =IF(N140="znížená",J140,0) -> 0 | BG140: =IF(N140="zákl. prenesená",J140,0) -> 0 | BH140: =IF(N140="zníž. prenesená",J140,0) -> 0 | BI140: =IF(N140="nulová",J140,0) -> 0 | BJ140: 2 | BK140: =ROUND(I140*H140,2) -> 0 | BL140: 4 | BM140: -1924343566
C141: 12 | D141: K | E141: 577134131 | F141: Asfaltový betón vrstva obrusná AC 8 O v pruhu š. do 3 m z modifik. asfaltu tr. II, po zhutnení hr. 40 mm | G141: m2 | H141: 425.29 | J141: =ROUND(I141*H141,2) -> 0 | N141: znížená | O141: 0.066 | P141: =O141*H141 -> 28.06914 | Q141: 0.10373 | R141: =Q141*H141 -> 44.115332 | S141: 0 | T141: =S141*H141 -> 0 | AR141: 4 | AT141: K | AU141: 2 | AY141: ROZPOCET | BE141: =IF(N141="základná",J141,0) -> 0 | BF141: =IF(N141="znížená",J141,0) -> 0 | BG141: =IF(N141="zákl. prenesená",J141,0) -> 0 | BH141: =IF(N141="zníž. prenesená",J141,0) -> 0 | BI141: =IF(N141="nulová",J141,0) -> 0 | BJ141: 2 | BK141: =ROUND(I141*H141,2) -> 0 | BL141: 4 | BM141: 2100818535
D142: D | E142: 8 | F142: Rúrové vedenie | J142: =BK142 -> 0 | P142: =SUM(P143:P145) -> 27.713 | R142: =SUM(R143:R145) -> 2.72314 | T142: =SUM(T143:T145) -> 0 | AR142: 1 | AT142: D | AU142: 1 | AY142: ROZPOCET | BK142: =SUM(BK143:BK145) -> 0
C143: 13 | D143: K | E143: 899104111 | F143: Osadenie poklopu liatinového a oceľového vrátane rámu hmotn. nad 150 kg | G143: ks | H143: 7 | J143: =ROUND(I143*H143,2) -> 0 | N143: znížená | O143: 1.569 | P143: =O143*H143 -> 10.983 | Q143: 0.0063 | R143: =Q143*H143 -> 0.0441 | S143: 0 | T143: =S143*H143 -> 0 | AR143: 4 | AT143: K | AU143: 2 | AY143: ROZPOCET | BE143: =IF(N143="základná",J143,0) -> 0 | BF143: =IF(N143="znížená",J143,0) -> 0 | BG143: =IF(N143="zákl. prenesená",J143,0) -> 0 | BH143: =IF(N143="zníž. prenesená",J143,0) -> 0 | BI143: =IF(N143="nulová",J143,0) -> 0 | BJ143: 2 | BK143: =ROUND(I143*H143,2) -> 0 | BL143: 4 | BM143: 1704932853
C144: 14 | D144: M | E144: 5524180000 | F144: Liatinový poklop kruhový D400 DN 600 | G144: ks | H144: 7 | J144: =ROUND(I144*H144,2) -> 0 | N144: znížená | O144: 0 | P144: =O144*H144 -> 0 | Q144: 0.06 | R144: =Q144*H144 -> 0.42 | S144: 0 | T144: =S144*H144 -> 0 | AR144: 8 | AT144: M | AU144: 2 | AY144: ROZPOCET | BE144: =IF(N144="základná",J144,0) -> 0 | BF144: =IF(N144="znížená",J144,0) -> 0 | BG144: =IF(N144="zákl. prenesená",J144,0) -> 0 | BH144: =IF(N144="zníž. prenesená",J144,0) -> 0 | BI144: =IF(N144="nulová",J144,0) -> 0 | BJ144: 2 | BK144: =ROUND(I144*H144,2) -> 0 | BL144: 4 | BM144: -1457954233
C145: 15 | D145: K | E145: 899332110R | F145: Výšková úprava kanalizačného poklopu | G145: ks | H145: 7 | J145: =ROUND(I145*H145,2) -> 0 | N145: znížená | O145: 2.39 | P145: =O145*H145 -> 16.73 | Q145: 0.32272 | R145: =Q145*H145 -> 2.25904 | S145: 0 | T145: =S145*H145 -> 0 | AR145: 4 | AT145: K | AU145: 2 | AY145: ROZPOCET | BE145: =IF(N145="základná",J145,0) -> 0 | BF145: =IF(N145="znížená",J145,0) -> 0 | BG145: =IF(N145="zákl. prenesená",J145,0) -> 0 | BH145: =IF(N145="zníž. prenesená",J145,0) -> 0 | BI145: =IF(N145="nulová",J145,0) -> 0 | BJ145: 2 | BK145: =ROUND(I145*H145,2) -> 0 | BL145: 4 | BM145: 1588209700
D146: D | E146: 9 | F146: Ostatné konštrukcie a práce-búranie | J146: =BK146 -> 0 | P146: =SUM(P147:P157) -> 134.65667 | R146: =SUM(R147:R157) -> 53.932018 | T146: =SUM(T147:T157) -> 0.308 | AR146: 1 | AT146: D | AU146: 1 | AY146: ROZPOCET | BK146: =SUM(BK147:BK157) -> 0
C147: 16 | D147: K | E147: 916561111 | F147: Osadenie záhonového alebo parkového obrubníka betón., do lôžka z bet. pros. tr. C 12/15 s bočnou oporou | G147: m | H147: 306.1 | J147: =ROUND(I147*H147,2) -> 0 | N147: znížená | O147: 0.132 | P147: =O147*H147 -> 40.4052 | Q147: 0.09793 | R147: =Q147*H147 -> 29.976373 | S147: 0 | T147: =S147*H147 -> 0 | AR147: 4 | AT147: K | AU147: 2 | AY147: ROZPOCET | BE147: =IF(N147="základná",J147,0) -> 0 | BF147: =IF(N147="znížená",J147,0) -> 0 | BG147: =IF(N147="zákl. prenesená",J147,0) -> 0 | BH147: =IF(N147="zníž. prenesená",J147,0) -> 0 | BI147: =IF(N147="nulová",J147,0) -> 0 | BJ147: 2 | BK147: =ROUND(I147*H147,2) -> 0 | BL147: 4 | BM147: -1228589777
C148: 17 | D148: M | E148: 5921954590 | F148: Obrubník parkový 50x20x5 cm sivý | G148: ks | H148: 618.322 | J148: =ROUND(I148*H148,2) -> 0 | N148: znížená | O148: 0 | P148: =O148*H148 -> 0 | Q148: 0.0115 | R148: =Q148*H148 -> 7.110703 | S148: 0 | T148: =S148*H148 -> 0 | AR148: 8 | AT148: M | AU148: 2 | AY148: ROZPOCET | BE148: =IF(N148="základná",J148,0) -> 0 | BF148: =IF(N148="znížená",J148,0) -> 0 | BG148: =IF(N148="zákl. prenesená",J148,0) -> 0 | BH148: =IF(N148="zníž. prenesená",J148,0) -> 0 | BI148: =IF(N148="nulová",J148,0) -> 0 | BJ148: 2 | BK148: =ROUND(I148*H148,2) -> 0 | BL148: 4 | BM148: 425901107
C149: 18 | D149: K | E149: 918101111 | F149: Lôžko pod obrubníky, krajníky alebo obruby z dlažob. kociek z betónu prostého tr. C 12/15 | G149: m3 | H149: 7.653 | J149: =ROUND(I149*H149,2) -> 0 | N149: znížená | O149: 1.363 | P149: =O149*H149 -> 10.431039 | Q149: 2.20109 | R149: =Q149*H149 -> 16.844942 | S149: 0 | T149: =S149*H149 -> 0 | AR149: 4 | AT149: K | AU149: 2 | AY149: ROZPOCET | BE149: =IF(N149="základná",J149,0) -> 0 | BF149: =IF(N149="znížená",J149,0) -> 0 | BG149: =IF(N149="zákl. prenesená",J149,0) -> 0 | BH149: =IF(N149="zníž. prenesená",J149,0) -> 0 | BI149: =IF(N149="nulová",J149,0) -> 0 | BJ149: 2 | BK149: =ROUND(I149*H149,2) -> 0 | BL149: 4 | BM149: 41736405
C150: 19 | D150: K | E150: 919735111 | F150: Rezanie existujúceho asfaltového krytu alebo podkladu hĺbky do 50 mm | G150: m | H150: 2.5 | J150: =ROUND(I150*H150,2) -> 0 | N150: znížená | O150: 0.145 | P150: =O150*H150 -> 0.3625 | Q150: 0 | R150: =Q150*H150 -> 0 | S150: 0 | T150: =S150*H150 -> 0 | AR150: 4 | AT150: K | AU150: 2 | AY150: ROZPOCET | BE150: =IF(N150="základná",J150,0) -> 0 | BF150: =IF(N150="znížená",J150,0) -> 0 | BG150: =IF(N150="zákl. prenesená",J150,0) -> 0 | BH150: =IF(N150="zníž. prenesená",J150,0) -> 0 | BI150: =IF(N150="nulová",J150,0) -> 0 | BJ150: 2 | BK150: =ROUND(I150*H150,2) -> 0 | BL150: 4 | BM150: -2036192427
C151: 20 | D151: K | E151: 938909311R | F151: Vyčistenie povrchu z povrchu podkladu alebo krytu bet. alebo asfalt. | G151: m2 | H151: 425.29 | J151: =ROUND(I151*H151,2) -> 0 | N151: znížená | O151: 0.002 | P151: =O151*H151 -> 0.85058 | Q151: 0 | R151: =Q151*H151 -> 0 | S151: 0 | T151: =S151*H151 -> 0 | AR151: 4 | AT151: K | AU151: 2 | AY151: ROZPOCET | BE151: =IF(N151="základná",J151,0) -> 0 | BF151: =IF(N151="znížená",J151,0) -> 0 | BG151: =IF(N151="zákl. prenesená",J151,0) -> 0 | BH151: =IF(N151="zníž. prenesená",J151,0) -> 0 | BI151: =IF(N151="nulová",J151,0) -> 0 | BJ151: 2 | BK151: =ROUND(I151*H151,2) -> 0 | BL151: 4 | BM151: -516095237
C152: 21 | D152: K | E152: 976085311 | F152: Vybúranie kanalizačného rámu liatinového vrátane poklopu alebo mreže, -0,04400t | G152: ks | H152: 7 | J152: =ROUND(I152*H152,2) -> 0 | N152: znížená | O152: 0.25 | P152: =O152*H152 -> 1.75 | Q152: 0 | R152: =Q152*H152 -> 0 | S152: 0.044 | T152: =S152*H152 -> 0.308 | AR152: 4 | AT152: K | AU152: 2 | AY152: ROZPOCET | BE152: =IF(N152="základná",J152,0) -> 0 | BF152: =IF(N152="znížená",J152,0) -> 0 | BG152: =IF(N152="zákl. prenesená",J152,0) -> 0 | BH152: =IF(N152="zníž. prenesená",J152,0) -> 0 | BI152: =IF(N152="nulová",J152,0) -> 0 | BJ152: 2 | BK152: =ROUND(I152*H152,2) -> 0 | BL152: 4 | BM152: -990501704
C153: 22 | D153: K | E153: 979084216 | F153: Vodorovná doprava vybúraných hmôt po suchu bez naloženia, ale so zložením na vzdialenosť do 5 km | G153: t | H153: 51.338 | J153: =ROUND(I153*H153,2) -> 0 | N153: znížená | O153: 0.809 | P153: =O153*H153 -> 41.532442 | Q153: 0 | R153: =Q153*H153 -> 0 | S153: 0 | T153: =S153*H153 -> 0 | AR153: 4 | AT153: K | AU153: 2 | AY153: ROZPOCET | BE153: =IF(N153="základná",J153,0) -> 0 | BF153: =IF(N153="znížená",J153,0) -> 0 | BG153: =IF(N153="zákl. prenesená",J153,0) -> 0 | BH153: =IF(N153="zníž. prenesená",J153,0) -> 0 | BI153: =IF(N153="nulová",J153,0) -> 0 | BJ153: 2 | BK153: =ROUND(I153*H153,2) -> 0 | BL153: 4 | BM153: -2106242037
C154: 23 | D154: K | E154: 979084219 | F154: Príplatok k cene za každých ďalších aj začatých 5 km nad 5 km | G154: t | H154: 51.338 | J154: =ROUND(I154*H154,2) -> 0 | N154: znížená | O154: 0.017 | P154: =O154*H154 -> 0.872746 | Q154: 0 | R154: =Q154*H154 -> 0 | S154: 0 | T154: =S154*H154 -> 0 | AR154: 4 | AT154: K | AU154: 2 | AY154: ROZPOCET | BE154: =IF(N154="základná",J154,0) -> 0 | BF154: =IF(N154="znížená",J154,0) -> 0 | BG154: =IF(N154="zákl. prenesená",J154,0) -> 0 | BH154: =IF(N154="zníž. prenesená",J154,0) -> 0 | BI154: =IF(N154="nulová",J154,0) -> 0 | BJ154: 2 | BK154: =ROUND(I154*H154,2) -> 0 | BL154: 4 | BM154: -20005534
C155: 24 | D155: K | E155: 979087213 | F155: Nakladanie na dopravné prostriedky pre vodorovnú dopravu vybúraných hmôt | G155: t | H155: 51.338 | J155: =ROUND(I155*H155,2) -> 0 | N155: znížená | O155: 0.749 | P155: =O155*H155 -> 38.452162 | Q155: 0 | R155: =Q155*H155 -> 0 | S155: 0 | T155: =S155*H155 -> 0 | AR155: 4 | AT155: K | AU155: 2 | AY155: ROZPOCET | BE155: =IF(N155="základná",J155,0) -> 0 | BF155: =IF(N155="znížená",J155,0) -> 0 | BG155: =IF(N155="zákl. prenesená",J155,0) -> 0 | BH155: =IF(N155="zníž. prenesená",J155,0) -> 0 | BI155: =IF(N155="nulová",J155,0) -> 0 | BJ155: 2 | BK155: =ROUND(I155*H155,2) -> 0 | BL155: 4 | BM155: 1035153572
C156: 25 | D156: K | E156: 979089012 | F156: Poplatok za skladovanie - betón, tehly, dlaždice (17 01 ), ostatné | G156: t | H156: 19.016 | J156: =ROUND(I156*H156,2) -> 0 | N156: znížená | O156: 0 | P156: =O156*H156 -> 0 | Q156: 0 | R156: =Q156*H156 -> 0 | S156: 0 | T156: =S156*H156 -> 0 | AR156: 4 | AT156: K | AU156: 2 | AY156: ROZPOCET | BE156: =IF(N156="základná",J156,0) -> 0 | BF156: =IF(N156="znížená",J156,0) -> 0 | BG156: =IF(N156="zákl. prenesená",J156,0) -> 0 | BH156: =IF(N156="zníž. prenesená",J156,0) -> 0 | BI156: =IF(N156="nulová",J156,0) -> 0 | BJ156: 2 | BK156: =ROUND(I156*H156,2) -> 0 | BL156: 4 | BM156: -162509986
C157: 26 | D157: K | E157: 979089212 | F157: Poplatok za skladovanie - bitúmenové zmesi, uholný decht, dechtové výrobky (17 03 ), ostatné | G157: t | H157: 32.322 | J157: =ROUND(I157*H157,2) -> 0 | N157: znížená | O157: 0 | P157: =O157*H157 -> 0 | Q157: 0 | R157: =Q157*H157 -> 0 | S157: 0 | T157: =S157*H157 -> 0 | AR157: 4 | AT157: K | AU157: 2 | AY157: ROZPOCET | BE157: =IF(N157="základná",J157,0) -> 0 | BF157: =IF(N157="znížená",J157,0) -> 0 | BG157: =IF(N157="zákl. prenesená",J157,0) -> 0 | BH157: =IF(N157="zníž. prenesená",J157,0) -> 0 | BI157: =IF(N157="nulová",J157,0) -> 0 | BJ157: 2 | BK157: =ROUND(I157*H157,2) -> 0 | BL157: 4 | BM157: 663447609
D158: D | E158: 99 | F158: Presun hmôt HSV | J158: =BK158 -> 0 | P158: =P159 -> 4.8204 | R158: =R159 -> 0 | T158: =T159 -> 0 | AR158: 1 | AT158: D | AU158: 1 | AY158: ROZPOCET | BK158: =BK159 -> 0
C159: 27 | D159: K | E159: 998225111 | F159: Presun hmôt pre pozemnú komunikáciu a letisko s krytom asfaltovým akejkoľvek dĺžky objektu | G159: t | H159: 120.51 | J159: =ROUND(I159*H159,2) -> 0 | N159: znížená | O159: 0.04 | P159: =O159*H159 -> 4.8204 | Q159: 0 | R159: =Q159*H159 -> 0 | S159: 0 | T159: =S159*H159 -> 0 | AR159: 4 | AT159: K | AU159: 2 | AY159: ROZPOCET | BE159: =IF(N159="základná",J159,0) -> 0 | BF159: =IF(N159="znížená",J159,0) -> 0 | BG159: =IF(N159="zákl. prenesená",J159,0) -> 0 | BH159: =IF(N159="zníž. prenesená",J159,0) -> 0 | BI159: =IF(N159="nulová",J159,0) -> 0 | BJ159: 2 | BK159: =ROUND(I159*H159,2) -> 0 | BL159: 4 | BM159: -507856552
