Workbook

Sheet Rekapitulácia stavby
A1: Export Komplet | BA1: 2.0 | BB1: ZAMOK | BT1: False | BU1: False | BV1: {a43220c1-0c43-4624-a5da-c6e7325b9dd4}
BS2: 0,01 | BT2: 23
BS3: 0,01 | BT3: 23
D4: REKAPITULÁCIA STAVBY | AS4: v --- nižšie sa nachádzajú doplnkové a pomocné údaje k zostavám --- v | BE4: Návod na vyplnenie | BS4: 0,001
D5: Kód: | K5: 2026/101 | BE5: Meniť je možné iba bunky so žltým podfarbením!_x000D_ _x000D_ 1) na prvom liste Rekapitulácie stavby vyplňte v zostave_x000D_ _x000D_ a) Rekapitulácia stavby_x000D_ - údaje o Zhotoviteľovi_x000D_ (prenesú sa do ostatných zostáv aj v iných listoch)_x000D_ _x000D_ b) Rekapitulácia objektov stavby_x000D_ - potrebné Ostatné náklady_x000D_ _x000D_ 2) na vybraných listoch vyplňte v zostave_x000D_ _x000D_ a) Krycí list_x000D_ - údaje o Zhotoviteľovi, pokiaľ sa líšia od údajov o Zhotoviteľovi na Rekapitulácii stavby_x000D_ (údaje se prenesú do ostatných zostav v danom liste)_x000D_ _x000D_ b) Rekapitulácia rozpočtu_x000D_ - potrebné Ostatné náklady_x000D_ _x000D_ c) Celkové náklady za stavbu_x000D_ - ceny na položkách_x000D_ - množstvo, pokiaľ má žlté podfarbenie_x000D_ - a v prípade potreby poznámku (tá je v skrytom stĺpci) | BS5: 0,01
D6: Stavba: | K6: Obnova vybraných častí NKP Kaštieľ,Múzeum vo Svätom Antone | BS6: 0,01
D7: JKSO: | AK7: ČS: | BS7: 0,01
D8: Miesto: | AK8: Dátum: | AN8: 24. 7. 2026 | BS8: 0,01
BS9: 0,01
D10: Objednávateľ: | AK10: IČO: | BS10: 0,01
E11: Múzeum vo Sv.Antone, Svätý Anton č. 291, 969 72 | AK11: IČ DPH: | BS11: 0,01
BS12: 0,01
D13: Zhotoviteľ: | AK13: IČO: | AN13: Vyplň údaj | BS13: 0,01
E14: Vyplň údaj | AK14: IČ DPH: | AN14: Vyplň údaj | BS14: 0,01
BS15: False
D16: Projektant: | AK16: IČO: | BS16: False
E17: Ing.arch.Adriana Zorvanová | AK17: IČ DPH: | BS17: True
BS18: 0,01
D19: Spracovateľ: | AK19: IČO: | BS19: 0,01
AK20: IČ DPH: | BS20: True
D22: Poznámka:
D26: Cena bez DPH | AK26: =ROUND(AG94,2) -> 0
L28: Sadzba dane | W28: Základ dane | AK28: Výška dane
D29: DPH | F29: základná | L29: 0.23 | W29: =ROUND(AZ94, 2) -> 0 | AK29: =ROUND(AV94, 2) -> 0
F30: znížená | L30: 0.23 | W30: =ROUND(BA94, 2) -> 0 | AK30: =ROUND(AW94, 2) -> 0
F31: zákl. prenesená | L31: 0.23 | W31: =ROUND(BB94, 2) -> 0 | AK31: 0
F32: zníž. prenesená | L32: 0.23 | W32: =ROUND(BC94, 2) -> 0 | AK32: 0
F33: nulová | L33: 0 | W33: =ROUND(BD94, 2) -> 0 | AK33: 0
D35: Cena s DPH | T35: v | X35: EUR | AK35: =SUM(AK26:AK33) -> 0
D49: Projektant | AH49: Spracovateľ
D60: Dátum a podpis: | V60: Pečiatka | AH60: Dátum a podpis: | AM60: Pečiatka
D64: Objednávateľ | AH64: Zhotoviteľ
D75: Dátum a podpis: | V75: Pečiatka | AH75: Dátum a podpis: | AM75: Pečiatka
C82: REKAPITULÁCIA OBJEKTOV STAVBY
C84: Kód: | L84: =K5 -> 2026/101
C85: Stavba: | L85: =K6 -> Obnova vybraných častí NKP Kaštieľ,Múzeum vo Svätom Antone
C87: Miesto: | L87: =IF(K8="","",K8) | AI87: Dátum: | AM87: =IF(AN8= "","",AN8) -> 24. 7. 2026
C89: Objednávateľ: | L89: =IF(E11= "","",E11) -> Múzeum vo Sv.Antone, Svätý Anton č. 291, 969 72 | AI89: Projektant: | AM89: =IF(E17="","",E17) -> Ing.arch.Adriana Zorvanová | AS89: Informatívne údaje z listov zákaziek
C90: Zhotoviteľ: | L90: =IF(E14= "Vyplň údaj","",E14) | AI90: Spracovateľ: | AM90: =IF(E20="","",E20)
C92: Kód | I92: Popis | AG92: Cena bez DPH [EUR] | AN92: Cena s DPH [EUR] | AQ92: Typ | AS92: z toho Ostat._x000D_ náklady [EUR] | AT92: DPH [EUR] | AU92: Normohodiny [h] | AV92: DPH základná [EUR] | AW92: DPH znížená [EUR] | AX92: DPH základná prenesená_x000D_ [EUR] | AY92: DPH znížená prenesená_x000D_ [EUR] | AZ92: Základňa_x000D_ DPH základná | BA92: Základňa_x000D_ DPH znížená | BB92: Základňa_x000D_ DPH zákl. prenesená | BC92: Základňa_x000D_ DPH zníž. prenesená | BD92: Základňa_x000D_ DPH nulová
...

Sheet 2025-01 - SO-01 -  rekonš...
AT2: {e81ef1af-3ed7-4fce-9854-ad8583ca5632}
AT3: 0
D4: KRYCÍ LIST ROZPOČTU | M4: v --- nižšie sa nachádzajú doplnkové a pomocné údaje k zostavám --- v | AT4: False
D6: Stavba:
E7: ='Rekapitulácia stavby'!K6 -> Obnova vybraných častí NKP Kaštieľ,Múzeum vo Svätom Antone
D8: Objekt:
E9: 2025/01 - SO-01 - rekonštrukcia strechy
D11: JKSO: | I11: ČS:
D12: Miesto: | I12: Dátum: | J12: ='Rekapitulácia stavby'!AN8 -> 24. 7. 2026
D14: Objednávateľ: | I14: IČO:
E15: Múzeum vo Sv.Antone, Svätý Anton č. 291, 969 72 | I15: IČ DPH:
D17: Zhotoviteľ: | I17: IČO: | J17: ='Rekapitulácia stavby'!AN13 -> Vyplň údaj
E18: ='Rekapitulácia stavby'!E14 -> Vyplň údaj | I18: IČ DPH: | J18: ='Rekapitulácia stavby'!AN14 -> Vyplň údaj
D20: Projektant: | I20: IČO:
E21: Ing.arch.Adriana Zorvanová | I21: IČ DPH:
D23: Spracovateľ: | I23: IČO:
I24: IČ DPH:
D26: Poznámka:
D30: Cena bez DPH | J30: =ROUND(J128, 2) -> 0
F32: Základ dane | I32: Sadzba dane | J32: Výška dane
D33: DPH | E33: základná | F33: =ROUND((SUM(BE128:BE355)), 2) -> 0 | I33: 0.23 | J33: =ROUND(((SUM(BE128:BE355))*I33), 2) -> 0
E34: znížená | F34: =ROUND((SUM(BF128:BF355)), 2) -> 0 | I34: 0.23 | J34: =ROUND(((SUM(BF128:BF355))*I34), 2) -> 0
E35: zákl. prenesená | F35: =ROUND((SUM(BG128:BG355)), 2) -> 0 | I35: 0.23 | J35: =0 -> 0
E36: zníž. prenesená | F36: =ROUND((SUM(BH128:BH355)), 2) -> 0 | I36: 0.23 | J36: =0 -> 0
E37: nulová | F37: =ROUND((SUM(BI128:BI355)), 2) -> 0 | I37: 0 | J37: =0 -> 0
D39: Cena s DPH | G39: v | H39: EUR | J39: =SUM(J30:J37) -> 0
D50: Projektant | G50: Spracovateľ
D61: Dátum a podpis: | F61: Pečiatka | G61: Dátum a podpis: | J61: Pečiatka
D65: Objednávateľ | G65: Zhotoviteľ
D76: Dátum a podpis: | F76: Pečiatka | G76: Dátum a podpis: | J76: Pečiatka
C82: REKAPITULÁCIA ROZPOČTU
C84: Stavba:
E85: =E7 -> Obnova vybraných častí NKP Kaštieľ,Múzeum vo Svätom Antone
C86: Objekt:
E87: =E9 -> 2025/01 - SO-01 - rekonštrukcia strechy
C89: Miesto: | F89: =F12 | I89: Dátum: | J89: =IF(J12="","",J12) -> 24. 7. 2026
C91: Objednávateľ: | F91: =E15 -> Múzeum vo Sv.Antone, Svätý Anton č. 291, 969 72 | I91: Projektant: | J91: =E21 -> Ing.arch.Adriana Zorvanová
C92: Zhotoviteľ: | F92: =IF(E18="","",E18) -> Vyplň údaj | I92: Spracovateľ: | J92: =E24
C94: Kód dielu - Popis | J94: Cena celkom [EUR]
C96: Náklady z rozpočtu | J96: =J128 -> 0 | AU96: -1
...

Sheet 2025-02 - SO-01 - obnova ...
AT2: {46e82cea-a80e-4c1e-8bb6-d35cac726472}
AT3: 0
D4: KRYCÍ LIST ROZPOČTU | M4: v --- nižšie sa nachádzajú doplnkové a pomocné údaje k zostavám --- v | AT4: False
D6: Stavba:
E7: ='Rekapitulácia stavby'!K6 -> Obnova vybraných častí NKP Kaštieľ,Múzeum vo Svätom Antone
D8: Objekt:
E9: 2025/02 - SO-01 - obnova interierov severného a východného krídla
D11: JKSO: | I11: ČS:
D12: Miesto: | I12: Dátum: | J12: ='Rekapitulácia stavby'!AN8 -> 24. 7. 2026
D14: Objednávateľ: | I14: IČO:
E15: Múzeum vo Sv.Antone, Svätý Anton č. 291, 969 72 | I15: IČ DPH:
D17: Zhotoviteľ: | I17: IČO: | J17: ='Rekapitulácia stavby'!AN13 -> Vyplň údaj
E18: ='Rekapitulácia stavby'!E14 -> Vyplň údaj | I18: IČ DPH: | J18: ='Rekapitulácia stavby'!AN14 -> Vyplň údaj
D20: Projektant: | I20: IČO:
E21: Ing.arch.Adriana Zorvanová | I21: IČ DPH:
D23: Spracovateľ: | I23: IČO:
I24: IČ DPH:
D26: Poznámka:
D30: Cena bez DPH | J30: =ROUND(J135, 2) -> 0
F32: Základ dane | I32: Sadzba dane | J32: Výška dane
D33: DPH | E33: základná | F33: =ROUND((SUM(BE135:BE1020)), 2) -> 0 | I33: 0.23 | J33: =ROUND(((SUM(BE135:BE1020))*I33), 2) -> 0
E34: znížená | F34: =ROUND((SUM(BF135:BF1020)), 2) -> 0 | I34: 0.23 | J34: =ROUND(((SUM(BF135:BF1020))*I34), 2) -> 0
E35: zákl. prenesená | F35: =ROUND((SUM(BG135:BG1020)), 2) -> 0 | I35: 0.23 | J35: =0 -> 0
E36: zníž. prenesená | F36: =ROUND((SUM(BH135:BH1020)), 2) -> 0 | I36: 0.23 | J36: =0 -> 0
E37: nulová | F37: =ROUND((SUM(BI135:BI1020)), 2) -> 0 | I37: 0 | J37: =0 -> 0
D39: Cena s DPH | G39: v | H39: EUR | J39: =SUM(J30:J37) -> 0
D50: Projektant | G50: Spracovateľ
D61: Dátum a podpis: | F61: Pečiatka | G61: Dátum a podpis: | J61: Pečiatka
D65: Objednávateľ | G65: Zhotoviteľ
D76: Dátum a podpis: | F76: Pečiatka | G76: Dátum a podpis: | J76: Pečiatka
C82: REKAPITULÁCIA ROZPOČTU
C84: Stavba:
E85: =E7 -> Obnova vybraných častí NKP Kaštieľ,Múzeum vo Svätom Antone
C86: Objekt:
E87: =E9 -> 2025/02 - SO-01 - obnova interierov severného a východného krídla
C89: Miesto: | F89: =F12 | I89: Dátum: | J89: =IF(J12="","",J12) -> 24. 7. 2026
C91: Objednávateľ: | F91: =E15 -> Múzeum vo Sv.Antone, Svätý Anton č. 291, 969 72 | I91: Projektant: | J91: =E21 -> Ing.arch.Adriana Zorvanová
C92: Zhotoviteľ: | F92: =IF(E18="","",E18) -> Vyplň údaj | I92: Spracovateľ: | J92: =E24
C94: Kód dielu - Popis | J94: Cena celkom [EUR]
C96: Náklady z rozpočtu | J96: =J135 -> 0 | AU96: -1
...

Sheet 2025-10 - SO-01 - sanácia...
AT2: {9a2003ad-1041-42d1-87c4-24fc0498d8e6}
AT3: 0
D4: KRYCÍ LIST ROZPOČTU | M4: v --- nižšie sa nachádzajú doplnkové a pomocné údaje k zostavám --- v | AT4: False
D6: Stavba:
E7: ='Rekapitulácia stavby'!K6 -> Obnova vybraných častí NKP Kaštieľ,Múzeum vo Svätom Antone
D8: Objekt:
E9: 2025/10 - SO-01 - sanácia vlhkosti exteriér
D11: JKSO: | I11: ČS:
D12: Miesto: | I12: Dátum: | J12: ='Rekapitulácia stavby'!AN8 -> 24. 7. 2026
D14: Objednávateľ: | I14: IČO:
E15: Múzeum vo Sv.Antone, Svätý Anton č. 291, 969 72 | I15: IČ DPH:
D17: Zhotoviteľ: | I17: IČO: | J17: ='Rekapitulácia stavby'!AN13 -> Vyplň údaj
E18: ='Rekapitulácia stavby'!E14 -> Vyplň údaj | I18: IČ DPH: | J18: ='Rekapitulácia stavby'!AN14 -> Vyplň údaj
D20: Projektant: | I20: IČO:
E21: Ing.arch.Adriana Zorvanová | I21: IČ DPH:
D23: Spracovateľ: | I23: IČO: | J23: =IF('Rekapitulácia stavby'!AN19="","",'Rekapitulácia stavby'!AN19)
E24: =IF('Rekapitulácia stavby'!E20="","",'Rekapitulácia stavby'!E20) | I24: IČ DPH: | J24: =IF('Rekapitulácia stavby'!AN20="","",'Rekapitulácia stavby'!AN20)
D26: Poznámka:
D30: Cena bez DPH | J30: =ROUND(J128, 2) -> 0
F32: Základ dane | I32: Sadzba dane | J32: Výška dane
D33: DPH | E33: základná | F33: =ROUND((SUM(BE128:BE310)), 2) -> 0 | I33: 0.23 | J33: =ROUND(((SUM(BE128:BE310))*I33), 2) -> 0
E34: znížená | F34: =ROUND((SUM(BF128:BF310)), 2) -> 0 | I34: 0.23 | J34: =ROUND(((SUM(BF128:BF310))*I34), 2) -> 0
E35: zákl. prenesená | F35: =ROUND((SUM(BG128:BG310)), 2) -> 0 | I35: 0.23 | J35: =0 -> 0
E36: zníž. prenesená | F36: =ROUND((SUM(BH128:BH310)), 2) -> 0 | I36: 0.23 | J36: =0 -> 0
E37: nulová | F37: =ROUND((SUM(BI128:BI310)), 2) -> 0 | I37: 0 | J37: =0 -> 0
D39: Cena s DPH | G39: v | H39: EUR | J39: =SUM(J30:J37) -> 0
D50: Projektant | G50: Spracovateľ
D61: Dátum a podpis: | F61: Pečiatka | G61: Dátum a podpis: | J61: Pečiatka
D65: Objednávateľ | G65: Zhotoviteľ
D76: Dátum a podpis: | F76: Pečiatka | G76: Dátum a podpis: | J76: Pečiatka
C82: REKAPITULÁCIA ROZPOČTU
C84: Stavba:
E85: =E7 -> Obnova vybraných častí NKP Kaštieľ,Múzeum vo Svätom Antone
C86: Objekt:
E87: =E9 -> 2025/10 - SO-01 - sanácia vlhkosti exteriér
C89: Miesto: | F89: =F12 | I89: Dátum: | J89: =IF(J12="","",J12) -> 24. 7. 2026
C91: Objednávateľ: | F91: =E15 -> Múzeum vo Sv.Antone, Svätý Anton č. 291, 969 72 | I91: Projektant: | J91: =E21 -> Ing.arch.Adriana Zorvanová
C92: Zhotoviteľ: | F92: =IF(E18="","",E18) -> Vyplň údaj | I92: Spracovateľ: | J92: =E24
C94: Kód dielu - Popis | J94: Cena celkom [EUR]
C96: Náklady z rozpočtu | J96: =J128 -> 0 | AU96: -1
...

Sheet 2025-11 - SO-01 - umeleck...
AT2: {a70bc4c3-f7ef-40cb-9f7b-6859b39f86ef}
AT3: 0
D4: KRYCÍ LIST ROZPOČTU | M4: v --- nižšie sa nachádzajú doplnkové a pomocné údaje k zostavám --- v | AT4: False
D6: Stavba:
E7: ='Rekapitulácia stavby'!K6 -> Obnova vybraných častí NKP Kaštieľ,Múzeum vo Svätom Antone
D8: Objekt:
E9: 2025/11 - SO-01 - umelecko-remeselná obnova hodnotných prvkov kaštieľa
D11: JKSO: | I11: ČS:
D12: Miesto: | I12: Dátum: | J12: ='Rekapitulácia stavby'!AN8 -> 24. 7. 2026
D14: Objednávateľ: | I14: IČO: | J14: =IF('Rekapitulácia stavby'!AN10="","",'Rekapitulácia stavby'!AN10)
E15: =IF('Rekapitulácia stavby'!E11="","",'Rekapitulácia stavby'!E11) -> Múzeum vo Sv.Antone, Svätý Anton č. 291, 969 72 | I15: IČ DPH: | J15: =IF('Rekapitulácia stavby'!AN11="","",'Rekapitulácia stavby'!AN11)
D17: Zhotoviteľ: | I17: IČO: | J17: ='Rekapitulácia stavby'!AN13 -> Vyplň údaj
E18: ='Rekapitulácia stavby'!E14 -> Vyplň údaj | I18: IČ DPH: | J18: ='Rekapitulácia stavby'!AN14 -> Vyplň údaj
D20: Projektant: | I20: IČO: | J20: =IF('Rekapitulácia stavby'!AN16="","",'Rekapitulácia stavby'!AN16)
E21: =IF('Rekapitulácia stavby'!E17="","",'Rekapitulácia stavby'!E17) -> Ing.arch.Adriana Zorvanová | I21: IČ DPH: | J21: =IF('Rekapitulácia stavby'!AN17="","",'Rekapitulácia stavby'!AN17)
D23: Spracovateľ: | I23: IČO: | J23: =IF('Rekapitulácia stavby'!AN19="","",'Rekapitulácia stavby'!AN19)
E24: =IF('Rekapitulácia stavby'!E20="","",'Rekapitulácia stavby'!E20) | I24: IČ DPH: | J24: =IF('Rekapitulácia stavby'!AN20="","",'Rekapitulácia stavby'!AN20)
D26: Poznámka:
D30: Cena bez DPH | J30: =ROUND(J128, 2) -> 0
F32: Základ dane | I32: Sadzba dane | J32: Výška dane
D33: DPH | E33: základná | F33: =ROUND((SUM(BE128:BE271)), 2) -> 0 | I33: 0.23 | J33: =ROUND(((SUM(BE128:BE271))*I33), 2) -> 0
E34: znížená | F34: =ROUND((SUM(BF128:BF271)), 2) -> 0 | I34: 0.23 | J34: =ROUND(((SUM(BF128:BF271))*I34), 2) -> 0
E35: zákl. prenesená | F35: =ROUND((SUM(BG128:BG271)), 2) -> 0 | I35: 0.23 | J35: =0 -> 0
E36: zníž. prenesená | F36: =ROUND((SUM(BH128:BH271)), 2) -> 0 | I36: 0.23 | J36: =0 -> 0
E37: nulová | F37: =ROUND((SUM(BI128:BI271)), 2) -> 0 | I37: 0 | J37: =0 -> 0
D39: Cena s DPH | G39: v | H39: EUR | J39: =SUM(J30:J37) -> 0
D50: Projektant | G50: Spracovateľ
D61: Dátum a podpis: | F61: Pečiatka | G61: Dátum a podpis: | J61: Pečiatka
D65: Objednávateľ | G65: Zhotoviteľ
D76: Dátum a podpis: | F76: Pečiatka | G76: Dátum a podpis: | J76: Pečiatka
C82: REKAPITULÁCIA ROZPOČTU
C84: Stavba:
E85: =E7 -> Obnova vybraných častí NKP Kaštieľ,Múzeum vo Svätom Antone
C86: Objekt:
E87: =E9 -> 2025/11 - SO-01 - umelecko-remeselná obnova hodnotných prvkov kaštieľa
C89: Miesto: | F89: =F12 | I89: Dátum: | J89: =IF(J12="","",J12) -> 24. 7. 2026
C91: Objednávateľ: | F91: =E15 -> Múzeum vo Sv.Antone, Svätý Anton č. 291, 969 72 | I91: Projektant: | J91: =E21 -> Ing.arch.Adriana Zorvanová
C92: Zhotoviteľ: | F92: =IF(E18="","",E18) -> Vyplň údaj | I92: Spracovateľ: | J92: =E24
C94: Kód dielu - Popis | J94: Cena celkom [EUR]
C96: Náklady z rozpočtu | J96: =J128 -> 0 | AU96: -1
...

Sheet 2025-12 - SO-01 - umeleck...
AT2: {dd00fcc8-7b8c-4165-a667-676bb6a9936a}
AT3: 0
D4: KRYCÍ LIST ROZPOČTU | M4: v --- nižšie sa nachádzajú doplnkové a pomocné údaje k zostavám --- v | AT4: False
D6: Stavba:
E7: ='Rekapitulácia stavby'!K6 -> Obnova vybraných častí NKP Kaštieľ,Múzeum vo Svätom Antone
D8: Objekt:
E9: 2025/12 - SO-01 - umelecko-remeselná obnova a reštaurovanie okien na celom objekte kaštieľa
D11: JKSO: | I11: ČS:
D12: Miesto: | I12: Dátum: | J12: ='Rekapitulácia stavby'!AN8 -> 24. 7. 2026
D14: Objednávateľ: | I14: IČO:
E15: Múzeum vo Sv.Antone, Svätý Anton č. 291, 969 72 | I15: IČ DPH:
D17: Zhotoviteľ: | I17: IČO: | J17: ='Rekapitulácia stavby'!AN13 -> Vyplň údaj
E18: ='Rekapitulácia stavby'!E14 -> Vyplň údaj | I18: IČ DPH: | J18: ='Rekapitulácia stavby'!AN14 -> Vyplň údaj
D20: Projektant: | I20: IČO:
E21: Ing.arch.Adriana Zorvanová | I21: IČ DPH:
D23: Spracovateľ: | I23: IČO: | J23: =IF('Rekapitulácia stavby'!AN19="","",'Rekapitulácia stavby'!AN19)
E24: =IF('Rekapitulácia stavby'!E20="","",'Rekapitulácia stavby'!E20) | I24: IČ DPH: | J24: =IF('Rekapitulácia stavby'!AN20="","",'Rekapitulácia stavby'!AN20)
D26: Poznámka:
D30: Cena bez DPH | J30: =ROUND(J118, 2) -> 0
F32: Základ dane | I32: Sadzba dane | J32: Výška dane
D33: DPH | E33: základná | F33: =ROUND((SUM(BE118:BE140)), 2) -> 0 | I33: 0.23 | J33: =ROUND(((SUM(BE118:BE140))*I33), 2) -> 0
E34: znížená | F34: =ROUND((SUM(BF118:BF140)), 2) -> 0 | I34: 0.23 | J34: =ROUND(((SUM(BF118:BF140))*I34), 2) -> 0
E35: zákl. prenesená | F35: =ROUND((SUM(BG118:BG140)), 2) -> 0 | I35: 0.23 | J35: =0 -> 0
E36: zníž. prenesená | F36: =ROUND((SUM(BH118:BH140)), 2) -> 0 | I36: 0.23 | J36: =0 -> 0
E37: nulová | F37: =ROUND((SUM(BI118:BI140)), 2) -> 0 | I37: 0 | J37: =0 -> 0
D39: Cena s DPH | G39: v | H39: EUR | J39: =SUM(J30:J37) -> 0
D50: Projektant | G50: Spracovateľ
D61: Dátum a podpis: | F61: Pečiatka | G61: Dátum a podpis: | J61: Pečiatka
D65: Objednávateľ | G65: Zhotoviteľ
D76: Dátum a podpis: | F76: Pečiatka | G76: Dátum a podpis: | J76: Pečiatka
C82: REKAPITULÁCIA ROZPOČTU
C84: Stavba:
E85: =E7 -> Obnova vybraných častí NKP Kaštieľ,Múzeum vo Svätom Antone
C86: Objekt:
E87: =E9 -> 2025/12 - SO-01 - umelecko-remeselná obnova a reštaurovanie okien na celom objekte kaštieľa
C89: Miesto: | F89: =F12 | I89: Dátum: | J89: =IF(J12="","",J12) -> 24. 7. 2026
C91: Objednávateľ: | F91: =E15 -> Múzeum vo Sv.Antone, Svätý Anton č. 291, 969 72 | I91: Projektant: | J91: =E21 -> Ing.arch.Adriana Zorvanová
C92: Zhotoviteľ: | F92: =IF(E18="","",E18) -> Vyplň údaj | I92: Spracovateľ: | J92: =E24
C94: Kód dielu - Popis | J94: Cena celkom [EUR]
C96: Náklady z rozpočtu | J96: =J118 -> 0 | AU96: -1
...

Sheet 2025-13 - SO-01 - reštaur...
AT2: {bcdd91a8-fdd9-4b40-b7c3-420bc69dc00a}
AT3: 0
D4: KRYCÍ LIST ROZPOČTU | M4: v --- nižšie sa nachádzajú doplnkové a pomocné údaje k zostavám --- v | AT4: False
D6: Stavba:
E7: ='Rekapitulácia stavby'!K6 -> Obnova vybraných častí NKP Kaštieľ,Múzeum vo Svätom Antone
D8: Objekt:
E9: 2025/13 - SO-01 - reštaurátorská rehabilitácia miestností 1.14, 1.15 v objekte Kaštieľa
D11: JKSO: | I11: ČS:
D12: Miesto: | I12: Dátum: | J12: ='Rekapitulácia stavby'!AN8 -> 24. 7. 2026
D14: Objednávateľ: | I14: IČO:
E15: Múzeum vo Sv.Antone, Svätý Anton č. 291, 969 72 | I15: IČ DPH:
D17: Zhotoviteľ: | I17: IČO: | J17: ='Rekapitulácia stavby'!AN13 -> Vyplň údaj
E18: ='Rekapitulácia stavby'!E14 -> Vyplň údaj | I18: IČ DPH: | J18: ='Rekapitulácia stavby'!AN14 -> Vyplň údaj
D20: Projektant: | I20: IČO:
E21: Ing.arch.Adriana Zorvanová | I21: IČ DPH:
D23: Spracovateľ: | I23: IČO: | J23: =IF('Rekapitulácia stavby'!AN19="","",'Rekapitulácia stavby'!AN19)
E24: =IF('Rekapitulácia stavby'!E20="","",'Rekapitulácia stavby'!E20) | I24: IČ DPH: | J24: =IF('Rekapitulácia stavby'!AN20="","",'Rekapitulácia stavby'!AN20)
D26: Poznámka:
D30: Cena bez DPH | J30: =ROUND(J119, 2) -> 0
F32: Základ dane | I32: Sadzba dane | J32: Výška dane
D33: DPH | E33: základná | F33: =ROUND((SUM(BE119:BE146)), 2) -> 0 | I33: 0.23 | J33: =ROUND(((SUM(BE119:BE146))*I33), 2) -> 0
E34: znížená | F34: =ROUND((SUM(BF119:BF146)), 2) -> 0 | I34: 0.23 | J34: =ROUND(((SUM(BF119:BF146))*I34), 2) -> 0
E35: zákl. prenesená | F35: =ROUND((SUM(BG119:BG146)), 2) -> 0 | I35: 0.23 | J35: =0 -> 0
E36: zníž. prenesená | F36: =ROUND((SUM(BH119:BH146)), 2) -> 0 | I36: 0.23 | J36: =0 -> 0
E37: nulová | F37: =ROUND((SUM(BI119:BI146)), 2) -> 0 | I37: 0 | J37: =0 -> 0
D39: Cena s DPH | G39: v | H39: EUR | J39: =SUM(J30:J37) -> 0
D50: Projektant | G50: Spracovateľ
D61: Dátum a podpis: | F61: Pečiatka | G61: Dátum a podpis: | J61: Pečiatka
D65: Objednávateľ | G65: Zhotoviteľ
D76: Dátum a podpis: | F76: Pečiatka | G76: Dátum a podpis: | J76: Pečiatka
C82: REKAPITULÁCIA ROZPOČTU
C84: Stavba:
E85: =E7 -> Obnova vybraných častí NKP Kaštieľ,Múzeum vo Svätom Antone
C86: Objekt:
E87: =E9 -> 2025/13 - SO-01 - reštaurátorská rehabilitácia miestností 1.14, 1.15 v objekte Kaštieľa
C89: Miesto: | F89: =F12 | I89: Dátum: | J89: =IF(J12="","",J12) -> 24. 7. 2026
C91: Objednávateľ: | F91: =E15 -> Múzeum vo Sv.Antone, Svätý Anton č. 291, 969 72 | I91: Projektant: | J91: =E21 -> Ing.arch.Adriana Zorvanová
C92: Zhotoviteľ: | F92: =IF(E18="","",E18) -> Vyplň údaj | I92: Spracovateľ: | J92: =E24
C94: Kód dielu - Popis | J94: Cena celkom [EUR]
C96: Náklady z rozpočtu | J96: =J119 -> 0 | AU96: -1
...

Sheet 2025-16 - SO-01 - reštaur...
AT2: {0bee512f-4f58-4f95-9ee2-6189b0e71ee3}
AT3: 0
D4: KRYCÍ LIST ROZPOČTU | M4: v --- nižšie sa nachádzajú doplnkové a pomocné údaje k zostavám --- v | AT4: False
D6: Stavba:
E7: ='Rekapitulácia stavby'!K6 -> Obnova vybraných častí NKP Kaštieľ,Múzeum vo Svätom Antone
D8: Objekt:
E9: 2025/16 - SO-01 - reštaurátorské práce dvoch fasádnych tympanónov na objekte kaštieľa
D11: JKSO: | I11: ČS:
D12: Miesto: | I12: Dátum: | J12: ='Rekapitulácia stavby'!AN8 -> 24. 7. 2026
D14: Objednávateľ: | I14: IČO:
E15: Múzeum vo Sv.Antone, Svätý Anton č. 291, 969 72 | I15: IČ DPH:
D17: Zhotoviteľ: | I17: IČO: | J17: ='Rekapitulácia stavby'!AN13 -> Vyplň údaj
E18: ='Rekapitulácia stavby'!E14 -> Vyplň údaj | I18: IČ DPH: | J18: ='Rekapitulácia stavby'!AN14 -> Vyplň údaj
D20: Projektant: | I20: IČO:
E21: Ing.arch.Adriana Zorvanová | I21: IČ DPH:
D23: Spracovateľ: | I23: IČO: | J23: =IF('Rekapitulácia stavby'!AN19="","",'Rekapitulácia stavby'!AN19)
E24: =IF('Rekapitulácia stavby'!E20="","",'Rekapitulácia stavby'!E20) | I24: IČ DPH: | J24: =IF('Rekapitulácia stavby'!AN20="","",'Rekapitulácia stavby'!AN20)
D26: Poznámka:
D30: Cena bez DPH | J30: =ROUND(J120, 2) -> 0
F32: Základ dane | I32: Sadzba dane | J32: Výška dane
D33: DPH | E33: základná | F33: =ROUND((SUM(BE120:BE159)), 2) -> 0 | I33: 0.23 | J33: =ROUND(((SUM(BE120:BE159))*I33), 2) -> 0
E34: znížená | F34: =ROUND((SUM(BF120:BF159)), 2) -> 0 | I34: 0.23 | J34: =ROUND(((SUM(BF120:BF159))*I34), 2) -> 0
E35: zákl. prenesená | F35: =ROUND((SUM(BG120:BG159)), 2) -> 0 | I35: 0.23 | J35: =0 -> 0
E36: zníž. prenesená | F36: =ROUND((SUM(BH120:BH159)), 2) -> 0 | I36: 0.23 | J36: =0 -> 0
E37: nulová | F37: =ROUND((SUM(BI120:BI159)), 2) -> 0 | I37: 0 | J37: =0 -> 0
D39: Cena s DPH | G39: v | H39: EUR | J39: =SUM(J30:J37) -> 0
D50: Projektant | G50: Spracovateľ
D61: Dátum a podpis: | F61: Pečiatka | G61: Dátum a podpis: | J61: Pečiatka
D65: Objednávateľ | G65: Zhotoviteľ
D76: Dátum a podpis: | F76: Pečiatka | G76: Dátum a podpis: | J76: Pečiatka
C82: REKAPITULÁCIA ROZPOČTU
C84: Stavba:
E85: =E7 -> Obnova vybraných častí NKP Kaštieľ,Múzeum vo Svätom Antone
C86: Objekt:
E87: =E9 -> 2025/16 - SO-01 - reštaurátorské práce dvoch fasádnych tympanónov na objekte kaštieľa
C89: Miesto: | F89: =F12 | I89: Dátum: | J89: =IF(J12="","",J12) -> 24. 7. 2026
C91: Objednávateľ: | F91: =E15 -> Múzeum vo Sv.Antone, Svätý Anton č. 291, 969 72 | I91: Projektant: | J91: =E21 -> Ing.arch.Adriana Zorvanová
C92: Zhotoviteľ: | F92: =IF(E18="","",E18) -> Vyplň údaj | I92: Spracovateľ: | J92: =E24
C94: Kód dielu - Popis | J94: Cena celkom [EUR]
C96: Náklady z rozpočtu | J96: =J120 -> 0 | AU96: -1
...

Sheet 2025-03 - SO-01 - elektro...
AT2: {c2af8f97-6cc4-4c44-9caf-6a7a28acee5c}
AT3: 0
D4: KRYCÍ LIST ROZPOČTU | M4: v --- nižšie sa nachádzajú doplnkové a pomocné údaje k zostavám --- v | AT4: False
D6: Stavba:
E7: ='Rekapitulácia stavby'!K6 -> Obnova vybraných častí NKP Kaštieľ,Múzeum vo Svätom Antone
D8: Objekt:
E9: 2025/03 - SO-01 - elektroinštalácia
D11: JKSO: | I11: ČS:
D12: Miesto: | I12: Dátum: | J12: ='Rekapitulácia stavby'!AN8 -> 24. 7. 2026
D14: Objednávateľ: | I14: IČO: | J14: =IF('Rekapitulácia stavby'!AN10="","",'Rekapitulácia stavby'!AN10)
E15: =IF('Rekapitulácia stavby'!E11="","",'Rekapitulácia stavby'!E11) -> Múzeum vo Sv.Antone, Svätý Anton č. 291, 969 72 | I15: IČ DPH: | J15: =IF('Rekapitulácia stavby'!AN11="","",'Rekapitulácia stavby'!AN11)
D17: Zhotoviteľ: | I17: IČO: | J17: ='Rekapitulácia stavby'!AN13 -> Vyplň údaj
E18: ='Rekapitulácia stavby'!E14 -> Vyplň údaj | I18: IČ DPH: | J18: ='Rekapitulácia stavby'!AN14 -> Vyplň údaj
D20: Projektant: | I20: IČO: | J20: =IF('Rekapitulácia stavby'!AN16="","",'Rekapitulácia stavby'!AN16)
E21: =IF('Rekapitulácia stavby'!E17="","",'Rekapitulácia stavby'!E17) -> Ing.arch.Adriana Zorvanová | I21: IČ DPH: | J21: =IF('Rekapitulácia stavby'!AN17="","",'Rekapitulácia stavby'!AN17)
D23: Spracovateľ: | I23: IČO: | J23: =IF('Rekapitulácia stavby'!AN19="","",'Rekapitulácia stavby'!AN19)
E24: =IF('Rekapitulácia stavby'!E20="","",'Rekapitulácia stavby'!E20) | I24: IČ DPH: | J24: =IF('Rekapitulácia stavby'!AN20="","",'Rekapitulácia stavby'!AN20)
D26: Poznámka:
D30: Cena bez DPH | J30: =ROUND(J123, 2) -> 0
F32: Základ dane | I32: Sadzba dane | J32: Výška dane
D33: DPH | E33: základná | F33: =ROUND((SUM(BE123:BE190)), 2) -> 0 | I33: 0.23 | J33: =ROUND(((SUM(BE123:BE190))*I33), 2) -> 0
E34: znížená | F34: =ROUND((SUM(BF123:BF190)), 2) -> 0 | I34: 0.23 | J34: =ROUND(((SUM(BF123:BF190))*I34), 2) -> 0
E35: zákl. prenesená | F35: =ROUND((SUM(BG123:BG190)), 2) -> 0 | I35: 0.23 | J35: =0 -> 0
E36: zníž. prenesená | F36: =ROUND((SUM(BH123:BH190)), 2) -> 0 | I36: 0.23 | J36: =0 -> 0
E37: nulová | F37: =ROUND((SUM(BI123:BI190)), 2) -> 0 | I37: 0 | J37: =0 -> 0
D39: Cena s DPH | G39: v | H39: EUR | J39: =SUM(J30:J37) -> 0
D50: Projektant | G50: Spracovateľ
D61: Dátum a podpis: | F61: Pečiatka | G61: Dátum a podpis: | J61: Pečiatka
D65: Objednávateľ | G65: Zhotoviteľ
D76: Dátum a podpis: | F76: Pečiatka | G76: Dátum a podpis: | J76: Pečiatka
C82: REKAPITULÁCIA ROZPOČTU
C84: Stavba:
E85: =E7 -> Obnova vybraných častí NKP Kaštieľ,Múzeum vo Svätom Antone
C86: Objekt:
E87: =E9 -> 2025/03 - SO-01 - elektroinštalácia
C89: Miesto: | F89: =F12 | I89: Dátum: | J89: =IF(J12="","",J12) -> 24. 7. 2026
C91: Objednávateľ: | F91: =E15 -> Múzeum vo Sv.Antone, Svätý Anton č. 291, 969 72 | I91: Projektant: | J91: =E21 -> Ing.arch.Adriana Zorvanová
C92: Zhotoviteľ: | F92: =IF(E18="","",E18) -> Vyplň údaj | I92: Spracovateľ: | J92: =E24
C94: Kód dielu - Popis | J94: Cena celkom [EUR]
C96: Náklady z rozpočtu | J96: =J123 -> 0 | AU96: -1
...

Sheet 2025-04 - SO-01 - vzducho...
AT2: {d33e9c4d-ef52-4308-9a71-a05ad1f61cf1}
AT3: 0
D4: KRYCÍ LIST ROZPOČTU | M4: v --- nižšie sa nachádzajú doplnkové a pomocné údaje k zostavám --- v | AT4: False
D6: Stavba:
E7: ='Rekapitulácia stavby'!K6 -> Obnova vybraných častí NKP Kaštieľ,Múzeum vo Svätom Antone
D8: Objekt:
E9: 2025/04 - SO-01 - vzduchotechnika
D11: JKSO: | I11: ČS:
D12: Miesto: | I12: Dátum: | J12: ='Rekapitulácia stavby'!AN8 -> 24. 7. 2026
D14: Objednávateľ: | I14: IČO:
E15: Múzeum vo Sv.Antone, Svätý Anton č. 291, 969 72 | I15: IČ DPH:
D17: Zhotoviteľ: | I17: IČO: | J17: ='Rekapitulácia stavby'!AN13 -> Vyplň údaj
E18: ='Rekapitulácia stavby'!E14 -> Vyplň údaj | I18: IČ DPH: | J18: ='Rekapitulácia stavby'!AN14 -> Vyplň údaj
D20: Projektant: | I20: IČO:
E21: Ing.arch.Adriana Zorvanová | I21: IČ DPH:
D23: Spracovateľ: | I23: IČO: | J23: =IF('Rekapitulácia stavby'!AN19="","",'Rekapitulácia stavby'!AN19)
E24: =IF('Rekapitulácia stavby'!E20="","",'Rekapitulácia stavby'!E20) | I24: IČ DPH: | J24: =IF('Rekapitulácia stavby'!AN20="","",'Rekapitulácia stavby'!AN20)
D26: Poznámka:
D30: Cena bez DPH | J30: =ROUND(J124, 2) -> 0
F32: Základ dane | I32: Sadzba dane | J32: Výška dane
D33: DPH | E33: základná | F33: =ROUND((SUM(BE124:BE196)), 2) -> 0 | I33: 0.23 | J33: =ROUND(((SUM(BE124:BE196))*I33), 2) -> 0
E34: znížená | F34: =ROUND((SUM(BF124:BF196)), 2) -> 0 | I34: 0.23 | J34: =ROUND(((SUM(BF124:BF196))*I34), 2) -> 0
E35: zákl. prenesená | F35: =ROUND((SUM(BG124:BG196)), 2) -> 0 | I35: 0.23 | J35: =0 -> 0
E36: zníž. prenesená | F36: =ROUND((SUM(BH124:BH196)), 2) -> 0 | I36: 0.23 | J36: =0 -> 0
E37: nulová | F37: =ROUND((SUM(BI124:BI196)), 2) -> 0 | I37: 0 | J37: =0 -> 0
D39: Cena s DPH | G39: v | H39: EUR | J39: =SUM(J30:J37) -> 0
D50: Projektant | G50: Spracovateľ
D61: Dátum a podpis: | F61: Pečiatka | G61: Dátum a podpis: | J61: Pečiatka
D65: Objednávateľ | G65: Zhotoviteľ
D76: Dátum a podpis: | F76: Pečiatka | G76: Dátum a podpis: | J76: Pečiatka
C82: REKAPITULÁCIA ROZPOČTU
C84: Stavba:
E85: =E7 -> Obnova vybraných častí NKP Kaštieľ,Múzeum vo Svätom Antone
C86: Objekt:
E87: =E9 -> 2025/04 - SO-01 - vzduchotechnika
C89: Miesto: | F89: =F12 | I89: Dátum: | J89: =IF(J12="","",J12) -> 24. 7. 2026
C91: Objednávateľ: | F91: =E15 -> Múzeum vo Sv.Antone, Svätý Anton č. 291, 969 72 | I91: Projektant: | J91: =E21 -> Ing.arch.Adriana Zorvanová
C92: Zhotoviteľ: | F92: =IF(E18="","",E18) -> Vyplň údaj | I92: Spracovateľ: | J92: =E24
C94: Kód dielu - Popis | J94: Cena celkom [EUR]
C96: Náklady z rozpočtu | J96: =J124 -> 0 | AU96: -1
...

Sheet 2025-05 - SO-01 - zdravot...
AT2: {318527cb-474c-472b-b1de-e32ca30a2d3c}
AT3: 0
D4: KRYCÍ LIST ROZPOČTU | M4: v --- nižšie sa nachádzajú doplnkové a pomocné údaje k zostavám --- v | AT4: False
D6: Stavba:
E7: ='Rekapitulácia stavby'!K6 -> Obnova vybraných častí NKP Kaštieľ,Múzeum vo Svätom Antone
D8: Objekt:
E9: 2025/05 - SO-01 - zdravotechnika
D11: JKSO: | I11: ČS:
D12: Miesto: | I12: Dátum: | J12: ='Rekapitulácia stavby'!AN8 -> 24. 7. 2026
D14: Objednávateľ: | I14: IČO:
E15: Múzeum vo Sv.Antone, Svätý Anton č. 291, 969 72 | I15: IČ DPH:
D17: Zhotoviteľ: | I17: IČO: | J17: ='Rekapitulácia stavby'!AN13 -> Vyplň údaj
E18: ='Rekapitulácia stavby'!E14 -> Vyplň údaj | I18: IČ DPH: | J18: ='Rekapitulácia stavby'!AN14 -> Vyplň údaj
D20: Projektant: | I20: IČO:
E21: Ing.arch.Adriana Zorvanová | I21: IČ DPH:
D23: Spracovateľ: | I23: IČO: | J23: =IF('Rekapitulácia stavby'!AN19="","",'Rekapitulácia stavby'!AN19)
E24: =IF('Rekapitulácia stavby'!E20="","",'Rekapitulácia stavby'!E20) | I24: IČ DPH: | J24: =IF('Rekapitulácia stavby'!AN20="","",'Rekapitulácia stavby'!AN20)
D26: Poznámka:
D30: Cena bez DPH | J30: =ROUND(J129, 2) -> 0
F32: Základ dane | I32: Sadzba dane | J32: Výška dane
D33: DPH | E33: základná | F33: =ROUND((SUM(BE129:BE212)), 2) -> 0 | I33: 0.23 | J33: =ROUND(((SUM(BE129:BE212))*I33), 2) -> 0
E34: znížená | F34: =ROUND((SUM(BF129:BF212)), 2) -> 0 | I34: 0.23 | J34: =ROUND(((SUM(BF129:BF212))*I34), 2) -> 0
E35: zákl. prenesená | F35: =ROUND((SUM(BG129:BG212)), 2) -> 0 | I35: 0.23 | J35: =0 -> 0
E36: zníž. prenesená | F36: =ROUND((SUM(BH129:BH212)), 2) -> 0 | I36: 0.23 | J36: =0 -> 0
E37: nulová | F37: =ROUND((SUM(BI129:BI212)), 2) -> 0 | I37: 0 | J37: =0 -> 0
D39: Cena s DPH | G39: v | H39: EUR | J39: =SUM(J30:J37) -> 0
D50: Projektant | G50: Spracovateľ
D61: Dátum a podpis: | F61: Pečiatka | G61: Dátum a podpis: | J61: Pečiatka
D65: Objednávateľ | G65: Zhotoviteľ
D76: Dátum a podpis: | F76: Pečiatka | G76: Dátum a podpis: | J76: Pečiatka
C82: REKAPITULÁCIA ROZPOČTU
C84: Stavba:
E85: =E7 -> Obnova vybraných častí NKP Kaštieľ,Múzeum vo Svätom Antone
C86: Objekt:
E87: =E9 -> 2025/05 - SO-01 - zdravotechnika
C89: Miesto: | F89: =F12 | I89: Dátum: | J89: =IF(J12="","",J12) -> 24. 7. 2026
C91: Objednávateľ: | F91: =E15 -> Múzeum vo Sv.Antone, Svätý Anton č. 291, 969 72 | I91: Projektant: | J91: =E21 -> Ing.arch.Adriana Zorvanová
C92: Zhotoviteľ: | F92: =IF(E18="","",E18) -> Vyplň údaj | I92: Spracovateľ: | J92: =E24
C94: Kód dielu - Popis | J94: Cena celkom [EUR]
C96: Náklady z rozpočtu | J96: =J129 -> 0 | AU96: -1
...

Sheet 2025-06 - SO-01 - vykurov...
AT2: {0dabd1be-d761-420e-ad03-d78da7152dbc}
AT3: 0
D4: KRYCÍ LIST ROZPOČTU | M4: v --- nižšie sa nachádzajú doplnkové a pomocné údaje k zostavám --- v | AT4: False
D6: Stavba:
E7: ='Rekapitulácia stavby'!K6 -> Obnova vybraných častí NKP Kaštieľ,Múzeum vo Svätom Antone
D8: Objekt:
E9: 2025/06 - SO-01 - vykurovanie
D11: JKSO: | I11: ČS:
D12: Miesto: | I12: Dátum: | J12: ='Rekapitulácia stavby'!AN8 -> 24. 7. 2026
D14: Objednávateľ: | I14: IČO:
E15: Múzeum vo Sv.Antone, Svätý Anton č. 291, 969 72 | I15: IČ DPH:
D17: Zhotoviteľ: | I17: IČO: | J17: ='Rekapitulácia stavby'!AN13 -> Vyplň údaj
E18: ='Rekapitulácia stavby'!E14 -> Vyplň údaj | I18: IČ DPH: | J18: ='Rekapitulácia stavby'!AN14 -> Vyplň údaj
D20: Projektant: | I20: IČO:
E21: Ing.arch.Adriana Zorvanová | I21: IČ DPH:
D23: Spracovateľ: | I23: IČO: | J23: =IF('Rekapitulácia stavby'!AN19="","",'Rekapitulácia stavby'!AN19)
E24: =IF('Rekapitulácia stavby'!E20="","",'Rekapitulácia stavby'!E20) | I24: IČ DPH: | J24: =IF('Rekapitulácia stavby'!AN20="","",'Rekapitulácia stavby'!AN20)
D26: Poznámka:
D30: Cena bez DPH | J30: =ROUND(J128, 2) -> 0
F32: Základ dane | I32: Sadzba dane | J32: Výška dane
D33: DPH | E33: základná | F33: =ROUND((SUM(BE128:BE245)), 2) -> 0 | I33: 0.23 | J33: =ROUND(((SUM(BE128:BE245))*I33), 2) -> 0
E34: znížená | F34: =ROUND((SUM(BF128:BF245)), 2) -> 0 | I34: 0.23 | J34: =ROUND(((SUM(BF128:BF245))*I34), 2) -> 0
E35: zákl. prenesená | F35: =ROUND((SUM(BG128:BG245)), 2) -> 0 | I35: 0.23 | J35: =0 -> 0
E36: zníž. prenesená | F36: =ROUND((SUM(BH128:BH245)), 2) -> 0 | I36: 0.23 | J36: =0 -> 0
E37: nulová | F37: =ROUND((SUM(BI128:BI245)), 2) -> 0 | I37: 0 | J37: =0 -> 0
D39: Cena s DPH | G39: v | H39: EUR | J39: =SUM(J30:J37) -> 0
D50: Projektant | G50: Spracovateľ
D61: Dátum a podpis: | F61: Pečiatka | G61: Dátum a podpis: | J61: Pečiatka
D65: Objednávateľ | G65: Zhotoviteľ
D76: Dátum a podpis: | F76: Pečiatka | G76: Dátum a podpis: | J76: Pečiatka
C82: REKAPITULÁCIA ROZPOČTU
C84: Stavba:
E85: =E7 -> Obnova vybraných častí NKP Kaštieľ,Múzeum vo Svätom Antone
C86: Objekt:
E87: =E9 -> 2025/06 - SO-01 - vykurovanie
C89: Miesto: | F89: =F12 | I89: Dátum: | J89: =IF(J12="","",J12) -> 24. 7. 2026
C91: Objednávateľ: | F91: =E15 -> Múzeum vo Sv.Antone, Svätý Anton č. 291, 969 72 | I91: Projektant: | J91: =E21 -> Ing.arch.Adriana Zorvanová
C92: Zhotoviteľ: | F92: =IF(E18="","",E18) -> Vyplň údaj | I92: Spracovateľ: | J92: =E24
C94: Kód dielu - Popis | J94: Cena celkom [EUR]
C96: Náklady z rozpočtu | J96: =J128 -> 0 | AU96: -1
...

Sheet 2025-07 - SO-01 - slabopr...
AT2: {8946a953-e120-4a80-a70d-fc13635c0287}
AT3: 0
D4: KRYCÍ LIST ROZPOČTU | M4: v --- nižšie sa nachádzajú doplnkové a pomocné údaje k zostavám --- v | AT4: False
D6: Stavba:
E7: ='Rekapitulácia stavby'!K6 -> Obnova vybraných častí NKP Kaštieľ,Múzeum vo Svätom Antone
D8: Objekt:
E9: 2025/07 - SO-01 - slaboprúdové rozvody - CCTV
D11: JKSO: | I11: ČS:
D12: Miesto: | I12: Dátum: | J12: ='Rekapitulácia stavby'!AN8 -> 24. 7. 2026
D14: Objednávateľ: | I14: IČO:
E15: Múzeum vo Sv.Antone, Svätý Anton č. 291, 969 72 | I15: IČ DPH:
D17: Zhotoviteľ: | I17: IČO: | J17: ='Rekapitulácia stavby'!AN13 -> Vyplň údaj
E18: ='Rekapitulácia stavby'!E14 -> Vyplň údaj | I18: IČ DPH: | J18: ='Rekapitulácia stavby'!AN14 -> Vyplň údaj
D20: Projektant: | I20: IČO:
E21: Ing.arch.Adriana Zorvanová | I21: IČ DPH:
D23: Spracovateľ: | I23: IČO: | J23: =IF('Rekapitulácia stavby'!AN19="","",'Rekapitulácia stavby'!AN19)
E24: =IF('Rekapitulácia stavby'!E20="","",'Rekapitulácia stavby'!E20) | I24: IČ DPH: | J24: =IF('Rekapitulácia stavby'!AN20="","",'Rekapitulácia stavby'!AN20)
D26: Poznámka:
D30: Cena bez DPH | J30: =ROUND(J121, 2) -> 0
F32: Základ dane | I32: Sadzba dane | J32: Výška dane
D33: DPH | E33: základná | F33: =ROUND((SUM(BE121:BE184)), 2) -> 0 | I33: 0.23 | J33: =ROUND(((SUM(BE121:BE184))*I33), 2) -> 0
E34: znížená | F34: =ROUND((SUM(BF121:BF184)), 2) -> 0 | I34: 0.23 | J34: =ROUND(((SUM(BF121:BF184))*I34), 2) -> 0
E35: zákl. prenesená | F35: =ROUND((SUM(BG121:BG184)), 2) -> 0 | I35: 0.23 | J35: =0 -> 0
E36: zníž. prenesená | F36: =ROUND((SUM(BH121:BH184)), 2) -> 0 | I36: 0.23 | J36: =0 -> 0
E37: nulová | F37: =ROUND((SUM(BI121:BI184)), 2) -> 0 | I37: 0 | J37: =0 -> 0
D39: Cena s DPH | G39: v | H39: EUR | J39: =SUM(J30:J37) -> 0
D50: Projektant | G50: Spracovateľ
D61: Dátum a podpis: | F61: Pečiatka | G61: Dátum a podpis: | J61: Pečiatka
D65: Objednávateľ | G65: Zhotoviteľ
D76: Dátum a podpis: | F76: Pečiatka | G76: Dátum a podpis: | J76: Pečiatka
C82: REKAPITULÁCIA ROZPOČTU
C84: Stavba:
E85: =E7 -> Obnova vybraných častí NKP Kaštieľ,Múzeum vo Svätom Antone
C86: Objekt:
E87: =E9 -> 2025/07 - SO-01 - slaboprúdové rozvody - CCTV
C89: Miesto: | F89: =F12 | I89: Dátum: | J89: =IF(J12="","",J12) -> 24. 7. 2026
C91: Objednávateľ: | F91: =E15 -> Múzeum vo Sv.Antone, Svätý Anton č. 291, 969 72 | I91: Projektant: | J91: =E21 -> Ing.arch.Adriana Zorvanová
C92: Zhotoviteľ: | F92: =IF(E18="","",E18) -> Vyplň údaj | I92: Spracovateľ: | J92: =E24
C94: Kód dielu - Popis | J94: Cena celkom [EUR]
C96: Náklady z rozpočtu | J96: =J121 -> 0 | AU96: -1
...

Sheet 2025-08 - SO-01 - slabopr...
AT2: {c05f76a9-f153-4d4b-9cee-ddf0aa9aebe8}
AT3: 0
D4: KRYCÍ LIST ROZPOČTU | M4: v --- nižšie sa nachádzajú doplnkové a pomocné údaje k zostavám --- v | AT4: False
D6: Stavba:
E7: ='Rekapitulácia stavby'!K6 -> Obnova vybraných častí NKP Kaštieľ,Múzeum vo Svätom Antone
D8: Objekt:
E9: 2025/08 - SO-01 - slaboprúdové rozvody - EZS
D11: JKSO: | I11: ČS:
D12: Miesto: | I12: Dátum: | J12: ='Rekapitulácia stavby'!AN8 -> 24. 7. 2026
D14: Objednávateľ: | I14: IČO:
E15: Múzeum vo Sv.Antone, Svätý Anton č. 291, 969 72 | I15: IČ DPH:
D17: Zhotoviteľ: | I17: IČO: | J17: ='Rekapitulácia stavby'!AN13 -> Vyplň údaj
E18: ='Rekapitulácia stavby'!E14 -> Vyplň údaj | I18: IČ DPH: | J18: ='Rekapitulácia stavby'!AN14 -> Vyplň údaj
D20: Projektant: | I20: IČO:
E21: Ing.arch.Adriana Zorvanová | I21: IČ DPH:
D23: Spracovateľ: | I23: IČO: | J23: =IF('Rekapitulácia stavby'!AN19="","",'Rekapitulácia stavby'!AN19)
E24: =IF('Rekapitulácia stavby'!E20="","",'Rekapitulácia stavby'!E20) | I24: IČ DPH: | J24: =IF('Rekapitulácia stavby'!AN20="","",'Rekapitulácia stavby'!AN20)
D26: Poznámka:
D30: Cena bez DPH | J30: =ROUND(J120, 2) -> 0
F32: Základ dane | I32: Sadzba dane | J32: Výška dane
D33: DPH | E33: základná | F33: =ROUND((SUM(BE120:BE153)), 2) -> 0 | I33: 0.23 | J33: =ROUND(((SUM(BE120:BE153))*I33), 2) -> 0
E34: znížená | F34: =ROUND((SUM(BF120:BF153)), 2) -> 0 | I34: 0.23 | J34: =ROUND(((SUM(BF120:BF153))*I34), 2) -> 0
E35: zákl. prenesená | F35: =ROUND((SUM(BG120:BG153)), 2) -> 0 | I35: 0.23 | J35: =0 -> 0
E36: zníž. prenesená | F36: =ROUND((SUM(BH120:BH153)), 2) -> 0 | I36: 0.23 | J36: =0 -> 0
E37: nulová | F37: =ROUND((SUM(BI120:BI153)), 2) -> 0 | I37: 0 | J37: =0 -> 0
D39: Cena s DPH | G39: v | H39: EUR | J39: =SUM(J30:J37) -> 0
D50: Projektant | G50: Spracovateľ
D61: Dátum a podpis: | F61: Pečiatka | G61: Dátum a podpis: | J61: Pečiatka
D65: Objednávateľ | G65: Zhotoviteľ
D76: Dátum a podpis: | F76: Pečiatka | G76: Dátum a podpis: | J76: Pečiatka
C82: REKAPITULÁCIA ROZPOČTU
C84: Stavba:
E85: =E7 -> Obnova vybraných častí NKP Kaštieľ,Múzeum vo Svätom Antone
C86: Objekt:
E87: =E9 -> 2025/08 - SO-01 - slaboprúdové rozvody - EZS
C89: Miesto: | F89: =F12 | I89: Dátum: | J89: =IF(J12="","",J12) -> 24. 7. 2026
C91: Objednávateľ: | F91: =E15 -> Múzeum vo Sv.Antone, Svätý Anton č. 291, 969 72 | I91: Projektant: | J91: =E21 -> Ing.arch.Adriana Zorvanová
C92: Zhotoviteľ: | F92: =IF(E18="","",E18) -> Vyplň údaj | I92: Spracovateľ: | J92: =E24
C94: Kód dielu - Popis | J94: Cena celkom [EUR]
C96: Náklady z rozpočtu | J96: =J120 -> 0 | AU96: -1
...

Sheet 2025-09 - SO-01 - slabopr...
AT2: {7549844d-1cc0-432a-bedd-737250b5439d}
AT3: 0
D4: KRYCÍ LIST ROZPOČTU | M4: v --- nižšie sa nachádzajú doplnkové a pomocné údaje k zostavám --- v | AT4: False
D6: Stavba:
E7: ='Rekapitulácia stavby'!K6 -> Obnova vybraných častí NKP Kaštieľ,Múzeum vo Svätom Antone
D8: Objekt:
E9: 2025/09 - SO-01 - slaboprúdové rozvody - SLP nosný materiál
D11: JKSO: | I11: ČS:
D12: Miesto: | I12: Dátum: | J12: ='Rekapitulácia stavby'!AN8 -> 24. 7. 2026
D14: Objednávateľ: | I14: IČO:
E15: Múzeum vo Sv.Antone, Svätý Anton č. 291, 969 72 | I15: IČ DPH:
D17: Zhotoviteľ: | I17: IČO: | J17: ='Rekapitulácia stavby'!AN13 -> Vyplň údaj
E18: ='Rekapitulácia stavby'!E14 -> Vyplň údaj | I18: IČ DPH: | J18: ='Rekapitulácia stavby'!AN14 -> Vyplň údaj
D20: Projektant: | I20: IČO:
E21: Ing.arch.Adriana Zorvanová | I21: IČ DPH:
D23: Spracovateľ: | I23: IČO: | J23: =IF('Rekapitulácia stavby'!AN19="","",'Rekapitulácia stavby'!AN19)
E24: =IF('Rekapitulácia stavby'!E20="","",'Rekapitulácia stavby'!E20) | I24: IČ DPH: | J24: =IF('Rekapitulácia stavby'!AN20="","",'Rekapitulácia stavby'!AN20)
D26: Poznámka:
D30: Cena bez DPH | J30: =ROUND(J120, 2) -> 0
F32: Základ dane | I32: Sadzba dane | J32: Výška dane
D33: DPH | E33: základná | F33: =ROUND((SUM(BE120:BE143)), 2) -> 0 | I33: 0.23 | J33: =ROUND(((SUM(BE120:BE143))*I33), 2) -> 0
E34: znížená | F34: =ROUND((SUM(BF120:BF143)), 2) -> 0 | I34: 0.23 | J34: =ROUND(((SUM(BF120:BF143))*I34), 2) -> 0
E35: zákl. prenesená | F35: =ROUND((SUM(BG120:BG143)), 2) -> 0 | I35: 0.23 | J35: =0 -> 0
E36: zníž. prenesená | F36: =ROUND((SUM(BH120:BH143)), 2) -> 0 | I36: 0.23 | J36: =0 -> 0
E37: nulová | F37: =ROUND((SUM(BI120:BI143)), 2) -> 0 | I37: 0 | J37: =0 -> 0
D39: Cena s DPH | G39: v | H39: EUR | J39: =SUM(J30:J37) -> 0
D50: Projektant | G50: Spracovateľ
D61: Dátum a podpis: | F61: Pečiatka | G61: Dátum a podpis: | J61: Pečiatka
D65: Objednávateľ | G65: Zhotoviteľ
D76: Dátum a podpis: | F76: Pečiatka | G76: Dátum a podpis: | J76: Pečiatka
C82: REKAPITULÁCIA ROZPOČTU
C84: Stavba:
E85: =E7 -> Obnova vybraných častí NKP Kaštieľ,Múzeum vo Svätom Antone
C86: Objekt:
E87: =E9 -> 2025/09 - SO-01 - slaboprúdové rozvody - SLP nosný materiál
C89: Miesto: | F89: =F12 | I89: Dátum: | J89: =IF(J12="","",J12) -> 24. 7. 2026
C91: Objednávateľ: | F91: =E15 -> Múzeum vo Sv.Antone, Svätý Anton č. 291, 969 72 | I91: Projektant: | J91: =E21 -> Ing.arch.Adriana Zorvanová
C92: Zhotoviteľ: | F92: =IF(E18="","",E18) -> Vyplň údaj | I92: Spracovateľ: | J92: =E24
C94: Kód dielu - Popis | J94: Cena celkom [EUR]
C96: Náklady z rozpočtu | J96: =J120 -> 0 | AU96: -1
...

Sheet 2025-14 - SO-02- altán- n...
AT2: {1bc9ff44-1031-44b3-8392-c3dd95cb513f}
AT3: 0
D4: KRYCÍ LIST ROZPOČTU | M4: v --- nižšie sa nachádzajú doplnkové a pomocné údaje k zostavám --- v | AT4: False
D6: Stavba:
E7: ='Rekapitulácia stavby'!K6 -> Obnova vybraných častí NKP Kaštieľ,Múzeum vo Svätom Antone
D8: Objekt:
E9: 2025/14 - SO-02- altán- novostavba
D11: JKSO: | I11: ČS:
D12: Miesto: | I12: Dátum: | J12: ='Rekapitulácia stavby'!AN8 -> 24. 7. 2026
D14: Objednávateľ: | I14: IČO:
E15: Múzeum vo Sv.Antone, Svätý Anton č. 291, 969 72 | I15: IČ DPH:
D17: Zhotoviteľ: | I17: IČO: | J17: ='Rekapitulácia stavby'!AN13 -> Vyplň údaj
E18: ='Rekapitulácia stavby'!E14 -> Vyplň údaj | I18: IČ DPH: | J18: ='Rekapitulácia stavby'!AN14 -> Vyplň údaj
D20: Projektant: | I20: IČO:
E21: Ing.arch.Adriana Zorvanová | I21: IČ DPH:
D23: Spracovateľ: | I23: IČO: | J23: =IF('Rekapitulácia stavby'!AN19="","",'Rekapitulácia stavby'!AN19)
E24: =IF('Rekapitulácia stavby'!E20="","",'Rekapitulácia stavby'!E20) | I24: IČ DPH: | J24: =IF('Rekapitulácia stavby'!AN20="","",'Rekapitulácia stavby'!AN20)
D26: Poznámka:
D30: Cena bez DPH | J30: =ROUND(J130, 2) -> 0
F32: Základ dane | I32: Sadzba dane | J32: Výška dane
D33: DPH | E33: základná | F33: =ROUND((SUM(BE130:BE263)), 2) -> 0 | I33: 0.23 | J33: =ROUND(((SUM(BE130:BE263))*I33), 2) -> 0
E34: znížená | F34: =ROUND((SUM(BF130:BF263)), 2) -> 0 | I34: 0.23 | J34: =ROUND(((SUM(BF130:BF263))*I34), 2) -> 0
E35: zákl. prenesená | F35: =ROUND((SUM(BG130:BG263)), 2) -> 0 | I35: 0.23 | J35: =0 -> 0
E36: zníž. prenesená | F36: =ROUND((SUM(BH130:BH263)), 2) -> 0 | I36: 0.23 | J36: =0 -> 0
E37: nulová | F37: =ROUND((SUM(BI130:BI263)), 2) -> 0 | I37: 0 | J37: =0 -> 0
D39: Cena s DPH | G39: v | H39: EUR | J39: =SUM(J30:J37) -> 0
D50: Projektant | G50: Spracovateľ
D61: Dátum a podpis: | F61: Pečiatka | G61: Dátum a podpis: | J61: Pečiatka
D65: Objednávateľ | G65: Zhotoviteľ
D76: Dátum a podpis: | F76: Pečiatka | G76: Dátum a podpis: | J76: Pečiatka
C82: REKAPITULÁCIA ROZPOČTU
C84: Stavba:
E85: =E7 -> Obnova vybraných častí NKP Kaštieľ,Múzeum vo Svätom Antone
C86: Objekt:
E87: =E9 -> 2025/14 - SO-02- altán- novostavba
C89: Miesto: | F89: =F12 | I89: Dátum: | J89: =IF(J12="","",J12) -> 24. 7. 2026
C91: Objednávateľ: | F91: =E15 -> Múzeum vo Sv.Antone, Svätý Anton č. 291, 969 72 | I91: Projektant: | J91: =E21 -> Ing.arch.Adriana Zorvanová
C92: Zhotoviteľ: | F92: =IF(E18="","",E18) -> Vyplň údaj | I92: Spracovateľ: | J92: =E24
C94: Kód dielu - Popis | J94: Cena celkom [EUR]
C96: Náklady z rozpočtu | J96: =J130 -> 0 | AU96: -1
...

Sheet 2025-15 - SO-02 - elektro...
AT2: {83a235df-ce6a-488b-820a-3d6cbe1e6be0}
AT3: 0
D4: KRYCÍ LIST ROZPOČTU | M4: v --- nižšie sa nachádzajú doplnkové a pomocné údaje k zostavám --- v | AT4: False
D6: Stavba:
E7: ='Rekapitulácia stavby'!K6 -> Obnova vybraných častí NKP Kaštieľ,Múzeum vo Svätom Antone
D8: Objekt:
E9: 2025/15 - SO-02 - elektroinštalácia
D11: JKSO: | I11: ČS:
D12: Miesto: | I12: Dátum: | J12: ='Rekapitulácia stavby'!AN8 -> 24. 7. 2026
D14: Objednávateľ: | I14: IČO: | J14: =IF('Rekapitulácia stavby'!AN10="","",'Rekapitulácia stavby'!AN10)
E15: =IF('Rekapitulácia stavby'!E11="","",'Rekapitulácia stavby'!E11) -> Múzeum vo Sv.Antone, Svätý Anton č. 291, 969 72 | I15: IČ DPH: | J15: =IF('Rekapitulácia stavby'!AN11="","",'Rekapitulácia stavby'!AN11)
D17: Zhotoviteľ: | I17: IČO: | J17: ='Rekapitulácia stavby'!AN13 -> Vyplň údaj
E18: ='Rekapitulácia stavby'!E14 -> Vyplň údaj | I18: IČ DPH: | J18: ='Rekapitulácia stavby'!AN14 -> Vyplň údaj
D20: Projektant: | I20: IČO: | J20: =IF('Rekapitulácia stavby'!AN16="","",'Rekapitulácia stavby'!AN16)
E21: =IF('Rekapitulácia stavby'!E17="","",'Rekapitulácia stavby'!E17) -> Ing.arch.Adriana Zorvanová | I21: IČ DPH: | J21: =IF('Rekapitulácia stavby'!AN17="","",'Rekapitulácia stavby'!AN17)
D23: Spracovateľ: | I23: IČO: | J23: =IF('Rekapitulácia stavby'!AN19="","",'Rekapitulácia stavby'!AN19)
E24: =IF('Rekapitulácia stavby'!E20="","",'Rekapitulácia stavby'!E20) | I24: IČ DPH: | J24: =IF('Rekapitulácia stavby'!AN20="","",'Rekapitulácia stavby'!AN20)
D26: Poznámka:
D30: Cena bez DPH | J30: =ROUND(J123, 2) -> 0
F32: Základ dane | I32: Sadzba dane | J32: Výška dane
D33: DPH | E33: základná | F33: =ROUND((SUM(BE123:BE182)), 2) -> 0 | I33: 0.23 | J33: =ROUND(((SUM(BE123:BE182))*I33), 2) -> 0
E34: znížená | F34: =ROUND((SUM(BF123:BF182)), 2) -> 0 | I34: 0.23 | J34: =ROUND(((SUM(BF123:BF182))*I34), 2) -> 0
E35: zákl. prenesená | F35: =ROUND((SUM(BG123:BG182)), 2) -> 0 | I35: 0.23 | J35: =0 -> 0
E36: zníž. prenesená | F36: =ROUND((SUM(BH123:BH182)), 2) -> 0 | I36: 0.23 | J36: =0 -> 0
E37: nulová | F37: =ROUND((SUM(BI123:BI182)), 2) -> 0 | I37: 0 | J37: =0 -> 0
D39: Cena s DPH | G39: v | H39: EUR | J39: =SUM(J30:J37) -> 0
D50: Projektant | G50: Spracovateľ
D61: Dátum a podpis: | F61: Pečiatka | G61: Dátum a podpis: | J61: Pečiatka
D65: Objednávateľ | G65: Zhotoviteľ
D76: Dátum a podpis: | F76: Pečiatka | G76: Dátum a podpis: | J76: Pečiatka
C82: REKAPITULÁCIA ROZPOČTU
C84: Stavba:
E85: =E7 -> Obnova vybraných častí NKP Kaštieľ,Múzeum vo Svätom Antone
C86: Objekt:
E87: =E9 -> 2025/15 - SO-02 - elektroinštalácia
C89: Miesto: | F89: =F12 | I89: Dátum: | J89: =IF(J12="","",J12) -> 24. 7. 2026
C91: Objednávateľ: | F91: =E15 -> Múzeum vo Sv.Antone, Svätý Anton č. 291, 969 72 | I91: Projektant: | J91: =E21 -> Ing.arch.Adriana Zorvanová
C92: Zhotoviteľ: | F92: =IF(E18="","",E18) -> Vyplň údaj | I92: Spracovateľ: | J92: =E24
C94: Kód dielu - Popis | J94: Cena celkom [EUR]
C96: Náklady z rozpočtu | J96: =J123 -> 0 | AU96: -1
...
