Workbook

Sheet Rekapitulácia stavby
A1: Export Komplet | BA1: 2.0 | BB1: ZAMOK | BT1: False | BU1: False | BV1: {a43220c1-0c43-4624-a5da-c6e7325b9dd4}
BS2: 0,01 | BT2: 23
BS3: 0,01 | BT3: 23
D4: REKAPITULÁCIA STAVBY | AS4: v --- nižšie sa nachádzajú doplnkové a pomocné údaje k zostavám --- v | BE4: Návod na vyplnenie | BS4: 0,001
D5: Kód: | K5: 2026/101 | BE5: Meniť je možné iba bunky so žltým podfarbením!_x000D_ _x000D_ 1) na prvom liste Rekapitulácie stavby vyplňte v zostave_x000D_ _x000D_ a) Rekapitulácia stavby_x000D_ - údaje o Zhotoviteľovi_x000D_ (prenesú sa do ostatných zostáv aj v iných listoch)_x000D_ _x000D_ b) Rekapitulácia objektov stavby_x000D_ - potrebné Ostatné náklady_x000D_ _x000D_ 2) na vybraných listoch vyplňte v zostave_x000D_ _x000D_ a) Krycí list_x000D_ - údaje o Zhotoviteľovi, pokiaľ sa líšia od údajov o Zhotoviteľovi na Rekapitulácii stavby_x000D_ (údaje se prenesú do ostatných zostav v danom liste)_x000D_ _x000D_ b) Rekapitulácia rozpočtu_x000D_ - potrebné Ostatné náklady_x000D_ _x000D_ c) Celkové náklady za stavbu_x000D_ - ceny na položkách_x000D_ - množstvo, pokiaľ má žlté podfarbenie_x000D_ - a v prípade potreby poznámku (tá je v skrytom stĺpci) | BS5: 0,01
D6: Stavba: | K6: Obnova vybraných častí NKP Kaštieľ,Múzeum vo Svätom Antone | BS6: 0,01
D7: JKSO: | AK7: ČS: | BS7: 0,01
D8: Miesto: | AK8: Dátum: | AN8: 24. 7. 2026 | BS8: 0,01
BS9: 0,01
D10: Objednávateľ: | AK10: IČO: | BS10: 0,01
E11: Múzeum vo Sv.Antone, Svätý Anton č. 291, 969 72 | AK11: IČ DPH: | BS11: 0,01
BS12: 0,01
D13: Zhotoviteľ: | AK13: IČO: | AN13: Vyplň údaj | BS13: 0,01
E14: Vyplň údaj | AK14: IČ DPH: | AN14: Vyplň údaj | BS14: 0,01
BS15: False
D16: Projektant: | AK16: IČO: | BS16: False
E17: Ing.arch.Adriana Zorvanová | AK17: IČ DPH: | BS17: True
BS18: 0,01
D19: Spracovateľ: | AK19: IČO: | BS19: 0,01
AK20: IČ DPH: | BS20: True
D22: Poznámka:
D26: Cena bez DPH | AK26: =ROUND(AG94,2) -> 0
L28: Sadzba dane | W28: Základ dane | AK28: Výška dane
D29: DPH | F29: základná | L29: 0.23 | W29: =ROUND(AZ94, 2) -> 0 | AK29: =ROUND(AV94, 2) -> 0
F30: znížená | L30: 0.23 | W30: =ROUND(BA94, 2) -> 0 | AK30: =ROUND(AW94, 2) -> 0
F31: zákl. prenesená | L31: 0.23 | W31: =ROUND(BB94, 2) -> 0 | AK31: 0
F32: zníž. prenesená | L32: 0.23 | W32: =ROUND(BC94, 2) -> 0 | AK32: 0
F33: nulová | L33: 0 | W33: =ROUND(BD94, 2) -> 0 | AK33: 0
D35: Cena s DPH | T35: v | X35: EUR | AK35: =SUM(AK26:AK33) -> 0
D49: Projektant | AH49: Spracovateľ
D60: Dátum a podpis: | V60: Pečiatka | AH60: Dátum a podpis: | AM60: Pečiatka
D64: Objednávateľ | AH64: Zhotoviteľ
D75: Dátum a podpis: | V75: Pečiatka | AH75: Dátum a podpis: | AM75: Pečiatka
C82: REKAPITULÁCIA OBJEKTOV STAVBY
C84: Kód: | L84: =K5 -> 2026/101
C85: Stavba: | L85: =K6 -> Obnova vybraných častí NKP Kaštieľ,Múzeum vo Svätom Antone
C87: Miesto: | L87: =IF(K8="","",K8) | AI87: Dátum: | AM87: =IF(AN8= "","",AN8) -> 24. 7. 2026
C89: Objednávateľ: | L89: =IF(E11= "","",E11) -> Múzeum vo Sv.Antone, Svätý Anton č. 291, 969 72 | AI89: Projektant: | AM89: =IF(E17="","",E17) -> Ing.arch.Adriana Zorvanová | AS89: Informatívne údaje z listov zákaziek
C90: Zhotoviteľ: | L90: =IF(E14= "Vyplň údaj","",E14) | AI90: Spracovateľ: | AM90: =IF(E20="","",E20)
C92: Kód | I92: Popis | AG92: Cena bez DPH [EUR] | AN92: Cena s DPH [EUR] | AQ92: Typ | AS92: z toho Ostat._x000D_ náklady [EUR] | AT92: DPH [EUR] | AU92: Normohodiny [h] | AV92: DPH základná [EUR] | AW92: DPH znížená [EUR] | AX92: DPH základná prenesená_x000D_ [EUR] | AY92: DPH znížená prenesená_x000D_ [EUR] | AZ92: Základňa_x000D_ DPH základná | BA92: Základňa_x000D_ DPH znížená | BB92: Základňa_x000D_ DPH zákl. prenesená | BC92: Základňa_x000D_ DPH zníž. prenesená | BD92: Základňa_x000D_ DPH nulová
C94: Náklady z rozpočtov | AG94: =ROUND(SUM(AG95:AG110),2) -> 0 | AN94: =SUM(AG94,AT94) -> 0 | AS94: =ROUND(SUM(AS95:AS110),2) -> 0 | AT94: =ROUND(SUM(AV94:AW94),2) -> 0 | AU94: =ROUND(SUM(AU95:AU110),5) -> 0 | AV94: =ROUND(AZ94*L29,2) -> 0 | AW94: =ROUND(BA94*L30,2) -> 0 | AX94: =ROUND(BB94*L29,2) -> 0 | AY94: =ROUND(BC94*L30,2) -> 0 | AZ94: =ROUND(SUM(AZ95:AZ110),2) -> 0 | BA94: =ROUND(SUM(BA95:BA110),2) -> 0 | BB94: =ROUND(SUM(BB95:BB110),2) -> 0 | BC94: =ROUND(SUM(BC95:BC110),2) -> 0 | BD94: =ROUND(SUM(BD95:BD110),2) -> 0 | BS94: D | BT94: 0 | BU94: ###NOIMPORT### | BV94: IMPORT | BW94: {a43220c1-0c43-4624-a5da-c6e7325b9dd4} | BX94: {00000000-0000-0000-0000-000000000000}
A95: / | D95: 2025/01 | J95: SO-01 - rekonštrukcia strechy | AG95: ='2025-01 - SO-01 - rekonš...'!J30 -> 0 | AN95: =SUM(AG95,AT95) -> 0 | AQ95: STA | AS95: 0 | AT95: =ROUND(SUM(AV95:AW95),2) -> 0 | AU95: ='2025-01 - SO-01 - rekonš...'!P128 -> 0 | AV95: ='2025-01 - SO-01 - rekonš...'!J33 -> 0 | AW95: ='2025-01 - SO-01 - rekonš...'!J34 -> 0 | AX95: ='2025-01 - SO-01 - rekonš...'!J35 -> 0 | AY95: ='2025-01 - SO-01 - rekonš...'!J36 -> 0 | AZ95: ='2025-01 - SO-01 - rekonš...'!F33 -> 0 | BA95: ='2025-01 - SO-01 - rekonš...'!F34 -> 0 | BB95: ='2025-01 - SO-01 - rekonš...'!F35 -> 0 | BC95: ='2025-01 - SO-01 - rekonš...'!F36 -> 0 | BD95: ='2025-01 - SO-01 - rekonš...'!F37 -> 0 | BT95: 1 | BV95: IMPORT | BW95: {e81ef1af-3ed7-4fce-9854-ad8583ca5632} | BX95: {a43220c1-0c43-4624-a5da-c6e7325b9dd4} | CM95: 0
A96: / | D96: 2025/02 | J96: SO-01 - obnova interierov severného a východného krídla | AG96: ='2025-02 - SO-01 - obnova ...'!J30 -> 0 | AN96: =SUM(AG96,AT96) -> 0 | AQ96: STA | AS96: 0 | AT96: =ROUND(SUM(AV96:AW96),2) -> 0 | AU96: ='2025-02 - SO-01 - obnova ...'!P135 -> 0 | AV96: ='2025-02 - SO-01 - obnova ...'!J33 -> 0 | AW96: ='2025-02 - SO-01 - obnova ...'!J34 -> 0 | AX96: ='2025-02 - SO-01 - obnova ...'!J35 -> 0 | AY96: ='2025-02 - SO-01 - obnova ...'!J36 -> 0 | AZ96: ='2025-02 - SO-01 - obnova ...'!F33 -> 0 | BA96: ='2025-02 - SO-01 - obnova ...'!F34 -> 0 | BB96: ='2025-02 - SO-01 - obnova ...'!F35 -> 0 | BC96: ='2025-02 - SO-01 - obnova ...'!F36 -> 0 | BD96: ='2025-02 - SO-01 - obnova ...'!F37 -> 0 | BT96: 1 | BV96: IMPORT | BW96: {46e82cea-a80e-4c1e-8bb6-d35cac726472} | BX96: {a43220c1-0c43-4624-a5da-c6e7325b9dd4} | CM96: 0
A97: / | D97: 2025/10 | J97: SO-01 - sanácia vlhkosti exteriér | AG97: ='2025-10 - SO-01 - sanácia...'!J30 -> 0 | AN97: =SUM(AG97,AT97) -> 0 | AQ97: STA | AS97: 0 | AT97: =ROUND(SUM(AV97:AW97),2) -> 0 | AU97: ='2025-10 - SO-01 - sanácia...'!P128 -> 0 | AV97: ='2025-10 - SO-01 - sanácia...'!J33 -> 0 | AW97: ='2025-10 - SO-01 - sanácia...'!J34 -> 0 | AX97: ='2025-10 - SO-01 - sanácia...'!J35 -> 0 | AY97: ='2025-10 - SO-01 - sanácia...'!J36 -> 0 | AZ97: ='2025-10 - SO-01 - sanácia...'!F33 -> 0 | BA97: ='2025-10 - SO-01 - sanácia...'!F34 -> 0 | BB97: ='2025-10 - SO-01 - sanácia...'!F35 -> 0 | BC97: ='2025-10 - SO-01 - sanácia...'!F36 -> 0 | BD97: ='2025-10 - SO-01 - sanácia...'!F37 -> 0 | BT97: 1 | BV97: IMPORT | BW97: {9a2003ad-1041-42d1-87c4-24fc0498d8e6} | BX97: {a43220c1-0c43-4624-a5da-c6e7325b9dd4} | CM97: 0
A98: / | D98: 2025/11 | J98: SO-01 - umelecko-remeselná obnova hodnotných prvkov kaštieľa | AG98: ='2025-11 - SO-01 - umeleck...'!J30 -> 0 | AN98: =SUM(AG98,AT98) -> 0 | AQ98: STA | AS98: 0 | AT98: =ROUND(SUM(AV98:AW98),2) -> 0 | AU98: ='2025-11 - SO-01 - umeleck...'!P128 -> 0 | AV98: ='2025-11 - SO-01 - umeleck...'!J33 -> 0 | AW98: ='2025-11 - SO-01 - umeleck...'!J34 -> 0 | AX98: ='2025-11 - SO-01 - umeleck...'!J35 -> 0 | AY98: ='2025-11 - SO-01 - umeleck...'!J36 -> 0 | AZ98: ='2025-11 - SO-01 - umeleck...'!F33 -> 0 | BA98: ='2025-11 - SO-01 - umeleck...'!F34 -> 0 | BB98: ='2025-11 - SO-01 - umeleck...'!F35 -> 0 | BC98: ='2025-11 - SO-01 - umeleck...'!F36 -> 0 | BD98: ='2025-11 - SO-01 - umeleck...'!F37 -> 0 | BT98: 1 | BV98: IMPORT | BW98: {a70bc4c3-f7ef-40cb-9f7b-6859b39f86ef} | BX98: {a43220c1-0c43-4624-a5da-c6e7325b9dd4} | CM98: 0
A99: / | D99: 2025/12 | J99: SO-01 - umelecko-remeselná obnova a reštaurovanie okien na celom objekte kaštieľa | AG99: ='2025-12 - SO-01 - umeleck...'!J30 -> 0 | AN99: =SUM(AG99,AT99) -> 0 | AQ99: STA | AS99: 0 | AT99: =ROUND(SUM(AV99:AW99),2) -> 0 | AU99: ='2025-12 - SO-01 - umeleck...'!P118 -> 0 | AV99: ='2025-12 - SO-01 - umeleck...'!J33 -> 0 | AW99: ='2025-12 - SO-01 - umeleck...'!J34 -> 0 | AX99: ='2025-12 - SO-01 - umeleck...'!J35 -> 0 | AY99: ='2025-12 - SO-01 - umeleck...'!J36 -> 0 | AZ99: ='2025-12 - SO-01 - umeleck...'!F33 -> 0 | BA99: ='2025-12 - SO-01 - umeleck...'!F34 -> 0 | BB99: ='2025-12 - SO-01 - umeleck...'!F35 -> 0 | BC99: ='2025-12 - SO-01 - umeleck...'!F36 -> 0 | BD99: ='2025-12 - SO-01 - umeleck...'!F37 -> 0 | BT99: 1 | BV99: IMPORT | BW99: {dd00fcc8-7b8c-4165-a667-676bb6a9936a} | BX99: {a43220c1-0c43-4624-a5da-c6e7325b9dd4} | CM99: 0
A100: / | D100: 2025/13 | J100: SO-01 - reštaurátorská rehabilitácia miestností 1.14, 1.15 v objekte Kaštieľa | AG100: ='2025-13 - SO-01 - reštaur...'!J30 -> 0 | AN100: =SUM(AG100,AT100) -> 0 | AQ100: STA | AS100: 0 | AT100: =ROUND(SUM(AV100:AW100),2) -> 0 | AU100: ='2025-13 - SO-01 - reštaur...'!P119 -> 0 | AV100: ='2025-13 - SO-01 - reštaur...'!J33 -> 0 | AW100: ='2025-13 - SO-01 - reštaur...'!J34 -> 0 | AX100: ='2025-13 - SO-01 - reštaur...'!J35 -> 0 | AY100: ='2025-13 - SO-01 - reštaur...'!J36 -> 0 | AZ100: ='2025-13 - SO-01 - reštaur...'!F33 -> 0 | BA100: ='2025-13 - SO-01 - reštaur...'!F34 -> 0 | BB100: ='2025-13 - SO-01 - reštaur...'!F35 -> 0 | BC100: ='2025-13 - SO-01 - reštaur...'!F36 -> 0 | BD100: ='2025-13 - SO-01 - reštaur...'!F37 -> 0 | BT100: 1 | BV100: IMPORT | BW100: {bcdd91a8-fdd9-4b40-b7c3-420bc69dc00a} | BX100: {a43220c1-0c43-4624-a5da-c6e7325b9dd4} | CM100: 0
A101: / | D101: 2025/16 | J101: SO-01 - reštaurátorské práce dvoch fasádnych tympanónov na objekte kaštieľa | AG101: ='2025-16 - SO-01 - reštaur...'!J30 -> 0 | AN101: =SUM(AG101,AT101) -> 0 | AQ101: STA | AS101: 0 | AT101: =ROUND(SUM(AV101:AW101),2) -> 0 | AU101: ='2025-16 - SO-01 - reštaur...'!P120 -> 0 | AV101: ='2025-16 - SO-01 - reštaur...'!J33 -> 0 | AW101: ='2025-16 - SO-01 - reštaur...'!J34 -> 0 | AX101: ='2025-16 - SO-01 - reštaur...'!J35 -> 0 | AY101: ='2025-16 - SO-01 - reštaur...'!J36 -> 0 | AZ101: ='2025-16 - SO-01 - reštaur...'!F33 -> 0 | BA101: ='2025-16 - SO-01 - reštaur...'!F34 -> 0 | BB101: ='2025-16 - SO-01 - reštaur...'!F35 -> 0 | BC101: ='2025-16 - SO-01 - reštaur...'!F36 -> 0 | BD101: ='2025-16 - SO-01 - reštaur...'!F37 -> 0 | BT101: 1 | BV101: IMPORT | BW101: {0bee512f-4f58-4f95-9ee2-6189b0e71ee3} | BX101: {a43220c1-0c43-4624-a5da-c6e7325b9dd4} | CM101: 0
A102: / | D102: 2025/03 | J102: SO-01 - elektroinštalácia | AG102: ='2025-03 - SO-01 - elektro...'!J30 -> 0 | AN102: =SUM(AG102,AT102) -> 0 | AQ102: STA | AS102: 0 | AT102: =ROUND(SUM(AV102:AW102),2) -> 0 | AU102: ='2025-03 - SO-01 - elektro...'!P123 -> 0 | AV102: ='2025-03 - SO-01 - elektro...'!J33 -> 0 | AW102: ='2025-03 - SO-01 - elektro...'!J34 -> 0 | AX102: ='2025-03 - SO-01 - elektro...'!J35 -> 0 | AY102: ='2025-03 - SO-01 - elektro...'!J36 -> 0 | AZ102: ='2025-03 - SO-01 - elektro...'!F33 -> 0 | BA102: ='2025-03 - SO-01 - elektro...'!F34 -> 0 | BB102: ='2025-03 - SO-01 - elektro...'!F35 -> 0 | BC102: ='2025-03 - SO-01 - elektro...'!F36 -> 0 | BD102: ='2025-03 - SO-01 - elektro...'!F37 -> 0 | BT102: 1 | BV102: IMPORT | BW102: {c2af8f97-6cc4-4c44-9caf-6a7a28acee5c} | BX102: {a43220c1-0c43-4624-a5da-c6e7325b9dd4} | CM102: 0
A103: / | D103: 2025/04 | J103: SO-01 - vzduchotechnika | AG103: ='2025-04 - SO-01 - vzducho...'!J30 -> 0 | AN103: =SUM(AG103,AT103) -> 0 | AQ103: STA | AS103: 0 | AT103: =ROUND(SUM(AV103:AW103),2) -> 0 | AU103: ='2025-04 - SO-01 - vzducho...'!P124 -> 0 | AV103: ='2025-04 - SO-01 - vzducho...'!J33 -> 0 | AW103: ='2025-04 - SO-01 - vzducho...'!J34 -> 0 | AX103: ='2025-04 - SO-01 - vzducho...'!J35 -> 0 | AY103: ='2025-04 - SO-01 - vzducho...'!J36 -> 0 | AZ103: ='2025-04 - SO-01 - vzducho...'!F33 -> 0 | BA103: ='2025-04 - SO-01 - vzducho...'!F34 -> 0 | BB103: ='2025-04 - SO-01 - vzducho...'!F35 -> 0 | BC103: ='2025-04 - SO-01 - vzducho...'!F36 -> 0 | BD103: ='2025-04 - SO-01 - vzducho...'!F37 -> 0 | BT103: 1 | BV103: IMPORT | BW103: {d33e9c4d-ef52-4308-9a71-a05ad1f61cf1} | BX103: {a43220c1-0c43-4624-a5da-c6e7325b9dd4} | CM103: 0
A104: / | D104: 2025/05 | J104: SO-01 - zdravotechnika | AG104: ='2025-05 - SO-01 - zdravot...'!J30 -> 0 | AN104: =SUM(AG104,AT104) -> 0 | AQ104: STA | AS104: 0 | AT104: =ROUND(SUM(AV104:AW104),2) -> 0 | AU104: ='2025-05 - SO-01 - zdravot...'!P129 -> 0 | AV104: ='2025-05 - SO-01 - zdravot...'!J33 -> 0 | AW104: ='2025-05 - SO-01 - zdravot...'!J34 -> 0 | AX104: ='2025-05 - SO-01 - zdravot...'!J35 -> 0 | AY104: ='2025-05 - SO-01 - zdravot...'!J36 -> 0 | AZ104: ='2025-05 - SO-01 - zdravot...'!F33 -> 0 | BA104: ='2025-05 - SO-01 - zdravot...'!F34 -> 0 | BB104: ='2025-05 - SO-01 - zdravot...'!F35 -> 0 | BC104: ='2025-05 - SO-01 - zdravot...'!F36 -> 0 | BD104: ='2025-05 - SO-01 - zdravot...'!F37 -> 0 | BT104: 1 | BV104: IMPORT | BW104: {318527cb-474c-472b-b1de-e32ca30a2d3c} | BX104: {a43220c1-0c43-4624-a5da-c6e7325b9dd4} | CM104: 0
A105: / | D105: 2025/06 | J105: SO-01 - vykurovanie | AG105: ='2025-06 - SO-01 - vykurov...'!J30 -> 0 | AN105: =SUM(AG105,AT105) -> 0 | AQ105: STA | AS105: 0 | AT105: =ROUND(SUM(AV105:AW105),2) -> 0 | AU105: ='2025-06 - SO-01 - vykurov...'!P128 -> 0 | AV105: ='2025-06 - SO-01 - vykurov...'!J33 -> 0 | AW105: ='2025-06 - SO-01 - vykurov...'!J34 -> 0 | AX105: ='2025-06 - SO-01 - vykurov...'!J35 -> 0 | AY105: ='2025-06 - SO-01 - vykurov...'!J36 -> 0 | AZ105: ='2025-06 - SO-01 - vykurov...'!F33 -> 0 | BA105: ='2025-06 - SO-01 - vykurov...'!F34 -> 0 | BB105: ='2025-06 - SO-01 - vykurov...'!F35 -> 0 | BC105: ='2025-06 - SO-01 - vykurov...'!F36 -> 0 | BD105: ='2025-06 - SO-01 - vykurov...'!F37 -> 0 | BT105: 1 | BV105: IMPORT | BW105: {0dabd1be-d761-420e-ad03-d78da7152dbc} | BX105: {a43220c1-0c43-4624-a5da-c6e7325b9dd4} | CM105: 0
A106: / | D106: 2025/07 | J106: SO-01 - slaboprúdové rozvody - CCTV | AG106: ='2025-07 - SO-01 - slabopr...'!J30 -> 0 | AN106: =SUM(AG106,AT106) -> 0 | AQ106: STA | AS106: 0 | AT106: =ROUND(SUM(AV106:AW106),2) -> 0 | AU106: ='2025-07 - SO-01 - slabopr...'!P121 -> 0 | AV106: ='2025-07 - SO-01 - slabopr...'!J33 -> 0 | AW106: ='2025-07 - SO-01 - slabopr...'!J34 -> 0 | AX106: ='2025-07 - SO-01 - slabopr...'!J35 -> 0 | AY106: ='2025-07 - SO-01 - slabopr...'!J36 -> 0 | AZ106: ='2025-07 - SO-01 - slabopr...'!F33 -> 0 | BA106: ='2025-07 - SO-01 - slabopr...'!F34 -> 0 | BB106: ='2025-07 - SO-01 - slabopr...'!F35 -> 0 | BC106: ='2025-07 - SO-01 - slabopr...'!F36 -> 0 | BD106: ='2025-07 - SO-01 - slabopr...'!F37 -> 0 | BT106: 1 | BV106: IMPORT | BW106: {8946a953-e120-4a80-a70d-fc13635c0287} | BX106: {a43220c1-0c43-4624-a5da-c6e7325b9dd4} | CM106: 0
A107: / | D107: 2025/08 | J107: SO-01 - slaboprúdové rozvody - EZS | AG107: ='2025-08 - SO-01 - slabopr...'!J30 -> 0 | AN107: =SUM(AG107,AT107) -> 0 | AQ107: STA | AS107: 0 | AT107: =ROUND(SUM(AV107:AW107),2) -> 0 | AU107: ='2025-08 - SO-01 - slabopr...'!P120 -> 0 | AV107: ='2025-08 - SO-01 - slabopr...'!J33 -> 0 | AW107: ='2025-08 - SO-01 - slabopr...'!J34 -> 0 | AX107: ='2025-08 - SO-01 - slabopr...'!J35 -> 0 | AY107: ='2025-08 - SO-01 - slabopr...'!J36 -> 0 | AZ107: ='2025-08 - SO-01 - slabopr...'!F33 -> 0 | BA107: ='2025-08 - SO-01 - slabopr...'!F34 -> 0 | BB107: ='2025-08 - SO-01 - slabopr...'!F35 -> 0 | BC107: ='2025-08 - SO-01 - slabopr...'!F36 -> 0 | BD107: ='2025-08 - SO-01 - slabopr...'!F37 -> 0 | BT107: 1 | BV107: IMPORT | BW107: {c05f76a9-f153-4d4b-9cee-ddf0aa9aebe8} | BX107: {a43220c1-0c43-4624-a5da-c6e7325b9dd4} | CM107: 0
A108: / | D108: 2025/09 | J108: SO-01 - slaboprúdové rozvody - SLP nosný materiál | AG108: ='2025-09 - SO-01 - slabopr...'!J30 -> 0 | AN108: =SUM(AG108,AT108) -> 0 | AQ108: STA | AS108: 0 | AT108: =ROUND(SUM(AV108:AW108),2) -> 0 | AU108: ='2025-09 - SO-01 - slabopr...'!P120 -> 0 | AV108: ='2025-09 - SO-01 - slabopr...'!J33 -> 0 | AW108: ='2025-09 - SO-01 - slabopr...'!J34 -> 0 | AX108: ='2025-09 - SO-01 - slabopr...'!J35 -> 0 | AY108: ='2025-09 - SO-01 - slabopr...'!J36 -> 0 | AZ108: ='2025-09 - SO-01 - slabopr...'!F33 -> 0 | BA108: ='2025-09 - SO-01 - slabopr...'!F34 -> 0 | BB108: ='2025-09 - SO-01 - slabopr...'!F35 -> 0 | BC108: ='2025-09 - SO-01 - slabopr...'!F36 -> 0 | BD108: ='2025-09 - SO-01 - slabopr...'!F37 -> 0 | BT108: 1 | BV108: IMPORT | BW108: {7549844d-1cc0-432a-bedd-737250b5439d} | BX108: {a43220c1-0c43-4624-a5da-c6e7325b9dd4} | CM108: 0
A109: / | D109: 2025/14 | J109: SO-02- altán- novostavba | AG109: ='2025-14 - SO-02- altán- n...'!J30 -> 0 | AN109: =SUM(AG109,AT109) -> 0 | AQ109: STA | AS109: 0 | AT109: =ROUND(SUM(AV109:AW109),2) -> 0 | AU109: ='2025-14 - SO-02- altán- n...'!P130 -> 0 | AV109: ='2025-14 - SO-02- altán- n...'!J33 -> 0 | AW109: ='2025-14 - SO-02- altán- n...'!J34 -> 0 | AX109: ='2025-14 - SO-02- altán- n...'!J35 -> 0 | AY109: ='2025-14 - SO-02- altán- n...'!J36 -> 0 | AZ109: ='2025-14 - SO-02- altán- n...'!F33 -> 0 | BA109: ='2025-14 - SO-02- altán- n...'!F34 -> 0 | BB109: ='2025-14 - SO-02- altán- n...'!F35 -> 0 | BC109: ='2025-14 - SO-02- altán- n...'!F36 -> 0 | BD109: ='2025-14 - SO-02- altán- n...'!F37 -> 0 | BT109: 1 | BV109: IMPORT | BW109: {1bc9ff44-1031-44b3-8392-c3dd95cb513f} | BX109: {a43220c1-0c43-4624-a5da-c6e7325b9dd4} | CM109: 0
A110: / | D110: 2025/15 | J110: SO-02 - elektroinštalácia | AG110: ='2025-15 - SO-02 - elektro...'!J30 -> 0 | AN110: =SUM(AG110,AT110) -> 0 | AQ110: STA | AS110: 0 | AT110: =ROUND(SUM(AV110:AW110),2) -> 0 | AU110: ='2025-15 - SO-02 - elektro...'!P123 -> 0 | AV110: ='2025-15 - SO-02 - elektro...'!J33 -> 0 | AW110: ='2025-15 - SO-02 - elektro...'!J34 -> 0 | AX110: ='2025-15 - SO-02 - elektro...'!J35 -> 0 | AY110: ='2025-15 - SO-02 - elektro...'!J36 -> 0 | AZ110: ='2025-15 - SO-02 - elektro...'!F33 -> 0 | BA110: ='2025-15 - SO-02 - elektro...'!F34 -> 0 | BB110: ='2025-15 - SO-02 - elektro...'!F35 -> 0 | BC110: ='2025-15 - SO-02 - elektro...'!F36 -> 0 | BD110: ='2025-15 - SO-02 - elektro...'!F37 -> 0 | BT110: 1 | BV110: IMPORT | BW110: {83a235df-ce6a-488b-820a-3d6cbe1e6be0} | BX110: {a43220c1-0c43-4624-a5da-c6e7325b9dd4} | CM110: 0

Sheet 2025-01 - SO-01 -  rekonš...
AT2: {e81ef1af-3ed7-4fce-9854-ad8583ca5632}
AT3: 0
D4: KRYCÍ LIST ROZPOČTU | M4: v --- nižšie sa nachádzajú doplnkové a pomocné údaje k zostavám --- v | AT4: False
D6: Stavba:
E7: ='Rekapitulácia stavby'!K6 -> Obnova vybraných častí NKP Kaštieľ,Múzeum vo Svätom Antone
D8: Objekt:
E9: 2025/01 - SO-01 - rekonštrukcia strechy
D11: JKSO: | I11: ČS:
D12: Miesto: | I12: Dátum: | J12: ='Rekapitulácia stavby'!AN8 -> 24. 7. 2026
D14: Objednávateľ: | I14: IČO:
E15: Múzeum vo Sv.Antone, Svätý Anton č. 291, 969 72 | I15: IČ DPH:
D17: Zhotoviteľ: | I17: IČO: | J17: ='Rekapitulácia stavby'!AN13 -> Vyplň údaj
E18: ='Rekapitulácia stavby'!E14 -> Vyplň údaj | I18: IČ DPH: | J18: ='Rekapitulácia stavby'!AN14 -> Vyplň údaj
D20: Projektant: | I20: IČO:
E21: Ing.arch.Adriana Zorvanová | I21: IČ DPH:
D23: Spracovateľ: | I23: IČO:
I24: IČ DPH:
D26: Poznámka:
D30: Cena bez DPH | J30: =ROUND(J128, 2) -> 0
F32: Základ dane | I32: Sadzba dane | J32: Výška dane
D33: DPH | E33: základná | F33: =ROUND((SUM(BE128:BE355)), 2) -> 0 | I33: 0.23 | J33: =ROUND(((SUM(BE128:BE355))*I33), 2) -> 0
E34: znížená | F34: =ROUND((SUM(BF128:BF355)), 2) -> 0 | I34: 0.23 | J34: =ROUND(((SUM(BF128:BF355))*I34), 2) -> 0
E35: zákl. prenesená | F35: =ROUND((SUM(BG128:BG355)), 2) -> 0 | I35: 0.23 | J35: =0 -> 0
E36: zníž. prenesená | F36: =ROUND((SUM(BH128:BH355)), 2) -> 0 | I36: 0.23 | J36: =0 -> 0
E37: nulová | F37: =ROUND((SUM(BI128:BI355)), 2) -> 0 | I37: 0 | J37: =0 -> 0
D39: Cena s DPH | G39: v | H39: EUR | J39: =SUM(J30:J37) -> 0
D50: Projektant | G50: Spracovateľ
D61: Dátum a podpis: | F61: Pečiatka | G61: Dátum a podpis: | J61: Pečiatka
D65: Objednávateľ | G65: Zhotoviteľ
D76: Dátum a podpis: | F76: Pečiatka | G76: Dátum a podpis: | J76: Pečiatka
C82: REKAPITULÁCIA ROZPOČTU
C84: Stavba:
E85: =E7 -> Obnova vybraných častí NKP Kaštieľ,Múzeum vo Svätom Antone
C86: Objekt:
E87: =E9 -> 2025/01 - SO-01 - rekonštrukcia strechy
C89: Miesto: | F89: =F12 | I89: Dátum: | J89: =IF(J12="","",J12) -> 24. 7. 2026
C91: Objednávateľ: | F91: =E15 -> Múzeum vo Sv.Antone, Svätý Anton č. 291, 969 72 | I91: Projektant: | J91: =E21 -> Ing.arch.Adriana Zorvanová
C92: Zhotoviteľ: | F92: =IF(E18="","",E18) -> Vyplň údaj | I92: Spracovateľ: | J92: =E24
C94: Kód dielu - Popis | J94: Cena celkom [EUR]
C96: Náklady z rozpočtu | J96: =J128 -> 0 | AU96: -1
D97: HSV - Práce a dodávky HSV | J97: =J129 -> 0
D98: 6 - Úpravy povrchov, podlahy, osadenie | J98: =J130 -> 0
D99: 9 - Ostatné konštrukcie a práce-búranie | J99: =J137 -> 0
D100: 99 - Presun hmôt HSV | J100: =J218 -> 0
D101: PSV - Práce a dodávky PSV | J101: =J220 -> 0
D102: 713 - Izolácie tepelné | J102: =J221 -> 0
D103: 721 - Zdravotechnika - vnútorná kanalizácia | J103: =J238 -> 0
D104: 762 - Konštrukcie tesárske | J104: =J246 -> 0
D105: 764 - Konštrukcie klampiarske | J105: =J289 -> 0
D106: 765 - Konštrukcie - krytiny tvrdé | J106: =J336 -> 0
D107: 783 - Nátery | J107: =J345 -> 0
D108: VRN - Dopravné náklady a zriadenie staveniska | J108: =J351 -> 0
C115: ROZPOČET
C117: Stavba:
E118: =E7 -> Obnova vybraných častí NKP Kaštieľ,Múzeum vo Svätom Antone
C119: Objekt:
E120: =E9 -> 2025/01 - SO-01 - rekonštrukcia strechy
C122: Miesto: | F122: =F12 | I122: Dátum: | J122: =IF(J12="","",J12) -> 24. 7. 2026
C124: Objednávateľ: | F124: =E15 -> Múzeum vo Sv.Antone, Svätý Anton č. 291, 969 72 | I124: Projektant: | J124: =E21 -> Ing.arch.Adriana Zorvanová
C125: Zhotoviteľ: | F125: =IF(E18="","",E18) -> Vyplň údaj | I125: Spracovateľ: | J125: =E24
C127: PČ | D127: Typ | E127: Kód | F127: Popis | G127: MJ | H127: Množstvo | I127: J.cena [EUR] | J127: Cena celkom [EUR] | K127: Cenová sústava | N127: DPH | O127: J. Nh [h] | P127: Nh celkom [h] | Q127: J. hmotnosť [t] | R127: Hmotnosť celkom [t] | S127: J. suť [t] | T127: Suť Celkom [t]
C128: Náklady z rozpočtu | J128: =BK128 -> 0 | P128: =P129+P220+P351 -> 0 | R128: =R129+R220+R351 -> 909.67488 | T128: =T129+T220+T351 -> 199.75196 | AT128: D | AU128: -1 | BK128: =BK129+BK220+BK351 -> 0
D129: D | E129: HSV | F129: Práce a dodávky HSV | J129: =BK129 -> 0 | P129: =P130+P137+P218 -> 0 | R129: =R130+R137+R218 -> 486.6716 | T129: =T130+T137+T218 -> 0 | AR129: 1 | AT129: D | AU129: 0 | AY129: ROZPOCET | BK129: =BK130+BK137+BK218 -> 0
D130: D | E130: 6 | F130: Úpravy povrchov, podlahy, osadenie | J130: =BK130 -> 0 | P130: =SUM(P131:P136) -> 0 | R130: =SUM(R131:R136) -> 209.79 | T130: =SUM(T131:T136) -> 0 | AR130: 1 | AT130: D | AU130: 1 | AY130: ROZPOCET | BK130: =SUM(BK131:BK136) -> 0
C131: 1 | D131: K | E131: 631591115.S | F131: Násyp pod podlahy, mazaniny a dlažby, vodorovný alebo v spáde s utlačením a urovnaním povrchu, z keramzitu | G131: m3 | H131: 499.5 | J131: =ROUND(I131*H131,2) -> 0 | N131: znížená | P131: =O131*H131 -> 0 | Q131: 0.42 | R131: =Q131*H131 -> 209.79 | S131: 0 | T131: =S131*H131 -> 0 | AR131: 4 | AT131: K | AU131: 2 | AY131: ROZPOCET | BE131: =IF(N131="základná",J131,0) -> 0 | BF131: =IF(N131="znížená",J131,0) -> 0 | BG131: =IF(N131="zákl. prenesená",J131,0) -> 0 | BH131: =IF(N131="zníž. prenesená",J131,0) -> 0 | BI131: =IF(N131="nulová",J131,0) -> 0 | BJ131: 2 | BK131: =ROUND(I131*H131,2) -> 0 | BL131: 4 | BM131: -353348860
D132: VV | F132: "výmera z výkresu Pôdorys krovu- návrh zateplenia podlahy - navrhovaný stav č.v. 5*predpokladaná hrúbka násypu" | AT132: VV | AU132: 2 | AV132: 1 | AW132: True | AX132: 0 | AY132: ROZPOCET
D133: VV | F133: (2380+787)*0,15 | H133: 475.05 | AT133: VV | AU133: 2 | AV133: 2 | AW133: True | AX133: 0 | AY133: ROZPOCET
D134: VV | F134: "výmera z výkresu Pôdorys krovu- návrh zateplenia podlahy - navrhovaný stav č.v. 5* predpokladaná hrúbka násypu" | AT134: VV | AU134: 2 | AV134: 1 | AW134: True | AX134: 0 | AY134: ROZPOCET
D135: VV | F135: 163*0,15 | H135: 24.45 | AT135: VV | AU135: 2 | AV135: 2 | AW135: True | AX135: 0 | AY135: ROZPOCET
D136: VV | F136: Súčet | H136: 499.5 | AT136: VV | AU136: 2 | AV136: 4 | AW136: True | AX136: 1 | AY136: ROZPOCET
D137: D | E137: 9 | F137: Ostatné konštrukcie a práce-búranie | J137: =BK137 -> 0 | P137: =SUM(P138:P217) -> 0 | R137: =SUM(R138:R217) -> 276.8816 | T137: =SUM(T138:T217) -> 0 | AR137: 1 | AT137: D | AU137: 1 | AY137: ROZPOCET | BK137: =SUM(BK138:BK217) -> 0
C138: 2 | D138: K | E138: 941941031.S | F138: Montáž lešenia ľahkého pracovného radového s podlahami šírky od 0,80 do 1,00 m, výšky do 10 m | G138: m2 | H138: 5356.759 | J138: =ROUND(I138*H138,2) -> 0 | N138: znížená | P138: =O138*H138 -> 0 | Q138: 0.02571 | R138: =Q138*H138 -> 137.72227 | S138: 0 | T138: =S138*H138 -> 0 | AR138: 4 | AT138: K | AU138: 2 | AY138: ROZPOCET | BE138: =IF(N138="základná",J138,0) -> 0 | BF138: =IF(N138="znížená",J138,0) -> 0 | BG138: =IF(N138="zákl. prenesená",J138,0) -> 0 | BH138: =IF(N138="zníž. prenesená",J138,0) -> 0 | BI138: =IF(N138="nulová",J138,0) -> 0 | BJ138: 2 | BK138: =ROUND(I138*H138,2) -> 0 | BL138: 4 | BM138: 1112959160
D139: VV | F139: "rezopohľad vonkajší na východné krídlo - navrhovaný stav = dĺžka fasády+odskok+1*priemerná výška" | AT139: VV | AU139: 2 | AV139: 1 | AW139: True | AX139: 0 | AY139: ROZPOCET
D140: VV | F140: (83,64+6,3+6,8+1)*(4,76+5,18+5,46+9,72)/4 | H140: 613.807 | AT140: VV | AU140: 2 | AV140: 2 | AW140: True | AX140: 0 | AY140: ROZPOCET
D141: VV | F141: "rezopohľad vonkajší na severné krídlo - navrhovaný stav = dĺžka fasády+1*priemerná výška+štítová stena" | AT141: VV | AU141: 2 | AV141: 1 | AW141: True | AX141: 0 | AY141: ROZPOCET
D142: VV | F142: (70+1)*(10,55+11,29+14,22)/3+22,5*5,5/2 | H142: 915.295 | AT142: VV | AU142: 2 | AV142: 2 | AW142: True | AX142: 0 | AY142: ROZPOCET
D143: VV | F143: "rezopohľad vonkajší na západné krídlo - navrhovaný stav= dĺžka fasády+1*priemerná výška" | AT143: VV | AU143: 2 | AV143: 1 | AW143: True | AX143: 0 | AY143: ROZPOCET
D144: VV | F144: (84,18+1)*(14,75+14,88)/2 | H144: 1261.942 | AT144: VV | AU144: 2 | AV144: 2 | AW144: True | AX144: 0 | AY144: ROZPOCET
D145: VV | F145: "rezopohľad vonkajší na južné krídlo - navrhovaný stav= dĺžka fasády+1*priemerná výška" | AT145: VV | AU145: 2 | AV145: 1 | AW145: True | AX145: 0 | AY145: ROZPOCET
D146: VV | F146: (69,4+1+(2,2*2))*(14,74+11,29+9,49+9,12+7,32+4,97)/6 | H146: 709.727 | AT146: VV | AU146: 2 | AV146: 2 | AW146: True | AX146: 0 | AY146: ROZPOCET
D147: VV | F147: "rezopohľad dvorový na severné krídlo - navrhovaný stav= dĺžka fasády-1*priemerná výška+štítová stena" | AT147: VV | AU147: 2 | AV147: 1 | AW147: True | AX147: 0 | AY147: ROZPOCET
D148: VV | F148: (41,23-1)*(9,62+9,83)/2+15,084*5,5/2 | H148: 432.718 | AT148: VV | AU148: 2 | AV148: 2 | AW148: True | AX148: 0 | AY148: ROZPOCET
D149: VV | F149: "rezopohľad dvorový na západné krídlo - navrhovaný stav= dĺžka fasády*priemerná výška" | AT149: VV | AU149: 2 | AV149: 1 | AW149: True | AX149: 0 | AY149: ROZPOCET
D150: VV | F150: (44,01)*(9,64) | H150: 424.256 | AT150: VV | AU150: 2 | AV150: 2 | AW150: True | AX150: 0 | AY150: ROZPOCET
D151: VV | F151: "rezopohľad dvorový na východné krídlo - navrhovaný stav= dĺžka fasády-1*priemerná výška" | AT151: VV | AU151: 2 | AV151: 1 | AW151: True | AX151: 0 | AY151: ROZPOCET
D152: VV | F152: (43,98-1)*(9,61) | H152: 413.038 | AT152: VV | AU152: 2 | AV152: 2 | AW152: True | AX152: 0 | AY152: ROZPOCET
D153: VV | F153: "rezopohľad dvorový na južné krídlo - navrhovaný stav= dĺžka fasády*priemerná výška" | AT153: VV | AU153: 2 | AV153: 1 | AW153: True | AX153: 0 | AY153: ROZPOCET
D154: VV | F154: (41,23)*(9,45) | H154: 389.624 | AT154: VV | AU154: 2 | AV154: 2 | AW154: True | AX154: 0 | AY154: ROZPOCET
D155: VV | F155: "vežička nad strechou" | AT155: VV | AU155: 2 | AV155: 1 | AW155: True | AX155: 0 | AY155: ROZPOCET
D156: VV | F156: ((4,8+1)*2+(5+1)*2)*8,32 | H156: 196.352 | AT156: VV | AU156: 2 | AV156: 2 | AW156: True | AX156: 0 | AY156: ROZPOCET
D157: VV | F157: Súčet | H157: 5356.759 | AT157: VV | AU157: 2 | AV157: 4 | AW157: True | AX157: 1 | AY157: ROZPOCET
C158: 3 | D158: K | E158: 941941191.S | F158: Príplatok za prvý a každý ďalší i začatý mesiac použitia lešenia ľahkého pracovného radového s podlahami šírky od 0,80 do 1,00 m, výšky do 10 m | G158: m2 | H158: 187486.57 | J158: =ROUND(I158*H158,2) -> 0 | N158: znížená | P158: =O158*H158 -> 0 | Q158: 0 | R158: =Q158*H158 -> 0 | S158: 0 | T158: =S158*H158 -> 0 | AR158: 4 | AT158: K | AU158: 2 | AY158: ROZPOCET | BE158: =IF(N158="základná",J158,0) -> 0 | BF158: =IF(N158="znížená",J158,0) -> 0 | BG158: =IF(N158="zákl. prenesená",J158,0) -> 0 | BH158: =IF(N158="zníž. prenesená",J158,0) -> 0 | BI158: =IF(N158="nulová",J158,0) -> 0 | BJ158: 2 | BK158: =ROUND(I158*H158,2) -> 0 | BL158: 4 | BM158: -1999868403
D159: VV | F159: "položka č.2*35mesiacov=predbežná potreba lešenia pri prácach na objekte" | AT159: VV | AU159: 2 | AV159: 1 | AW159: True | AX159: 0 | AY159: ROZPOCET
D160: VV | F160: 5356,759*35 | H160: 187486.57 | AT160: VV | AU160: 2 | AV160: 2 | AW160: True | AX160: 1 | AY160: ROZPOCET
C161: 4 | D161: K | E161: 941941831.S | F161: Demontáž lešenia ľahkého pracovného radového s podlahami šírky nad 0,80 do 1,00 m, výšky do 10 m | G161: m2 | H161: 5356.759 | J161: =ROUND(I161*H161,2) -> 0 | N161: znížená | P161: =O161*H161 -> 0 | Q161: 0.02571 | R161: =Q161*H161 -> 137.72227 | S161: 0 | T161: =S161*H161 -> 0 | AR161: 4 | AT161: K | AU161: 2 | AY161: ROZPOCET | BE161: =IF(N161="základná",J161,0) -> 0 | BF161: =IF(N161="znížená",J161,0) -> 0 | BG161: =IF(N161="zákl. prenesená",J161,0) -> 0 | BH161: =IF(N161="zníž. prenesená",J161,0) -> 0 | BI161: =IF(N161="nulová",J161,0) -> 0 | BJ161: 2 | BK161: =ROUND(I161*H161,2) -> 0 | BL161: 4 | BM161: 845364045
D162: VV | F162: "rezopohľad vonkajší na východné krídlo - navrhovaný stav = dĺžka fasády+odskok+1*priemerná výška" | AT162: VV | AU162: 2 | AV162: 1 | AW162: True | AX162: 0 | AY162: ROZPOCET
D163: VV | F163: (83,64+6,3+6,8+1)*(4,76+5,18+5,46+9,72)/4 | H163: 613.807 | AT163: VV | AU163: 2 | AV163: 2 | AW163: True | AX163: 0 | AY163: ROZPOCET
D164: VV | F164: "rezopohľad vonkajší na severné krídlo - navrhovaný stav = dĺžka fasády+1*priemerná výška+štítová stena" | AT164: VV | AU164: 2 | AV164: 1 | AW164: True | AX164: 0 | AY164: ROZPOCET
D165: VV | F165: (70+1)*(10,55+11,29+14,22)/3+22,5*5,5/2 | H165: 915.295 | AT165: VV | AU165: 2 | AV165: 2 | AW165: True | AX165: 0 | AY165: ROZPOCET
D166: VV | F166: "rezopohľad vonkajší na západné krídlo - navrhovaný stav= dĺžka fasády+1*priemerná výška" | AT166: VV | AU166: 2 | AV166: 1 | AW166: True | AX166: 0 | AY166: ROZPOCET
...

Sheet 2025-02 - SO-01 - obnova ...
AT2: {46e82cea-a80e-4c1e-8bb6-d35cac726472}
AT3: 0
D4: KRYCÍ LIST ROZPOČTU | M4: v --- nižšie sa nachádzajú doplnkové a pomocné údaje k zostavám --- v | AT4: False
D6: Stavba:
E7: ='Rekapitulácia stavby'!K6 -> Obnova vybraných častí NKP Kaštieľ,Múzeum vo Svätom Antone
D8: Objekt:
E9: 2025/02 - SO-01 - obnova interierov severného a východného krídla
D11: JKSO: | I11: ČS:
D12: Miesto: | I12: Dátum: | J12: ='Rekapitulácia stavby'!AN8 -> 24. 7. 2026
D14: Objednávateľ: | I14: IČO:
E15: Múzeum vo Sv.Antone, Svätý Anton č. 291, 969 72 | I15: IČ DPH:
D17: Zhotoviteľ: | I17: IČO: | J17: ='Rekapitulácia stavby'!AN13 -> Vyplň údaj
E18: ='Rekapitulácia stavby'!E14 -> Vyplň údaj | I18: IČ DPH: | J18: ='Rekapitulácia stavby'!AN14 -> Vyplň údaj
D20: Projektant: | I20: IČO:
E21: Ing.arch.Adriana Zorvanová | I21: IČ DPH:
D23: Spracovateľ: | I23: IČO:
I24: IČ DPH:
D26: Poznámka:
D30: Cena bez DPH | J30: =ROUND(J135, 2) -> 0
F32: Základ dane | I32: Sadzba dane | J32: Výška dane
D33: DPH | E33: základná | F33: =ROUND((SUM(BE135:BE1020)), 2) -> 0 | I33: 0.23 | J33: =ROUND(((SUM(BE135:BE1020))*I33), 2) -> 0
E34: znížená | F34: =ROUND((SUM(BF135:BF1020)), 2) -> 0 | I34: 0.23 | J34: =ROUND(((SUM(BF135:BF1020))*I34), 2) -> 0
E35: zákl. prenesená | F35: =ROUND((SUM(BG135:BG1020)), 2) -> 0 | I35: 0.23 | J35: =0 -> 0
E36: zníž. prenesená | F36: =ROUND((SUM(BH135:BH1020)), 2) -> 0 | I36: 0.23 | J36: =0 -> 0
E37: nulová | F37: =ROUND((SUM(BI135:BI1020)), 2) -> 0 | I37: 0 | J37: =0 -> 0
D39: Cena s DPH | G39: v | H39: EUR | J39: =SUM(J30:J37) -> 0
D50: Projektant | G50: Spracovateľ
D61: Dátum a podpis: | F61: Pečiatka | G61: Dátum a podpis: | J61: Pečiatka
D65: Objednávateľ | G65: Zhotoviteľ
D76: Dátum a podpis: | F76: Pečiatka | G76: Dátum a podpis: | J76: Pečiatka
C82: REKAPITULÁCIA ROZPOČTU
C84: Stavba:
E85: =E7 -> Obnova vybraných častí NKP Kaštieľ,Múzeum vo Svätom Antone
C86: Objekt:
E87: =E9 -> 2025/02 - SO-01 - obnova interierov severného a východného krídla
C89: Miesto: | F89: =F12 | I89: Dátum: | J89: =IF(J12="","",J12) -> 24. 7. 2026
C91: Objednávateľ: | F91: =E15 -> Múzeum vo Sv.Antone, Svätý Anton č. 291, 969 72 | I91: Projektant: | J91: =E21 -> Ing.arch.Adriana Zorvanová
C92: Zhotoviteľ: | F92: =IF(E18="","",E18) -> Vyplň údaj | I92: Spracovateľ: | J92: =E24
C94: Kód dielu - Popis | J94: Cena celkom [EUR]
C96: Náklady z rozpočtu | J96: =J135 -> 0 | AU96: -1
D97: HSV - Práce a dodávky HSV | J97: =J136 -> 0
D98: 1 - Zemné práce | J98: =J137 -> 0
D99: 2 - Zakladanie | J99: =J223 -> 0
D100: 6 - Úpravy povrchov, podlahy, osadenie | J100: =J429 -> 0
D101: 9 - Ostatné konštrukcie a práce-búranie | J101: =J587 -> 0
D102: 99 - Presun hmôt HSV | J102: =J740 -> 0
D103: PSV - Práce a dodávky PSV | J103: =J742 -> 0
D104: 711 - Izolácie proti vode a vlhkosti | J104: =J743 -> 0
D105: 712 - Izolácie striech, povlakové krytiny | J105: =J773 -> 0
D106: 713 - Izolácie tepelné | J106: =J785 -> 0
D107: 762 - Konštrukcie tesárske | J107: =J812 -> 0
D108: 763 - Konštrukcie - drevostavby | J108: =J826 -> 0
D109: 766 - Konštrukcie stolárske | J109: =J831 -> 0
D110: 771 - Podlahy z dlaždíc | J110: =J910 -> 0
D111: 772 - Podlahy z prírodného a konglomerovaného kameňa | J111: =J957 -> 0
D112: 775 - Podlahy vlysové a parketové | J112: =J967 -> 0
D113: Ostatné - Ostatné | J113: =J1000 -> 0
D114: 784 - Maľby | J114: =J1001 -> 0
D115: VRN - Dopravné náklady a zriadenie staveniska | J115: =J1018 -> 0
C122: ROZPOČET
C124: Stavba:
E125: =E7 -> Obnova vybraných častí NKP Kaštieľ,Múzeum vo Svätom Antone
C126: Objekt:
E127: =E9 -> 2025/02 - SO-01 - obnova interierov severného a východného krídla
C129: Miesto: | F129: =F12 | I129: Dátum: | J129: =IF(J12="","",J12) -> 24. 7. 2026
C131: Objednávateľ: | F131: =E15 -> Múzeum vo Sv.Antone, Svätý Anton č. 291, 969 72 | I131: Projektant: | J131: =E21 -> Ing.arch.Adriana Zorvanová
C132: Zhotoviteľ: | F132: =IF(E18="","",E18) -> Vyplň údaj | I132: Spracovateľ: | J132: =E24
C134: PČ | D134: Typ | E134: Kód | F134: Popis | G134: MJ | H134: Množstvo | I134: J.cena [EUR] | J134: Cena celkom [EUR] | K134: Cenová sústava | N134: DPH | O134: J. Nh [h] | P134: Nh celkom [h] | Q134: J. hmotnosť [t] | R134: Hmotnosť celkom [t] | S134: J. suť [t] | T134: Suť Celkom [t]
C135: Náklady z rozpočtu | J135: =BK135 -> 0 | P135: =P136+P742+P1018 -> 0 | R135: =R136+R742+R1018 -> 688.17041 | T135: =T136+T742+T1018 -> 394.9605 | AT135: D | AU135: -1 | BK135: =BK136+BK742+BK1018 -> 0
D136: D | E136: HSV | F136: Práce a dodávky HSV | J136: =BK136 -> 0 | P136: =P137+P223+P429+P587+P740 -> 0 | R136: =R137+R223+R429+R587+R740 -> 612.90467 | T136: =T137+T223+T429+T587+T740 -> 374.3702 | AR136: 1 | AT136: D | AU136: 0 | AY136: ROZPOCET | BK136: =BK137+BK223+BK429+BK587+BK740 -> 0
D137: D | E137: 1 | F137: Zemné práce | J137: =BK137 -> 0 | P137: =SUM(P138:P222) -> 0 | R137: =SUM(R138:R222) -> 0 | T137: =SUM(T138:T222) -> 0 | AR137: 1 | AT137: D | AU137: 1 | AY137: ROZPOCET | BK137: =SUM(BK138:BK222) -> 0
C138: 1 | D138: K | E138: 139711101.S | F138: Výkop v uzavretých priestoroch s naložením výkopu na dopravný prostriedok v hornine 1 až 4 | G138: m3 | H138: 190.225 | J138: =ROUND(I138*H138,2) -> 0 | N138: znížená | P138: =O138*H138 -> 0 | Q138: 0 | R138: =Q138*H138 -> 0 | S138: 0 | T138: =S138*H138 -> 0 | AR138: 4 | AT138: K | AU138: 2 | AY138: ROZPOCET | BE138: =IF(N138="základná",J138,0) -> 0 | BF138: =IF(N138="znížená",J138,0) -> 0 | BG138: =IF(N138="zákl. prenesená",J138,0) -> 0 | BH138: =IF(N138="zníž. prenesená",J138,0) -> 0 | BI138: =IF(N138="nulová",J138,0) -> 0 | BJ138: 2 | BK138: =ROUND(I138*H138,2) -> 0 | BL138: 4 | BM138: 378374294
D139: VV | F139: "Skladba podlahy P1 - m.č." | AT139: VV | AU139: 2 | AV139: 1 | AW139: True | AX139: 0 | AY139: ROZPOCET
D140: VV | F140: "(1.23a+1.23b+1.24+1.25+1.26+1.27+1.28+1.29)*hĺbka výkopu" | AT140: VV | AU140: 2 | AV140: 1 | AW140: True | AX140: 0 | AY140: ROZPOCET
D141: VV | F141: (21,2+11,8+57,4+48,7+26+41,1+39,4+20,5)*0,2 | H141: 53.22 | AT141: VV | AU141: 2 | AV141: 2 | AW141: True | AX141: 0 | AY141: ROZPOCET
D142: VV | F142: "Skladba podlahy P2 - m.č." | AT142: VV | AU142: 2 | AV142: 1 | AW142: True | AX142: 0 | AY142: ROZPOCET
D143: VV | F143: "(1.38+1.39)*hĺbka výkopu" | AT143: VV | AU143: 2 | AV143: 1 | AW143: True | AX143: 0 | AY143: ROZPOCET
D144: VV | F144: (5,7+24,9)*0,2 | H144: 6.12 | AT144: VV | AU144: 2 | AV144: 2 | AW144: True | AX144: 0 | AY144: ROZPOCET
D145: VV | F145: "Skladba podlahy P2A - m.č." | AT145: VV | AU145: 2 | AV145: 1 | AW145: True | AX145: 0 | AY145: ROZPOCET
D146: VV | F146: "(1.30+1.31a+1.31b+1.32+1.33+1.34+1.35+1.4+1.41+1.43)*hĺbka výkopu" | AT146: VV | AU146: 2 | AV146: 1 | AW146: True | AX146: 0 | AY146: ROZPOCET
D147: VV | F147: (31,9+23,9+23,9+58+27,1+25+17,1+23,3+28,8+35)*0,2 | H147: 58.8 | AT147: VV | AU147: 2 | AV147: 2 | AW147: True | AX147: 0 | AY147: ROZPOCET
D148: VV | F148: "Skladba podlahy P2B - m.č." | AT148: VV | AU148: 2 | AV148: 1 | AW148: True | AX148: 0 | AY148: ROZPOCET
D149: VV | F149: "(1.42)*hĺbka výkopu" | AT149: VV | AU149: 2 | AV149: 1 | AW149: True | AX149: 0 | AY149: ROZPOCET
D150: VV | F150: 19,8*0,2 | H150: 3.96 | AT150: VV | AU150: 2 | AV150: 2 | AW150: True | AX150: 0 | AY150: ROZPOCET
D151: VV | F151: "Skladba podlahy P3 - m.č." | AT151: VV | AU151: 2 | AV151: 1 | AW151: True | AX151: 0 | AY151: ROZPOCET
D152: VV | F152: "(1.14+1.15+1.16+1.17+1.18)*hĺbka výkopu" | AT152: VV | AU152: 2 | AV152: 1 | AW152: True | AX152: 0 | AY152: ROZPOCET
D153: VV | F153: (74,2+26,3+31,6+29,4+60)*0,2 | H153: 44.3 | AT153: VV | AU153: 2 | AV153: 2 | AW153: True | AX153: 0 | AY153: ROZPOCET
D154: VV | F154: "Sanácia vlhkosti - pôdorys prízemia vých. kríd. č.v.3- trativod*šírka *výška výkopu" | AT154: VV | AU154: 2 | AV154: 1 | AW154: True | AX154: 0 | AY154: ROZPOCET
D155: VV | F155: (38+0,898+4,42)*2*0,275*1 | H155: 23.825 | AT155: VV | AU155: 2 | AV155: 2 | AW155: True | AX155: 0 | AY155: ROZPOCET
D156: VV | F156: Súčet | H156: 190.225 | AT156: VV | AU156: 2 | AV156: 4 | AW156: True | AX156: 1 | AY156: ROZPOCET
C157: 2 | D157: K | E157: 162201211.S | F157: Vodorovné premiestnenie výkopku horniny tr. 1 až 4 stavebným fúrikom do 10 m v rovine alebo vo svahu do 1:5 | G157: m3 | H157: 190.225 | J157: =ROUND(I157*H157,2) -> 0 | N157: znížená | P157: =O157*H157 -> 0 | Q157: 0 | R157: =Q157*H157 -> 0 | S157: 0 | T157: =S157*H157 -> 0 | AR157: 4 | AT157: K | AU157: 2 | AY157: ROZPOCET | BE157: =IF(N157="základná",J157,0) -> 0 | BF157: =IF(N157="znížená",J157,0) -> 0 | BG157: =IF(N157="zákl. prenesená",J157,0) -> 0 | BH157: =IF(N157="zníž. prenesená",J157,0) -> 0 | BI157: =IF(N157="nulová",J157,0) -> 0 | BJ157: 2 | BK157: =ROUND(I157*H157,2) -> 0 | BL157: 4 | BM157: 158663528
D158: VV | F158: "Skladba podlahy P1 - m.č." | AT158: VV | AU158: 2 | AV158: 1 | AW158: True | AX158: 0 | AY158: ROZPOCET
D159: VV | F159: "(1.23a+1.23b+1.24+1.25+1.26+1.27+1.28+1.29)*hĺbka výkopu" | AT159: VV | AU159: 2 | AV159: 1 | AW159: True | AX159: 0 | AY159: ROZPOCET
D160: VV | F160: (21,2+11,8+57,4+48,7+26+41,1+39,4+20,5)*0,2 | H160: 53.22 | AT160: VV | AU160: 2 | AV160: 2 | AW160: True | AX160: 0 | AY160: ROZPOCET
D161: VV | F161: "Skladba podlahy P2 - m.č." | AT161: VV | AU161: 2 | AV161: 1 | AW161: True | AX161: 0 | AY161: ROZPOCET
D162: VV | F162: "(1.38+1.39)*hĺbka výkopu" | AT162: VV | AU162: 2 | AV162: 1 | AW162: True | AX162: 0 | AY162: ROZPOCET
D163: VV | F163: (5,7+24,9)*0,2 | H163: 6.12 | AT163: VV | AU163: 2 | AV163: 2 | AW163: True | AX163: 0 | AY163: ROZPOCET
D164: VV | F164: "Skladba podlahy P2A - m.č." | AT164: VV | AU164: 2 | AV164: 1 | AW164: True | AX164: 0 | AY164: ROZPOCET
D165: VV | F165: "(1.30+1.31a+1.31b+1.32+1.33+1.34+1.35+1.4+1.41+1.43)*hĺbka výkopu" | AT165: VV | AU165: 2 | AV165: 1 | AW165: True | AX165: 0 | AY165: ROZPOCET
D166: VV | F166: (31,9+23,9+23,9+58+27,1+25+17,1+23,3+28,8+35)*0,2 | H166: 58.8 | AT166: VV | AU166: 2 | AV166: 2 | AW166: True | AX166: 0 | AY166: ROZPOCET
...

Sheet 2025-10 - SO-01 - sanácia...
AT2: {9a2003ad-1041-42d1-87c4-24fc0498d8e6}
AT3: 0
D4: KRYCÍ LIST ROZPOČTU | M4: v --- nižšie sa nachádzajú doplnkové a pomocné údaje k zostavám --- v | AT4: False
D6: Stavba:
E7: ='Rekapitulácia stavby'!K6 -> Obnova vybraných častí NKP Kaštieľ,Múzeum vo Svätom Antone
D8: Objekt:
E9: 2025/10 - SO-01 - sanácia vlhkosti exteriér
D11: JKSO: | I11: ČS:
D12: Miesto: | I12: Dátum: | J12: ='Rekapitulácia stavby'!AN8 -> 24. 7. 2026
D14: Objednávateľ: | I14: IČO:
E15: Múzeum vo Sv.Antone, Svätý Anton č. 291, 969 72 | I15: IČ DPH:
D17: Zhotoviteľ: | I17: IČO: | J17: ='Rekapitulácia stavby'!AN13 -> Vyplň údaj
E18: ='Rekapitulácia stavby'!E14 -> Vyplň údaj | I18: IČ DPH: | J18: ='Rekapitulácia stavby'!AN14 -> Vyplň údaj
D20: Projektant: | I20: IČO:
E21: Ing.arch.Adriana Zorvanová | I21: IČ DPH:
D23: Spracovateľ: | I23: IČO: | J23: =IF('Rekapitulácia stavby'!AN19="","",'Rekapitulácia stavby'!AN19)
E24: =IF('Rekapitulácia stavby'!E20="","",'Rekapitulácia stavby'!E20) | I24: IČ DPH: | J24: =IF('Rekapitulácia stavby'!AN20="","",'Rekapitulácia stavby'!AN20)
D26: Poznámka:
D30: Cena bez DPH | J30: =ROUND(J128, 2) -> 0
F32: Základ dane | I32: Sadzba dane | J32: Výška dane
D33: DPH | E33: základná | F33: =ROUND((SUM(BE128:BE310)), 2) -> 0 | I33: 0.23 | J33: =ROUND(((SUM(BE128:BE310))*I33), 2) -> 0
E34: znížená | F34: =ROUND((SUM(BF128:BF310)), 2) -> 0 | I34: 0.23 | J34: =ROUND(((SUM(BF128:BF310))*I34), 2) -> 0
E35: zákl. prenesená | F35: =ROUND((SUM(BG128:BG310)), 2) -> 0 | I35: 0.23 | J35: =0 -> 0
E36: zníž. prenesená | F36: =ROUND((SUM(BH128:BH310)), 2) -> 0 | I36: 0.23 | J36: =0 -> 0
E37: nulová | F37: =ROUND((SUM(BI128:BI310)), 2) -> 0 | I37: 0 | J37: =0 -> 0
D39: Cena s DPH | G39: v | H39: EUR | J39: =SUM(J30:J37) -> 0
D50: Projektant | G50: Spracovateľ
D61: Dátum a podpis: | F61: Pečiatka | G61: Dátum a podpis: | J61: Pečiatka
D65: Objednávateľ | G65: Zhotoviteľ
D76: Dátum a podpis: | F76: Pečiatka | G76: Dátum a podpis: | J76: Pečiatka
C82: REKAPITULÁCIA ROZPOČTU
C84: Stavba:
E85: =E7 -> Obnova vybraných častí NKP Kaštieľ,Múzeum vo Svätom Antone
C86: Objekt:
E87: =E9 -> 2025/10 - SO-01 - sanácia vlhkosti exteriér
C89: Miesto: | F89: =F12 | I89: Dátum: | J89: =IF(J12="","",J12) -> 24. 7. 2026
C91: Objednávateľ: | F91: =E15 -> Múzeum vo Sv.Antone, Svätý Anton č. 291, 969 72 | I91: Projektant: | J91: =E21 -> Ing.arch.Adriana Zorvanová
C92: Zhotoviteľ: | F92: =IF(E18="","",E18) -> Vyplň údaj | I92: Spracovateľ: | J92: =E24
C94: Kód dielu - Popis | J94: Cena celkom [EUR]
C96: Náklady z rozpočtu | J96: =J128 -> 0 | AU96: -1
D97: HSV - Práce a dodávky HSV | J97: =J129 -> 0
D98: 1 - ZEMNE PRÁCE | J98: =J130 -> 0
D99: 2 - Zakladanie | J99: =J188 -> 0
D100: 4 - Vodorovné konštrukcie | J100: =J215 -> 0
D101: 5 - Komunikácie | J101: =J220 -> 0
D102: 6 - Úpravy povrchov, podlahy, osadenie | J102: =J231 -> 0
D103: 8 - Rúrové vedenie | J103: =J249 -> 0
D104: 9 - Ostatné konštrukcie a práce-búranie | J104: =J275 -> 0
D105: 99 - Presun hmôt HSV | J105: =J282 -> 0
D106: PSV - Práce a dodávky PSV | J106: =J284 -> 0
D107: 711 - Izolácie proti vode a vlhkosti | J107: =J285 -> 0
D108: VRN - Dopravné náklady a zriadenie staveniska | J108: =J308 -> 0
C115: ROZPOČET
C117: Stavba:
E118: =E7 -> Obnova vybraných častí NKP Kaštieľ,Múzeum vo Svätom Antone
C119: Objekt:
E120: =E9 -> 2025/10 - SO-01 - sanácia vlhkosti exteriér
C122: Miesto: | F122: =F12 | I122: Dátum: | J122: =IF(J12="","",J12) -> 24. 7. 2026
C124: Objednávateľ: | F124: =E15 -> Múzeum vo Sv.Antone, Svätý Anton č. 291, 969 72 | I124: Projektant: | J124: =E21 -> Ing.arch.Adriana Zorvanová
C125: Zhotoviteľ: | F125: =IF(E18="","",E18) -> Vyplň údaj | I125: Spracovateľ: | J125: =E24
C127: PČ | D127: Typ | E127: Kód | F127: Popis | G127: MJ | H127: Množstvo | I127: J.cena [EUR] | J127: Cena celkom [EUR] | K127: Cenová sústava | N127: DPH | O127: J. Nh [h] | P127: Nh celkom [h] | Q127: J. hmotnosť [t] | R127: Hmotnosť celkom [t] | S127: J. suť [t] | T127: Suť Celkom [t]
C128: Náklady z rozpočtu | J128: =BK128 -> 0 | P128: =P129+P284+P308 -> 0 | R128: =R129+R284+R308 -> 447.17118 | T128: =T129+T284+T308 -> 0 | AT128: D | AU128: -1 | BK128: =BK129+BK284+BK308 -> 0
D129: D | E129: HSV | F129: Práce a dodávky HSV | J129: =BK129 -> 0 | P129: =P130+P188+P215+P220+P231+P249+P275+P282 -> 0 | R129: =R130+R188+R215+R220+R231+R249+R275+R282 -> 446.79883 | T129: =T130+T188+T215+T220+T231+T249+T275+T282 -> 0 | AR129: 1 | AT129: D | AU129: 0 | AY129: ROZPOCET | BK129: =BK130+BK188+BK215+BK220+BK231+BK249+BK275+BK282 -> 0
D130: D | E130: 1 | F130: ZEMNE PRÁCE | J130: =BK130 -> 0 | P130: =SUM(P131:P187) -> 0 | R130: =SUM(R131:R187) -> 33.15593 | T130: =SUM(T131:T187) -> 0 | AR130: 1 | AT130: D | AU130: 1 | AY130: ROZPOCET | BK130: =SUM(BK131:BK187) -> 0
C131: 1 | D131: K | E131: 131201101.S | F131: Výkop nezapaženej jamy v hornine 3, do 100 m3 | G131: m3 | H131: 24.536 | J131: =ROUND(I131*H131,2) -> 0 | N131: znížená | P131: =O131*H131 -> 0 | Q131: 0 | R131: =Q131*H131 -> 0 | S131: 0 | T131: =S131*H131 -> 0 | AR131: 4 | AT131: K | AU131: 2 | AY131: ROZPOCET | BE131: =IF(N131="základná",J131,0) -> 0 | BF131: =IF(N131="znížená",J131,0) -> 0 | BG131: =IF(N131="zákl. prenesená",J131,0) -> 0 | BH131: =IF(N131="zníž. prenesená",J131,0) -> 0 | BI131: =IF(N131="nulová",J131,0) -> 0 | BJ131: 2 | BK131: =ROUND(I131*H131,2) -> 0 | BL131: 4 | BM131: -1725079008
D132: VV | F132: "Revízna šachta" (1*1*1)*2 | H132: 2 | AT132: VV | AU132: 2 | AV132: 2 | AW132: True | AX132: 0 | AY132: ROZPOCET
D133: VV | F133: "Nové trasovanie dažďových zvodov" (0,8*0,9*0,9)*7 | H133: 4.536 | AT133: VV | AU133: 2 | AV133: 2 | AW133: True | AX133: 0 | AY133: ROZPOCET
D134: VV | F134: "Vsakovacia jama" 2*2*2,5 | H134: 10 | AT134: VV | AU134: 2 | AV134: 2 | AW134: True | AX134: 0 | AY134: ROZPOCET
D135: VV | F135: "Drenážna studňa výkop od spodnej hrany rigolu zo vsakovacích boxov" (1*1*2)*4 | H135: 8 | AT135: VV | AU135: 2 | AV135: 2 | AW135: True | AX135: 0 | AY135: ROZPOCET
D136: VV | F136: Súčet | H136: 24.536 | AT136: VV | AU136: 2 | AV136: 4 | AW136: True | AX136: 1 | AY136: ROZPOCET
C137: 2 | D137: K | E137: 131201109.S | F137: Hĺbenie nezapažených jám a zárezov. Príplatok za lepivosť horniny 3 | G137: m3 | H137: 4.361 | J137: =ROUND(I137*H137,2) -> 0 | N137: znížená | P137: =O137*H137 -> 0 | Q137: 0 | R137: =Q137*H137 -> 0 | S137: 0 | T137: =S137*H137 -> 0 | AR137: 4 | AT137: K | AU137: 2 | AY137: ROZPOCET | BE137: =IF(N137="základná",J137,0) -> 0 | BF137: =IF(N137="znížená",J137,0) -> 0 | BG137: =IF(N137="zákl. prenesená",J137,0) -> 0 | BH137: =IF(N137="zníž. prenesená",J137,0) -> 0 | BI137: =IF(N137="nulová",J137,0) -> 0 | BJ137: 2 | BK137: =ROUND(I137*H137,2) -> 0 | BL137: 4 | BM137: 406677819
D138: VV | F138: 14,536*0,3 | H138: 4.361 | AT138: VV | AU138: 2 | AV138: 2 | AW138: True | AX138: 1 | AY138: ROZPOCET
C139: 3 | D139: K | E139: 132201102.S | F139: Výkop ryhy do šírky 600 mm v horn.3 nad 100 m3 | G139: m3 | H139: 808.26 | J139: =ROUND(I139*H139,2) -> 0 | N139: znížená | P139: =O139*H139 -> 0 | Q139: 0 | R139: =Q139*H139 -> 0 | S139: 0 | T139: =S139*H139 -> 0 | AR139: 4 | AT139: K | AU139: 2 | AY139: ROZPOCET | BE139: =IF(N139="základná",J139,0) -> 0 | BF139: =IF(N139="znížená",J139,0) -> 0 | BG139: =IF(N139="zákl. prenesená",J139,0) -> 0 | BH139: =IF(N139="zníž. prenesená",J139,0) -> 0 | BI139: =IF(N139="nulová",J139,0) -> 0 | BJ139: 2 | BK139: =ROUND(I139*H139,2) -> 0 | BL139: 4 | BM139: 867399187
D140: VV | F140: "Drenážny rigol zo vsakovacích boxov" 8*80,55 | H140: 644.4 | AT140: VV | AU140: 2 | AV140: 2 | AW140: True | AX140: 0 | AY140: ROZPOCET
D141: VV | F141: "Drenážny výkop A" 3*15 | H141: 45 | AT141: VV | AU141: 2 | AV141: 2 | AW141: True | AX141: 0 | AY141: ROZPOCET
D142: VV | F142: "Drenážny výkop B"2,1*5,77 | H142: 12.117 | AT142: VV | AU142: 2 | AV142: 2 | AW142: True | AX142: 0 | AY142: ROZPOCET
D143: VV | F143: "Drenážny výkop C" 2.2*20,465 | H143: 45.023 | AT143: VV | AU143: 2 | AV143: 2 | AW143: True | AX143: 0 | AY143: ROZPOCET
D144: VV | F144: "Napojenie do vsakovacej jamy" 8,6*1*4 | H144: 34.4 | AT144: VV | AU144: 2 | AV144: 2 | AW144: True | AX144: 0 | AY144: ROZPOCET
D145: VV | F145: "Dažďová kanalizácia" 68,3*0,8*0,5 | H145: 27.32 | AT145: VV | AU145: 2 | AV145: 2 | AW145: True | AX145: 0 | AY145: ROZPOCET
D146: VV | F146: Súčet | H146: 808.26 | AT146: VV | AU146: 2 | AV146: 4 | AW146: True | AX146: 1 | AY146: ROZPOCET
C147: 4 | D147: K | E147: 132201109.S | F147: Príplatok k cene za lepivosť pri hĺbení rýh šírky do 600 mm zapažených i nezapažených s urovnaním dna v hornine 3 | G147: m3 | H147: 242.478 | J147: =ROUND(I147*H147,2) -> 0 | N147: znížená | P147: =O147*H147 -> 0 | Q147: 0 | R147: =Q147*H147 -> 0 | S147: 0 | T147: =S147*H147 -> 0 | AR147: 4 | AT147: K | AU147: 2 | AY147: ROZPOCET | BE147: =IF(N147="základná",J147,0) -> 0 | BF147: =IF(N147="znížená",J147,0) -> 0 | BG147: =IF(N147="zákl. prenesená",J147,0) -> 0 | BH147: =IF(N147="zníž. prenesená",J147,0) -> 0 | BI147: =IF(N147="nulová",J147,0) -> 0 | BJ147: 2 | BK147: =ROUND(I147*H147,2) -> 0 | BL147: 4 | BM147: -1456904502
D148: VV | F148: 808,26*0,3 | H148: 242.478 | AT148: VV | AU148: 2 | AV148: 2 | AW148: True | AX148: 0 | AY148: ROZPOCET
D149: VV | F149: Súčet | H149: 242.478 | AT149: VV | AU149: 2 | AV149: 4 | AW149: True | AX149: 1 | AY149: ROZPOCET
C150: 5 | D150: K | E150: 132211111.S | F150: Hĺbenie rýh šírky do 600 mm v hornine tr.3 nesúdržných - ručným náradím | G150: m3 | H150: 40.413 | J150: =ROUND(I150*H150,2) -> 0 | N150: znížená | P150: =O150*H150 -> 0 | Q150: 0 | R150: =Q150*H150 -> 0 | S150: 0 | T150: =S150*H150 -> 0 | AR150: 4 | AT150: K | AU150: 2 | AY150: ROZPOCET | BE150: =IF(N150="základná",J150,0) -> 0 | BF150: =IF(N150="znížená",J150,0) -> 0 | BG150: =IF(N150="zákl. prenesená",J150,0) -> 0 | BH150: =IF(N150="zníž. prenesená",J150,0) -> 0 | BI150: =IF(N150="nulová",J150,0) -> 0 | BJ150: 2 | BK150: =ROUND(I150*H150,2) -> 0 | BL150: 4 | BM150: -821013896
D151: VV | F151: 808,26*0,05 | H151: 40.413 | AT151: VV | AU151: 2 | AV151: 2 | AW151: True | AX151: 0 | AY151: ROZPOCET
D152: VV | F152: Súčet | H152: 40.413 | AT152: VV | AU152: 2 | AV152: 4 | AW152: True | AX152: 1 | AY152: ROZPOCET
C153: 6 | D153: K | E153: 132211119.S | F153: Príplatok za lepivosť pri hĺbení rýh š do 600 mm ručným náradím v hornine tr. 3 | G153: m3 | H153: 12.125 | J153: =ROUND(I153*H153,2) -> 0 | N153: znížená | P153: =O153*H153 -> 0 | Q153: 0 | R153: =Q153*H153 -> 0 | S153: 0 | T153: =S153*H153 -> 0 | AR153: 4 | AT153: K | AU153: 2 | AY153: ROZPOCET | BE153: =IF(N153="základná",J153,0) -> 0 | BF153: =IF(N153="znížená",J153,0) -> 0 | BG153: =IF(N153="zákl. prenesená",J153,0) -> 0 | BH153: =IF(N153="zníž. prenesená",J153,0) -> 0 | BI153: =IF(N153="nulová",J153,0) -> 0 | BJ153: 2 | BK153: =ROUND(I153*H153,2) -> 0 | BL153: 4 | BM153: -1564655727
D154: VV | F154: 40,416*0,3 | H154: 12.125 | AT154: VV | AU154: 2 | AV154: 2 | AW154: True | AX154: 0 | AY154: ROZPOCET
D155: VV | F155: Súčet | H155: 12.125 | AT155: VV | AU155: 2 | AV155: 4 | AW155: True | AX155: 1 | AY155: ROZPOCET
C156: 7 | D156: K | E156: 151101103.S | F156: Paženie a rozopretie stien rýh pre podzemné vedenie, príložné do 8 m | G156: m2 | H156: 715.176 | J156: =ROUND(I156*H156,2) -> 0 | N156: znížená | P156: =O156*H156 -> 0 | Q156: 0.045172 | R156: =Q156*H156 -> 32.30593 | S156: 0 | T156: =S156*H156 -> 0 | AR156: 4 | AT156: K | AU156: 2 | AY156: ROZPOCET | BE156: =IF(N156="základná",J156,0) -> 0 | BF156: =IF(N156="znížená",J156,0) -> 0 | BG156: =IF(N156="zákl. prenesená",J156,0) -> 0 | BH156: =IF(N156="zníž. prenesená",J156,0) -> 0 | BI156: =IF(N156="nulová",J156,0) -> 0 | BJ156: 2 | BK156: =ROUND(I156*H156,2) -> 0 | BL156: 4 | BM156: -672802438
D157: VV | F157: "Drenážny rigol zo vsakovacích boxov" (80,55*4,16)*2 | H157: 670.176 | AT157: VV | AU157: 2 | AV157: 2 | AW157: True | AX157: 0 | AY157: ROZPOCET
D158: VV | F158: "Drenážny výkop A" 15*3 | H158: 45 | AT158: VV | AU158: 2 | AV158: 2 | AW158: True | AX158: 0 | AY158: ROZPOCET
D159: VV | F159: Súčet | H159: 715.176 | AT159: VV | AU159: 2 | AV159: 4 | AW159: True | AX159: 1 | AY159: ROZPOCET
C160: 8 | D160: K | E160: 151101113.S | F160: Odstránenie paženia rýh pre podzemné vedenie, príložné hĺbky do 8 m | G160: m2 | H160: 715.176 | J160: =ROUND(I160*H160,2) -> 0 | N160: znížená | P160: =O160*H160 -> 0 | Q160: 0 | R160: =Q160*H160 -> 0 | S160: 0 | T160: =S160*H160 -> 0 | AR160: 4 | AT160: K | AU160: 2 | AY160: ROZPOCET | BE160: =IF(N160="základná",J160,0) -> 0 | BF160: =IF(N160="znížená",J160,0) -> 0 | BG160: =IF(N160="zákl. prenesená",J160,0) -> 0 | BH160: =IF(N160="zníž. prenesená",J160,0) -> 0 | BI160: =IF(N160="nulová",J160,0) -> 0 | BJ160: 2 | BK160: =ROUND(I160*H160,2) -> 0 | BL160: 4 | BM160: -77315709
D161: VV | F161: "Drenážny rigol zo vsakovacích boxov" (80,55*4,16)*2 | H161: 670.176 | AT161: VV | AU161: 2 | AV161: 2 | AW161: True | AX161: 0 | AY161: ROZPOCET
D162: VV | F162: "Drenážny výkop A" 15*3 | H162: 45 | AT162: VV | AU162: 2 | AV162: 2 | AW162: True | AX162: 0 | AY162: ROZPOCET
D163: VV | F163: Súčet | H163: 715.176 | AT163: VV | AU163: 2 | AV163: 4 | AW163: True | AX163: 1 | AY163: ROZPOCET
C164: 9 | D164: K | E164: 162201102.S | F164: Vodorovné premiestnenie výkopku z horniny 1-4 nad 20-50m | G164: m3 | H164: 873.209 | J164: =ROUND(I164*H164,2) -> 0 | N164: znížená | P164: =O164*H164 -> 0 | Q164: 0 | R164: =Q164*H164 -> 0 | S164: 0 | T164: =S164*H164 -> 0 | AR164: 4 | AT164: K | AU164: 2 | AY164: ROZPOCET | BE164: =IF(N164="základná",J164,0) -> 0 | BF164: =IF(N164="znížená",J164,0) -> 0 | BG164: =IF(N164="zákl. prenesená",J164,0) -> 0 | BH164: =IF(N164="zníž. prenesená",J164,0) -> 0 | BI164: =IF(N164="nulová",J164,0) -> 0 | BJ164: 2 | BK164: =ROUND(I164*H164,2) -> 0 | BL164: 4 | BM164: 743069795
D165: VV | F165: "Jama + ryha strojný výkop + ryha ručný výkop" 24,536+808,26+40,413 | H165: 873.209 | AT165: VV | AU165: 2 | AV165: 2 | AW165: True | AX165: 0 | AY165: ROZPOCET
D166: VV | F166: Súčet | H166: 873.209 | AT166: VV | AU166: 2 | AV166: 4 | AW166: True | AX166: 1 | AY166: ROZPOCET
...

Sheet 2025-11 - SO-01 - umeleck...
AT2: {a70bc4c3-f7ef-40cb-9f7b-6859b39f86ef}
AT3: 0
D4: KRYCÍ LIST ROZPOČTU | M4: v --- nižšie sa nachádzajú doplnkové a pomocné údaje k zostavám --- v | AT4: False
D6: Stavba:
E7: ='Rekapitulácia stavby'!K6 -> Obnova vybraných častí NKP Kaštieľ,Múzeum vo Svätom Antone
D8: Objekt:
E9: 2025/11 - SO-01 - umelecko-remeselná obnova hodnotných prvkov kaštieľa
D11: JKSO: | I11: ČS:
D12: Miesto: | I12: Dátum: | J12: ='Rekapitulácia stavby'!AN8 -> 24. 7. 2026
D14: Objednávateľ: | I14: IČO: | J14: =IF('Rekapitulácia stavby'!AN10="","",'Rekapitulácia stavby'!AN10)
E15: =IF('Rekapitulácia stavby'!E11="","",'Rekapitulácia stavby'!E11) -> Múzeum vo Sv.Antone, Svätý Anton č. 291, 969 72 | I15: IČ DPH: | J15: =IF('Rekapitulácia stavby'!AN11="","",'Rekapitulácia stavby'!AN11)
D17: Zhotoviteľ: | I17: IČO: | J17: ='Rekapitulácia stavby'!AN13 -> Vyplň údaj
E18: ='Rekapitulácia stavby'!E14 -> Vyplň údaj | I18: IČ DPH: | J18: ='Rekapitulácia stavby'!AN14 -> Vyplň údaj
D20: Projektant: | I20: IČO: | J20: =IF('Rekapitulácia stavby'!AN16="","",'Rekapitulácia stavby'!AN16)
E21: =IF('Rekapitulácia stavby'!E17="","",'Rekapitulácia stavby'!E17) -> Ing.arch.Adriana Zorvanová | I21: IČ DPH: | J21: =IF('Rekapitulácia stavby'!AN17="","",'Rekapitulácia stavby'!AN17)
D23: Spracovateľ: | I23: IČO: | J23: =IF('Rekapitulácia stavby'!AN19="","",'Rekapitulácia stavby'!AN19)
E24: =IF('Rekapitulácia stavby'!E20="","",'Rekapitulácia stavby'!E20) | I24: IČ DPH: | J24: =IF('Rekapitulácia stavby'!AN20="","",'Rekapitulácia stavby'!AN20)
D26: Poznámka:
D30: Cena bez DPH | J30: =ROUND(J128, 2) -> 0
F32: Základ dane | I32: Sadzba dane | J32: Výška dane
D33: DPH | E33: základná | F33: =ROUND((SUM(BE128:BE271)), 2) -> 0 | I33: 0.23 | J33: =ROUND(((SUM(BE128:BE271))*I33), 2) -> 0
E34: znížená | F34: =ROUND((SUM(BF128:BF271)), 2) -> 0 | I34: 0.23 | J34: =ROUND(((SUM(BF128:BF271))*I34), 2) -> 0
E35: zákl. prenesená | F35: =ROUND((SUM(BG128:BG271)), 2) -> 0 | I35: 0.23 | J35: =0 -> 0
E36: zníž. prenesená | F36: =ROUND((SUM(BH128:BH271)), 2) -> 0 | I36: 0.23 | J36: =0 -> 0
E37: nulová | F37: =ROUND((SUM(BI128:BI271)), 2) -> 0 | I37: 0 | J37: =0 -> 0
D39: Cena s DPH | G39: v | H39: EUR | J39: =SUM(J30:J37) -> 0
D50: Projektant | G50: Spracovateľ
D61: Dátum a podpis: | F61: Pečiatka | G61: Dátum a podpis: | J61: Pečiatka
D65: Objednávateľ | G65: Zhotoviteľ
D76: Dátum a podpis: | F76: Pečiatka | G76: Dátum a podpis: | J76: Pečiatka
C82: REKAPITULÁCIA ROZPOČTU
C84: Stavba:
E85: =E7 -> Obnova vybraných častí NKP Kaštieľ,Múzeum vo Svätom Antone
C86: Objekt:
E87: =E9 -> 2025/11 - SO-01 - umelecko-remeselná obnova hodnotných prvkov kaštieľa
C89: Miesto: | F89: =F12 | I89: Dátum: | J89: =IF(J12="","",J12) -> 24. 7. 2026
C91: Objednávateľ: | F91: =E15 -> Múzeum vo Sv.Antone, Svätý Anton č. 291, 969 72 | I91: Projektant: | J91: =E21 -> Ing.arch.Adriana Zorvanová
C92: Zhotoviteľ: | F92: =IF(E18="","",E18) -> Vyplň údaj | I92: Spracovateľ: | J92: =E24
C94: Kód dielu - Popis | J94: Cena celkom [EUR]
C96: Náklady z rozpočtu | J96: =J128 -> 0 | AU96: -1
D97: D1 - Umelecko-remeselné práce - EXTERIÉR | J97: =J129 -> 0
D98: D2 - Východné krídlo kaštieľa – exteriér | J98: =J130 -> 0
D99: D3 - Severné krídlo kaštieľa – exteriér | J99: =J139 -> 0
D100: D4 - Západné krídlo kaštieľa – exteriér | J100: =J143 -> 0
D101: D5 - Južné krídlo kaštieľa – exteriér | J101: =J150 -> 0
D102: D6 - Nádvorie kaštieľa – exteriér | J102: =J174 -> 0
D103: D7 - Fasády kaštieľa a kaplnky – exteriér | J103: =J176 -> 0
D104: D8 - Umelecko-remeselné práce - INTERIÉR | J104: =J189 -> 0
D105: D9 - Interiéri kaštieľa – severné krídlo | J105: =J190 -> 0
D106: D10 - Interiéri kaštieľa – východné krídlo | J106: =J204 -> 0
D107: D11 - Interiéri kaštieľa – západné krídlo | J107: =J219 -> 0
D108: D12 - Interiéri kaštieľa – južné krídlo | J108: =J266 -> 0
C115: ROZPOČET
C117: Stavba:
E118: =E7 -> Obnova vybraných častí NKP Kaštieľ,Múzeum vo Svätom Antone
C119: Objekt:
E120: =E9 -> 2025/11 - SO-01 - umelecko-remeselná obnova hodnotných prvkov kaštieľa
C122: Miesto: | F122: =F12 | I122: Dátum: | J122: =IF(J12="","",J12) -> 24. 7. 2026
C124: Objednávateľ: | F124: =E15 -> Múzeum vo Sv.Antone, Svätý Anton č. 291, 969 72 | I124: Projektant: | J124: =E21 -> Ing.arch.Adriana Zorvanová
C125: Zhotoviteľ: | F125: =IF(E18="","",E18) -> Vyplň údaj | I125: Spracovateľ: | J125: =E24
C127: PČ | D127: Typ | E127: Kód | F127: Popis | G127: MJ | H127: Množstvo | I127: J.cena [EUR] | J127: Cena celkom [EUR] | K127: Cenová sústava | N127: DPH | O127: J. Nh [h] | P127: Nh celkom [h] | Q127: J. hmotnosť [t] | R127: Hmotnosť celkom [t] | S127: J. suť [t] | T127: Suť Celkom [t]
C128: Náklady z rozpočtu | J128: =BK128 -> 0 | P128: =P129+P189 -> 0 | R128: =R129+R189 -> 0 | T128: =T129+T189 -> 0 | AT128: D | AU128: -1 | BK128: =BK129+BK189 -> 0
D129: D | E129: D1 | F129: Umelecko-remeselné práce - EXTERIÉR | J129: =BK129 -> 0 | P129: =P130+P139+P143+P150+P174+P176 -> 0 | R129: =R130+R139+R143+R150+R174+R176 -> 0 | T129: =T130+T139+T143+T150+T174+T176 -> 0 | AR129: 1 | AT129: D | AU129: 0 | AY129: ROZPOCET | BK129: =BK130+BK139+BK143+BK150+BK174+BK176 -> 0
D130: D | E130: D2 | F130: Východné krídlo kaštieľa – exteriér | J130: =BK130 -> 0 | P130: =SUM(P131:P138) -> 0 | R130: =SUM(R131:R138) -> 0 | T130: =SUM(T131:T138) -> 0 | AR130: 1 | AT130: D | AU130: 1 | AY130: ROZPOCET | BK130: =SUM(BK131:BK138) -> 0
C131: 1 | D131: K | E131: Pol111 | F131: rovná kovaná okenná mreža M1; výška 223 cm, šírka 128 cm | G131: ks | H131: 1 | J131: =ROUND(I131*H131,2) -> 0 | N131: znížená | P131: =O131*H131 -> 0 | Q131: 0 | R131: =Q131*H131 -> 0 | S131: 0 | T131: =S131*H131 -> 0 | AR131: 4 | AT131: K | AU131: 2 | AY131: ROZPOCET | BE131: =IF(N131="základná",J131,0) -> 0 | BF131: =IF(N131="znížená",J131,0) -> 0 | BG131: =IF(N131="zákl. prenesená",J131,0) -> 0 | BH131: =IF(N131="zníž. prenesená",J131,0) -> 0 | BI131: =IF(N131="nulová",J131,0) -> 0 | BJ131: 2 | BK131: =ROUND(I131*H131,2) -> 0 | BL131: 4 | BM131: 2
C132: 2 | D132: K | E132: Pol112 | F132: historické košovito vyklenuté kované okenné mreže M2 až M12; výška 232 - 234 cm, šírka 141,5 - 144 cm, najväčšia hĺbka: 57 cm | G132: ks | H132: 11 | J132: =ROUND(I132*H132,2) -> 0 | N132: znížená | P132: =O132*H132 -> 0 | Q132: 0 | R132: =Q132*H132 -> 0 | S132: 0 | T132: =S132*H132 -> 0 | AR132: 4 | AT132: K | AU132: 2 | AY132: ROZPOCET | BE132: =IF(N132="základná",J132,0) -> 0 | BF132: =IF(N132="znížená",J132,0) -> 0 | BG132: =IF(N132="zákl. prenesená",J132,0) -> 0 | BH132: =IF(N132="zníž. prenesená",J132,0) -> 0 | BI132: =IF(N132="nulová",J132,0) -> 0 | BJ132: 2 | BK132: =ROUND(I132*H132,2) -> 0 | BL132: 4 | BM132: 4
C133: 3 | D133: K | E133: Pol113 | F133: pravouhlé vyklenuté kované okenné mreže M13, M14, M15, M17; výška 234 - 236 cm, šírka 141 - 142 cm, hĺbka 19,5 cm | G133: ks | H133: 4 | J133: =ROUND(I133*H133,2) -> 0 | N133: znížená | P133: =O133*H133 -> 0 | Q133: 0 | R133: =Q133*H133 -> 0 | S133: 0 | T133: =S133*H133 -> 0 | AR133: 4 | AT133: K | AU133: 2 | AY133: ROZPOCET | BE133: =IF(N133="základná",J133,0) -> 0 | BF133: =IF(N133="znížená",J133,0) -> 0 | BG133: =IF(N133="zákl. prenesená",J133,0) -> 0 | BH133: =IF(N133="zníž. prenesená",J133,0) -> 0 | BI133: =IF(N133="nulová",J133,0) -> 0 | BJ133: 2 | BK133: =ROUND(I133*H133,2) -> 0 | BL133: 4 | BM133: 6
C134: 4 | D134: K | E134: Pol114 | F134: historická dverná kovaná mreža M16; výška 322 cm, šírka 137,5 cm, hĺbka: 5 cm | G134: ks | H134: 1 | J134: =ROUND(I134*H134,2) -> 0 | N134: znížená | P134: =O134*H134 -> 0 | Q134: 0 | R134: =Q134*H134 -> 0 | S134: 0 | T134: =S134*H134 -> 0 | AR134: 4 | AT134: K | AU134: 2 | AY134: ROZPOCET | BE134: =IF(N134="základná",J134,0) -> 0 | BF134: =IF(N134="znížená",J134,0) -> 0 | BG134: =IF(N134="zákl. prenesená",J134,0) -> 0 | BH134: =IF(N134="zníž. prenesená",J134,0) -> 0 | BI134: =IF(N134="nulová",J134,0) -> 0 | BJ134: 2 | BK134: =ROUND(I134*H134,2) -> 0 | BL134: 4 | BM134: 8
C135: 5 | D135: K | E135: Pol115 | F135: novodobá kovová mreža odvetrávaného priestoru M18; výška 147 cm, šírka 78 cm, hĺbka: 3 cm | G135: ks | H135: 1 | J135: =ROUND(I135*H135,2) -> 0 | N135: znížená | P135: =O135*H135 -> 0 | Q135: 0 | R135: =Q135*H135 -> 0 | S135: 0 | T135: =S135*H135 -> 0 | AR135: 4 | AT135: K | AU135: 2 | AY135: ROZPOCET | BE135: =IF(N135="základná",J135,0) -> 0 | BF135: =IF(N135="znížená",J135,0) -> 0 | BG135: =IF(N135="zákl. prenesená",J135,0) -> 0 | BH135: =IF(N135="zníž. prenesená",J135,0) -> 0 | BI135: =IF(N135="nulová",J135,0) -> 0 | BJ135: 2 | BK135: =ROUND(I135*H135,2) -> 0 | BL135: 4 | BM135: 10
C136: 6 | D136: K | E136: Pol116 | F136: pravouhlá kovaná prevliekaná okenná mreža M19; výška 181 cm, šírka 126 cm, hĺbka: 16 cm | G136: ks | H136: 1 | J136: =ROUND(I136*H136,2) -> 0 | N136: znížená | P136: =O136*H136 -> 0 | Q136: 0 | R136: =Q136*H136 -> 0 | S136: 0 | T136: =S136*H136 -> 0 | AR136: 4 | AT136: K | AU136: 2 | AY136: ROZPOCET | BE136: =IF(N136="základná",J136,0) -> 0 | BF136: =IF(N136="znížená",J136,0) -> 0 | BG136: =IF(N136="zákl. prenesená",J136,0) -> 0 | BH136: =IF(N136="zníž. prenesená",J136,0) -> 0 | BI136: =IF(N136="nulová",J136,0) -> 0 | BJ136: 2 | BK136: =ROUND(I136*H136,2) -> 0 | BL136: 4 | BM136: 12
C137: 7 | D137: K | E137: Pol117 | F137: kovové vetracie dvierka VD1 – VD5 | G137: ks | H137: 4 | J137: =ROUND(I137*H137,2) -> 0 | N137: znížená | P137: =O137*H137 -> 0 | Q137: 0 | R137: =Q137*H137 -> 0 | S137: 0 | T137: =S137*H137 -> 0 | AR137: 4 | AT137: K | AU137: 2 | AY137: ROZPOCET | BE137: =IF(N137="základná",J137,0) -> 0 | BF137: =IF(N137="znížená",J137,0) -> 0 | BG137: =IF(N137="zákl. prenesená",J137,0) -> 0 | BH137: =IF(N137="zníž. prenesená",J137,0) -> 0 | BI137: =IF(N137="nulová",J137,0) -> 0 | BJ137: 2 | BK137: =ROUND(I137*H137,2) -> 0 | BL137: 4 | BM137: 14
C138: 8 | D138: K | E138: Pol118 | F138: kovové zábradlie balkóna KZ1; výška 99 cm, dĺžka 458 cm | G138: ks | H138: 1 | J138: =ROUND(I138*H138,2) -> 0 | N138: znížená | P138: =O138*H138 -> 0 | Q138: 0 | R138: =Q138*H138 -> 0 | S138: 0 | T138: =S138*H138 -> 0 | AR138: 4 | AT138: K | AU138: 2 | AY138: ROZPOCET | BE138: =IF(N138="základná",J138,0) -> 0 | BF138: =IF(N138="znížená",J138,0) -> 0 | BG138: =IF(N138="zákl. prenesená",J138,0) -> 0 | BH138: =IF(N138="zníž. prenesená",J138,0) -> 0 | BI138: =IF(N138="nulová",J138,0) -> 0 | BJ138: 2 | BK138: =ROUND(I138*H138,2) -> 0 | BL138: 4 | BM138: 16
D139: D | E139: D3 | F139: Severné krídlo kaštieľa – exteriér | J139: =BK139 -> 0 | P139: =SUM(P140:P142) -> 0 | R139: =SUM(R140:R142) -> 0 | T139: =SUM(T140:T142) -> 0 | AR139: 1 | AT139: D | AU139: 1 | AY139: ROZPOCET | BK139: =SUM(BK140:BK142) -> 0
C140: 9 | D140: K | E140: Pol119 | F140: pravouhlé vyklenuté kované okenné mreže M20 - M35; výška 202 - 209 cm, šírka 136 - 141 cm, hĺbka 19 - 21 cm | G140: ks | H140: 16 | J140: =ROUND(I140*H140,2) -> 0 | N140: znížená | P140: =O140*H140 -> 0 | Q140: 0 | R140: =Q140*H140 -> 0 | S140: 0 | T140: =S140*H140 -> 0 | AR140: 4 | AT140: K | AU140: 2 | AY140: ROZPOCET | BE140: =IF(N140="základná",J140,0) -> 0 | BF140: =IF(N140="znížená",J140,0) -> 0 | BG140: =IF(N140="zákl. prenesená",J140,0) -> 0 | BH140: =IF(N140="zníž. prenesená",J140,0) -> 0 | BI140: =IF(N140="nulová",J140,0) -> 0 | BJ140: 2 | BK140: =ROUND(I140*H140,2) -> 0 | BL140: 4 | BM140: 18
C141: 10 | D141: K | E141: Pol120 | F141: vstupná drevená polkruhová brána B1; výška 415 cm, šírka 334 cm, hĺbka 30 cm | G141: ks | H141: 1 | J141: =ROUND(I141*H141,2) -> 0 | N141: znížená | P141: =O141*H141 -> 0 | Q141: 0 | R141: =Q141*H141 -> 0 | S141: 0 | T141: =S141*H141 -> 0 | AR141: 4 | AT141: K | AU141: 2 | AY141: ROZPOCET | BE141: =IF(N141="základná",J141,0) -> 0 | BF141: =IF(N141="znížená",J141,0) -> 0 | BG141: =IF(N141="zákl. prenesená",J141,0) -> 0 | BH141: =IF(N141="zníž. prenesená",J141,0) -> 0 | BI141: =IF(N141="nulová",J141,0) -> 0 | BJ141: 2 | BK141: =ROUND(I141*H141,2) -> 0 | BL141: 4 | BM141: 20
C142: 11 | D142: K | E142: Pol121 | F142: kovová lucerna nad vstupnou bránou KL1 | G142: ks | H142: 1 | J142: =ROUND(I142*H142,2) -> 0 | N142: znížená | P142: =O142*H142 -> 0 | Q142: 0 | R142: =Q142*H142 -> 0 | S142: 0 | T142: =S142*H142 -> 0 | AR142: 4 | AT142: K | AU142: 2 | AY142: ROZPOCET | BE142: =IF(N142="základná",J142,0) -> 0 | BF142: =IF(N142="znížená",J142,0) -> 0 | BG142: =IF(N142="zákl. prenesená",J142,0) -> 0 | BH142: =IF(N142="zníž. prenesená",J142,0) -> 0 | BI142: =IF(N142="nulová",J142,0) -> 0 | BJ142: 2 | BK142: =ROUND(I142*H142,2) -> 0 | BL142: 4 | BM142: 22
D143: D | E143: D4 | F143: Západné krídlo kaštieľa – exteriér | J143: =BK143 -> 0 | P143: =SUM(P144:P149) -> 0 | R143: =SUM(R144:R149) -> 0 | T143: =SUM(T144:T149) -> 0 | AR143: 1 | AT143: D | AU143: 1 | AY143: ROZPOCET | BK143: =SUM(BK144:BK149) -> 0
C144: 12 | D144: K | E144: Pol122 | F144: vstupný dverný kamenný portál KPE1; výška 274 cm, šírka 302 cm | G144: ks | H144: 1 | J144: =ROUND(I144*H144,2) -> 0 | N144: znížená | P144: =O144*H144 -> 0 | Q144: 0 | R144: =Q144*H144 -> 0 | S144: 0 | T144: =S144*H144 -> 0 | AR144: 4 | AT144: K | AU144: 2 | AY144: ROZPOCET | BE144: =IF(N144="základná",J144,0) -> 0 | BF144: =IF(N144="znížená",J144,0) -> 0 | BG144: =IF(N144="zákl. prenesená",J144,0) -> 0 | BH144: =IF(N144="zníž. prenesená",J144,0) -> 0 | BI144: =IF(N144="nulová",J144,0) -> 0 | BJ144: 2 | BK144: =ROUND(I144*H144,2) -> 0 | BL144: 4 | BM144: 24
C145: 13 | D145: K | E145: Pol123 | F145: vstupný dverný kamenný portál s horným poloblúkom KPE2; výška 412 cm, šírka 243 cm | G145: ks | H145: 1 | J145: =ROUND(I145*H145,2) -> 0 | N145: znížená | P145: =O145*H145 -> 0 | Q145: 0 | R145: =Q145*H145 -> 0 | S145: 0 | T145: =S145*H145 -> 0 | AR145: 4 | AT145: K | AU145: 2 | AY145: ROZPOCET | BE145: =IF(N145="základná",J145,0) -> 0 | BF145: =IF(N145="znížená",J145,0) -> 0 | BG145: =IF(N145="zákl. prenesená",J145,0) -> 0 | BH145: =IF(N145="zníž. prenesená",J145,0) -> 0 | BI145: =IF(N145="nulová",J145,0) -> 0 | BJ145: 2 | BK145: =ROUND(I145*H145,2) -> 0 | BL145: 4 | BM145: 26
C146: 14 | D146: K | E146: Pol124 | F146: vstupný dverný kamenný portál s horným poloblúkom KPE3; výška 408 cm, šírka 234 cm | G146: ks | H146: 1 | J146: =ROUND(I146*H146,2) -> 0 | N146: znížená | P146: =O146*H146 -> 0 | Q146: 0 | R146: =Q146*H146 -> 0 | S146: 0 | T146: =S146*H146 -> 0 | AR146: 4 | AT146: K | AU146: 2 | AY146: ROZPOCET | BE146: =IF(N146="základná",J146,0) -> 0 | BF146: =IF(N146="znížená",J146,0) -> 0 | BG146: =IF(N146="zákl. prenesená",J146,0) -> 0 | BH146: =IF(N146="zníž. prenesená",J146,0) -> 0 | BI146: =IF(N146="nulová",J146,0) -> 0 | BJ146: 2 | BK146: =ROUND(I146*H146,2) -> 0 | BL146: 4 | BM146: 28
C147: 15 | D147: K | E147: Pol125 | F147: vstupný dverný kamenný portál s horným poloblúkom KPE4; výška 424 cm, šírka 235 cm | G147: ks | H147: 1 | J147: =ROUND(I147*H147,2) -> 0 | N147: znížená | P147: =O147*H147 -> 0 | Q147: 0 | R147: =Q147*H147 -> 0 | S147: 0 | T147: =S147*H147 -> 0 | AR147: 4 | AT147: K | AU147: 2 | AY147: ROZPOCET | BE147: =IF(N147="základná",J147,0) -> 0 | BF147: =IF(N147="znížená",J147,0) -> 0 | BG147: =IF(N147="zákl. prenesená",J147,0) -> 0 | BH147: =IF(N147="zníž. prenesená",J147,0) -> 0 | BI147: =IF(N147="nulová",J147,0) -> 0 | BJ147: 2 | BK147: =ROUND(I147*H147,2) -> 0 | BL147: 4 | BM147: 30
C148: 16 | D148: K | E148: Pol126 | F148: rovná kovaná okenná mreža M36 - M48; výška 175 cm, šírka 126 - 135 cm, hĺbka 3 cm | G148: ks | H148: 13 | J148: =ROUND(I148*H148,2) -> 0 | N148: znížená | P148: =O148*H148 -> 0 | Q148: 0 | R148: =Q148*H148 -> 0 | S148: 0 | T148: =S148*H148 -> 0 | AR148: 4 | AT148: K | AU148: 2 | AY148: ROZPOCET | BE148: =IF(N148="základná",J148,0) -> 0 | BF148: =IF(N148="znížená",J148,0) -> 0 | BG148: =IF(N148="zákl. prenesená",J148,0) -> 0 | BH148: =IF(N148="zníž. prenesená",J148,0) -> 0 | BI148: =IF(N148="nulová",J148,0) -> 0 | BJ148: 2 | BK148: =ROUND(I148*H148,2) -> 0 | BL148: 4 | BM148: 32
C149: 17 | D149: K | E149: Pol127 | F149: drevené žalúziové okenice DŽ1 – DŽ19; výška 224 cm, šírka 134 cm, hĺbka 8 cm | G149: ks | H149: 19 | J149: =ROUND(I149*H149,2) -> 0 | N149: znížená | P149: =O149*H149 -> 0 | Q149: 0 | R149: =Q149*H149 -> 0 | S149: 0 | T149: =S149*H149 -> 0 | AR149: 4 | AT149: K | AU149: 2 | AY149: ROZPOCET | BE149: =IF(N149="základná",J149,0) -> 0 | BF149: =IF(N149="znížená",J149,0) -> 0 | BG149: =IF(N149="zákl. prenesená",J149,0) -> 0 | BH149: =IF(N149="zníž. prenesená",J149,0) -> 0 | BI149: =IF(N149="nulová",J149,0) -> 0 | BJ149: 2 | BK149: =ROUND(I149*H149,2) -> 0 | BL149: 4 | BM149: 34
D150: D | E150: D5 | F150: Južné krídlo kaštieľa – exteriér | J150: =BK150 -> 0 | P150: =SUM(P151:P173) -> 0 | R150: =SUM(R151:R173) -> 0 | T150: =SUM(T151:T173) -> 0 | AR150: 1 | AT150: D | AU150: 1 | AY150: ROZPOCET | BK150: =SUM(BK151:BK173) -> 0
C151: 18 | D151: K | E151: Pol128 | F151: pravouhlé novodobé okenné mreže M49 – M50; výška 93-94 cm, šírka 62-61 cm, hĺbka 3,5 cm | G151: ks | H151: 2 | J151: =ROUND(I151*H151,2) -> 0 | N151: znížená | P151: =O151*H151 -> 0 | Q151: 0 | R151: =Q151*H151 -> 0 | S151: 0 | T151: =S151*H151 -> 0 | AR151: 4 | AT151: K | AU151: 2 | AY151: ROZPOCET | BE151: =IF(N151="základná",J151,0) -> 0 | BF151: =IF(N151="znížená",J151,0) -> 0 | BG151: =IF(N151="zákl. prenesená",J151,0) -> 0 | BH151: =IF(N151="zníž. prenesená",J151,0) -> 0 | BI151: =IF(N151="nulová",J151,0) -> 0 | BJ151: 2 | BK151: =ROUND(I151*H151,2) -> 0 | BL151: 4 | BM151: 36
C152: 19 | D152: K | E152: Pol129 | F152: pravouhlo vyklenutá vyhliadková prevliekaná kovaná okenná mreža M51; výška 202 cm, šírka 136 cm, hĺbka 17 cm | G152: ks | H152: 1 | J152: =ROUND(I152*H152,2) -> 0 | N152: znížená | P152: =O152*H152 -> 0 | Q152: 0 | R152: =Q152*H152 -> 0 | S152: 0 | T152: =S152*H152 -> 0 | AR152: 4 | AT152: K | AU152: 2 | AY152: ROZPOCET | BE152: =IF(N152="základná",J152,0) -> 0 | BF152: =IF(N152="znížená",J152,0) -> 0 | BG152: =IF(N152="zákl. prenesená",J152,0) -> 0 | BH152: =IF(N152="zníž. prenesená",J152,0) -> 0 | BI152: =IF(N152="nulová",J152,0) -> 0 | BJ152: 2 | BK152: =ROUND(I152*H152,2) -> 0 | BL152: 4 | BM152: 38
C153: 20 | D153: K | E153: Pol130 | F153: rovná kovaná prevliekaná okenná mreža M52; výška 178 cm, šírka 127 cm, hĺbka 17 cm | G153: ks | H153: 1 | J153: =ROUND(I153*H153,2) -> 0 | N153: znížená | P153: =O153*H153 -> 0 | Q153: 0 | R153: =Q153*H153 -> 0 | S153: 0 | T153: =S153*H153 -> 0 | AR153: 4 | AT153: K | AU153: 2 | AY153: ROZPOCET | BE153: =IF(N153="základná",J153,0) -> 0 | BF153: =IF(N153="znížená",J153,0) -> 0 | BG153: =IF(N153="zákl. prenesená",J153,0) -> 0 | BH153: =IF(N153="zníž. prenesená",J153,0) -> 0 | BI153: =IF(N153="nulová",J153,0) -> 0 | BJ153: 2 | BK153: =ROUND(I153*H153,2) -> 0 | BL153: 4 | BM153: 40
C154: 21 | D154: K | E154: Pol131 | F154: rovná malá kovová okenná mreža M53; výška cca 125 cm, šírka cca 90 cm | G154: ks | H154: 1 | J154: =ROUND(I154*H154,2) -> 0 | N154: znížená | P154: =O154*H154 -> 0 | Q154: 0 | R154: =Q154*H154 -> 0 | S154: 0 | T154: =S154*H154 -> 0 | AR154: 4 | AT154: K | AU154: 2 | AY154: ROZPOCET | BE154: =IF(N154="základná",J154,0) -> 0 | BF154: =IF(N154="znížená",J154,0) -> 0 | BG154: =IF(N154="zákl. prenesená",J154,0) -> 0 | BH154: =IF(N154="zníž. prenesená",J154,0) -> 0 | BI154: =IF(N154="nulová",J154,0) -> 0 | BJ154: 2 | BK154: =ROUND(I154*H154,2) -> 0 | BL154: 4 | BM154: 42
C155: 22 | D155: K | E155: Pol132 | F155: rovná kovaná okenná mreža M54, M55; výška cca 205 cm, šírka cca 136 cm, hĺbka 19-20 cm | G155: ks | H155: 2 | J155: =ROUND(I155*H155,2) -> 0 | N155: znížená | P155: =O155*H155 -> 0 | Q155: 0 | R155: =Q155*H155 -> 0 | S155: 0 | T155: =S155*H155 -> 0 | AR155: 4 | AT155: K | AU155: 2 | AY155: ROZPOCET | BE155: =IF(N155="základná",J155,0) -> 0 | BF155: =IF(N155="znížená",J155,0) -> 0 | BG155: =IF(N155="zákl. prenesená",J155,0) -> 0 | BH155: =IF(N155="zníž. prenesená",J155,0) -> 0 | BI155: =IF(N155="nulová",J155,0) -> 0 | BJ155: 2 | BK155: =ROUND(I155*H155,2) -> 0 | BL155: 4 | BM155: 44
C156: 23 | D156: K | E156: Pol133 | F156: rovná prevliekaná kovaná okenná mreža M56; výška cca 120 cm, šírka 100 cm | G156: ks | H156: 1 | J156: =ROUND(I156*H156,2) -> 0 | N156: znížená | P156: =O156*H156 -> 0 | Q156: 0 | R156: =Q156*H156 -> 0 | S156: 0 | T156: =S156*H156 -> 0 | AR156: 4 | AT156: K | AU156: 2 | AY156: ROZPOCET | BE156: =IF(N156="základná",J156,0) -> 0 | BF156: =IF(N156="znížená",J156,0) -> 0 | BG156: =IF(N156="zákl. prenesená",J156,0) -> 0 | BH156: =IF(N156="zníž. prenesená",J156,0) -> 0 | BI156: =IF(N156="nulová",J156,0) -> 0 | BJ156: 2 | BK156: =ROUND(I156*H156,2) -> 0 | BL156: 4 | BM156: 46
C157: 24 | D157: K | E157: Pol134 | F157: rovná kovaná okenná mreža M57; výška 222 cm, šírka 127 cm | G157: ks | H157: 1 | J157: =ROUND(I157*H157,2) -> 0 | N157: znížená | P157: =O157*H157 -> 0 | Q157: 0 | R157: =Q157*H157 -> 0 | S157: 0 | T157: =S157*H157 -> 0 | AR157: 4 | AT157: K | AU157: 2 | AY157: ROZPOCET | BE157: =IF(N157="základná",J157,0) -> 0 | BF157: =IF(N157="znížená",J157,0) -> 0 | BG157: =IF(N157="zákl. prenesená",J157,0) -> 0 | BH157: =IF(N157="zníž. prenesená",J157,0) -> 0 | BI157: =IF(N157="nulová",J157,0) -> 0 | BJ157: 2 | BK157: =ROUND(I157*H157,2) -> 0 | BL157: 4 | BM157: 48
C158: 25 | D158: K | E158: Pol135 | F158: kovové mreže okien kaplnky a sakristie - rovná kovaná okenná mreža M58; výška 260 cm, šírka 128 cm | G158: ks | H158: 1 | J158: =ROUND(I158*H158,2) -> 0 | N158: znížená | P158: =O158*H158 -> 0 | Q158: 0 | R158: =Q158*H158 -> 0 | S158: 0 | T158: =S158*H158 -> 0 | AR158: 4 | AT158: K | AU158: 2 | AY158: ROZPOCET | BE158: =IF(N158="základná",J158,0) -> 0 | BF158: =IF(N158="znížená",J158,0) -> 0 | BG158: =IF(N158="zákl. prenesená",J158,0) -> 0 | BH158: =IF(N158="zníž. prenesená",J158,0) -> 0 | BI158: =IF(N158="nulová",J158,0) -> 0 | BJ158: 2 | BK158: =ROUND(I158*H158,2) -> 0 | BL158: 4 | BM158: 50
C159: 26 | D159: K | E159: Pol136 | F159: kovové mreže okien kaplnky a sakristie - rovná kovaná okenná mreža M59; výška 254 cm, šírka 127 cm | G159: ks | H159: 1 | J159: =ROUND(I159*H159,2) -> 0 | N159: znížená | P159: =O159*H159 -> 0 | Q159: 0 | R159: =Q159*H159 -> 0 | S159: 0 | T159: =S159*H159 -> 0 | AR159: 4 | AT159: K | AU159: 2 | AY159: ROZPOCET | BE159: =IF(N159="základná",J159,0) -> 0 | BF159: =IF(N159="znížená",J159,0) -> 0 | BG159: =IF(N159="zákl. prenesená",J159,0) -> 0 | BH159: =IF(N159="zníž. prenesená",J159,0) -> 0 | BI159: =IF(N159="nulová",J159,0) -> 0 | BJ159: 2 | BK159: =ROUND(I159*H159,2) -> 0 | BL159: 4 | BM159: 52
C160: 27 | D160: K | E160: Pol137 | F160: kovové mreže okien kaplnky a sakristie - rovná kovaná okenná mreža M60; výška 190 cm, šírka 127 cm | G160: ks | H160: 1 | J160: =ROUND(I160*H160,2) -> 0 | N160: znížená | P160: =O160*H160 -> 0 | Q160: 0 | R160: =Q160*H160 -> 0 | S160: 0 | T160: =S160*H160 -> 0 | AR160: 4 | AT160: K | AU160: 2 | AY160: ROZPOCET | BE160: =IF(N160="základná",J160,0) -> 0 | BF160: =IF(N160="znížená",J160,0) -> 0 | BG160: =IF(N160="zákl. prenesená",J160,0) -> 0 | BH160: =IF(N160="zníž. prenesená",J160,0) -> 0 | BI160: =IF(N160="nulová",J160,0) -> 0 | BJ160: 2 | BK160: =ROUND(I160*H160,2) -> 0 | BL160: 4 | BM160: 54
C161: 28 | D161: K | E161: Pol138 | F161: kovové mreže okien kaplnky a sakristie - kruhová okenná mreža M61 a M63; priemer 128 cm | G161: ks | H161: 2 | J161: =ROUND(I161*H161,2) -> 0 | N161: znížená | P161: =O161*H161 -> 0 | Q161: 0 | R161: =Q161*H161 -> 0 | S161: 0 | T161: =S161*H161 -> 0 | AR161: 4 | AT161: K | AU161: 2 | AY161: ROZPOCET | BE161: =IF(N161="základná",J161,0) -> 0 | BF161: =IF(N161="znížená",J161,0) -> 0 | BG161: =IF(N161="zákl. prenesená",J161,0) -> 0 | BH161: =IF(N161="zníž. prenesená",J161,0) -> 0 | BI161: =IF(N161="nulová",J161,0) -> 0 | BJ161: 2 | BK161: =ROUND(I161*H161,2) -> 0 | BL161: 4 | BM161: 56
C162: 29 | D162: K | E162: Pol139 | F162: kovové mreže okien kaplnky a sakristie -elipsovitá okenná mreža M62; max. výška cca 90 cm, max. šírka 128 cm | G162: ks | H162: 1 | J162: =ROUND(I162*H162,2) -> 0 | N162: znížená | P162: =O162*H162 -> 0 | Q162: 0 | R162: =Q162*H162 -> 0 | S162: 0 | T162: =S162*H162 -> 0 | AR162: 4 | AT162: K | AU162: 2 | AY162: ROZPOCET | BE162: =IF(N162="základná",J162,0) -> 0 | BF162: =IF(N162="znížená",J162,0) -> 0 | BG162: =IF(N162="zákl. prenesená",J162,0) -> 0 | BH162: =IF(N162="zníž. prenesená",J162,0) -> 0 | BI162: =IF(N162="nulová",J162,0) -> 0 | BJ162: 2 | BK162: =ROUND(I162*H162,2) -> 0 | BL162: 4 | BM162: 58
... C173: 40 | D173: K | E173: Pol150 | F173: Drevené žalúziové okenice DŽ20 až DŽ24; výška 224 cm, šírka 134 cm, hĺbka 8 cm | G173: ks | H173: 5 | J173: =ROUND(I173*H173,2) -> 0 | N173: znížená | P173: =O173*H173 -> 0 | Q173: 0 | R173: =Q173*H173 -> 0 | S173: 0 | T173: =S173*H173 -> 0 | AR173: 4 | AT173: K | AU173: 2 | AY173: ROZPOCET | BE173: =IF(N173="základná",J173,0) -> 0 | BF173: =IF(N173="znížená",J173,0) -> 0 | BG173: =IF(N173="zákl. prenesená",J173,0) -> 0 | BH173: =IF(N173="zníž. prenesená",J173,0) -> 0 | BI173: =IF(N173="nulová",J173,0) -> 0 | BJ173: 2 | BK173: =ROUND(I173*H173,2) -> 0 | BL173: 4 | BM173: 80
D174: D | E174: D6 | F174: Nádvorie kaštieľa – exteriér | J174: =BK174 -> 0 | P174: =P175 -> 0 | R174: =R175 -> 0 | T174: =T175 -> 0 | AR174: 1 | AT174: D | AU174: 1 | AY174: ROZPOCET | BK174: =BK175 -> 0
C175: 41 | D175: K | E175: Pol151 | F175: Drevené žalúziové okenice veže kaplnky DŽ25 až DŽ28; výška 224 cm, šírka 134 cm, hĺbka 8 cm | G175: ks | H175: 4 | J175: =ROUND(I175*H175,2) -> 0 | N175: znížená | P175: =O175*H175 -> 0 | Q175: 0 | R175: =Q175*H175 -> 0 | S175: 0 | T175: =S175*H175 -> 0 | AR175: 4 | AT175: K | AU175: 2 | AY175: ROZPOCET | BE175: =IF(N175="základná",J175,0) -> 0 | BF175: =IF(N175="znížená",J175,0) -> 0 | BG175: =IF(N175="zákl. prenesená",J175,0) -> 0 | BH175: =IF(N175="zníž. prenesená",J175,0) -> 0 | BI175: =IF(N175="nulová",J175,0) -> 0 | BJ175: 2 | BK175: =ROUND(I175*H175,2) -> 0 | BL175: 4 | BM175: 82
D176: D | E176: D7 | F176: Fasády kaštieľa a kaplnky – exteriér | J176: =BK176 -> 0 | P176: =SUM(P177:P188) -> 0 | R176: =SUM(R177:R188) -> 0 | T176: =SUM(T177:T188) -> 0 | AR176: 1 | AT176: D | AU176: 1 | AY176: ROZPOCET | BK176: =SUM(BK177:BK188) -> 0
...

Sheet 2025-12 - SO-01 - umeleck...
AT2: {dd00fcc8-7b8c-4165-a667-676bb6a9936a}
AT3: 0
D4: KRYCÍ LIST ROZPOČTU | M4: v --- nižšie sa nachádzajú doplnkové a pomocné údaje k zostavám --- v | AT4: False
D6: Stavba:
E7: ='Rekapitulácia stavby'!K6 -> Obnova vybraných častí NKP Kaštieľ,Múzeum vo Svätom Antone
D8: Objekt:
E9: 2025/12 - SO-01 - umelecko-remeselná obnova a reštaurovanie okien na celom objekte kaštieľa
D11: JKSO: | I11: ČS:
D12: Miesto: | I12: Dátum: | J12: ='Rekapitulácia stavby'!AN8 -> 24. 7. 2026
D14: Objednávateľ: | I14: IČO:
E15: Múzeum vo Sv.Antone, Svätý Anton č. 291, 969 72 | I15: IČ DPH:
D17: Zhotoviteľ: | I17: IČO: | J17: ='Rekapitulácia stavby'!AN13 -> Vyplň údaj
E18: ='Rekapitulácia stavby'!E14 -> Vyplň údaj | I18: IČ DPH: | J18: ='Rekapitulácia stavby'!AN14 -> Vyplň údaj
D20: Projektant: | I20: IČO:
E21: Ing.arch.Adriana Zorvanová | I21: IČ DPH:
D23: Spracovateľ: | I23: IČO: | J23: =IF('Rekapitulácia stavby'!AN19="","",'Rekapitulácia stavby'!AN19)
E24: =IF('Rekapitulácia stavby'!E20="","",'Rekapitulácia stavby'!E20) | I24: IČ DPH: | J24: =IF('Rekapitulácia stavby'!AN20="","",'Rekapitulácia stavby'!AN20)
D26: Poznámka:
D30: Cena bez DPH | J30: =ROUND(J118, 2) -> 0
F32: Základ dane | I32: Sadzba dane | J32: Výška dane
D33: DPH | E33: základná | F33: =ROUND((SUM(BE118:BE140)), 2) -> 0 | I33: 0.23 | J33: =ROUND(((SUM(BE118:BE140))*I33), 2) -> 0
E34: znížená | F34: =ROUND((SUM(BF118:BF140)), 2) -> 0 | I34: 0.23 | J34: =ROUND(((SUM(BF118:BF140))*I34), 2) -> 0
E35: zákl. prenesená | F35: =ROUND((SUM(BG118:BG140)), 2) -> 0 | I35: 0.23 | J35: =0 -> 0
E36: zníž. prenesená | F36: =ROUND((SUM(BH118:BH140)), 2) -> 0 | I36: 0.23 | J36: =0 -> 0
E37: nulová | F37: =ROUND((SUM(BI118:BI140)), 2) -> 0 | I37: 0 | J37: =0 -> 0
D39: Cena s DPH | G39: v | H39: EUR | J39: =SUM(J30:J37) -> 0
D50: Projektant | G50: Spracovateľ
D61: Dátum a podpis: | F61: Pečiatka | G61: Dátum a podpis: | J61: Pečiatka
D65: Objednávateľ | G65: Zhotoviteľ
D76: Dátum a podpis: | F76: Pečiatka | G76: Dátum a podpis: | J76: Pečiatka
C82: REKAPITULÁCIA ROZPOČTU
C84: Stavba:
E85: =E7 -> Obnova vybraných častí NKP Kaštieľ,Múzeum vo Svätom Antone
C86: Objekt:
E87: =E9 -> 2025/12 - SO-01 - umelecko-remeselná obnova a reštaurovanie okien na celom objekte kaštieľa
C89: Miesto: | F89: =F12 | I89: Dátum: | J89: =IF(J12="","",J12) -> 24. 7. 2026
C91: Objednávateľ: | F91: =E15 -> Múzeum vo Sv.Antone, Svätý Anton č. 291, 969 72 | I91: Projektant: | J91: =E21 -> Ing.arch.Adriana Zorvanová
C92: Zhotoviteľ: | F92: =IF(E18="","",E18) -> Vyplň údaj | I92: Spracovateľ: | J92: =E24
C94: Kód dielu - Popis | J94: Cena celkom [EUR]
C96: Náklady z rozpočtu | J96: =J118 -> 0 | AU96: -1
D97: PSV - Práce a dodávky PSV | J97: =J119 -> 0
D98: 766 - Konštrukcie stolárske | J98: =J120 -> 0
C105: ROZPOČET
C107: Stavba:
E108: =E7 -> Obnova vybraných častí NKP Kaštieľ,Múzeum vo Svätom Antone
C109: Objekt:
E110: =E9 -> 2025/12 - SO-01 - umelecko-remeselná obnova a reštaurovanie okien na celom objekte kaštieľa
C112: Miesto: | F112: =F12 | I112: Dátum: | J112: =IF(J12="","",J12) -> 24. 7. 2026
C114: Objednávateľ: | F114: =E15 -> Múzeum vo Sv.Antone, Svätý Anton č. 291, 969 72 | I114: Projektant: | J114: =E21 -> Ing.arch.Adriana Zorvanová
C115: Zhotoviteľ: | F115: =IF(E18="","",E18) -> Vyplň údaj | I115: Spracovateľ: | J115: =E24
C117: PČ | D117: Typ | E117: Kód | F117: Popis | G117: MJ | H117: Množstvo | I117: J.cena [EUR] | J117: Cena celkom [EUR] | K117: Cenová sústava | N117: DPH | O117: J. Nh [h] | P117: Nh celkom [h] | Q117: J. hmotnosť [t] | R117: Hmotnosť celkom [t] | S117: J. suť [t] | T117: Suť Celkom [t]
C118: Náklady z rozpočtu | J118: =BK118 -> 0 | P118: =P119 -> 0 | R118: =R119 -> 0.003225 | T118: =T119 -> 0 | AT118: D | AU118: -1 | BK118: =BK119 -> 0
D119: D | E119: PSV | F119: Práce a dodávky PSV | J119: =BK119 -> 0 | P119: =P120 -> 0 | R119: =R120 -> 0.003225 | T119: =T120 -> 0 | AR119: 2 | AT119: D | AU119: 0 | AY119: ROZPOCET | BK119: =BK120 -> 0
D120: D | E120: 766 | F120: Konštrukcie stolárske | J120: =BK120 -> 0 | P120: =SUM(P121:P140) -> 0 | R120: =SUM(R121:R140) -> 0.003225 | T120: =SUM(T121:T140) -> 0 | AR120: 2 | AT120: D | AU120: 1 | AY120: ROZPOCET | BK120: =SUM(BK121:BK140) -> 0
C121: 1 | D121: K | E121: 766621265.S | F121: Okno 001- 012, 043 – 045 | G121: ks | H121: 15 | J121: =ROUND(I121*H121,2) -> 0 | N121: znížená | P121: =O121*H121 -> 0 | Q121: 0.000215 | R121: =Q121*H121 -> 0.003225 | S121: 0 | T121: =S121*H121 -> 0 | AR121: 16 | AT121: K | AU121: 2 | AY121: ROZPOCET | BE121: =IF(N121="základná",J121,0) -> 0 | BF121: =IF(N121="znížená",J121,0) -> 0 | BG121: =IF(N121="zákl. prenesená",J121,0) -> 0 | BH121: =IF(N121="zníž. prenesená",J121,0) -> 0 | BI121: =IF(N121="nulová",J121,0) -> 0 | BJ121: 2 | BK121: =ROUND(I121*H121,2) -> 0 | BL121: 16 | BM121: 1615679208
C122: 2 | D122: K | E122: O01 | F122: Okno 013-037 | G122: ks | H122: 25 | J122: =ROUND(I122*H122,2) -> 0 | N122: znížená | P122: =O122*H122 -> 0 | Q122: 0 | R122: =Q122*H122 -> 0 | S122: 0 | T122: =S122*H122 -> 0 | AR122: 16 | AT122: K | AU122: 2 | AY122: ROZPOCET | BE122: =IF(N122="základná",J122,0) -> 0 | BF122: =IF(N122="znížená",J122,0) -> 0 | BG122: =IF(N122="zákl. prenesená",J122,0) -> 0 | BH122: =IF(N122="zníž. prenesená",J122,0) -> 0 | BI122: =IF(N122="nulová",J122,0) -> 0 | BJ122: 2 | BK122: =ROUND(I122*H122,2) -> 0 | BL122: 16 | BM122: 338502176
C123: 3 | D123: K | E123: O02 | F123: Okno 038-042 | G123: ks | H123: 5 | J123: =ROUND(I123*H123,2) -> 0 | N123: znížená | P123: =O123*H123 -> 0 | Q123: 0 | R123: =Q123*H123 -> 0 | S123: 0 | T123: =S123*H123 -> 0 | AR123: 16 | AT123: K | AU123: 2 | AY123: ROZPOCET | BE123: =IF(N123="základná",J123,0) -> 0 | BF123: =IF(N123="znížená",J123,0) -> 0 | BG123: =IF(N123="zákl. prenesená",J123,0) -> 0 | BH123: =IF(N123="zníž. prenesená",J123,0) -> 0 | BI123: =IF(N123="nulová",J123,0) -> 0 | BJ123: 2 | BK123: =ROUND(I123*H123,2) -> 0 | BL123: 16 | BM123: 836646907
C124: 4 | D124: K | E124: O03 | F124: Okno 046-077 | G124: ks | H124: 32 | J124: =ROUND(I124*H124,2) -> 0 | N124: znížená | P124: =O124*H124 -> 0 | Q124: 0 | R124: =Q124*H124 -> 0 | S124: 0 | T124: =S124*H124 -> 0 | AR124: 16 | AT124: K | AU124: 2 | AY124: ROZPOCET | BE124: =IF(N124="základná",J124,0) -> 0 | BF124: =IF(N124="znížená",J124,0) -> 0 | BG124: =IF(N124="zákl. prenesená",J124,0) -> 0 | BH124: =IF(N124="zníž. prenesená",J124,0) -> 0 | BI124: =IF(N124="nulová",J124,0) -> 0 | BJ124: 2 | BK124: =ROUND(I124*H124,2) -> 0 | BL124: 16 | BM124: 1669460625
C125: 5 | D125: K | E125: O04 | F125: Okno 078-093 | G125: ks | H125: 16 | J125: =ROUND(I125*H125,2) -> 0 | N125: znížená | P125: =O125*H125 -> 0 | Q125: 0 | R125: =Q125*H125 -> 0 | S125: 0 | T125: =S125*H125 -> 0 | AR125: 16 | AT125: K | AU125: 2 | AY125: ROZPOCET | BE125: =IF(N125="základná",J125,0) -> 0 | BF125: =IF(N125="znížená",J125,0) -> 0 | BG125: =IF(N125="zákl. prenesená",J125,0) -> 0 | BH125: =IF(N125="zníž. prenesená",J125,0) -> 0 | BI125: =IF(N125="nulová",J125,0) -> 0 | BJ125: 2 | BK125: =ROUND(I125*H125,2) -> 0 | BL125: 16 | BM125: 218175391
C126: 6 | D126: K | E126: O05 | F126: Okno 094-112 | G126: ks | H126: 19 | J126: =ROUND(I126*H126,2) -> 0 | N126: znížená | P126: =O126*H126 -> 0 | Q126: 0 | R126: =Q126*H126 -> 0 | S126: 0 | T126: =S126*H126 -> 0 | AR126: 16 | AT126: K | AU126: 2 | AY126: ROZPOCET | BE126: =IF(N126="základná",J126,0) -> 0 | BF126: =IF(N126="znížená",J126,0) -> 0 | BG126: =IF(N126="zákl. prenesená",J126,0) -> 0 | BH126: =IF(N126="zníž. prenesená",J126,0) -> 0 | BI126: =IF(N126="nulová",J126,0) -> 0 | BJ126: 2 | BK126: =ROUND(I126*H126,2) -> 0 | BL126: 16 | BM126: -803900773
C127: 7 | D127: K | E127: O06 | F127: Okno 113-114,118,122-123,175,178,179-187 157-159,176,160-174 | G127: ks | H127: 35 | J127: =ROUND(I127*H127,2) -> 0 | N127: znížená | P127: =O127*H127 -> 0 | Q127: 0 | R127: =Q127*H127 -> 0 | S127: 0 | T127: =S127*H127 -> 0 | AR127: 16 | AT127: K | AU127: 2 | AY127: ROZPOCET | BE127: =IF(N127="základná",J127,0) -> 0 | BF127: =IF(N127="znížená",J127,0) -> 0 | BG127: =IF(N127="zákl. prenesená",J127,0) -> 0 | BH127: =IF(N127="zníž. prenesená",J127,0) -> 0 | BI127: =IF(N127="nulová",J127,0) -> 0 | BJ127: 2 | BK127: =ROUND(I127*H127,2) -> 0 | BL127: 16 | BM127: 2099433200
C128: 8 | D128: K | E128: O07 | F128: Okno 115,116,117 | G128: ks | H128: 3 | J128: =ROUND(I128*H128,2) -> 0 | N128: znížená | P128: =O128*H128 -> 0 | Q128: 0 | R128: =Q128*H128 -> 0 | S128: 0 | T128: =S128*H128 -> 0 | AR128: 16 | AT128: K | AU128: 2 | AY128: ROZPOCET | BE128: =IF(N128="základná",J128,0) -> 0 | BF128: =IF(N128="znížená",J128,0) -> 0 | BG128: =IF(N128="zákl. prenesená",J128,0) -> 0 | BH128: =IF(N128="zníž. prenesená",J128,0) -> 0 | BI128: =IF(N128="nulová",J128,0) -> 0 | BJ128: 2 | BK128: =ROUND(I128*H128,2) -> 0 | BL128: 16 | BM128: -486834340
C129: 9 | D129: K | E129: O08 | F129: Okno 119 | G129: ks | H129: 1 | J129: =ROUND(I129*H129,2) -> 0 | N129: znížená | P129: =O129*H129 -> 0 | Q129: 0 | R129: =Q129*H129 -> 0 | S129: 0 | T129: =S129*H129 -> 0 | AR129: 16 | AT129: K | AU129: 2 | AY129: ROZPOCET | BE129: =IF(N129="základná",J129,0) -> 0 | BF129: =IF(N129="znížená",J129,0) -> 0 | BG129: =IF(N129="zákl. prenesená",J129,0) -> 0 | BH129: =IF(N129="zníž. prenesená",J129,0) -> 0 | BI129: =IF(N129="nulová",J129,0) -> 0 | BJ129: 2 | BK129: =ROUND(I129*H129,2) -> 0 | BL129: 16 | BM129: -1389580961
C130: 10 | D130: K | E130: O09 | F130: Okno 120-121 | G130: ks | H130: 2 | J130: =ROUND(I130*H130,2) -> 0 | N130: znížená | P130: =O130*H130 -> 0 | Q130: 0 | R130: =Q130*H130 -> 0 | S130: 0 | T130: =S130*H130 -> 0 | AR130: 16 | AT130: K | AU130: 2 | AY130: ROZPOCET | BE130: =IF(N130="základná",J130,0) -> 0 | BF130: =IF(N130="znížená",J130,0) -> 0 | BG130: =IF(N130="zákl. prenesená",J130,0) -> 0 | BH130: =IF(N130="zníž. prenesená",J130,0) -> 0 | BI130: =IF(N130="nulová",J130,0) -> 0 | BJ130: 2 | BK130: =ROUND(I130*H130,2) -> 0 | BL130: 16 | BM130: 579960929
C131: 11 | D131: K | E131: O10 | F131: Okno 124-126,134-136 | G131: ks | H131: 6 | J131: =ROUND(I131*H131,2) -> 0 | N131: znížená | P131: =O131*H131 -> 0 | Q131: 0 | R131: =Q131*H131 -> 0 | S131: 0 | T131: =S131*H131 -> 0 | AR131: 16 | AT131: K | AU131: 2 | AY131: ROZPOCET | BE131: =IF(N131="základná",J131,0) -> 0 | BF131: =IF(N131="znížená",J131,0) -> 0 | BG131: =IF(N131="zákl. prenesená",J131,0) -> 0 | BH131: =IF(N131="zníž. prenesená",J131,0) -> 0 | BI131: =IF(N131="nulová",J131,0) -> 0 | BJ131: 2 | BK131: =ROUND(I131*H131,2) -> 0 | BL131: 16 | BM131: 1697850563
C132: 12 | D132: K | E132: O11 | F132: Okno 127-133, 137,156 | G132: ks | H132: 27 | J132: =ROUND(I132*H132,2) -> 0 | N132: znížená | P132: =O132*H132 -> 0 | Q132: 0 | R132: =Q132*H132 -> 0 | S132: 0 | T132: =S132*H132 -> 0 | AR132: 16 | AT132: K | AU132: 2 | AY132: ROZPOCET | BE132: =IF(N132="základná",J132,0) -> 0 | BF132: =IF(N132="znížená",J132,0) -> 0 | BG132: =IF(N132="zákl. prenesená",J132,0) -> 0 | BH132: =IF(N132="zníž. prenesená",J132,0) -> 0 | BI132: =IF(N132="nulová",J132,0) -> 0 | BJ132: 2 | BK132: =ROUND(I132*H132,2) -> 0 | BL132: 16 | BM132: -74126305
... C140: 20 | D140: K | E140: R1 | F140: Opatrenia pri prácach pre ochranu omietok a expozície | G140: sub | H140: 1 | J140: =ROUND(I140*H140,2) -> 0 | N140: znížená | P140: =O140*H140 -> 0 | Q140: 0 | R140: =Q140*H140 -> 0 | S140: 0 | T140: =S140*H140 -> 0 | AR140: 16 | AT140: K | AU140: 2 | AY140: ROZPOCET | BE140: =IF(N140="základná",J140,0) -> 0 | BF140: =IF(N140="znížená",J140,0) -> 0 | BG140: =IF(N140="zákl. prenesená",J140,0) -> 0 | BH140: =IF(N140="zníž. prenesená",J140,0) -> 0 | BI140: =IF(N140="nulová",J140,0) -> 0 | BJ140: 2 | BK140: =ROUND(I140*H140,2) -> 0 | BL140: 16 | BM140: 1445043129

Sheet 2025-13 - SO-01 - reštaur...
AT2: {bcdd91a8-fdd9-4b40-b7c3-420bc69dc00a}
AT3: 0
D4: KRYCÍ LIST ROZPOČTU | M4: v --- nižšie sa nachádzajú doplnkové a pomocné údaje k zostavám --- v | AT4: False
D6: Stavba:
E7: ='Rekapitulácia stavby'!K6 -> Obnova vybraných častí NKP Kaštieľ,Múzeum vo Svätom Antone
D8: Objekt:
E9: 2025/13 - SO-01 - reštaurátorská rehabilitácia miestností 1.14, 1.15 v objekte Kaštieľa
D11: JKSO: | I11: ČS:
D12: Miesto: | I12: Dátum: | J12: ='Rekapitulácia stavby'!AN8 -> 24. 7. 2026
D14: Objednávateľ: | I14: IČO:
E15: Múzeum vo Sv.Antone, Svätý Anton č. 291, 969 72 | I15: IČ DPH:
D17: Zhotoviteľ: | I17: IČO: | J17: ='Rekapitulácia stavby'!AN13 -> Vyplň údaj
E18: ='Rekapitulácia stavby'!E14 -> Vyplň údaj | I18: IČ DPH: | J18: ='Rekapitulácia stavby'!AN14 -> Vyplň údaj
D20: Projektant: | I20: IČO:
E21: Ing.arch.Adriana Zorvanová | I21: IČ DPH:
D23: Spracovateľ: | I23: IČO: | J23: =IF('Rekapitulácia stavby'!AN19="","",'Rekapitulácia stavby'!AN19)
E24: =IF('Rekapitulácia stavby'!E20="","",'Rekapitulácia stavby'!E20) | I24: IČ DPH: | J24: =IF('Rekapitulácia stavby'!AN20="","",'Rekapitulácia stavby'!AN20)
D26: Poznámka:
D30: Cena bez DPH | J30: =ROUND(J119, 2) -> 0
F32: Základ dane | I32: Sadzba dane | J32: Výška dane
D33: DPH | E33: základná | F33: =ROUND((SUM(BE119:BE146)), 2) -> 0 | I33: 0.23 | J33: =ROUND(((SUM(BE119:BE146))*I33), 2) -> 0
E34: znížená | F34: =ROUND((SUM(BF119:BF146)), 2) -> 0 | I34: 0.23 | J34: =ROUND(((SUM(BF119:BF146))*I34), 2) -> 0
E35: zákl. prenesená | F35: =ROUND((SUM(BG119:BG146)), 2) -> 0 | I35: 0.23 | J35: =0 -> 0
E36: zníž. prenesená | F36: =ROUND((SUM(BH119:BH146)), 2) -> 0 | I36: 0.23 | J36: =0 -> 0
E37: nulová | F37: =ROUND((SUM(BI119:BI146)), 2) -> 0 | I37: 0 | J37: =0 -> 0
D39: Cena s DPH | G39: v | H39: EUR | J39: =SUM(J30:J37) -> 0
D50: Projektant | G50: Spracovateľ
D61: Dátum a podpis: | F61: Pečiatka | G61: Dátum a podpis: | J61: Pečiatka
D65: Objednávateľ | G65: Zhotoviteľ
D76: Dátum a podpis: | F76: Pečiatka | G76: Dátum a podpis: | J76: Pečiatka
C82: REKAPITULÁCIA ROZPOČTU
C84: Stavba:
E85: =E7 -> Obnova vybraných častí NKP Kaštieľ,Múzeum vo Svätom Antone
C86: Objekt:
E87: =E9 -> 2025/13 - SO-01 - reštaurátorská rehabilitácia miestností 1.14, 1.15 v objekte Kaštieľa
C89: Miesto: | F89: =F12 | I89: Dátum: | J89: =IF(J12="","",J12) -> 24. 7. 2026
C91: Objednávateľ: | F91: =E15 -> Múzeum vo Sv.Antone, Svätý Anton č. 291, 969 72 | I91: Projektant: | J91: =E21 -> Ing.arch.Adriana Zorvanová
C92: Zhotoviteľ: | F92: =IF(E18="","",E18) -> Vyplň údaj | I92: Spracovateľ: | J92: =E24
C94: Kód dielu - Popis | J94: Cena celkom [EUR]
C96: Náklady z rozpočtu | J96: =J119 -> 0 | AU96: -1
D97: HSV - HSV | J97: =J120 -> 0
D98: R1 - Kompletné reštaurovanie miestnosti 1.15 klenba – 33,4 m2 steny – 63 m2 | J98: =J121 -> 0
D99: R2 - Kompletné reštaurovanie miestnosti 1.14 Celková výmera: 44,5 m2 | J99: =J134 -> 0
C106: ROZPOČET
C108: Stavba:
E109: =E7 -> Obnova vybraných častí NKP Kaštieľ,Múzeum vo Svätom Antone
C110: Objekt:
E111: =E9 -> 2025/13 - SO-01 - reštaurátorská rehabilitácia miestností 1.14, 1.15 v objekte Kaštieľa
C113: Miesto: | F113: =F12 | I113: Dátum: | J113: =IF(J12="","",J12) -> 24. 7. 2026
C115: Objednávateľ: | F115: =E15 -> Múzeum vo Sv.Antone, Svätý Anton č. 291, 969 72 | I115: Projektant: | J115: =E21 -> Ing.arch.Adriana Zorvanová
C116: Zhotoviteľ: | F116: =IF(E18="","",E18) -> Vyplň údaj | I116: Spracovateľ: | J116: =E24
C118: PČ | D118: Typ | E118: Kód | F118: Popis | G118: MJ | H118: Množstvo | I118: J.cena [EUR] | J118: Cena celkom [EUR] | K118: Cenová sústava | N118: DPH | O118: J. Nh [h] | P118: Nh celkom [h] | Q118: J. hmotnosť [t] | R118: Hmotnosť celkom [t] | S118: J. suť [t] | T118: Suť Celkom [t]
C119: Náklady z rozpočtu | J119: =BK119 -> 0 | P119: =P120 -> 0 | R119: =R120 -> 0 | T119: =T120 -> 0 | AT119: D | AU119: -1 | BK119: =BK120 -> 0
D120: D | E120: HSV | F120: HSV | J120: =BK120 -> 0 | P120: =P121+P134 -> 0 | R120: =R121+R134 -> 0 | T120: =T121+T134 -> 0 | AR120: 1 | AT120: D | AU120: 0 | AY120: ROZPOCET | BK120: =BK121+BK134 -> 0
D121: D | E121: R1 | F121: Kompletné reštaurovanie miestnosti 1.15 klenba – 33,4 m2 steny – 63 m2 | J121: =BK121 -> 0 | P121: =SUM(P122:P133) -> 0 | R121: =SUM(R122:R133) -> 0 | T121: =SUM(T122:T133) -> 0 | AR121: 1 | AT121: D | AU121: 1 | AY121: ROZPOCET | BK121: =SUM(BK122:BK133) -> 0
C122: 1 | D122: K | E122: 1 | F122: Vstupná fotografická, prípadne grafická dokumentácia | G122: sub | H122: 1 | J122: =ROUND(I122*H122,2) -> 0 | N122: znížená | P122: =O122*H122 -> 0 | Q122: 0 | R122: =Q122*H122 -> 0 | S122: 0 | T122: =S122*H122 -> 0 | AR122: 4 | AT122: K | AU122: 2 | AY122: ROZPOCET | BE122: =IF(N122="základná",J122,0) -> 0 | BF122: =IF(N122="znížená",J122,0) -> 0 | BG122: =IF(N122="zákl. prenesená",J122,0) -> 0 | BH122: =IF(N122="zníž. prenesená",J122,0) -> 0 | BI122: =IF(N122="nulová",J122,0) -> 0 | BJ122: 2 | BK122: =ROUND(I122*H122,2) -> 0 | BL122: 4 | BM122: -1746128161
C123: 2 | D123: K | E123: 2 | F123: Plošný odkryv – odstránenie všetkých náterových(prípadne tenkých omietkových lokálnych vrstiev) až na vrstvu č. 4 | G123: sub | H123: 1 | J123: =ROUND(I123*H123,2) -> 0 | N123: znížená | P123: =O123*H123 -> 0 | Q123: 0 | R123: =Q123*H123 -> 0 | S123: 0 | T123: =S123*H123 -> 0 | AR123: 4 | AT123: K | AU123: 2 | AY123: ROZPOCET | BE123: =IF(N123="základná",J123,0) -> 0 | BF123: =IF(N123="znížená",J123,0) -> 0 | BG123: =IF(N123="zákl. prenesená",J123,0) -> 0 | BH123: =IF(N123="zníž. prenesená",J123,0) -> 0 | BI123: =IF(N123="nulová",J123,0) -> 0 | BJ123: 2 | BK123: =ROUND(I123*H123,2) -> 0 | BL123: 4 | BM123: 1719274411
C124: 3 | D124: K | E124: 3 | F124: Súčasne pri odstraňovaní sekundárnych vrstiev je súčasne potrebné povrchové spevnenie uvoľňujúcej sa originálnej vrstvy – vrstva č. 4 (Axilát AC 2802) | G124: sub | H124: 1 | J124: =ROUND(I124*H124,2) -> 0 | N124: znížená | P124: =O124*H124 -> 0 | Q124: 0 | R124: =Q124*H124 -> 0 | S124: 0 | T124: =S124*H124 -> 0 | AR124: 4 | AT124: K | AU124: 2 | AY124: ROZPOCET | BE124: =IF(N124="základná",J124,0) -> 0 | BF124: =IF(N124="znížená",J124,0) -> 0 | BG124: =IF(N124="zákl. prenesená",J124,0) -> 0 | BH124: =IF(N124="zníž. prenesená",J124,0) -> 0 | BI124: =IF(N124="nulová",J124,0) -> 0 | BJ124: 2 | BK124: =ROUND(I124*H124,2) -> 0 | BL124: 4 | BM124: 1721830867
C125: 4 | D125: K | E125: 4 | F125: V miestach uvoľnenia podkladových vrstiev je potrebné hĺbkové spevnenie pomocou injektáže (Calx Nova) | G125: sub | H125: 1 | J125: =ROUND(I125*H125,2) -> 0 | N125: znížená | P125: =O125*H125 -> 0 | Q125: 0 | R125: =Q125*H125 -> 0 | S125: 0 | T125: =S125*H125 -> 0 | AR125: 4 | AT125: K | AU125: 2 | AY125: ROZPOCET | BE125: =IF(N125="základná",J125,0) -> 0 | BF125: =IF(N125="znížená",J125,0) -> 0 | BG125: =IF(N125="zákl. prenesená",J125,0) -> 0 | BH125: =IF(N125="zníž. prenesená",J125,0) -> 0 | BI125: =IF(N125="nulová",J125,0) -> 0 | BJ125: 2 | BK125: =ROUND(I125*H125,2) -> 0 | BL125: 4 | BM125: 352765520
C126: 5 | D126: K | E126: 5 | F126: Kompletné dočistenie povrchov obnaženej originálnej vrstvy | G126: sub | H126: 1 | J126: =ROUND(I126*H126,2) -> 0 | N126: znížená | P126: =O126*H126 -> 0 | Q126: 0 | R126: =Q126*H126 -> 0 | S126: 0 | T126: =S126*H126 -> 0 | AR126: 4 | AT126: K | AU126: 2 | AY126: ROZPOCET | BE126: =IF(N126="základná",J126,0) -> 0 | BF126: =IF(N126="znížená",J126,0) -> 0 | BG126: =IF(N126="zákl. prenesená",J126,0) -> 0 | BH126: =IF(N126="zníž. prenesená",J126,0) -> 0 | BI126: =IF(N126="nulová",J126,0) -> 0 | BJ126: 2 | BK126: =ROUND(I126*H126,2) -> 0 | BL126: 4 | BM126: -1354256853
C127: 6 | D127: K | E127: 6 | F127: V prípade absentujúcich omietok – doplnenie týchto častí vápennou omietkou s prispôsobením povrchovej štruktúry k originálu | G127: sub | H127: 1 | J127: =ROUND(I127*H127,2) -> 0 | N127: znížená | P127: =O127*H127 -> 0 | Q127: 0 | R127: =Q127*H127 -> 0 | S127: 0 | T127: =S127*H127 -> 0 | AR127: 4 | AT127: K | AU127: 2 | AY127: ROZPOCET | BE127: =IF(N127="základná",J127,0) -> 0 | BF127: =IF(N127="znížená",J127,0) -> 0 | BG127: =IF(N127="zákl. prenesená",J127,0) -> 0 | BH127: =IF(N127="zníž. prenesená",J127,0) -> 0 | BI127: =IF(N127="nulová",J127,0) -> 0 | BJ127: 2 | BK127: =ROUND(I127*H127,2) -> 0 | BL127: 4 | BM127: 350124037
C128: 7 | D128: K | E128: 7 | F128: Vychádzajúc z výsledkov sanačného programu, v prípade nutnosti budú aplikované sanačné omietky spĺňajúce normu WTA soklová časť | G128: sub | H128: 1 | J128: =ROUND(I128*H128,2) -> 0 | N128: znížená | P128: =O128*H128 -> 0 | Q128: 0 | R128: =Q128*H128 -> 0 | S128: 0 | T128: =S128*H128 -> 0 | AR128: 4 | AT128: K | AU128: 2 | AY128: ROZPOCET | BE128: =IF(N128="základná",J128,0) -> 0 | BF128: =IF(N128="znížená",J128,0) -> 0 | BG128: =IF(N128="zákl. prenesená",J128,0) -> 0 | BH128: =IF(N128="zníž. prenesená",J128,0) -> 0 | BI128: =IF(N128="nulová",J128,0) -> 0 | BJ128: 2 | BK128: =ROUND(I128*H128,2) -> 0 | BL128: 4 | BM128: -1860349076
C129: 8 | D129: K | E129: 8 | F129: Celoplošný fixačný nástrek na zjednotenie savosti (Axilát AC 2802) | G129: sub | H129: 1 | J129: =ROUND(I129*H129,2) -> 0 | N129: znížená | P129: =O129*H129 -> 0 | Q129: 0 | R129: =Q129*H129 -> 0 | S129: 0 | T129: =S129*H129 -> 0 | AR129: 4 | AT129: K | AU129: 2 | AY129: ROZPOCET | BE129: =IF(N129="základná",J129,0) -> 0 | BF129: =IF(N129="znížená",J129,0) -> 0 | BG129: =IF(N129="zákl. prenesená",J129,0) -> 0 | BH129: =IF(N129="zníž. prenesená",J129,0) -> 0 | BI129: =IF(N129="nulová",J129,0) -> 0 | BJ129: 2 | BK129: =ROUND(I129*H129,2) -> 0 | BL129: 4 | BM129: 1058661393
C130: 9 | D130: K | E130: 9 | F130: Aplikácia podkladovej farebnosti | G130: sub | H130: 1 | J130: =ROUND(I130*H130,2) -> 0 | N130: znížená | P130: =O130*H130 -> 0 | Q130: 0 | R130: =Q130*H130 -> 0 | S130: 0 | T130: =S130*H130 -> 0 | AR130: 4 | AT130: K | AU130: 2 | AY130: ROZPOCET | BE130: =IF(N130="základná",J130,0) -> 0 | BF130: =IF(N130="znížená",J130,0) -> 0 | BG130: =IF(N130="zákl. prenesená",J130,0) -> 0 | BH130: =IF(N130="zníž. prenesená",J130,0) -> 0 | BI130: =IF(N130="nulová",J130,0) -> 0 | BJ130: 2 | BK130: =ROUND(I130*H130,2) -> 0 | BL130: 4 | BM130: -229731082
C131: 10 | D131: K | E131: 10 | F131: Farebná retuš – reverzibilnými farbami V menších úbytkoch retuš napodobivá, Pri absentujúcich väčších celkoch retuš rekonštrukčná | G131: sub | H131: 1 | J131: =ROUND(I131*H131,2) -> 0 | N131: znížená | P131: =O131*H131 -> 0 | Q131: 0 | R131: =Q131*H131 -> 0 | S131: 0 | T131: =S131*H131 -> 0 | AR131: 4 | AT131: K | AU131: 2 | AY131: ROZPOCET | BE131: =IF(N131="základná",J131,0) -> 0 | BF131: =IF(N131="znížená",J131,0) -> 0 | BG131: =IF(N131="zákl. prenesená",J131,0) -> 0 | BH131: =IF(N131="zníž. prenesená",J131,0) -> 0 | BI131: =IF(N131="nulová",J131,0) -> 0 | BJ131: 2 | BK131: =ROUND(I131*H131,2) -> 0 | BL131: 4 | BM131: -797941965
C132: 11 | D132: K | E132: 11 | F132: Záverečná povrchová petrifikácia (Steinfestiger OH) | G132: sub | H132: 1 | J132: =ROUND(I132*H132,2) -> 0 | N132: znížená | P132: =O132*H132 -> 0 | Q132: 0 | R132: =Q132*H132 -> 0 | S132: 0 | T132: =S132*H132 -> 0 | AR132: 4 | AT132: K | AU132: 2 | AY132: ROZPOCET | BE132: =IF(N132="základná",J132,0) -> 0 | BF132: =IF(N132="znížená",J132,0) -> 0 | BG132: =IF(N132="zákl. prenesená",J132,0) -> 0 | BH132: =IF(N132="zníž. prenesená",J132,0) -> 0 | BI132: =IF(N132="nulová",J132,0) -> 0 | BJ132: 2 | BK132: =ROUND(I132*H132,2) -> 0 | BL132: 4 | BM132: -1572328291
C133: 12 | D133: K | E133: 12 | F133: Spracovanie priebežnej a záverečnej reštaurátorskej dokumentácie | G133: sub | H133: 1 | J133: =ROUND(I133*H133,2) -> 0 | N133: znížená | P133: =O133*H133 -> 0 | Q133: 0 | R133: =Q133*H133 -> 0 | S133: 0 | T133: =S133*H133 -> 0 | AR133: 4 | AT133: K | AU133: 2 | AY133: ROZPOCET | BE133: =IF(N133="základná",J133,0) -> 0 | BF133: =IF(N133="znížená",J133,0) -> 0 | BG133: =IF(N133="zákl. prenesená",J133,0) -> 0 | BH133: =IF(N133="zníž. prenesená",J133,0) -> 0 | BI133: =IF(N133="nulová",J133,0) -> 0 | BJ133: 2 | BK133: =ROUND(I133*H133,2) -> 0 | BL133: 4 | BM133: 799302234
D134: D | E134: R2 | F134: Kompletné reštaurovanie miestnosti 1.14 Celková výmera: 44,5 m2 | J134: =BK134 -> 0 | P134: =SUM(P135:P146) -> 0 | R134: =SUM(R135:R146) -> 0 | T134: =SUM(T135:T146) -> 0 | AR134: 1 | AT134: D | AU134: 1 | AY134: ROZPOCET | BK134: =SUM(BK135:BK146) -> 0
C135: 13 | D135: K | E135: 13 | F135: Vstupná fotografická, prípadne grafická dokumentácia | G135: sub | H135: 1 | J135: =ROUND(I135*H135,2) -> 0 | N135: znížená | P135: =O135*H135 -> 0 | Q135: 0 | R135: =Q135*H135 -> 0 | S135: 0 | T135: =S135*H135 -> 0 | AR135: 4 | AT135: K | AU135: 2 | AY135: ROZPOCET | BE135: =IF(N135="základná",J135,0) -> 0 | BF135: =IF(N135="znížená",J135,0) -> 0 | BG135: =IF(N135="zákl. prenesená",J135,0) -> 0 | BH135: =IF(N135="zníž. prenesená",J135,0) -> 0 | BI135: =IF(N135="nulová",J135,0) -> 0 | BJ135: 2 | BK135: =ROUND(I135*H135,2) -> 0 | BL135: 4 | BM135: -1447405279
C136: 14 | D136: K | E136: 14 | F136: Plošný odkryv – odstránenie všetkých náterových (prípadne tenkých omietkových lokálnych vrstiev) až na vrstvu č. 4 | G136: sub | H136: 1 | J136: =ROUND(I136*H136,2) -> 0 | N136: znížená | P136: =O136*H136 -> 0 | Q136: 0 | R136: =Q136*H136 -> 0 | S136: 0 | T136: =S136*H136 -> 0 | AR136: 4 | AT136: K | AU136: 2 | AY136: ROZPOCET | BE136: =IF(N136="základná",J136,0) -> 0 | BF136: =IF(N136="znížená",J136,0) -> 0 | BG136: =IF(N136="zákl. prenesená",J136,0) -> 0 | BH136: =IF(N136="zníž. prenesená",J136,0) -> 0 | BI136: =IF(N136="nulová",J136,0) -> 0 | BJ136: 2 | BK136: =ROUND(I136*H136,2) -> 0 | BL136: 4 | BM136: 847767603
C137: 15 | D137: K | E137: 15 | F137: Súčasne pri odstraňovaní sekundárnych vrstiev je súčasne potrebné povrchové spevnenie uvoľňujúcej sa originálnej vrstvy – vrstva č. 4 (Axilát AC 2802) | G137: sub | H137: 1 | J137: =ROUND(I137*H137,2) -> 0 | N137: znížená | P137: =O137*H137 -> 0 | Q137: 0 | R137: =Q137*H137 -> 0 | S137: 0 | T137: =S137*H137 -> 0 | AR137: 4 | AT137: K | AU137: 2 | AY137: ROZPOCET | BE137: =IF(N137="základná",J137,0) -> 0 | BF137: =IF(N137="znížená",J137,0) -> 0 | BG137: =IF(N137="zákl. prenesená",J137,0) -> 0 | BH137: =IF(N137="zníž. prenesená",J137,0) -> 0 | BI137: =IF(N137="nulová",J137,0) -> 0 | BJ137: 2 | BK137: =ROUND(I137*H137,2) -> 0 | BL137: 4 | BM137: 1226912953
C138: 16 | D138: K | E138: 16 | F138: V miestach uvoľnenia podkladových vrstiev je potrebné hĺbkové spevnenie pomocou injektáže (Calx Nova) | G138: sub | H138: 1 | J138: =ROUND(I138*H138,2) -> 0 | N138: znížená | P138: =O138*H138 -> 0 | Q138: 0 | R138: =Q138*H138 -> 0 | S138: 0 | T138: =S138*H138 -> 0 | AR138: 4 | AT138: K | AU138: 2 | AY138: ROZPOCET | BE138: =IF(N138="základná",J138,0) -> 0 | BF138: =IF(N138="znížená",J138,0) -> 0 | BG138: =IF(N138="zákl. prenesená",J138,0) -> 0 | BH138: =IF(N138="zníž. prenesená",J138,0) -> 0 | BI138: =IF(N138="nulová",J138,0) -> 0 | BJ138: 2 | BK138: =ROUND(I138*H138,2) -> 0 | BL138: 4 | BM138: 1718827135
C139: 17 | D139: K | E139: 17 | F139: Kompletné dočistenie povrchov obnaženej originálnej vrstvy | G139: sub | H139: 1 | J139: =ROUND(I139*H139,2) -> 0 | N139: znížená | P139: =O139*H139 -> 0 | Q139: 0 | R139: =Q139*H139 -> 0 | S139: 0 | T139: =S139*H139 -> 0 | AR139: 4 | AT139: K | AU139: 2 | AY139: ROZPOCET | BE139: =IF(N139="základná",J139,0) -> 0 | BF139: =IF(N139="znížená",J139,0) -> 0 | BG139: =IF(N139="zákl. prenesená",J139,0) -> 0 | BH139: =IF(N139="zníž. prenesená",J139,0) -> 0 | BI139: =IF(N139="nulová",J139,0) -> 0 | BJ139: 2 | BK139: =ROUND(I139*H139,2) -> 0 | BL139: 4 | BM139: -1015015262
C140: 18 | D140: K | E140: 18 | F140: V prípade absentujúcich omietok – doplnenie týchto častí vápennou omietkou s prispôsobením povrchovej štruktúry k originálu | G140: sub | H140: 1 | J140: =ROUND(I140*H140,2) -> 0 | N140: znížená | P140: =O140*H140 -> 0 | Q140: 0 | R140: =Q140*H140 -> 0 | S140: 0 | T140: =S140*H140 -> 0 | AR140: 4 | AT140: K | AU140: 2 | AY140: ROZPOCET | BE140: =IF(N140="základná",J140,0) -> 0 | BF140: =IF(N140="znížená",J140,0) -> 0 | BG140: =IF(N140="zákl. prenesená",J140,0) -> 0 | BH140: =IF(N140="zníž. prenesená",J140,0) -> 0 | BI140: =IF(N140="nulová",J140,0) -> 0 | BJ140: 2 | BK140: =ROUND(I140*H140,2) -> 0 | BL140: 4 | BM140: 868891300
C141: 19 | D141: K | E141: 19 | F141: Vychádzajúc z výsledkov sanačného programu, v prípade nutnosti budú aplikované sanačné omietky spĺňajúce normu WTA soklová časť | G141: sub | H141: 1 | J141: =ROUND(I141*H141,2) -> 0 | N141: znížená | P141: =O141*H141 -> 0 | Q141: 0 | R141: =Q141*H141 -> 0 | S141: 0 | T141: =S141*H141 -> 0 | AR141: 4 | AT141: K | AU141: 2 | AY141: ROZPOCET | BE141: =IF(N141="základná",J141,0) -> 0 | BF141: =IF(N141="znížená",J141,0) -> 0 | BG141: =IF(N141="zákl. prenesená",J141,0) -> 0 | BH141: =IF(N141="zníž. prenesená",J141,0) -> 0 | BI141: =IF(N141="nulová",J141,0) -> 0 | BJ141: 2 | BK141: =ROUND(I141*H141,2) -> 0 | BL141: 4 | BM141: -1129822037
C142: 20 | D142: K | E142: 20 | F142: Celoplošný fixačný nástrek na zjednotenie savosti (Axilát AC 2802) | G142: sub | H142: 1 | J142: =ROUND(I142*H142,2) -> 0 | N142: znížená | P142: =O142*H142 -> 0 | Q142: 0 | R142: =Q142*H142 -> 0 | S142: 0 | T142: =S142*H142 -> 0 | AR142: 4 | AT142: K | AU142: 2 | AY142: ROZPOCET | BE142: =IF(N142="základná",J142,0) -> 0 | BF142: =IF(N142="znížená",J142,0) -> 0 | BG142: =IF(N142="zákl. prenesená",J142,0) -> 0 | BH142: =IF(N142="zníž. prenesená",J142,0) -> 0 | BI142: =IF(N142="nulová",J142,0) -> 0 | BJ142: 2 | BK142: =ROUND(I142*H142,2) -> 0 | BL142: 4 | BM142: 894907882
C143: 21 | D143: K | E143: 21 | F143: Aplikácia podkladovej farebnosti | G143: sub | H143: 1 | J143: =ROUND(I143*H143,2) -> 0 | N143: znížená | P143: =O143*H143 -> 0 | Q143: 0 | R143: =Q143*H143 -> 0 | S143: 0 | T143: =S143*H143 -> 0 | AR143: 4 | AT143: K | AU143: 2 | AY143: ROZPOCET | BE143: =IF(N143="základná",J143,0) -> 0 | BF143: =IF(N143="znížená",J143,0) -> 0 | BG143: =IF(N143="zákl. prenesená",J143,0) -> 0 | BH143: =IF(N143="zníž. prenesená",J143,0) -> 0 | BI143: =IF(N143="nulová",J143,0) -> 0 | BJ143: 2 | BK143: =ROUND(I143*H143,2) -> 0 | BL143: 4 | BM143: -2069471645
C144: 22 | D144: K | E144: 22 | F144: Farebná retuš – reverzibilnými farbami v menších úbytkoch retuš napodobivá, pri absentujúcich väčších celkoch retuš rekonštrukčná | G144: sub | H144: 1 | J144: =ROUND(I144*H144,2) -> 0 | N144: znížená | P144: =O144*H144 -> 0 | Q144: 0 | R144: =Q144*H144 -> 0 | S144: 0 | T144: =S144*H144 -> 0 | AR144: 4 | AT144: K | AU144: 2 | AY144: ROZPOCET | BE144: =IF(N144="základná",J144,0) -> 0 | BF144: =IF(N144="znížená",J144,0) -> 0 | BG144: =IF(N144="zákl. prenesená",J144,0) -> 0 | BH144: =IF(N144="zníž. prenesená",J144,0) -> 0 | BI144: =IF(N144="nulová",J144,0) -> 0 | BJ144: 2 | BK144: =ROUND(I144*H144,2) -> 0 | BL144: 4 | BM144: 841314097
C145: 23 | D145: K | E145: 23 | F145: Záverečná povrchová petrifikácia (Steinfestiger OH) | G145: sub | H145: 1 | J145: =ROUND(I145*H145,2) -> 0 | N145: znížená | P145: =O145*H145 -> 0 | Q145: 0 | R145: =Q145*H145 -> 0 | S145: 0 | T145: =S145*H145 -> 0 | AR145: 4 | AT145: K | AU145: 2 | AY145: ROZPOCET | BE145: =IF(N145="základná",J145,0) -> 0 | BF145: =IF(N145="znížená",J145,0) -> 0 | BG145: =IF(N145="zákl. prenesená",J145,0) -> 0 | BH145: =IF(N145="zníž. prenesená",J145,0) -> 0 | BI145: =IF(N145="nulová",J145,0) -> 0 | BJ145: 2 | BK145: =ROUND(I145*H145,2) -> 0 | BL145: 4 | BM145: 126824308
C146: 24 | D146: K | E146: 24 | F146: Spracovanie priebežnej a záverečnej reštaurátorskej dokumentácie | G146: sub | H146: 1 | J146: =ROUND(I146*H146,2) -> 0 | N146: znížená | P146: =O146*H146 -> 0 | Q146: 0 | R146: =Q146*H146 -> 0 | S146: 0 | T146: =S146*H146 -> 0 | AR146: 4 | AT146: K | AU146: 2 | AY146: ROZPOCET | BE146: =IF(N146="základná",J146,0) -> 0 | BF146: =IF(N146="znížená",J146,0) -> 0 | BG146: =IF(N146="zákl. prenesená",J146,0) -> 0 | BH146: =IF(N146="zníž. prenesená",J146,0) -> 0 | BI146: =IF(N146="nulová",J146,0) -> 0 | BJ146: 2 | BK146: =ROUND(I146*H146,2) -> 0 | BL146: 4 | BM146: 312878724

Sheet 2025-16 - SO-01 - reštaur...
AT2: {0bee512f-4f58-4f95-9ee2-6189b0e71ee3}
AT3: 0
D4: KRYCÍ LIST ROZPOČTU | M4: v --- nižšie sa nachádzajú doplnkové a pomocné údaje k zostavám --- v | AT4: False
D6: Stavba:
E7: ='Rekapitulácia stavby'!K6 -> Obnova vybraných častí NKP Kaštieľ,Múzeum vo Svätom Antone
D8: Objekt:
E9: 2025/16 - SO-01 - reštaurátorské práce dvoch fasádnych tympanónov na objekte kaštieľa
D11: JKSO: | I11: ČS:
D12: Miesto: | I12: Dátum: | J12: ='Rekapitulácia stavby'!AN8 -> 24. 7. 2026
D14: Objednávateľ: | I14: IČO:
E15: Múzeum vo Sv.Antone, Svätý Anton č. 291, 969 72 | I15: IČ DPH:
D17: Zhotoviteľ: | I17: IČO: | J17: ='Rekapitulácia stavby'!AN13 -> Vyplň údaj
E18: ='Rekapitulácia stavby'!E14 -> Vyplň údaj | I18: IČ DPH: | J18: ='Rekapitulácia stavby'!AN14 -> Vyplň údaj
D20: Projektant: | I20: IČO:
E21: Ing.arch.Adriana Zorvanová | I21: IČ DPH:
D23: Spracovateľ: | I23: IČO: | J23: =IF('Rekapitulácia stavby'!AN19="","",'Rekapitulácia stavby'!AN19)
E24: =IF('Rekapitulácia stavby'!E20="","",'Rekapitulácia stavby'!E20) | I24: IČ DPH: | J24: =IF('Rekapitulácia stavby'!AN20="","",'Rekapitulácia stavby'!AN20)
D26: Poznámka:
D30: Cena bez DPH | J30: =ROUND(J120, 2) -> 0
F32: Základ dane | I32: Sadzba dane | J32: Výška dane
D33: DPH | E33: základná | F33: =ROUND((SUM(BE120:BE159)), 2) -> 0 | I33: 0.23 | J33: =ROUND(((SUM(BE120:BE159))*I33), 2) -> 0
E34: znížená | F34: =ROUND((SUM(BF120:BF159)), 2) -> 0 | I34: 0.23 | J34: =ROUND(((SUM(BF120:BF159))*I34), 2) -> 0
E35: zákl. prenesená | F35: =ROUND((SUM(BG120:BG159)), 2) -> 0 | I35: 0.23 | J35: =0 -> 0
E36: zníž. prenesená | F36: =ROUND((SUM(BH120:BH159)), 2) -> 0 | I36: 0.23 | J36: =0 -> 0
E37: nulová | F37: =ROUND((SUM(BI120:BI159)), 2) -> 0 | I37: 0 | J37: =0 -> 0
D39: Cena s DPH | G39: v | H39: EUR | J39: =SUM(J30:J37) -> 0
D50: Projektant | G50: Spracovateľ
D61: Dátum a podpis: | F61: Pečiatka | G61: Dátum a podpis: | J61: Pečiatka
D65: Objednávateľ | G65: Zhotoviteľ
D76: Dátum a podpis: | F76: Pečiatka | G76: Dátum a podpis: | J76: Pečiatka
C82: REKAPITULÁCIA ROZPOČTU
C84: Stavba:
E85: =E7 -> Obnova vybraných častí NKP Kaštieľ,Múzeum vo Svätom Antone
C86: Objekt:
E87: =E9 -> 2025/16 - SO-01 - reštaurátorské práce dvoch fasádnych tympanónov na objekte kaštieľa
C89: Miesto: | F89: =F12 | I89: Dátum: | J89: =IF(J12="","",J12) -> 24. 7. 2026
C91: Objednávateľ: | F91: =E15 -> Múzeum vo Sv.Antone, Svätý Anton č. 291, 969 72 | I91: Projektant: | J91: =E21 -> Ing.arch.Adriana Zorvanová
C92: Zhotoviteľ: | F92: =IF(E18="","",E18) -> Vyplň údaj | I92: Spracovateľ: | J92: =E24
C94: Kód dielu - Popis | J94: Cena celkom [EUR]
C96: Náklady z rozpočtu | J96: =J120 -> 0 | AU96: -1
D97: HSV - HSV | J97: =J121 -> 0
D98: D1 - Vonkajší tympanón nad hlavným vstupom (cca 49 m2) | J98: =J122 -> 0
D99: D2 - Reštaurovanie kovových hodín – ciferník | J99: =J136 -> 0
D100: D3 - Vnútorný tympanón zo strany nádvoria (cca 26 m2) | J100: =J147 -> 0
C107: ROZPOČET
C109: Stavba:
E110: =E7 -> Obnova vybraných častí NKP Kaštieľ,Múzeum vo Svätom Antone
C111: Objekt:
E112: =E9 -> 2025/16 - SO-01 - reštaurátorské práce dvoch fasádnych tympanónov na objekte kaštieľa
C114: Miesto: | F114: =F12 | I114: Dátum: | J114: =IF(J12="","",J12) -> 24. 7. 2026
C116: Objednávateľ: | F116: =E15 -> Múzeum vo Sv.Antone, Svätý Anton č. 291, 969 72 | I116: Projektant: | J116: =E21 -> Ing.arch.Adriana Zorvanová
C117: Zhotoviteľ: | F117: =IF(E18="","",E18) -> Vyplň údaj | I117: Spracovateľ: | J117: =E24
C119: PČ | D119: Typ | E119: Kód | F119: Popis | G119: MJ | H119: Množstvo | I119: J.cena [EUR] | J119: Cena celkom [EUR] | K119: Cenová sústava | N119: DPH | O119: J. Nh [h] | P119: Nh celkom [h] | Q119: J. hmotnosť [t] | R119: Hmotnosť celkom [t] | S119: J. suť [t] | T119: Suť Celkom [t]
C120: Náklady z rozpočtu | J120: =BK120 -> 0 | P120: =P121 -> 0 | R120: =R121 -> 0 | T120: =T121 -> 0 | AT120: D | AU120: -1 | BK120: =BK121 -> 0
D121: D | E121: HSV | F121: HSV | J121: =BK121 -> 0 | P121: =P122+P136+P147 -> 0 | R121: =R122+R136+R147 -> 0 | T121: =T122+T136+T147 -> 0 | AR121: 1 | AT121: D | AU121: 0 | AY121: ROZPOCET | BK121: =BK122+BK136+BK147 -> 0
D122: D | E122: D1 | F122: Vonkajší tympanón nad hlavným vstupom (cca 49 m2) | J122: =BK122 -> 0 | P122: =SUM(P123:P135) -> 0 | R122: =SUM(R123:R135) -> 0 | T122: =SUM(T123:T135) -> 0 | AR122: 1 | AT122: D | AU122: 1 | AY122: ROZPOCET | BK122: =SUM(BK123:BK135) -> 0
C123: 1 | D123: K | E123: 1.1 | F123: Počiatočná fotografická a grafická dokumentácia | G123: sub | H123: 1 | J123: =ROUND(I123*H123,2) -> 0 | N123: znížená | P123: =O123*H123 -> 0 | Q123: 0 | R123: =Q123*H123 -> 0 | S123: 0 | T123: =S123*H123 -> 0 | AR123: 4 | AT123: K | AU123: 2 | AY123: ROZPOCET | BE123: =IF(N123="základná",J123,0) -> 0 | BF123: =IF(N123="znížená",J123,0) -> 0 | BG123: =IF(N123="zákl. prenesená",J123,0) -> 0 | BH123: =IF(N123="zníž. prenesená",J123,0) -> 0 | BI123: =IF(N123="nulová",J123,0) -> 0 | BJ123: 2 | BK123: =ROUND(I123*H123,2) -> 0 | BL123: 4 | BM123: 2070156339
C124: 2 | D124: K | E124: 2.1 | F124: Odstránenie depozitu a povrchových nečistôt | G124: sub | H124: 1 | J124: =ROUND(I124*H124,2) -> 0 | N124: znížená | P124: =O124*H124 -> 0 | Q124: 0 | R124: =Q124*H124 -> 0 | S124: 0 | T124: =S124*H124 -> 0 | AR124: 4 | AT124: K | AU124: 2 | AY124: ROZPOCET | BE124: =IF(N124="základná",J124,0) -> 0 | BF124: =IF(N124="znížená",J124,0) -> 0 | BG124: =IF(N124="zákl. prenesená",J124,0) -> 0 | BH124: =IF(N124="zníž. prenesená",J124,0) -> 0 | BI124: =IF(N124="nulová",J124,0) -> 0 | BJ124: 2 | BK124: =ROUND(I124*H124,2) -> 0 | BL124: 4 | BM124: -1121422959
C125: 3 | D125: K | E125: 3.1 | F125: Hĺbkové záchranné upevňovanie | G125: sub | H125: 1 | J125: =ROUND(I125*H125,2) -> 0 | N125: znížená | P125: =O125*H125 -> 0 | Q125: 0 | R125: =Q125*H125 -> 0 | S125: 0 | T125: =S125*H125 -> 0 | AR125: 4 | AT125: K | AU125: 2 | AY125: ROZPOCET | BE125: =IF(N125="základná",J125,0) -> 0 | BF125: =IF(N125="znížená",J125,0) -> 0 | BG125: =IF(N125="zákl. prenesená",J125,0) -> 0 | BH125: =IF(N125="zníž. prenesená",J125,0) -> 0 | BI125: =IF(N125="nulová",J125,0) -> 0 | BJ125: 2 | BK125: =ROUND(I125*H125,2) -> 0 | BL125: 4 | BM125: 886534415
C126: 4 | D126: K | E126: 4.1 | F126: Povrchové upevňovanie | G126: sub | H126: 1 | J126: =ROUND(I126*H126,2) -> 0 | N126: znížená | P126: =O126*H126 -> 0 | Q126: 0 | R126: =Q126*H126 -> 0 | S126: 0 | T126: =S126*H126 -> 0 | AR126: 4 | AT126: K | AU126: 2 | AY126: ROZPOCET | BE126: =IF(N126="základná",J126,0) -> 0 | BF126: =IF(N126="znížená",J126,0) -> 0 | BG126: =IF(N126="zákl. prenesená",J126,0) -> 0 | BH126: =IF(N126="zníž. prenesená",J126,0) -> 0 | BI126: =IF(N126="nulová",J126,0) -> 0 | BJ126: 2 | BK126: =ROUND(I126*H126,2) -> 0 | BL126: 4 | BM126: 409370327
C127: 5 | D127: K | E127: 5.1 | F127: Odstránenie nevhodných sekundárnych plomb až na pevný podklad | G127: sub | H127: 1 | J127: =ROUND(I127*H127,2) -> 0 | N127: znížená | P127: =O127*H127 -> 0 | Q127: 0 | R127: =Q127*H127 -> 0 | S127: 0 | T127: =S127*H127 -> 0 | AR127: 4 | AT127: K | AU127: 2 | AY127: ROZPOCET | BE127: =IF(N127="základná",J127,0) -> 0 | BF127: =IF(N127="znížená",J127,0) -> 0 | BG127: =IF(N127="zákl. prenesená",J127,0) -> 0 | BH127: =IF(N127="zníž. prenesená",J127,0) -> 0 | BI127: =IF(N127="nulová",J127,0) -> 0 | BJ127: 2 | BK127: =ROUND(I127*H127,2) -> 0 | BL127: 4 | BM127: 1635426153
C128: 6 | D128: K | E128: 6.1 | F128: V miestach odstránených omietok vyškárovanie a vyčistenie muriva | G128: sub | H128: 1 | J128: =ROUND(I128*H128,2) -> 0 | N128: znížená | P128: =O128*H128 -> 0 | Q128: 0 | R128: =Q128*H128 -> 0 | S128: 0 | T128: =S128*H128 -> 0 | AR128: 4 | AT128: K | AU128: 2 | AY128: ROZPOCET | BE128: =IF(N128="základná",J128,0) -> 0 | BF128: =IF(N128="znížená",J128,0) -> 0 | BG128: =IF(N128="zákl. prenesená",J128,0) -> 0 | BH128: =IF(N128="zníž. prenesená",J128,0) -> 0 | BI128: =IF(N128="nulová",J128,0) -> 0 | BJ128: 2 | BK128: =ROUND(I128*H128,2) -> 0 | BL128: 4 | BM128: -1557725083
C129: 7 | D129: K | E129: 7.1 | F129: Niekoľkonásobné spevňovacie nástreky | G129: sub | H129: 1 | J129: =ROUND(I129*H129,2) -> 0 | N129: znížená | P129: =O129*H129 -> 0 | Q129: 0 | R129: =Q129*H129 -> 0 | S129: 0 | T129: =S129*H129 -> 0 | AR129: 4 | AT129: K | AU129: 2 | AY129: ROZPOCET | BE129: =IF(N129="základná",J129,0) -> 0 | BF129: =IF(N129="znížená",J129,0) -> 0 | BG129: =IF(N129="zákl. prenesená",J129,0) -> 0 | BH129: =IF(N129="zníž. prenesená",J129,0) -> 0 | BI129: =IF(N129="nulová",J129,0) -> 0 | BJ129: 2 | BK129: =ROUND(I129*H129,2) -> 0 | BL129: 4 | BM129: -89833152
C130: 8 | D130: K | E130: 8.1 | F130: Doplnenie chýbajúcich omietkových vrstiev (Špric, Grobputz, Feinputz) | G130: sub | H130: 1 | J130: =ROUND(I130*H130,2) -> 0 | N130: znížená | P130: =O130*H130 -> 0 | Q130: 0 | R130: =Q130*H130 -> 0 | S130: 0 | T130: =S130*H130 -> 0 | AR130: 4 | AT130: K | AU130: 2 | AY130: ROZPOCET | BE130: =IF(N130="základná",J130,0) -> 0 | BF130: =IF(N130="znížená",J130,0) -> 0 | BG130: =IF(N130="zákl. prenesená",J130,0) -> 0 | BH130: =IF(N130="zníž. prenesená",J130,0) -> 0 | BI130: =IF(N130="nulová",J130,0) -> 0 | BJ130: 2 | BK130: =ROUND(I130*H130,2) -> 0 | BL130: 4 | BM130: -315512945
C131: 9 | D131: K | E131: 9.1 | F131: Aplikácia farebného neutrálneho podkladu | G131: sub | H131: 1 | J131: =ROUND(I131*H131,2) -> 0 | N131: znížená | P131: =O131*H131 -> 0 | Q131: 0 | R131: =Q131*H131 -> 0 | S131: 0 | T131: =S131*H131 -> 0 | AR131: 4 | AT131: K | AU131: 2 | AY131: ROZPOCET | BE131: =IF(N131="základná",J131,0) -> 0 | BF131: =IF(N131="znížená",J131,0) -> 0 | BG131: =IF(N131="zákl. prenesená",J131,0) -> 0 | BH131: =IF(N131="zníž. prenesená",J131,0) -> 0 | BI131: =IF(N131="nulová",J131,0) -> 0 | BJ131: 2 | BK131: =ROUND(I131*H131,2) -> 0 | BL131: 4 | BM131: 996270956
C132: 10 | D132: K | E132: 10.1 | F132: Farebná sceľovacia retuš | G132: sub | H132: 1 | J132: =ROUND(I132*H132,2) -> 0 | N132: znížená | P132: =O132*H132 -> 0 | Q132: 0 | R132: =Q132*H132 -> 0 | S132: 0 | T132: =S132*H132 -> 0 | AR132: 4 | AT132: K | AU132: 2 | AY132: ROZPOCET | BE132: =IF(N132="základná",J132,0) -> 0 | BF132: =IF(N132="znížená",J132,0) -> 0 | BG132: =IF(N132="zákl. prenesená",J132,0) -> 0 | BH132: =IF(N132="zníž. prenesená",J132,0) -> 0 | BI132: =IF(N132="nulová",J132,0) -> 0 | BJ132: 2 | BK132: =ROUND(I132*H132,2) -> 0 | BL132: 4 | BM132: -1385197107
C133: 11 | D133: K | E133: 11.1 | F133: Záverečný ochranný nástrek | G133: sub | H133: 1 | J133: =ROUND(I133*H133,2) -> 0 | N133: znížená | P133: =O133*H133 -> 0 | Q133: 0 | R133: =Q133*H133 -> 0 | S133: 0 | T133: =S133*H133 -> 0 | AR133: 4 | AT133: K | AU133: 2 | AY133: ROZPOCET | BE133: =IF(N133="základná",J133,0) -> 0 | BF133: =IF(N133="znížená",J133,0) -> 0 | BG133: =IF(N133="zákl. prenesená",J133,0) -> 0 | BH133: =IF(N133="zníž. prenesená",J133,0) -> 0 | BI133: =IF(N133="nulová",J133,0) -> 0 | BJ133: 2 | BK133: =ROUND(I133*H133,2) -> 0 | BL133: 4 | BM133: -1944487423
C134: 12 | D134: K | E134: 12.1 | F134: Kompletná reštaurátorská dokumentácia | G134: sub | H134: 1 | J134: =ROUND(I134*H134,2) -> 0 | N134: znížená | P134: =O134*H134 -> 0 | Q134: 0 | R134: =Q134*H134 -> 0 | S134: 0 | T134: =S134*H134 -> 0 | AR134: 4 | AT134: K | AU134: 2 | AY134: ROZPOCET | BE134: =IF(N134="základná",J134,0) -> 0 | BF134: =IF(N134="znížená",J134,0) -> 0 | BG134: =IF(N134="zákl. prenesená",J134,0) -> 0 | BH134: =IF(N134="zníž. prenesená",J134,0) -> 0 | BI134: =IF(N134="nulová",J134,0) -> 0 | BJ134: 2 | BK134: =ROUND(I134*H134,2) -> 0 | BL134: 4 | BM134: -961266131
C135: 13 | D135: K | E135: 13.1 | F135: Montáž, prenájom a demontáž lešenia | G135: sub | H135: 1 | J135: =ROUND(I135*H135,2) -> 0 | N135: znížená | P135: =O135*H135 -> 0 | Q135: 0 | R135: =Q135*H135 -> 0 | S135: 0 | T135: =S135*H135 -> 0 | AR135: 4 | AT135: K | AU135: 2 | AY135: ROZPOCET | BE135: =IF(N135="základná",J135,0) -> 0 | BF135: =IF(N135="znížená",J135,0) -> 0 | BG135: =IF(N135="zákl. prenesená",J135,0) -> 0 | BH135: =IF(N135="zníž. prenesená",J135,0) -> 0 | BI135: =IF(N135="nulová",J135,0) -> 0 | BJ135: 2 | BK135: =ROUND(I135*H135,2) -> 0 | BL135: 4 | BM135: 1963842225
D136: D | E136: D2 | F136: Reštaurovanie kovových hodín – ciferník | J136: =BK136 -> 0 | P136: =SUM(P137:P146) -> 0 | R136: =SUM(R137:R146) -> 0 | T136: =SUM(T137:T146) -> 0 | AR136: 1 | AT136: D | AU136: 1 | AY136: ROZPOCET | BK136: =SUM(BK137:BK146) -> 0
C137: 14 | D137: K | E137: 14.1 | F137: Počiatočná fotografická a grafická dokumentácia | G137: sub | H137: 1 | J137: =ROUND(I137*H137,2) -> 0 | N137: znížená | P137: =O137*H137 -> 0 | Q137: 0 | R137: =Q137*H137 -> 0 | S137: 0 | T137: =S137*H137 -> 0 | AR137: 4 | AT137: K | AU137: 2 | AY137: ROZPOCET | BE137: =IF(N137="základná",J137,0) -> 0 | BF137: =IF(N137="znížená",J137,0) -> 0 | BG137: =IF(N137="zákl. prenesená",J137,0) -> 0 | BH137: =IF(N137="zníž. prenesená",J137,0) -> 0 | BI137: =IF(N137="nulová",J137,0) -> 0 | BJ137: 2 | BK137: =ROUND(I137*H137,2) -> 0 | BL137: 4 | BM137: 1286629522
C138: 15 | D138: K | E138: 15.1 | F138: Odstránenie depozitu a povrchových nečistôt | G138: sub | H138: 1 | J138: =ROUND(I138*H138,2) -> 0 | N138: znížená | P138: =O138*H138 -> 0 | Q138: 0 | R138: =Q138*H138 -> 0 | S138: 0 | T138: =S138*H138 -> 0 | AR138: 4 | AT138: K | AU138: 2 | AY138: ROZPOCET | BE138: =IF(N138="základná",J138,0) -> 0 | BF138: =IF(N138="znížená",J138,0) -> 0 | BG138: =IF(N138="zákl. prenesená",J138,0) -> 0 | BH138: =IF(N138="zníž. prenesená",J138,0) -> 0 | BI138: =IF(N138="nulová",J138,0) -> 0 | BJ138: 2 | BK138: =ROUND(I138*H138,2) -> 0 | BL138: 4 | BM138: 873393979
C139: 16 | D139: K | E139: 16.1 | F139: Odstránenie korózie z povrchov – mechanicky | G139: sub | H139: 1 | J139: =ROUND(I139*H139,2) -> 0 | N139: znížená | P139: =O139*H139 -> 0 | Q139: 0 | R139: =Q139*H139 -> 0 | S139: 0 | T139: =S139*H139 -> 0 | AR139: 4 | AT139: K | AU139: 2 | AY139: ROZPOCET | BE139: =IF(N139="základná",J139,0) -> 0 | BF139: =IF(N139="znížená",J139,0) -> 0 | BG139: =IF(N139="zákl. prenesená",J139,0) -> 0 | BH139: =IF(N139="zníž. prenesená",J139,0) -> 0 | BI139: =IF(N139="nulová",J139,0) -> 0 | BJ139: 2 | BK139: =ROUND(I139*H139,2) -> 0 | BL139: 4 | BM139: 582144281
C140: 17 | D140: K | E140: 17.1 | F140: Aplikácia antikorózneho náteru | G140: sub | H140: 1 | J140: =ROUND(I140*H140,2) -> 0 | N140: znížená | P140: =O140*H140 -> 0 | Q140: 0 | R140: =Q140*H140 -> 0 | S140: 0 | T140: =S140*H140 -> 0 | AR140: 4 | AT140: K | AU140: 2 | AY140: ROZPOCET | BE140: =IF(N140="základná",J140,0) -> 0 | BF140: =IF(N140="znížená",J140,0) -> 0 | BG140: =IF(N140="zákl. prenesená",J140,0) -> 0 | BH140: =IF(N140="zníž. prenesená",J140,0) -> 0 | BI140: =IF(N140="nulová",J140,0) -> 0 | BJ140: 2 | BK140: =ROUND(I140*H140,2) -> 0 | BL140: 4 | BM140: -129506149
C141: 18 | D141: K | E141: 18.1 | F141: Aplikácia plátových protéz v miestach perforácii spôsobených koróziou (rozsah po očistení) Nové pláty budú kotvené spôsobom nitovania. | G141: sub | H141: 1 | J141: =ROUND(I141*H141,2) -> 0 | N141: znížená | P141: =O141*H141 -> 0 | Q141: 0 | R141: =Q141*H141 -> 0 | S141: 0 | T141: =S141*H141 -> 0 | AR141: 4 | AT141: K | AU141: 2 | AY141: ROZPOCET | BE141: =IF(N141="základná",J141,0) -> 0 | BF141: =IF(N141="znížená",J141,0) -> 0 | BG141: =IF(N141="zákl. prenesená",J141,0) -> 0 | BH141: =IF(N141="zníž. prenesená",J141,0) -> 0 | BI141: =IF(N141="nulová",J141,0) -> 0 | BJ141: 2 | BK141: =ROUND(I141*H141,2) -> 0 | BL141: 4 | BM141: 1348821630
C142: 19 | D142: K | E142: 19.1 | F142: Nanesenie matného základného náteru - alkyd uretanovým náterom | G142: sub | H142: 1 | J142: =ROUND(I142*H142,2) -> 0 | N142: znížená | P142: =O142*H142 -> 0 | Q142: 0 | R142: =Q142*H142 -> 0 | S142: 0 | T142: =S142*H142 -> 0 | AR142: 4 | AT142: K | AU142: 2 | AY142: ROZPOCET | BE142: =IF(N142="základná",J142,0) -> 0 | BF142: =IF(N142="znížená",J142,0) -> 0 | BG142: =IF(N142="zákl. prenesená",J142,0) -> 0 | BH142: =IF(N142="zníž. prenesená",J142,0) -> 0 | BI142: =IF(N142="nulová",J142,0) -> 0 | BJ142: 2 | BK142: =ROUND(I142*H142,2) -> 0 | BL142: 4 | BM142: 1265037882
C143: 20 | D143: K | E143: 20.1 | F143: Aplikácia povrchového čierneho matného náteru | G143: sub | H143: 1 | J143: =ROUND(I143*H143,2) -> 0 | N143: znížená | P143: =O143*H143 -> 0 | Q143: 0 | R143: =Q143*H143 -> 0 | S143: 0 | T143: =S143*H143 -> 0 | AR143: 4 | AT143: K | AU143: 2 | AY143: ROZPOCET | BE143: =IF(N143="základná",J143,0) -> 0 | BF143: =IF(N143="znížená",J143,0) -> 0 | BG143: =IF(N143="zákl. prenesená",J143,0) -> 0 | BH143: =IF(N143="zníž. prenesená",J143,0) -> 0 | BI143: =IF(N143="nulová",J143,0) -> 0 | BJ143: 2 | BK143: =ROUND(I143*H143,2) -> 0 | BL143: 4 | BM143: 2049675087
C144: 21 | D144: K | E144: 21.1 | F144: Rekonštrukcia číselného ciferníka a vymedzovacích kruhov | G144: sub | H144: 1 | J144: =ROUND(I144*H144,2) -> 0 | N144: znížená | P144: =O144*H144 -> 0 | Q144: 0 | R144: =Q144*H144 -> 0 | S144: 0 | T144: =S144*H144 -> 0 | AR144: 4 | AT144: K | AU144: 2 | AY144: ROZPOCET | BE144: =IF(N144="základná",J144,0) -> 0 | BF144: =IF(N144="znížená",J144,0) -> 0 | BG144: =IF(N144="zákl. prenesená",J144,0) -> 0 | BH144: =IF(N144="zníž. prenesená",J144,0) -> 0 | BI144: =IF(N144="nulová",J144,0) -> 0 | BJ144: 2 | BK144: =ROUND(I144*H144,2) -> 0 | BL144: 4 | BM144: -1199560161
C145: 22 | D145: K | E145: 22.1 | F145: V prípade nálezu vyzlátenie kovových ručičiek | G145: sub | H145: 1 | J145: =ROUND(I145*H145,2) -> 0 | N145: znížená | P145: =O145*H145 -> 0 | Q145: 0 | R145: =Q145*H145 -> 0 | S145: 0 | T145: =S145*H145 -> 0 | AR145: 4 | AT145: K | AU145: 2 | AY145: ROZPOCET | BE145: =IF(N145="základná",J145,0) -> 0 | BF145: =IF(N145="znížená",J145,0) -> 0 | BG145: =IF(N145="zákl. prenesená",J145,0) -> 0 | BH145: =IF(N145="zníž. prenesená",J145,0) -> 0 | BI145: =IF(N145="nulová",J145,0) -> 0 | BJ145: 2 | BK145: =ROUND(I145*H145,2) -> 0 | BL145: 4 | BM145: 1489536838
C146: 23 | D146: K | E146: 23.1 | F146: Kompletná reštaurátorská dokumentácia | G146: sub | H146: 1 | J146: =ROUND(I146*H146,2) -> 0 | N146: znížená | P146: =O146*H146 -> 0 | Q146: 0 | R146: =Q146*H146 -> 0 | S146: 0 | T146: =S146*H146 -> 0 | AR146: 4 | AT146: K | AU146: 2 | AY146: ROZPOCET | BE146: =IF(N146="základná",J146,0) -> 0 | BF146: =IF(N146="znížená",J146,0) -> 0 | BG146: =IF(N146="zákl. prenesená",J146,0) -> 0 | BH146: =IF(N146="zníž. prenesená",J146,0) -> 0 | BI146: =IF(N146="nulová",J146,0) -> 0 | BJ146: 2 | BK146: =ROUND(I146*H146,2) -> 0 | BL146: 4 | BM146: 1459100536
D147: D | E147: D3 | F147: Vnútorný tympanón zo strany nádvoria (cca 26 m2) | J147: =BK147 -> 0 | P147: =SUM(P148:P159) -> 0 | R147: =SUM(R148:R159) -> 0 | T147: =SUM(T148:T159) -> 0 | AR147: 1 | AT147: D | AU147: 1 | AY147: ROZPOCET | BK147: =SUM(BK148:BK159) -> 0
C148: 24 | D148: K | E148: 24.1 | F148: Počiatočná fotografická a grafická dokumentácia | G148: sub | H148: 1 | J148: =ROUND(I148*H148,2) -> 0 | N148: znížená | P148: =O148*H148 -> 0 | Q148: 0 | R148: =Q148*H148 -> 0 | S148: 0 | T148: =S148*H148 -> 0 | AR148: 4 | AT148: K | AU148: 2 | AY148: ROZPOCET | BE148: =IF(N148="základná",J148,0) -> 0 | BF148: =IF(N148="znížená",J148,0) -> 0 | BG148: =IF(N148="zákl. prenesená",J148,0) -> 0 | BH148: =IF(N148="zníž. prenesená",J148,0) -> 0 | BI148: =IF(N148="nulová",J148,0) -> 0 | BJ148: 2 | BK148: =ROUND(I148*H148,2) -> 0 | BL148: 4 | BM148: -2055223210
C149: 25 | D149: K | E149: 25 | F149: Odstránenie depozitu a povrchových nečistôt | G149: sub | H149: 1 | J149: =ROUND(I149*H149,2) -> 0 | N149: znížená | P149: =O149*H149 -> 0 | Q149: 0 | R149: =Q149*H149 -> 0 | S149: 0 | T149: =S149*H149 -> 0 | AR149: 4 | AT149: K | AU149: 2 | AY149: ROZPOCET | BE149: =IF(N149="základná",J149,0) -> 0 | BF149: =IF(N149="znížená",J149,0) -> 0 | BG149: =IF(N149="zákl. prenesená",J149,0) -> 0 | BH149: =IF(N149="zníž. prenesená",J149,0) -> 0 | BI149: =IF(N149="nulová",J149,0) -> 0 | BJ149: 2 | BK149: =ROUND(I149*H149,2) -> 0 | BL149: 4 | BM149: 1384308622
C150: 26 | D150: K | E150: 26 | F150: Hĺbkové záchranné upevňovanie | G150: sub | H150: 1 | J150: =ROUND(I150*H150,2) -> 0 | N150: znížená | P150: =O150*H150 -> 0 | Q150: 0 | R150: =Q150*H150 -> 0 | S150: 0 | T150: =S150*H150 -> 0 | AR150: 4 | AT150: K | AU150: 2 | AY150: ROZPOCET | BE150: =IF(N150="základná",J150,0) -> 0 | BF150: =IF(N150="znížená",J150,0) -> 0 | BG150: =IF(N150="zákl. prenesená",J150,0) -> 0 | BH150: =IF(N150="zníž. prenesená",J150,0) -> 0 | BI150: =IF(N150="nulová",J150,0) -> 0 | BJ150: 2 | BK150: =ROUND(I150*H150,2) -> 0 | BL150: 4 | BM150: -1417026345
C151: 27 | D151: K | E151: 27 | F151: Povrchové upevňovanie | G151: sub | H151: 1 | J151: =ROUND(I151*H151,2) -> 0 | N151: znížená | P151: =O151*H151 -> 0 | Q151: 0 | R151: =Q151*H151 -> 0 | S151: 0 | T151: =S151*H151 -> 0 | AR151: 4 | AT151: K | AU151: 2 | AY151: ROZPOCET | BE151: =IF(N151="základná",J151,0) -> 0 | BF151: =IF(N151="znížená",J151,0) -> 0 | BG151: =IF(N151="zákl. prenesená",J151,0) -> 0 | BH151: =IF(N151="zníž. prenesená",J151,0) -> 0 | BI151: =IF(N151="nulová",J151,0) -> 0 | BJ151: 2 | BK151: =ROUND(I151*H151,2) -> 0 | BL151: 4 | BM151: 607976266
C152: 28 | D152: K | E152: 28 | F152: Odstránenie nevhodných sekundárnych plomb až na pevný podklad | G152: sub | H152: 1 | J152: =ROUND(I152*H152,2) -> 0 | N152: znížená | P152: =O152*H152 -> 0 | Q152: 0 | R152: =Q152*H152 -> 0 | S152: 0 | T152: =S152*H152 -> 0 | AR152: 4 | AT152: K | AU152: 2 | AY152: ROZPOCET | BE152: =IF(N152="základná",J152,0) -> 0 | BF152: =IF(N152="znížená",J152,0) -> 0 | BG152: =IF(N152="zákl. prenesená",J152,0) -> 0 | BH152: =IF(N152="zníž. prenesená",J152,0) -> 0 | BI152: =IF(N152="nulová",J152,0) -> 0 | BJ152: 2 | BK152: =ROUND(I152*H152,2) -> 0 | BL152: 4 | BM152: -818353621
C153: 29 | D153: K | E153: 29 | F153: Niekoľkonásobné spevňovacie nástreky | G153: sub | H153: 1 | J153: =ROUND(I153*H153,2) -> 0 | N153: znížená | P153: =O153*H153 -> 0 | Q153: 0 | R153: =Q153*H153 -> 0 | S153: 0 | T153: =S153*H153 -> 0 | AR153: 4 | AT153: K | AU153: 2 | AY153: ROZPOCET | BE153: =IF(N153="základná",J153,0) -> 0 | BF153: =IF(N153="znížená",J153,0) -> 0 | BG153: =IF(N153="zákl. prenesená",J153,0) -> 0 | BH153: =IF(N153="zníž. prenesená",J153,0) -> 0 | BI153: =IF(N153="nulová",J153,0) -> 0 | BJ153: 2 | BK153: =ROUND(I153*H153,2) -> 0 | BL153: 4 | BM153: -2081834513
C154: 30 | D154: K | E154: 30 | F154: Doplnenie chýbajúcich omietkových vrstiev - plombovanie | G154: sub | H154: 1 | J154: =ROUND(I154*H154,2) -> 0 | N154: znížená | P154: =O154*H154 -> 0 | Q154: 0 | R154: =Q154*H154 -> 0 | S154: 0 | T154: =S154*H154 -> 0 | AR154: 4 | AT154: K | AU154: 2 | AY154: ROZPOCET | BE154: =IF(N154="základná",J154,0) -> 0 | BF154: =IF(N154="znížená",J154,0) -> 0 | BG154: =IF(N154="zákl. prenesená",J154,0) -> 0 | BH154: =IF(N154="zníž. prenesená",J154,0) -> 0 | BI154: =IF(N154="nulová",J154,0) -> 0 | BJ154: 2 | BK154: =ROUND(I154*H154,2) -> 0 | BL154: 4 | BM154: -1602529941
C155: 31 | D155: K | E155: 31 | F155: Aplikácia farebného neutrálneho podkladu | G155: sub | H155: 1 | J155: =ROUND(I155*H155,2) -> 0 | N155: znížená | P155: =O155*H155 -> 0 | Q155: 0 | R155: =Q155*H155 -> 0 | S155: 0 | T155: =S155*H155 -> 0 | AR155: 4 | AT155: K | AU155: 2 | AY155: ROZPOCET | BE155: =IF(N155="základná",J155,0) -> 0 | BF155: =IF(N155="znížená",J155,0) -> 0 | BG155: =IF(N155="zákl. prenesená",J155,0) -> 0 | BH155: =IF(N155="zníž. prenesená",J155,0) -> 0 | BI155: =IF(N155="nulová",J155,0) -> 0 | BJ155: 2 | BK155: =ROUND(I155*H155,2) -> 0 | BL155: 4 | BM155: 648765970
C156: 32 | D156: K | E156: 32 | F156: Farebná sceľovacia retuš | G156: sub | H156: 1 | J156: =ROUND(I156*H156,2) -> 0 | N156: znížená | P156: =O156*H156 -> 0 | Q156: 0 | R156: =Q156*H156 -> 0 | S156: 0 | T156: =S156*H156 -> 0 | AR156: 4 | AT156: K | AU156: 2 | AY156: ROZPOCET | BE156: =IF(N156="základná",J156,0) -> 0 | BF156: =IF(N156="znížená",J156,0) -> 0 | BG156: =IF(N156="zákl. prenesená",J156,0) -> 0 | BH156: =IF(N156="zníž. prenesená",J156,0) -> 0 | BI156: =IF(N156="nulová",J156,0) -> 0 | BJ156: 2 | BK156: =ROUND(I156*H156,2) -> 0 | BL156: 4 | BM156: -1191111827
C157: 33 | D157: K | E157: 33 | F157: Záverečný ochranný nástrek | G157: sub | H157: 1 | J157: =ROUND(I157*H157,2) -> 0 | N157: znížená | P157: =O157*H157 -> 0 | Q157: 0 | R157: =Q157*H157 -> 0 | S157: 0 | T157: =S157*H157 -> 0 | AR157: 4 | AT157: K | AU157: 2 | AY157: ROZPOCET | BE157: =IF(N157="základná",J157,0) -> 0 | BF157: =IF(N157="znížená",J157,0) -> 0 | BG157: =IF(N157="zákl. prenesená",J157,0) -> 0 | BH157: =IF(N157="zníž. prenesená",J157,0) -> 0 | BI157: =IF(N157="nulová",J157,0) -> 0 | BJ157: 2 | BK157: =ROUND(I157*H157,2) -> 0 | BL157: 4 | BM157: 515017409
C158: 34 | D158: K | E158: 34 | F158: Kompletná reštaurátorská dokumentácia | G158: sub | H158: 1 | J158: =ROUND(I158*H158,2) -> 0 | N158: znížená | P158: =O158*H158 -> 0 | Q158: 0 | R158: =Q158*H158 -> 0 | S158: 0 | T158: =S158*H158 -> 0 | AR158: 4 | AT158: K | AU158: 2 | AY158: ROZPOCET | BE158: =IF(N158="základná",J158,0) -> 0 | BF158: =IF(N158="znížená",J158,0) -> 0 | BG158: =IF(N158="zákl. prenesená",J158,0) -> 0 | BH158: =IF(N158="zníž. prenesená",J158,0) -> 0 | BI158: =IF(N158="nulová",J158,0) -> 0 | BJ158: 2 | BK158: =ROUND(I158*H158,2) -> 0 | BL158: 4 | BM158: -1826728013
C159: 35 | D159: K | E159: 35 | F159: Montáž, prenájom a demontáž lešenia | G159: sub | H159: 1 | J159: =ROUND(I159*H159,2) -> 0 | N159: znížená | P159: =O159*H159 -> 0 | Q159: 0 | R159: =Q159*H159 -> 0 | S159: 0 | T159: =S159*H159 -> 0 | AR159: 4 | AT159: K | AU159: 2 | AY159: ROZPOCET | BE159: =IF(N159="základná",J159,0) -> 0 | BF159: =IF(N159="znížená",J159,0) -> 0 | BG159: =IF(N159="zákl. prenesená",J159,0) -> 0 | BH159: =IF(N159="zníž. prenesená",J159,0) -> 0 | BI159: =IF(N159="nulová",J159,0) -> 0 | BJ159: 2 | BK159: =ROUND(I159*H159,2) -> 0 | BL159: 4 | BM159: 1427205803

Sheet 2025-03 - SO-01 - elektro...
AT2: {c2af8f97-6cc4-4c44-9caf-6a7a28acee5c}
AT3: 0
D4: KRYCÍ LIST ROZPOČTU | M4: v --- nižšie sa nachádzajú doplnkové a pomocné údaje k zostavám --- v | AT4: False
D6: Stavba:
E7: ='Rekapitulácia stavby'!K6 -> Obnova vybraných častí NKP Kaštieľ,Múzeum vo Svätom Antone
D8: Objekt:
E9: 2025/03 - SO-01 - elektroinštalácia
D11: JKSO: | I11: ČS:
D12: Miesto: | I12: Dátum: | J12: ='Rekapitulácia stavby'!AN8 -> 24. 7. 2026
D14: Objednávateľ: | I14: IČO: | J14: =IF('Rekapitulácia stavby'!AN10="","",'Rekapitulácia stavby'!AN10)
E15: =IF('Rekapitulácia stavby'!E11="","",'Rekapitulácia stavby'!E11) -> Múzeum vo Sv.Antone, Svätý Anton č. 291, 969 72 | I15: IČ DPH: | J15: =IF('Rekapitulácia stavby'!AN11="","",'Rekapitulácia stavby'!AN11)
D17: Zhotoviteľ: | I17: IČO: | J17: ='Rekapitulácia stavby'!AN13 -> Vyplň údaj
E18: ='Rekapitulácia stavby'!E14 -> Vyplň údaj | I18: IČ DPH: | J18: ='Rekapitulácia stavby'!AN14 -> Vyplň údaj
D20: Projektant: | I20: IČO: | J20: =IF('Rekapitulácia stavby'!AN16="","",'Rekapitulácia stavby'!AN16)
E21: =IF('Rekapitulácia stavby'!E17="","",'Rekapitulácia stavby'!E17) -> Ing.arch.Adriana Zorvanová | I21: IČ DPH: | J21: =IF('Rekapitulácia stavby'!AN17="","",'Rekapitulácia stavby'!AN17)
D23: Spracovateľ: | I23: IČO: | J23: =IF('Rekapitulácia stavby'!AN19="","",'Rekapitulácia stavby'!AN19)
E24: =IF('Rekapitulácia stavby'!E20="","",'Rekapitulácia stavby'!E20) | I24: IČ DPH: | J24: =IF('Rekapitulácia stavby'!AN20="","",'Rekapitulácia stavby'!AN20)
D26: Poznámka:
D30: Cena bez DPH | J30: =ROUND(J123, 2) -> 0
F32: Základ dane | I32: Sadzba dane | J32: Výška dane
D33: DPH | E33: základná | F33: =ROUND((SUM(BE123:BE190)), 2) -> 0 | I33: 0.23 | J33: =ROUND(((SUM(BE123:BE190))*I33), 2) -> 0
E34: znížená | F34: =ROUND((SUM(BF123:BF190)), 2) -> 0 | I34: 0.23 | J34: =ROUND(((SUM(BF123:BF190))*I34), 2) -> 0
E35: zákl. prenesená | F35: =ROUND((SUM(BG123:BG190)), 2) -> 0 | I35: 0.23 | J35: =0 -> 0
E36: zníž. prenesená | F36: =ROUND((SUM(BH123:BH190)), 2) -> 0 | I36: 0.23 | J36: =0 -> 0
E37: nulová | F37: =ROUND((SUM(BI123:BI190)), 2) -> 0 | I37: 0 | J37: =0 -> 0
D39: Cena s DPH | G39: v | H39: EUR | J39: =SUM(J30:J37) -> 0
D50: Projektant | G50: Spracovateľ
D61: Dátum a podpis: | F61: Pečiatka | G61: Dátum a podpis: | J61: Pečiatka
D65: Objednávateľ | G65: Zhotoviteľ
D76: Dátum a podpis: | F76: Pečiatka | G76: Dátum a podpis: | J76: Pečiatka
C82: REKAPITULÁCIA ROZPOČTU
C84: Stavba:
E85: =E7 -> Obnova vybraných častí NKP Kaštieľ,Múzeum vo Svätom Antone
C86: Objekt:
E87: =E9 -> 2025/03 - SO-01 - elektroinštalácia
C89: Miesto: | F89: =F12 | I89: Dátum: | J89: =IF(J12="","",J12) -> 24. 7. 2026
C91: Objednávateľ: | F91: =E15 -> Múzeum vo Sv.Antone, Svätý Anton č. 291, 969 72 | I91: Projektant: | J91: =E21 -> Ing.arch.Adriana Zorvanová
C92: Zhotoviteľ: | F92: =IF(E18="","",E18) -> Vyplň údaj | I92: Spracovateľ: | J92: =E24
C94: Kód dielu - Popis | J94: Cena celkom [EUR]
C96: Náklady z rozpočtu | J96: =J123 -> 0 | AU96: -1
D97: D1 - Rozvádzače | J97: =J124 -> 0
D98: D2 - Celkom Rozvádzače – práce a dodávky: | J98: =J129 -> 0
D99: D3 - Hrubá montáž | J99: =J130 -> 0
D100: D4 - Celkom Hrubá montáž – práce a dodávky: | J100: =J160 -> 0
D101: D5 - Kompletáž | J101: =J161 -> 0
D102: D6 - Celkom Kompletáž – práce a dodávky: | J102: =J185 -> 0
D103: D7 - Výmena skorodovaných svoriek | J103: =J186 -> 0
C110: ROZPOČET
C112: Stavba:
E113: =E7 -> Obnova vybraných častí NKP Kaštieľ,Múzeum vo Svätom Antone
C114: Objekt:
E115: =E9 -> 2025/03 - SO-01 - elektroinštalácia
C117: Miesto: | F117: =F12 | I117: Dátum: | J117: =IF(J12="","",J12) -> 24. 7. 2026
C119: Objednávateľ: | F119: =E15 -> Múzeum vo Sv.Antone, Svätý Anton č. 291, 969 72 | I119: Projektant: | J119: =E21 -> Ing.arch.Adriana Zorvanová
C120: Zhotoviteľ: | F120: =IF(E18="","",E18) -> Vyplň údaj | I120: Spracovateľ: | J120: =E24
C122: PČ | D122: Typ | E122: Kód | F122: Popis | G122: MJ | H122: Množstvo | I122: J.cena [EUR] | J122: Cena celkom [EUR] | K122: Cenová sústava | N122: DPH | O122: J. Nh [h] | P122: Nh celkom [h] | Q122: J. hmotnosť [t] | R122: Hmotnosť celkom [t] | S122: J. suť [t] | T122: Suť Celkom [t]
C123: Náklady z rozpočtu | J123: =BK123 -> 0 | P123: =P124+P129+P130+P160+P161+P185+P186 -> 0 | R123: =R124+R129+R130+R160+R161+R185+R186 -> 0 | T123: =T124+T129+T130+T160+T161+T185+T186 -> 0 | AT123: D | AU123: -1 | BK123: =BK124+BK129+BK130+BK160+BK161+BK185+BK186 -> 0
D124: D | E124: D1 | F124: Rozvádzače | J124: =BK124 -> 0 | P124: =SUM(P125:P128) -> 0 | R124: =SUM(R125:R128) -> 0 | T124: =SUM(T125:T128) -> 0 | AR124: 1 | AT124: D | AU124: 0 | AY124: ROZPOCET | BK124: =SUM(BK125:BK128) -> 0
C125: 1 | D125: K | E125: Pol1 | F125: Rozvádzač RT podľa schémy na výkrese č. 04 | G125: ks | H125: 1 | J125: =ROUND(I125*H125,2) -> 0 | N125: znížená | P125: =O125*H125 -> 0 | Q125: 0 | R125: =Q125*H125 -> 0 | S125: 0 | T125: =S125*H125 -> 0 | AR125: 4 | AT125: K | AU125: 1 | AY125: ROZPOCET | BE125: =IF(N125="základná",J125,0) -> 0 | BF125: =IF(N125="znížená",J125,0) -> 0 | BG125: =IF(N125="zákl. prenesená",J125,0) -> 0 | BH125: =IF(N125="zníž. prenesená",J125,0) -> 0 | BI125: =IF(N125="nulová",J125,0) -> 0 | BJ125: 2 | BK125: =ROUND(I125*H125,2) -> 0 | BL125: 4 | BM125: 2
C126: 2 | D126: K | E126: Pol2 | F126: Rozvádzač RPE podľa schémy na výkrese č. 03 | G126: ks | H126: 1 | J126: =ROUND(I126*H126,2) -> 0 | N126: znížená | P126: =O126*H126 -> 0 | Q126: 0 | R126: =Q126*H126 -> 0 | S126: 0 | T126: =S126*H126 -> 0 | AR126: 4 | AT126: K | AU126: 1 | AY126: ROZPOCET | BE126: =IF(N126="základná",J126,0) -> 0 | BF126: =IF(N126="znížená",J126,0) -> 0 | BG126: =IF(N126="zákl. prenesená",J126,0) -> 0 | BH126: =IF(N126="zníž. prenesená",J126,0) -> 0 | BI126: =IF(N126="nulová",J126,0) -> 0 | BJ126: 2 | BK126: =ROUND(I126*H126,2) -> 0 | BL126: 4 | BM126: 4
C127: 3 | D127: K | E127: Pol3 | F127: Doplnenie do rozvádzača Rx podľa schémy na výkrese č. 05 | G127: ks | H127: 1 | J127: =ROUND(I127*H127,2) -> 0 | N127: znížená | P127: =O127*H127 -> 0 | Q127: 0 | R127: =Q127*H127 -> 0 | S127: 0 | T127: =S127*H127 -> 0 | AR127: 4 | AT127: K | AU127: 1 | AY127: ROZPOCET | BE127: =IF(N127="základná",J127,0) -> 0 | BF127: =IF(N127="znížená",J127,0) -> 0 | BG127: =IF(N127="zákl. prenesená",J127,0) -> 0 | BH127: =IF(N127="zníž. prenesená",J127,0) -> 0 | BI127: =IF(N127="nulová",J127,0) -> 0 | BJ127: 2 | BK127: =ROUND(I127*H127,2) -> 0 | BL127: 4 | BM127: 6
C128: 4 | D128: K | E128: Pol4 | F128: Doplnenie do rozvádzača RNN podľa schémy na výkrese č. 07 | G128: ks | H128: 1 | J128: =ROUND(I128*H128,2) -> 0 | N128: znížená | P128: =O128*H128 -> 0 | Q128: 0 | R128: =Q128*H128 -> 0 | S128: 0 | T128: =S128*H128 -> 0 | AR128: 4 | AT128: K | AU128: 1 | AY128: ROZPOCET | BE128: =IF(N128="základná",J128,0) -> 0 | BF128: =IF(N128="znížená",J128,0) -> 0 | BG128: =IF(N128="zákl. prenesená",J128,0) -> 0 | BH128: =IF(N128="zníž. prenesená",J128,0) -> 0 | BI128: =IF(N128="nulová",J128,0) -> 0 | BJ128: 2 | BK128: =ROUND(I128*H128,2) -> 0 | BL128: 4 | BM128: 8
D129: D | E129: D2 | F129: Celkom Rozvádzače – práce a dodávky: | J129: =BK129 -> 0 | P129: 0 | R129: 0 | T129: 0 | AR129: 1 | AT129: D | AU129: 0 | AY129: ROZPOCET | BK129: 0
D130: D | E130: D3 | F130: Hrubá montáž | J130: =BK130 -> 0 | P130: =SUM(P131:P159) -> 0 | R130: =SUM(R131:R159) -> 0 | T130: =SUM(T131:T159) -> 0 | AR130: 1 | AT130: D | AU130: 0 | AY130: ROZPOCET | BK130: =SUM(BK131:BK159) -> 0
C131: 4 | D131: K | E131: Pol5 | F131: Krabica KP 68 | G131: ks | H131: 183 | J131: =ROUND(I131*H131,2) -> 0 | N131: znížená | P131: =O131*H131 -> 0 | Q131: 0 | R131: =Q131*H131 -> 0 | S131: 0 | T131: =S131*H131 -> 0 | AR131: 4 | AT131: K | AU131: 1 | AY131: ROZPOCET | BE131: =IF(N131="základná",J131,0) -> 0 | BF131: =IF(N131="znížená",J131,0) -> 0 | BG131: =IF(N131="zákl. prenesená",J131,0) -> 0 | BH131: =IF(N131="zníž. prenesená",J131,0) -> 0 | BI131: =IF(N131="nulová",J131,0) -> 0 | BJ131: 2 | BK131: =ROUND(I131*H131,2) -> 0 | BL131: 4 | BM131: 10
C132: 5 | D132: K | E132: Pol6 | F132: Vodič medený CYA 6 žltozelený | G132: m | H132: 850 | J132: =ROUND(I132*H132,2) -> 0 | N132: znížená | P132: =O132*H132 -> 0 | Q132: 0 | R132: =Q132*H132 -> 0 | S132: 0 | T132: =S132*H132 -> 0 | AR132: 4 | AT132: K | AU132: 1 | AY132: ROZPOCET | BE132: =IF(N132="základná",J132,0) -> 0 | BF132: =IF(N132="znížená",J132,0) -> 0 | BG132: =IF(N132="zákl. prenesená",J132,0) -> 0 | BH132: =IF(N132="zníž. prenesená",J132,0) -> 0 | BI132: =IF(N132="nulová",J132,0) -> 0 | BJ132: 2 | BK132: =ROUND(I132*H132,2) -> 0 | BL132: 4 | BM132: 12
C133: 6 | D133: K | E133: Pol7 | F133: Vodič medený CYA 16 žltozelený | G133: m | H133: 450 | J133: =ROUND(I133*H133,2) -> 0 | N133: znížená | P133: =O133*H133 -> 0 | Q133: 0 | R133: =Q133*H133 -> 0 | S133: 0 | T133: =S133*H133 -> 0 | AR133: 4 | AT133: K | AU133: 1 | AY133: ROZPOCET | BE133: =IF(N133="základná",J133,0) -> 0 | BF133: =IF(N133="znížená",J133,0) -> 0 | BG133: =IF(N133="zákl. prenesená",J133,0) -> 0 | BH133: =IF(N133="zníž. prenesená",J133,0) -> 0 | BI133: =IF(N133="nulová",J133,0) -> 0 | BJ133: 2 | BK133: =ROUND(I133*H133,2) -> 0 | BL133: 4 | BM133: 14
C134: 7 | D134: K | E134: Pol8 | F134: Kábel silový medený CYKY-J 3x1,5 | G134: m | H134: 1250 | J134: =ROUND(I134*H134,2) -> 0 | N134: znížená | P134: =O134*H134 -> 0 | Q134: 0 | R134: =Q134*H134 -> 0 | S134: 0 | T134: =S134*H134 -> 0 | AR134: 4 | AT134: K | AU134: 1 | AY134: ROZPOCET | BE134: =IF(N134="základná",J134,0) -> 0 | BF134: =IF(N134="znížená",J134,0) -> 0 | BG134: =IF(N134="zákl. prenesená",J134,0) -> 0 | BH134: =IF(N134="zníž. prenesená",J134,0) -> 0 | BI134: =IF(N134="nulová",J134,0) -> 0 | BJ134: 2 | BK134: =ROUND(I134*H134,2) -> 0 | BL134: 4 | BM134: 16
C135: 8 | D135: K | E135: Pol9 | F135: Kábel silový medený CYKY-O 3x1,5 | G135: m | H135: 750 | J135: =ROUND(I135*H135,2) -> 0 | N135: znížená | P135: =O135*H135 -> 0 | Q135: 0 | R135: =Q135*H135 -> 0 | S135: 0 | T135: =S135*H135 -> 0 | AR135: 4 | AT135: K | AU135: 1 | AY135: ROZPOCET | BE135: =IF(N135="základná",J135,0) -> 0 | BF135: =IF(N135="znížená",J135,0) -> 0 | BG135: =IF(N135="zákl. prenesená",J135,0) -> 0 | BH135: =IF(N135="zníž. prenesená",J135,0) -> 0 | BI135: =IF(N135="nulová",J135,0) -> 0 | BJ135: 2 | BK135: =ROUND(I135*H135,2) -> 0 | BL135: 4 | BM135: 18
C136: 9 | D136: K | E136: Pol10 | F136: Kábel silový medený CYKY-J 5x1,5 | G136: m | H136: 500 | J136: =ROUND(I136*H136,2) -> 0 | N136: znížená | P136: =O136*H136 -> 0 | Q136: 0 | R136: =Q136*H136 -> 0 | S136: 0 | T136: =S136*H136 -> 0 | AR136: 4 | AT136: K | AU136: 1 | AY136: ROZPOCET | BE136: =IF(N136="základná",J136,0) -> 0 | BF136: =IF(N136="znížená",J136,0) -> 0 | BG136: =IF(N136="zákl. prenesená",J136,0) -> 0 | BH136: =IF(N136="zníž. prenesená",J136,0) -> 0 | BI136: =IF(N136="nulová",J136,0) -> 0 | BJ136: 2 | BK136: =ROUND(I136*H136,2) -> 0 | BL136: 4 | BM136: 20
C137: 10 | D137: K | E137: Pol11 | F137: Kábel silový medený CYKY-J 3x2,5 | G137: m | H137: 1450 | J137: =ROUND(I137*H137,2) -> 0 | N137: znížená | P137: =O137*H137 -> 0 | Q137: 0 | R137: =Q137*H137 -> 0 | S137: 0 | T137: =S137*H137 -> 0 | AR137: 4 | AT137: K | AU137: 1 | AY137: ROZPOCET | BE137: =IF(N137="základná",J137,0) -> 0 | BF137: =IF(N137="znížená",J137,0) -> 0 | BG137: =IF(N137="zákl. prenesená",J137,0) -> 0 | BH137: =IF(N137="zníž. prenesená",J137,0) -> 0 | BI137: =IF(N137="nulová",J137,0) -> 0 | BJ137: 2 | BK137: =ROUND(I137*H137,2) -> 0 | BL137: 4 | BM137: 22
C138: 11 | D138: K | E138: Pol12 | F138: Kábel silový medený CYKY-J 5x6 | G138: m | H138: 150 | J138: =ROUND(I138*H138,2) -> 0 | N138: znížená | P138: =O138*H138 -> 0 | Q138: 0 | R138: =Q138*H138 -> 0 | S138: 0 | T138: =S138*H138 -> 0 | AR138: 4 | AT138: K | AU138: 1 | AY138: ROZPOCET | BE138: =IF(N138="základná",J138,0) -> 0 | BF138: =IF(N138="znížená",J138,0) -> 0 | BG138: =IF(N138="zákl. prenesená",J138,0) -> 0 | BH138: =IF(N138="zníž. prenesená",J138,0) -> 0 | BI138: =IF(N138="nulová",J138,0) -> 0 | BJ138: 2 | BK138: =ROUND(I138*H138,2) -> 0 | BL138: 4 | BM138: 24
C139: 12 | D139: K | E139: Pol13 | F139: Kábel silový medený CYKY-J 5x16 | G139: m | H139: 75 | J139: =ROUND(I139*H139,2) -> 0 | N139: znížená | P139: =O139*H139 -> 0 | Q139: 0 | R139: =Q139*H139 -> 0 | S139: 0 | T139: =S139*H139 -> 0 | AR139: 4 | AT139: K | AU139: 1 | AY139: ROZPOCET | BE139: =IF(N139="základná",J139,0) -> 0 | BF139: =IF(N139="znížená",J139,0) -> 0 | BG139: =IF(N139="zákl. prenesená",J139,0) -> 0 | BH139: =IF(N139="zníž. prenesená",J139,0) -> 0 | BI139: =IF(N139="nulová",J139,0) -> 0 | BJ139: 2 | BK139: =ROUND(I139*H139,2) -> 0 | BL139: 4 | BM139: 26
C140: 13 | D140: K | E140: Pol14 | F140: Kábel silový medený AYKY-J 4x95 | G140: m | H140: 155 | J140: =ROUND(I140*H140,2) -> 0 | N140: znížená | P140: =O140*H140 -> 0 | Q140: 0 | R140: =Q140*H140 -> 0 | S140: 0 | T140: =S140*H140 -> 0 | AR140: 4 | AT140: K | AU140: 1 | AY140: ROZPOCET | BE140: =IF(N140="základná",J140,0) -> 0 | BF140: =IF(N140="znížená",J140,0) -> 0 | BG140: =IF(N140="zákl. prenesená",J140,0) -> 0 | BH140: =IF(N140="zníž. prenesená",J140,0) -> 0 | BI140: =IF(N140="nulová",J140,0) -> 0 | BJ140: 2 | BK140: =ROUND(I140*H140,2) -> 0 | BL140: 4 | BM140: 28
C141: 12 | D141: K | E141: Pol15 | F141: Káblová príchytka kovová | G141: ks | H141: 1250 | J141: =ROUND(I141*H141,2) -> 0 | N141: znížená | P141: =O141*H141 -> 0 | Q141: 0 | R141: =Q141*H141 -> 0 | S141: 0 | T141: =S141*H141 -> 0 | AR141: 4 | AT141: K | AU141: 1 | AY141: ROZPOCET | BE141: =IF(N141="základná",J141,0) -> 0 | BF141: =IF(N141="znížená",J141,0) -> 0 | BG141: =IF(N141="zákl. prenesená",J141,0) -> 0 | BH141: =IF(N141="zníž. prenesená",J141,0) -> 0 | BI141: =IF(N141="nulová",J141,0) -> 0 | BJ141: 2 | BK141: =ROUND(I141*H141,2) -> 0 | BL141: 4 | BM141: 30
C142: 13 | D142: K | E142: Pol16 | F142: Káblová príchytka plastová | G142: ks | H142: 950 | J142: =ROUND(I142*H142,2) -> 0 | N142: znížená | P142: =O142*H142 -> 0 | Q142: 0 | R142: =Q142*H142 -> 0 | S142: 0 | T142: =S142*H142 -> 0 | AR142: 4 | AT142: K | AU142: 1 | AY142: ROZPOCET | BE142: =IF(N142="základná",J142,0) -> 0 | BF142: =IF(N142="znížená",J142,0) -> 0 | BG142: =IF(N142="zákl. prenesená",J142,0) -> 0 | BH142: =IF(N142="zníž. prenesená",J142,0) -> 0 | BI142: =IF(N142="nulová",J142,0) -> 0 | BJ142: 2 | BK142: =ROUND(I142*H142,2) -> 0 | BL142: 4 | BM142: 32
... C159: 29 | D159: K | E159: Pol33 | F159: Sádra | G159: kg | H159: 80 | J159: =ROUND(I159*H159,2) -> 0 | N159: znížená | P159: =O159*H159 -> 0 | Q159: 0 | R159: =Q159*H159 -> 0 | S159: 0 | T159: =S159*H159 -> 0 | AR159: 4 | AT159: K | AU159: 1 | AY159: ROZPOCET | BE159: =IF(N159="základná",J159,0) -> 0 | BF159: =IF(N159="znížená",J159,0) -> 0 | BG159: =IF(N159="zákl. prenesená",J159,0) -> 0 | BH159: =IF(N159="zníž. prenesená",J159,0) -> 0 | BI159: =IF(N159="nulová",J159,0) -> 0 | BJ159: 2 | BK159: =ROUND(I159*H159,2) -> 0 | BL159: 4 | BM159: 66
D160: D | E160: D4 | F160: Celkom Hrubá montáž – práce a dodávky: | J160: =BK160 -> 0 | P160: 0 | R160: 0 | T160: 0 | AR160: 1 | AT160: D | AU160: 0 | AY160: ROZPOCET | BK160: 0
D161: D | E161: D5 | F161: Kompletáž | J161: =BK161 -> 0 | P161: =SUM(P162:P184) -> 0 | R161: =SUM(R162:R184) -> 0 | T161: =SUM(T162:T184) -> 0 | AR161: 1 | AT161: D | AU161: 0 | AY161: ROZPOCET | BK161: =SUM(BK162:BK184) -> 0
C162: 30 | D162: K | E162: Pol34 | F162: Jednopólový vypínač vypínač IP 20 (komplet) | G162: ks | H162: 3 | J162: =ROUND(I162*H162,2) -> 0 | N162: znížená | P162: =O162*H162 -> 0 | Q162: 0 | R162: =Q162*H162 -> 0 | S162: 0 | T162: =S162*H162 -> 0 | AR162: 4 | AT162: K | AU162: 1 | AY162: ROZPOCET | BE162: =IF(N162="základná",J162,0) -> 0 | BF162: =IF(N162="znížená",J162,0) -> 0 | BG162: =IF(N162="zákl. prenesená",J162,0) -> 0 | BH162: =IF(N162="zníž. prenesená",J162,0) -> 0 | BI162: =IF(N162="nulová",J162,0) -> 0 | BJ162: 2 | BK162: =ROUND(I162*H162,2) -> 0 | BL162: 4 | BM162: 68
C163: 31 | D163: K | E163: Pol35 | F163: Striedavý vypínač IP 20 (komplet) | G163: ks | H163: 34 | J163: =ROUND(I163*H163,2) -> 0 | N163: znížená | P163: =O163*H163 -> 0 | Q163: 0 | R163: =Q163*H163 -> 0 | S163: 0 | T163: =S163*H163 -> 0 | AR163: 4 | AT163: K | AU163: 1 | AY163: ROZPOCET | BE163: =IF(N163="základná",J163,0) -> 0 | BF163: =IF(N163="znížená",J163,0) -> 0 | BG163: =IF(N163="zákl. prenesená",J163,0) -> 0 | BH163: =IF(N163="zníž. prenesená",J163,0) -> 0 | BI163: =IF(N163="nulová",J163,0) -> 0 | BJ163: 2 | BK163: =ROUND(I163*H163,2) -> 0 | BL163: 4 | BM163: 70
C164: 32 | D164: K | E164: Pol36 | F164: Krížový vypínač IP 20 (komplet) | G164: ks | H164: 5 | J164: =ROUND(I164*H164,2) -> 0 | N164: znížená | P164: =O164*H164 -> 0 | Q164: 0 | R164: =Q164*H164 -> 0 | S164: 0 | T164: =S164*H164 -> 0 | AR164: 4 | AT164: K | AU164: 1 | AY164: ROZPOCET | BE164: =IF(N164="základná",J164,0) -> 0 | BF164: =IF(N164="znížená",J164,0) -> 0 | BG164: =IF(N164="zákl. prenesená",J164,0) -> 0 | BH164: =IF(N164="zníž. prenesená",J164,0) -> 0 | BI164: =IF(N164="nulová",J164,0) -> 0 | BJ164: 2 | BK164: =ROUND(I164*H164,2) -> 0 | BL164: 4 | BM164: 72
C165: 33 | D165: K | E165: Pol37 | F165: Zásuvka biela - jednonásobná 240V/16A, IP20 (komplet) | G165: ks | H165: 141 | J165: =ROUND(I165*H165,2) -> 0 | N165: znížená | P165: =O165*H165 -> 0 | Q165: 0 | R165: =Q165*H165 -> 0 | S165: 0 | T165: =S165*H165 -> 0 | AR165: 4 | AT165: K | AU165: 1 | AY165: ROZPOCET | BE165: =IF(N165="základná",J165,0) -> 0 | BF165: =IF(N165="znížená",J165,0) -> 0 | BG165: =IF(N165="zákl. prenesená",J165,0) -> 0 | BH165: =IF(N165="zníž. prenesená",J165,0) -> 0 | BI165: =IF(N165="nulová",J165,0) -> 0 | BJ165: 2 | BK165: =ROUND(I165*H165,2) -> 0 | BL165: 4 | BM165: 74
C166: 34 | D166: K | E166: Pol38 | F166: A - LED svietidlo Lina45, 19.8W, 3000K, 1141x47x69 | G166: ks | H166: 27 | J166: =ROUND(I166*H166,2) -> 0 | N166: znížená | P166: =O166*H166 -> 0 | Q166: 0 | R166: =Q166*H166 -> 0 | S166: 0 | T166: =S166*H166 -> 0 | AR166: 4 | AT166: K | AU166: 1 | AY166: ROZPOCET | BE166: =IF(N166="základná",J166,0) -> 0 | BF166: =IF(N166="znížená",J166,0) -> 0 | BG166: =IF(N166="zákl. prenesená",J166,0) -> 0 | BH166: =IF(N166="zníž. prenesená",J166,0) -> 0 | BI166: =IF(N166="nulová",J166,0) -> 0 | BJ166: 2 | BK166: =ROUND(I166*H166,2) -> 0 | BL166: 4 | BM166: 76
C167: 35 | D167: K | E167: Pol39 | F167: B - LED svietidlo Rundo 24, 29.2W, 140l/W, 4000K, priemr 630 | G167: ks | H167: 19 | J167: =ROUND(I167*H167,2) -> 0 | N167: znížená | P167: =O167*H167 -> 0 | Q167: 0 | R167: =Q167*H167 -> 0 | S167: 0 | T167: =S167*H167 -> 0 | AR167: 4 | AT167: K | AU167: 1 | AY167: ROZPOCET | BE167: =IF(N167="základná",J167,0) -> 0 | BF167: =IF(N167="znížená",J167,0) -> 0 | BG167: =IF(N167="zákl. prenesená",J167,0) -> 0 | BH167: =IF(N167="zníž. prenesená",J167,0) -> 0 | BI167: =IF(N167="nulová",J167,0) -> 0 | BJ167: 2 | BK167: =ROUND(I167*H167,2) -> 0 | BL167: 4 | BM167: 78
C168: 36 | D168: K | E168: Pol40 | F168: B1 - LED svietidlo Rundo 24, 29.7W, 140l/W, 4000K, priemr 410 | G168: ks | H168: 6 | J168: =ROUND(I168*H168,2) -> 0 | N168: znížená | P168: =O168*H168 -> 0 | Q168: 0 | R168: =Q168*H168 -> 0 | S168: 0 | T168: =S168*H168 -> 0 | AR168: 4 | AT168: K | AU168: 1 | AY168: ROZPOCET | BE168: =IF(N168="základná",J168,0) -> 0 | BF168: =IF(N168="znížená",J168,0) -> 0 | BG168: =IF(N168="zákl. prenesená",J168,0) -> 0 | BH168: =IF(N168="zníž. prenesená",J168,0) -> 0 | BI168: =IF(N168="nulová",J168,0) -> 0 | BJ168: 2 | BK168: =ROUND(I168*H168,2) -> 0 | BL168: 4 | BM168: 80
C169: 36 | D169: K | E169: Pol41 | F169: C - Nástenné LED svietidlo, 12W, 950lm, IP20 | G169: ks | H169: 19 | J169: =ROUND(I169*H169,2) -> 0 | N169: znížená | P169: =O169*H169 -> 0 | Q169: 0 | R169: =Q169*H169 -> 0 | S169: 0 | T169: =S169*H169 -> 0 | AR169: 4 | AT169: K | AU169: 1 | AY169: ROZPOCET | BE169: =IF(N169="základná",J169,0) -> 0 | BF169: =IF(N169="znížená",J169,0) -> 0 | BG169: =IF(N169="zákl. prenesená",J169,0) -> 0 | BH169: =IF(N169="zníž. prenesená",J169,0) -> 0 | BI169: =IF(N169="nulová",J169,0) -> 0 | BJ169: 2 | BK169: =ROUND(I169*H169,2) -> 0 | BL169: 4 | BM169: 82
C170: 37 | D170: K | E170: Pol42 | F170: Svorka Bernard s pásikom | G170: ks | H170: 125 | J170: =ROUND(I170*H170,2) -> 0 | N170: znížená | P170: =O170*H170 -> 0 | Q170: 0 | R170: =Q170*H170 -> 0 | S170: 0 | T170: =S170*H170 -> 0 | AR170: 4 | AT170: K | AU170: 1 | AY170: ROZPOCET | BE170: =IF(N170="základná",J170,0) -> 0 | BF170: =IF(N170="znížená",J170,0) -> 0 | BG170: =IF(N170="zákl. prenesená",J170,0) -> 0 | BH170: =IF(N170="zníž. prenesená",J170,0) -> 0 | BI170: =IF(N170="nulová",J170,0) -> 0 | BJ170: 2 | BK170: =ROUND(I170*H170,2) -> 0 | BL170: 4 | BM170: 84
C171: 38 | D171: K | E171: Pol43 | F171: Svorka WAGO 2X1,5 | G171: ks | H171: 250 | J171: =ROUND(I171*H171,2) -> 0 | N171: znížená | P171: =O171*H171 -> 0 | Q171: 0 | R171: =Q171*H171 -> 0 | S171: 0 | T171: =S171*H171 -> 0 | AR171: 4 | AT171: K | AU171: 1 | AY171: ROZPOCET | BE171: =IF(N171="základná",J171,0) -> 0 | BF171: =IF(N171="znížená",J171,0) -> 0 | BG171: =IF(N171="zákl. prenesená",J171,0) -> 0 | BH171: =IF(N171="zníž. prenesená",J171,0) -> 0 | BI171: =IF(N171="nulová",J171,0) -> 0 | BJ171: 2 | BK171: =ROUND(I171*H171,2) -> 0 | BL171: 4 | BM171: 86
C172: 39 | D172: K | E172: Pol44 | F172: Svorka WAGO 3X1,5 | G172: ks | H172: 275 | J172: =ROUND(I172*H172,2) -> 0 | N172: znížená | P172: =O172*H172 -> 0 | Q172: 0 | R172: =Q172*H172 -> 0 | S172: 0 | T172: =S172*H172 -> 0 | AR172: 4 | AT172: K | AU172: 1 | AY172: ROZPOCET | BE172: =IF(N172="základná",J172,0) -> 0 | BF172: =IF(N172="znížená",J172,0) -> 0 | BG172: =IF(N172="zákl. prenesená",J172,0) -> 0 | BH172: =IF(N172="zníž. prenesená",J172,0) -> 0 | BI172: =IF(N172="nulová",J172,0) -> 0 | BJ172: 2 | BK172: =ROUND(I172*H172,2) -> 0 | BL172: 4 | BM172: 88
C173: 40 | D173: K | E173: Pol45 | F173: Svorka WAGO 4X1,5 | G173: ks | H173: 195 | J173: =ROUND(I173*H173,2) -> 0 | N173: znížená | P173: =O173*H173 -> 0 | Q173: 0 | R173: =Q173*H173 -> 0 | S173: 0 | T173: =S173*H173 -> 0 | AR173: 4 | AT173: K | AU173: 1 | AY173: ROZPOCET | BE173: =IF(N173="základná",J173,0) -> 0 | BF173: =IF(N173="znížená",J173,0) -> 0 | BG173: =IF(N173="zákl. prenesená",J173,0) -> 0 | BH173: =IF(N173="zníž. prenesená",J173,0) -> 0 | BI173: =IF(N173="nulová",J173,0) -> 0 | BJ173: 2 | BK173: =ROUND(I173*H173,2) -> 0 | BL173: 4 | BM173: 90
... C184: 51 | D184: K | E184: Pol56 | F184: Revízie elektro, certifikáty, vyhlásenia o zhode | G184: kpl | H184: 1 | J184: =ROUND(I184*H184,2) -> 0 | N184: znížená | P184: =O184*H184 -> 0 | Q184: 0 | R184: =Q184*H184 -> 0 | S184: 0 | T184: =S184*H184 -> 0 | AR184: 4 | AT184: K | AU184: 1 | AY184: ROZPOCET | BE184: =IF(N184="základná",J184,0) -> 0 | BF184: =IF(N184="znížená",J184,0) -> 0 | BG184: =IF(N184="zákl. prenesená",J184,0) -> 0 | BH184: =IF(N184="zníž. prenesená",J184,0) -> 0 | BI184: =IF(N184="nulová",J184,0) -> 0 | BJ184: 2 | BK184: =ROUND(I184*H184,2) -> 0 | BL184: 4 | BM184: 112
D185: D | E185: D6 | F185: Celkom Kompletáž – práce a dodávky: | J185: =BK185 -> 0 | P185: 0 | R185: 0 | T185: 0 | AR185: 1 | AT185: D | AU185: 0 | AY185: ROZPOCET | BK185: 0
D186: D | E186: D7 | F186: Výmena skorodovaných svoriek | J186: =BK186 -> 0 | P186: =SUM(P187:P190) -> 0 | R186: =SUM(R187:R190) -> 0 | T186: =SUM(T187:T190) -> 0 | AR186: 1 | AT186: D | AU186: 0 | AY186: ROZPOCET | BK186: =SUM(BK187:BK190) -> 0
C187: 52 | D187: K | E187: Pol57 | F187: Svorka SS | G187: ks | H187: 60 | J187: =ROUND(I187*H187,2) -> 0 | N187: znížená | P187: =O187*H187 -> 0 | Q187: 0 | R187: =Q187*H187 -> 0 | S187: 0 | T187: =S187*H187 -> 0 | AR187: 4 | AT187: K | AU187: 1 | AY187: ROZPOCET | BE187: =IF(N187="základná",J187,0) -> 0 | BF187: =IF(N187="znížená",J187,0) -> 0 | BG187: =IF(N187="zákl. prenesená",J187,0) -> 0 | BH187: =IF(N187="zníž. prenesená",J187,0) -> 0 | BI187: =IF(N187="nulová",J187,0) -> 0 | BJ187: 2 | BK187: =ROUND(I187*H187,2) -> 0 | BL187: 4 | BM187: 114
C188: 53 | D188: K | E188: Pol58 | F188: Svorka SO | G188: ks | H188: 18 | J188: =ROUND(I188*H188,2) -> 0 | N188: znížená | P188: =O188*H188 -> 0 | Q188: 0 | R188: =Q188*H188 -> 0 | S188: 0 | T188: =S188*H188 -> 0 | AR188: 4 | AT188: K | AU188: 1 | AY188: ROZPOCET | BE188: =IF(N188="základná",J188,0) -> 0 | BF188: =IF(N188="znížená",J188,0) -> 0 | BG188: =IF(N188="zákl. prenesená",J188,0) -> 0 | BH188: =IF(N188="zníž. prenesená",J188,0) -> 0 | BI188: =IF(N188="nulová",J188,0) -> 0 | BJ188: 2 | BK188: =ROUND(I188*H188,2) -> 0 | BL188: 4 | BM188: 116
C189: 54 | D189: K | E189: Pol59 | F189: Podružný materiál a podružná práca | G189: kpl | H189: 1 | J189: =ROUND(I189*H189,2) -> 0 | N189: znížená | P189: =O189*H189 -> 0 | Q189: 0 | R189: =Q189*H189 -> 0 | S189: 0 | T189: =S189*H189 -> 0 | AR189: 4 | AT189: K | AU189: 1 | AY189: ROZPOCET | BE189: =IF(N189="základná",J189,0) -> 0 | BF189: =IF(N189="znížená",J189,0) -> 0 | BG189: =IF(N189="zákl. prenesená",J189,0) -> 0 | BH189: =IF(N189="zníž. prenesená",J189,0) -> 0 | BI189: =IF(N189="nulová",J189,0) -> 0 | BJ189: 2 | BK189: =ROUND(I189*H189,2) -> 0 | BL189: 4 | BM189: 118
C190: 55 | D190: K | E190: Pol60 | F190: Prenájom plošiny do výšky 15m | G190: hod | H190: 30 | J190: =ROUND(I190*H190,2) -> 0 | N190: znížená | P190: =O190*H190 -> 0 | Q190: 0 | R190: =Q190*H190 -> 0 | S190: 0 | T190: =S190*H190 -> 0 | AR190: 4 | AT190: K | AU190: 1 | AY190: ROZPOCET | BE190: =IF(N190="základná",J190,0) -> 0 | BF190: =IF(N190="znížená",J190,0) -> 0 | BG190: =IF(N190="zákl. prenesená",J190,0) -> 0 | BH190: =IF(N190="zníž. prenesená",J190,0) -> 0 | BI190: =IF(N190="nulová",J190,0) -> 0 | BJ190: 2 | BK190: =ROUND(I190*H190,2) -> 0 | BL190: 4 | BM190: 120

Sheet 2025-04 - SO-01 - vzducho...
AT2: {d33e9c4d-ef52-4308-9a71-a05ad1f61cf1}
AT3: 0
D4: KRYCÍ LIST ROZPOČTU | M4: v --- nižšie sa nachádzajú doplnkové a pomocné údaje k zostavám --- v | AT4: False
D6: Stavba:
E7: ='Rekapitulácia stavby'!K6 -> Obnova vybraných častí NKP Kaštieľ,Múzeum vo Svätom Antone
D8: Objekt:
E9: 2025/04 - SO-01 - vzduchotechnika
D11: JKSO: | I11: ČS:
D12: Miesto: | I12: Dátum: | J12: ='Rekapitulácia stavby'!AN8 -> 24. 7. 2026
D14: Objednávateľ: | I14: IČO:
E15: Múzeum vo Sv.Antone, Svätý Anton č. 291, 969 72 | I15: IČ DPH:
D17: Zhotoviteľ: | I17: IČO: | J17: ='Rekapitulácia stavby'!AN13 -> Vyplň údaj
E18: ='Rekapitulácia stavby'!E14 -> Vyplň údaj | I18: IČ DPH: | J18: ='Rekapitulácia stavby'!AN14 -> Vyplň údaj
D20: Projektant: | I20: IČO:
E21: Ing.arch.Adriana Zorvanová | I21: IČ DPH:
D23: Spracovateľ: | I23: IČO: | J23: =IF('Rekapitulácia stavby'!AN19="","",'Rekapitulácia stavby'!AN19)
E24: =IF('Rekapitulácia stavby'!E20="","",'Rekapitulácia stavby'!E20) | I24: IČ DPH: | J24: =IF('Rekapitulácia stavby'!AN20="","",'Rekapitulácia stavby'!AN20)
D26: Poznámka:
D30: Cena bez DPH | J30: =ROUND(J124, 2) -> 0
F32: Základ dane | I32: Sadzba dane | J32: Výška dane
D33: DPH | E33: základná | F33: =ROUND((SUM(BE124:BE196)), 2) -> 0 | I33: 0.23 | J33: =ROUND(((SUM(BE124:BE196))*I33), 2) -> 0
E34: znížená | F34: =ROUND((SUM(BF124:BF196)), 2) -> 0 | I34: 0.23 | J34: =ROUND(((SUM(BF124:BF196))*I34), 2) -> 0
E35: zákl. prenesená | F35: =ROUND((SUM(BG124:BG196)), 2) -> 0 | I35: 0.23 | J35: =0 -> 0
E36: zníž. prenesená | F36: =ROUND((SUM(BH124:BH196)), 2) -> 0 | I36: 0.23 | J36: =0 -> 0
E37: nulová | F37: =ROUND((SUM(BI124:BI196)), 2) -> 0 | I37: 0 | J37: =0 -> 0
D39: Cena s DPH | G39: v | H39: EUR | J39: =SUM(J30:J37) -> 0
D50: Projektant | G50: Spracovateľ
D61: Dátum a podpis: | F61: Pečiatka | G61: Dátum a podpis: | J61: Pečiatka
D65: Objednávateľ | G65: Zhotoviteľ
D76: Dátum a podpis: | F76: Pečiatka | G76: Dátum a podpis: | J76: Pečiatka
C82: REKAPITULÁCIA ROZPOČTU
C84: Stavba:
E85: =E7 -> Obnova vybraných častí NKP Kaštieľ,Múzeum vo Svätom Antone
C86: Objekt:
E87: =E9 -> 2025/04 - SO-01 - vzduchotechnika
C89: Miesto: | F89: =F12 | I89: Dátum: | J89: =IF(J12="","",J12) -> 24. 7. 2026
C91: Objednávateľ: | F91: =E15 -> Múzeum vo Sv.Antone, Svätý Anton č. 291, 969 72 | I91: Projektant: | J91: =E21 -> Ing.arch.Adriana Zorvanová
C92: Zhotoviteľ: | F92: =IF(E18="","",E18) -> Vyplň údaj | I92: Spracovateľ: | J92: =E24
C94: Kód dielu - Popis | J94: Cena celkom [EUR]
C96: Náklady z rozpočtu | J96: =J124 -> 0 | AU96: -1
D97: HSV - Práce a dodávky HSV | J97: =J125 -> 0
D98: 9 - Ostatné konštrukcie a práce-búranie | J98: =J126 -> 0
D99: PSV - Práce a dodávky PSV | J99: =J133 -> 0
D100: VZT-stroj - Vzduchotechnická strojovňa | J100: =J134 -> 0
D101: 713 - Izolácie tepelné | J101: =J143 -> 0
D102: 767 - Konštrukcie doplnkové kovové | J102: =J147 -> 0
D103: 769 - Montáže vzduchotechnických zariadení | J103: =J155 -> 0
D104: N01 - Nepomenovaný diel | J104: =J193 -> 0
C111: ROZPOČET
C113: Stavba:
E114: =E7 -> Obnova vybraných častí NKP Kaštieľ,Múzeum vo Svätom Antone
C115: Objekt:
E116: =E9 -> 2025/04 - SO-01 - vzduchotechnika
C118: Miesto: | F118: =F12 | I118: Dátum: | J118: =IF(J12="","",J12) -> 24. 7. 2026
C120: Objednávateľ: | F120: =E15 -> Múzeum vo Sv.Antone, Svätý Anton č. 291, 969 72 | I120: Projektant: | J120: =E21 -> Ing.arch.Adriana Zorvanová
C121: Zhotoviteľ: | F121: =IF(E18="","",E18) -> Vyplň údaj | I121: Spracovateľ: | J121: =E24
C123: PČ | D123: Typ | E123: Kód | F123: Popis | G123: MJ | H123: Množstvo | I123: J.cena [EUR] | J123: Cena celkom [EUR] | K123: Cenová sústava | N123: DPH | O123: J. Nh [h] | P123: Nh celkom [h] | Q123: J. hmotnosť [t] | R123: Hmotnosť celkom [t] | S123: J. suť [t] | T123: Suť Celkom [t]
C124: Náklady z rozpočtu | J124: =BK124 -> 0 | P124: =P125+P133 -> 0 | R124: =R125+R133 -> 0 | T124: =T125+T133 -> 0 | AT124: D | AU124: -1 | BK124: =BK125+BK133 -> 0
D125: D | E125: HSV | F125: Práce a dodávky HSV | J125: =BK125 -> 0 | P125: =P126 -> 0 | R125: =R126 -> 0 | T125: =T126 -> 0 | AR125: 1 | AT125: D | AU125: 0 | AY125: ROZPOCET | BK125: =BK126 -> 0
D126: D | E126: 9 | F126: Ostatné konštrukcie a práce-búranie | J126: =BK126 -> 0 | P126: =SUM(P127:P132) -> 0 | R126: =SUM(R127:R132) -> 0 | T126: =SUM(T127:T132) -> 0 | AR126: 1 | AT126: D | AU126: 1 | AY126: ROZPOCET | BK126: =SUM(BK127:BK132) -> 0
C127: 1 | D127: K | E127: 971011211.S | F127: Vybúranie výplne otvoru v sten. prefabrik. dielc. z ľahkých betónov plochy do 0,25 m2, -0,01300t | G127: ks | H127: 2 | J127: =ROUND(I127*H127,2) -> 0 | N127: znížená | P127: =O127*H127 -> 0 | Q127: 0 | R127: =Q127*H127 -> 0 | S127: 0 | T127: =S127*H127 -> 0 | AR127: 4 | AT127: K | AU127: 2 | AY127: ROZPOCET | BE127: =IF(N127="základná",J127,0) -> 0 | BF127: =IF(N127="znížená",J127,0) -> 0 | BG127: =IF(N127="zákl. prenesená",J127,0) -> 0 | BH127: =IF(N127="zníž. prenesená",J127,0) -> 0 | BI127: =IF(N127="nulová",J127,0) -> 0 | BJ127: 2 | BK127: =ROUND(I127*H127,2) -> 0 | BL127: 4 | BM127: 2
C128: 2 | D128: K | E128: 971036015.S | F128: Jadrové vrty diamantovými korunkami do D 160 mm do stien - murivo tehlové -0,00032t | G128: cm | H128: 365 | J128: =ROUND(I128*H128,2) -> 0 | N128: znížená | P128: =O128*H128 -> 0 | Q128: 0 | R128: =Q128*H128 -> 0 | S128: 0 | T128: =S128*H128 -> 0 | AR128: 4 | AT128: K | AU128: 2 | AY128: ROZPOCET | BE128: =IF(N128="základná",J128,0) -> 0 | BF128: =IF(N128="znížená",J128,0) -> 0 | BG128: =IF(N128="zákl. prenesená",J128,0) -> 0 | BH128: =IF(N128="zníž. prenesená",J128,0) -> 0 | BI128: =IF(N128="nulová",J128,0) -> 0 | BJ128: 2 | BK128: =ROUND(I128*H128,2) -> 0 | BL128: 4 | BM128: 4
C129: 3 | D129: K | E129: 971036019.S | F129: Jadrové vrty diamantovými korunkami do D 225 mm do stien - murivo tehlové -0,00064t | G129: cm | H129: 220 | J129: =ROUND(I129*H129,2) -> 0 | N129: znížená | P129: =O129*H129 -> 0 | Q129: 0 | R129: =Q129*H129 -> 0 | S129: 0 | T129: =S129*H129 -> 0 | AR129: 4 | AT129: K | AU129: 2 | AY129: ROZPOCET | BE129: =IF(N129="základná",J129,0) -> 0 | BF129: =IF(N129="znížená",J129,0) -> 0 | BG129: =IF(N129="zákl. prenesená",J129,0) -> 0 | BH129: =IF(N129="zníž. prenesená",J129,0) -> 0 | BI129: =IF(N129="nulová",J129,0) -> 0 | BJ129: 2 | BK129: =ROUND(I129*H129,2) -> 0 | BL129: 4 | BM129: 6
C130: 4 | D130: K | E130: 979081111.S | F130: Odvoz sutiny a vybúraných hmôt na skládku do 1 km | G130: t | H130: 0.294 | J130: =ROUND(I130*H130,2) -> 0 | N130: znížená | P130: =O130*H130 -> 0 | Q130: 0 | R130: =Q130*H130 -> 0 | S130: 0 | T130: =S130*H130 -> 0 | AR130: 4 | AT130: K | AU130: 2 | AY130: ROZPOCET | BE130: =IF(N130="základná",J130,0) -> 0 | BF130: =IF(N130="znížená",J130,0) -> 0 | BG130: =IF(N130="zákl. prenesená",J130,0) -> 0 | BH130: =IF(N130="zníž. prenesená",J130,0) -> 0 | BI130: =IF(N130="nulová",J130,0) -> 0 | BJ130: 2 | BK130: =ROUND(I130*H130,2) -> 0 | BL130: 4 | BM130: 8
C131: 5 | D131: K | E131: 979081121.S | F131: Odvoz sutiny a vybúraných hmôt na skládku za každý ďalší 1 km | G131: t | H131: 0.294 | J131: =ROUND(I131*H131,2) -> 0 | N131: znížená | P131: =O131*H131 -> 0 | Q131: 0 | R131: =Q131*H131 -> 0 | S131: 0 | T131: =S131*H131 -> 0 | AR131: 4 | AT131: K | AU131: 2 | AY131: ROZPOCET | BE131: =IF(N131="základná",J131,0) -> 0 | BF131: =IF(N131="znížená",J131,0) -> 0 | BG131: =IF(N131="zákl. prenesená",J131,0) -> 0 | BH131: =IF(N131="zníž. prenesená",J131,0) -> 0 | BI131: =IF(N131="nulová",J131,0) -> 0 | BJ131: 2 | BK131: =ROUND(I131*H131,2) -> 0 | BL131: 4 | BM131: 10
C132: 6 | D132: K | E132: 979089012.S | F132: Poplatok za skládku - betón, tehly, dlaždice (17 01) ostatné | G132: t | H132: 0.294 | J132: =ROUND(I132*H132,2) -> 0 | N132: znížená | P132: =O132*H132 -> 0 | Q132: 0 | R132: =Q132*H132 -> 0 | S132: 0 | T132: =S132*H132 -> 0 | AR132: 4 | AT132: K | AU132: 2 | AY132: ROZPOCET | BE132: =IF(N132="základná",J132,0) -> 0 | BF132: =IF(N132="znížená",J132,0) -> 0 | BG132: =IF(N132="zákl. prenesená",J132,0) -> 0 | BH132: =IF(N132="zníž. prenesená",J132,0) -> 0 | BI132: =IF(N132="nulová",J132,0) -> 0 | BJ132: 2 | BK132: =ROUND(I132*H132,2) -> 0 | BL132: 4 | BM132: 12
D133: D | E133: PSV | F133: Práce a dodávky PSV | J133: =BK133 -> 0 | P133: =P134+P143+P147+P155+P193 -> 0 | R133: =R134+R143+R147+R155+R193 -> 0 | T133: =T134+T143+T147+T155+T193 -> 0 | AR133: 2 | AT133: D | AU133: 0 | AY133: ROZPOCET | BK133: =BK134+BK143+BK147+BK155+BK193 -> 0
D134: D | E134: VZT-stroj | F134: Vzduchotechnická strojovňa | J134: =BK134 -> 0 | P134: =SUM(P135:P142) -> 0 | R134: =SUM(R135:R142) -> 0 | T134: =SUM(T135:T142) -> 0 | AR134: 1 | AT134: D | AU134: 1 | AY134: ROZPOCET | BK134: =SUM(BK135:BK142) -> 0
C135: 7 | D135: K | E135: 769052018.S | F135: Montáž rekuperačnej jednotky na stenu prietok 600 m3/h | G135: ks | H135: 1 | J135: =ROUND(I135*H135,2) -> 0 | N135: znížená | P135: =O135*H135 -> 0 | Q135: 0 | R135: =Q135*H135 -> 0 | S135: 0 | T135: =S135*H135 -> 0 | AR135: 4 | AT135: K | AU135: 2 | AY135: ROZPOCET | BE135: =IF(N135="základná",J135,0) -> 0 | BF135: =IF(N135="znížená",J135,0) -> 0 | BG135: =IF(N135="zákl. prenesená",J135,0) -> 0 | BH135: =IF(N135="zníž. prenesená",J135,0) -> 0 | BI135: =IF(N135="nulová",J135,0) -> 0 | BJ135: 2 | BK135: =ROUND(I135*H135,2) -> 0 | BL135: 4 | BM135: 14
C136: 8 | D136: M | E136: Z026466 | F136: Vitovent 300-W, Typ H32S A600 (L) | G136: ks | H136: 1 | J136: =ROUND(I136*H136,2) -> 0 | N136: znížená | P136: =O136*H136 -> 0 | Q136: 0 | R136: =Q136*H136 -> 0 | S136: 0 | T136: =S136*H136 -> 0 | AR136: 8 | AT136: M | AU136: 2 | AY136: ROZPOCET | BE136: =IF(N136="základná",J136,0) -> 0 | BF136: =IF(N136="znížená",J136,0) -> 0 | BG136: =IF(N136="zákl. prenesená",J136,0) -> 0 | BH136: =IF(N136="zníž. prenesená",J136,0) -> 0 | BI136: =IF(N136="nulová",J136,0) -> 0 | BJ136: 2 | BK136: =ROUND(I136*H136,2) -> 0 | BL136: 4 | BM136: 16
C137: 9 | D137: K | E137: 769052012.S | F137: Montáž rekuperačnej jednotky na stenu prietok 325 m3/h | G137: ks | H137: 1 | J137: =ROUND(I137*H137,2) -> 0 | N137: znížená | P137: =O137*H137 -> 0 | Q137: 0 | R137: =Q137*H137 -> 0 | S137: 0 | T137: =S137*H137 -> 0 | AR137: 4 | AT137: K | AU137: 2 | AY137: ROZPOCET | BE137: =IF(N137="základná",J137,0) -> 0 | BF137: =IF(N137="znížená",J137,0) -> 0 | BG137: =IF(N137="zákl. prenesená",J137,0) -> 0 | BH137: =IF(N137="zníž. prenesená",J137,0) -> 0 | BI137: =IF(N137="nulová",J137,0) -> 0 | BJ137: 2 | BK137: =ROUND(I137*H137,2) -> 0 | BL137: 4 | BM137: 18
C138: 10 | D138: M | E138: Z019040 | F138: Vitovent 300-W, Typ H32S C325 (R) | G138: ks | H138: 1 | J138: =ROUND(I138*H138,2) -> 0 | N138: znížená | P138: =O138*H138 -> 0 | Q138: 0 | R138: =Q138*H138 -> 0 | S138: 0 | T138: =S138*H138 -> 0 | AR138: 8 | AT138: M | AU138: 2 | AY138: ROZPOCET | BE138: =IF(N138="základná",J138,0) -> 0 | BF138: =IF(N138="znížená",J138,0) -> 0 | BG138: =IF(N138="zákl. prenesená",J138,0) -> 0 | BH138: =IF(N138="zníž. prenesená",J138,0) -> 0 | BI138: =IF(N138="nulová",J138,0) -> 0 | BJ138: 2 | BK138: =ROUND(I138*H138,2) -> 0 | BL138: 4 | BM138: 20
C139: 11 | D139: K | E139: 769025066.S | F139: Montáž tlmiča hluku pre kruhové potrubie priemeru 160-250 mm | G139: ks | H139: 2 | J139: =ROUND(I139*H139,2) -> 0 | N139: znížená | P139: =O139*H139 -> 0 | Q139: 0 | R139: =Q139*H139 -> 0 | S139: 0 | T139: =S139*H139 -> 0 | AR139: 4 | AT139: K | AU139: 2 | AY139: ROZPOCET | BE139: =IF(N139="základná",J139,0) -> 0 | BF139: =IF(N139="znížená",J139,0) -> 0 | BG139: =IF(N139="zákl. prenesená",J139,0) -> 0 | BH139: =IF(N139="zníž. prenesená",J139,0) -> 0 | BI139: =IF(N139="nulová",J139,0) -> 0 | BJ139: 2 | BK139: =ROUND(I139*H139,2) -> 0 | BL139: 4 | BM139: 22
C140: 12 | D140: M | E140: 429760008800.S | F140: Tlmič hluku pre kruhové potrubie, priemer/dĺžka 200/600 mm | G140: ks | H140: 2 | J140: =ROUND(I140*H140,2) -> 0 | N140: znížená | P140: =O140*H140 -> 0 | Q140: 0 | R140: =Q140*H140 -> 0 | S140: 0 | T140: =S140*H140 -> 0 | AR140: 8 | AT140: M | AU140: 2 | AY140: ROZPOCET | BE140: =IF(N140="základná",J140,0) -> 0 | BF140: =IF(N140="znížená",J140,0) -> 0 | BG140: =IF(N140="zákl. prenesená",J140,0) -> 0 | BH140: =IF(N140="zníž. prenesená",J140,0) -> 0 | BI140: =IF(N140="nulová",J140,0) -> 0 | BJ140: 2 | BK140: =ROUND(I140*H140,2) -> 0 | BL140: 4 | BM140: 24
C141: 13 | D141: M | E141: 429760008600.S | F141: Tlmič hluku pre kruhové potrubie, priemer/dĺžka 160/600 mm | G141: ks | H141: 2 | J141: =ROUND(I141*H141,2) -> 0 | N141: znížená | P141: =O141*H141 -> 0 | Q141: 0 | R141: =Q141*H141 -> 0 | S141: 0 | T141: =S141*H141 -> 0 | AR141: 8 | AT141: M | AU141: 2 | AY141: ROZPOCET | BE141: =IF(N141="základná",J141,0) -> 0 | BF141: =IF(N141="znížená",J141,0) -> 0 | BG141: =IF(N141="zákl. prenesená",J141,0) -> 0 | BH141: =IF(N141="zníž. prenesená",J141,0) -> 0 | BI141: =IF(N141="nulová",J141,0) -> 0 | BJ141: 2 | BK141: =ROUND(I141*H141,2) -> 0 | BL141: 4 | BM141: 26
C142: 14 | D142: K | E142: 998769210.S | F142: Presun hmôt pre montáž vzduchotechnických zariadení v stavbe (objekte) | G142: % | J142: =ROUND(I142*H142,2) -> 0 | N142: znížená | P142: =O142*H142 -> 0 | Q142: 0 | R142: =Q142*H142 -> 0 | S142: 0 | T142: =S142*H142 -> 0 | AR142: 4 | AT142: K | AU142: 2 | AY142: ROZPOCET | BE142: =IF(N142="základná",J142,0) -> 0 | BF142: =IF(N142="znížená",J142,0) -> 0 | BG142: =IF(N142="zákl. prenesená",J142,0) -> 0 | BH142: =IF(N142="zníž. prenesená",J142,0) -> 0 | BI142: =IF(N142="nulová",J142,0) -> 0 | BJ142: 2 | BK142: =ROUND(I142*H142,2) -> 0 | BL142: 4 | BM142: 28
D143: D | E143: 713 | F143: Izolácie tepelné | J143: =BK143 -> 0 | P143: =SUM(P144:P146) -> 0 | R143: =SUM(R144:R146) -> 0 | T143: =SUM(T144:T146) -> 0 | AR143: 2 | AT143: D | AU143: 1 | AY143: ROZPOCET | BK143: =SUM(BK144:BK146) -> 0
C144: 15 | D144: K | E144: 713483020.S | F144: Montáž technickej izolácie samolepiacej rohože hr. 20 mm na potrubia s tvarovanou plochou | G144: m2 | H144: 20 | J144: =ROUND(I144*H144,2) -> 0 | N144: znížená | P144: =O144*H144 -> 0 | Q144: 0 | R144: =Q144*H144 -> 0 | S144: 0 | T144: =S144*H144 -> 0 | AR144: 16 | AT144: K | AU144: 2 | AY144: ROZPOCET | BE144: =IF(N144="základná",J144,0) -> 0 | BF144: =IF(N144="znížená",J144,0) -> 0 | BG144: =IF(N144="zákl. prenesená",J144,0) -> 0 | BH144: =IF(N144="zníž. prenesená",J144,0) -> 0 | BI144: =IF(N144="nulová",J144,0) -> 0 | BJ144: 2 | BK144: =ROUND(I144*H144,2) -> 0 | BL144: 16 | BM144: 30
C145: 16 | D145: M | E145: 283750014400.S | F145: Doska kaučuková so samolepkou hrúbka 15 mm | G145: m2 | H145: 22.4 | J145: =ROUND(I145*H145,2) -> 0 | N145: znížená | P145: =O145*H145 -> 0 | Q145: 0 | R145: =Q145*H145 -> 0 | S145: 0 | T145: =S145*H145 -> 0 | AR145: 32 | AT145: M | AU145: 2 | AY145: ROZPOCET | BE145: =IF(N145="základná",J145,0) -> 0 | BF145: =IF(N145="znížená",J145,0) -> 0 | BG145: =IF(N145="zákl. prenesená",J145,0) -> 0 | BH145: =IF(N145="zníž. prenesená",J145,0) -> 0 | BI145: =IF(N145="nulová",J145,0) -> 0 | BJ145: 2 | BK145: =ROUND(I145*H145,2) -> 0 | BL145: 16 | BM145: 32
C146: 17 | D146: K | E146: 998713101.S | F146: Presun hmôt pre izolácie tepelné v objektoch výšky do 6 m | G146: t | H146: 0.027 | J146: =ROUND(I146*H146,2) -> 0 | N146: znížená | P146: =O146*H146 -> 0 | Q146: 0 | R146: =Q146*H146 -> 0 | S146: 0 | T146: =S146*H146 -> 0 | AR146: 16 | AT146: K | AU146: 2 | AY146: ROZPOCET | BE146: =IF(N146="základná",J146,0) -> 0 | BF146: =IF(N146="znížená",J146,0) -> 0 | BG146: =IF(N146="zákl. prenesená",J146,0) -> 0 | BH146: =IF(N146="zníž. prenesená",J146,0) -> 0 | BI146: =IF(N146="nulová",J146,0) -> 0 | BJ146: 2 | BK146: =ROUND(I146*H146,2) -> 0 | BL146: 16 | BM146: 34
D147: D | E147: 767 | F147: Konštrukcie doplnkové kovové | J147: =BK147 -> 0 | P147: =SUM(P148:P154) -> 0 | R147: =SUM(R148:R154) -> 0 | T147: =SUM(T148:T154) -> 0 | AR147: 2 | AT147: D | AU147: 1 | AY147: ROZPOCET | BK147: =SUM(BK148:BK154) -> 0
C148: 18 | D148: K | E148: 767871539.S | F148: Montáž objímky pre montáž potrubia do steny alebo stropu D 120-128 mm | G148: ks | H148: 79 | J148: =ROUND(I148*H148,2) -> 0 | N148: znížená | P148: =O148*H148 -> 0 | Q148: 0 | R148: =Q148*H148 -> 0 | S148: 0 | T148: =S148*H148 -> 0 | AR148: 16 | AT148: K | AU148: 2 | AY148: ROZPOCET | BE148: =IF(N148="základná",J148,0) -> 0 | BF148: =IF(N148="znížená",J148,0) -> 0 | BG148: =IF(N148="zákl. prenesená",J148,0) -> 0 | BH148: =IF(N148="zníž. prenesená",J148,0) -> 0 | BI148: =IF(N148="nulová",J148,0) -> 0 | BJ148: 2 | BK148: =ROUND(I148*H148,2) -> 0 | BL148: 16 | BM148: 36
C149: 19 | D149: M | E149: 286710008400.S | F149: Potrubná objímka pozinkovaná, rozsah upínania D 120-128 mm, M8/M10, EPDM izolant | G149: ks | H149: 79 | J149: =ROUND(I149*H149,2) -> 0 | N149: znížená | P149: =O149*H149 -> 0 | Q149: 0 | R149: =Q149*H149 -> 0 | S149: 0 | T149: =S149*H149 -> 0 | AR149: 32 | AT149: M | AU149: 2 | AY149: ROZPOCET | BE149: =IF(N149="základná",J149,0) -> 0 | BF149: =IF(N149="znížená",J149,0) -> 0 | BG149: =IF(N149="zákl. prenesená",J149,0) -> 0 | BH149: =IF(N149="zníž. prenesená",J149,0) -> 0 | BI149: =IF(N149="nulová",J149,0) -> 0 | BJ149: 2 | BK149: =ROUND(I149*H149,2) -> 0 | BL149: 16 | BM149: 38
C150: 20 | D150: K | E150: 767871548.S | F150: Montáž objímky pre montáž potrubia do steny alebo stropu D 149-161 mm | G150: ks | H150: 96 | J150: =ROUND(I150*H150,2) -> 0 | N150: znížená | P150: =O150*H150 -> 0 | Q150: 0 | R150: =Q150*H150 -> 0 | S150: 0 | T150: =S150*H150 -> 0 | AR150: 16 | AT150: K | AU150: 2 | AY150: ROZPOCET | BE150: =IF(N150="základná",J150,0) -> 0 | BF150: =IF(N150="znížená",J150,0) -> 0 | BG150: =IF(N150="zákl. prenesená",J150,0) -> 0 | BH150: =IF(N150="zníž. prenesená",J150,0) -> 0 | BI150: =IF(N150="nulová",J150,0) -> 0 | BJ150: 2 | BK150: =ROUND(I150*H150,2) -> 0 | BL150: 16 | BM150: 40
C151: 21 | D151: M | E151: 286710008700.S | F151: Potrubná objímka pozinkovaná, rozsah upínania D 149-161 mm, M8/M10, EPDM izolant | G151: ks | H151: 96 | J151: =ROUND(I151*H151,2) -> 0 | N151: znížená | P151: =O151*H151 -> 0 | Q151: 0 | R151: =Q151*H151 -> 0 | S151: 0 | T151: =S151*H151 -> 0 | AR151: 32 | AT151: M | AU151: 2 | AY151: ROZPOCET | BE151: =IF(N151="základná",J151,0) -> 0 | BF151: =IF(N151="znížená",J151,0) -> 0 | BG151: =IF(N151="zákl. prenesená",J151,0) -> 0 | BH151: =IF(N151="zníž. prenesená",J151,0) -> 0 | BI151: =IF(N151="nulová",J151,0) -> 0 | BJ151: 2 | BK151: =ROUND(I151*H151,2) -> 0 | BL151: 16 | BM151: 42
C152: 22 | D152: K | E152: 767871557.S | F152: Montáž objímky pre montáž potrubia do steny alebo stropu D 192-204 mm | G152: ks | H152: 20 | J152: =ROUND(I152*H152,2) -> 0 | N152: znížená | P152: =O152*H152 -> 0 | Q152: 0 | R152: =Q152*H152 -> 0 | S152: 0 | T152: =S152*H152 -> 0 | AR152: 16 | AT152: K | AU152: 2 | AY152: ROZPOCET | BE152: =IF(N152="základná",J152,0) -> 0 | BF152: =IF(N152="znížená",J152,0) -> 0 | BG152: =IF(N152="zákl. prenesená",J152,0) -> 0 | BH152: =IF(N152="zníž. prenesená",J152,0) -> 0 | BI152: =IF(N152="nulová",J152,0) -> 0 | BJ152: 2 | BK152: =ROUND(I152*H152,2) -> 0 | BL152: 16 | BM152: 44
C153: 23 | D153: M | E153: 286710009000.S | F153: Potrubná objímka pozinkovaná, rozsah upínania D 192-204 mm, M8/M10, EPDM izolant | G153: ks | H153: 20 | J153: =ROUND(I153*H153,2) -> 0 | N153: znížená | P153: =O153*H153 -> 0 | Q153: 0 | R153: =Q153*H153 -> 0 | S153: 0 | T153: =S153*H153 -> 0 | AR153: 32 | AT153: M | AU153: 2 | AY153: ROZPOCET | BE153: =IF(N153="základná",J153,0) -> 0 | BF153: =IF(N153="znížená",J153,0) -> 0 | BG153: =IF(N153="zákl. prenesená",J153,0) -> 0 | BH153: =IF(N153="zníž. prenesená",J153,0) -> 0 | BI153: =IF(N153="nulová",J153,0) -> 0 | BJ153: 2 | BK153: =ROUND(I153*H153,2) -> 0 | BL153: 16 | BM153: 46
C154: 24 | D154: K | E154: 998767101.S | F154: Presun hmôt pre kovové stavebné doplnkové konštrukcie v objektoch výšky do 6 m | G154: t | H154: 0.085 | J154: =ROUND(I154*H154,2) -> 0 | N154: znížená | P154: =O154*H154 -> 0 | Q154: 0 | R154: =Q154*H154 -> 0 | S154: 0 | T154: =S154*H154 -> 0 | AR154: 16 | AT154: K | AU154: 2 | AY154: ROZPOCET | BE154: =IF(N154="základná",J154,0) -> 0 | BF154: =IF(N154="znížená",J154,0) -> 0 | BG154: =IF(N154="zákl. prenesená",J154,0) -> 0 | BH154: =IF(N154="zníž. prenesená",J154,0) -> 0 | BI154: =IF(N154="nulová",J154,0) -> 0 | BJ154: 2 | BK154: =ROUND(I154*H154,2) -> 0 | BL154: 16 | BM154: 48
D155: D | E155: 769 | F155: Montáže vzduchotechnických zariadení | J155: =BK155 -> 0 | P155: =SUM(P156:P192) -> 0 | R155: =SUM(R156:R192) -> 0 | T155: =SUM(T156:T192) -> 0 | AR155: 2 | AT155: D | AU155: 1 | AY155: ROZPOCET | BK155: =SUM(BK156:BK192) -> 0
C156: 25 | D156: K | E156: 7690210013.S | F156: Montáž plstového potrubia DN 125, farba RAL 9002 | G156: m | H156: 79 | J156: =ROUND(I156*H156,2) -> 0 | N156: znížená | P156: =O156*H156 -> 0 | Q156: 0 | R156: =Q156*H156 -> 0 | S156: 0 | T156: =S156*H156 -> 0 | AR156: 16 | AT156: K | AU156: 2 | AY156: ROZPOCET | BE156: =IF(N156="základná",J156,0) -> 0 | BF156: =IF(N156="znížená",J156,0) -> 0 | BG156: =IF(N156="zákl. prenesená",J156,0) -> 0 | BH156: =IF(N156="zníž. prenesená",J156,0) -> 0 | BI156: =IF(N156="nulová",J156,0) -> 0 | BJ156: 2 | BK156: =ROUND(I156*H156,2) -> 0 | BL156: 16 | BM156: 50
C157: 26 | D157: M | E157: VZT_POT-125 | F157: Plastové potrubie DN125, farba RAL 9002 | G157: m | H157: 79 | J157: =ROUND(I157*H157,2) -> 0 | N157: znížená | P157: =O157*H157 -> 0 | Q157: 0 | R157: =Q157*H157 -> 0 | S157: 0 | T157: =S157*H157 -> 0 | AR157: 32 | AT157: M | AU157: 2 | AY157: ROZPOCET | BE157: =IF(N157="základná",J157,0) -> 0 | BF157: =IF(N157="znížená",J157,0) -> 0 | BG157: =IF(N157="zákl. prenesená",J157,0) -> 0 | BH157: =IF(N157="zníž. prenesená",J157,0) -> 0 | BI157: =IF(N157="nulová",J157,0) -> 0 | BJ157: 2 | BK157: =ROUND(I157*H157,2) -> 0 | BL157: 16 | BM157: 52
C158: 27 | D158: K | E158: 7690210016.S | F158: Montáž plastového potrubia DN 150, farba RAL 9002 | G158: m | H158: 90 | J158: =ROUND(I158*H158,2) -> 0 | N158: znížená | P158: =O158*H158 -> 0 | Q158: 0 | R158: =Q158*H158 -> 0 | S158: 0 | T158: =S158*H158 -> 0 | AR158: 16 | AT158: K | AU158: 2 | AY158: ROZPOCET | BE158: =IF(N158="základná",J158,0) -> 0 | BF158: =IF(N158="znížená",J158,0) -> 0 | BG158: =IF(N158="zákl. prenesená",J158,0) -> 0 | BH158: =IF(N158="zníž. prenesená",J158,0) -> 0 | BI158: =IF(N158="nulová",J158,0) -> 0 | BJ158: 2 | BK158: =ROUND(I158*H158,2) -> 0 | BL158: 16 | BM158: 54
C159: 28 | D159: M | E159: VZT_POT-150 | F159: Plastové potrubie DN150, farba RAL 9002 | G159: m | H159: 90 | J159: =ROUND(I159*H159,2) -> 0 | N159: znížená | P159: =O159*H159 -> 0 | Q159: 0 | R159: =Q159*H159 -> 0 | S159: 0 | T159: =S159*H159 -> 0 | AR159: 32 | AT159: M | AU159: 2 | AY159: ROZPOCET | BE159: =IF(N159="základná",J159,0) -> 0 | BF159: =IF(N159="znížená",J159,0) -> 0 | BG159: =IF(N159="zákl. prenesená",J159,0) -> 0 | BH159: =IF(N159="zníž. prenesená",J159,0) -> 0 | BI159: =IF(N159="nulová",J159,0) -> 0 | BJ159: 2 | BK159: =ROUND(I159*H159,2) -> 0 | BL159: 16 | BM159: 56
C160: 29 | D160: K | E160: 7690210019.S | F160: Montáž plastového potrubia DN 200, farba RAL9002 | G160: m | H160: 13.6 | J160: =ROUND(I160*H160,2) -> 0 | N160: znížená | P160: =O160*H160 -> 0 | Q160: 0 | R160: =Q160*H160 -> 0 | S160: 0 | T160: =S160*H160 -> 0 | AR160: 16 | AT160: K | AU160: 2 | AY160: ROZPOCET | BE160: =IF(N160="základná",J160,0) -> 0 | BF160: =IF(N160="znížená",J160,0) -> 0 | BG160: =IF(N160="zákl. prenesená",J160,0) -> 0 | BH160: =IF(N160="zníž. prenesená",J160,0) -> 0 | BI160: =IF(N160="nulová",J160,0) -> 0 | BJ160: 2 | BK160: =ROUND(I160*H160,2) -> 0 | BL160: 16 | BM160: 58
C161: 30 | D161: M | E161: VZT_POT-200 | F161: Plastové potrubie DN200, farba RAL 9002 | G161: m | H161: 13.6 | J161: =ROUND(I161*H161,2) -> 0 | N161: znížená | P161: =O161*H161 -> 0 | Q161: 0 | R161: =Q161*H161 -> 0 | S161: 0 | T161: =S161*H161 -> 0 | AR161: 32 | AT161: M | AU161: 2 | AY161: ROZPOCET | BE161: =IF(N161="základná",J161,0) -> 0 | BF161: =IF(N161="znížená",J161,0) -> 0 | BG161: =IF(N161="zákl. prenesená",J161,0) -> 0 | BH161: =IF(N161="zníž. prenesená",J161,0) -> 0 | BI161: =IF(N161="nulová",J161,0) -> 0 | BJ161: 2 | BK161: =ROUND(I161*H161,2) -> 0 | BL161: 16 | BM161: 60
C162: 31 | D162: K | E162: 769021006.S | F162: Montáž EPP potrubia DN 160-180 | G162: m | H162: 19.2 | J162: =ROUND(I162*H162,2) -> 0 | N162: znížená | P162: =O162*H162 -> 0 | Q162: 0 | R162: =Q162*H162 -> 0 | S162: 0 | T162: =S162*H162 -> 0 | AR162: 16 | AT162: K | AU162: 2 | AY162: ROZPOCET | BE162: =IF(N162="základná",J162,0) -> 0 | BF162: =IF(N162="znížená",J162,0) -> 0 | BG162: =IF(N162="zákl. prenesená",J162,0) -> 0 | BH162: =IF(N162="zníž. prenesená",J162,0) -> 0 | BI162: =IF(N162="nulová",J162,0) -> 0 | BJ162: 2 | BK162: =ROUND(I162*H162,2) -> 0 | BL162: 16 | BM162: 62
C163: 32 | D163: M | E163: 429810000500.S | F163: Potrubie kruhové EPP DN 160, dĺžka 1000 mm | G163: m | H163: 19.2 | J163: =ROUND(I163*H163,2) -> 0 | N163: znížená | P163: =O163*H163 -> 0 | Q163: 0 | R163: =Q163*H163 -> 0 | S163: 0 | T163: =S163*H163 -> 0 | AR163: 32 | AT163: M | AU163: 2 | AY163: ROZPOCET | BE163: =IF(N163="základná",J163,0) -> 0 | BF163: =IF(N163="znížená",J163,0) -> 0 | BG163: =IF(N163="zákl. prenesená",J163,0) -> 0 | BH163: =IF(N163="zníž. prenesená",J163,0) -> 0 | BI163: =IF(N163="nulová",J163,0) -> 0 | BJ163: 2 | BK163: =ROUND(I163*H163,2) -> 0 | BL163: 16 | BM163: 64
C164: 33 | D164: K | E164: 769021009.S | F164: Montáž EPP potrubia DN 200-225 | G164: m | H164: 12.5 | J164: =ROUND(I164*H164,2) -> 0 | N164: znížená | P164: =O164*H164 -> 0 | Q164: 0 | R164: =Q164*H164 -> 0 | S164: 0 | T164: =S164*H164 -> 0 | AR164: 16 | AT164: K | AU164: 2 | AY164: ROZPOCET | BE164: =IF(N164="základná",J164,0) -> 0 | BF164: =IF(N164="znížená",J164,0) -> 0 | BG164: =IF(N164="zákl. prenesená",J164,0) -> 0 | BH164: =IF(N164="zníž. prenesená",J164,0) -> 0 | BI164: =IF(N164="nulová",J164,0) -> 0 | BJ164: 2 | BK164: =ROUND(I164*H164,2) -> 0 | BL164: 16 | BM164: 66
C165: 34 | D165: M | E165: 429810000700.S | F165: Potrubie kruhové EPP DN 200, dĺžka 1000 mm | G165: m | H165: 12.5 | J165: =ROUND(I165*H165,2) -> 0 | N165: znížená | P165: =O165*H165 -> 0 | Q165: 0 | R165: =Q165*H165 -> 0 | S165: 0 | T165: =S165*H165 -> 0 | AR165: 32 | AT165: M | AU165: 2 | AY165: ROZPOCET | BE165: =IF(N165="základná",J165,0) -> 0 | BF165: =IF(N165="znížená",J165,0) -> 0 | BG165: =IF(N165="zákl. prenesená",J165,0) -> 0 | BH165: =IF(N165="zníž. prenesená",J165,0) -> 0 | BI165: =IF(N165="nulová",J165,0) -> 0 | BJ165: 2 | BK165: =ROUND(I165*H165,2) -> 0 | BL165: 16 | BM165: 68
C166: 35 | D166: K | E166: 7690213119.S | F166: Montáž kolena 90° na plastové potrubie DN 80-150 | G166: ks | H166: 31 | J166: =ROUND(I166*H166,2) -> 0 | N166: znížená | P166: =O166*H166 -> 0 | Q166: 0 | R166: =Q166*H166 -> 0 | S166: 0 | T166: =S166*H166 -> 0 | AR166: 16 | AT166: K | AU166: 2 | AY166: ROZPOCET | BE166: =IF(N166="základná",J166,0) -> 0 | BF166: =IF(N166="znížená",J166,0) -> 0 | BG166: =IF(N166="zákl. prenesená",J166,0) -> 0 | BH166: =IF(N166="zníž. prenesená",J166,0) -> 0 | BI166: =IF(N166="nulová",J166,0) -> 0 | BJ166: 2 | BK166: =ROUND(I166*H166,2) -> 0 | BL166: 16 | BM166: 70
...

Sheet 2025-05 - SO-01 - zdravot...
AT2: {318527cb-474c-472b-b1de-e32ca30a2d3c}
AT3: 0
D4: KRYCÍ LIST ROZPOČTU | M4: v --- nižšie sa nachádzajú doplnkové a pomocné údaje k zostavám --- v | AT4: False
D6: Stavba:
E7: ='Rekapitulácia stavby'!K6 -> Obnova vybraných častí NKP Kaštieľ,Múzeum vo Svätom Antone
D8: Objekt:
E9: 2025/05 - SO-01 - zdravotechnika
D11: JKSO: | I11: ČS:
D12: Miesto: | I12: Dátum: | J12: ='Rekapitulácia stavby'!AN8 -> 24. 7. 2026
D14: Objednávateľ: | I14: IČO:
E15: Múzeum vo Sv.Antone, Svätý Anton č. 291, 969 72 | I15: IČ DPH:
D17: Zhotoviteľ: | I17: IČO: | J17: ='Rekapitulácia stavby'!AN13 -> Vyplň údaj
E18: ='Rekapitulácia stavby'!E14 -> Vyplň údaj | I18: IČ DPH: | J18: ='Rekapitulácia stavby'!AN14 -> Vyplň údaj
D20: Projektant: | I20: IČO:
E21: Ing.arch.Adriana Zorvanová | I21: IČ DPH:
D23: Spracovateľ: | I23: IČO: | J23: =IF('Rekapitulácia stavby'!AN19="","",'Rekapitulácia stavby'!AN19)
E24: =IF('Rekapitulácia stavby'!E20="","",'Rekapitulácia stavby'!E20) | I24: IČ DPH: | J24: =IF('Rekapitulácia stavby'!AN20="","",'Rekapitulácia stavby'!AN20)
D26: Poznámka:
D30: Cena bez DPH | J30: =ROUND(J129, 2) -> 0
F32: Základ dane | I32: Sadzba dane | J32: Výška dane
D33: DPH | E33: základná | F33: =ROUND((SUM(BE129:BE212)), 2) -> 0 | I33: 0.23 | J33: =ROUND(((SUM(BE129:BE212))*I33), 2) -> 0
E34: znížená | F34: =ROUND((SUM(BF129:BF212)), 2) -> 0 | I34: 0.23 | J34: =ROUND(((SUM(BF129:BF212))*I34), 2) -> 0
E35: zákl. prenesená | F35: =ROUND((SUM(BG129:BG212)), 2) -> 0 | I35: 0.23 | J35: =0 -> 0
E36: zníž. prenesená | F36: =ROUND((SUM(BH129:BH212)), 2) -> 0 | I36: 0.23 | J36: =0 -> 0
E37: nulová | F37: =ROUND((SUM(BI129:BI212)), 2) -> 0 | I37: 0 | J37: =0 -> 0
D39: Cena s DPH | G39: v | H39: EUR | J39: =SUM(J30:J37) -> 0
D50: Projektant | G50: Spracovateľ
D61: Dátum a podpis: | F61: Pečiatka | G61: Dátum a podpis: | J61: Pečiatka
D65: Objednávateľ | G65: Zhotoviteľ
D76: Dátum a podpis: | F76: Pečiatka | G76: Dátum a podpis: | J76: Pečiatka
C82: REKAPITULÁCIA ROZPOČTU
C84: Stavba:
E85: =E7 -> Obnova vybraných častí NKP Kaštieľ,Múzeum vo Svätom Antone
C86: Objekt:
E87: =E9 -> 2025/05 - SO-01 - zdravotechnika
C89: Miesto: | F89: =F12 | I89: Dátum: | J89: =IF(J12="","",J12) -> 24. 7. 2026
C91: Objednávateľ: | F91: =E15 -> Múzeum vo Sv.Antone, Svätý Anton č. 291, 969 72 | I91: Projektant: | J91: =E21 -> Ing.arch.Adriana Zorvanová
C92: Zhotoviteľ: | F92: =IF(E18="","",E18) -> Vyplň údaj | I92: Spracovateľ: | J92: =E24
C94: Kód dielu - Popis | J94: Cena celkom [EUR]
C96: Náklady z rozpočtu | J96: =J129 -> 0 | AU96: -1
D97: HSV - Práce a dodávky HSV | J97: =J130 -> 0
D98: 1 - Zemné práce | J98: =J131 -> 0
D99: 8 - Rúrové vedenie | J99: =J142 -> 0
D100: 9 - Ostatné konštrukcie a práce-búranie | J100: =J154 -> 0
D101: 99 - Presun hmôt HSV | J101: =J161 -> 0
D102: PSV - Práce a dodávky PSV | J102: =J163 -> 0
D103: 713 - Izolácie tepelné | J103: =J164 -> 0
D104: 721 - Zdravotechnika - vnútorná kanalizácia | J104: =J169 -> 0
D105: 722 - Zdravotechnika - vnútorný vodovod | J105: =J173 -> 0
D106: 725 - Zdravotechnika - zariaďovacie predmety | J106: =J179 -> 0
D107: 734 - Ústredné kúrenie - armatúry | J107: =J191 -> 0
D108: N00 - Nepomenované práce | J108: =J208 -> 0
D109: N01 - Nepomenovaný diel | J109: =J209 -> 0
C116: ROZPOČET
C118: Stavba:
E119: =E7 -> Obnova vybraných častí NKP Kaštieľ,Múzeum vo Svätom Antone
C120: Objekt:
E121: =E9 -> 2025/05 - SO-01 - zdravotechnika
C123: Miesto: | F123: =F12 | I123: Dátum: | J123: =IF(J12="","",J12) -> 24. 7. 2026
C125: Objednávateľ: | F125: =E15 -> Múzeum vo Sv.Antone, Svätý Anton č. 291, 969 72 | I125: Projektant: | J125: =E21 -> Ing.arch.Adriana Zorvanová
C126: Zhotoviteľ: | F126: =IF(E18="","",E18) -> Vyplň údaj | I126: Spracovateľ: | J126: =E24
C128: PČ | D128: Typ | E128: Kód | F128: Popis | G128: MJ | H128: Množstvo | I128: J.cena [EUR] | J128: Cena celkom [EUR] | K128: Cenová sústava | N128: DPH | O128: J. Nh [h] | P128: Nh celkom [h] | Q128: J. hmotnosť [t] | R128: Hmotnosť celkom [t] | S128: J. suť [t] | T128: Suť Celkom [t]
C129: Náklady z rozpočtu | J129: =BK129 -> 0 | P129: =P130+P163+P208 -> 0 | R129: =R130+R163+R208 -> 60.481701 | T129: =T130+T163+T208 -> 0.2106 | AT129: D | AU129: -1 | BK129: =BK130+BK163+BK208 -> 0
D130: D | E130: HSV | F130: Práce a dodávky HSV | J130: =BK130 -> 0 | P130: =P131+P142+P154+P161 -> 0 | R130: =R131+R142+R154+R161 -> 60.444379 | T130: =T131+T142+T154+T161 -> 0.2106 | AR130: 1 | AT130: D | AU130: 0 | AY130: ROZPOCET | BK130: =BK131+BK142+BK154+BK161 -> 0
D131: D | E131: 1 | F131: Zemné práce | J131: =BK131 -> 0 | P131: =SUM(P132:P141) -> 0 | R131: =SUM(R132:R141) -> 59.954778 | T131: =SUM(T132:T141) -> 0 | AR131: 1 | AT131: D | AU131: 1 | AY131: ROZPOCET | BK131: =SUM(BK132:BK141) -> 0
C132: 1 | D132: K | E132: 132201102.S | F132: Výkop ryhy do šírky 600 mm v horn.3 nad 100 m3 | G132: m3 | H132: 66.3 | J132: =ROUND(I132*H132,2) -> 0 | N132: znížená | P132: =O132*H132 -> 0 | Q132: 0 | R132: =Q132*H132 -> 0 | S132: 0 | T132: =S132*H132 -> 0 | AR132: 4 | AT132: K | AU132: 2 | AY132: ROZPOCET | BE132: =IF(N132="základná",J132,0) -> 0 | BF132: =IF(N132="znížená",J132,0) -> 0 | BG132: =IF(N132="zákl. prenesená",J132,0) -> 0 | BH132: =IF(N132="zníž. prenesená",J132,0) -> 0 | BI132: =IF(N132="nulová",J132,0) -> 0 | BJ132: 2 | BK132: =ROUND(I132*H132,2) -> 0 | BL132: 4 | BM132: 2
C133: 2 | D133: K | E133: 132201109.S | F133: Príplatok k cene za lepivosť pri hĺbení rýh šírky do 600 mm zapažených i nezapažených s urovnaním dna v hornine 3 | G133: m3 | H133: 66.3 | J133: =ROUND(I133*H133,2) -> 0 | N133: znížená | P133: =O133*H133 -> 0 | Q133: 0 | R133: =Q133*H133 -> 0 | S133: 0 | T133: =S133*H133 -> 0 | AR133: 4 | AT133: K | AU133: 2 | AY133: ROZPOCET | BE133: =IF(N133="základná",J133,0) -> 0 | BF133: =IF(N133="znížená",J133,0) -> 0 | BG133: =IF(N133="zákl. prenesená",J133,0) -> 0 | BH133: =IF(N133="zníž. prenesená",J133,0) -> 0 | BI133: =IF(N133="nulová",J133,0) -> 0 | BJ133: 2 | BK133: =ROUND(I133*H133,2) -> 0 | BL133: 4 | BM133: 4
C134: 3 | D134: K | E134: 139711101.S | F134: Výkop v uzavretých priestoroch s naložením výkopu na dopravný prostriedok v hornine 1 až 4 | G134: m3 | H134: 5.4 | J134: =ROUND(I134*H134,2) -> 0 | N134: znížená | P134: =O134*H134 -> 0 | Q134: 0 | R134: =Q134*H134 -> 0 | S134: 0 | T134: =S134*H134 -> 0 | AR134: 4 | AT134: K | AU134: 2 | AY134: ROZPOCET | BE134: =IF(N134="základná",J134,0) -> 0 | BF134: =IF(N134="znížená",J134,0) -> 0 | BG134: =IF(N134="zákl. prenesená",J134,0) -> 0 | BH134: =IF(N134="zníž. prenesená",J134,0) -> 0 | BI134: =IF(N134="nulová",J134,0) -> 0 | BJ134: 2 | BK134: =ROUND(I134*H134,2) -> 0 | BL134: 4 | BM134: 6
C135: 4 | D135: K | E135: 162501122.S | F135: Vodorovné premiestnenie výkopku po spevnenej ceste z horniny tr.1-4, nad 100 do 1000 m3 na vzdialenosť do 3000 m | G135: m3 | H135: 28.5 | J135: =ROUND(I135*H135,2) -> 0 | N135: znížená | P135: =O135*H135 -> 0 | Q135: 0 | R135: =Q135*H135 -> 0 | S135: 0 | T135: =S135*H135 -> 0 | AR135: 4 | AT135: K | AU135: 2 | AY135: ROZPOCET | BE135: =IF(N135="základná",J135,0) -> 0 | BF135: =IF(N135="znížená",J135,0) -> 0 | BG135: =IF(N135="zákl. prenesená",J135,0) -> 0 | BH135: =IF(N135="zníž. prenesená",J135,0) -> 0 | BI135: =IF(N135="nulová",J135,0) -> 0 | BJ135: 2 | BK135: =ROUND(I135*H135,2) -> 0 | BL135: 4 | BM135: 8
C136: 5 | D136: K | E136: 171201202.S | F136: Uloženie sypaniny na skládky nad 100 do 1000 m3 | G136: m3 | H136: 28.5 | J136: =ROUND(I136*H136,2) -> 0 | N136: znížená | P136: =O136*H136 -> 0 | Q136: 0 | R136: =Q136*H136 -> 0 | S136: 0 | T136: =S136*H136 -> 0 | AR136: 4 | AT136: K | AU136: 2 | AY136: ROZPOCET | BE136: =IF(N136="základná",J136,0) -> 0 | BF136: =IF(N136="znížená",J136,0) -> 0 | BG136: =IF(N136="zákl. prenesená",J136,0) -> 0 | BH136: =IF(N136="zníž. prenesená",J136,0) -> 0 | BI136: =IF(N136="nulová",J136,0) -> 0 | BJ136: 2 | BK136: =ROUND(I136*H136,2) -> 0 | BL136: 4 | BM136: 10
C137: 6 | D137: K | E137: 171209002.S | F137: Poplatok za skládku - zemina a kamenivo (17 05) ostatné | G137: t | H137: 42.75 | J137: =ROUND(I137*H137,2) -> 0 | N137: znížená | P137: =O137*H137 -> 0 | Q137: 0 | R137: =Q137*H137 -> 0 | S137: 0 | T137: =S137*H137 -> 0 | AR137: 4 | AT137: K | AU137: 2 | AY137: ROZPOCET | BE137: =IF(N137="základná",J137,0) -> 0 | BF137: =IF(N137="znížená",J137,0) -> 0 | BG137: =IF(N137="zákl. prenesená",J137,0) -> 0 | BH137: =IF(N137="zníž. prenesená",J137,0) -> 0 | BI137: =IF(N137="nulová",J137,0) -> 0 | BJ137: 2 | BK137: =ROUND(I137*H137,2) -> 0 | BL137: 4 | BM137: 12
C138: 7 | D138: K | E138: 174101002.S | F138: Zásyp sypaninou so zhutnením jám, šachiet, rýh, zárezov alebo okolo objektov nad 100 do 1000 m3 | G138: m3 | H138: 37.8 | J138: =ROUND(I138*H138,2) -> 0 | N138: znížená | P138: =O138*H138 -> 0 | Q138: 0 | R138: =Q138*H138 -> 0 | S138: 0 | T138: =S138*H138 -> 0 | AR138: 4 | AT138: K | AU138: 2 | AY138: ROZPOCET | BE138: =IF(N138="základná",J138,0) -> 0 | BF138: =IF(N138="znížená",J138,0) -> 0 | BG138: =IF(N138="zákl. prenesená",J138,0) -> 0 | BH138: =IF(N138="zníž. prenesená",J138,0) -> 0 | BI138: =IF(N138="nulová",J138,0) -> 0 | BJ138: 2 | BK138: =ROUND(I138*H138,2) -> 0 | BL138: 4 | BM138: 14
